{"text_format":"3","workbook":"xlsx","n_sheets":19,"sheets":["Cover","Page 1","Page 2","Page 3","Page 4","Page 5","Page 6","Page 7","Page 8","Page 9","Page 10","Summary","Supplement","Fund Balance Reserve","Coding Errors","School listing","COA","Accounting Data","Instructions"],"not_rendered":{"images":2,"macros":1,"external_links":4,"defined_names":565},"read":"whole","date_system":"1900"}

{"sheet":"Cover","index":0,"n_rows":46,"n_cols":28,"rows_kept":46,"merged":[[0,0,0,2],[0,3,0,6],[0,9,0,13],[0,14,0,15],[0,16,0,17],[9,0,9,13],[9,14,9,23],[10,11,10,13],[10,15,11,22],[12,15,13,22],[13,0,13,13],[14,0,14,13],[14,15,15,22],[15,0,15,13],[16,0,16,13],[16,15,17,22],[18,15,18,22],[19,2,19,5],[19,8,19,11],[19,15,21,22],[22,15,22,22],[23,15,24,22],[25,15,25,22],[26,15,26,22],[27,15,27,22],[28,15,30,22],[31,2,31,4],[31,15,32,22],[32,2,32,4],[33,15,34,22],[33,23,34,23],[36,2,36,5],[36,8,36,11],[38,2,38,5],[38,8,38,11],[39,2,39,5],[39,8,39,11],[40,22,40,23],[41,2,41,5],[41,8,41,11],[41,22,41,23],[42,2,42,5],[42,8,42,11],[42,22,42,23],[44,8,44,11],[45,8,45,11],[48,2,48,6],[49,2,49,3],[49,4,49,6]]}
["DISTRICT NAME",null,null,"Double Adobe Elementary School ",{"$nulls":4},"COUNTY","Cochise",{"$nulls":4},"CTDS NUMBER",null,"020345000",{"$nulls":8},"030305000","File origination date:","2023-09-18"]
[{"$nulls":25},"100337000"]
[{"$nulls":25},"100344000"]
[{"$nulls":25},"130302000"]
[{"$nulls":25},"130307000"]
[{"$nulls":25},"060345000"]
[{"$nulls":25},"050309000"]
[{"$nulls":25},"020801000"]
[{"$nulls":25},"030801000"]
["ANNUAL FINANCIAL REPORT",{"$nulls":24},"050802000"]
[{"$nulls":15},{"$f":"IF('Page 2'!J46=0,\"\",IF(OR('Coding Errors'!G17<>\"\",'Coding Errors'!G29<>\"\",'Coding Errors'!G42<>\"\",'Coding Errors'!G56<>\"\",'Coding Errors'!G64<>\"\"),\"Corrections needed in accounting records - See highlighted cells on the Coding Errors tab.\",\"\"))","v":""},{"$nulls":9},"070801000"]
[{"$nulls":25},"070802000"]
[{"$nulls":15},{"$f":"IF('Accounting Data'!AA1>0,\"The Rollup Fund column on the Accounting Data tab is not complete. Enter an appropriate fund code from the USFR Chart of Accounts in the Rollup Fund column for any Final Fund cell that is highlighted red.\",\" \")","v":" "},{"$nulls":9},"080850000"]
["We, the Governing Board of the District, hereby certify the",{"$nulls":24},"090835000"]
["Annual Financial Report and School Level Reporting Form per A.R.S. §15-904 ",{"$nulls":14},{"$f":"IF(OR(CoverCTDS=Z1,CoverCTDS=Z2,CoverCTDS=Z3,CoverCTDS=Z4,CoverCTDS=Z5,CoverCTDS=Z6,CoverCTDS=Z7,CoverCTDS=Z21),\" \",IF(AND(F001TOTALEXP>0,'Page 6'!N13<=0,'Page 6'!Y43=FALSE),\"Page 6, Other Funds Section: Instructional Improvement Fund 020 side table is not complete.\",\" \"))","v":" "},{"$nulls":9},"090836000"]
["for the Fiscal Year",{"$nulls":24},"100811000"]
["2023",{"$nulls":14},{"$f":"IF(F665Transf=0,\" \",IF(SUM('[1]Page 7'!J49+'[1]Page 7'!J50)=0,\"Page 6, Other Funds Section: Energy and Water Savings Fund transfers not budgeted for correctly on the expenditure budget.\",\" \"))","v":" "},{"$nulls":9},"110801000"]
[{"$nulls":25},"110802000"]
[{"$nulls":15},{"$f":"IF(OR(CoverCTDS=Z1,CoverCTDS=Z2,CoverCTDS=Z3,CoverCTDS=Z4,CoverCTDS=Z5,CoverCTDS=Z6,CoverCTDS=Z7,CoverCTDS=Z8,CoverCTDS=Z9,CoverCTDS=Z10,CoverCTDS=Z11,CoverCTDS=Z12,CoverCTDS=Z13,CoverCTDS=Z14,CoverCTDS=Z15,CoverCTDS=Z16,CoverCTDS=Z17,CoverCTDS=Z18,CoverCTDS=Z19,CoverCTDS=Z20,CoverCTDS=Z21),\" \",IF(F001TOTALEXP>0,IF(AND(TotCurrExpFed<=0,'Page 7'!F36<=0),\"Page 7, Section D:Current Expenditures Table is not complete.\",\" \"),\" \"))","v":" "},{"$nulls":9},"130801000"]
[null,null,"SIGNATURE/DATE",{"$nulls":5},"SIGNATURE/DATE",{"$nulls":6},{"$f":"IF(AND(F001P200TotActExp>0,TotMOSpEdExp<>ROUND(F001P200TotActExp,0)),\"Page 8, Section B: Amount in this table should agree to M&O page 2, line 24. Please ensure all M&O Fund, Program 200 and 300 SPED expenditures are included.\",\" \")","v":" "},{"$nulls":9},"130802000"]
[{"$nulls":25},"060203000"]
[{"$nulls":25},140801000]
[{"$nulls":15},{"$f":"IF(AND(F001TOTALEXP>0,CurrentYearSalary=0,PriorYearSalary=0,'Page 7'!T33=FALSE),\"Page 7, Section I is not complete.\",\" \")","v":" "}]
[{"$nulls":15},{"$f":"IF(SUM('Page 9'!D43:D44)=0,\" \",IF(AND(((SUM('Page 9'!D35:D39,'Page 9'!F35:F39)/SUM('Page 9'!D43:D44))>10000),(SUM('Page 9'!D35:D39,'Page 9'!F35:F39)/SUM('Page 9'!D43:D44))<80000),\" \",\"Page 9: Teacher salary information and FTE does not appear to be appropriate.\"))","v":" "}]
[]
[{"$nulls":15},{"$f":"IF(OR(CoverCTDS=Z1,CoverCTDS=Z2,CoverCTDS=Z3,CoverCTDS=Z4,CoverCTDS=Z5,CoverCTDS=Z6,CoverCTDS=Z7,CoverCTDS=Z8,CoverCTDS=Z9,CoverCTDS=Z13,CoverCTDS=Z14,CoverCTDS=Z18,CoverCTDS=Z21,CoverCTDS=Z22),\" \",IF(TotExpNPEFS>0,IF(SUM('Page 9'!D35:F39)<=0,\"Page 9: Teacher Salaries Table is not complete.\",\" \"),\" \"))","v":" "}]
[{"$nulls":15},{"$f":"IF(OR(CoverCTDS=Z1,CoverCTDS=Z2,CoverCTDS=Z3,CoverCTDS=Z4,CoverCTDS=Z5,CoverCTDS=Z6,CoverCTDS=Z7,CoverCTDS=Z8,CoverCTDS=Z9,CoverCTDS=Z13,CoverCTDS=Z14,CoverCTDS=Z18,CoverCTDS=Z21),\" \",IF(TotExpNPEFS>0,IF(SUM('Page 9'!D42:D44)<=0,\"Page 9: Other Items Table is not complete.\",\" \"),\" \"))","v":" "}]
[{"$nulls":15},{"$f":"IF(OR(CoverCTDS=Z1,CoverCTDS=Z2,CoverCTDS=Z3,CoverCTDS=Z6,CoverCTDS=Z7,CoverCTDS=Z8,CoverCTDS=Z13),\" \",IF(F001TOTALEXP=0,\" \",IF(SUM('Page 4'!H50:H54)>0,\" \",\"Page 4: Capital Assets Table is not complete.\")))","v":" "}]
[]
[]
[null,null,"The Annual Financial Report file(s) for FY 2023 uploaded to the Arizona Department of Education's website on"]
[null,null,"2023-11-08",null,null,"contain(s) the data for the AFR described above.",{"$nulls":9},{"$f":"IF('Accounting Data'!C45001=\"\",\" \",\"Accounting data entered has too many rows for this file please contact the \nAccountability Services Division of the Auditor General's Office for a larger file.\")","v":" "}]
[null,null,"Date"]
[]
[]
[]
[null,null,"Superintendent Signature",{"$nulls":5},"Business Manager Signature"]
[]
[null,null,"Hannah Hurtado",{"$nulls":5},"Ruth Hoffman"]
[null,null,"Superintendent (Typed Name)",{"$nulls":5},"Business Manager (Typed Name)",{"$nulls":6},"TOTAL EXPENDITURES BY FUND"]
[{"$nulls":14},"1.","Maintenance & Operation (from page 2, line 32)",{"$nulls":5},"$",{"$f":"F001TOTALEXP","v":{"v":451829,"d":"451,829 "}}]
[null,null,"Ruth Hoffman",{"$nulls":5},"520-364-3041",{"$nulls":5},"2.","Classroom Site Funds (from page 3, line 13)",{"$nulls":5},"$",{"$f":"'Page 3'!M21","v":{"v":35855,"d":"35,855 "}}]
[null,null,"District Contact Employee",{"$nulls":5},"Telephone Number",{"$nulls":5},"3.","Unrestricted Capital Outlay (from page 4, UCO Fund line 10)",{"$nulls":5},"$",{"$f":"F610TotActExp","v":{"v":19178,"d":"19,178 "}}]
[]
[{"$nulls":8},"rhoffman@doubleadobeschool.org"]
[{"$nulls":8},"Email"]

{"sheet":"Page 1","index":1,"n_rows":67,"n_cols":27,"rows_kept":67,"merged":[[0,1,0,2],[0,6,0,8],[2,4,3,4],[2,5,3,5],[12,11,12,12],[25,1,25,2],[31,1,31,2],[37,1,37,2],[46,1,46,2],[52,1,52,2]]}
["DISTRICT NAME",{"$f":"CoverDistrictName","v":"Double Adobe Elementary School "},{"$nulls":3},"COUNTY",{"$f":"County","v":"Cochise"},{"$nulls":3},"CTDS NUMBER",{"$f":"Cover!Q1","v":"020345000"}]
[]
[{"$nulls":4},"MAINTENANCE AND OPERATION FUND 001","UNRESTRICTED CAPITAL OUTLAY FUND 610","ADJACENT WAYS","BOND BUILDING","DEBT SERVICE"]
["FUNDS AVAILABLE",{"$nulls":5},"FUND 620","FUND 630","FUND 700 (4)"]
[" ",{"$nulls":3},"ACTUAL","ACTUAL","ACTUAL","ACTUAL","ACTUAL"]
["Beginning Fund Balance (1)",null,null,"1.",{"$f":"'Accounting Data'!R2","v":{"v":212377,"d":"212,377 "}},{"$f":"'Accounting Data'!R374","v":{"v":28650,"d":"28,650 "}},{"$f":"'Accounting Data'!R375","v":{"v":0,"d":"0 "}},{"$f":"'Accounting Data'!R376","v":{"v":0,"d":"0 "}},{"$f":"'Accounting Data'!R385","v":{"v":0,"d":"0 "}},"1."]
["REVENUES"]
["1000 Local"]
["1110  Property Taxes",null,null,"2.",{"$f":"-(SUMIFS('Accounting Data'!C2:C100000,'Accounting Data'!E2:E100000,\"001\",'Accounting Data'!J2:J100000,\"111?\"))","v":{"v":231158,"d":"231,158 "}},{"$f":"-(SUMIFS('Accounting Data'!C2:C100000,'Accounting Data'!E2:E100000,\"610\",'Accounting Data'!J2:J100000,\"111?\"))","v":{"v":0,"d":"0 "}},{"$f":"-(SUMIFS('Accounting Data'!C2:C100000,'Accounting Data'!E2:E100000,\"620\",'Accounting Data'!J2:J100000,\"111?\"))","v":{"v":0,"d":"0 "}},null,{"$f":"-(SUMIFS('Accounting Data'!C2:C100000,'Accounting Data'!E2:E100000,\"700\",'Accounting Data'!J2:J100000,\"111?\"))","v":{"v":0,"d":"0 "}},"2.",{"v":-1,"d":"(1)"},"The Maintenance and Operation Fund beginning fund balance includes the revolving "]
["1140  Penalties and Interest on Taxes",null,null,"3.",{"$f":"-(SUMIFS('Accounting Data'!C2:C100000,'Accounting Data'!E2:E100000,\"001\",'Accounting Data'!J2:J100000,\"114?\"))","v":{"v":0,"d":"0 "}},{"$nulls":4},"3.",null,"account cash balance of",null,{"v":319,"d":"319 "},"at 7/1/22."]
["1280  Revenue in Lieu of Taxes",null,null,"4.",{"$f":"-(SUMIFS('Accounting Data'!C2:C100000,'Accounting Data'!E2:E100000,\"001\",'Accounting Data'!J2:J100000,\"128?\"))","v":{"v":2778,"d":"2,778 "}},{"$f":"-(SUMIFS('Accounting Data'!C2:C100000,'Accounting Data'!E2:E100000,\"610\",'Accounting Data'!J2:J100000,\"128?\"))","v":{"v":0,"d":"0 "}},{"$f":"-(SUMIFS('Accounting Data'!C2:C100000,'Accounting Data'!E2:E100000,\"620\",'Accounting Data'!J2:J100000,\"128?\"))","v":{"v":0,"d":"0 "}},null,{"$f":"-(SUMIFS('Accounting Data'!C2:C100000,'Accounting Data'!E2:E100000,\"700\",'Accounting Data'!J2:J100000,\"128?\"))","v":{"v":0,"d":"0 "}},"4.",{"$nulls":16},{"$f":"IF(OR($N$10=\"\",$N$10=\"$\",$L$13=\"\",$L$13=\"$\",$N$16=\"\",$N$16=\"$\",$P$18=\"\",$P$18=\"$\"),\"yes\",\"\")","v":""}]
["1311  Tuition from Individuals Excluding Summer School",null,null,"5.",{"$f":"-(SUMIFS('Accounting Data'!C2:C100000,'Accounting Data'!E2:E100000,\"001\",'Accounting Data'!J2:J100000,\"1311\"))","v":{"v":0,"d":"0 "}},{"$f":"-(SUMIFS('Accounting Data'!C2:C100000,'Accounting Data'!E2:E100000,\"610\",'Accounting Data'!J2:J100000,\"1311\"))","v":{"v":0,"d":"0 "}},null,null,{"$f":"-(SUMIFS('Accounting Data'!C2:C100000,'Accounting Data'!E2:E100000,\"700\",'Accounting Data'!J2:J100000,\"1311\"))","v":{"v":0,"d":"0 "}},"5.",{"v":-2,"d":"(2)"},"The Government Property Lease Excise Tax revenue included on line 19 is"]
["1312  Tuition from Individuals for Summer School",null,null,"6.",{"$f":"-(SUMIFS('Accounting Data'!C2:C100000,'Accounting Data'!E2:E100000,\"001\",'Accounting Data'!J2:J100000,\"1312\"))","v":{"v":0,"d":"0 "}},{"$f":"-(SUMIFS('Accounting Data'!C2:C100000,'Accounting Data'!E2:E100000,\"610\",'Accounting Data'!J2:J100000,\"1312\"))","v":{"v":0,"d":"0 "}},null,null,{"$f":"-(SUMIFS('Accounting Data'!C2:C100000,'Accounting Data'!E2:E100000,\"700\",'Accounting Data'!J2:J100000,\"1312\"))","v":{"v":0,"d":"0 "}},"6.",null,{"v":0,"d":"0 "}]
["1320  Tuition from Other Arizona Districts",null,null,"7.",{"$f":"-(SUMIFS('Accounting Data'!C2:C100000,'Accounting Data'!E2:E100000,\"001\",'Accounting Data'!J2:J100000,\"132?\"))","v":{"v":0,"d":"0 "}},{"$f":"-(SUMIFS('Accounting Data'!C2:C100000,'Accounting Data'!E2:E100000,\"610\",'Accounting Data'!J2:J100000,\"132?\"))","v":{"v":0,"d":"0 "}},null,null,{"$f":"-(SUMIFS('Accounting Data'!C2:C100000,'Accounting Data'!E2:E100000,\"700\",'Accounting Data'!J2:J100000,\"132?\"))","v":{"v":0,"d":"0 "}},"7."]
["1330  Tuition from Out-of-State Districts ",null,null,"8.",{"$f":"-(SUMIFS('Accounting Data'!C2:C100000,'Accounting Data'!E2:E100000,\"001\",'Accounting Data'!J2:J100000,\"133?\"))","v":{"v":0,"d":"0 "}},{"$f":"-(SUMIFS('Accounting Data'!C2:C100000,'Accounting Data'!E2:E100000,\"610\",'Accounting Data'!J2:J100000,\"133?\"))","v":{"v":0,"d":"0 "}},null,null,{"$f":"-(SUMIFS('Accounting Data'!C2:C100000,'Accounting Data'!E2:E100000,\"700\",'Accounting Data'!J2:J100000,\"133?\"))","v":{"v":0,"d":"0 "}},"8.",{"v":-3,"d":"(3)"},"The Maintenance and Operation Fund ending fund balance includes the revolving  "]
["1340  Tuition from Other Private Sources (Other than Individuals)",null,null,"9.",{"$f":"-(SUMIFS('Accounting Data'!C2:C100000,'Accounting Data'!E2:E100000,\"001\",'Accounting Data'!J2:J100000,\"134?\"))","v":{"v":0,"d":"0 "}},{"$f":"-(SUMIFS('Accounting Data'!C2:C100000,'Accounting Data'!E2:E100000,\"610\",'Accounting Data'!J2:J100000,\"134?\"))","v":{"v":0,"d":"0 "}},null,null,{"$f":"-(SUMIFS('Accounting Data'!C2:C100000,'Accounting Data'!E2:E100000,\"700\",'Accounting Data'!J2:J100000,\"134?\"))","v":{"v":0,"d":"0 "}},"9.",null,"account cash balance of",null,{"v":488,"d":"488 "},"at 6/30/23."]
["1350  Tuition from Other Government Sources Within Arizona",null,null,"10.",{"$f":"-(SUMIFS('Accounting Data'!C2:C100000,'Accounting Data'!E2:E100000,\"001\",'Accounting Data'!J2:J100000,\"135?\"))","v":{"v":0,"d":"0 "}},{"$f":"-(SUMIFS('Accounting Data'!C2:C100000,'Accounting Data'!E2:E100000,\"610\",'Accounting Data'!J2:J100000,\"135?\"))","v":{"v":0,"d":"0 "}},null,null,{"$f":"-(SUMIFS('Accounting Data'!C2:C100000,'Accounting Data'!E2:E100000,\"700\",'Accounting Data'!J2:J100000,\"135?\"))","v":{"v":0,"d":"0 "}},"10."]
["1360  Tuition from Other Government Sources Outside Arizona",null,null,"11.",{"$f":"-(SUMIFS('Accounting Data'!C2:C100000,'Accounting Data'!E2:E100000,\"001\",'Accounting Data'!J2:J100000,\"136?\"))","v":{"v":0,"d":"0 "}},{"$f":"-(SUMIFS('Accounting Data'!C2:C100000,'Accounting Data'!E2:E100000,\"610\",'Accounting Data'!J2:J100000,\"136?\"))","v":{"v":0,"d":"0 "}},null,null,{"$f":"-(SUMIFS('Accounting Data'!C2:C100000,'Accounting Data'!E2:E100000,\"700\",'Accounting Data'!J2:J100000,\"136?\"))","v":{"v":0,"d":"0 "}},"11.",{"v":-4,"d":"(4)"},"Debt Service Fund, interest expenditures amount:",{"$nulls":3},{"v":0,"d":"0 "}]
["1410  Transportation Fees from Individuals",null,null,"12.",{"$f":"-(SUMIFS('Accounting Data'!C2:C100000,'Accounting Data'!E2:E100000,\"001\",'Accounting Data'!J2:J100000,\"141?\"))","v":{"v":0,"d":"0 "}},{"$f":"-(SUMIFS('Accounting Data'!C2:C100000,'Accounting Data'!E2:E100000,\"610\",'Accounting Data'!J2:J100000,\"141?\"))","v":{"v":0,"d":"0 "}},null,null,{"$f":"-(SUMIFS('Accounting Data'!C2:C100000,'Accounting Data'!E2:E100000,\"700\",'Accounting Data'!J2:J100000,\"141?\"))","v":{"v":0,"d":"0 "}},"12."]
["1420  Transportation Fees from Other Arizona Districts",null,null,"13.",{"$f":"-(SUMIFS('Accounting Data'!C2:C100000,'Accounting Data'!E2:E100000,\"001\",'Accounting Data'!J2:J100000,\"142?\"))","v":{"v":0,"d":"0 "}},{"$f":"-(SUMIFS('Accounting Data'!C2:C100000,'Accounting Data'!E2:E100000,\"610\",'Accounting Data'!J2:J100000,\"142?\"))","v":{"v":0,"d":"0 "}},null,null,{"$f":"-(SUMIFS('Accounting Data'!C2:C100000,'Accounting Data'!E2:E100000,\"700\",'Accounting Data'!J2:J100000,\"142?\"))","v":{"v":0,"d":"0 "}},"13."]
["1430  Transportation Fees from Out-of-State Districts",null,null,"14.",{"$f":"-(SUMIFS('Accounting Data'!C2:C100000,'Accounting Data'!E2:E100000,\"001\",'Accounting Data'!J2:J100000,\"143?\"))","v":{"v":0,"d":"0 "}},{"$f":"-(SUMIFS('Accounting Data'!C2:C100000,'Accounting Data'!E2:E100000,\"610\",'Accounting Data'!J2:J100000,\"143?\"))","v":{"v":0,"d":"0 "}},null,null,{"$f":"-(SUMIFS('Accounting Data'!C2:C100000,'Accounting Data'!E2:E100000,\"700\",'Accounting Data'!J2:J100000,\"143?\"))","v":{"v":0,"d":"0 "}},"14."]
["1440  Transportation Fees from Other Private Sources (Other than Individuals)",null,null,"15.",{"$f":"-(SUMIFS('Accounting Data'!C2:C100000,'Accounting Data'!E2:E100000,\"001\",'Accounting Data'!J2:J100000,\"144?\"))","v":{"v":0,"d":"0 "}},{"$f":"-(SUMIFS('Accounting Data'!C2:C100000,'Accounting Data'!E2:E100000,\"610\",'Accounting Data'!J2:J100000,\"144?\"))","v":{"v":0,"d":"0 "}},null,null,{"$f":"-(SUMIFS('Accounting Data'!C2:C100000,'Accounting Data'!E2:E100000,\"700\",'Accounting Data'!J2:J100000,\"144?\"))","v":{"v":0,"d":"0 "}},"15."]
["1450  Transportation Fees from Other Government Sources Within Arizona",null,null,"16.",{"$f":"-(SUMIFS('Accounting Data'!C2:C100000,'Accounting Data'!E2:E100000,\"001\",'Accounting Data'!J2:J100000,\"145?\"))","v":{"v":0,"d":"0 "}},{"$f":"-(SUMIFS('Accounting Data'!C2:C100000,'Accounting Data'!E2:E100000,\"610\",'Accounting Data'!J2:J100000,\"145?\"))","v":{"v":0,"d":"0 "}},null,null,{"$f":"-(SUMIFS('Accounting Data'!C2:C100000,'Accounting Data'!E2:E100000,\"700\",'Accounting Data'!J2:J100000,\"145?\"))","v":{"v":0,"d":"0 "}},"16."]
["1460  Transportation Fees from Other Government Sources Outside Arizona",null,null,"17.",{"$f":"-(SUMIFS('Accounting Data'!C2:C100000,'Accounting Data'!E2:E100000,\"001\",'Accounting Data'!J2:J100000,\"146?\"))","v":{"v":0,"d":"0 "}},{"$f":"-(SUMIFS('Accounting Data'!C2:C100000,'Accounting Data'!E2:E100000,\"610\",'Accounting Data'!J2:J100000,\"146?\"))","v":{"v":0,"d":"0 "}},null,null,{"$f":"-(SUMIFS('Accounting Data'!C2:C100000,'Accounting Data'!E2:E100000,\"700\",'Accounting Data'!J2:J100000,\"146?\"))","v":{"v":0,"d":"0 "}},"17."]
["1500  Investment Income",null,null,"18.",{"$f":"-(SUMIFS('Accounting Data'!C2:C100000,'Accounting Data'!E2:E100000,\"001\",'Accounting Data'!J2:J100000,\"15??\"))","v":{"v":2394,"d":"2,394 "}},{"$f":"-(SUMIFS('Accounting Data'!C2:C100000,'Accounting Data'!E2:E100000,\"610\",'Accounting Data'!J2:J100000,\"15??\"))","v":{"v":0,"d":"0 "}},{"$f":"-(SUMIFS('Accounting Data'!C2:C100000,'Accounting Data'!E2:E100000,\"620\",'Accounting Data'!J2:J100000,\"15??\"))","v":{"v":0,"d":"0 "}},{"$f":"-(SUMIFS('Accounting Data'!C2:C100000,'Accounting Data'!E2:E100000,\"630\",'Accounting Data'!J2:J100000,\"15??\"))","v":{"v":0,"d":"0 "}},{"$f":"-(SUMIFS('Accounting Data'!C2:C100000,'Accounting Data'!E2:E100000,\"700\",'Accounting Data'!J2:J100000,\"15??\"))","v":{"v":0,"d":"0 "}},"18."]
["Other (Specify) (2)","Interest",null,"19.",{"$f":"-(SUMIFS('Accounting Data'!C2:C100000,'Accounting Data'!E2:E100000,\"001\",'Accounting Data'!J2:J100000,\"1???\"))-SUM(E9:E25)","v":{"v":340,"d":"340 "}},{"$f":"-(SUMIFS('Accounting Data'!C2:C100000,'Accounting Data'!E2:E100000,\"610\",'Accounting Data'!J2:J100000,\"1???\"))-SUM(F9:F25)","v":{"v":0,"d":"0 "}},{"$f":"-(SUMIFS('Accounting Data'!C2:C100000,'Accounting Data'!E2:E100000,\"620\",'Accounting Data'!J2:J100000,\"1???\"))-(G9+G11+G25)","v":{"v":0,"d":"0 "}},{"$f":"-(SUMIFS('Accounting Data'!C2:C100000,'Accounting Data'!E2:E100000,\"630\",'Accounting Data'!J2:J100000,\"1???\"))-H25","v":{"v":0,"d":"0 "}},{"$f":"-(SUMIFS('Accounting Data'!C2:C100000,'Accounting Data'!E2:E100000,\"700\",'Accounting Data'!J2:J100000,\"1???\"))-SUM(I9:I25)","v":{"v":0,"d":"0 "}},"19.",{"$nulls":16},{"$f":"IF(OR(AND(E26<>0,B26=\"\"),AND(F26<>0,B26=\"\"),AND(G26<>0,B26=\"\"),AND(H26<>0,B26=\"\"),AND(I26<>0,B26=\"\")),\"Yes\",\"\")","v":""}]
["                        Subtotal (lines 2-19)",null,null,"20.",{"$f":"SUM(E9:E26)","v":{"v":236670,"d":"236,670 "}},{"$f":"F9+SUM(F11:F26)","v":{"v":0,"d":"0 "}},{"$f":"G9+G11+SUM(G25:G26)","v":{"v":0,"d":"0 "}},{"$f":"SUM(H25:H26)","v":{"v":0,"d":"0 "}},{"$f":"I9+SUM(I11:I26)","v":{"v":0,"d":"0 "}},"20."]
["2000 County"]
["2110  County School Fund",null,null,"21.",{"$f":"-(SUMIFS('Accounting Data'!C2:C100000,'Accounting Data'!E2:E100000,\"001\",'Accounting Data'!J2:J100000,\"211?\"))","v":{"v":0,"d":"0 "}},{"$f":"-(SUMIFS('Accounting Data'!C2:C100000,'Accounting Data'!E2:E100000,\"610\",'Accounting Data'!J2:J100000,\"211?\"))","v":{"v":0,"d":"0 "}},{"$nulls":3},"21."]
["2120  County Equalization Assistance",null,null,"22.",{"$f":"-(SUMIFS('Accounting Data'!C2:C100000,'Accounting Data'!E2:E100000,\"001\",'Accounting Data'!J2:J100000,\"212?\"))","v":{"v":530,"d":"530 "}},{"$f":"-(SUMIFS('Accounting Data'!C2:C100000,'Accounting Data'!E2:E100000,\"610\",'Accounting Data'!J2:J100000,\"212?\"))","v":{"v":11,"d":"11 "}},{"$nulls":3},"22."]
["2210  Special County School Reserve Fund",null,null,"23.",{"$f":"-(SUMIFS('Accounting Data'!C2:C100000,'Accounting Data'!E2:E100000,\"001\",'Accounting Data'!J2:J100000,\"221?\"))","v":{"v":0,"d":"0 "}},{"$f":"-(SUMIFS('Accounting Data'!C2:C100000,'Accounting Data'!E2:E100000,\"610\",'Accounting Data'!J2:J100000,\"221?\"))","v":{"v":0,"d":"0 "}},{"$nulls":3},"23."]
["Other (Specify)",null,null,"24.",{"$f":"-(SUMIFS('Accounting Data'!C2:C100000,'Accounting Data'!E2:E100000,\"001\",'Accounting Data'!J2:J100000,\"2???\"))-SUM(E29:E31)","v":{"v":0,"d":"0 "}},{"$f":"-(SUMIFS('Accounting Data'!C2:C100000,'Accounting Data'!E2:E100000,\"610\",'Accounting Data'!J2:J100000,\"2???\"))-SUM(F29:F31)","v":{"v":0,"d":"0 "}},{"$nulls":3},"24.",{"$nulls":16},{"$f":"IF(OR(AND(E32<>0,B32=\"\"),AND(F32<>0,B32=\"\"),AND(G32<>0,B32=\"\"),AND(H32<>0,B32=\"\"),AND(I32<>0,B32=\"\")),\"Yes\",\"\")","v":""}]
["                        Subtotal (lines 21-24)",null,null,"25.",{"$f":"SUM(E29:E32)","v":{"v":530,"d":"530 "}},{"$f":"SUM(F29:F32)","v":{"v":11,"d":"11 "}},{"$nulls":3},"25."]
["3000 State"]
["3100  Unrestricted",null,null,"26.",{"$f":"-(SUMIFS('Accounting Data'!C2:C100000,'Accounting Data'!E2:E100000,\"001\",'Accounting Data'!J2:J100000,\"310?\"))","v":{"v":0,"d":"0 "}},{"$f":"-(SUMIFS('Accounting Data'!C2:C100000,'Accounting Data'!E2:E100000,\"610\",'Accounting Data'!J2:J100000,\"310?\"))","v":{"v":0,"d":"0 "}},{"$nulls":3},"26."]
["3110  State Equalization Assistance",null,null,"27.",{"$f":"-(SUMIFS('Accounting Data'!C2:C100000,'Accounting Data'!E2:E100000,\"001\",'Accounting Data'!J2:J100000,\"311?\"))","v":{"v":328994,"d":"328,994 "}},{"$f":"-(SUMIFS('Accounting Data'!C2:C100000,'Accounting Data'!E2:E100000,\"610\",'Accounting Data'!J2:J100000,\"311?\"))","v":{"v":6714,"d":"6,714 "}},{"$nulls":3},"27."]
["3120  Additional State Aid",null,null,"28.",{"$f":"-(SUMIFS('Accounting Data'!C2:C100000,'Accounting Data'!E2:E100000,\"001\",'Accounting Data'!J2:J100000,\"312?\"))","v":{"v":36991,"d":"36,991 "}},{"$f":"-(SUMIFS('Accounting Data'!C2:C100000,'Accounting Data'!E2:E100000,\"610\",'Accounting Data'!J2:J100000,\"312?\"))","v":{"v":755,"d":"755 "}},{"$nulls":3},"28."]
["Other (Specify)",null,null,"29.",{"$f":"-(SUMIFS('Accounting Data'!C2:C100000,'Accounting Data'!E2:E100000,\"001\",'Accounting Data'!J2:J100000,\"3???\"))-SUM(E35:E37)","v":{"v":0,"d":"0 "}},{"$f":"-(SUMIFS('Accounting Data'!C2:C100000,'Accounting Data'!E2:E100000,\"610\",'Accounting Data'!J2:J100000,\"3???\"))-SUM(F35:F37)","v":{"v":0,"d":"0 "}},null,null,{"$f":"-(SUMIFS('Accounting Data'!C2:C100000,'Accounting Data'!E2:E100000,\"700\",'Accounting Data'!J2:J100000,\"3???\"))","v":{"v":0,"d":"0 "}},"29.",{"$nulls":16},{"$f":"IF(OR(AND(E38<>0,B38=\"\"),AND(F38<>0,B38=\"\"),AND(G38<>0,B38=\"\"),AND(H38<>0,B38=\"\"),AND(I38<>0,B38=\"\")),\"Yes\",\"\")","v":""}]
["                        Subtotal (lines 26-29)",null,null,"30.",{"$f":"SUM(E35:E38)","v":{"v":365985,"d":"365,985 "}},{"$f":"SUM(F35:F38)","v":{"v":7469,"d":"7,469 "}},null,null,{"$f":"I38","v":{"v":0,"d":"0 "}},"30."]
["4000 Federal"]
["4100  Unrestricted Revenue Received Directly from the Federal Government",null,null,"31.",{"$f":"-(SUMIFS('Accounting Data'!C2:C100000,'Accounting Data'!E2:E100000,\"001\",'Accounting Data'!J2:J100000,\"41??\"))","v":{"v":0,"d":"0 "}},{"$nulls":4},"31."]
["4200  Unrestricted Revenue Received from the Federal Government through the State",null,null,"32.",{"$f":"-(SUMIFS('Accounting Data'!C2:C100000,'Accounting Data'!E2:E100000,\"001\",'Accounting Data'!J2:J100000,\"42??\"))","v":{"v":0,"d":"0 "}},{"$nulls":4},"32."]
[{"$nulls":9},"33."]
["4700  Revenue Received from the Federal Government through Other Intermediate Agencies",null,null,"33.",{"$f":"-(SUMIFS('Accounting Data'!C2:C100000,'Accounting Data'!E2:E100000,\"001\",'Accounting Data'!J2:J100000,\"47??\"))","v":{"v":0,"d":"0 "}},{"$nulls":4},"33."]
["4800  Revenue in Lieu of Taxes",null,null,"34.",{"$f":"-(SUMIFS('Accounting Data'!C2:C100000,'Accounting Data'!E2:E100000,\"001\",'Accounting Data'!J2:J100000,\"48??\"))","v":{"v":0,"d":"0 "}},{"$nulls":4},"34."]
["4900  Revenue for/on Behalf of the District",null,null,"35.",{"$f":"-(SUMIFS('Accounting Data'!C2:C100000,'Accounting Data'!E2:E100000,\"001\",'Accounting Data'!J2:J100000,\"49??\"))","v":{"v":0,"d":"0 "}},{"$nulls":4},"35."]
["Other (Specify)",null,null,"36.",{"$f":"-(SUMIFS('Accounting Data'!C2:C100000,'Accounting Data'!E2:E100000,\"001\",'Accounting Data'!J2:J100000,\"4???\"))-SUM(E41:E46)","v":{"v":0,"d":"0 "}},{"$nulls":3},{"$f":"-(SUMIFS('Accounting Data'!C2:C100000,'Accounting Data'!E2:E100000,\"700\",'Accounting Data'!J2:J100000,\"4???\"))","v":{"v":0,"d":"0 "}},"36.",{"$nulls":16},{"$f":"IF(OR(AND(E47<>0,B47=\"\"),AND(F47<>0,B47=\"\"),AND(G47<>0,B47=\"\"),AND(H47<>0,B47=\"\"),AND(I47<>0,B47=\"\")),\"Yes\",\"\")","v":""}]
["                        Subtotal (lines 31-36)",null,null,"37.",{"$f":"SUM(E41:E42)+SUM(E44:E47)","v":{"v":0,"d":"0 "}},{"$nulls":3},{"$f":"I47","v":{"v":0,"d":"0 "}},"37."]
[]
["Total Fund Revenue (lines 20, 25, 30, and 37)",null,null,"38.",{"$f":"E27+E33+E39+E48","v":{"v":603185,"d":"603,185 "}},{"$f":"F27+F33+F39+F48","v":{"v":7480,"d":"7,480 "}},{"$f":"G27+G33+G39+G48","v":{"v":0,"d":"0 "}},{"$f":"H27+H33+H39+H48","v":{"v":0,"d":"0 "}},{"$f":"I27+I33+I39+I48","v":{"v":0,"d":"0 "}},"38."]
["5100  Issuance of Bonds",null,null,"39.",{"$nulls":3},{"$f":"-(SUMIFS('Accounting Data'!C2:C100000,'Accounting Data'!E2:E100000,\"630\",'Accounting Data'!J2:J100000,\"51??\"))","v":{"v":0,"d":"0 "}},{"$f":"-(SUMIFS('Accounting Data'!C2:C100000,'Accounting Data'!E2:E100000,\"700\",'Accounting Data'!J2:J100000,\"51??\"))","v":{"v":0,"d":"0 "}},"39."]
["5200  Fund Transfers-In",null,null,"40.",{"$f":"-(SUMIFS('Accounting Data'!C2:C100000,'Accounting Data'!E2:E100000,\"001\",'Accounting Data'!J2:J100000,\"52??\"))","v":{"v":0,"d":"0 "}},{"$f":"-(SUMIFS('Accounting Data'!C2:C100000,'Accounting Data'!E2:E100000,\"610\",'Accounting Data'!J2:J100000,\"52??\"))","v":{"v":0,"d":"0 "}},{"$f":"-(SUMIFS('Accounting Data'!C2:C100000,'Accounting Data'!E2:E100000,\"620\",'Accounting Data'!J2:J100000,\"52??\"))","v":{"v":0,"d":"0 "}},{"$f":"-(SUMIFS('Accounting Data'!C2:C100000,'Accounting Data'!E2:E100000,\"630\",'Accounting Data'!J2:J100000,\"52??\"))","v":{"v":0,"d":"0 "}},{"$f":"-(SUMIFS('Accounting Data'!C2:C100000,'Accounting Data'!E2:E100000,\"700\",'Accounting Data'!J2:J100000,\"52??\"))","v":{"v":0,"d":"0 "}},"40."]
["Other (Specify)",null,null,"41.",{"$f":"-(SUMIFS('Accounting Data'!C2:C100000,'Accounting Data'!E2:E100000,\"001\",'Accounting Data'!J2:J100000,\"5???\"))-F001TransIn","v":{"v":0,"d":"0 "}},{"$f":"-(SUMIFS('Accounting Data'!C2:C100000,'Accounting Data'!E2:E100000,\"610\",'Accounting Data'!J2:J100000,\"5???\"))-F610TransIn","v":{"v":0,"d":"0 "}},{"$f":"-(SUMIFS('Accounting Data'!C2:C100000,'Accounting Data'!E2:E100000,\"620\",'Accounting Data'!J2:J100000,\"5???\"))-F620TransfIn","v":{"v":0,"d":"0 "}},{"$f":"-(SUMIFS('Accounting Data'!C2:C100000,'Accounting Data'!E2:E100000,\"630\",'Accounting Data'!J2:J100000,\"5???\"))-SUM(H51:H52)","v":{"v":0,"d":"0 "}},{"$f":"-(SUMIFS('Accounting Data'!C2:C100000,'Accounting Data'!E2:E100000,\"700\",'Accounting Data'!J2:J100000,\"5???\"))-SUM(I51:I52)","v":{"v":0,"d":"0 "}},"41.",{"$nulls":16},{"$f":"IF(OR(AND(E53<>0,B53=\"\"),AND(F53<>0,B53=\"\"),AND(G53<>0,B53=\"\"),AND(H53<>0,B53=\"\"),AND(I53<>0,B53=\"\")),\"Yes\",\"\")","v":""}]
["TOTAL FUNDS AVAILABLE (lines 1 and 38 through 41)",null,null,"42.",{"$f":"SUM(E6+E50+E52+E53)","v":{"v":815562,"d":"815,562 "}},{"$f":"SUM(F6+F50+F52+F53)","v":{"v":36130,"d":"36,130 "}},{"$f":"SUM(G6+G50+G52+G53)","v":{"v":0,"d":"0 "}},{"$f":"SUM(H6+H50+H51+H52+H53)","v":{"v":0,"d":"0 "}},{"$f":"SUM(I6+I50+I51+I52+I53)","v":{"v":0,"d":"0 "}},"42."]
["Total Expenditures ",null,null,"43.",{"$f":"F001TOTALEXP","v":{"v":451829,"d":"451,829 "}},{"$f":"F610TotActExp","v":{"v":19178,"d":"19,178 "}},{"$f":"SUMIFS('Accounting Data'!C2:C100000,'Accounting Data'!E2:E100000,\"620\",'Accounting Data'!J2:J100000,\"6???\")-SUMIFS('Accounting Data'!C2:C100000,'Accounting Data'!E2:E100000,\"620\",'Accounting Data'!J2:J100000,\"69??\")","v":{"v":0,"d":"0 "}},{"$f":"SUMIFS('Accounting Data'!C2:C100000,'Accounting Data'!E2:E100000,\"630\",'Accounting Data'!J2:J100000,\"6???\")-SUMIFS('Accounting Data'!C2:C100000,'Accounting Data'!E2:E100000,\"630\",'Accounting Data'!J2:J100000,\"69??\")","v":{"v":0,"d":"0 "}},{"$f":"SUMIFS('Accounting Data'!C2:C100000,'Accounting Data'!E2:E100000,\"700\",'Accounting Data'!J2:J100000,\"6???\")-SUMIFS('Accounting Data'!C2:C100000,'Accounting Data'!E2:E100000,\"700\",'Accounting Data'!J2:J100000,\"69??\")","v":{"v":0,"d":"0 "}},"43."]
["6900  Other Financing Uses and Other Items Including Transfers-Out",null,null,"44.",{"$f":"SUMIFS('Accounting Data'!C2:C100000,'Accounting Data'!E2:E100000,\"001\",'Accounting Data'!J2:J100000,\"69??\")","v":{"v":753,"d":"753 "}},{"$f":"SUMIFS('Accounting Data'!C2:C100000,'Accounting Data'!E2:E100000,\"610\",'Accounting Data'!J2:J100000,\"69??\")","v":{"v":0,"d":"0 "}},{"$f":"SUMIFS('Accounting Data'!C2:C100000,'Accounting Data'!E2:E100000,\"620\",'Accounting Data'!J2:J100000,\"69??\")","v":{"v":0,"d":"0 "}},{"$f":"SUMIFS('Accounting Data'!C2:C100000,'Accounting Data'!E2:E100000,\"630\",'Accounting Data'!J2:J100000,\"69??\")","v":{"v":0,"d":"0 "}},{"$f":"SUMIFS('Accounting Data'!C2:C100000,'Accounting Data'!E2:E100000,\"700\",'Accounting Data'!J2:J100000,\"69??\")","v":{"v":0,"d":"0 "}},"44."]
["TOTAL EXPENDITURES AND OTHER USES (lines 43 plus 44)",null,null,"45.",{"$f":"E55+E56","v":{"v":452582,"d":"452,582 "}},{"$f":"SUM(F55:F56)","v":{"v":19178,"d":"19,178 "}},{"$f":"SUM(G55:G56)","v":{"v":0,"d":"0 "}},{"$f":"SUM(H55:H56)","v":{"v":0,"d":"0 "}},{"$f":"SUM(I55:I56)","v":{"v":0,"d":"0 "}},"45."]
["ENDING FUND BALANCE (line 42 minus line 45) (3)",null,null,"46.",{"$f":"SUM(E54-E57)","v":{"v":362980,"d":"362,980 "}},{"$f":"SUM(F54-F57)","v":{"v":16952,"d":"16,952 "}},{"$f":"SUM(G54-G57)","v":{"v":0,"d":"0 "}},{"$f":"SUM(H54-H57)","v":{"v":0,"d":"0 "}},{"$f":"SUM(I54-I57)","v":{"v":0,"d":"0 "}},"46."]
{"$rows_empty":8}
[null,null,"`"]

{"sheet":"Page 2","index":2,"n_rows":46,"n_cols":13,"rows_kept":46,"merged":[[0,1,0,3],[0,5,0,7],[0,9,0,10],[1,0,1,10],[3,8,3,10],[3,11,5,11],[4,8,5,8],[4,9,5,9],[4,10,5,10],[6,3,7,3],[6,4,7,4],[6,5,7,5],[6,6,7,6],[6,7,7,7],[6,8,7,8],[6,9,7,9],[6,10,7,10],[6,11,7,11],[8,3,9,3],[8,4,9,4],[8,5,9,5],[8,6,9,6],[8,7,9,7],[8,8,9,8],[8,9,9,9],[8,10,9,10],[8,11,9,11],[22,3,23,3],[22,4,23,4],[22,5,23,5],[22,6,23,6],[22,7,23,7],[22,8,23,8],[22,9,23,9],[22,10,23,10],[22,11,23,11],[24,3,25,3],[24,4,25,4],[24,5,25,5],[24,6,25,6],[24,7,25,7],[24,8,25,8],[24,9,25,9],[24,10,25,10],[24,11,25,11],[34,3,35,3],[34,4,35,4],[34,5,35,5],[34,6,35,6],[34,7,35,7],[34,8,35,8],[34,9,35,9],[34,10,35,10],[34,11,35,11],[36,3,37,3],[36,4,37,4],[36,5,37,5],[36,6,37,6],[36,7,37,7],[36,8,37,8],[36,9,37,9],[36,10,37,10],[36,11,37,11],[38,3,39,3],[38,4,39,4],[38,5,39,5],[38,6,39,6],[38,7,39,7],[38,8,39,8],[38,9,39,9],[38,10,39,10],[38,11,39,11],[42,3,43,3],[42,4,43,4],[42,5,43,5],[42,6,43,6],[42,7,43,7],[42,8,43,8],[42,9,43,9],[42,10,43,10],[42,11,43,11]]}
["DISTRICT NAME",{"$f":"CoverDistrictName","v":"Double Adobe Elementary School "},null,null,"COUNTY",{"$f":"County","v":"Cochise"},null,null,"CTDS NUMBER",{"$f":"Cover!Q1","v":"020345000"}]
["MAINTENANCE AND OPERATION FUND (001)—EXPENDITURES"]
[]
[{"$nulls":4},"Employee","Purchased Services",null,null,"Totals",null,null,"% Increase/ Decrease in Actual"]
["Expenditures",null,null,"Salaries","Benefits","6300, 6400,","Supplies","Other","Budget","Actual","Prior Year Actual"]
[{"$nulls":3},"6100","6200","6500",{"v":6600,"d":"6,600 "},{"v":6800,"d":"6,800 "}]
["100 Regular Education",null,null,{"$f":"SUMIFS('Accounting Data'!C2:C100000,'Accounting Data'!E2:E100000,\"001\",'Accounting Data'!H2:H100000,\"1??\",'Accounting Data'!I2:I100000,\"1???\",'Accounting Data'!J2:J100000,\"61??\")","v":{"v":61331,"d":"61,331 "}},{"$f":"SUMIFS('Accounting Data'!C2:C100000,'Accounting Data'!E2:E100000,\"001\",'Accounting Data'!H2:H100000,\"1??\",'Accounting Data'!I2:I100000,\"1???\",'Accounting Data'!J2:J100000,\"62??\")","v":{"v":26758,"d":"26,758 "}},{"$f":"SUMIFS('Accounting Data'!C2:C100000,'Accounting Data'!E2:E100000,\"001\",'Accounting Data'!H2:H100000,\"1??\",'Accounting Data'!I2:I100000,\"1???\",'Accounting Data'!J2:J100000,\"63??\")+SUMIFS('Accounting Data'!C2:C100000,'Accounting Data'!E2:E100000,\"001\",'Accounting Data'!H2:H100000,\"1??\",'Accounting Data'!I2:I100000,\"1???\",'Accounting Data'!J2:J100000,\"64??\")+SUMIFS('Accounting Data'!C2:C100000,'Accounting Data'!E2:E100000,\"001\",'Accounting Data'!H2:H100000,\"1??\",'Accounting Data'!I2:I100000,\"1???\",'Accounting Data'!J2:J100000,\"65??\")","v":{"v":153847,"d":"153,847 "}},{"$f":"SUMIFS('Accounting Data'!C2:C100000,'Accounting Data'!E2:E100000,\"001\",'Accounting Data'!H2:H100000,\"1??\",'Accounting Data'!I2:I100000,\"1???\",'Accounting Data'!J2:J100000,\"66??\")","v":{"v":1210,"d":"1,210 "}},{"$f":"SUMIFS('Accounting Data'!C2:C100000,'Accounting Data'!E2:E100000,\"001\",'Accounting Data'!H2:H100000,\"1??\",'Accounting Data'!I2:I100000,\"1???\",'Accounting Data'!J2:J100000,\"68??\")","v":{"v":0,"d":"0 "}},{"$f":"[1]!F001P100F1000","v":{"v":362030,"d":"362,030 "}},{"$f":"SUM(D7:H7)","v":{"v":243146,"d":"243,146 "}},{"$f":"[2]!F001P100F1000","v":{"v":191069,"d":"191,069 "}},{"$f":"IF(J7=K7,0,IF(K7>0,(J7-K7)/K7,\"--\"))","v":{"v":0.273,"d":"27.3%"}}]
["   1000 Instruction",null,"1.",{"$nulls":9},"1."]
["   2000 Support Services",null," ",{"$f":"SUMIFS('Accounting Data'!C2:C100000,'Accounting Data'!E2:E100000,\"001\",'Accounting Data'!H2:H100000,\"1??\",'Accounting Data'!I2:I100000,\"21??\",'Accounting Data'!J2:J100000,\"61??\")","v":{"v":0,"d":"0 "}},{"$f":"SUMIFS('Accounting Data'!C2:C100000,'Accounting Data'!E2:E100000,\"001\",'Accounting Data'!H2:H100000,\"1??\",'Accounting Data'!I2:I100000,\"21??\",'Accounting Data'!J2:J100000,\"62??\")","v":{"v":0,"d":"0 "}},{"$f":"SUMIFS('Accounting Data'!C2:C100000,'Accounting Data'!E2:E100000,\"001\",'Accounting Data'!H2:H100000,\"1??\",'Accounting Data'!I2:I100000,\"21??\",'Accounting Data'!J2:J100000,\"63??\")+SUMIFS('Accounting Data'!C2:C100000,'Accounting Data'!E2:E100000,\"001\",'Accounting Data'!H2:H100000,\"1??\",'Accounting Data'!I2:I100000,\"21??\",'Accounting Data'!J2:J100000,\"64??\")+SUMIFS('Accounting Data'!C2:C100000,'Accounting Data'!E2:E100000,\"001\",'Accounting Data'!H2:H100000,\"1??\",'Accounting Data'!I2:I100000,\"21??\",'Accounting Data'!J2:J100000,\"65??\")","v":{"v":0,"d":"0 "}},{"$f":"SUMIFS('Accounting Data'!C2:C100000,'Accounting Data'!E2:E100000,\"001\",'Accounting Data'!H2:H100000,\"1??\",'Accounting Data'!I2:I100000,\"21??\",'Accounting Data'!J2:J100000,\"66??\")","v":{"v":0,"d":"0 "}},{"$f":"SUMIFS('Accounting Data'!C2:C100000,'Accounting Data'!E2:E100000,\"001\",'Accounting Data'!H2:H100000,\"1??\",'Accounting Data'!I2:I100000,\"21??\",'Accounting Data'!J2:J100000,\"68??\")","v":{"v":0,"d":"0 "}},{"$f":"[1]!F001P100F2100","v":{"v":0,"d":"0 "}},{"$f":"SUM(D9:H9)","v":{"v":0,"d":"0 "}},{"$f":"[2]!F001P100F2100","v":{"v":0,"d":"0 "}},{"$f":"IF(J9=K9,0,IF(K9>0,(J9-K9)/K9,\"--\"))","v":{"v":0,"d":"0.0%"}}," "]
["      2100 Students",null,"2.",{"$nulls":9},"2."]
["      2200 Instructional Staff",null,"3.",{"$f":"SUMIFS('Accounting Data'!C2:C100000,'Accounting Data'!E2:E100000,\"001\",'Accounting Data'!H2:H100000,\"1??\",'Accounting Data'!I2:I100000,\"22??\",'Accounting Data'!J2:J100000,\"61??\")","v":{"v":0,"d":"0 "}},{"$f":"SUMIFS('Accounting Data'!C2:C100000,'Accounting Data'!E2:E100000,\"001\",'Accounting Data'!H2:H100000,\"1??\",'Accounting Data'!I2:I100000,\"22??\",'Accounting Data'!J2:J100000,\"62??\")","v":{"v":0,"d":"0 "}},{"$f":"SUMIFS('Accounting Data'!C2:C100000,'Accounting Data'!E2:E100000,\"001\",'Accounting Data'!H2:H100000,\"1??\",'Accounting Data'!I2:I100000,\"22??\",'Accounting Data'!J2:J100000,\"63??\")+SUMIFS('Accounting Data'!C2:C100000,'Accounting Data'!E2:E100000,\"001\",'Accounting Data'!H2:H100000,\"1??\",'Accounting Data'!I2:I100000,\"22??\",'Accounting Data'!J2:J100000,\"64??\")+SUMIFS('Accounting Data'!C2:C100000,'Accounting Data'!E2:E100000,\"001\",'Accounting Data'!H2:H100000,\"1??\",'Accounting Data'!I2:I100000,\"22??\",'Accounting Data'!J2:J100000,\"65??\")","v":{"v":0,"d":"0 "}},{"$f":"SUMIFS('Accounting Data'!C2:C100000,'Accounting Data'!E2:E100000,\"001\",'Accounting Data'!H2:H100000,\"1??\",'Accounting Data'!I2:I100000,\"22??\",'Accounting Data'!J2:J100000,\"66??\")","v":{"v":0,"d":"0 "}},{"$f":"SUMIFS('Accounting Data'!C2:C100000,'Accounting Data'!E2:E100000,\"001\",'Accounting Data'!H2:H100000,\"1??\",'Accounting Data'!I2:I100000,\"22??\",'Accounting Data'!J2:J100000,\"68??\")","v":{"v":0,"d":"0 "}},{"$f":"[1]!F001P100F2200","v":{"v":0,"d":"0 "}},{"$f":"SUM(D11:H11)","v":{"v":0,"d":"0 "}},{"$f":"[2]!F001P100F2200","v":{"v":30,"d":"30 "}},{"$f":"IF(J11=K11,0,IF(K11>0,(J11-K11)/K11,\"--\"))","v":{"v":-1,"d":"-100.0%"}},"3."]
["      2300 General Administration",null,"4.",{"$f":"SUMIFS('Accounting Data'!C2:C100000,'Accounting Data'!E2:E100000,\"001\",'Accounting Data'!H2:H100000,\"1??\",'Accounting Data'!I2:I100000,\"23??\",'Accounting Data'!J2:J100000,\"61??\")","v":{"v":0,"d":"0 "}},{"$f":"SUMIFS('Accounting Data'!C2:C100000,'Accounting Data'!E2:E100000,\"001\",'Accounting Data'!H2:H100000,\"1??\",'Accounting Data'!I2:I100000,\"23??\",'Accounting Data'!J2:J100000,\"62??\")","v":{"v":0,"d":"0 "}},{"$f":"SUMIFS('Accounting Data'!C2:C100000,'Accounting Data'!E2:E100000,\"001\",'Accounting Data'!H2:H100000,\"1??\",'Accounting Data'!I2:I100000,\"23??\",'Accounting Data'!J2:J100000,\"63??\")+SUMIFS('Accounting Data'!C2:C100000,'Accounting Data'!E2:E100000,\"001\",'Accounting Data'!H2:H100000,\"1??\",'Accounting Data'!I2:I100000,\"23??\",'Accounting Data'!J2:J100000,\"64??\")+SUMIFS('Accounting Data'!C2:C100000,'Accounting Data'!E2:E100000,\"001\",'Accounting Data'!H2:H100000,\"1??\",'Accounting Data'!I2:I100000,\"23??\",'Accounting Data'!J2:J100000,\"65??\")","v":{"v":3622,"d":"3,622 "}},{"$f":"SUMIFS('Accounting Data'!C2:C100000,'Accounting Data'!E2:E100000,\"001\",'Accounting Data'!H2:H100000,\"1??\",'Accounting Data'!I2:I100000,\"23??\",'Accounting Data'!J2:J100000,\"66??\")","v":{"v":0,"d":"0 "}},{"$f":"SUMIFS('Accounting Data'!C2:C100000,'Accounting Data'!E2:E100000,\"001\",'Accounting Data'!H2:H100000,\"1??\",'Accounting Data'!I2:I100000,\"23??\",'Accounting Data'!J2:J100000,\"68??\")","v":{"v":0,"d":"0 "}},{"$f":"[1]!F001P100F2300","v":{"v":15500,"d":"15,500 "}},{"$f":"SUM(D12:H12)","v":{"v":3622,"d":"3,622 "}},{"$f":"[2]!F001P100F2300","v":{"v":3022,"d":"3,022 "}},{"$f":"IF(J12=K12,0,IF(K12>0,(J12-K12)/K12,\"--\"))","v":{"v":0.199,"d":"19.9%"}},"4."]
["      2400 School Administration",null,"5.",{"$f":"SUMIFS('Accounting Data'!C2:C100000,'Accounting Data'!E2:E100000,\"001\",'Accounting Data'!H2:H100000,\"1??\",'Accounting Data'!I2:I100000,\"24??\",'Accounting Data'!J2:J100000,\"61??\")","v":{"v":31757,"d":"31,757 "}},{"$f":"SUMIFS('Accounting Data'!C2:C100000,'Accounting Data'!E2:E100000,\"001\",'Accounting Data'!H2:H100000,\"1??\",'Accounting Data'!I2:I100000,\"24??\",'Accounting Data'!J2:J100000,\"62??\")","v":{"v":6294,"d":"6,294 "}},{"$f":"SUMIFS('Accounting Data'!C2:C100000,'Accounting Data'!E2:E100000,\"001\",'Accounting Data'!H2:H100000,\"1??\",'Accounting Data'!I2:I100000,\"24??\",'Accounting Data'!J2:J100000,\"63??\")+SUMIFS('Accounting Data'!C2:C100000,'Accounting Data'!E2:E100000,\"001\",'Accounting Data'!H2:H100000,\"1??\",'Accounting Data'!I2:I100000,\"24??\",'Accounting Data'!J2:J100000,\"64??\")+SUMIFS('Accounting Data'!C2:C100000,'Accounting Data'!E2:E100000,\"001\",'Accounting Data'!H2:H100000,\"1??\",'Accounting Data'!I2:I100000,\"24??\",'Accounting Data'!J2:J100000,\"65??\")","v":{"v":24536,"d":"24,536 "}},{"$f":"SUMIFS('Accounting Data'!C2:C100000,'Accounting Data'!E2:E100000,\"001\",'Accounting Data'!H2:H100000,\"1??\",'Accounting Data'!I2:I100000,\"24??\",'Accounting Data'!J2:J100000,\"66??\")","v":{"v":459,"d":"459 "}},{"$f":"SUMIFS('Accounting Data'!C2:C100000,'Accounting Data'!E2:E100000,\"001\",'Accounting Data'!H2:H100000,\"1??\",'Accounting Data'!I2:I100000,\"24??\",'Accounting Data'!J2:J100000,\"68??\")","v":{"v":0,"d":"0 "}},{"$f":"[1]!F001P100F2400","v":{"v":82650,"d":"82,650 "}},{"v":63046,"d":"63,046 "},{"$f":"[2]!F001P100F2400","v":{"v":59108,"d":"59,108 "}},{"v":0.067,"d":"6.7%"},"5."]
["      2500 Central Services",null,"6.",{"$f":"SUMIFS('Accounting Data'!C2:C100000,'Accounting Data'!E2:E100000,\"001\",'Accounting Data'!H2:H100000,\"1??\",'Accounting Data'!I2:I100000,\"25??\",'Accounting Data'!J2:J100000,\"61??\")","v":{"v":7252,"d":"7,252 "}},{"$f":"SUMIFS('Accounting Data'!C2:C100000,'Accounting Data'!E2:E100000,\"001\",'Accounting Data'!H2:H100000,\"1??\",'Accounting Data'!I2:I100000,\"25??\",'Accounting Data'!J2:J100000,\"62??\")","v":{"v":1437,"d":"1,437 "}},{"$f":"SUMIFS('Accounting Data'!C2:C100000,'Accounting Data'!E2:E100000,\"001\",'Accounting Data'!H2:H100000,\"1??\",'Accounting Data'!I2:I100000,\"25??\",'Accounting Data'!J2:J100000,\"63??\")+SUMIFS('Accounting Data'!C2:C100000,'Accounting Data'!E2:E100000,\"001\",'Accounting Data'!H2:H100000,\"1??\",'Accounting Data'!I2:I100000,\"25??\",'Accounting Data'!J2:J100000,\"64??\")+SUMIFS('Accounting Data'!C2:C100000,'Accounting Data'!E2:E100000,\"001\",'Accounting Data'!H2:H100000,\"1??\",'Accounting Data'!I2:I100000,\"25??\",'Accounting Data'!J2:J100000,\"65??\")","v":{"v":1359,"d":"1,359 "}},{"$f":"SUMIFS('Accounting Data'!C2:C100000,'Accounting Data'!E2:E100000,\"001\",'Accounting Data'!H2:H100000,\"1??\",'Accounting Data'!I2:I100000,\"25??\",'Accounting Data'!J2:J100000,\"66??\")","v":{"v":0,"d":"0 "}},{"$f":"SUMIFS('Accounting Data'!C2:C100000,'Accounting Data'!E2:E100000,\"001\",'Accounting Data'!H2:H100000,\"1??\",'Accounting Data'!I2:I100000,\"25??\",'Accounting Data'!J2:J100000,\"68??\")","v":{"v":0,"d":"0 "}},{"$f":"[1]!F001P100F2500","v":{"v":27582,"d":"27,582 "}},{"v":10048,"d":"10,048 "},{"$f":"[2]!F001P100F2500","v":{"v":8413,"d":"8,413 "}},{"v":0.194,"d":"19.4%"},"6."]
["      2600 Operation & Maintenance of Plant",null,"7.",{"$f":"SUMIFS('Accounting Data'!C2:C100000,'Accounting Data'!E2:E100000,\"001\",'Accounting Data'!H2:H100000,\"1??\",'Accounting Data'!I2:I100000,\"26??\",'Accounting Data'!J2:J100000,\"61??\")","v":{"v":29015,"d":"29,015 "}},{"$f":"SUMIFS('Accounting Data'!C2:C100000,'Accounting Data'!E2:E100000,\"001\",'Accounting Data'!H2:H100000,\"1??\",'Accounting Data'!I2:I100000,\"26??\",'Accounting Data'!J2:J100000,\"62??\")","v":{"v":5751,"d":"5,751 "}},{"$f":"SUMIFS('Accounting Data'!C2:C100000,'Accounting Data'!E2:E100000,\"001\",'Accounting Data'!H2:H100000,\"1??\",'Accounting Data'!I2:I100000,\"26??\",'Accounting Data'!J2:J100000,\"63??\")+SUMIFS('Accounting Data'!C2:C100000,'Accounting Data'!E2:E100000,\"001\",'Accounting Data'!H2:H100000,\"1??\",'Accounting Data'!I2:I100000,\"26??\",'Accounting Data'!J2:J100000,\"64??\")+SUMIFS('Accounting Data'!C2:C100000,'Accounting Data'!E2:E100000,\"001\",'Accounting Data'!H2:H100000,\"1??\",'Accounting Data'!I2:I100000,\"26??\",'Accounting Data'!J2:J100000,\"65??\")","v":{"v":7938,"d":"7,938 "}},{"$f":"SUMIFS('Accounting Data'!C2:C100000,'Accounting Data'!E2:E100000,\"001\",'Accounting Data'!H2:H100000,\"1??\",'Accounting Data'!I2:I100000,\"26??\",'Accounting Data'!J2:J100000,\"66??\")","v":{"v":10329,"d":"10,329 "}},{"$f":"SUMIFS('Accounting Data'!C2:C100000,'Accounting Data'!E2:E100000,\"001\",'Accounting Data'!H2:H100000,\"1??\",'Accounting Data'!I2:I100000,\"26??\",'Accounting Data'!J2:J100000,\"68??\")","v":{"v":0,"d":"0 "}},{"$f":"[1]!F001P100F2600","v":{"v":71169,"d":"71,169 "}},{"v":53033,"d":"53,033 "},{"$f":"[2]!F001P100F2600","v":{"v":54161,"d":"54,161 "}},{"v":-0.021,"d":"-2.1%"},"7."]
["      2900 Other",null,"8.",{"$f":"SUMIFS('Accounting Data'!C2:C100000,'Accounting Data'!E2:E100000,\"001\",'Accounting Data'!H2:H100000,\"1??\",'Accounting Data'!I2:I100000,\"29??\",'Accounting Data'!J2:J100000,\"61??\")","v":{"v":0,"d":"0 "}},{"$f":"SUMIFS('Accounting Data'!C2:C100000,'Accounting Data'!E2:E100000,\"001\",'Accounting Data'!H2:H100000,\"1??\",'Accounting Data'!I2:I100000,\"29??\",'Accounting Data'!J2:J100000,\"62??\")","v":{"v":0,"d":"0 "}},{"$f":"SUMIFS('Accounting Data'!C2:C100000,'Accounting Data'!E2:E100000,\"001\",'Accounting Data'!H2:H100000,\"1??\",'Accounting Data'!I2:I100000,\"29??\",'Accounting Data'!J2:J100000,\"63??\")+SUMIFS('Accounting Data'!C2:C100000,'Accounting Data'!E2:E100000,\"001\",'Accounting Data'!H2:H100000,\"1??\",'Accounting Data'!I2:I100000,\"29??\",'Accounting Data'!J2:J100000,\"64??\")+SUMIFS('Accounting Data'!C2:C100000,'Accounting Data'!E2:E100000,\"001\",'Accounting Data'!H2:H100000,\"1??\",'Accounting Data'!I2:I100000,\"29??\",'Accounting Data'!J2:J100000,\"65??\")","v":{"v":0,"d":"0 "}},{"$f":"SUMIFS('Accounting Data'!C2:C100000,'Accounting Data'!E2:E100000,\"001\",'Accounting Data'!H2:H100000,\"1??\",'Accounting Data'!I2:I100000,\"29??\",'Accounting Data'!J2:J100000,\"66??\")","v":{"v":0,"d":"0 "}},{"$f":"SUMIFS('Accounting Data'!C2:C100000,'Accounting Data'!E2:E100000,\"001\",'Accounting Data'!H2:H100000,\"1??\",'Accounting Data'!I2:I100000,\"29??\",'Accounting Data'!J2:J100000,\"68??\")","v":{"v":0,"d":"0 "}},{"$f":"[1]!F001P100F2900","v":{"v":0,"d":"0 "}},{"v":0,"d":"0 "},{"$f":"[2]!F001P100F2900","v":{"v":0,"d":"0 "}},{"v":0,"d":"0.0%"},"8."]
["   3000 Operation of Noninstructional Services",null,"9.",{"$f":"SUMIFS('Accounting Data'!C2:C100000,'Accounting Data'!E2:E100000,\"001\",'Accounting Data'!H2:H100000,\"1??\",'Accounting Data'!I2:I100000,\"3???\",'Accounting Data'!J2:J100000,\"61??\")","v":{"v":0,"d":"0 "}},{"$f":"SUMIFS('Accounting Data'!C2:C100000,'Accounting Data'!E2:E100000,\"001\",'Accounting Data'!H2:H100000,\"1??\",'Accounting Data'!I2:I100000,\"3???\",'Accounting Data'!J2:J100000,\"62??\")","v":{"v":0,"d":"0 "}},{"$f":"SUMIFS('Accounting Data'!C2:C100000,'Accounting Data'!E2:E100000,\"001\",'Accounting Data'!H2:H100000,\"1??\",'Accounting Data'!I2:I100000,\"3???\",'Accounting Data'!J2:J100000,\"63??\")+SUMIFS('Accounting Data'!C2:C100000,'Accounting Data'!E2:E100000,\"001\",'Accounting Data'!H2:H100000,\"1??\",'Accounting Data'!I2:I100000,\"3???\",'Accounting Data'!J2:J100000,\"64??\")+SUMIFS('Accounting Data'!C2:C100000,'Accounting Data'!E2:E100000,\"001\",'Accounting Data'!H2:H100000,\"1??\",'Accounting Data'!I2:I100000,\"3???\",'Accounting Data'!J2:J100000,\"65??\")","v":{"v":0,"d":"0 "}},{"$f":"SUMIFS('Accounting Data'!C2:C100000,'Accounting Data'!E2:E100000,\"001\",'Accounting Data'!H2:H100000,\"1??\",'Accounting Data'!I2:I100000,\"3???\",'Accounting Data'!J2:J100000,\"66??\")","v":{"v":0,"d":"0 "}},{"$f":"SUMIFS('Accounting Data'!C2:C100000,'Accounting Data'!E2:E100000,\"001\",'Accounting Data'!H2:H100000,\"1??\",'Accounting Data'!I2:I100000,\"3???\",'Accounting Data'!J2:J100000,\"68??\")","v":{"v":0,"d":"0 "}},{"$f":"[1]!F001P100F3000","v":{"v":0,"d":"0 "}},{"v":0,"d":"0 "},{"$f":"[2]!F001P100F3000","v":{"v":0,"d":"0 "}},{"v":0,"d":"0.0%"},"9."]
["610 School-Sponsored Cocurricular Activities",null,"10.",{"$f":"SUMIFS('Accounting Data'!C2:C100000,'Accounting Data'!E2:E100000,\"001\",'Accounting Data'!H2:H100000,\"61?\",'Accounting Data'!J2:J100000,\"61??\")","v":{"v":0,"d":"0 "}},{"$f":"SUMIFS('Accounting Data'!C2:C100000,'Accounting Data'!E2:E100000,\"001\",'Accounting Data'!H2:H100000,\"61?\",'Accounting Data'!J2:J100000,\"62??\")","v":{"v":0,"d":"0 "}},{"$f":"SUMIFS('Accounting Data'!C2:C100000,'Accounting Data'!E2:E100000,\"001\",'Accounting Data'!H2:H100000,\"61?\",'Accounting Data'!J2:J100000,\"63??\")+SUMIFS('Accounting Data'!C2:C100000,'Accounting Data'!E2:E100000,\"001\",'Accounting Data'!H2:H100000,\"61?\",'Accounting Data'!J2:J100000,\"64??\")+SUMIFS('Accounting Data'!C2:C100000,'Accounting Data'!E2:E100000,\"001\",'Accounting Data'!H2:H100000,\"61?\",'Accounting Data'!J2:J100000,\"65??\")","v":{"v":0,"d":"0 "}},{"$f":"SUMIFS('Accounting Data'!C2:C100000,'Accounting Data'!E2:E100000,\"001\",'Accounting Data'!H2:H100000,\"61?\",'Accounting Data'!J2:J100000,\"66??\")","v":{"v":0,"d":"0 "}},{"$f":"SUMIFS('Accounting Data'!C2:C100000,'Accounting Data'!E2:E100000,\"001\",'Accounting Data'!H2:H100000,\"61?\",'Accounting Data'!J2:J100000,\"68??\")","v":{"v":0,"d":"0 "}},{"$f":"[1]!F001P610","v":{"v":0,"d":"0 "}},{"v":0,"d":"0 "},{"$f":"[2]!F001P610","v":{"v":0,"d":"0 "}},{"v":0,"d":"0.0%"},"10."]
["620 School-Sponsored Athletics",null,"11.",{"$f":"SUMIFS('Accounting Data'!C2:C100000,'Accounting Data'!E2:E100000,\"001\",'Accounting Data'!H2:H100000,\"62?\",'Accounting Data'!J2:J100000,\"61??\")","v":{"v":0,"d":"0 "}},{"$f":"SUMIFS('Accounting Data'!C2:C100000,'Accounting Data'!E2:E100000,\"001\",'Accounting Data'!H2:H100000,\"62?\",'Accounting Data'!J2:J100000,\"62??\")","v":{"v":0,"d":"0 "}},{"$f":"SUMIFS('Accounting Data'!C2:C100000,'Accounting Data'!E2:E100000,\"001\",'Accounting Data'!H2:H100000,\"62?\",'Accounting Data'!J2:J100000,\"63??\")+SUMIFS('Accounting Data'!C2:C100000,'Accounting Data'!E2:E100000,\"001\",'Accounting Data'!H2:H100000,\"62?\",'Accounting Data'!J2:J100000,\"64??\")+SUMIFS('Accounting Data'!C2:C100000,'Accounting Data'!E2:E100000,\"001\",'Accounting Data'!H2:H100000,\"62?\",'Accounting Data'!J2:J100000,\"65??\")","v":{"v":0,"d":"0 "}},{"$f":"SUMIFS('Accounting Data'!C2:C100000,'Accounting Data'!E2:E100000,\"001\",'Accounting Data'!H2:H100000,\"62?\",'Accounting Data'!J2:J100000,\"66??\")","v":{"v":0,"d":"0 "}},{"$f":"SUMIFS('Accounting Data'!C2:C100000,'Accounting Data'!E2:E100000,\"001\",'Accounting Data'!H2:H100000,\"62?\",'Accounting Data'!J2:J100000,\"68??\")","v":{"v":0,"d":"0 "}},{"$f":"[1]!F001P620","v":{"v":0,"d":"0 "}},{"v":0,"d":"0 "},{"$f":"[2]!F001P620","v":{"v":0,"d":"0 "}},{"v":0,"d":"0.0%"},"11."]
["630 Other Instructional Programs",null,"12.",{"$f":"SUMIFS('Accounting Data'!C2:C100000,'Accounting Data'!E2:E100000,\"001\",'Accounting Data'!H2:H100000,\"63?\",'Accounting Data'!J2:J100000,\"61??\")","v":{"v":0,"d":"0 "}},{"$f":"SUMIFS('Accounting Data'!C2:C100000,'Accounting Data'!E2:E100000,\"001\",'Accounting Data'!H2:H100000,\"63?\",'Accounting Data'!J2:J100000,\"62??\")","v":{"v":0,"d":"0 "}},{"$f":"SUMIFS('Accounting Data'!C2:C100000,'Accounting Data'!E2:E100000,\"001\",'Accounting Data'!H2:H100000,\"63?\",'Accounting Data'!J2:J100000,\"63??\")+SUMIFS('Accounting Data'!C2:C100000,'Accounting Data'!E2:E100000,\"001\",'Accounting Data'!H2:H100000,\"63?\",'Accounting Data'!J2:J100000,\"64??\")+SUMIFS('Accounting Data'!C2:C100000,'Accounting Data'!E2:E100000,\"001\",'Accounting Data'!H2:H100000,\"63?\",'Accounting Data'!J2:J100000,\"65??\")","v":{"v":0,"d":"0 "}},{"$f":"SUMIFS('Accounting Data'!C2:C100000,'Accounting Data'!E2:E100000,\"001\",'Accounting Data'!H2:H100000,\"63?\",'Accounting Data'!J2:J100000,\"66??\")","v":{"v":0,"d":"0 "}},{"$f":"SUMIFS('Accounting Data'!C2:C100000,'Accounting Data'!E2:E100000,\"001\",'Accounting Data'!H2:H100000,\"63?\",'Accounting Data'!J2:J100000,\"68??\")","v":{"v":0,"d":"0 "}},{"$f":"[1]!F001P630","v":{"v":0,"d":"0 "}},{"v":0,"d":"0 "},{"$f":"[2]!F001P630","v":{"v":0,"d":"0 "}},{"v":0,"d":"0.0%"},"12."]
["700, 800, 900 Other Programs",null,"13.",{"$f":"SUMIFS('Accounting Data'!C2:C100000,'Accounting Data'!E2:E100000,\"001\",'Accounting Data'!H2:H100000,\"7??\",'Accounting Data'!J2:J100000,\"61??\")+SUMIFS('Accounting Data'!C2:C100000,'Accounting Data'!E2:E100000,\"001\",'Accounting Data'!H2:H100000,\"8??\",'Accounting Data'!J2:J100000,\"61??\")+SUMIFS('Accounting Data'!C2:C100000,'Accounting Data'!E2:E100000,\"001\",'Accounting Data'!H2:H100000,\"9??\",'Accounting Data'!J2:J100000,\"61??\")","v":{"v":0,"d":"0 "}},{"$f":"SUMIFS('Accounting Data'!C2:C100000,'Accounting Data'!E2:E100000,\"001\",'Accounting Data'!H2:H100000,\"7??\",'Accounting Data'!J2:J100000,\"62??\")+SUMIFS('Accounting Data'!C2:C100000,'Accounting Data'!E2:E100000,\"001\",'Accounting Data'!H2:H100000,\"8??\",'Accounting Data'!J2:J100000,\"62??\")+SUMIFS('Accounting Data'!C2:C100000,'Accounting Data'!E2:E100000,\"001\",'Accounting Data'!H2:H100000,\"9??\",'Accounting Data'!J2:J100000,\"62??\")","v":{"v":0,"d":"0 "}},{"$f":"SUMIFS('Accounting Data'!C2:C100000,'Accounting Data'!E2:E100000,\"001\",'Accounting Data'!H2:H100000,\"7??\",'Accounting Data'!J2:J100000,\"63??\")+SUMIFS('Accounting Data'!C2:C100000,'Accounting Data'!E2:E100000,\"001\",'Accounting Data'!H2:H100000,\"7??\",'Accounting Data'!J2:J100000,\"64??\")+SUMIFS('Accounting Data'!C2:C100000,'Accounting Data'!E2:E100000,\"001\",'Accounting Data'!H2:H100000,\"7??\",'Accounting Data'!J2:J100000,\"65??\")+SUMIFS('Accounting Data'!C2:C100000,'Accounting Data'!E2:E100000,\"001\",'Accounting Data'!H2:H100000,\"8??\",'Accounting Data'!J2:J100000,\"63??\")+SUMIFS('Accounting Data'!C2:C100000,'Accounting Data'!E2:E100000,\"001\",'Accounting Data'!H2:H100000,\"8??\",'Accounting Data'!J2:J100000,\"64??\")+SUMIFS('Accounting Data'!C2:C100000,'Accounting Data'!E2:E100000,\"001\",'Accounting Data'!H2:H100000,\"8??\",'Accounting Data'!J2:J100000,\"65??\")+SUMIFS('Accounting Data'!C2:C100000,'Accounting Data'!E2:E100000,\"001\",'Accounting Data'!H2:H100000,\"9??\",'Accounting Data'!J2:J100000,\"63??\")+SUMIFS('Accounting Data'!C2:C100000,'Accounting Data'!E2:E100000,\"001\",'Accounting Data'!H2:H100000,\"9??\",'Accounting Data'!J2:J100000,\"64??\")+SUMIFS('Accounting Data'!C2:C100000,'Accounting Data'!E2:E100000,\"001\",'Accounting Data'!H2:H100000,\"9??\",'Accounting Data'!J2:J100000,\"65??\")","v":{"v":0,"d":"0 "}},{"$f":"SUMIFS('Accounting Data'!C2:C100000,'Accounting Data'!E2:E100000,\"001\",'Accounting Data'!H2:H100000,\"7??\",'Accounting Data'!J2:J100000,\"66??\")+SUMIFS('Accounting Data'!C2:C100000,'Accounting Data'!E2:E100000,\"001\",'Accounting Data'!H2:H100000,\"8??\",'Accounting Data'!J2:J100000,\"66??\")+SUMIFS('Accounting Data'!C2:C100000,'Accounting Data'!E2:E100000,\"001\",'Accounting Data'!H2:H100000,\"9??\",'Accounting Data'!J2:J100000,\"66??\")","v":{"v":0,"d":"0 "}},{"$f":"SUMIFS('Accounting Data'!C2:C100000,'Accounting Data'!E2:E100000,\"001\",'Accounting Data'!H2:H100000,\"7??\",'Accounting Data'!J2:J100000,\"68??\")+SUMIFS('Accounting Data'!C2:C100000,'Accounting Data'!E2:E100000,\"001\",'Accounting Data'!H2:H100000,\"8??\",'Accounting Data'!J2:J100000,\"68??\")+SUMIFS('Accounting Data'!C2:C100000,'Accounting Data'!E2:E100000,\"001\",'Accounting Data'!H2:H100000,\"9??\",'Accounting Data'!J2:J100000,\"68??\")","v":{"v":0,"d":"0 "}},{"$f":"[1]!F001P700800900","v":{"v":0,"d":"0 "}},{"v":0,"d":"0 "},{"$f":"[2]!F001P700800900","v":{"v":0,"d":"0 "}},{"v":0,"d":"0.0%"},"13."]
["   Regular Education Subsection Subtotal (lines 1-13) ",null,"14.",{"$f":"D7+D9+SUM(D11:D17)+SUM(D18:D21)","v":{"v":129355,"d":"129,355 "}},{"$f":"E7+E9+SUM(E11:E17)+SUM(E18:E21)","v":{"v":40240,"d":"40,240 "}},{"$f":"F7+F9+SUM(F11:F17)+SUM(F18:F21)","v":{"v":191302,"d":"191,302 "}},{"$f":"G7+G9+SUM(G11:G17)+SUM(G18:G21)","v":{"v":11998,"d":"11,998 "}},{"$f":"H7+H9+SUM(H11:H17)+SUM(H18:H21)","v":{"v":0,"d":"0 "}},{"$f":"I7+I9+SUM(I11:I21)","v":{"v":558931,"d":"558,931 "}},{"$f":"J7+J9+SUM(J11:J21)","v":{"v":372895,"d":"372,895 "}},{"$f":"K7+K9+SUM(K11:K21)","v":{"v":315803,"d":"315,803 "}},{"v":0.181,"d":"18.1%"},"14."]
["200 and 300 Special Education",null,null,{"$f":"SUMIFS('Accounting Data'!C2:C100000,'Accounting Data'!E2:E100000,\"001\",'Accounting Data'!H2:H100000,\"2??\",'Accounting Data'!I2:I100000,\"1???\",'Accounting Data'!J2:J100000,\"61??\")+SUMIFS('Accounting Data'!C2:C100000,'Accounting Data'!E2:E100000,\"001\",'Accounting Data'!H2:H100000,\"3??\",'Accounting Data'!I2:I100000,\"1???\",'Accounting Data'!J2:J100000,\"61??\")","v":{"v":16331,"d":"16,331 "}},{"$f":"SUMIFS('Accounting Data'!C2:C100000,'Accounting Data'!E2:E100000,\"001\",'Accounting Data'!H2:H100000,\"2??\",'Accounting Data'!I2:I100000,\"1???\",'Accounting Data'!J2:J100000,\"62??\")+SUMIFS('Accounting Data'!C2:C100000,'Accounting Data'!E2:E100000,\"001\",'Accounting Data'!H2:H100000,\"3??\",'Accounting Data'!I2:I100000,\"1???\",'Accounting Data'!J2:J100000,\"62??\")","v":{"v":3237,"d":"3,237 "}},{"$f":"SUMIFS('Accounting Data'!C2:C100000,'Accounting Data'!E2:E100000,\"001\",'Accounting Data'!H2:H100000,\"2??\",'Accounting Data'!I2:I100000,\"1???\",'Accounting Data'!J2:J100000,\"63??\")+SUMIFS('Accounting Data'!C2:C100000,'Accounting Data'!E2:E100000,\"001\",'Accounting Data'!H2:H100000,\"2??\",'Accounting Data'!I2:I100000,\"1???\",'Accounting Data'!J2:J100000,\"64??\")+SUMIFS('Accounting Data'!C2:C100000,'Accounting Data'!E2:E100000,\"001\",'Accounting Data'!H2:H100000,\"2??\",'Accounting Data'!I2:I100000,\"1???\",'Accounting Data'!J2:J100000,\"65??\")+SUMIFS('Accounting Data'!C2:C100000,'Accounting Data'!E2:E100000,\"001\",'Accounting Data'!H2:H100000,\"3??\",'Accounting Data'!I2:I100000,\"1???\",'Accounting Data'!J2:J100000,\"63??\")+SUMIFS('Accounting Data'!C2:C100000,'Accounting Data'!E2:E100000,\"001\",'Accounting Data'!H2:H100000,\"3??\",'Accounting Data'!I2:I100000,\"1???\",'Accounting Data'!J2:J100000,\"64??\")+SUMIFS('Accounting Data'!C2:C100000,'Accounting Data'!E2:E100000,\"001\",'Accounting Data'!H2:H100000,\"3??\",'Accounting Data'!I2:I100000,\"1???\",'Accounting Data'!J2:J100000,\"65??\")","v":{"v":0,"d":"0 "}},{"$f":"SUMIFS('Accounting Data'!C2:C100000,'Accounting Data'!E2:E100000,\"001\",'Accounting Data'!H2:H100000,\"2??\",'Accounting Data'!I2:I100000,\"1???\",'Accounting Data'!J2:J100000,\"66??\")+SUMIFS('Accounting Data'!C2:C100000,'Accounting Data'!E2:E100000,\"001\",'Accounting Data'!H2:H100000,\"3??\",'Accounting Data'!I2:I100000,\"1???\",'Accounting Data'!J2:J100000,\"66??\")","v":{"v":0,"d":"0 "}},{"$f":"SUMIFS('Accounting Data'!C2:C100000,'Accounting Data'!E2:E100000,\"001\",'Accounting Data'!H2:H100000,\"2??\",'Accounting Data'!I2:I100000,\"1???\",'Accounting Data'!J2:J100000,\"68??\")+SUMIFS('Accounting Data'!C2:C100000,'Accounting Data'!E2:E100000,\"001\",'Accounting Data'!H2:H100000,\"3??\",'Accounting Data'!I2:I100000,\"1???\",'Accounting Data'!J2:J100000,\"68??\")","v":{"v":0,"d":"0 "}},{"$f":"[1]!F001P200F1000","v":{"v":18500,"d":"18,500 "}},{"$f":"SUM(D23:H23)","v":{"v":19568,"d":"19,568 "}},{"$f":"[2]!F001P200F1000","v":{"v":18386,"d":"18,386 "}},{"$f":"IF(J23=K23,0,IF(K23>0,(J23-K23)/K23,\"--\"))","v":{"v":0.064,"d":"6.4%"}}]
["   1000 Instruction",null,"15.",{"$nulls":9},"15."]
["   2000 Support Services",null,null,{"$f":"SUMIFS('Accounting Data'!C2:C100000,'Accounting Data'!E2:E100000,\"001\",'Accounting Data'!H2:H100000,\"2??\",'Accounting Data'!I2:I100000,\"21??\",'Accounting Data'!J2:J100000,\"61??\")+SUMIFS('Accounting Data'!C2:C100000,'Accounting Data'!E2:E100000,\"001\",'Accounting Data'!H2:H100000,\"3??\",'Accounting Data'!I2:I100000,\"21??\",'Accounting Data'!J2:J100000,\"61??\")","v":{"v":0,"d":"0 "}},{"$f":"SUMIFS('Accounting Data'!C2:C100000,'Accounting Data'!E2:E100000,\"001\",'Accounting Data'!H2:H100000,\"2??\",'Accounting Data'!I2:I100000,\"21??\",'Accounting Data'!J2:J100000,\"62??\")+SUMIFS('Accounting Data'!C2:C100000,'Accounting Data'!E2:E100000,\"001\",'Accounting Data'!H2:H100000,\"3??\",'Accounting Data'!I2:I100000,\"21??\",'Accounting Data'!J2:J100000,\"62??\")","v":{"v":0,"d":"0 "}},{"$f":"SUMIFS('Accounting Data'!C2:C100000,'Accounting Data'!E2:E100000,\"001\",'Accounting Data'!H2:H100000,\"2??\",'Accounting Data'!I2:I100000,\"21??\",'Accounting Data'!J2:J100000,\"63??\")+SUMIFS('Accounting Data'!C2:C100000,'Accounting Data'!E2:E100000,\"001\",'Accounting Data'!H2:H100000,\"2??\",'Accounting Data'!I2:I100000,\"21??\",'Accounting Data'!J2:J100000,\"64??\")+SUMIFS('Accounting Data'!C2:C100000,'Accounting Data'!E2:E100000,\"001\",'Accounting Data'!H2:H100000,\"2??\",'Accounting Data'!I2:I100000,\"21??\",'Accounting Data'!J2:J100000,\"65??\")+SUMIFS('Accounting Data'!C2:C100000,'Accounting Data'!E2:E100000,\"001\",'Accounting Data'!H2:H100000,\"3??\",'Accounting Data'!I2:I100000,\"21??\",'Accounting Data'!J2:J100000,\"63??\")+SUMIFS('Accounting Data'!C2:C100000,'Accounting Data'!E2:E100000,\"001\",'Accounting Data'!H2:H100000,\"3??\",'Accounting Data'!I2:I100000,\"21??\",'Accounting Data'!J2:J100000,\"64??\")+SUMIFS('Accounting Data'!C2:C100000,'Accounting Data'!E2:E100000,\"001\",'Accounting Data'!H2:H100000,\"3??\",'Accounting Data'!I2:I100000,\"21??\",'Accounting Data'!J2:J100000,\"65??\")","v":{"v":35836,"d":"35,836 "}},{"$f":"SUMIFS('Accounting Data'!C2:C100000,'Accounting Data'!E2:E100000,\"001\",'Accounting Data'!H2:H100000,\"2??\",'Accounting Data'!I2:I100000,\"21??\",'Accounting Data'!J2:J100000,\"66??\")+SUMIFS('Accounting Data'!C2:C100000,'Accounting Data'!E2:E100000,\"001\",'Accounting Data'!H2:H100000,\"3??\",'Accounting Data'!I2:I100000,\"21??\",'Accounting Data'!J2:J100000,\"66??\")","v":{"v":0,"d":"0 "}},{"$f":"SUMIFS('Accounting Data'!C2:C100000,'Accounting Data'!E2:E100000,\"001\",'Accounting Data'!H2:H100000,\"2??\",'Accounting Data'!I2:I100000,\"21??\",'Accounting Data'!J2:J100000,\"68??\")+SUMIFS('Accounting Data'!C2:C100000,'Accounting Data'!E2:E100000,\"001\",'Accounting Data'!H2:H100000,\"3??\",'Accounting Data'!I2:I100000,\"21??\",'Accounting Data'!J2:J100000,\"68??\")","v":{"v":0,"d":"0 "}},{"$f":"[1]!F001P200F2100","v":{"v":35100,"d":"35,100 "}},{"$f":"SUM(D25:H25)","v":{"v":35836,"d":"35,836 "}},{"$f":"[2]!F001P200F2100","v":{"v":39069,"d":"39,069 "}},{"$f":"IF(J25=K25,0,IF(K25>0,(J25-K25)/K25,\"--\"))","v":{"v":-0.083,"d":"-8.3%"}}]
["      2100 Students",null,"16.",{"$nulls":9},"16."]
["      2200 Instructional Staff",null,"17.",{"$f":"SUMIFS('Accounting Data'!C2:C100000,'Accounting Data'!E2:E100000,\"001\",'Accounting Data'!H2:H100000,\"2??\",'Accounting Data'!I2:I100000,\"22??\",'Accounting Data'!J2:J100000,\"61??\")+SUMIFS('Accounting Data'!C2:C100000,'Accounting Data'!E2:E100000,\"001\",'Accounting Data'!H2:H100000,\"3??\",'Accounting Data'!I2:I100000,\"22??\",'Accounting Data'!J2:J100000,\"61??\")","v":{"v":0,"d":"0 "}},{"$f":"SUMIFS('Accounting Data'!C2:C100000,'Accounting Data'!E2:E100000,\"001\",'Accounting Data'!H2:H100000,\"2??\",'Accounting Data'!I2:I100000,\"22??\",'Accounting Data'!J2:J100000,\"62??\")+SUMIFS('Accounting Data'!C2:C100000,'Accounting Data'!E2:E100000,\"001\",'Accounting Data'!H2:H100000,\"3??\",'Accounting Data'!I2:I100000,\"22??\",'Accounting Data'!J2:J100000,\"62??\")","v":{"v":0,"d":"0 "}},{"$f":"SUMIFS('Accounting Data'!C2:C100000,'Accounting Data'!E2:E100000,\"001\",'Accounting Data'!H2:H100000,\"2??\",'Accounting Data'!I2:I100000,\"22??\",'Accounting Data'!J2:J100000,\"63??\")+SUMIFS('Accounting Data'!C2:C100000,'Accounting Data'!E2:E100000,\"001\",'Accounting Data'!H2:H100000,\"2??\",'Accounting Data'!I2:I100000,\"22??\",'Accounting Data'!J2:J100000,\"64??\")+SUMIFS('Accounting Data'!C2:C100000,'Accounting Data'!E2:E100000,\"001\",'Accounting Data'!H2:H100000,\"2??\",'Accounting Data'!I2:I100000,\"22??\",'Accounting Data'!J2:J100000,\"65??\")+SUMIFS('Accounting Data'!C2:C100000,'Accounting Data'!E2:E100000,\"001\",'Accounting Data'!H2:H100000,\"3??\",'Accounting Data'!I2:I100000,\"22??\",'Accounting Data'!J2:J100000,\"63??\")+SUMIFS('Accounting Data'!C2:C100000,'Accounting Data'!E2:E100000,\"001\",'Accounting Data'!H2:H100000,\"3??\",'Accounting Data'!I2:I100000,\"22??\",'Accounting Data'!J2:J100000,\"64??\")+SUMIFS('Accounting Data'!C2:C100000,'Accounting Data'!E2:E100000,\"001\",'Accounting Data'!H2:H100000,\"3??\",'Accounting Data'!I2:I100000,\"22??\",'Accounting Data'!J2:J100000,\"65??\")","v":{"v":0,"d":"0 "}},{"$f":"SUMIFS('Accounting Data'!C2:C100000,'Accounting Data'!E2:E100000,\"001\",'Accounting Data'!H2:H100000,\"2??\",'Accounting Data'!I2:I100000,\"22??\",'Accounting Data'!J2:J100000,\"66??\")+SUMIFS('Accounting Data'!C2:C100000,'Accounting Data'!E2:E100000,\"001\",'Accounting Data'!H2:H100000,\"3??\",'Accounting Data'!I2:I100000,\"22??\",'Accounting Data'!J2:J100000,\"66??\")","v":{"v":0,"d":"0 "}},{"$f":"SUMIFS('Accounting Data'!C2:C100000,'Accounting Data'!E2:E100000,\"001\",'Accounting Data'!H2:H100000,\"2??\",'Accounting Data'!I2:I100000,\"22??\",'Accounting Data'!J2:J100000,\"68??\")+SUMIFS('Accounting Data'!C2:C100000,'Accounting Data'!E2:E100000,\"001\",'Accounting Data'!H2:H100000,\"3??\",'Accounting Data'!I2:I100000,\"22??\",'Accounting Data'!J2:J100000,\"68??\")","v":{"v":0,"d":"0 "}},{"$f":"[1]!F001P200F2200","v":{"v":0,"d":"0 "}},{"$f":"SUM(D27:H27)","v":{"v":0,"d":"0 "}},{"$f":"[2]!F001P200F2200","v":{"v":0,"d":"0 "}},{"$f":"IF(J27=K27,0,IF(K27>0,(J27-K27)/K27,\"--\"))","v":{"v":0,"d":"0.0%"}},"17."]
["      2300 General Administration",null,"18.",{"$f":"SUMIFS('Accounting Data'!C2:C100000,'Accounting Data'!E2:E100000,\"001\",'Accounting Data'!H2:H100000,\"2??\",'Accounting Data'!I2:I100000,\"23??\",'Accounting Data'!J2:J100000,\"61??\")+SUMIFS('Accounting Data'!C2:C100000,'Accounting Data'!E2:E100000,\"001\",'Accounting Data'!H2:H100000,\"3??\",'Accounting Data'!I2:I100000,\"23??\",'Accounting Data'!J2:J100000,\"61??\")","v":{"v":0,"d":"0 "}},{"$f":"SUMIFS('Accounting Data'!C2:C100000,'Accounting Data'!E2:E100000,\"001\",'Accounting Data'!H2:H100000,\"2??\",'Accounting Data'!I2:I100000,\"23??\",'Accounting Data'!J2:J100000,\"62??\")+SUMIFS('Accounting Data'!C2:C100000,'Accounting Data'!E2:E100000,\"001\",'Accounting Data'!H2:H100000,\"3??\",'Accounting Data'!I2:I100000,\"23??\",'Accounting Data'!J2:J100000,\"62??\")","v":{"v":0,"d":"0 "}},{"$f":"SUMIFS('Accounting Data'!C2:C100000,'Accounting Data'!E2:E100000,\"001\",'Accounting Data'!H2:H100000,\"2??\",'Accounting Data'!I2:I100000,\"23??\",'Accounting Data'!J2:J100000,\"63??\")+SUMIFS('Accounting Data'!C2:C100000,'Accounting Data'!E2:E100000,\"001\",'Accounting Data'!H2:H100000,\"2??\",'Accounting Data'!I2:I100000,\"23??\",'Accounting Data'!J2:J100000,\"64??\")+SUMIFS('Accounting Data'!C2:C100000,'Accounting Data'!E2:E100000,\"001\",'Accounting Data'!H2:H100000,\"2??\",'Accounting Data'!I2:I100000,\"23??\",'Accounting Data'!J2:J100000,\"65??\")+SUMIFS('Accounting Data'!C2:C100000,'Accounting Data'!E2:E100000,\"001\",'Accounting Data'!H2:H100000,\"3??\",'Accounting Data'!I2:I100000,\"23??\",'Accounting Data'!J2:J100000,\"63??\")+SUMIFS('Accounting Data'!C2:C100000,'Accounting Data'!E2:E100000,\"001\",'Accounting Data'!H2:H100000,\"3??\",'Accounting Data'!I2:I100000,\"23??\",'Accounting Data'!J2:J100000,\"64??\")+SUMIFS('Accounting Data'!C2:C100000,'Accounting Data'!E2:E100000,\"001\",'Accounting Data'!H2:H100000,\"3??\",'Accounting Data'!I2:I100000,\"23??\",'Accounting Data'!J2:J100000,\"65??\")","v":{"v":0,"d":"0 "}},{"$f":"SUMIFS('Accounting Data'!C2:C100000,'Accounting Data'!E2:E100000,\"001\",'Accounting Data'!H2:H100000,\"2??\",'Accounting Data'!I2:I100000,\"23??\",'Accounting Data'!J2:J100000,\"66??\")+SUMIFS('Accounting Data'!C2:C100000,'Accounting Data'!E2:E100000,\"001\",'Accounting Data'!H2:H100000,\"3??\",'Accounting Data'!I2:I100000,\"23??\",'Accounting Data'!J2:J100000,\"66??\")","v":{"v":0,"d":"0 "}},{"$f":"SUMIFS('Accounting Data'!C2:C100000,'Accounting Data'!E2:E100000,\"001\",'Accounting Data'!H2:H100000,\"2??\",'Accounting Data'!I2:I100000,\"23??\",'Accounting Data'!J2:J100000,\"68??\")+SUMIFS('Accounting Data'!C2:C100000,'Accounting Data'!E2:E100000,\"001\",'Accounting Data'!H2:H100000,\"3??\",'Accounting Data'!I2:I100000,\"23??\",'Accounting Data'!J2:J100000,\"68??\")","v":{"v":0,"d":"0 "}},{"$f":"[1]!F001P200F2300","v":{"v":0,"d":"0 "}},{"v":0,"d":"0 "},{"$f":"[2]!F001P200F2300","v":{"v":0,"d":"0 "}},{"$f":"IF(J28=K28,0,IF(K28>0,(J28-K28)/K28,\"--\"))","v":{"v":0,"d":"0.0%"}},"18."]
["      2400 School Administration",null,"19.",{"$f":"SUMIFS('Accounting Data'!C2:C100000,'Accounting Data'!E2:E100000,\"001\",'Accounting Data'!H2:H100000,\"2??\",'Accounting Data'!I2:I100000,\"24??\",'Accounting Data'!J2:J100000,\"61??\")+SUMIFS('Accounting Data'!C2:C100000,'Accounting Data'!E2:E100000,\"001\",'Accounting Data'!H2:H100000,\"3??\",'Accounting Data'!I2:I100000,\"24??\",'Accounting Data'!J2:J100000,\"61??\")","v":{"v":0,"d":"0 "}},{"$f":"SUMIFS('Accounting Data'!C2:C100000,'Accounting Data'!E2:E100000,\"001\",'Accounting Data'!H2:H100000,\"2??\",'Accounting Data'!I2:I100000,\"24??\",'Accounting Data'!J2:J100000,\"62??\")+SUMIFS('Accounting Data'!C2:C100000,'Accounting Data'!E2:E100000,\"001\",'Accounting Data'!H2:H100000,\"3??\",'Accounting Data'!I2:I100000,\"24??\",'Accounting Data'!J2:J100000,\"62??\")","v":{"v":0,"d":"0 "}},{"$f":"SUMIFS('Accounting Data'!C2:C100000,'Accounting Data'!E2:E100000,\"001\",'Accounting Data'!H2:H100000,\"2??\",'Accounting Data'!I2:I100000,\"24??\",'Accounting Data'!J2:J100000,\"63??\")+SUMIFS('Accounting Data'!C2:C100000,'Accounting Data'!E2:E100000,\"001\",'Accounting Data'!H2:H100000,\"2??\",'Accounting Data'!I2:I100000,\"24??\",'Accounting Data'!J2:J100000,\"64??\")+SUMIFS('Accounting Data'!C2:C100000,'Accounting Data'!E2:E100000,\"001\",'Accounting Data'!H2:H100000,\"2??\",'Accounting Data'!I2:I100000,\"24??\",'Accounting Data'!J2:J100000,\"65??\")+SUMIFS('Accounting Data'!C2:C100000,'Accounting Data'!E2:E100000,\"001\",'Accounting Data'!H2:H100000,\"3??\",'Accounting Data'!I2:I100000,\"24??\",'Accounting Data'!J2:J100000,\"63??\")+SUMIFS('Accounting Data'!C2:C100000,'Accounting Data'!E2:E100000,\"001\",'Accounting Data'!H2:H100000,\"3??\",'Accounting Data'!I2:I100000,\"24??\",'Accounting Data'!J2:J100000,\"64??\")+SUMIFS('Accounting Data'!C2:C100000,'Accounting Data'!E2:E100000,\"001\",'Accounting Data'!H2:H100000,\"3??\",'Accounting Data'!I2:I100000,\"24??\",'Accounting Data'!J2:J100000,\"65??\")","v":{"v":0,"d":"0 "}},{"$f":"SUMIFS('Accounting Data'!C2:C100000,'Accounting Data'!E2:E100000,\"001\",'Accounting Data'!H2:H100000,\"2??\",'Accounting Data'!I2:I100000,\"24??\",'Accounting Data'!J2:J100000,\"66??\")+SUMIFS('Accounting Data'!C2:C100000,'Accounting Data'!E2:E100000,\"001\",'Accounting Data'!H2:H100000,\"3??\",'Accounting Data'!I2:I100000,\"24??\",'Accounting Data'!J2:J100000,\"66??\")","v":{"v":0,"d":"0 "}},{"$f":"SUMIFS('Accounting Data'!C2:C100000,'Accounting Data'!E2:E100000,\"001\",'Accounting Data'!H2:H100000,\"2??\",'Accounting Data'!I2:I100000,\"24??\",'Accounting Data'!J2:J100000,\"68??\")+SUMIFS('Accounting Data'!C2:C100000,'Accounting Data'!E2:E100000,\"001\",'Accounting Data'!H2:H100000,\"3??\",'Accounting Data'!I2:I100000,\"24??\",'Accounting Data'!J2:J100000,\"68??\")","v":{"v":0,"d":"0 "}},{"$f":"[1]!F001P200F2400","v":{"v":0,"d":"0 "}},{"v":0,"d":"0 "},{"$f":"[2]!F001P200F2400","v":{"v":0,"d":"0 "}},{"v":0,"d":"0.0%"},"19."]
["      2500 Central Services",null,"20.",{"$f":"SUMIFS('Accounting Data'!C2:C100000,'Accounting Data'!E2:E100000,\"001\",'Accounting Data'!H2:H100000,\"2??\",'Accounting Data'!I2:I100000,\"25??\",'Accounting Data'!J2:J100000,\"61??\")+SUMIFS('Accounting Data'!C2:C100000,'Accounting Data'!E2:E100000,\"001\",'Accounting Data'!H2:H100000,\"3??\",'Accounting Data'!I2:I100000,\"25??\",'Accounting Data'!J2:J100000,\"61??\")","v":{"v":0,"d":"0 "}},{"$f":"SUMIFS('Accounting Data'!C2:C100000,'Accounting Data'!E2:E100000,\"001\",'Accounting Data'!H2:H100000,\"2??\",'Accounting Data'!I2:I100000,\"25??\",'Accounting Data'!J2:J100000,\"62??\")+SUMIFS('Accounting Data'!C2:C100000,'Accounting Data'!E2:E100000,\"001\",'Accounting Data'!H2:H100000,\"3??\",'Accounting Data'!I2:I100000,\"25??\",'Accounting Data'!J2:J100000,\"62??\")","v":{"v":0,"d":"0 "}},{"$f":"SUMIFS('Accounting Data'!C2:C100000,'Accounting Data'!E2:E100000,\"001\",'Accounting Data'!H2:H100000,\"2??\",'Accounting Data'!I2:I100000,\"25??\",'Accounting Data'!J2:J100000,\"63??\")+SUMIFS('Accounting Data'!C2:C100000,'Accounting Data'!E2:E100000,\"001\",'Accounting Data'!H2:H100000,\"2??\",'Accounting Data'!I2:I100000,\"25??\",'Accounting Data'!J2:J100000,\"64??\")+SUMIFS('Accounting Data'!C2:C100000,'Accounting Data'!E2:E100000,\"001\",'Accounting Data'!H2:H100000,\"2??\",'Accounting Data'!I2:I100000,\"25??\",'Accounting Data'!J2:J100000,\"65??\")+SUMIFS('Accounting Data'!C2:C100000,'Accounting Data'!E2:E100000,\"001\",'Accounting Data'!H2:H100000,\"3??\",'Accounting Data'!I2:I100000,\"25??\",'Accounting Data'!J2:J100000,\"63??\")+SUMIFS('Accounting Data'!C2:C100000,'Accounting Data'!E2:E100000,\"001\",'Accounting Data'!H2:H100000,\"3??\",'Accounting Data'!I2:I100000,\"25??\",'Accounting Data'!J2:J100000,\"64??\")+SUMIFS('Accounting Data'!C2:C100000,'Accounting Data'!E2:E100000,\"001\",'Accounting Data'!H2:H100000,\"3??\",'Accounting Data'!I2:I100000,\"25??\",'Accounting Data'!J2:J100000,\"65??\")","v":{"v":0,"d":"0 "}},{"$f":"SUMIFS('Accounting Data'!C2:C100000,'Accounting Data'!E2:E100000,\"001\",'Accounting Data'!H2:H100000,\"2??\",'Accounting Data'!I2:I100000,\"25??\",'Accounting Data'!J2:J100000,\"66??\")+SUMIFS('Accounting Data'!C2:C100000,'Accounting Data'!E2:E100000,\"001\",'Accounting Data'!H2:H100000,\"3??\",'Accounting Data'!I2:I100000,\"25??\",'Accounting Data'!J2:J100000,\"66??\")","v":{"v":0,"d":"0 "}},{"$f":"SUMIFS('Accounting Data'!C2:C100000,'Accounting Data'!E2:E100000,\"001\",'Accounting Data'!H2:H100000,\"2??\",'Accounting Data'!I2:I100000,\"25??\",'Accounting Data'!J2:J100000,\"68??\")+SUMIFS('Accounting Data'!C2:C100000,'Accounting Data'!E2:E100000,\"001\",'Accounting Data'!H2:H100000,\"3??\",'Accounting Data'!I2:I100000,\"25??\",'Accounting Data'!J2:J100000,\"68??\")","v":{"v":0,"d":"0 "}},{"$f":"[1]!F001P200F2500","v":{"v":0,"d":"0 "}},{"v":0,"d":"0 "},{"$f":"[2]!F001P200F2500","v":{"v":0,"d":"0 "}},{"v":0,"d":"0.0%"},"20."]
["      2600 Operation & Maintenance of Plant",null,"21.",{"$f":"SUMIFS('Accounting Data'!C2:C100000,'Accounting Data'!E2:E100000,\"001\",'Accounting Data'!H2:H100000,\"2??\",'Accounting Data'!I2:I100000,\"26??\",'Accounting Data'!J2:J100000,\"61??\")+SUMIFS('Accounting Data'!C2:C100000,'Accounting Data'!E2:E100000,\"001\",'Accounting Data'!H2:H100000,\"3??\",'Accounting Data'!I2:I100000,\"26??\",'Accounting Data'!J2:J100000,\"61??\")","v":{"v":0,"d":"0 "}},{"$f":"SUMIFS('Accounting Data'!C2:C100000,'Accounting Data'!E2:E100000,\"001\",'Accounting Data'!H2:H100000,\"2??\",'Accounting Data'!I2:I100000,\"26??\",'Accounting Data'!J2:J100000,\"62??\")+SUMIFS('Accounting Data'!C2:C100000,'Accounting Data'!E2:E100000,\"001\",'Accounting Data'!H2:H100000,\"3??\",'Accounting Data'!I2:I100000,\"26??\",'Accounting Data'!J2:J100000,\"62??\")","v":{"v":0,"d":"0 "}},{"$f":"SUMIFS('Accounting Data'!C2:C100000,'Accounting Data'!E2:E100000,\"001\",'Accounting Data'!H2:H100000,\"2??\",'Accounting Data'!I2:I100000,\"26??\",'Accounting Data'!J2:J100000,\"63??\")+SUMIFS('Accounting Data'!C2:C100000,'Accounting Data'!E2:E100000,\"001\",'Accounting Data'!H2:H100000,\"2??\",'Accounting Data'!I2:I100000,\"26??\",'Accounting Data'!J2:J100000,\"64??\")+SUMIFS('Accounting Data'!C2:C100000,'Accounting Data'!E2:E100000,\"001\",'Accounting Data'!H2:H100000,\"2??\",'Accounting Data'!I2:I100000,\"26??\",'Accounting Data'!J2:J100000,\"65??\")+SUMIFS('Accounting Data'!C2:C100000,'Accounting Data'!E2:E100000,\"001\",'Accounting Data'!H2:H100000,\"3??\",'Accounting Data'!I2:I100000,\"26??\",'Accounting Data'!J2:J100000,\"63??\")+SUMIFS('Accounting Data'!C2:C100000,'Accounting Data'!E2:E100000,\"001\",'Accounting Data'!H2:H100000,\"3??\",'Accounting Data'!I2:I100000,\"26??\",'Accounting Data'!J2:J100000,\"64??\")+SUMIFS('Accounting Data'!C2:C100000,'Accounting Data'!E2:E100000,\"001\",'Accounting Data'!H2:H100000,\"3??\",'Accounting Data'!I2:I100000,\"26??\",'Accounting Data'!J2:J100000,\"65??\")","v":{"v":0,"d":"0 "}},{"$f":"SUMIFS('Accounting Data'!C2:C100000,'Accounting Data'!E2:E100000,\"001\",'Accounting Data'!H2:H100000,\"2??\",'Accounting Data'!I2:I100000,\"26??\",'Accounting Data'!J2:J100000,\"66??\")+SUMIFS('Accounting Data'!C2:C100000,'Accounting Data'!E2:E100000,\"001\",'Accounting Data'!H2:H100000,\"3??\",'Accounting Data'!I2:I100000,\"26??\",'Accounting Data'!J2:J100000,\"66??\")","v":{"v":0,"d":"0 "}},{"$f":"SUMIFS('Accounting Data'!C2:C100000,'Accounting Data'!E2:E100000,\"001\",'Accounting Data'!H2:H100000,\"2??\",'Accounting Data'!I2:I100000,\"26??\",'Accounting Data'!J2:J100000,\"68??\")+SUMIFS('Accounting Data'!C2:C100000,'Accounting Data'!E2:E100000,\"001\",'Accounting Data'!H2:H100000,\"3??\",'Accounting Data'!I2:I100000,\"26??\",'Accounting Data'!J2:J100000,\"68??\")","v":{"v":0,"d":"0 "}},{"$f":"[1]!F001P200F2600","v":{"v":0,"d":"0 "}},{"v":0,"d":"0 "},{"$f":"[2]!F001P200F2600","v":{"v":0,"d":"0 "}},{"v":0,"d":"0.0%"},"21."]
["      2900 Other",null,"22.",{"$f":"SUMIFS('Accounting Data'!C2:C100000,'Accounting Data'!E2:E100000,\"001\",'Accounting Data'!H2:H100000,\"2??\",'Accounting Data'!I2:I100000,\"29??\",'Accounting Data'!J2:J100000,\"61??\")+SUMIFS('Accounting Data'!C2:C100000,'Accounting Data'!E2:E100000,\"001\",'Accounting Data'!H2:H100000,\"3??\",'Accounting Data'!I2:I100000,\"29??\",'Accounting Data'!J2:J100000,\"61??\")","v":{"v":0,"d":"0 "}},{"$f":"SUMIFS('Accounting Data'!C2:C100000,'Accounting Data'!E2:E100000,\"001\",'Accounting Data'!H2:H100000,\"2??\",'Accounting Data'!I2:I100000,\"29??\",'Accounting Data'!J2:J100000,\"62??\")+SUMIFS('Accounting Data'!C2:C100000,'Accounting Data'!E2:E100000,\"001\",'Accounting Data'!H2:H100000,\"3??\",'Accounting Data'!I2:I100000,\"29??\",'Accounting Data'!J2:J100000,\"62??\")","v":{"v":0,"d":"0 "}},{"$f":"SUMIFS('Accounting Data'!C2:C100000,'Accounting Data'!E2:E100000,\"001\",'Accounting Data'!H2:H100000,\"2??\",'Accounting Data'!I2:I100000,\"29??\",'Accounting Data'!J2:J100000,\"63??\")+SUMIFS('Accounting Data'!C2:C100000,'Accounting Data'!E2:E100000,\"001\",'Accounting Data'!H2:H100000,\"2??\",'Accounting Data'!I2:I100000,\"29??\",'Accounting Data'!J2:J100000,\"64??\")+SUMIFS('Accounting Data'!C2:C100000,'Accounting Data'!E2:E100000,\"001\",'Accounting Data'!H2:H100000,\"2??\",'Accounting Data'!I2:I100000,\"29??\",'Accounting Data'!J2:J100000,\"65??\")+SUMIFS('Accounting Data'!C2:C100000,'Accounting Data'!E2:E100000,\"001\",'Accounting Data'!H2:H100000,\"3??\",'Accounting Data'!I2:I100000,\"29??\",'Accounting Data'!J2:J100000,\"63??\")+SUMIFS('Accounting Data'!C2:C100000,'Accounting Data'!E2:E100000,\"001\",'Accounting Data'!H2:H100000,\"3??\",'Accounting Data'!I2:I100000,\"29??\",'Accounting Data'!J2:J100000,\"64??\")+SUMIFS('Accounting Data'!C2:C100000,'Accounting Data'!E2:E100000,\"001\",'Accounting Data'!H2:H100000,\"3??\",'Accounting Data'!I2:I100000,\"29??\",'Accounting Data'!J2:J100000,\"65??\")","v":{"v":0,"d":"0 "}},{"$f":"SUMIFS('Accounting Data'!C2:C100000,'Accounting Data'!E2:E100000,\"001\",'Accounting Data'!H2:H100000,\"2??\",'Accounting Data'!I2:I100000,\"29??\",'Accounting Data'!J2:J100000,\"66??\")+SUMIFS('Accounting Data'!C2:C100000,'Accounting Data'!E2:E100000,\"001\",'Accounting Data'!H2:H100000,\"3??\",'Accounting Data'!I2:I100000,\"29??\",'Accounting Data'!J2:J100000,\"66??\")","v":{"v":0,"d":"0 "}},{"$f":"SUMIFS('Accounting Data'!C2:C100000,'Accounting Data'!E2:E100000,\"001\",'Accounting Data'!H2:H100000,\"2??\",'Accounting Data'!I2:I100000,\"29??\",'Accounting Data'!J2:J100000,\"68??\")+SUMIFS('Accounting Data'!C2:C100000,'Accounting Data'!E2:E100000,\"001\",'Accounting Data'!H2:H100000,\"3??\",'Accounting Data'!I2:I100000,\"29??\",'Accounting Data'!J2:J100000,\"68??\")","v":{"v":0,"d":"0 "}},{"$f":"[1]!F001P200F2900","v":{"v":0,"d":"0 "}},{"v":0,"d":"0 "},{"$f":"[2]!F001P200F2900","v":{"v":0,"d":"0 "}},{"v":0,"d":"0.0%"},"22."]
["   3000 Operation of Noninstructional Services",null,"23.",{"$f":"SUMIFS('Accounting Data'!C2:C100000,'Accounting Data'!E2:E100000,\"001\",'Accounting Data'!H2:H100000,\"2??\",'Accounting Data'!I2:I100000,\"3???\",'Accounting Data'!J2:J100000,\"61??\")+SUMIFS('Accounting Data'!C2:C100000,'Accounting Data'!E2:E100000,\"001\",'Accounting Data'!H2:H100000,\"3??\",'Accounting Data'!I2:I100000,\"3???\",'Accounting Data'!J2:J100000,\"61??\")","v":{"v":0,"d":"0 "}},{"$f":"SUMIFS('Accounting Data'!C2:C100000,'Accounting Data'!E2:E100000,\"001\",'Accounting Data'!H2:H100000,\"2??\",'Accounting Data'!I2:I100000,\"3???\",'Accounting Data'!J2:J100000,\"62??\")+SUMIFS('Accounting Data'!C2:C100000,'Accounting Data'!E2:E100000,\"001\",'Accounting Data'!H2:H100000,\"3??\",'Accounting Data'!I2:I100000,\"3???\",'Accounting Data'!J2:J100000,\"62??\")","v":{"v":0,"d":"0 "}},{"$f":"SUMIFS('Accounting Data'!C2:C100000,'Accounting Data'!E2:E100000,\"001\",'Accounting Data'!H2:H100000,\"2??\",'Accounting Data'!I2:I100000,\"3???\",'Accounting Data'!J2:J100000,\"63??\")+SUMIFS('Accounting Data'!C2:C100000,'Accounting Data'!E2:E100000,\"001\",'Accounting Data'!H2:H100000,\"2??\",'Accounting Data'!I2:I100000,\"3???\",'Accounting Data'!J2:J100000,\"64??\")+SUMIFS('Accounting Data'!C2:C100000,'Accounting Data'!E2:E100000,\"001\",'Accounting Data'!H2:H100000,\"2??\",'Accounting Data'!I2:I100000,\"3???\",'Accounting Data'!J2:J100000,\"65??\")+SUMIFS('Accounting Data'!C2:C100000,'Accounting Data'!E2:E100000,\"001\",'Accounting Data'!H2:H100000,\"3??\",'Accounting Data'!I2:I100000,\"3???\",'Accounting Data'!J2:J100000,\"63??\")+SUMIFS('Accounting Data'!C2:C100000,'Accounting Data'!E2:E100000,\"001\",'Accounting Data'!H2:H100000,\"3??\",'Accounting Data'!I2:I100000,\"3???\",'Accounting Data'!J2:J100000,\"64??\")+SUMIFS('Accounting Data'!C2:C100000,'Accounting Data'!E2:E100000,\"001\",'Accounting Data'!H2:H100000,\"3??\",'Accounting Data'!I2:I100000,\"3???\",'Accounting Data'!J2:J100000,\"65??\")","v":{"v":0,"d":"0 "}},{"$f":"SUMIFS('Accounting Data'!C2:C100000,'Accounting Data'!E2:E100000,\"001\",'Accounting Data'!H2:H100000,\"2??\",'Accounting Data'!I2:I100000,\"3???\",'Accounting Data'!J2:J100000,\"66??\")+SUMIFS('Accounting Data'!C2:C100000,'Accounting Data'!E2:E100000,\"001\",'Accounting Data'!H2:H100000,\"3??\",'Accounting Data'!I2:I100000,\"3???\",'Accounting Data'!J2:J100000,\"66??\")","v":{"v":0,"d":"0 "}},{"$f":"SUMIFS('Accounting Data'!C2:C100000,'Accounting Data'!E2:E100000,\"001\",'Accounting Data'!H2:H100000,\"2??\",'Accounting Data'!I2:I100000,\"3???\",'Accounting Data'!J2:J100000,\"68??\")+SUMIFS('Accounting Data'!C2:C100000,'Accounting Data'!E2:E100000,\"001\",'Accounting Data'!H2:H100000,\"3??\",'Accounting Data'!I2:I100000,\"3???\",'Accounting Data'!J2:J100000,\"68??\")","v":{"v":0,"d":"0 "}},{"$f":"[1]!F001P200F3000","v":{"v":0,"d":"0 "}},{"v":0,"d":"0 "},{"$f":"[2]!F001P200F3000","v":{"v":0,"d":"0 "}},{"v":0,"d":"0.0%"},"23."]
["   Subtotal (lines 15-23) ",null,"24.",{"$f":"D23+D25+SUM(D27:D33)","v":{"v":16331,"d":"16,331 "}},{"$f":"E23+E25+SUM(E27:E33)","v":{"v":3237,"d":"3,237 "}},{"$f":"F23+F25+SUM(F27:F33)","v":{"v":35836,"d":"35,836 "}},{"v":0,"d":"0 "},{"v":0,"d":"0 "},{"$f":"I23+I25+SUM(I27:I33)","v":{"v":53600,"d":"53,600 "}},{"$f":"ROUND(J23+J25+SUM(J27:J33),0)","v":{"v":55404,"d":"55,404 "}},{"v":57455,"d":"57,455 "},{"v":-0.036,"d":"-3.6%"},"24."]
[{"$nulls":3},{"$f":"SUMIFS('Accounting Data'!C2:C100000,'Accounting Data'!E2:E100000,\"001\",'Accounting Data'!H2:H100000,\"4??\",'Accounting Data'!J2:J100000,\"61??\")","v":{"v":10103,"d":"10,103 "}},{"$f":"SUMIFS('Accounting Data'!C2:C100000,'Accounting Data'!E2:E100000,\"001\",'Accounting Data'!H2:H100000,\"4??\",'Accounting Data'!J2:J100000,\"62??\")","v":{"v":892,"d":"892 "}},{"$f":"SUMIFS('Accounting Data'!C2:C100000,'Accounting Data'!E2:E100000,\"001\",'Accounting Data'!H2:H100000,\"4??\",'Accounting Data'!J2:J100000,\"63??\")+SUMIFS('Accounting Data'!C2:C100000,'Accounting Data'!E2:E100000,\"001\",'Accounting Data'!H2:H100000,\"4??\",'Accounting Data'!J2:J100000,\"64??\")+SUMIFS('Accounting Data'!C2:C100000,'Accounting Data'!E2:E100000,\"001\",'Accounting Data'!H2:H100000,\"4??\",'Accounting Data'!J2:J100000,\"65??\")","v":{"v":3357,"d":"3,357 "}},{"$f":"SUMIFS('Accounting Data'!C2:C100000,'Accounting Data'!E2:E100000,\"001\",'Accounting Data'!H2:H100000,\"4??\",'Accounting Data'!J2:J100000,\"66??\")","v":{"v":7480,"d":"7,480 "}},{"$f":"SUMIFS('Accounting Data'!C2:C100000,'Accounting Data'!E2:E100000,\"001\",'Accounting Data'!H2:H100000,\"4??\",'Accounting Data'!J2:J100000,\"68??\")","v":{"v":0,"d":"0 "}},{"$f":"[1]!F001P400","v":{"v":30239,"d":"30,239 "}},{"$f":"SUM(D35:H35)","v":{"v":21832,"d":"21,832 "}},{"$f":"[2]!F001P400","v":{"v":15241,"d":"15,241 "}},{"$f":"IF(J35=K35,0,IF(K35>0,(J35-K35)/K35,\"--\"))","v":{"v":0.432,"d":"43.2%"}},"26."]
["400 Pupil Transportation",null,"25.",{"$nulls":9},"25."]
["510 Desegregation",null,null,{"$f":"[3]Districtwide!$D$66","v":{"v":0,"d":"0 "}},{"$f":"[3]Districtwide!$E$66","v":{"v":0,"d":"0 "}},{"$f":"[3]Districtwide!$F$66","v":{"v":0,"d":"0 "}},{"$f":"[3]Districtwide!$G$66","v":{"v":0,"d":"0 "}},{"$f":"[3]Districtwide!$H$66","v":{"v":0,"d":"0 "}},{"$f":"[3]Districtwide!$I$66","v":{"v":0,"d":"0 "}},{"$f":"[3]Districtwide!$J$66","v":{"v":0,"d":"0 "}},{"$f":"[2]!F001P510","v":{"v":0,"d":"0 "}},{"$f":"IF(J37=K37,0,IF(K37>0,(J37-K37)/K37,\"--\"))","v":{"v":0,"d":"0.0%"}}]
["    (from Districtwide Desegregation Expenditures, page 2, line 44)",null,"26.",{"$nulls":9},"26."]
["530 Dropout Prevention Programs",null,null,{"$f":"SUMIFS('Accounting Data'!C2:C100000,'Accounting Data'!E2:E100000,\"001\",'Accounting Data'!H2:H100000,\"53?\",'Accounting Data'!I2:I100000,\"1???\",'Accounting Data'!J2:J100000,\"61??\")","v":{"v":0,"d":"0 "}},{"$f":"SUMIFS('Accounting Data'!C2:C100000,'Accounting Data'!E2:E100000,\"001\",'Accounting Data'!H2:H100000,\"53?\",'Accounting Data'!I2:I100000,\"1???\",'Accounting Data'!J2:J100000,\"62??\")","v":{"v":0,"d":"0 "}},{"$f":"SUMIFS('Accounting Data'!C2:C100000,'Accounting Data'!E2:E100000,\"001\",'Accounting Data'!H2:H100000,\"53?\",'Accounting Data'!I2:I100000,\"1???\",'Accounting Data'!J2:J100000,\"63??\")+SUMIFS('Accounting Data'!C2:C100000,'Accounting Data'!E2:E100000,\"001\",'Accounting Data'!H2:H100000,\"53?\",'Accounting Data'!I2:I100000,\"1???\",'Accounting Data'!J2:J100000,\"64??\")+SUMIFS('Accounting Data'!C2:C100000,'Accounting Data'!E2:E100000,\"001\",'Accounting Data'!H2:H100000,\"53?\",'Accounting Data'!I2:I100000,\"1???\",'Accounting Data'!J2:J100000,\"65??\")","v":{"v":0,"d":"0 "}},{"$f":"SUMIFS('Accounting Data'!C2:C100000,'Accounting Data'!E2:E100000,\"001\",'Accounting Data'!H2:H100000,\"53?\",'Accounting Data'!I2:I100000,\"1???\",'Accounting Data'!J2:J100000,\"66??\")","v":{"v":0,"d":"0 "}},{"$f":"SUMIFS('Accounting Data'!C2:C100000,'Accounting Data'!E2:E100000,\"001\",'Accounting Data'!H2:H100000,\"53?\",'Accounting Data'!I2:I100000,\"1???\",'Accounting Data'!J2:J100000,\"68??\")","v":{"v":0,"d":"0 "}},null,{"$f":"SUM(D39:H39)","v":{"v":0,"d":"0 "}},{"$f":"[2]!F001P530F1000","v":{"v":0,"d":"0 "}},{"$f":"IF(J39=K39,0,IF(K39>0,(J39-K39)/K39,\"--\"))","v":{"v":0,"d":"0.0%"}}]
["   1000 Instruction",null,"27.",{"$nulls":9},"27."]
["   2000-3000 Support Serv. & Oper. of Noninstructional Serv.",null,"28.",{"$f":"SUMIFS('Accounting Data'!C2:C100000,'Accounting Data'!E2:E100000,\"001\",'Accounting Data'!H2:H100000,\"53?\",'Accounting Data'!I2:I100000,\"2???\",'Accounting Data'!J2:J100000,\"61??\")+SUMIFS('Accounting Data'!C2:C100000,'Accounting Data'!E2:E100000,\"001\",'Accounting Data'!H2:H100000,\"53?\",'Accounting Data'!I2:I100000,\"3???\",'Accounting Data'!J2:J100000,\"61??\")","v":{"v":0,"d":"0 "}},{"$f":"SUMIFS('Accounting Data'!C2:C100000,'Accounting Data'!E2:E100000,\"001\",'Accounting Data'!H2:H100000,\"53?\",'Accounting Data'!I2:I100000,\"2???\",'Accounting Data'!J2:J100000,\"62??\")+SUMIFS('Accounting Data'!C2:C100000,'Accounting Data'!E2:E100000,\"001\",'Accounting Data'!H2:H100000,\"53?\",'Accounting Data'!I2:I100000,\"3???\",'Accounting Data'!J2:J100000,\"62??\")","v":{"v":0,"d":"0 "}},{"$f":"SUMIFS('Accounting Data'!C2:C100000,'Accounting Data'!E2:E100000,\"001\",'Accounting Data'!H2:H100000,\"53?\",'Accounting Data'!I2:I100000,\"2???\",'Accounting Data'!J2:J100000,\"63??\")+SUMIFS('Accounting Data'!C2:C100000,'Accounting Data'!E2:E100000,\"001\",'Accounting Data'!H2:H100000,\"53?\",'Accounting Data'!I2:I100000,\"2???\",'Accounting Data'!J2:J100000,\"64??\")+SUMIFS('Accounting Data'!C2:C100000,'Accounting Data'!E2:E100000,\"001\",'Accounting Data'!H2:H100000,\"53?\",'Accounting Data'!I2:I100000,\"2???\",'Accounting Data'!J2:J100000,\"65??\")+SUMIFS('Accounting Data'!C2:C100000,'Accounting Data'!E2:E100000,\"001\",'Accounting Data'!H2:H100000,\"53?\",'Accounting Data'!I2:I100000,\"3???\",'Accounting Data'!J2:J100000,\"63??\")+SUMIFS('Accounting Data'!C2:C100000,'Accounting Data'!E2:E100000,\"001\",'Accounting Data'!H2:H100000,\"53?\",'Accounting Data'!I2:I100000,\"3???\",'Accounting Data'!J2:J100000,\"64??\")+SUMIFS('Accounting Data'!C2:C100000,'Accounting Data'!E2:E100000,\"001\",'Accounting Data'!H2:H100000,\"53?\",'Accounting Data'!I2:I100000,\"3???\",'Accounting Data'!J2:J100000,\"65??\")","v":{"v":0,"d":"0 "}},{"$f":"SUMIFS('Accounting Data'!C2:C100000,'Accounting Data'!E2:E100000,\"001\",'Accounting Data'!H2:H100000,\"53?\",'Accounting Data'!I2:I100000,\"2???\",'Accounting Data'!J2:J100000,\"66??\")+SUMIFS('Accounting Data'!C2:C100000,'Accounting Data'!E2:E100000,\"001\",'Accounting Data'!H2:H100000,\"53?\",'Accounting Data'!I2:I100000,\"3???\",'Accounting Data'!J2:J100000,\"66??\")","v":{"v":0,"d":"0 "}},{"$f":"SUMIFS('Accounting Data'!C2:C100000,'Accounting Data'!E2:E100000,\"001\",'Accounting Data'!H2:H100000,\"53?\",'Accounting Data'!I2:I100000,\"2???\",'Accounting Data'!J2:J100000,\"68??\")+SUMIFS('Accounting Data'!C2:C100000,'Accounting Data'!E2:E100000,\"001\",'Accounting Data'!H2:H100000,\"53?\",'Accounting Data'!I2:I100000,\"3???\",'Accounting Data'!J2:J100000,\"68??\")","v":{"v":0,"d":"0 "}},null,{"$f":"SUM(D41:H41)","v":{"v":0,"d":"0 "}},{"$f":"[2]!F001P530F20003000","v":{"v":0,"d":"0 "}},{"$f":"IF(J41=K41,0,IF(K41>0,(J41-K41)/K41,\"--\"))","v":{"v":0,"d":"0.0%"}},"28."]
["   Subtotal (lines 27 and 28)",null,"29.",{"$f":"SUM(D39:D41)","v":{"v":0,"d":"0 "}},{"$f":"SUM(E39:E41)","v":{"v":0,"d":"0 "}},{"$f":"SUM(F39:F41)","v":{"v":0,"d":"0 "}},{"$f":"SUM(G39:G41)","v":{"v":0,"d":"0 "}},{"$f":"SUM(H39:H41)","v":{"v":0,"d":"0 "}},{"$f":"[1]!F001P530","v":{"v":0,"d":"0 "}},{"$f":"J39+J41","v":{"v":0,"d":"0 "}},{"$f":"SUM(K39:K41)","v":{"v":0,"d":"0 "}},{"$f":"IF(J42=K42,0,IF(K42>0,(J42-K42)/K42,\"--\"))","v":{"v":0,"d":"0.0%"}},"29."]
["540 Joint Career and Technical Education and Vocational ",null," ",{"v":0,"d":"0 "},{"v":0,"d":"0 "},{"v":0,"d":"0 "},{"v":0,"d":"0 "},{"v":0,"d":"0 "},{"v":0,"d":"0 "},{"$f":"SUM(D43:H43)","v":{"v":0,"d":"0 "}},{"$f":"[2]!F001P540","v":{"v":0,"d":"0 "}},{"$f":"IF(J43=K43,0,IF(K43>0,(J43-K43)/K43,\"--\"))","v":{"v":0,"d":"0.0%"}}]
["   Education Center ",null,"30.",{"$nulls":9},"30."]
["550 K-3 Reading Program",null,"31.",{"$f":"SUMIFS('Accounting Data'!C2:C100000,'Accounting Data'!E2:E100000,\"001\",'Accounting Data'!H2:H100000,\"55?\",'Accounting Data'!J2:J100000,\"61??\")","v":{"v":0,"d":"0 "}},{"$f":"SUMIFS('Accounting Data'!C2:C100000,'Accounting Data'!E2:E100000,\"001\",'Accounting Data'!H2:H100000,\"55?\",'Accounting Data'!J2:J100000,\"62??\")","v":{"v":0,"d":"0 "}},{"$f":"SUMIFS('Accounting Data'!C2:C100000,'Accounting Data'!E2:E100000,\"001\",'Accounting Data'!H2:H100000,\"55?\",'Accounting Data'!J2:J100000,\"63??\")+SUMIFS('Accounting Data'!C2:C100000,'Accounting Data'!E2:E100000,\"001\",'Accounting Data'!H2:H100000,\"55?\",'Accounting Data'!J2:J100000,\"64??\")+SUMIFS('Accounting Data'!C2:C100000,'Accounting Data'!E2:E100000,\"001\",'Accounting Data'!H2:H100000,\"55?\",'Accounting Data'!J2:J100000,\"65??\")","v":{"v":0,"d":"0 "}},{"$f":"SUMIFS('Accounting Data'!C2:C100000,'Accounting Data'!E2:E100000,\"001\",'Accounting Data'!H2:H100000,\"55?\",'Accounting Data'!J2:J100000,\"66??\")","v":{"v":1698,"d":"1,698 "}},{"$f":"SUMIFS('Accounting Data'!C2:C100000,'Accounting Data'!E2:E100000,\"001\",'Accounting Data'!H2:H100000,\"55?\",'Accounting Data'!J2:J100000,\"68??\")","v":{"v":0,"d":"0 "}},{"$f":"[1]!F001P550","v":{"v":0,"d":"0 "}},{"$f":"SUM(D45:H45)","v":{"v":1698,"d":"1,698 "}},{"$f":"[2]!F001P550TotActExp","v":{"v":1698,"d":"1,698 "}},{"$f":"IF(J45=K45,0,IF(K45>0,(J45-K45)/K45,\"--\"))","v":{"v":0,"d":"0.0%"}},"31."]
["Total Expenditures (lines 14, 24-26, 29-31)",null,"32.",{"$f":"D22+D34+D35+D37+D42+D43+D45","v":{"v":155789,"d":"155,789 "}},{"v":44369,"d":"44,369 "},{"v":230495,"d":"230,495 "},{"v":21176,"d":"21,176 "},{"v":0,"d":"0 "},{"$f":"I22+I34+I35+I37+I42+I43+I45","v":{"v":642770,"d":"642,770 "}},{"$f":"J22+J34+J35+J37+J42+J43+J45","v":{"v":451829,"d":"451,829 "}},{"v":390197,"d":"390,197 "},{"$f":"IF(J46=K46,0,IF(K46>0,(J46-K46)/K46,\"--\"))","v":{"v":0.158,"d":"15.8%"}},"32."]

{"sheet":"Page 3","index":3,"n_rows":21,"n_cols":17,"rows_kept":21,"merged":[[0,1,0,5],[0,8,0,10],[0,13,0,14],[1,1,1,2],[2,11,2,13],[2,14,4,14],[3,11,4,11],[3,12,4,12],[3,13,4,13]]}
["DISTRICT NAME ",{"$f":"CoverDistrictName","v":"Double Adobe Elementary School "},{"$nulls":5},"COUNTY ",{"$f":"County","v":"Cochise"},{"$nulls":3},"CTDS NUMBER ",{"$f":"Cover!Q1","v":"020345000"}]
[{"$nulls":4},"CLASSROOM SITE FUND—REVENUES, EXPENDITURES, AND FUND BALANCES"]
[{"$nulls":3},"Beginning",{"$nulls":6},"Debt Service","Total Expenditures",null,null,"% Increase/ Decrease in Actual","Ending"]
[{"$nulls":3},"Fund ","Actual","Salaries","Employee Benefits","Purchased Services","Supplies","Property","and Miscellaneous","Budget","Actual                     ","Prior Year Actual                      ",null,"Fund"]
[{"$nulls":3},"Balance","Revenues","6100","6200","6300, 6400,6500",6600,6700,6800,{"$nulls":4},"Balance"]
["Classroom Site Fund 010"]
["Revenues"]
["CSF Revenue",null,"1.",null,{"$f":"-(SUMIFS('Accounting Data'!C2:C100000,'Accounting Data'!E2:E100000,\"010\",'Accounting Data'!J2:J100000,\"3???\"))","v":{"v":34558,"d":"34,558 "}},{"$nulls":11},"1."]
["Interest Income and Other Revenues",null,"2.",null,{"$f":"-(SUMIFS('Accounting Data'!C2:C100000,'Accounting Data'!E2:E100000,\"010\",'Accounting Data'!J2:J100000,\"15??\")+SUMIFS('Accounting Data'!C2:C100000,'Accounting Data'!E2:E100000,\"010\",'Accounting Data'!J2:J100000,\"198?\")+(SUMIFS('Accounting Data'!C2:C100000,'Accounting Data'!E2:E100000,\"010\",'Accounting Data'!J2:J100000,\"199?\")))","v":{"v":0,"d":"0 "}},{"$nulls":11},"2."]
["Total Revenues (lines 1 and 2)",null,"3.",null,{"$f":"SUM(E8:E9)","v":{"v":34558,"d":"34,558 "}},{"$nulls":11},"3."]
["Expenditures"]
["     1000 Instruction",null,"4.",null,null,{"$f":"SUMIFS('Accounting Data'!C2:C100000,'Accounting Data'!E2:E100000,\"010\",'Accounting Data'!I2:I100000,\"1???\",'Accounting Data'!J2:J100000,\"61??\")","v":{"v":29931,"d":"29,931 "}},{"$f":"SUMIFS('Accounting Data'!C2:C100000,'Accounting Data'!E2:E100000,\"010\",'Accounting Data'!I2:I100000,\"1???\",'Accounting Data'!J2:J100000,\"62??\")","v":{"v":5924,"d":"5,924 "}},{"$f":"SUM(SUMIFS('Accounting Data'!C2:C100000,'Accounting Data'!E2:E100000,\"010\",'Accounting Data'!I2:I100000,\"1???\",'Accounting Data'!J2:J100000,{\"63??\",\"64??\",\"65??\"}))","v":{"v":0,"d":"0 "}},{"$f":"SUMIFS('Accounting Data'!C2:C100000,'Accounting Data'!E2:E100000,\"010\",'Accounting Data'!I2:I100000,\"1???\",'Accounting Data'!J2:J100000,\"66??\")","v":{"v":0,"d":"0 "}},{"$f":"SUMIFS('Accounting Data'!C2:C100000,'Accounting Data'!E2:E100000,\"010\",'Accounting Data'!I2:I100000,\"1???\",'Accounting Data'!J2:J100000,\"67??\")","v":{"v":0,"d":"0 "}},{"$f":"SUMIFS('Accounting Data'!C2:C100000,'Accounting Data'!E2:E100000,\"010\",'Accounting Data'!I2:I100000,\"1???\",'Accounting Data'!J2:J100000,\"68??\")","v":{"v":0,"d":"0 "}},{"$f":"[1]!F010F1000","v":{"v":89987,"d":"89,987 "}},{"$f":"SUM(F12:K12)","v":{"v":35855,"d":"35,855 "}},{"$f":"[2]!F010F1000","v":{"v":24297,"d":"24,297 "}},{"$f":"IF(M12=N12,0,IF(N12>0,(M12-N12)/N12,\"--\"))","v":{"v":0.476,"d":"47.6%"}},null,"4."]
["     2100 Support Services - Students",null,"5.",null,null,{"$f":"SUMIFS('Accounting Data'!C2:C100000,'Accounting Data'!E2:E100000,\"010\",'Accounting Data'!I2:I100000,\"21??\",'Accounting Data'!J2:J100000,\"61??\")","v":{"v":0,"d":"0 "}},{"$f":"SUMIFS('Accounting Data'!C2:C100000,'Accounting Data'!E2:E100000,\"010\",'Accounting Data'!I2:I100000,\"21??\",'Accounting Data'!J2:J100000,\"62??\")","v":{"v":0,"d":"0 "}},{"$f":"SUM(SUMIFS('Accounting Data'!C2:C100000,'Accounting Data'!E2:E100000,\"010\",'Accounting Data'!I2:I100000,\"21??\",'Accounting Data'!J2:J100000,{\"63??\",\"64??\",\"65??\"}))","v":{"v":0,"d":"0 "}},{"$f":"SUMIFS('Accounting Data'!C2:C100000,'Accounting Data'!E2:E100000,\"010\",'Accounting Data'!I2:I100000,\"21??\",'Accounting Data'!J2:J100000,\"66??\")","v":{"v":0,"d":"0 "}},{"$f":"SUMIFS('Accounting Data'!C2:C100000,'Accounting Data'!E2:E100000,\"010\",'Accounting Data'!I2:I100000,\"21??\",'Accounting Data'!J2:J100000,\"67??\")","v":{"v":0,"d":"0 "}},{"$f":"SUMIFS('Accounting Data'!C2:C100000,'Accounting Data'!E2:E100000,\"010\",'Accounting Data'!I2:I100000,\"21??\",'Accounting Data'!J2:J100000,\"68??\")","v":{"v":0,"d":"0 "}},{"$f":"[1]!F010F2100","v":{"v":0,"d":"0 "}},{"v":0,"d":"0 "},{"$f":"[2]!F010F2100","v":{"v":0,"d":"0 "}},{"$f":"IF(M13=N13,0,IF(N13>0,(M13-N13)/N13,\"--\"))","v":{"v":0,"d":"0.0%"}},null,"5."]
["     2200 Support Services - Instructional Staff",null,"6.",null,null,{"$f":"SUMIFS('Accounting Data'!C2:C100000,'Accounting Data'!E2:E100000,\"010\",'Accounting Data'!I2:I100000,\"22??\",'Accounting Data'!J2:J100000,\"61??\")","v":{"v":0,"d":"0 "}},{"$f":"SUMIFS('Accounting Data'!C2:C100000,'Accounting Data'!E2:E100000,\"010\",'Accounting Data'!I2:I100000,\"22??\",'Accounting Data'!J2:J100000,\"62??\")","v":{"v":0,"d":"0 "}},{"$f":"SUM(SUMIFS('Accounting Data'!C2:C100000,'Accounting Data'!E2:E100000,\"010\",'Accounting Data'!I2:I100000,\"22??\",'Accounting Data'!J2:J100000,{\"63??\",\"64??\",\"65??\"}))","v":{"v":0,"d":"0 "}},{"$f":"SUMIFS('Accounting Data'!C2:C100000,'Accounting Data'!E2:E100000,\"010\",'Accounting Data'!I2:I100000,\"22??\",'Accounting Data'!J2:J100000,\"66??\")","v":{"v":0,"d":"0 "}},null,{"$f":"SUMIFS('Accounting Data'!C2:C100000,'Accounting Data'!E2:E100000,\"010\",'Accounting Data'!I2:I100000,\"22??\",'Accounting Data'!J2:J100000,\"68??\")","v":{"v":0,"d":"0 "}},{"$f":"[1]!F010F2200","v":{"v":0,"d":"0 "}},{"v":0,"d":"0 "},{"$f":"[2]!F010F2200","v":{"v":0,"d":"0 "}},{"v":0,"d":"0.0%"},null,"6."]
["     2300 Support Services - General Administration",null,"7.",{"$nulls":4},{"$f":"SUMIFS('Accounting Data'!C2:C100000,'Accounting Data'!E2:E100000,\"010\",'Accounting Data'!I2:I100000,\"23??\",'Accounting Data'!J2:J100000,\"652?\")","v":{"v":0,"d":"0 "}},{"$nulls":3},{"$f":"[1]!F010F2310","v":{"v":0,"d":"0 "}},{"v":0,"d":"0 "},{"$f":"[2]!F010F2300","v":{"v":0,"d":"0 "}},{"v":0,"d":"0.0%"},null,"7."]
["     2500 Central Services",null,"8.",{"$nulls":7},{"$f":"SUMIFS('Accounting Data'!C2:C100000,'Accounting Data'!E2:E100000,\"010\",'Accounting Data'!I2:I100000,\"25??\",'Accounting Data'!J2:J100000,\"68??\")","v":{"v":0,"d":"0 "}},{"$f":"[1]!F010F2510","v":{"v":0,"d":"0 "}},{"v":0,"d":"0 "},{"$f":"[2]!F010F2500","v":{"v":0,"d":"0 "}},{"v":0,"d":"0.0%"},null,"8."]
["     3300 Community Services Operations ",null,"9.",null,null,{"$f":"SUMIFS('Accounting Data'!C2:C100000,'Accounting Data'!E2:E100000,\"010\",'Accounting Data'!I2:I100000,\"33??\",'Accounting Data'!J2:J100000,\"61??\")","v":{"v":0,"d":"0 "}},{"$f":"SUMIFS('Accounting Data'!C2:C100000,'Accounting Data'!E2:E100000,\"010\",'Accounting Data'!I2:I100000,\"33??\",'Accounting Data'!J2:J100000,\"62??\")","v":{"v":0,"d":"0 "}},{"$f":"SUM(SUMIFS('Accounting Data'!C2:C100000,'Accounting Data'!E2:E100000,\"010\",'Accounting Data'!I2:I100000,\"33??\",'Accounting Data'!J2:J100000,{\"63??\",\"64??\",\"65??\"}))","v":{"v":0,"d":"0 "}},{"$nulls":3},{"$f":"[1]!F010F3300","v":{"v":0,"d":"0 "}},{"v":0,"d":"0 "},{"$f":"[2]!F010F3300","v":{"v":0,"d":"0 "}},{"v":0,"d":"0.0%"},null,"9."]
["     4000 Facilities Acquisition and Construction",null,"10.",{"$nulls":6},{"$f":"SUMIFS('Accounting Data'!C2:C100000,'Accounting Data'!E2:E100000,\"010\",'Accounting Data'!I2:I100000,\"4???\",'Accounting Data'!J2:J100000,\"67??\")","v":{"v":0,"d":"0 "}},null,{"$f":"[1]!F010F4000","v":{"v":0,"d":"0 "}},{"v":0,"d":"0 "},{"$f":"[2]!F010F4000","v":{"v":0,"d":"0 "}},{"v":0,"d":"0.0%"},null,"10."]
["     5000 Debt Service ",null,"11.",{"$nulls":7},{"$f":"SUMIFS('Accounting Data'!C2:C100000,'Accounting Data'!E2:E100000,\"010\",'Accounting Data'!I2:I100000,\"5???\",'Accounting Data'!J2:J100000,\"68??\")","v":{"v":0,"d":"0 "}},{"$f":"[1]!F010F5000","v":{"v":0,"d":"0 "}},{"v":0,"d":"0 "},{"$f":"[2]!F010F5000","v":{"v":0,"d":"0 "}},{"v":0,"d":"0.0%"},null,"11."]
["Total Expenditures (lines 4-11)",null,"12.",null,null,{"$f":"SUM(F12:F19)","v":{"v":29931,"d":"29,931 "}},{"v":5924,"d":"5,924 "},{"v":0,"d":"0 "},{"v":0,"d":"0 "},{"v":0,"d":"0 "},{"v":0,"d":"0 "},{"$f":"[1]!F010TotalExp","v":{"v":89987,"d":"89,987 "}},{"v":35855,"d":"35,855 "},{"$f":"[2]!F010TotActExp","v":{"v":24297,"d":"24,297 "}},{"v":0.476,"d":"47.6%"},null,"12."]
["Total Classroom Site Fund",null,"13.",{"$f":"'Accounting Data'!R3","v":{"v":15758,"d":"15,758 "}},{"$f":"E10","v":{"v":34558,"d":"34,558 "}},{"$f":"F20","v":{"v":29931,"d":"29,931 "}},{"$f":"G20","v":{"v":5924,"d":"5,924 "}},{"v":0,"d":"0 "},{"v":0,"d":"0 "},{"v":0,"d":"0 "},{"v":0,"d":"0 "},{"v":89987,"d":"89,987 "},{"v":35855,"d":"35,855 "},{"$f":"N20","v":{"v":24297,"d":"24,297 "}},{"$f":"IF(M21=N21,0,IF(N21>0,(M21-N21)/N21,\"--\"))","v":{"v":0.476,"d":"47.6%"}},{"$f":"D21+E21-M21","v":{"v":14461,"d":"14,461 "}},"13."]

{"sheet":"Page 4","index":4,"n_rows":56,"n_cols":28,"rows_kept":56,"merged":[[0,1,0,4],[0,6,0,8],[0,11,0,12],[1,0,1,12],[2,0,2,12],[3,5,5,5],[3,10,3,12],[5,8,6,8],[8,3,9,3],[8,4,9,4],[8,5,9,5],[8,6,9,6],[8,7,9,7],[8,8,9,8],[8,9,9,9],[8,10,9,10],[8,11,9,11],[8,12,9,12],[8,13,9,13],[10,3,11,3],[10,4,11,4],[10,5,11,5],[10,6,11,6],[10,7,11,7],[10,8,11,8],[10,9,11,9],[10,10,11,10],[10,11,11,11],[10,12,11,12],[10,13,11,13],[22,0,22,8],[24,3,24,4],[24,5,24,6],[24,7,24,8],[24,9,24,10],[25,0,25,1],[25,3,25,4],[25,5,25,6],[25,7,25,8],[25,9,25,10],[46,5,46,7],[47,5,47,7],[51,7,52,7]]}
["DISTRICT NAME",{"$f":"CoverDistrictName","v":"Double Adobe Elementary School "},{"$nulls":3},"COUNTY",{"$f":"County","v":"Cochise"},{"$nulls":3},"CTDS NUMBER",{"$f":"Cover!Q1","v":"020345000"}]
["UNRESTRICTED CAPITAL OUTLAY (610) FUND—EXPENDITURES"]
[]
[{"$nulls":4},"Library Books,","Short-term Noninstructional Software Subscription",{"$nulls":4},"Totals",null,null,"%"]
[{"$nulls":4}," Textbooks, & ",null,null,"Redemption of ","Interest","All Other ",{"$nulls":3},"Increase/"]
["Expenditures",null,null,"Rentals","Instructional Aids",null,"Property","Principal","6841, 6842, 6843,  6850","Object Codes","Budget","Actual","Prior Year Actual","Decrease"]
[{"$nulls":3},6440,"6641-6643","6655",6700,"6831, 6832, 6833",null,"(excluding 6900)",{"$nulls":3},"in Actual",{"$nulls":13},{"$f":"IF(OR(AB8=\"yes\",AA42=\"yes\",AA50=\"yes\"),\"yes\",\"\")","v":""}]
["Unrestricted Capital Outlay Override  (1)",null,"1.",{"v":0,"d":"0 "},{"v":0,"d":"0 "},{"v":0,"d":"0 "},{"v":0,"d":"0 "},{"v":0,"d":"0 "},{"v":0,"d":"0 "},{"v":0,"d":"0 "},{"$f":"[1]!F610Override","v":{"v":0,"d":"0 "}},{"$f":"SUM(D8:J8)","v":{"v":0,"d":"0 "}},{"$f":"[2]!F610override","v":{"v":0,"d":"0 "}},{"$f":"IF(L8=M8,0,IF(M8>0,(L8-M8)/M8,\"--\"))","v":{"v":0,"d":"0.0%"}},"1.",{"$nulls":12},{"$f":"IF(OR(D8=\"\",E8=\"\",G8=\"\",H8=\"\",I8=\"\",J8=\"\",K22=\"\"),\"yes\",\"\")","v":""}]
["Unrestricted Capital Outlay Fund 610  (2)",null,null,{"$f":"SUMIFS('Accounting Data'!C2:C100000,'Accounting Data'!E2:E100000,\"610\",'Accounting Data'!I2:I100000,\"1???\",'Accounting Data'!J2:J100000,\"644?\")","v":{"v":0,"d":"0 "}},{"$f":"SUMIFS('Accounting Data'!C2:C100000,'Accounting Data'!E2:E100000,\"610\",'Accounting Data'!I2:I100000,\"1???\",'Accounting Data'!J2:J100000,\"6641\")+SUMIFS('Accounting Data'!C2:C100000,'Accounting Data'!E2:E100000,\"610\",'Accounting Data'!I2:I100000,\"1???\",'Accounting Data'!J2:J100000,\"6642\")+SUMIFS('Accounting Data'!C2:C100000,'Accounting Data'!E2:E100000,\"610\",'Accounting Data'!I2:I100000,\"1???\",'Accounting Data'!J2:J100000,\"6643\")","v":{"v":4757,"d":"4,757 "}},null,{"$f":"SUMIFS('Accounting Data'!C2:C100000,'Accounting Data'!E2:E100000,\"610\",'Accounting Data'!I2:I100000,\"1???\",'Accounting Data'!J2:J100000,\"67??\")","v":{"v":7378,"d":"7,378 "}},null,null,{"$f":"SUMIFS('Accounting Data'!C2:C100000,'Accounting Data'!E2:E100000,\"610\",'Accounting Data'!I2:I100000,\"1???\",'Accounting Data'!J2:J100000,\"6???\")-SUMIFS('Accounting Data'!C2:C100000,'Accounting Data'!E2:E100000,\"610\",'Accounting Data'!I2:I100000,\"1???\",'Accounting Data'!J2:J100000,\"69??\")-D9-E9-G9","v":{"v":2977,"d":"2,977 "}},{"$f":"[1]!F610F1000","v":{"v":97464,"d":"97,464 "}},{"$f":"D9+E9+G9+J9","v":{"v":15112,"d":"15,112 "}},{"$f":"[2]!F610F1000","v":{"v":759,"d":"759 "}},{"$f":"IF(L9=M9,0,IF(M9>0,(L9-M9)/M9,\"--\"))","v":{"v":18.91,"d":"1891.0%"}}]
["        1000   Instruction",null,"2.",{"$nulls":11},"2."]
["        2000  Support Services",null,null,{"$f":"SUMIFS('Accounting Data'!C2:C100000,'Accounting Data'!E2:E100000,\"610\",'Accounting Data'!I2:I100000,\"21??\",'Accounting Data'!J2:J100000,\"644?\")+SUMIFS('Accounting Data'!C2:C100000,'Accounting Data'!E2:E100000,\"610\",'Accounting Data'!I2:I100000,\"22??\",'Accounting Data'!J2:J100000,\"644?\")","v":{"v":0,"d":"0 "}},{"$f":"SUMIFS('Accounting Data'!C2:C100000,'Accounting Data'!E2:E100000,\"610\",'Accounting Data'!I2:I100000,\"21??\",'Accounting Data'!J2:J100000,\"6641\")+SUMIFS('Accounting Data'!C2:C100000,'Accounting Data'!E2:E100000,\"610\",'Accounting Data'!I2:I100000,\"21??\",'Accounting Data'!J2:J100000,\"6642\")+SUMIFS('Accounting Data'!C2:C100000,'Accounting Data'!E2:E100000,\"610\",'Accounting Data'!I2:I100000,\"21??\",'Accounting Data'!J2:J100000,\"6643\")+SUMIFS('Accounting Data'!C2:C100000,'Accounting Data'!E2:E100000,\"610\",'Accounting Data'!I2:I100000,\"22??\",'Accounting Data'!J2:J100000,\"6641\")+SUMIFS('Accounting Data'!C2:C100000,'Accounting Data'!E2:E100000,\"610\",'Accounting Data'!I2:I100000,\"22??\",'Accounting Data'!J2:J100000,\"6642\")+SUMIFS('Accounting Data'!C2:C100000,'Accounting Data'!E2:E100000,\"610\",'Accounting Data'!I2:I100000,\"22??\",'Accounting Data'!J2:J100000,\"6643\")","v":{"v":0,"d":"0 "}},{"$f":"SUM(SUMIFS('Accounting Data'!C2:C100000,'Accounting Data'!E2:E100000,\"610\",'Accounting Data'!I2:I100000,{\"21??\",\"22??\"},'Accounting Data'!J2:J100000,\"6655\"))","v":{"v":0,"d":"0 "}},{"$f":"SUMIFS('Accounting Data'!C2:C100000,'Accounting Data'!E2:E100000,\"610\",'Accounting Data'!I2:I100000,\"21??\",'Accounting Data'!J2:J100000,\"67??\")+SUMIFS('Accounting Data'!C2:C100000,'Accounting Data'!E2:E100000,\"610\",'Accounting Data'!I2:I100000,\"22??\",'Accounting Data'!J2:J100000,\"67??\")","v":{"v":0,"d":"0 "}},null,null,{"$f":"(SUMIFS('Accounting Data'!C2:C100000,'Accounting Data'!E2:E100000,\"610\",'Accounting Data'!I2:I100000,\"21??\",'Accounting Data'!J2:J100000,\"6???\")+SUMIFS('Accounting Data'!C2:C100000,'Accounting Data'!E2:E100000,\"610\",'Accounting Data'!I2:I100000,\"22??\",'Accounting Data'!J2:J100000,\"6???\"))-(SUMIFS('Accounting Data'!C2:C100000,'Accounting Data'!E2:E100000,\"610\",'Accounting Data'!I2:I100000,\"21??\",'Accounting Data'!J2:J100000,\"69??\")+SUMIFS('Accounting Data'!C2:C100000,'Accounting Data'!E2:E100000,\"610\",'Accounting Data'!I2:I100000,\"22??\",'Accounting Data'!J2:J100000,\"69??\"))-D11-E11-G11-F11","v":{"v":0,"d":"0 "}},{"$f":"[1]!F610F21002200","v":{"v":76857,"d":"76,857 "}},{"$f":"SUM(D12:G12)+J12","v":{"v":0,"d":"0 "}},{"$f":"[2]!F610F21002200","v":{"v":0,"d":"0 "}},{"$f":"IF(L11=M11,0,IF(M11>0,(L11-M11)/M11,\"--\"))","v":{"v":0,"d":"0.0%"}}]
["            2100, 2200  Students and Instructional Staff",null,"3.",{"$nulls":11},"3."]
["            2300, 2400, 2500, 2900  Administration",null,"4.",{"$f":"SUMIFS('Accounting Data'!C2:C100000,'Accounting Data'!E2:E100000,\"610\",'Accounting Data'!I2:I100000,\"23??\",'Accounting Data'!J2:J100000,\"644?\")+SUMIFS('Accounting Data'!C2:C100000,'Accounting Data'!E2:E100000,\"610\",'Accounting Data'!I2:I100000,\"24??\",'Accounting Data'!J2:J100000,\"644?\")+SUMIFS('Accounting Data'!C2:C100000,'Accounting Data'!E2:E100000,\"610\",'Accounting Data'!I2:I100000,\"25??\",'Accounting Data'!J2:J100000,\"644?\")+SUMIFS('Accounting Data'!C2:C100000,'Accounting Data'!E2:E100000,\"610\",'Accounting Data'!I2:I100000,\"29??\",'Accounting Data'!J2:J100000,\"644?\")","v":{"v":0,"d":"0 "}},null,{"$f":"SUM(SUMIFS('Accounting Data'!C2:C100000,'Accounting Data'!E2:E100000,\"610\",'Accounting Data'!I2:I100000,{\"23??\",\"24??\",\"25??\",\"29??\"},'Accounting Data'!J2:J100000,\"6655\"))","v":{"v":0,"d":"0 "}},{"$f":"SUMIFS('Accounting Data'!C2:C100000,'Accounting Data'!E2:E100000,\"610\",'Accounting Data'!I2:I100000,\"23??\",'Accounting Data'!J2:J100000,\"67??\")+SUMIFS('Accounting Data'!C2:C100000,'Accounting Data'!E2:E100000,\"610\",'Accounting Data'!I2:I100000,\"24??\",'Accounting Data'!J2:J100000,\"67??\")+SUMIFS('Accounting Data'!C2:C100000,'Accounting Data'!E2:E100000,\"610\",'Accounting Data'!I2:I100000,\"25??\",'Accounting Data'!J2:J100000,\"67??\")+SUMIFS('Accounting Data'!C2:C100000,'Accounting Data'!E2:E100000,\"610\",'Accounting Data'!I2:I100000,\"29??\",'Accounting Data'!J2:J100000,\"67??\")","v":{"v":0,"d":"0 "}},null,{"$f":"SUMIFS('Accounting Data'!C2:C100000,'Accounting Data'!E2:E100000,\"610\",'Accounting Data'!I2:I100000,\"25??\",'Accounting Data'!J2:J100000,\"6850\")","v":{"v":0,"d":"0 "}},{"$f":"(SUMIFS('Accounting Data'!C2:C100000,'Accounting Data'!E2:E100000,\"610\",'Accounting Data'!I2:I100000,\"23??\",'Accounting Data'!J2:J100000,\"6???\")+SUMIFS('Accounting Data'!C2:C100000,'Accounting Data'!E2:E100000,\"610\",'Accounting Data'!I2:I100000,\"24??\",'Accounting Data'!J2:J100000,\"6???\")+SUMIFS('Accounting Data'!C2:C100000,'Accounting Data'!E2:E100000,\"610\",'Accounting Data'!I2:I100000,\"25??\",'Accounting Data'!J2:J100000,\"6???\")+SUMIFS('Accounting Data'!C2:C100000,'Accounting Data'!E2:E100000,\"610\",'Accounting Data'!I2:I100000,\"29??\",'Accounting Data'!J2:J100000,\"6???\"))-(SUMIFS('Accounting Data'!C2:C100000,'Accounting Data'!E2:E100000,\"610\",'Accounting Data'!I2:I100000,\"23??\",'Accounting Data'!J2:J100000,\"69??\")+SUMIFS('Accounting Data'!C2:C100000,'Accounting Data'!E2:E100000,\"610\",'Accounting Data'!I2:I100000,\"24??\",'Accounting Data'!J2:J100000,\"69??\")+SUMIFS('Accounting Data'!C2:C100000,'Accounting Data'!E2:E100000,\"610\",'Accounting Data'!I2:I100000,\"25??\",'Accounting Data'!J2:J100000,\"69??\")+SUMIFS('Accounting Data'!C2:C100000,'Accounting Data'!E2:E100000,\"610\",'Accounting Data'!I2:I100000,\"29??\",'Accounting Data'!J2:J100000,\"69??\"))-D13-G13-I13-F13","v":{"v":0,"d":"0 "}},{"$f":"[1]!F610F2300240025002900","v":{"v":57023,"d":"57,023 "}},{"$f":"D13+F13+G13+SUM(I13:J13)","v":{"v":0,"d":"0 "}},{"$f":"[2]!F610F2300240025002900","v":{"v":0,"d":"0 "}},{"$f":"IF(L13=M13,0,IF(M13>0,(L13-M13)/M13,\"--\"))","v":{"v":0,"d":"0.0%"}},"4."]
["            2600  Operation & Maintenance of Plant",null,"5.",{"$f":"SUMIFS('Accounting Data'!C2:C100000,'Accounting Data'!E2:E100000,\"610\",'Accounting Data'!I2:I100000,\"26??\",'Accounting Data'!J2:J100000,\"644?\")","v":{"v":0,"d":"0 "}},null,{"$f":"SUM(SUMIFS('Accounting Data'!C2:C100000,'Accounting Data'!E2:E100000,\"610\",'Accounting Data'!I2:I100000,\"26??\",'Accounting Data'!J2:J100000,\"6655\"))","v":{"v":0,"d":"0 "}},{"$f":"SUMIFS('Accounting Data'!C2:C100000,'Accounting Data'!E2:E100000,\"610\",'Accounting Data'!I2:I100000,\"26??\",'Accounting Data'!J2:J100000,\"67??\")","v":{"v":3229,"d":"3,229 "}},null,null,{"$f":"SUMIFS('Accounting Data'!C2:C100000,'Accounting Data'!E2:E100000,\"610\",'Accounting Data'!I2:I100000,\"26??\",'Accounting Data'!J2:J100000,\"6???\")-SUMIFS('Accounting Data'!C2:C100000,'Accounting Data'!E2:E100000,\"610\",'Accounting Data'!I2:I100000,\"26??\",'Accounting Data'!J2:J100000,\"69??\")-D14-G14-F14","v":{"v":0,"d":"0 "}},{"$f":"[1]!F610F2600","v":{"v":50000,"d":"50,000 "}},{"$f":"D14+G14+J14+F14","v":{"v":3229,"d":"3,229 "}},{"$f":"[2]!F610F2600","v":{"v":0,"d":"0 "}},{"$f":"IF(L14=M14,0,IF(M14>0,(L14-M14)/M14,\"--\"))","v":"--"},"5."]
["            2700  Student Transportation",null,"6.",{"$f":"SUMIFS('Accounting Data'!C2:C100000,'Accounting Data'!E2:E100000,\"610\",'Accounting Data'!I2:I100000,\"27??\",'Accounting Data'!J2:J100000,\"644?\")","v":{"v":0,"d":"0 "}},null,{"$f":"SUM(SUMIFS('Accounting Data'!C2:C100000,'Accounting Data'!E2:E100000,\"610\",'Accounting Data'!I2:I100000,\"27??\",'Accounting Data'!J2:J100000,\"6655\"))","v":{"v":0,"d":"0 "}},{"$f":"SUMIFS('Accounting Data'!C2:C100000,'Accounting Data'!E2:E100000,\"610\",'Accounting Data'!I2:I100000,\"27??\",'Accounting Data'!J2:J100000,\"67??\")","v":{"v":837,"d":"837 "}},null,null,{"$f":"SUMIFS('Accounting Data'!C2:C100000,'Accounting Data'!E2:E100000,\"610\",'Accounting Data'!I2:I100000,\"27??\",'Accounting Data'!J2:J100000,\"6???\")-SUMIFS('Accounting Data'!C2:C100000,'Accounting Data'!E2:E100000,\"610\",'Accounting Data'!I2:I100000,\"27??\",'Accounting Data'!J2:J100000,\"69??\")-D15-G15-F15","v":{"v":0,"d":"0 "}},{"$f":"[1]!F610F2700","v":{"v":85000,"d":"85,000 "}},{"$f":"D15+G15+J15+F15","v":{"v":837,"d":"837 "}},{"$f":"[2]!F610F2700","v":{"v":0,"d":"0 "}},"--","6."]
["        3000  Operation of Noninstructional Services",null,"7.",{"$f":"SUMIFS('Accounting Data'!C2:C100000,'Accounting Data'!E2:E100000,\"610\",'Accounting Data'!I2:I100000,\"3???\",'Accounting Data'!J2:J100000,\"644?\")","v":{"v":0,"d":"0 "}},null,{"$f":"SUM(SUMIFS('Accounting Data'!C2:C100000,'Accounting Data'!E2:E100000,\"610\",'Accounting Data'!I2:I100000,\"3???\",'Accounting Data'!J2:J100000,\"6655\"))","v":{"v":0,"d":"0 "}},{"$f":"SUMIFS('Accounting Data'!C2:C100000,'Accounting Data'!E2:E100000,\"610\",'Accounting Data'!I2:I100000,\"3???\",'Accounting Data'!J2:J100000,\"67??\")","v":{"v":0,"d":"0 "}},null,null,{"$f":"SUMIFS('Accounting Data'!C2:C100000,'Accounting Data'!E2:E100000,\"610\",'Accounting Data'!I2:I100000,\"3???\",'Accounting Data'!J2:J100000,\"6???\")-SUMIFS('Accounting Data'!C2:C100000,'Accounting Data'!E2:E100000,\"610\",'Accounting Data'!I2:I100000,\"3???\",'Accounting Data'!J2:J100000,\"69??\")-D16-G16-F16","v":{"v":0,"d":"0 "}},{"$f":"[1]!F610F3000","v":{"v":0,"d":"0 "}},{"$f":"D16+G16+J16+F16","v":{"v":0,"d":"0 "}},{"$f":"[2]!F610F3000","v":{"v":0,"d":"0 "}},{"v":0,"d":"0.0%"},"7."]
["        4000  Facilities Acquisition and Construction",null,"8.",{"$f":"SUMIFS('Accounting Data'!C2:C100000,'Accounting Data'!E2:E100000,\"610\",'Accounting Data'!I2:I100000,\"4???\",'Accounting Data'!J2:J100000,\"644?\")","v":{"v":0,"d":"0 "}},null,{"$f":"SUM(SUMIFS('Accounting Data'!C2:C100000,'Accounting Data'!E2:E100000,\"610\",'Accounting Data'!I2:I100000,\"4???\",'Accounting Data'!J2:J100000,\"6655\"))","v":{"v":0,"d":"0 "}},{"$f":"SUMIFS('Accounting Data'!C2:C100000,'Accounting Data'!E2:E100000,\"610\",'Accounting Data'!I2:I100000,\"4???\",'Accounting Data'!J2:J100000,\"67??\")","v":{"v":0,"d":"0 "}},null,null,{"$f":"SUMIFS('Accounting Data'!C2:C100000,'Accounting Data'!E2:E100000,\"610\",'Accounting Data'!I2:I100000,\"4???\",'Accounting Data'!J2:J100000,\"6???\")-SUMIFS('Accounting Data'!C2:C100000,'Accounting Data'!E2:E100000,\"610\",'Accounting Data'!I2:I100000,\"4???\",'Accounting Data'!J2:J100000,\"69??\")-D17-G17-F17","v":{"v":0,"d":"0 "}},{"$f":"[1]!F610F4000","v":{"v":0,"d":"0 "}},{"$f":"D17+G17+J17+F17","v":{"v":0,"d":"0 "}},{"$f":"[2]!F610F4000","v":{"v":0,"d":"0 "}},{"v":0,"d":"0.0%"},"8."]
["        5000  Debt Service",null,"9.",{"$nulls":4},{"$f":"SUMIFS('Accounting Data'!C2:C100000,'Accounting Data'!E2:E100000,\"610\",'Accounting Data'!I2:I100000,\"5???\",'Accounting Data'!J2:J100000,\"6831\")+SUMIFS('Accounting Data'!C2:C100000,'Accounting Data'!E2:E100000,\"610\",'Accounting Data'!I2:I100000,\"5???\",'Accounting Data'!J2:J100000,\"6832\")+SUMIFS('Accounting Data'!C2:C100000,'Accounting Data'!E2:E100000,\"610\",'Accounting Data'!I2:I100000,\"5???\",'Accounting Data'!J2:J100000,\"6833\")","v":{"v":0,"d":"0 "}},{"$f":"SUMIFS('Accounting Data'!C2:C100000,'Accounting Data'!E2:E100000,\"610\",'Accounting Data'!I2:I100000,\"5???\",'Accounting Data'!J2:J100000,\"6841\")+SUMIFS('Accounting Data'!C2:C100000,'Accounting Data'!E2:E100000,\"610\",'Accounting Data'!I2:I100000,\"5???\",'Accounting Data'!J2:J100000,\"6842\")+SUMIFS('Accounting Data'!C2:C100000,'Accounting Data'!E2:E100000,\"610\",'Accounting Data'!I2:I100000,\"5???\",'Accounting Data'!J2:J100000,\"6843\")","v":{"v":0,"d":"0 "}},null,{"$f":"[1]!F610F5000","v":{"v":0,"d":"0 "}},{"$f":"SUM(H18:I18)","v":{"v":0,"d":"0 "}},{"$f":"[2]!F610F5000","v":{"v":0,"d":"0 "}},{"v":0,"d":"0.0%"},"9."]
["  Total Unrestricted Capital Outlay Fund (lines 2-9) ",null,"10.",{"$f":"D9+D11+SUM(D13:D17)","v":{"v":0,"d":"0 "}},{"$f":"E9+E11","v":{"v":4757,"d":"4,757 "}},{"$f":"SUM(F11:F17)","v":{"v":0,"d":"0 "}},{"$f":"G9+G11+SUM(G13:G17)","v":{"v":11444,"d":"11,444 "}},{"$f":"H18","v":{"v":0,"d":"0 "}},{"$f":"I13+I18","v":{"v":0,"d":"0 "}},{"$f":"J9+J11+SUM(J13:J17)","v":{"v":2977,"d":"2,977 "}},{"$f":"K9+K11+SUM(K13:K18)","v":{"v":366344,"d":"366,344 "}},{"$f":"L9+L11+SUM(L13:L18)","v":{"v":19178,"d":"19,178 "}},{"$f":"M9+M11+SUM(M13:M18)","v":{"v":759,"d":"759 "}},{"v":24.267,"d":"2426.7%"},"10."]
[]
["(1)  Amounts in the Unrestricted Capital Outlay Override, line 1 above, must also be included in the Unrestricted Capital Outlay Fund (610) individual line items."]
["(2)  Expenditures, if any, in the Unrestricted Capital Outlay Fund on lines 2-9 for the K-3 Reading Program as described in A.R.S. §15-211:",{"$nulls":6},"Budget",{"$f":"[1]!UCOFundK3ReadExp","v":{"v":0,"d":"0 "}},"Actual",{"v":0,"d":"0 "}]
["OTHER FUNDS—REQUIRED CAPITAL EXPENDITURE DETAIL [A.R.S. §15-904(B)] "]
[]
[{"$nulls":3},"UNRESTRICTED CAPITAL OUTLAY",null,"BOND BUILDING",null,"NEW SCHOOL FACILITIES",null,"ADJACENT WAYS"]
["Selected Expenditures by Object Code",null,null,"Fund 610",null,"Fund 630",null,"Fund 695",null,"Fund 620"]
[{"$nulls":3},"BUDGET","ACTUAL","BUDGET","ACTUAL","BUDGET","ACTUAL","BUDGET","ACTUAL"]
["Total Fund Expenditures",null,"1.",{"$f":"[1]!F610TotalBudgFY","v":{"v":366344,"d":"366,344 "}},{"$f":"SUMIFS('Accounting Data'!C2:C100000,'Accounting Data'!E2:E100000,\"610\",'Accounting Data'!J2:J100000,\"6???\")-SUMIFS('Accounting Data'!C2:C100000,'Accounting Data'!E2:E100000,\"610\",'Accounting Data'!J2:J100000,\"69??\")","v":{"v":19178,"d":"19,178 "}},{"$f":"[1]!F630TotalBudgFY","v":{"v":0,"d":"0 "}},{"$f":"SUMIFS('Accounting Data'!C2:C100000,'Accounting Data'!E2:E100000,\"630\",'Accounting Data'!J2:J100000,\"6???\")-SUMIFS('Accounting Data'!C2:C100000,'Accounting Data'!E2:E100000,\"630\",'Accounting Data'!J2:J100000,\"69??\")","v":{"v":0,"d":"0 "}},{"$f":"[1]!F695TotalBudgFY","v":{"v":0,"d":"0 "}},{"$f":"SUMIFS('Accounting Data'!C2:C100000,'Accounting Data'!E2:E100000,\"695\",'Accounting Data'!J2:J100000,\"6???\")-SUMIFS('Accounting Data'!C2:C100000,'Accounting Data'!E2:E100000,\"695\",'Accounting Data'!J2:J100000,\"69??\")","v":{"v":0,"d":"0 "}},{"$f":"[1]!F620TotalBudgFY","v":{"v":0,"d":"0 "}},{"$f":"SUMIFS('Accounting Data'!C2:C100000,'Accounting Data'!E2:E100000,\"620\",'Accounting Data'!J2:J100000,\"6???\")-SUMIFS('Accounting Data'!C2:C100000,'Accounting Data'!E2:E100000,\"620\",'Accounting Data'!J2:J100000,\"69??\")","v":{"v":0,"d":"0 "}},"1."]
["        6150 Classified Salaries",null,"2.",{"$f":"[1]!F610BudgFYO6150","v":{"v":0,"d":"0 "}},{"$f":"SUMIFS('Accounting Data'!C$2:C$100000,'Accounting Data'!E$2:E$100000,\"610\",'Accounting Data'!J$2:J$100000,\"615?\")+SUMIFS('Accounting Data'!C$2:C$100000,'Accounting Data'!E$2:E$100000,\"610\",'Accounting Data'!J$2:J$100000,\"616?\")+SUMIFS('Accounting Data'!C$2:C$100000,'Accounting Data'!E$2:E$100000,\"610\",'Accounting Data'!J$2:J$100000,\"617?\")+SUMIFS('Accounting Data'!C$2:C$100000,'Accounting Data'!E$2:E$100000,\"610\",'Accounting Data'!J$2:J$100000,\"618?\")+SUMIFS('Accounting Data'!C$2:C$100000,'Accounting Data'!E$2:E$100000,\"610\",'Accounting Data'!J$2:J$100000,\"619?\")","v":{"v":0,"d":"0 "}},{"$f":"[1]!F630BudgFYO6150","v":{"v":0,"d":"0 "}},{"$f":"SUMIFS('Accounting Data'!C$2:C$100000,'Accounting Data'!E$2:E$100000,\"630\",'Accounting Data'!J$2:J$100000,\"615?\")+SUMIFS('Accounting Data'!C$2:C$100000,'Accounting Data'!E$2:E$100000,\"630\",'Accounting Data'!J$2:J$100000,\"616?\")+SUMIFS('Accounting Data'!C$2:C$100000,'Accounting Data'!E$2:E$100000,\"630\",'Accounting Data'!J$2:J$100000,\"617?\")+SUMIFS('Accounting Data'!C$2:C$100000,'Accounting Data'!E$2:E$100000,\"630\",'Accounting Data'!J$2:J$100000,\"618?\")+SUMIFS('Accounting Data'!C$2:C$100000,'Accounting Data'!E$2:E$100000,\"630\",'Accounting Data'!J$2:J$100000,\"619?\")","v":{"v":0,"d":"0 "}},{"$f":"[1]!F695BudgFYO6150","v":{"v":0,"d":"0 "}},{"$f":"SUMIFS('Accounting Data'!C$2:C$100000,'Accounting Data'!E$2:E$100000,\"695\",'Accounting Data'!J$2:J$100000,\"615?\")+SUMIFS('Accounting Data'!C$2:C$100000,'Accounting Data'!E$2:E$100000,\"695\",'Accounting Data'!J$2:J$100000,\"616?\")+SUMIFS('Accounting Data'!C$2:C$100000,'Accounting Data'!E$2:E$100000,\"695\",'Accounting Data'!J$2:J$100000,\"617?\")+SUMIFS('Accounting Data'!C$2:C$100000,'Accounting Data'!E$2:E$100000,\"695\",'Accounting Data'!J$2:J$100000,\"618?\")+SUMIFS('Accounting Data'!C$2:C$100000,'Accounting Data'!E$2:E$100000,\"695\",'Accounting Data'!J$2:J$100000,\"619?\")","v":{"v":0,"d":"0 "}},{"$f":"[1]!F620BudgFYO6150","v":{"v":0,"d":"0 "}},{"$f":"SUMIFS('Accounting Data'!C$2:C$100000,'Accounting Data'!E$2:E$100000,\"620\",'Accounting Data'!J$2:J$100000,\"615?\")+SUMIFS('Accounting Data'!C$2:C$100000,'Accounting Data'!E$2:E$100000,\"620\",'Accounting Data'!J$2:J$100000,\"616?\")+SUMIFS('Accounting Data'!C$2:C$100000,'Accounting Data'!E$2:E$100000,\"620\",'Accounting Data'!J$2:J$100000,\"617?\")+SUMIFS('Accounting Data'!C$2:C$100000,'Accounting Data'!E$2:E$100000,\"620\",'Accounting Data'!J$2:J$100000,\"618?\")+SUMIFS('Accounting Data'!C$2:C$100000,'Accounting Data'!E$2:E$100000,\"620\",'Accounting Data'!J$2:J$100000,\"619?\")","v":{"v":0,"d":"0 "}},"2."]
["        6200 Employee Benefits",null,"3.",{"$f":"[1]!F610BudgFYO6200","v":{"v":0,"d":"0 "}},{"$f":"SUMIFS('Accounting Data'!C$2:C$100000,'Accounting Data'!E$2:E$100000,\"610\",'Accounting Data'!J$2:J$100000,\"62??\")","v":{"v":0,"d":"0 "}},{"$f":"[1]!F630BudgFYO6200","v":{"v":0,"d":"0 "}},{"$f":"SUMIFS('Accounting Data'!C$2:C$100000,'Accounting Data'!E$2:E$100000,\"630\",'Accounting Data'!J$2:J$100000,\"62??\")","v":{"v":0,"d":"0 "}},{"$f":"[1]!F695BudgFYO6200","v":{"v":0,"d":"0 "}},{"$f":"SUMIFS('Accounting Data'!C$2:C$100000,'Accounting Data'!E$2:E$100000,\"695\",'Accounting Data'!J$2:J$100000,\"62??\")","v":{"v":0,"d":"0 "}},{"$f":"[1]!F620BudgFYO6200","v":{"v":0,"d":"0 "}},{"$f":"SUMIFS('Accounting Data'!C$2:C$100000,'Accounting Data'!E$2:E$100000,\"620\",'Accounting Data'!J$2:J$100000,\"62??\")","v":{"v":0,"d":"0 "}},"3."]
["        6450 Construction Services",null,"4.",{"$f":"[1]!F610BudgFYO6450","v":{"v":0,"d":"0 "}},{"$f":"SUMIFS('Accounting Data'!C$2:C$100000,'Accounting Data'!E$2:E$100000,\"610\",'Accounting Data'!J$2:J$100000,\"645?\")","v":{"v":0,"d":"0 "}},{"$f":"[1]!F630BudgFYO6450","v":{"v":0,"d":"0 "}},{"$f":"SUMIFS('Accounting Data'!C$2:C$100000,'Accounting Data'!E$2:E$100000,\"630\",'Accounting Data'!J$2:J$100000,\"645?\")","v":{"v":0,"d":"0 "}},{"$f":"[1]!F695BudgFYO6450","v":{"v":0,"d":"0 "}},{"$f":"SUMIFS('Accounting Data'!C$2:C$100000,'Accounting Data'!E$2:E$100000,\"695\",'Accounting Data'!J$2:J$100000,\"645?\")","v":{"v":0,"d":"0 "}},{"$f":"[1]!F620BudgFYO6450","v":{"v":0,"d":"0 "}},{"$f":"SUMIFS('Accounting Data'!C$2:C$100000,'Accounting Data'!E$2:E$100000,\"620\",'Accounting Data'!J$2:J$100000,\"645?\")","v":{"v":0,"d":"0 "}},"4."]
["        6655 Short-term Noninstructional Software Subscription",null,"5.",null,{"$f":"SUMIFS('Accounting Data'!C$2:C$100000,'Accounting Data'!E$2:E$100000,\"610\",'Accounting Data'!J$2:J$100000,\"6655\")","v":{"v":0,"d":"0 "}},null,{"$f":"SUMIFS('Accounting Data'!C$2:C$100000,'Accounting Data'!E$2:E$100000,\"630\",'Accounting Data'!J$2:J$100000,\"6655\")","v":{"v":0,"d":"0 "}},null,{"$f":"SUMIFS('Accounting Data'!C$2:C$100000,'Accounting Data'!E$2:E$100000,\"695\",'Accounting Data'!J$2:J$100000,\"6655\")","v":{"v":0,"d":"0 "}},null,{"$f":"SUMIFS('Accounting Data'!C$2:C$100000,'Accounting Data'!E$2:E$100000,\"620\",'Accounting Data'!J$2:J$100000,\"6655\")","v":{"v":0,"d":"0 "}},"5."]
["        6710 Land and Improvements",null,"6.",{"$f":"[1]!F610BudgFYO6710","v":{"v":0,"d":"0 "}},{"$f":"SUMIFS('Accounting Data'!C$2:C$100000,'Accounting Data'!E$2:E$100000,\"610\",'Accounting Data'!J$2:J$100000,\"671?\")","v":{"v":0,"d":"0 "}},{"$f":"[1]!F630BudgFYO6710","v":{"v":0,"d":"0 "}},{"$f":"SUMIFS('Accounting Data'!C$2:C$100000,'Accounting Data'!E$2:E$100000,\"630\",'Accounting Data'!J$2:J$100000,\"671?\")","v":{"v":0,"d":"0 "}},{"$f":"[1]!F695BudgFYO6710","v":{"v":0,"d":"0 "}},{"$f":"SUMIFS('Accounting Data'!C$2:C$100000,'Accounting Data'!E$2:E$100000,\"695\",'Accounting Data'!J$2:J$100000,\"671?\")","v":{"v":0,"d":"0 "}},{"$f":"[1]!F620BudgFYO6710","v":{"v":0,"d":"0 "}},{"$f":"SUMIFS('Accounting Data'!C$2:C$100000,'Accounting Data'!E$2:E$100000,\"620\",'Accounting Data'!J$2:J$100000,\"671?\")","v":{"v":0,"d":"0 "}},"6."]
["        6720 Buildings and Improvements",null,"7.",{"$f":"[1]!F610BudgFYO6720","v":{"v":0,"d":"0 "}},{"$f":"SUMIFS('Accounting Data'!C$2:C$100000,'Accounting Data'!E$2:E$100000,\"610\",'Accounting Data'!J$2:J$100000,\"672?\")","v":{"v":0,"d":"0 "}},{"$f":"[1]!F630BudgFYO6720","v":{"v":0,"d":"0 "}},{"$f":"SUMIFS('Accounting Data'!C$2:C$100000,'Accounting Data'!E$2:E$100000,\"630\",'Accounting Data'!J$2:J$100000,\"672?\")","v":{"v":0,"d":"0 "}},{"$f":"[1]!F695BudgFYO6720","v":{"v":0,"d":"0 "}},{"$f":"SUMIFS('Accounting Data'!C$2:C$100000,'Accounting Data'!E$2:E$100000,\"695\",'Accounting Data'!J$2:J$100000,\"672?\")","v":{"v":0,"d":"0 "}},{"$f":"[1]!F620BudgFYO6720","v":{"v":0,"d":"0 "}},{"$f":"SUMIFS('Accounting Data'!C$2:C$100000,'Accounting Data'!E$2:E$100000,\"620\",'Accounting Data'!J$2:J$100000,\"672?\")","v":{"v":0,"d":"0 "}},"7."]
["        673X Furniture and Equipment",null,"8.",{"$f":"[1]!F610BudgFYO6731","v":{"v":19000,"d":"19,000 "}},{"$f":"SUMIFS('Accounting Data'!C2:C100000,'Accounting Data'!E2:E100000,\"610\",'Accounting Data'!J2:J100000,\"6731\")+SUMIFS('Accounting Data'!C2:C100000,'Accounting Data'!E2:E100000,\"610\",'Accounting Data'!J2:J100000,\"6732\")+SUMIFS('Accounting Data'!C2:C100000,'Accounting Data'!E2:E100000,\"610\",'Accounting Data'!J2:J100000,\"6733\")","v":{"v":7378,"d":"7,378 "}},{"$f":"[1]!F630BudgFYO6731","v":{"v":0,"d":"0 "}},{"$f":"SUMIFS('Accounting Data'!C2:C100000,'Accounting Data'!E2:E100000,\"630\",'Accounting Data'!J2:J100000,\"6731\")+SUMIFS('Accounting Data'!C2:C100000,'Accounting Data'!E2:E100000,\"630\",'Accounting Data'!J2:J100000,\"6732\")+SUMIFS('Accounting Data'!C2:C100000,'Accounting Data'!E2:E100000,\"630\",'Accounting Data'!J2:J100000,\"6733\")","v":{"v":0,"d":"0 "}},{"$f":"[1]!F695BudgFYO6731","v":{"v":0,"d":"0 "}},{"$f":"SUMIFS('Accounting Data'!C2:C100000,'Accounting Data'!E2:E100000,\"695\",'Accounting Data'!J2:J100000,\"6731\")+SUMIFS('Accounting Data'!C2:C100000,'Accounting Data'!E2:E100000,\"695\",'Accounting Data'!J2:J100000,\"6732\")+SUMIFS('Accounting Data'!C2:C100000,'Accounting Data'!E2:E100000,\"695\",'Accounting Data'!J2:J100000,\"6733\")","v":{"v":0,"d":"0 "}},{"$f":"[1]!F620BudgFYO6731","v":{"v":0,"d":"0 "}},{"$f":"SUMIFS('Accounting Data'!C2:C100000,'Accounting Data'!E2:E100000,\"620\",'Accounting Data'!J2:J100000,\"6731\")+SUMIFS('Accounting Data'!C2:C100000,'Accounting Data'!E2:E100000,\"620\",'Accounting Data'!J2:J100000,\"6732\")+SUMIFS('Accounting Data'!C2:C100000,'Accounting Data'!E2:E100000,\"620\",'Accounting Data'!J2:J100000,\"6733\")","v":{"v":0,"d":"0 "}},"8."]
["        673X Vehicles ",null,"9.",{"$f":"[1]!F610BudgFYO6734","v":{"v":76584,"d":"76,584 "}},{"$f":"SUMIFS('Accounting Data'!C2:C100000,'Accounting Data'!E2:E100000,\"610\",'Accounting Data'!J2:J100000,\"6734\")+SUMIFS('Accounting Data'!C2:C100000,'Accounting Data'!E2:E100000,\"610\",'Accounting Data'!J2:J100000,\"6735\")+SUMIFS('Accounting Data'!C2:C100000,'Accounting Data'!E2:E100000,\"610\",'Accounting Data'!J2:J100000,\"6736\")","v":{"v":4067,"d":"4,067 "}},{"$f":"[1]!F630BudgFYO6734","v":{"v":0,"d":"0 "}},{"$f":"SUMIFS('Accounting Data'!C2:C100000,'Accounting Data'!E2:E100000,\"630\",'Accounting Data'!J2:J100000,\"6734\")+SUMIFS('Accounting Data'!C2:C100000,'Accounting Data'!E2:E100000,\"630\",'Accounting Data'!J2:J100000,\"6735\")+SUMIFS('Accounting Data'!C2:C100000,'Accounting Data'!E2:E100000,\"630\",'Accounting Data'!J2:J100000,\"6736\")","v":{"v":0,"d":"0 "}},{"$f":"[1]!F695BudgFYO6734","v":{"v":0,"d":"0 "}},{"$f":"SUMIFS('Accounting Data'!C2:C100000,'Accounting Data'!E2:E100000,\"695\",'Accounting Data'!J2:J100000,\"6734\")+SUMIFS('Accounting Data'!C2:C100000,'Accounting Data'!E2:E100000,\"695\",'Accounting Data'!J2:J100000,\"6735\")+SUMIFS('Accounting Data'!C2:C100000,'Accounting Data'!E2:E100000,\"695\",'Accounting Data'!J2:J100000,\"6736\")","v":{"v":0,"d":"0 "}},{"$f":"[1]!F620BudgFYO6734","v":{"v":0,"d":"0 "}},{"$f":"SUMIFS('Accounting Data'!C2:C100000,'Accounting Data'!E2:E100000,\"620\",'Accounting Data'!J2:J100000,\"6734\")+SUMIFS('Accounting Data'!C2:C100000,'Accounting Data'!E2:E100000,\"620\",'Accounting Data'!J2:J100000,\"6735\")+SUMIFS('Accounting Data'!C2:C100000,'Accounting Data'!E2:E100000,\"620\",'Accounting Data'!J2:J100000,\"6736\")","v":{"v":0,"d":"0 "}},"9."]
["        673X Technology-Related Hardware and Software",null,"10.",{"$f":"[1]!F610BudgFYO6737","v":{"v":40000,"d":"40,000 "}},{"$f":"SUMIFS('Accounting Data'!C2:C100000,'Accounting Data'!E2:E100000,\"610\",'Accounting Data'!J2:J100000,\"6737\")+SUMIFS('Accounting Data'!C2:C100000,'Accounting Data'!E2:E100000,\"610\",'Accounting Data'!J2:J100000,\"6738\")+SUMIFS('Accounting Data'!C2:C100000,'Accounting Data'!E2:E100000,\"610\",'Accounting Data'!J2:J100000,\"6739\")","v":{"v":0,"d":"0 "}},{"$f":"[1]!F630BudgFYO6737","v":{"v":0,"d":"0 "}},{"$f":"SUMIFS('Accounting Data'!C2:C100000,'Accounting Data'!E2:E100000,\"630\",'Accounting Data'!J2:J100000,\"6737\")+SUMIFS('Accounting Data'!C2:C100000,'Accounting Data'!E2:E100000,\"630\",'Accounting Data'!J2:J100000,\"6738\")+SUMIFS('Accounting Data'!C2:C100000,'Accounting Data'!E2:E100000,\"630\",'Accounting Data'!J2:J100000,\"6739\")","v":{"v":0,"d":"0 "}},{"$f":"[1]!F695BudgFYO6737","v":{"v":0,"d":"0 "}},{"$f":"SUMIFS('Accounting Data'!C2:C100000,'Accounting Data'!E2:E100000,\"695\",'Accounting Data'!J2:J100000,\"6737\")+SUMIFS('Accounting Data'!C2:C100000,'Accounting Data'!E2:E100000,\"695\",'Accounting Data'!J2:J100000,\"6738\")+SUMIFS('Accounting Data'!C2:C100000,'Accounting Data'!E2:E100000,\"695\",'Accounting Data'!J2:J100000,\"6739\")","v":{"v":0,"d":"0 "}},{"$f":"[1]!F620BudgFYO6737","v":{"v":0,"d":"0 "}},{"$f":"SUMIFS('Accounting Data'!C2:C100000,'Accounting Data'!E2:E100000,\"620\",'Accounting Data'!J2:J100000,\"6737\")+SUMIFS('Accounting Data'!C2:C100000,'Accounting Data'!E2:E100000,\"620\",'Accounting Data'!J2:J100000,\"6738\")+SUMIFS('Accounting Data'!C2:C100000,'Accounting Data'!E2:E100000,\"620\",'Accounting Data'!J2:J100000,\"6739\")","v":{"v":0,"d":"0 "}},"10."]
["        6831, 6832, 6833 Redemption of Principal",null,"11.",{"$f":"[1]!F610BudgFYO6831","v":{"v":0,"d":"0 "}},{"$f":"SUMIFS('Accounting Data'!C2:C100000,'Accounting Data'!E2:E100000,\"610\",'Accounting Data'!J2:J100000,\"6831\")+SUMIFS('Accounting Data'!C2:C100000,'Accounting Data'!E2:E100000,\"610\",'Accounting Data'!J2:J100000,\"6832\")+SUMIFS('Accounting Data'!C2:C100000,'Accounting Data'!E2:E100000,\"610\",'Accounting Data'!J2:J100000,\"6833\")","v":{"v":0,"d":"0 "}},{"$f":"[1]!F630BudgFYO6831","v":{"v":0,"d":"0 "}},{"$f":"SUMIFS('Accounting Data'!C2:C100000,'Accounting Data'!E2:E100000,\"630\",'Accounting Data'!J2:J100000,\"6831\")+SUMIFS('Accounting Data'!C2:C100000,'Accounting Data'!E2:E100000,\"630\",'Accounting Data'!J2:J100000,\"6832\")+SUMIFS('Accounting Data'!C2:C100000,'Accounting Data'!E2:E100000,\"630\",'Accounting Data'!J2:J100000,\"6833\")","v":{"v":0,"d":"0 "}},{"$f":"[1]!F695BudgFYO6831","v":{"v":0,"d":"0 "}},{"$f":"SUMIFS('Accounting Data'!C2:C100000,'Accounting Data'!E2:E100000,\"695\",'Accounting Data'!J2:J100000,\"6831\")+SUMIFS('Accounting Data'!C2:C100000,'Accounting Data'!E2:E100000,\"695\",'Accounting Data'!J2:J100000,\"6832\")+SUMIFS('Accounting Data'!C2:C100000,'Accounting Data'!E2:E100000,\"695\",'Accounting Data'!J2:J100000,\"6833\")","v":{"v":0,"d":"0 "}},{"$f":"[1]!F620BudgFYO6831","v":{"v":0,"d":"0 "}},{"$f":"SUMIFS('Accounting Data'!C2:C100000,'Accounting Data'!E2:E100000,\"620\",'Accounting Data'!J2:J100000,\"6831\")+SUMIFS('Accounting Data'!C2:C100000,'Accounting Data'!E2:E100000,\"620\",'Accounting Data'!J2:J100000,\"6832\")+SUMIFS('Accounting Data'!C2:C100000,'Accounting Data'!E2:E100000,\"620\",'Accounting Data'!J2:J100000,\"6833\")","v":{"v":0,"d":"0 "}},"11."]
["        6841, 6842, 6843, 6850 Interest",null,"12.",{"$f":"[1]!F610BudgFYO6841","v":{"v":0,"d":"0 "}},{"$f":"SUMIFS('Accounting Data'!C2:C100000,'Accounting Data'!E2:E100000,\"610\",'Accounting Data'!J2:J100000,\"6841\")+SUMIFS('Accounting Data'!C2:C100000,'Accounting Data'!E2:E100000,\"610\",'Accounting Data'!J2:J100000,\"6842\")+SUMIFS('Accounting Data'!C2:C100000,'Accounting Data'!E2:E100000,\"610\",'Accounting Data'!J2:J100000,\"6850\")+SUMIFS('Accounting Data'!C2:C100000,'Accounting Data'!E2:E100000,\"610\",'Accounting Data'!J2:J100000,\"6843\")","v":{"v":0,"d":"0 "}},{"$f":"[1]!F630BudgFYO6841","v":{"v":0,"d":"0 "}},{"$f":"SUMIFS('Accounting Data'!C2:C100000,'Accounting Data'!E2:E100000,\"630\",'Accounting Data'!J2:J100000,\"6841\")+SUMIFS('Accounting Data'!C2:C100000,'Accounting Data'!E2:E100000,\"630\",'Accounting Data'!J2:J100000,\"6842\")+SUMIFS('Accounting Data'!C2:C100000,'Accounting Data'!E2:E100000,\"630\",'Accounting Data'!J2:J100000,\"6850\")+SUMIFS('Accounting Data'!C2:C100000,'Accounting Data'!E2:E100000,\"630\",'Accounting Data'!J2:J100000,\"6860\")+SUMIFS('Accounting Data'!C2:C100000,'Accounting Data'!E2:E100000,\"630\",'Accounting Data'!J2:J100000,\"6843\")","v":{"v":0,"d":"0 "}},{"$f":"[1]!F695BudgFYO6841","v":{"v":0,"d":"0 "}},{"$f":"SUMIFS('Accounting Data'!C2:C100000,'Accounting Data'!E2:E100000,\"695\",'Accounting Data'!J2:J100000,\"6841\")+SUMIFS('Accounting Data'!C2:C100000,'Accounting Data'!E2:E100000,\"695\",'Accounting Data'!J2:J100000,\"6842\")+SUMIFS('Accounting Data'!C2:C100000,'Accounting Data'!E2:E100000,\"695\",'Accounting Data'!J2:J100000,\"6850\")+SUMIFS('Accounting Data'!C2:C100000,'Accounting Data'!E2:E100000,\"695\",'Accounting Data'!J2:J100000,\"6843\")","v":{"v":0,"d":"0 "}},{"$f":"[1]!F620BudgFYO6841","v":{"v":0,"d":"0 "}},{"$f":"SUMIFS('Accounting Data'!C2:C100000,'Accounting Data'!E2:E100000,\"620\",'Accounting Data'!J2:J100000,\"6841\")+SUMIFS('Accounting Data'!C2:C100000,'Accounting Data'!E2:E100000,\"620\",'Accounting Data'!J2:J100000,\"6842\")+SUMIFS('Accounting Data'!C2:C100000,'Accounting Data'!E2:E100000,\"620\",'Accounting Data'!J2:J100000,\"6850\")+SUMIFS('Accounting Data'!C2:C100000,'Accounting Data'!E2:E100000,\"620\",'Accounting Data'!J2:J100000,\"6843\")","v":{"v":0,"d":"0 "}},"12."]
["        Total (lines 2-12)",null,"13.",{"$f":"SUM(D29:D39)","v":{"v":135584,"d":"135,584 "}},{"v":11445,"d":"11,445 "},{"v":0,"d":"0 "},{"v":0,"d":"0 "},{"v":0,"d":"0 "},{"v":0,"d":"0 "},{"v":0,"d":"0 "},{"v":0,"d":"0 "},"13."]
["Total amounts reported on lines 2 through 12 above for:"]
["       Renovation",null,"14.",{"$f":"[1]!F610BudgFYRenovation","v":{"v":0,"d":"0 "}},{"v":0,"d":"0 "},{"$f":"[1]!F630BudgFYRenovation","v":{"v":0,"d":"0 "}},{"v":0,"d":"0 "},null,null,{"$f":"[1]!F620BudgFYRenovation","v":{"v":0,"d":"0 "}},{"v":0,"d":"0 "},"14.",{"$nulls":14},{"$f":"IF(OR(E42=\"\",E43=\"\",E44=\"\",G42=\"\",G43=\"\",G44=\"\",I43=\"\",I44=\"\",K42=\"\",K43=\"\",K44=\"\"),\"yes\",\"\")","v":""}]
["       New Construction",null,"15.",{"$f":"[1]!F610BudgFYNewConstruction","v":{"v":0,"d":"0 "}},{"v":0,"d":"0 "},{"$f":"[1]!F630BudgFYNewConstruction","v":{"v":0,"d":"0 "}},{"v":0,"d":"0 "},{"$f":"[1]!F695BudgFYNewConstruction","v":{"v":0,"d":"0 "}},{"v":0,"d":"0 "},{"$f":"[1]!F620BudgFYNewConstruction","v":{"v":0,"d":"0 "}},{"v":0,"d":"0 "},"15."]
["       Other",null,"16.",{"$f":"[1]!F610BudgFYOther","v":{"v":135584,"d":"135,584 "}},{"v":11445,"d":"11,445 "},{"$f":"[1]!F630BudgFYOther","v":{"v":0,"d":"0 "}},{"v":0,"d":"0 "},{"$f":"[1]!F695BudgFYOther","v":{"v":0,"d":"0 "}},{"v":0,"d":"0 "},{"$f":"[1]!F620BudgFYOther","v":{"v":0,"d":"0 "}},{"v":0,"d":"0 "},"16."]
["       Total (lines 14-16)",null,"17.",{"$f":"IF(ROUND(SUM(D42:D44),0)=ROUND(SUM(D29:D39),0),SUM(D42:D44),\"Must equal line 13\")","v":{"v":135584,"d":"135,584 "}},{"$f":"IF(ROUND(SUM(E42:E44),0)=ROUND(SUM(E29:E39),0),SUM(E42:E44),\"Must equal line 13\")","v":{"v":11445,"d":"11,445 "}},{"$f":"IF(ROUND(SUM(F42:F44),0)=ROUND(SUM(F29:F39),0),SUM(F42:F44),\"Must equal line 13\")","v":{"v":0,"d":"0 "}},{"$f":"IF(ROUND(SUM(G42:G44),0)=ROUND(SUM(G29:G39),0),SUM(G42:G44),\"Must equal line 13\")","v":{"v":0,"d":"0 "}},{"$f":"IF(ROUND(SUM(H42:H44),0)=ROUND(SUM(H29:H39),0),SUM(H42:H44),\"Must equal line 13\")","v":{"v":0,"d":"0 "}},{"$f":"IF(ROUND(SUM(I42:I44),2)=ROUND(SUM(I29:I39),0),SUM(I43:I44),\"Must equal line 13\")","v":{"v":0,"d":"0 "}},{"$f":"IF(ROUND(SUM(J42:J44),0)=ROUND(SUM(J29:J39),0),SUM(J42:J44),\"Must equal line 13\")","v":{"v":0,"d":"0 "}},{"$f":"IF(ROUND(SUM(K42:K44),0)=ROUND(SUM(K29:K39),0),SUM(K42:K44),\"Must equal line 13\")","v":{"v":0,"d":"0 "}},"17."]
[]
["Funds 610, 630, 695, and 620",{"$nulls":4},"CAPITAL ASSETS AS OF"]
["1. New construction cost per square foot",null,"$",{"v":0,"d":"0 "},null," JUNE 30, 2023"]
["2. Land acquisition costs",null,"$",{"v":0,"d":"0 "},null," "]
[{"$nulls":5},"Land and Improvements",null,{"v":0,"d":"0 "},"1.",{"$nulls":17},{"$f":"IF(OR(H50=\"\",H51=\"\",H52=\"\",H54=\"\",D48=\"\",D49=\"\"),\"yes\",\"\")","v":""}]
[{"$nulls":5},"Buildings and Improvements",null,{"v":527592,"d":"527,592 "},"2."]
[{"$nulls":5},"Furniture, Equipment, Vehicles, ",null,{"v":90879,"d":"90,879 "}]
[{"$nulls":5},"    and Technology",null,null,"3."]
[{"$nulls":5},"Construction in Progress",null,{"v":0,"d":"0 "},"4."]
[]
[{"$nulls":5},"Total",null,{"$f":"IF(H52=\"$\",\"$\",SUM(H50:H54))","v":{"v":618471,"d":"618,471 "}},"5."]

{"sheet":"Page 5","index":5,"n_rows":55,"n_cols":27,"rows_kept":55,"merged":[[0,1,0,4],[0,6,0,7],[1,0,1,10],[4,6,5,6],[4,10,7,10],[26,0,26,1],[50,0,52,10],[54,0,54,10]]}
["DISTRICT NAME",{"$f":"CoverDistrictName","v":"Double Adobe Elementary School "},{"$nulls":3},"COUNTY",{"$f":"County","v":"Cochise"},null,"CTDS NUMBER",{"$f":"Cover!Q1","v":"020345000"},null,"Yes"]
["FEDERAL AND STATE PROJECTS",{"$nulls":10},"No"]
[]
[]
[{"$nulls":6},"NET OTHER FINANCING SOURCES AND USES",null,null," ","GENERAL FUND",{"$nulls":3},"OTHER FINANCING","OTHER FINANCING"]
[{"$nulls":4},"BEGINNING",{"$nulls":4},"ENDING FUND",{"$nulls":4},"SOURCES INCLUDING","USES INCLUDING",{"$nulls":10},{"$f":"IF(OR(E23=\"\",E24=\"\",E25=\"\",E26=\"\",E27=\"\",E28=\"\",H23=\"\",H24=\"\",H26=\"\",H27=\"\",H28=\"\",K22=\"\",K23=\"\",K24=\"\",K27=\"\",K46=\"\"),\"yes\",\"\")","v":""}]
[{"$nulls":4},"FUND BALANCE","REVENUES","INCLUDING TRANSFERS (1)","EXPENDITURES",null,"BALANCE",{"$nulls":4},"TRANSFERS-IN","TRANSFERS-OUT"]
["FEDERAL PROJECTS ",{"$nulls":3},"ACTUAL","ACTUAL","ACTUAL","BUDGET","ACTUAL","ACTUAL",{"$nulls":4},"5000 (1)","6900 (1)"]
["100-130 ESEA Title I - Helping Disadvantaged Children",null,null,"1.",{"$f":"'Accounting Data'!R8","v":{"v":430,"d":"430 "}},{"$f":"-(SUMIFS('Accounting Data'!C2:C100000,'Accounting Data'!E2:E100000,\"10?\",'Accounting Data'!J2:J100000,\"1???\")+SUMIFS('Accounting Data'!C2:C100000,'Accounting Data'!E2:E100000,\"11?\",'Accounting Data'!J2:J100000,\"1???\")+SUMIFS('Accounting Data'!C2:C100000,'Accounting Data'!E2:E100000,\"12?\",'Accounting Data'!J2:J100000,\"1???\")+SUMIFS('Accounting Data'!C2:C100000,'Accounting Data'!E2:E100000,\"13?\",'Accounting Data'!J2:J100000,\"1???\")+SUMIFS('Accounting Data'!C2:C100000,'Accounting Data'!E2:E100000,\"10?\",'Accounting Data'!J2:J100000,\"2???\")+SUMIFS('Accounting Data'!C2:C100000,'Accounting Data'!E2:E100000,\"11?\",'Accounting Data'!J2:J100000,\"2???\")+SUMIFS('Accounting Data'!C2:C100000,'Accounting Data'!E2:E100000,\"12?\",'Accounting Data'!J2:J100000,\"2???\")+SUMIFS('Accounting Data'!C2:C100000,'Accounting Data'!E2:E100000,\"13?\",'Accounting Data'!J2:J100000,\"2???\")+SUMIFS('Accounting Data'!C2:C100000,'Accounting Data'!E2:E100000,\"10?\",'Accounting Data'!J2:J100000,\"3???\")+SUMIFS('Accounting Data'!C2:C100000,'Accounting Data'!E2:E100000,\"11?\",'Accounting Data'!J2:J100000,\"3???\")+SUMIFS('Accounting Data'!C2:C100000,'Accounting Data'!E2:E100000,\"12?\",'Accounting Data'!J2:J100000,\"3???\")+SUMIFS('Accounting Data'!C2:C100000,'Accounting Data'!E2:E100000,\"13?\",'Accounting Data'!J2:J100000,\"3???\")+SUMIFS('Accounting Data'!C2:C100000,'Accounting Data'!E2:E100000,\"10?\",'Accounting Data'!J2:J100000,\"4???\")+SUMIFS('Accounting Data'!C2:C100000,'Accounting Data'!E2:E100000,\"11?\",'Accounting Data'!J2:J100000,\"4???\")+SUMIFS('Accounting Data'!C2:C100000,'Accounting Data'!E2:E100000,\"12?\",'Accounting Data'!J2:J100000,\"4???\")+SUMIFS('Accounting Data'!C2:C100000,'Accounting Data'!E2:E100000,\"13?\",'Accounting Data'!J2:J100000,\"4???\"))","v":{"v":19530,"d":"19,530 "}},{"$f":"O9-P9","v":{"v":0,"d":"0 "}},{"$f":"[1]!F100130BudgFY","v":{"v":20000,"d":"20,000 "}},{"$f":"(SUMIFS('Accounting Data'!C2:C100000,'Accounting Data'!E2:E100000,\"10?\",'Accounting Data'!J2:J100000,\"6???\")+SUMIFS('Accounting Data'!C2:C100000,'Accounting Data'!E2:E100000,\"11?\",'Accounting Data'!J2:J100000,\"6???\")+SUMIFS('Accounting Data'!C2:C100000,'Accounting Data'!E2:E100000,\"12?\",'Accounting Data'!J2:J100000,\"6???\")+SUMIFS('Accounting Data'!C2:C100000,'Accounting Data'!E2:E100000,\"13?\",'Accounting Data'!J2:J100000,\"6???\"))-P9","v":{"v":20902,"d":"20,902 "}},{"$f":"E9+F9+G9-I9","v":{"v":-942,"d":"(942)"}},null,"1.",null,"1.",{"$f":"-(SUMIFS('Accounting Data'!C2:C100000,'Accounting Data'!E2:E100000,\"10?\",'Accounting Data'!J2:J100000,\"5???\")+SUMIFS('Accounting Data'!C2:C100000,'Accounting Data'!E2:E100000,\"11?\",'Accounting Data'!J2:J100000,\"5???\")+SUMIFS('Accounting Data'!C2:C100000,'Accounting Data'!E2:E100000,\"12?\",'Accounting Data'!J2:J100000,\"5???\")+SUMIFS('Accounting Data'!C2:C100000,'Accounting Data'!E2:E100000,\"13?\",'Accounting Data'!J2:J100000,\"5???\"))","v":{"v":0,"d":"0 "}},{"$f":"SUMIFS('Accounting Data'!C2:C100000,'Accounting Data'!E2:E100000,\"10?\",'Accounting Data'!J2:J100000,\"69??\")+SUMIFS('Accounting Data'!C2:C100000,'Accounting Data'!E2:E100000,\"11?\",'Accounting Data'!J2:J100000,\"69??\")+SUMIFS('Accounting Data'!C2:C100000,'Accounting Data'!E2:E100000,\"12?\",'Accounting Data'!J2:J100000,\"69??\")+SUMIFS('Accounting Data'!C2:C100000,'Accounting Data'!E2:E100000,\"13?\",'Accounting Data'!J2:J100000,\"69??\")","v":{"v":0,"d":"0 "}},"1."]
["140-150 ESEA Title II - Prof. Development and Technology",null,null,"2.",{"$f":"'Accounting Data'!R48","v":{"v":0,"d":"0 "}},{"$f":"-(SUMIFS('Accounting Data'!C2:C100000,'Accounting Data'!E2:E100000,\"14?\",'Accounting Data'!J2:J100000,\"1???\")+SUMIFS('Accounting Data'!C2:C100000,'Accounting Data'!E2:E100000,\"15?\",'Accounting Data'!J2:J100000,\"1???\")+SUMIFS('Accounting Data'!C2:C100000,'Accounting Data'!E2:E100000,\"14?\",'Accounting Data'!J2:J100000,\"2???\")+SUMIFS('Accounting Data'!C2:C100000,'Accounting Data'!E2:E100000,\"15?\",'Accounting Data'!J2:J100000,\"2???\")+SUMIFS('Accounting Data'!C2:C100000,'Accounting Data'!E2:E100000,\"14?\",'Accounting Data'!J2:J100000,\"3???\")+SUMIFS('Accounting Data'!C2:C100000,'Accounting Data'!E2:E100000,\"15?\",'Accounting Data'!J2:J100000,\"3???\")+SUMIFS('Accounting Data'!C2:C100000,'Accounting Data'!E2:E100000,\"14?\",'Accounting Data'!J2:J100000,\"4???\")+SUMIFS('Accounting Data'!C2:C100000,'Accounting Data'!E2:E100000,\"15?\",'Accounting Data'!J2:J100000,\"4???\"))","v":{"v":2260,"d":"2,260 "}},{"v":0,"d":"0 "},{"$f":"[1]!F140150BudgFY","v":{"v":2500,"d":"2,500 "}},{"$f":"(SUMIFS('Accounting Data'!C2:C100000,'Accounting Data'!E2:E100000,\"14?\",'Accounting Data'!J2:J100000,\"6???\")+SUMIFS('Accounting Data'!C2:C100000,'Accounting Data'!E2:E100000,\"15?\",'Accounting Data'!J2:J100000,\"6???\"))-P10","v":{"v":3055,"d":"3,055 "}},{"v":-795,"d":"(795)"},null,"2.",null,"2.",{"$f":"-(SUMIFS('Accounting Data'!C2:C100000,'Accounting Data'!E2:E100000,\"14?\",'Accounting Data'!J2:J100000,\"5???\")+SUMIFS('Accounting Data'!C2:C100000,'Accounting Data'!E2:E100000,\"15?\",'Accounting Data'!J2:J100000,\"5???\"))","v":{"v":0,"d":"0 "}},{"$f":"SUMIFS('Accounting Data'!C2:C100000,'Accounting Data'!E2:E100000,\"14?\",'Accounting Data'!J2:J100000,\"69??\")+SUMIFS('Accounting Data'!C2:C100000,'Accounting Data'!E2:E100000,\"15?\",'Accounting Data'!J2:J100000,\"69??\")","v":{"v":0,"d":"0 "}},"2."]
["160 ESEA Title IV - 21st Century Schools",null,null,"3.",{"$f":"'Accounting Data'!R68","v":{"v":0,"d":"0 "}},{"$f":"-(SUMIFS('Accounting Data'!C2:C100000,'Accounting Data'!E2:E100000,\"16?\",'Accounting Data'!J2:J100000,\"1???\")+SUMIFS('Accounting Data'!C2:C100000,'Accounting Data'!E2:E100000,\"16?\",'Accounting Data'!J2:J100000,\"2???\")+SUMIFS('Accounting Data'!C2:C100000,'Accounting Data'!E2:E100000,\"16?\",'Accounting Data'!J2:J100000,\"3???\")+SUMIFS('Accounting Data'!C2:C100000,'Accounting Data'!E2:E100000,\"16?\",'Accounting Data'!J2:J100000,\"4???\"))","v":{"v":6426,"d":"6,426 "}},{"v":0,"d":"0 "},{"$f":"[1]!F160BudgFY","v":{"v":0,"d":"0 "}},{"$f":"SUMIFS('Accounting Data'!C2:C100000,'Accounting Data'!E2:E100000,\"16?\",'Accounting Data'!J2:J100000,\"6???\")-P11","v":{"v":6426,"d":"6,426 "}},{"v":0,"d":"0 "},null,"3.",null,"3.",{"$f":"-(SUMIFS('Accounting Data'!C2:C100000,'Accounting Data'!E2:E100000,\"16?\",'Accounting Data'!J2:J100000,\"5???\"))","v":{"v":0,"d":"0 "}},{"$f":"SUMIFS('Accounting Data'!C2:C100000,'Accounting Data'!E2:E100000,\"16?\",'Accounting Data'!J2:J100000,\"69??\")","v":{"v":0,"d":"0 "}},"3."]
["170-180 ESEA Title V - Promote Informed Parent Choice",null,null,"4.",{"$f":"'Accounting Data'!R78","v":{"v":0,"d":"0 "}},{"$f":"-(SUMIFS('Accounting Data'!C2:C100000,'Accounting Data'!E2:E100000,\"17?\",'Accounting Data'!J2:J100000,\"1???\")+SUMIFS('Accounting Data'!C2:C100000,'Accounting Data'!E2:E100000,\"18?\",'Accounting Data'!J2:J100000,\"1???\")+SUMIFS('Accounting Data'!C2:C100000,'Accounting Data'!E2:E100000,\"17?\",'Accounting Data'!J2:J100000,\"2???\")+SUMIFS('Accounting Data'!C2:C100000,'Accounting Data'!E2:E100000,\"18?\",'Accounting Data'!J2:J100000,\"2???\")+SUMIFS('Accounting Data'!C2:C100000,'Accounting Data'!E2:E100000,\"17?\",'Accounting Data'!J2:J100000,\"3???\")+SUMIFS('Accounting Data'!C2:C100000,'Accounting Data'!E2:E100000,\"18?\",'Accounting Data'!J2:J100000,\"3???\")+SUMIFS('Accounting Data'!C2:C100000,'Accounting Data'!E2:E100000,\"17?\",'Accounting Data'!J2:J100000,\"4???\")+SUMIFS('Accounting Data'!C2:C100000,'Accounting Data'!E2:E100000,\"18?\",'Accounting Data'!J2:J100000,\"4???\"))","v":{"v":0,"d":"0 "}},{"v":0,"d":"0 "},{"$f":"[1]!F170180BudgFY","v":{"v":0,"d":"0 "}},{"$f":"(SUMIFS('Accounting Data'!C2:C100000,'Accounting Data'!E2:E100000,\"17?\",'Accounting Data'!J2:J100000,\"6???\")+SUMIFS('Accounting Data'!C2:C100000,'Accounting Data'!E2:E100000,\"18?\",'Accounting Data'!J2:J100000,\"6???\"))-P12","v":{"v":0,"d":"0 "}},{"v":0,"d":"0 "},null,"4.",null,"4.",{"$f":"-(SUMIFS('Accounting Data'!C2:C100000,'Accounting Data'!E2:E100000,\"17?\",'Accounting Data'!J2:J100000,\"5???\")+SUMIFS('Accounting Data'!C2:C100000,'Accounting Data'!E2:E100000,\"18?\",'Accounting Data'!J2:J100000,\"5???\"))","v":{"v":0,"d":"0 "}},{"$f":"SUMIFS('Accounting Data'!C2:C100000,'Accounting Data'!E2:E100000,\"17?\",'Accounting Data'!J2:J100000,\"69??\")+SUMIFS('Accounting Data'!C2:C100000,'Accounting Data'!E2:E100000,\"18?\",'Accounting Data'!J2:J100000,\"69??\")","v":{"v":0,"d":"0 "}},"4."]
["190 ESEA Title III - Limited English & Immigrant Students",null,null,"5.",{"$f":"'Accounting Data'!R98","v":{"v":0,"d":"0 "}},{"$f":"-(SUMIFS('Accounting Data'!C2:C100000,'Accounting Data'!E2:E100000,\"19?\",'Accounting Data'!J2:J100000,\"1???\")+SUMIFS('Accounting Data'!C2:C100000,'Accounting Data'!E2:E100000,\"19?\",'Accounting Data'!J2:J100000,\"2???\")+SUMIFS('Accounting Data'!C2:C100000,'Accounting Data'!E2:E100000,\"19?\",'Accounting Data'!J2:J100000,\"3???\")+SUMIFS('Accounting Data'!C2:C100000,'Accounting Data'!E2:E100000,\"19?\",'Accounting Data'!J2:J100000,\"4???\"))","v":{"v":0,"d":"0 "}},{"v":0,"d":"0 "},{"$f":"[1]!F190BudgFY","v":{"v":0,"d":"0 "}},{"$f":"SUMIFS('Accounting Data'!C2:C100000,'Accounting Data'!E2:E100000,\"19?\",'Accounting Data'!J2:J100000,\"6???\")-P13","v":{"v":0,"d":"0 "}},{"v":0,"d":"0 "},null,"5.",null,"5.",{"$f":"-(SUMIFS('Accounting Data'!C2:C100000,'Accounting Data'!E2:E100000,\"19?\",'Accounting Data'!J2:J100000,\"5???\"))","v":{"v":0,"d":"0 "}},{"$f":"SUMIFS('Accounting Data'!C2:C100000,'Accounting Data'!E2:E100000,\"19?\",'Accounting Data'!J2:J100000,\"69??\")","v":{"v":0,"d":"0 "}},"5."]
["200 ESEA Title VII - Indian Education",null,null,"6.",{"$f":"'Accounting Data'!R108","v":{"v":0,"d":"0 "}},{"$f":"-(SUMIFS('Accounting Data'!C2:C100000,'Accounting Data'!E2:E100000,\"20?\",'Accounting Data'!J2:J100000,\"1???\")+SUMIFS('Accounting Data'!C2:C100000,'Accounting Data'!E2:E100000,\"20?\",'Accounting Data'!J2:J100000,\"2???\")+SUMIFS('Accounting Data'!C2:C100000,'Accounting Data'!E2:E100000,\"20?\",'Accounting Data'!J2:J100000,\"3???\")+SUMIFS('Accounting Data'!C2:C100000,'Accounting Data'!E2:E100000,\"20?\",'Accounting Data'!J2:J100000,\"4???\"))","v":{"v":0,"d":"0 "}},{"v":0,"d":"0 "},{"$f":"[1]!F200BudgFY","v":{"v":0,"d":"0 "}},{"$f":"SUMIFS('Accounting Data'!C2:C100000,'Accounting Data'!E2:E100000,\"20?\",'Accounting Data'!J2:J100000,\"6???\")-P14","v":{"v":0,"d":"0 "}},{"v":0,"d":"0 "},null,"6.",null,"6.",{"$f":"-(SUMIFS('Accounting Data'!C2:C100000,'Accounting Data'!E2:E100000,\"20?\",'Accounting Data'!J2:J100000,\"5???\"))","v":{"v":0,"d":"0 "}},{"$f":"SUMIFS('Accounting Data'!C2:C100000,'Accounting Data'!E2:E100000,\"20?\",'Accounting Data'!J2:J100000,\"69??\")","v":{"v":0,"d":"0 "}},"6."]
["210 ESEA Title VI - Flexibility and Accountability",null,null,"7.",{"$f":"'Accounting Data'!R118","v":{"v":0,"d":"0 "}},{"$f":"-(SUMIFS('Accounting Data'!C2:C100000,'Accounting Data'!E2:E100000,\"21?\",'Accounting Data'!J2:J100000,\"1???\")+SUMIFS('Accounting Data'!C2:C100000,'Accounting Data'!E2:E100000,\"21?\",'Accounting Data'!J2:J100000,\"2???\")+SUMIFS('Accounting Data'!C2:C100000,'Accounting Data'!E2:E100000,\"21?\",'Accounting Data'!J2:J100000,\"3???\")+SUMIFS('Accounting Data'!C2:C100000,'Accounting Data'!E2:E100000,\"21?\",'Accounting Data'!J2:J100000,\"4???\"))","v":{"v":0,"d":"0 "}},{"v":0,"d":"0 "},{"$f":"[1]!F210BudgFY","v":{"v":0,"d":"0 "}},{"$f":"SUMIFS('Accounting Data'!C2:C100000,'Accounting Data'!E2:E100000,\"21?\",'Accounting Data'!J2:J100000,\"6???\")-P15","v":{"v":0,"d":"0 "}},{"v":0,"d":"0 "},null,"7.",null,"7.",{"$f":"-(SUMIFS('Accounting Data'!C2:C100000,'Accounting Data'!E2:E100000,\"21?\",'Accounting Data'!J2:J100000,\"5???\"))","v":{"v":0,"d":"0 "}},{"$f":"SUMIFS('Accounting Data'!C2:C100000,'Accounting Data'!E2:E100000,\"21?\",'Accounting Data'!J2:J100000,\"69??\")","v":{"v":0,"d":"0 "}},"7."]
["220 IDEA Part B",null,null,"8.",{"$f":"'Accounting Data'!R128","v":{"v":-8331,"d":"(8,331)"}},{"$f":"-(SUMIFS('Accounting Data'!C2:C100000,'Accounting Data'!E2:E100000,\"22?\",'Accounting Data'!J2:J100000,\"1???\")+SUMIFS('Accounting Data'!C2:C100000,'Accounting Data'!E2:E100000,\"22?\",'Accounting Data'!J2:J100000,\"2???\")+SUMIFS('Accounting Data'!C2:C100000,'Accounting Data'!E2:E100000,\"22?\",'Accounting Data'!J2:J100000,\"3???\")+SUMIFS('Accounting Data'!C2:C100000,'Accounting Data'!E2:E100000,\"22?\",'Accounting Data'!J2:J100000,\"4???\"))","v":{"v":9331,"d":"9,331 "}},{"v":0,"d":"0 "},{"$f":"[1]!F220BudgFY","v":{"v":0,"d":"0 "}},{"$f":"SUMIFS('Accounting Data'!C2:C100000,'Accounting Data'!E2:E100000,\"22?\",'Accounting Data'!J2:J100000,\"6???\")-P16","v":{"v":0,"d":"0 "}},{"v":1000,"d":"1,000 "},null,"8.",null,"8.",{"$f":"-(SUMIFS('Accounting Data'!C2:C100000,'Accounting Data'!E2:E100000,\"22?\",'Accounting Data'!J2:J100000,\"5???\"))","v":{"v":0,"d":"0 "}},{"$f":"SUMIFS('Accounting Data'!C2:C100000,'Accounting Data'!E2:E100000,\"22?\",'Accounting Data'!J2:J100000,\"69??\")","v":{"v":0,"d":"0 "}},"8."]
["230 Johnson-O'Malley",null,null,"9.",{"$f":"'Accounting Data'!R138","v":{"v":0,"d":"0 "}},{"$f":"-(SUMIFS('Accounting Data'!C2:C100000,'Accounting Data'!E2:E100000,\"23?\",'Accounting Data'!J2:J100000,\"1???\")+SUMIFS('Accounting Data'!C2:C100000,'Accounting Data'!E2:E100000,\"23?\",'Accounting Data'!J2:J100000,\"2???\")+SUMIFS('Accounting Data'!C2:C100000,'Accounting Data'!E2:E100000,\"23?\",'Accounting Data'!J2:J100000,\"3???\")+SUMIFS('Accounting Data'!C2:C100000,'Accounting Data'!E2:E100000,\"23?\",'Accounting Data'!J2:J100000,\"4???\"))","v":{"v":0,"d":"0 "}},{"v":0,"d":"0 "},{"$f":"[1]!F230BudgFY","v":{"v":0,"d":"0 "}},{"$f":"SUMIFS('Accounting Data'!C2:C100000,'Accounting Data'!E2:E100000,\"23?\",'Accounting Data'!J2:J100000,\"6???\")-P17","v":{"v":0,"d":"0 "}},{"v":0,"d":"0 "},null,"9.",null,"9.",{"$f":"-(SUMIFS('Accounting Data'!C2:C100000,'Accounting Data'!E2:E100000,\"23?\",'Accounting Data'!J2:J100000,\"5???\"))","v":{"v":0,"d":"0 "}},{"$f":"SUMIFS('Accounting Data'!C2:C100000,'Accounting Data'!E2:E100000,\"23?\",'Accounting Data'!J2:J100000,\"69??\")","v":{"v":0,"d":"0 "}},"9."]
["240 Workforce Investment Act",null,null,"10.",{"$f":"'Accounting Data'!R148","v":{"v":0,"d":"0 "}},{"$f":"-(SUMIFS('Accounting Data'!C2:C100000,'Accounting Data'!E2:E100000,\"24?\",'Accounting Data'!J2:J100000,\"1???\")+SUMIFS('Accounting Data'!C2:C100000,'Accounting Data'!E2:E100000,\"24?\",'Accounting Data'!J2:J100000,\"2???\")+SUMIFS('Accounting Data'!C2:C100000,'Accounting Data'!E2:E100000,\"24?\",'Accounting Data'!J2:J100000,\"3???\")+SUMIFS('Accounting Data'!C2:C100000,'Accounting Data'!E2:E100000,\"24?\",'Accounting Data'!J2:J100000,\"4???\"))","v":{"v":0,"d":"0 "}},{"v":0,"d":"0 "},{"$f":"[1]!F240BudgFY","v":{"v":0,"d":"0 "}},{"$f":"SUMIFS('Accounting Data'!C2:C100000,'Accounting Data'!E2:E100000,\"24?\",'Accounting Data'!J2:J100000,\"6???\")-P18","v":{"v":0,"d":"0 "}},{"v":0,"d":"0 "},null,"10.",null,"10.",{"$f":"-(SUMIFS('Accounting Data'!C2:C100000,'Accounting Data'!E2:E100000,\"24?\",'Accounting Data'!J2:J100000,\"5???\"))","v":{"v":0,"d":"0 "}},{"$f":"SUMIFS('Accounting Data'!C2:C100000,'Accounting Data'!E2:E100000,\"24?\",'Accounting Data'!J2:J100000,\"69??\")","v":{"v":0,"d":"0 "}},"10."]
["250 AEA-Adult Education",null,null,"11.",{"$f":"'Accounting Data'!R158","v":{"v":0,"d":"0 "}},{"$f":"-(SUMIFS('Accounting Data'!C2:C100000,'Accounting Data'!E2:E100000,\"25?\",'Accounting Data'!J2:J100000,\"1???\")+SUMIFS('Accounting Data'!C2:C100000,'Accounting Data'!E2:E100000,\"25?\",'Accounting Data'!J2:J100000,\"2???\")+SUMIFS('Accounting Data'!C2:C100000,'Accounting Data'!E2:E100000,\"25?\",'Accounting Data'!J2:J100000,\"3???\")+SUMIFS('Accounting Data'!C2:C100000,'Accounting Data'!E2:E100000,\"25?\",'Accounting Data'!J2:J100000,\"4???\"))","v":{"v":0,"d":"0 "}},{"v":0,"d":"0 "},{"$f":"[1]!F250BudgFY","v":{"v":0,"d":"0 "}},{"$f":"SUMIFS('Accounting Data'!C2:C100000,'Accounting Data'!E2:E100000,\"25?\",'Accounting Data'!J2:J100000,\"6???\")-P19","v":{"v":0,"d":"0 "}},{"v":0,"d":"0 "},null,"11.",null,"11.",{"$f":"-(SUMIFS('Accounting Data'!C2:C100000,'Accounting Data'!E2:E100000,\"25?\",'Accounting Data'!J2:J100000,\"5???\"))","v":{"v":0,"d":"0 "}},{"$f":"SUMIFS('Accounting Data'!C2:C100000,'Accounting Data'!E2:E100000,\"25?\",'Accounting Data'!J2:J100000,\"69??\")","v":{"v":0,"d":"0 "}},"11."]
["260-270 Vocational Education - Basic Grants",null,null,"12.",{"$f":"'Accounting Data'!R168","v":{"v":0,"d":"0 "}},{"$f":"-(SUMIFS('Accounting Data'!C2:C100000,'Accounting Data'!E2:E100000,\"26?\",'Accounting Data'!J2:J100000,\"1???\")+SUMIFS('Accounting Data'!C2:C100000,'Accounting Data'!E2:E100000,\"27?\",'Accounting Data'!J2:J100000,\"1???\")+SUMIFS('Accounting Data'!C2:C100000,'Accounting Data'!E2:E100000,\"26?\",'Accounting Data'!J2:J100000,\"2???\")+SUMIFS('Accounting Data'!C2:C100000,'Accounting Data'!E2:E100000,\"27?\",'Accounting Data'!J2:J100000,\"2???\")+SUMIFS('Accounting Data'!C2:C100000,'Accounting Data'!E2:E100000,\"26?\",'Accounting Data'!J2:J100000,\"3???\")+SUMIFS('Accounting Data'!C2:C100000,'Accounting Data'!E2:E100000,\"27?\",'Accounting Data'!J2:J100000,\"3???\")+SUMIFS('Accounting Data'!C2:C100000,'Accounting Data'!E2:E100000,\"26?\",'Accounting Data'!J2:J100000,\"4???\")+SUMIFS('Accounting Data'!C2:C100000,'Accounting Data'!E2:E100000,\"27?\",'Accounting Data'!J2:J100000,\"4???\"))","v":{"v":0,"d":"0 "}},{"v":0,"d":"0 "},{"$f":"[1]!F260270BudgFY","v":{"v":0,"d":"0 "}},{"$f":"(SUMIFS('Accounting Data'!C2:C65356,'Accounting Data'!E2:E65356,\"26?\",'Accounting Data'!J2:J65356,\"6???\")+SUMIFS('Accounting Data'!C2:C65356,'Accounting Data'!E2:E65356,\"27?\",'Accounting Data'!J2:J65356,\"6???\"))-P20","v":{"v":0,"d":"0 "}},{"$f":"E20+F20+G20-I20","v":{"v":0,"d":"0 "}},null,"12.",null,"12.",{"$f":"-(SUMIFS('Accounting Data'!C2:C100000,'Accounting Data'!E2:E100000,\"26?\",'Accounting Data'!J2:J100000,\"5???\")+SUMIFS('Accounting Data'!C2:C100000,'Accounting Data'!E2:E100000,\"27?\",'Accounting Data'!J2:J100000,\"5???\"))","v":{"v":0,"d":"0 "}},{"$f":"SUMIFS('Accounting Data'!C2:C100000,'Accounting Data'!E2:E100000,\"26?\",'Accounting Data'!J2:J100000,\"69??\")+SUMIFS('Accounting Data'!C2:C100000,'Accounting Data'!E2:E100000,\"27?\",'Accounting Data'!J2:J100000,\"69??\")","v":{"v":0,"d":"0 "}},"12."]
["280 ESEA Title X - Homeless Education",null,null,"13.",{"$f":"'Accounting Data'!R188","v":{"v":0,"d":"0 "}},{"$f":"-(SUMIFS('Accounting Data'!C2:C100000,'Accounting Data'!E2:E100000,\"28?\",'Accounting Data'!J2:J100000,\"1???\")+SUMIFS('Accounting Data'!C2:C100000,'Accounting Data'!E2:E100000,\"28?\",'Accounting Data'!J2:J100000,\"2???\")+SUMIFS('Accounting Data'!C2:C100000,'Accounting Data'!E2:E100000,\"28?\",'Accounting Data'!J2:J100000,\"3???\")+SUMIFS('Accounting Data'!C2:C100000,'Accounting Data'!E2:E100000,\"28?\",'Accounting Data'!J2:J100000,\"4???\"))","v":{"v":0,"d":"0 "}},{"v":0,"d":"0 "},{"$f":"[1]!F280BudgFY","v":{"v":0,"d":"0 "}},{"$f":"SUMIFS('Accounting Data'!C2:C100000,'Accounting Data'!E2:E100000,\"28?\",'Accounting Data'!J2:J100000,\"6???\")-P21","v":{"v":0,"d":"0 "}},{"v":0,"d":"0 "},null,"13.",null,"13.",{"$f":"-(SUMIFS('Accounting Data'!C2:C100000,'Accounting Data'!E2:E100000,\"28?\",'Accounting Data'!J2:J100000,\"5???\"))","v":{"v":0,"d":"0 "}},{"$f":"SUMIFS('Accounting Data'!C2:C100000,'Accounting Data'!E2:E100000,\"28?\",'Accounting Data'!J2:J100000,\"69??\")","v":{"v":0,"d":"0 "}},"13."]
["290 Medicaid Reimbursement",null,null,"14.",{"$f":"'Accounting Data'!R198","v":{"v":0,"d":"0 "}},{"$f":"-(SUMIFS('Accounting Data'!C2:C100000,'Accounting Data'!E2:E100000,\"29?\",'Accounting Data'!J2:J100000,\"1???\")+SUMIFS('Accounting Data'!C2:C100000,'Accounting Data'!E2:E100000,\"29?\",'Accounting Data'!J2:J100000,\"2???\")+SUMIFS('Accounting Data'!C2:C100000,'Accounting Data'!E2:E100000,\"29?\",'Accounting Data'!J2:J100000,\"3???\")+SUMIFS('Accounting Data'!C2:C100000,'Accounting Data'!E2:E100000,\"29?\",'Accounting Data'!J2:J100000,\"4???\"))","v":{"v":0,"d":"0 "}},{"v":0,"d":"0 "},{"$f":"[1]!F290BudgFY","v":{"v":0,"d":"0 "}},{"$f":"SUMIFS('Accounting Data'!C2:C100000,'Accounting Data'!E2:E100000,\"29?\",'Accounting Data'!J2:J100000,\"6???\")-P22","v":{"v":0,"d":"0 "}},{"v":0,"d":"0 "},"No","14.",null,"14.",{"$f":"-(SUMIFS('Accounting Data'!C2:C100000,'Accounting Data'!E2:E100000,\"29?\",'Accounting Data'!J2:J100000,\"5???\"))","v":{"v":0,"d":"0 "}},{"$f":"SUMIFS('Accounting Data'!C2:C100000,'Accounting Data'!E2:E100000,\"29?\",'Accounting Data'!J2:J100000,\"69??\")","v":{"v":0,"d":"0 "}},"14."]
["349 National Forest Fees",null,null,"15.",{"v":0,"d":"0 "},{"$f":"-SUM((SUMIFS('Accounting Data'!C2:C100000,'Accounting Data'!E2:E100000,\"349\",'Accounting Data'!J2:J100000,{\"1???\",\"2???\",\"3???\",\"4???\"})))","v":{"v":0,"d":"0 "}},{"$f":"O23-P23","v":{"v":0,"d":"0 "}},{"v":0,"d":"0 "},{"$f":"SUMIFS('Accounting Data'!C2:C100000,'Accounting Data'!E2:E100000,\"349\",'Accounting Data'!J2:J100000,\"6???\")-P23","v":{"v":0,"d":"0 "}},{"v":0,"d":"0 "},"No","15.",null,"15.",{"$f":"-(SUMIFS('Accounting Data'!C2:C100000,'Accounting Data'!E2:E100000,\"349\",'Accounting Data'!J2:J100000,\"5???\"))","v":{"v":0,"d":"0 "}},{"$f":"SUMIFS('Accounting Data'!C2:C100000,'Accounting Data'!E2:E100000,\"349\",'Accounting Data'!J2:J100000,\"69??\")","v":{"v":0,"d":"0 "}},"15."]
["353 Taylor Grazing Fees ",null,null,"16.",{"v":285,"d":"285 "},{"$f":"-SUM((SUMIFS('Accounting Data'!C2:C100000,'Accounting Data'!E2:E100000,\"353\",'Accounting Data'!J2:J100000,{\"1???\",\"2???\",\"3???\",\"4???\"})))","v":{"v":73,"d":"73 "}},{"v":0,"d":"0 "},{"v":0,"d":"0 "},{"$f":"SUMIFS('Accounting Data'!C2:C100000,'Accounting Data'!E2:E100000,\"353\",'Accounting Data'!J2:J100000,\"6???\")-P24","v":{"v":0,"d":"0 "}},{"v":358,"d":"358 "},"No","16.",null,"16.",{"$f":"-(SUMIFS('Accounting Data'!C2:C100000,'Accounting Data'!E2:E100000,\"353\",'Accounting Data'!J2:J100000,\"5???\"))","v":{"v":0,"d":"0 "}},{"$f":"SUMIFS('Accounting Data'!C2:C100000,'Accounting Data'!E2:E100000,\"353\",'Accounting Data'!J2:J100000,\"69??\")","v":{"v":0,"d":"0 "}},"16."]
["374 E-Rate",null,null,"17.",{"v":-944,"d":"(944)"},{"$f":"-(SUMIFS('Accounting Data'!C2:C100000,'Accounting Data'!E2:E100000,\"374\",'Accounting Data'!J2:J100000,\"1???\")+SUMIFS('Accounting Data'!C2:C100000,'Accounting Data'!E2:E100000,\"374\",'Accounting Data'!J2:J100000,\"2???\")+SUMIFS('Accounting Data'!C2:C100000,'Accounting Data'!E2:E100000,\"374\",'Accounting Data'!J2:J100000,\"3???\")+SUMIFS('Accounting Data'!C2:C100000,'Accounting Data'!E2:E100000,\"374\",'Accounting Data'!J2:J100000,\"4???\"))","v":{"v":0,"d":"0 "}},{"v":0,"d":"0 "},{"v":0,"d":"0 "},{"$f":"SUMIFS('Accounting Data'!C2:C100000,'Accounting Data'!E2:E100000,\"374\",'Accounting Data'!J2:J100000,\"6???\")-P25","v":{"v":1100,"d":"1,100 "}},{"v":-2044,"d":"(2,044)"},null,"17.",null,"17.",{"$f":"-(SUMIFS('Accounting Data'!C2:C100000,'Accounting Data'!E2:E100000,\"374\",'Accounting Data'!J2:J100000,\"5???\"))","v":{"v":0,"d":"0 "}},{"$f":"SUMIFS('Accounting Data'!C2:C100000,'Accounting Data'!E2:E100000,\"374\",'Accounting Data'!J2:J100000,\"69??\")","v":{"v":0,"d":"0 "}},"17."]
["378 Impact Aid",null,null,"18.",{"v":0,"d":"0 "},{"$f":"-(SUMIFS('Accounting Data'!C2:C100000,'Accounting Data'!E2:E100000,\"378\",'Accounting Data'!J2:J100000,\"1???\")+SUMIFS('Accounting Data'!C2:C100000,'Accounting Data'!E2:E100000,\"378\",'Accounting Data'!J2:J100000,\"2???\")+SUMIFS('Accounting Data'!C2:C100000,'Accounting Data'!E2:E100000,\"378\",'Accounting Data'!J2:J100000,\"3???\")+SUMIFS('Accounting Data'!C2:C100000,'Accounting Data'!E2:E100000,\"378\",'Accounting Data'!J2:J100000,\"4???\"))","v":{"v":0,"d":"0 "}},{"v":0,"d":"0 "},{"v":0,"d":"0 "},{"$f":"(SUMIFS('Accounting Data'!C2:C100000,'Accounting Data'!E2:E100000,\"378\",'Accounting Data'!J2:J100000,\"6???\"))-P26","v":{"v":0,"d":"0 "}},{"v":0,"d":"0 "},"No","18.",null,"18.",{"$f":"-(SUMIFS('Accounting Data'!C2:C100000,'Accounting Data'!E2:E100000,\"378\",'Accounting Data'!J2:J100000,\"5???\"))","v":{"v":0,"d":"0 "}},{"$f":"SUMIFS('Accounting Data'!C2:C100000,'Accounting Data'!E2:E100000,\"378\",'Accounting Data'!J2:J100000,\"69??\")","v":{"v":0,"d":"0 "}},"18."]
["300-399 Other Federal Projects",null,null,"19.",{"v":10720,"d":"10,720 "},{"$f":"-(SUMIFS('Accounting Data'!C2:C100000,'Accounting Data'!E2:E100000,\"3??\",'Accounting Data'!J2:J100000,\"1???\")+SUMIFS('Accounting Data'!C2:C100000,'Accounting Data'!E2:E100000,\"3??\",'Accounting Data'!J2:J100000,\"2???\")+SUMIFS('Accounting Data'!C2:C100000,'Accounting Data'!E2:E100000,\"3??\",'Accounting Data'!J2:J100000,\"3???\")+SUMIFS('Accounting Data'!C2:C100000,'Accounting Data'!E2:E100000,\"3??\",'Accounting Data'!J2:J100000,\"4???\")+SUM(SUMIFS('Accounting Data'!C2:C100000,'Accounting Data'!E2:E100000,\"COVID\",'Accounting Data'!J2:J100000,{\"1???\",\"2???\",\"3???\",\"4???\"})))-SUM(F23:F26)","v":{"v":9074,"d":"9,074 "}},{"v":0,"d":"0 "},{"v":0,"d":"0 "},{"$f":"(SUMIFS('Accounting Data'!C2:C100000,'Accounting Data'!E2:E100000,\"3??\",'Accounting Data'!J2:J100000,\"6???\")+SUMIFS('Accounting Data'!C2:C100000,'Accounting Data'!E2:E100000,\"COVID\",'Accounting Data'!J2:J100000,\"6???\"))-SUM(I23:I26,P23:P27)","v":{"v":145052,"d":"145,052 "}},{"$f":"E27+F27+G27-I27","v":{"v":-125258,"d":"(125,258)"}},"No","19.",null,"19.",{"$f":"-(SUMIFS('Accounting Data'!C2:C100000,'Accounting Data'!E2:E100000,\"3??\",'Accounting Data'!J2:J100000,\"5???\"))-(SUMIFS('Accounting Data'!C2:C100000,'Accounting Data'!E2:E100000,\"COVID\",'Accounting Data'!J2:J100000,\"5???\"))-SUM(O23:O26)","v":{"v":0,"d":"0 "}},{"$f":"SUMIFS('Accounting Data'!C2:C100000,'Accounting Data'!E2:E100000,\"3??\",'Accounting Data'!J2:J100000,\"69??\")+SUMIFS('Accounting Data'!C2:C100000,'Accounting Data'!E2:E100000,\"COVID\",'Accounting Data'!J2:J100000,\"69??\")-SUM(P23:P26)","v":{"v":0,"d":"0 "}},"19."]
["699 Federal Impact Aid (Construction)",null,null,"20.",{"v":0,"d":"0 "},{"$f":"-(SUMIFS('Accounting Data'!C2:C100000,'Accounting Data'!E2:E100000,\"699\",'Accounting Data'!J2:J100000,\"1???\")+SUMIFS('Accounting Data'!C2:C100000,'Accounting Data'!E2:E100000,\"699\",'Accounting Data'!J2:J100000,\"2???\")+SUMIFS('Accounting Data'!C2:C100000,'Accounting Data'!E2:E100000,\"699\",'Accounting Data'!J2:J100000,\"3???\")+SUMIFS('Accounting Data'!C2:C100000,'Accounting Data'!E2:E100000,\"699\",'Accounting Data'!J2:J100000,\"4???\"))","v":{"v":0,"d":"0 "}},{"v":0,"d":"0 "},{"v":0,"d":"0 "},{"$f":"SUMIFS('Accounting Data'!C2:C100000,'Accounting Data'!E2:E100000,\"699\",'Accounting Data'!J2:J100000,\"6???\")-P28","v":{"v":0,"d":"0 "}},{"$f":"E28+F28+G28-I28","v":{"v":0,"d":"0 "}},null,"20.",null,"20.",{"$f":"-(SUMIFS('Accounting Data'!C2:C100000,'Accounting Data'!E2:E100000,\"699\",'Accounting Data'!J2:J100000,\"5???\"))","v":{"v":0,"d":"0 "}},{"$f":"SUMIFS('Accounting Data'!C2:C100000,'Accounting Data'!E2:E100000,\"699\",'Accounting Data'!J2:J100000,\"69??\")","v":{"v":0,"d":"0 "}},"20."]
["Total Federal Project Funds (lines 1-20)",null,null,"21.",{"$f":"SUM(E9:E28)","v":{"v":2160,"d":"2,160 "}},{"v":46694,"d":"46,694 "},{"v":0,"d":"0 "},{"v":22500,"d":"22,500 "},{"v":176535,"d":"176,535 "},{"v":-127681,"d":"(127,681)"},null,"21."]
[]
["Total COVID-19 Federal Relief Funds included in lines above",null,null,"22.",{"$f":"'Accounting Data'!R542","v":{"v":-63232,"d":"(63,232)"}},{"$f":"-((SUM(SUMIFS('Accounting Data'!C2:C100000,'Accounting Data'!E2:E100000,\"COVID\",'Accounting Data'!J2:J100000,{\"1???\",\"2???\",\"3???\",\"4???\"})))+SUM(SUMIFS('Accounting Data'!C2:C100000,'Accounting Data'!E2:E100000,\"227\",'Accounting Data'!J2:J100000,{\"1???\",\"2???\",\"3???\",\"4???\"}))+SUM(SUMIFS('Accounting Data'!C2:C100000,'Accounting Data'!E2:E100000,\"228\",'Accounting Data'!J2:J100000,{\"1???\",\"2???\",\"3???\",\"4???\"})))","v":{"v":9075,"d":"9,075 "}},{"$f":"O31-P31","v":{"v":0,"d":"0 "}},null,{"$f":"SUMIFS('Accounting Data'!C2:C100000,'Accounting Data'!E2:E100000,\"COVID\",'Accounting Data'!J2:J100000,\"6???\")+SUMIFS('Accounting Data'!C2:C100000,'Accounting Data'!E2:E100000,\"227\",'Accounting Data'!J2:J100000,\"6???\")+SUMIFS('Accounting Data'!C2:C100000,'Accounting Data'!E2:E100000,\"228\",'Accounting Data'!J2:J100000,\"6???\")-P31","v":{"v":132168,"d":"132,168 "}},{"$f":"E31+F31+G31-I31","v":{"v":-186325,"d":"(186,325)"}},null,"22.",null,"22.",{"$f":"-(SUM(SUMIFS('Accounting Data'!C2:C100000,'Accounting Data'!E2:E100000,{\"COVID\",\"227\",\"228\"},'Accounting Data'!J2:J100000,\"5???\")))","v":{"v":0,"d":"0 "}},{"$f":"(SUM(SUMIFS('Accounting Data'!C2:C100000,'Accounting Data'!E2:E100000,{\"COVID\",\"227\",\"228\"},'Accounting Data'!J2:J100000,\"69??\")))","v":{"v":0,"d":"0 "}},"22."]
[]
[]
[]
["STATE PROJECTS",{"$nulls":13},"OTHER FINANCING SOURCES (2)","OTHER FINANCING USES (2)"]
["400 Vocational Education",null,null,"23.",{"$f":"'Accounting Data'!R308","v":{"v":0,"d":"0 "}},{"$f":"-(SUMIFS('Accounting Data'!C2:C100000,'Accounting Data'!E2:E100000,\"400\",'Accounting Data'!J2:J100000,\"1???\")+SUMIFS('Accounting Data'!C2:C100000,'Accounting Data'!E2:E100000,\"400\",'Accounting Data'!J2:J100000,\"2???\")+SUMIFS('Accounting Data'!C2:C100000,'Accounting Data'!E2:E100000,\"400\",'Accounting Data'!J2:J100000,\"3???\")+SUMIFS('Accounting Data'!C2:C100000,'Accounting Data'!E2:E100000,\"400\",'Accounting Data'!J2:J100000,\"4???\"))","v":{"v":0,"d":"0 "}},{"$f":"O36-P36","v":{"v":0,"d":"0 "}},{"$f":"[1]!F400BudgFY","v":{"v":0,"d":"0 "}},{"$f":"SUMIFS('Accounting Data'!C2:C100000,'Accounting Data'!E2:E100000,\"400\",'Accounting Data'!J2:J100000,\"6???\")-P36","v":{"v":0,"d":"0 "}},{"$f":"E36+F36-I36","v":{"v":0,"d":"0 "}},null,"23.",null,"23.",{"$f":"-(SUMIFS('Accounting Data'!C2:C100000,'Accounting Data'!E2:E100000,\"400\",'Accounting Data'!J2:J100000,\"5???\"))","v":{"v":0,"d":"0 "}},{"$f":"SUMIFS('Accounting Data'!C$2:C$100000,'Accounting Data'!E$2:E$100000,\"400\",'Accounting Data'!J$2:J$100000,\"69??\")","v":{"v":0,"d":"0 "}},"23."]
["410 Early Childhood Block Grant",null,null,"24.",{"$f":"'Accounting Data'!R309","v":{"v":0,"d":"0 "}},{"$f":"-(SUMIFS('Accounting Data'!C2:C100000,'Accounting Data'!E2:E100000,\"410\",'Accounting Data'!J2:J100000,\"1???\")+SUMIFS('Accounting Data'!C2:C100000,'Accounting Data'!E2:E100000,\"410\",'Accounting Data'!J2:J100000,\"2???\")+SUMIFS('Accounting Data'!C2:C100000,'Accounting Data'!E2:E100000,\"410\",'Accounting Data'!J2:J100000,\"3???\")+SUMIFS('Accounting Data'!C2:C100000,'Accounting Data'!E2:E100000,\"410\",'Accounting Data'!J2:J100000,\"4???\"))","v":{"v":0,"d":"0 "}},{"v":0,"d":"0 "},{"$f":"[1]!F410BudgFY","v":{"v":0,"d":"0 "}},{"$f":"SUMIFS('Accounting Data'!C2:C100000,'Accounting Data'!E2:E100000,\"410\",'Accounting Data'!J2:J100000,\"6???\")-P37","v":{"v":0,"d":"0 "}},{"$f":"E37+F37-I37","v":{"v":0,"d":"0 "}},null,"24",null,"24",{"$f":"-(SUMIFS('Accounting Data'!C2:C100000,'Accounting Data'!E2:E100000,\"410\",'Accounting Data'!J2:J100000,\"5???\"))","v":{"v":0,"d":"0 "}},{"$f":"SUMIFS('Accounting Data'!C$2:C$100000,'Accounting Data'!E$2:E$100000,\"410\",'Accounting Data'!J$2:J$100000,\"69??\")","v":{"v":0,"d":"0 "}},"24"]
["420 Ext. School Yr. - Pupils with Disabilities",null,null,"25.",{"$f":"'Accounting Data'!R310","v":{"v":0,"d":"0 "}},{"$f":"-(SUMIFS('Accounting Data'!C2:C100000,'Accounting Data'!E2:E100000,\"420\",'Accounting Data'!J2:J100000,\"1???\")+SUMIFS('Accounting Data'!C2:C100000,'Accounting Data'!E2:E100000,\"420\",'Accounting Data'!J2:J100000,\"2???\")+SUMIFS('Accounting Data'!C2:C100000,'Accounting Data'!E2:E100000,\"420\",'Accounting Data'!J2:J100000,\"3???\")+SUMIFS('Accounting Data'!C2:C100000,'Accounting Data'!E2:E100000,\"420\",'Accounting Data'!J2:J100000,\"4???\"))","v":{"v":0,"d":"0 "}},{"v":0,"d":"0 "},{"$f":"[1]!F420BudgFY","v":{"v":0,"d":"0 "}},{"$f":"SUMIFS('Accounting Data'!C2:C100000,'Accounting Data'!E2:E100000,\"420\",'Accounting Data'!J2:J100000,\"6???\")-P38","v":{"v":0,"d":"0 "}},{"v":0,"d":"0 "},null,"25.",null,"25.",{"$f":"-(SUMIFS('Accounting Data'!C2:C100000,'Accounting Data'!E2:E100000,\"420\",'Accounting Data'!J2:J100000,\"5???\"))","v":{"v":0,"d":"0 "}},{"$f":"SUMIFS('Accounting Data'!C$2:C$100000,'Accounting Data'!E$2:E$100000,\"420\",'Accounting Data'!J$2:J$100000,\"69??\")","v":{"v":0,"d":"0 "}},"25."]
["425 Adult Basic Education",null,null,"26.",{"$f":"'Accounting Data'!R311","v":{"v":0,"d":"0 "}},{"$f":"-(SUMIFS('Accounting Data'!C2:C100000,'Accounting Data'!E2:E100000,\"425\",'Accounting Data'!J2:J100000,\"1???\")+SUMIFS('Accounting Data'!C2:C100000,'Accounting Data'!E2:E100000,\"425\",'Accounting Data'!J2:J100000,\"2???\")+SUMIFS('Accounting Data'!C2:C100000,'Accounting Data'!E2:E100000,\"425\",'Accounting Data'!J2:J100000,\"3???\")+SUMIFS('Accounting Data'!C2:C100000,'Accounting Data'!E2:E100000,\"425\",'Accounting Data'!J2:J100000,\"4???\"))","v":{"v":0,"d":"0 "}},{"v":0,"d":"0 "},{"$f":"[1]!F425BudgFY","v":{"v":0,"d":"0 "}},{"$f":"SUMIFS('Accounting Data'!C2:C100000,'Accounting Data'!E2:E100000,\"425\",'Accounting Data'!J2:J100000,\"6???\")-P39","v":{"v":0,"d":"0 "}},{"v":0,"d":"0 "},null,"26.",null,"26.",{"$f":"-(SUMIFS('Accounting Data'!C2:C100000,'Accounting Data'!E2:E100000,\"425\",'Accounting Data'!J2:J100000,\"5???\"))","v":{"v":0,"d":"0 "}},{"$f":"SUMIFS('Accounting Data'!C$2:C$100000,'Accounting Data'!E$2:E$100000,\"425\",'Accounting Data'!J$2:J$100000,\"69??\")","v":{"v":0,"d":"0 "}},"26."]
["430 Chemical Abuse Prevention Programs",null,null,"27.",{"$f":"'Accounting Data'!R312","v":{"v":0,"d":"0 "}},{"$f":"-(SUMIFS('Accounting Data'!C2:C100000,'Accounting Data'!E2:E100000,\"430\",'Accounting Data'!J2:J100000,\"1???\")+SUMIFS('Accounting Data'!C2:C100000,'Accounting Data'!E2:E100000,\"430\",'Accounting Data'!J2:J100000,\"2???\")+SUMIFS('Accounting Data'!C2:C100000,'Accounting Data'!E2:E100000,\"430\",'Accounting Data'!J2:J100000,\"3???\")+SUMIFS('Accounting Data'!C2:C100000,'Accounting Data'!E2:E100000,\"430\",'Accounting Data'!J2:J100000,\"4???\"))","v":{"v":0,"d":"0 "}},{"v":0,"d":"0 "},{"$f":"[1]!F430BudgFY","v":{"v":0,"d":"0 "}},{"$f":"SUMIFS('Accounting Data'!C2:C100000,'Accounting Data'!E2:E100000,\"430\",'Accounting Data'!J2:J100000,\"6???\")-P40","v":{"v":0,"d":"0 "}},{"v":0,"d":"0 "},null,"27.",null,"27.",{"$f":"-(SUMIFS('Accounting Data'!C2:C100000,'Accounting Data'!E2:E100000,\"430\",'Accounting Data'!J2:J100000,\"5???\"))","v":{"v":0,"d":"0 "}},{"$f":"SUMIFS('Accounting Data'!C$2:C$100000,'Accounting Data'!E$2:E$100000,\"430\",'Accounting Data'!J$2:J$100000,\"69??\")","v":{"v":0,"d":"0 "}},"27."]
["435 Academic Contests",null,null,"28.",{"$f":"'Accounting Data'!R313","v":{"v":0,"d":"0 "}},{"$f":"-(SUMIFS('Accounting Data'!C2:C100000,'Accounting Data'!E2:E100000,\"435\",'Accounting Data'!J2:J100000,\"1???\")+SUMIFS('Accounting Data'!C2:C100000,'Accounting Data'!E2:E100000,\"435\",'Accounting Data'!J2:J100000,\"2???\")+SUMIFS('Accounting Data'!C2:C100000,'Accounting Data'!E2:E100000,\"435\",'Accounting Data'!J2:J100000,\"3???\")+SUMIFS('Accounting Data'!C2:C100000,'Accounting Data'!E2:E100000,\"435\",'Accounting Data'!J2:J100000,\"4???\"))","v":{"v":0,"d":"0 "}},{"v":0,"d":"0 "},{"$f":"[1]!F435BudgFY","v":{"v":0,"d":"0 "}},{"$f":"SUMIFS('Accounting Data'!C2:C100000,'Accounting Data'!E2:E100000,\"435\",'Accounting Data'!J2:J100000,\"6???\")-P41","v":{"v":0,"d":"0 "}},{"v":0,"d":"0 "},null,"28.",null,"28.",{"$f":"-(SUMIFS('Accounting Data'!C2:C100000,'Accounting Data'!E2:E100000,\"435\",'Accounting Data'!J2:J100000,\"5???\"))","v":{"v":0,"d":"0 "}},{"$f":"SUMIFS('Accounting Data'!C$2:C$100000,'Accounting Data'!E$2:E$100000,\"435\",'Accounting Data'!J$2:J$100000,\"69??\")","v":{"v":0,"d":"0 "}},"28."]
["450 Gifted Education",null,null,"29.",{"$f":"'Accounting Data'!R314","v":{"v":0,"d":"0 "}},{"$f":"-(SUMIFS('Accounting Data'!C2:C100000,'Accounting Data'!E2:E100000,\"450\",'Accounting Data'!J2:J100000,\"1???\")+SUMIFS('Accounting Data'!C2:C100000,'Accounting Data'!E2:E100000,\"450\",'Accounting Data'!J2:J100000,\"2???\")+SUMIFS('Accounting Data'!C2:C100000,'Accounting Data'!E2:E100000,\"450\",'Accounting Data'!J2:J100000,\"3???\")+SUMIFS('Accounting Data'!C2:C100000,'Accounting Data'!E2:E100000,\"450\",'Accounting Data'!J2:J100000,\"4???\"))","v":{"v":0,"d":"0 "}},{"v":0,"d":"0 "},{"$f":"[1]!F450BudgFY","v":{"v":0,"d":"0 "}},{"$f":"SUMIFS('Accounting Data'!C2:C100000,'Accounting Data'!E2:E100000,\"450\",'Accounting Data'!J2:J100000,\"6???\")-P42","v":{"v":0,"d":"0 "}},{"v":0,"d":"0 "},null,"29.",null,"29.",{"$f":"-(SUMIFS('Accounting Data'!C2:C100000,'Accounting Data'!E2:E100000,\"450\",'Accounting Data'!J2:J100000,\"5???\"))","v":{"v":0,"d":"0 "}},{"$f":"SUMIFS('Accounting Data'!C$2:C$100000,'Accounting Data'!E$2:E$100000,\"450\",'Accounting Data'!J$2:J$100000,\"69??\")","v":{"v":0,"d":"0 "}},"29."]
["456 College Credit Exam Incentives",null,null,"30.",{"$f":"'Accounting Data'!R315","v":{"v":0,"d":"0 "}},{"$f":"-(SUMIFS('Accounting Data'!C2:C100000,'Accounting Data'!E2:E100000,\"456\",'Accounting Data'!J2:J100000,\"1???\")+SUMIFS('Accounting Data'!C2:C100000,'Accounting Data'!E2:E100000,\"456\",'Accounting Data'!J2:J100000,\"2???\")+SUMIFS('Accounting Data'!C2:C100000,'Accounting Data'!E2:E100000,\"456\",'Accounting Data'!J2:J100000,\"3???\")+SUMIFS('Accounting Data'!C2:C100000,'Accounting Data'!E2:E100000,\"456\",'Accounting Data'!J2:J100000,\"4???\"))","v":{"v":0,"d":"0 "}},{"v":0,"d":"0 "},{"$f":"'[1]Page 6'!$J$33","v":{"v":0,"d":"0 "}},{"$f":"SUMIFS('Accounting Data'!C2:C100000,'Accounting Data'!E2:E100000,\"456\",'Accounting Data'!J2:J100000,\"6???\")-P43","v":{"v":0,"d":"0 "}},{"v":0,"d":"0 "},null,"30.",null,"30.",{"$f":"-(SUMIFS('Accounting Data'!C2:C100000,'Accounting Data'!E2:E100000,\"456\",'Accounting Data'!J2:J100000,\"5???\"))","v":{"v":0,"d":"0 "}},{"$f":"SUMIFS('Accounting Data'!C$2:C$100000,'Accounting Data'!E$2:E$100000,\"456\",'Accounting Data'!J$2:J$100000,\"69??\")","v":{"v":0,"d":"0 "}},"30."]
["457 Results-based Funding",null,null,"31.",{"$f":"'Accounting Data'!R316","v":{"v":0,"d":"0 "}},{"$f":"-(SUMIFS('Accounting Data'!C2:C100000,'Accounting Data'!E2:E100000,\"457\",'Accounting Data'!J2:J100000,\"1???\")+SUMIFS('Accounting Data'!C2:C100000,'Accounting Data'!E2:E100000,\"457\",'Accounting Data'!J2:J100000,\"2???\")+SUMIFS('Accounting Data'!C2:C100000,'Accounting Data'!E2:E100000,\"457\",'Accounting Data'!J2:J100000,\"3???\")+SUMIFS('Accounting Data'!C2:C100000,'Accounting Data'!E2:E100000,\"457\",'Accounting Data'!J2:J100000,\"4???\"))","v":{"v":7850,"d":"7,850 "}},{"v":0,"d":"0 "},{"$f":"'[1]Page 6'!$J$34","v":{"v":0,"d":"0 "}},{"$f":"SUMIFS('Accounting Data'!C2:C100000,'Accounting Data'!E2:E100000,\"457\",'Accounting Data'!J2:J100000,\"6???\")-P44","v":{"v":0,"d":"0 "}},{"$f":"E44+F44-I44","v":{"v":7850,"d":"7,850 "}},null,"31.",null,"31.",{"$f":"-(SUMIFS('Accounting Data'!C2:C100000,'Accounting Data'!E2:E100000,\"457\",'Accounting Data'!J2:J100000,\"5???\"))","v":{"v":0,"d":"0 "}},{"$f":"SUMIFS('Accounting Data'!C$2:C$100000,'Accounting Data'!E$2:E$100000,\"457\",'Accounting Data'!J$2:J$100000,\"69??\")","v":{"v":0,"d":"0 "}},"31."]
["460 Environmental Special Plate",null,null,"32.",{"$f":"'Accounting Data'!R317","v":{"v":0,"d":"0 "}},{"$f":"-(SUMIFS('Accounting Data'!C2:C100000,'Accounting Data'!E2:E100000,\"460\",'Accounting Data'!J2:J100000,\"1???\")+SUMIFS('Accounting Data'!C2:C100000,'Accounting Data'!E2:E100000,\"460\",'Accounting Data'!J2:J100000,\"2???\")+SUMIFS('Accounting Data'!C2:C100000,'Accounting Data'!E2:E100000,\"460\",'Accounting Data'!J2:J100000,\"3???\")+SUMIFS('Accounting Data'!C2:C100000,'Accounting Data'!E2:E100000,\"460\",'Accounting Data'!J2:J100000,\"4???\"))","v":{"v":0,"d":"0 "}},{"v":0,"d":"0 "},{"$f":"[1]!F460BudgFY","v":{"v":0,"d":"0 "}},{"$f":"SUMIFS('Accounting Data'!C2:C100000,'Accounting Data'!E2:E100000,\"460\",'Accounting Data'!J2:J100000,\"6???\")-P45","v":{"v":0,"d":"0 "}},{"$f":"E45+F45-I45","v":{"v":0,"d":"0 "}},null,"32.",null,"32.",{"$f":"-(SUMIFS('Accounting Data'!C2:C100000,'Accounting Data'!E2:E100000,\"460\",'Accounting Data'!J2:J100000,\"5???\"))","v":{"v":0,"d":"0 "}},{"$f":"SUMIFS('Accounting Data'!C$2:C$100000,'Accounting Data'!E$2:E$100000,\"460\",'Accounting Data'!J$2:J$100000,\"69??\")","v":{"v":0,"d":"0 "}},"32."]
["465-499 Other State Projects",null,null,"33.",{"$f":"'Accounting Data'!R318","v":{"v":708,"d":"708 "}},{"$f":"-(SUMIFS('Accounting Data'!C2:C100000,'Accounting Data'!E2:E100000,\"4??\",'Accounting Data'!J2:J100000,\"1???\")+SUMIFS('Accounting Data'!C2:C100000,'Accounting Data'!E2:E100000,\"4??\",'Accounting Data'!J2:J100000,\"2???\")+SUMIFS('Accounting Data'!C2:C100000,'Accounting Data'!E2:E100000,\"4??\",'Accounting Data'!J2:J100000,\"3???\")+SUMIFS('Accounting Data'!C2:C100000,'Accounting Data'!E2:E100000,\"4??\",'Accounting Data'!J2:J100000,\"4???\"))-SUM(F36:F45)","v":{"v":0,"d":"0 "}},{"v":0,"d":"0 "},{"$f":"[1]!F465499BudgFY","v":{"v":0,"d":"0 "}},{"$f":"SUMIFS('Accounting Data'!C2:C100000,'Accounting Data'!E2:E100000,\"4??\",'Accounting Data'!J2:J100000,\"6???\")-SUM(I36:I45)-SUM(P36:P45)-P46","v":{"v":0,"d":"0 "}},{"$f":"E46+F46-I46","v":{"v":708,"d":"708 "}},"No","33.",null,"33.",{"$f":"-(SUMIFS('Accounting Data'!C2:C100000,'Accounting Data'!E2:E100000,\"4??\",'Accounting Data'!J2:J100000,\"5???\"))-SUM(O36:O45)","v":{"v":0,"d":"0 "}},{"$f":"SUMIFS('Accounting Data'!C$2:C$100000,'Accounting Data'!E$2:E$100000,\"4??\",'Accounting Data'!J$2:J$100000,\"69??\")-SUM(P36:P45)","v":{"v":0,"d":"0 "}},"33."]
["Total State Project Funds (lines 23-33)",null,null,"34.",{"$f":"SUM(E36:E46)","v":{"v":708,"d":"708 "}},{"v":7850,"d":"7,850 "},{"v":0,"d":"0 "},{"v":0,"d":"0 "},{"v":0,"d":"0 "},{"v":8558,"d":"8,558 "},null,"34."]
[]
["Total Federal and State Projects (lines 21 and 34)",null,null,"35.",{"$f":"SUM(E29+E47)","v":{"v":2868,"d":"2,868 "}},{"v":54544,"d":"54,544 "},{"v":0,"d":"0 "},{"v":22500,"d":"22,500 "},{"v":176535,"d":"176,535 "},{"v":-119123,"d":"(119,123)"},null,"35."]
[]
["(1) In accordance with the USFR Chart of Accounts, the Impact Aid Fund may transfer monies (object code 6930) to the M&O and Teacherage Funds; the Impact Aid Fund may also receive transfers-in (object code 5200) from the Impact Aid Revenue Bond Building and Impact Aid Revenue Bond Debt Service Funds; all other Federal Projects Funds may not receive any transfers-in and may only make transfers-out to the Indirect Costs Fund based on an approved indirect cost rate (object code 6910) and for any interest on federal program monies the district is not required to revert and chooses to transfer to the Indirect Cost Fund (object code 6930)."]
[]
[]
[]
["(2) In accordance with the USFR Chart of Accounts, transfers of monies between funds should be made only when specifically authorized by statute or allowed by a federal grant. Currently, there are no allowable transfers to or from any state projects."]

{"sheet":"Page 6","index":6,"n_rows":54,"n_cols":25,"rows_kept":54,"merged":[[0,1,0,3],[0,6,0,8],[0,21,2,22],[2,5,3,5],[2,6,2,7],[3,6,3,7],[3,10,4,13],[4,6,4,7],[15,10,16,13],[26,10,27,13],[30,10,30,11],[32,10,33,11],[34,10,34,11],[36,10,36,11],[38,10,38,11]]}
["DISTRICT NAME",{"$f":"CoverDistrictName","v":"Double Adobe Elementary School "},{"$nulls":3},"COUNTY",{"$f":"County","v":"Cochise"},{"$nulls":3},"CTDS NUMBER",{"$f":"Cover!Q1","v":"020345000"}]
[]
[{"$nulls":5},"NET OTHER FINANCING SOURCES AND USES",{"$nulls":11},"OTHER FINANCING","OTHER FINANCING"]
[{"$nulls":3},"BEGINNING",{"$nulls":4},"ENDING FUND",null,{"$f":"IF(N13<>N14,\"Total detailed Instructional Improvement Fund expenditures reported on line 5 do not agree with your accounting records. Please verify entered amounts.\",\"\")","v":""},{"$nulls":6},"SOURCES INCLUDING","USES INCLUDING"]
[{"$nulls":3},"FUND BALANCE","REVENUES","INCLUDING TRANSFERS","EXPENDITURES",null,"BALANCE",{"$nulls":8},"TRANSFERS-IN","TRANSFERS-OUT"]
["OTHER FUNDS",null,null,"ACTUAL","ACTUAL","ACTUAL","BUDGET","ACTUAL","ACTUAL",{"$nulls":8},5000,6900]
["020 Instructional Improvement",null,"1.",{"$f":"'Accounting Data'!R4","v":{"v":8206,"d":"8,206 "}},{"$f":"-(SUMIFS('Accounting Data'!C$2:C$100000,'Accounting Data'!E$2:E$100000,\"020\",'Accounting Data'!J$2:J$100000,\"1???\")+SUMIFS('Accounting Data'!C$2:C$100000,'Accounting Data'!E$2:E$100000,\"020\",'Accounting Data'!J$2:J$100000,\"2???\")+SUMIFS('Accounting Data'!C$2:C$100000,'Accounting Data'!E$2:E$100000,\"020\",'Accounting Data'!J$2:J$100000,\"3???\")+SUMIFS('Accounting Data'!C$2:C$100000,'Accounting Data'!E$2:E$100000,\"020\",'Accounting Data'!J$2:J$100000,\"4???\"))","v":{"v":3123,"d":"3,123 "}},null,{"$f":"M13","v":{"v":0,"d":"0 "}},{"$f":"ROUND(SUMIFS('Accounting Data'!C2:C100000,'Accounting Data'!E2:E100000,\"020\",'Accounting Data'!J2:J100000,\"6???\")-SUMIFS('Accounting Data'!C2:C100000,'Accounting Data'!E2:E100000,\"020\",'Accounting Data'!J2:J100000,\"69??\"),0)","v":{"v":0,"d":"0 "}},{"$f":"D7+E7+F7-H7","v":{"v":11329,"d":"11,329 "}},"1.","Instructional Improvement Fund 020",null,"BUDGET","ACTUAL",null,null,"1.",null,null,"1.",{"$nulls":4},{"$f":"IF(OR(Y9=\"yes\",Y40=\"yes\",Y41=\"yes\"),\"yes\",\"\")","v":""}]
["050 County, City, and Town Grants",null,"2.",{"$f":"'Accounting Data'!R5","v":{"v":0,"d":"0 "}},{"$f":"-(SUMIFS('Accounting Data'!C$2:C$100000,'Accounting Data'!E$2:E$100000,\"050\",'Accounting Data'!J$2:J$100000,\"1???\")+SUMIFS('Accounting Data'!C$2:C$100000,'Accounting Data'!E$2:E$100000,\"050\",'Accounting Data'!J$2:J$100000,\"2???\")+SUMIFS('Accounting Data'!C$2:C$100000,'Accounting Data'!E$2:E$100000,\"050\",'Accounting Data'!J$2:J$100000,\"3???\")+SUMIFS('Accounting Data'!C$2:C$100000,'Accounting Data'!E$2:E$100000,\"050\",'Accounting Data'!J$2:J$100000,\"4???\"))","v":{"v":0,"d":"0 "}},{"$f":"R8-S8","v":{"v":0,"d":"0 "}},{"$f":"[1]!F050BudgFY","v":{"v":0,"d":"0 "}},{"$f":"(SUMIFS('Accounting Data'!C$2:C$100000,'Accounting Data'!E$2:E$100000,\"050\",'Accounting Data'!J$2:J$100000,\"6???\"))-(SUMIFS('Accounting Data'!C$2:C$100000,'Accounting Data'!E$2:E$100000,\"050\",'Accounting Data'!J$2:J$100000,\"69??\"))","v":{"v":0,"d":"0 "}},{"$f":"D8+E8+F8-H8","v":{"v":0,"d":"0 "}},"2.","Expenditures",{"$nulls":5},"2.",{"$f":"-(SUMIFS('Accounting Data'!C$2:C$100000,'Accounting Data'!E$2:E$100000,\"050\",'Accounting Data'!J$2:J$100000,\"5???\"))","v":{"v":0,"d":"0 "}},{"$f":"(SUMIFS('Accounting Data'!C$2:C$100000,'Accounting Data'!E$2:E$100000,\"050\",'Accounting Data'!J$2:J$100000,\"69??\"))","v":{"v":0,"d":"0 "}},"2."]
["071 English Language Learner  (1)",null,"3.",{"$f":"'Accounting Data'!R6","v":{"v":0,"d":"0 "}},{"$f":"-(SUMIFS('Accounting Data'!C$2:C$100000,'Accounting Data'!E$2:E$100000,\"071\",'Accounting Data'!J$2:J$100000,\"1???\")+SUMIFS('Accounting Data'!C$2:C$100000,'Accounting Data'!E$2:E$100000,\"071\",'Accounting Data'!J$2:J$100000,\"2???\")+SUMIFS('Accounting Data'!C$2:C$100000,'Accounting Data'!E$2:E$100000,\"071\",'Accounting Data'!J$2:J$100000,\"3???\")+SUMIFS('Accounting Data'!C$2:C$100000,'Accounting Data'!E$2:E$100000,\"071\",'Accounting Data'!J$2:J$100000,\"4???\"))","v":{"v":0,"d":"0 "}},{"$f":"R9-S9","v":{"v":0,"d":"0 "}},{"$f":"[1]!F071BudgFY","v":{"v":0,"d":"0 "}},{"$f":"F071TOTALEXP","v":{"v":0,"d":"0 "}},{"$f":"D9+E9+F9-H9","v":{"v":0,"d":"0 "}},"3.","    Teacher Compensation Increases",null,{"$f":"[1]!F020TeachCompIncrBudgFY","v":{"v":0,"d":"0 "}},{"v":0,"d":"0 "},"1.",null,"3.",{"$f":"-(SUMIFS('Accounting Data'!C$2:C$100000,'Accounting Data'!E$2:E$100000,\"071\",'Accounting Data'!J$2:J$100000,\"5???\"))","v":{"v":0,"d":"0 "}},{"$f":"(SUMIFS('Accounting Data'!C$2:C$100000,'Accounting Data'!E$2:E$100000,\"071\",'Accounting Data'!J$2:J$100000,\"69??\"))","v":{"v":0,"d":"0 "}},"3.",{"$nulls":4},{"$f":"IF(OR(N9=\"\",N10=\"\",N11=\"\",N12=\"\"),\"yes\",\"\")","v":""}]
["072 Compensatory Instruction  (1)",null,"4.",{"$f":"'Accounting Data'!R7","v":{"v":0,"d":"0 "}},{"$f":"-(SUMIFS('Accounting Data'!C$2:C$100000,'Accounting Data'!E$2:E$100000,\"072\",'Accounting Data'!J$2:J$100000,\"1???\")+SUMIFS('Accounting Data'!C$2:C$100000,'Accounting Data'!E$2:E$100000,\"072\",'Accounting Data'!J$2:J$100000,\"2???\")+SUMIFS('Accounting Data'!C$2:C$100000,'Accounting Data'!E$2:E$100000,\"072\",'Accounting Data'!J$2:J$100000,\"3???\")+SUMIFS('Accounting Data'!C$2:C$100000,'Accounting Data'!E$2:E$100000,\"072\",'Accounting Data'!J$2:J$100000,\"4???\"))","v":{"v":0,"d":"0 "}},{"$f":"R10-S10","v":{"v":0,"d":"0 "}},{"$f":"[1]!F072BudgFY","v":{"v":0,"d":"0 "}},{"$f":"F072TOTALEXP","v":{"v":0,"d":"0 "}},{"$f":"D10+E10+F10-H10","v":{"v":0,"d":"0 "}},"4.","    Class Size Reduction",null,{"$f":"[1]!F020ClassSizeRedBudgFY","v":{"v":0,"d":"0 "}},{"v":0,"d":"0 "},"2.",null,"4.",{"$f":"-(SUMIFS('Accounting Data'!C$2:C$100000,'Accounting Data'!E$2:E$100000,\"072\",'Accounting Data'!J$2:J$100000,\"5???\"))","v":{"v":0,"d":"0 "}},{"$f":"(SUMIFS('Accounting Data'!C$2:C$100000,'Accounting Data'!E$2:E$100000,\"072\",'Accounting Data'!J$2:J$100000,\"69??\"))","v":{"v":0,"d":"0 "}},"4."]
["500 School Plant ",null,"5.",{"$f":"'Accounting Data'!R353","v":{"v":337,"d":"337 "}},{"$f":"-(SUMIFS('Accounting Data'!C$2:C$100000,'Accounting Data'!E$2:E$100000,\"500\",'Accounting Data'!J$2:J$100000,\"1???\")+SUMIFS('Accounting Data'!C$2:C$100000,'Accounting Data'!E$2:E$100000,\"500\",'Accounting Data'!J$2:J$100000,\"2???\")+SUMIFS('Accounting Data'!C$2:C$100000,'Accounting Data'!E$2:E$100000,\"500\",'Accounting Data'!J$2:J$100000,\"3???\")+SUMIFS('Accounting Data'!C$2:C$100000,'Accounting Data'!E$2:E$100000,\"500\",'Accounting Data'!J$2:J$100000,\"4???\"))","v":{"v":0,"d":"0 "}},{"$f":"R11-S11","v":{"v":0,"d":"0 "}},{"$f":"[1]!F500BudgFY","v":{"v":0,"d":"0 "}},{"$f":"(SUMIFS('Accounting Data'!C$2:C$100000,'Accounting Data'!E$2:E$100000,\"500\",'Accounting Data'!J$2:J$100000,\"6???\"))-(SUMIFS('Accounting Data'!C$2:C$100000,'Accounting Data'!E$2:E$100000,\"500\",'Accounting Data'!J$2:J$100000,\"69??\"))","v":{"v":0,"d":"0 "}},{"$f":"D11+E11+F11-H11","v":{"v":337,"d":"337 "}},"5.","    Dropout Prevention Programs",null,{"$f":"[1]!F020DropPrevProgBudgFY","v":{"v":0,"d":"0 "}},{"v":0,"d":"0 "},"3.",null,"5.",{"$f":"-(SUMIFS('Accounting Data'!C$2:C$100000,'Accounting Data'!E$2:E$100000,\"500\",'Accounting Data'!J$2:J$100000,\"5???\"))","v":{"v":0,"d":"0 "}},{"$f":"(SUMIFS('Accounting Data'!C$2:C$100000,'Accounting Data'!E$2:E$100000,\"500\",'Accounting Data'!J$2:J$100000,\"69??\"))","v":{"v":0,"d":"0 "}},"5."]
["515 Civic Center",null,"6.",{"$f":"'Accounting Data'!R355","v":{"v":0,"d":"0 "}},{"$f":"-(SUMIFS('Accounting Data'!C$2:C$100000,'Accounting Data'!E$2:E$100000,\"515\",'Accounting Data'!J$2:J$100000,\"1???\")+SUMIFS('Accounting Data'!C$2:C$100000,'Accounting Data'!E$2:E$100000,\"515\",'Accounting Data'!J$2:J$100000,\"2???\")+SUMIFS('Accounting Data'!C$2:C$100000,'Accounting Data'!E$2:E$100000,\"515\",'Accounting Data'!J$2:J$100000,\"3???\")+SUMIFS('Accounting Data'!C$2:C$100000,'Accounting Data'!E$2:E$100000,\"515\",'Accounting Data'!J$2:J$100000,\"4???\"))","v":{"v":0,"d":"0 "}},{"$f":"R12-S12","v":{"v":0,"d":"0 "}},{"$f":"[1]!F515BudgFY","v":{"v":0,"d":"0 "}},{"$f":"(SUMIFS('Accounting Data'!C$2:C$100000,'Accounting Data'!E$2:E$100000,\"515\",'Accounting Data'!J$2:J$100000,\"6???\"))-(SUMIFS('Accounting Data'!C$2:C$100000,'Accounting Data'!E$2:E$100000,\"515\",'Accounting Data'!J$2:J$100000,\"69??\"))","v":{"v":0,"d":"0 "}},{"v":0,"d":"0 "},"6.","    Instructional Improvement Programs",null,{"$f":"[1]!F020InstrImprProgBudgFY","v":{"v":0,"d":"0 "}},{"v":0,"d":"0 "},"4.",null,"6.",{"$f":"-(SUMIFS('Accounting Data'!C$2:C$100000,'Accounting Data'!E$2:E$100000,\"515\",'Accounting Data'!J$2:J$100000,\"5???\"))","v":{"v":0,"d":"0 "}},{"$f":"(SUMIFS('Accounting Data'!C$2:C$100000,'Accounting Data'!E$2:E$100000,\"515\",'Accounting Data'!J$2:J$100000,\"69??\"))","v":{"v":0,"d":"0 "}},"6."]
["520 Community School",null,"7.",{"$f":"'Accounting Data'!R356","v":{"v":0,"d":"0 "}},{"$f":"-(SUMIFS('Accounting Data'!C$2:C$100000,'Accounting Data'!E$2:E$100000,\"520\",'Accounting Data'!J$2:J$100000,\"1???\")+SUMIFS('Accounting Data'!C$2:C$100000,'Accounting Data'!E$2:E$100000,\"520\",'Accounting Data'!J$2:J$100000,\"2???\")+SUMIFS('Accounting Data'!C$2:C$100000,'Accounting Data'!E$2:E$100000,\"520\",'Accounting Data'!J$2:J$100000,\"3???\")+SUMIFS('Accounting Data'!C$2:C$100000,'Accounting Data'!E$2:E$100000,\"520\",'Accounting Data'!J$2:J$100000,\"4???\"))","v":{"v":0,"d":"0 "}},{"v":0,"d":"0 "},{"$f":"[1]!F520BudgFY","v":{"v":0,"d":"0 "}},{"$f":"(SUMIFS('Accounting Data'!C$2:C$100000,'Accounting Data'!E$2:E$100000,\"520\",'Accounting Data'!J$2:J$100000,\"6???\"))-(SUMIFS('Accounting Data'!C$2:C$100000,'Accounting Data'!E$2:E$100000,\"520\",'Accounting Data'!J$2:J$100000,\"69??\"))","v":{"v":0,"d":"0 "}},{"v":0,"d":"0 "},"7.","Total Expenditures (lines 1-4)",null,{"$f":"SUM(M9:M12)","v":{"v":0,"d":"0 "}},{"$f":"SUM(N9:N12)","v":{"v":0,"d":"0 "}},"5.",null,"7.",{"$f":"-(SUMIFS('Accounting Data'!C$2:C$100000,'Accounting Data'!E$2:E$100000,\"520\",'Accounting Data'!J$2:J$100000,\"5???\"))","v":{"v":0,"d":"0 "}},{"$f":"(SUMIFS('Accounting Data'!C$2:C$100000,'Accounting Data'!E$2:E$100000,\"520\",'Accounting Data'!J$2:J$100000,\"69??\"))","v":{"v":0,"d":"0 "}},"7."]
["525 Auxiliary Operations",null,"8.",{"$f":"'Accounting Data'!R357","v":{"v":0,"d":"0 "}},{"$f":"-(SUMIFS('Accounting Data'!C$2:C$100000,'Accounting Data'!E$2:E$100000,\"525\",'Accounting Data'!J$2:J$100000,\"1???\")+SUMIFS('Accounting Data'!C$2:C$100000,'Accounting Data'!E$2:E$100000,\"525\",'Accounting Data'!J$2:J$100000,\"2???\")+SUMIFS('Accounting Data'!C$2:C$100000,'Accounting Data'!E$2:E$100000,\"525\",'Accounting Data'!J$2:J$100000,\"3???\")+SUMIFS('Accounting Data'!C$2:C$100000,'Accounting Data'!E$2:E$100000,\"525\",'Accounting Data'!J$2:J$100000,\"4???\"))","v":{"v":0,"d":"0 "}},{"v":0,"d":"0 "},{"$f":"[1]!F525BudgFY","v":{"v":0,"d":"0 "}},{"$f":"(SUMIFS('Accounting Data'!C$2:C$100000,'Accounting Data'!E$2:E$100000,\"525\",'Accounting Data'!J$2:J$100000,\"6???\"))-(SUMIFS('Accounting Data'!C$2:C$100000,'Accounting Data'!E$2:E$100000,\"525\",'Accounting Data'!J$2:J$100000,\"69??\"))","v":{"v":0,"d":"0 "}},{"v":0,"d":"0 "},"8.","Total Expenditures from accounting data",null,null,{"$f":"F020ActExp","v":{"v":0,"d":"0 "}},"6.",null,"8.",{"$f":"-(SUMIFS('Accounting Data'!C$2:C$100000,'Accounting Data'!E$2:E$100000,\"525\",'Accounting Data'!J$2:J$100000,\"5???\"))","v":{"v":0,"d":"0 "}},{"$f":"(SUMIFS('Accounting Data'!C$2:C$100000,'Accounting Data'!E$2:E$100000,\"525\",'Accounting Data'!J$2:J$100000,\"69??\"))","v":{"v":0,"d":"0 "}},"8."]
["526 Extracurricular Activities Fees Tax Credit",null,"9.",{"$f":"'Accounting Data'!R358","v":{"v":17445,"d":"17,445 "}},{"$f":"-(SUMIFS('Accounting Data'!C$2:C$100000,'Accounting Data'!E$2:E$100000,\"526\",'Accounting Data'!J$2:J$100000,\"1???\")+SUMIFS('Accounting Data'!C$2:C$100000,'Accounting Data'!E$2:E$100000,\"526\",'Accounting Data'!J$2:J$100000,\"2???\")+SUMIFS('Accounting Data'!C$2:C$100000,'Accounting Data'!E$2:E$100000,\"526\",'Accounting Data'!J$2:J$100000,\"3???\")+SUMIFS('Accounting Data'!C$2:C$100000,'Accounting Data'!E$2:E$100000,\"526\",'Accounting Data'!J$2:J$100000,\"4???\"))","v":{"v":400,"d":"400 "}},{"v":0,"d":"0 "},{"$f":"[1]!F526BudgFY","v":{"v":0,"d":"0 "}},{"$f":"(SUMIFS('Accounting Data'!C$2:C$100000,'Accounting Data'!E$2:E$100000,\"526\",'Accounting Data'!J$2:J$100000,\"6???\"))-(SUMIFS('Accounting Data'!C$2:C$100000,'Accounting Data'!E$2:E$100000,\"526\",'Accounting Data'!J$2:J$100000,\"69??\"))","v":{"v":961,"d":"961 "}},{"v":16884,"d":"16,884 "},"9.",{"$nulls":6},"9.",{"$f":"-(SUMIFS('Accounting Data'!C$2:C$100000,'Accounting Data'!E$2:E$100000,\"526\",'Accounting Data'!J$2:J$100000,\"5???\"))","v":{"v":0,"d":"0 "}},{"$f":"(SUMIFS('Accounting Data'!C$2:C$100000,'Accounting Data'!E$2:E$100000,\"526\",'Accounting Data'!J$2:J$100000,\"69??\"))","v":{"v":0,"d":"0 "}},"9."]
["530 Gifts and Donations",null,"10.",{"$f":"'Accounting Data'!R359","v":{"v":66,"d":"66 "}},{"$f":"-(SUMIFS('Accounting Data'!C$2:C$100000,'Accounting Data'!E$2:E$100000,\"530\",'Accounting Data'!J$2:J$100000,\"1???\")+SUMIFS('Accounting Data'!C$2:C$100000,'Accounting Data'!E$2:E$100000,\"530\",'Accounting Data'!J$2:J$100000,\"2???\")+SUMIFS('Accounting Data'!C$2:C$100000,'Accounting Data'!E$2:E$100000,\"530\",'Accounting Data'!J$2:J$100000,\"3???\")+SUMIFS('Accounting Data'!C$2:C$100000,'Accounting Data'!E$2:E$100000,\"530\",'Accounting Data'!J$2:J$100000,\"4???\"))","v":{"v":0,"d":"0 "}},{"v":0,"d":"0 "},{"$f":"[1]!F530BudgFY","v":{"v":0,"d":"0 "}},{"$f":"(SUMIFS('Accounting Data'!C$2:C$100000,'Accounting Data'!E$2:E$100000,\"530\",'Accounting Data'!J$2:J$100000,\"6???\"))-(SUMIFS('Accounting Data'!C$2:C$100000,'Accounting Data'!E$2:E$100000,\"530\",'Accounting Data'!J$2:J$100000,\"69??\"))","v":{"v":0,"d":"0 "}},{"v":66,"d":"66 "},"10.","Check this box if your district did not have expenditures  in the Instructional Improvement Fund",{"$nulls":3},"X",null,"10.",{"$f":"-(SUMIFS('Accounting Data'!C$2:C$100000,'Accounting Data'!E$2:E$100000,\"530\",'Accounting Data'!J$2:J$100000,\"5???\"))","v":{"v":0,"d":"0 "}},{"$f":"(SUMIFS('Accounting Data'!C$2:C$100000,'Accounting Data'!E$2:E$100000,\"530\",'Accounting Data'!J$2:J$100000,\"69??\"))","v":{"v":0,"d":"0 "}},"10."]
["535 Career & Technical Education Projects",null,"11.",{"$f":"'Accounting Data'!R360","v":{"v":0,"d":"0 "}},{"$f":"-(SUMIFS('Accounting Data'!C$2:C$100000,'Accounting Data'!E$2:E$100000,\"535\",'Accounting Data'!J$2:J$100000,\"1???\")+SUMIFS('Accounting Data'!C$2:C$100000,'Accounting Data'!E$2:E$100000,\"535\",'Accounting Data'!J$2:J$100000,\"2???\")+SUMIFS('Accounting Data'!C$2:C$100000,'Accounting Data'!E$2:E$100000,\"535\",'Accounting Data'!J$2:J$100000,\"3???\")+SUMIFS('Accounting Data'!C$2:C$100000,'Accounting Data'!E$2:E$100000,\"535\",'Accounting Data'!J$2:J$100000,\"4???\"))","v":{"v":0,"d":"0 "}},{"v":0,"d":"0 "},{"$f":"[1]!F535BudgFY","v":{"v":0,"d":"0 "}},{"$f":"(SUMIFS('Accounting Data'!C$2:C$100000,'Accounting Data'!E$2:E$100000,\"535\",'Accounting Data'!J$2:J$100000,\"6???\"))-(SUMIFS('Accounting Data'!C$2:C$100000,'Accounting Data'!E$2:E$100000,\"535\",'Accounting Data'!J$2:J$100000,\"69??\"))","v":{"v":0,"d":"0 "}},{"v":0,"d":"0 "},"11.",{"$nulls":6},"11.",{"$f":"-(SUMIFS('Accounting Data'!C$2:C$100000,'Accounting Data'!E$2:E$100000,\"535\",'Accounting Data'!J$2:J$100000,\"5???\"))","v":{"v":0,"d":"0 "}},{"$f":"(SUMIFS('Accounting Data'!C$2:C$100000,'Accounting Data'!E$2:E$100000,\"535\",'Accounting Data'!J$2:J$100000,\"69??\"))","v":{"v":0,"d":"0 "}},"11."]
["540 Fingerprint",null,"12.",{"$f":"'Accounting Data'!R361","v":{"v":0,"d":"0 "}},{"$f":"-(SUMIFS('Accounting Data'!C$2:C$100000,'Accounting Data'!E$2:E$100000,\"540\",'Accounting Data'!J$2:J$100000,\"1???\")+SUMIFS('Accounting Data'!C$2:C$100000,'Accounting Data'!E$2:E$100000,\"540\",'Accounting Data'!J$2:J$100000,\"2???\")+SUMIFS('Accounting Data'!C$2:C$100000,'Accounting Data'!E$2:E$100000,\"540\",'Accounting Data'!J$2:J$100000,\"3???\")+SUMIFS('Accounting Data'!C$2:C$100000,'Accounting Data'!E$2:E$100000,\"540\",'Accounting Data'!J$2:J$100000,\"4???\"))","v":{"v":0,"d":"0 "}},{"v":0,"d":"0 "},{"$f":"[1]!F540BudgFY","v":{"v":0,"d":"0 "}},{"$f":"(SUMIFS('Accounting Data'!C$2:C$100000,'Accounting Data'!E$2:E$100000,\"540\",'Accounting Data'!J$2:J$100000,\"6???\"))-(SUMIFS('Accounting Data'!C$2:C$100000,'Accounting Data'!E$2:E$100000,\"540\",'Accounting Data'!J$2:J$100000,\"69??\"))","v":{"v":0,"d":"0 "}},{"v":0,"d":"0 "},"12.",{"$nulls":6},"12.",{"$f":"-(SUMIFS('Accounting Data'!C$2:C$100000,'Accounting Data'!E$2:E$100000,\"540\",'Accounting Data'!J$2:J$100000,\"5???\"))","v":{"v":0,"d":"0 "}},{"$f":"(SUMIFS('Accounting Data'!C$2:C$100000,'Accounting Data'!E$2:E$100000,\"540\",'Accounting Data'!J$2:J$100000,\"69??\"))","v":{"v":0,"d":"0 "}},"12."]
["545 School Opening",null,"13.",{"$f":"'Accounting Data'!R362","v":{"v":0,"d":"0 "}},{"$f":"-(SUMIFS('Accounting Data'!C$2:C$100000,'Accounting Data'!E$2:E$100000,\"545\",'Accounting Data'!J$2:J$100000,\"1???\")+SUMIFS('Accounting Data'!C$2:C$100000,'Accounting Data'!E$2:E$100000,\"545\",'Accounting Data'!J$2:J$100000,\"2???\")+SUMIFS('Accounting Data'!C$2:C$100000,'Accounting Data'!E$2:E$100000,\"545\",'Accounting Data'!J$2:J$100000,\"3???\")+SUMIFS('Accounting Data'!C$2:C$100000,'Accounting Data'!E$2:E$100000,\"545\",'Accounting Data'!J$2:J$100000,\"4???\"))","v":{"v":0,"d":"0 "}},{"v":0,"d":"0 "},{"$f":"[1]!F545BudgFY","v":{"v":0,"d":"0 "}},{"$f":"(SUMIFS('Accounting Data'!C$2:C$100000,'Accounting Data'!E$2:E$100000,\"545\",'Accounting Data'!J$2:J$100000,\"6???\"))-(SUMIFS('Accounting Data'!C$2:C$100000,'Accounting Data'!E$2:E$100000,\"545\",'Accounting Data'!J$2:J$100000,\"69??\"))","v":{"v":0,"d":"0 "}},{"v":0,"d":"0 "},"13.",{"$nulls":6},"13.",{"$f":"-(SUMIFS('Accounting Data'!C$2:C$100000,'Accounting Data'!E$2:E$100000,\"545\",'Accounting Data'!J$2:J$100000,\"5???\"))","v":{"v":0,"d":"0 "}},{"$f":"(SUMIFS('Accounting Data'!C$2:C$100000,'Accounting Data'!E$2:E$100000,\"545\",'Accounting Data'!J$2:J$100000,\"69??\"))","v":{"v":0,"d":"0 "}},"13."]
["550 Insurance Proceeds",null,"14.",{"$f":"'Accounting Data'!R363","v":{"v":5548,"d":"5,548 "}},{"$f":"-(SUMIFS('Accounting Data'!C$2:C$100000,'Accounting Data'!E$2:E$100000,\"550\",'Accounting Data'!J$2:J$100000,\"1???\")+SUMIFS('Accounting Data'!C$2:C$100000,'Accounting Data'!E$2:E$100000,\"550\",'Accounting Data'!J$2:J$100000,\"2???\")+SUMIFS('Accounting Data'!C$2:C$100000,'Accounting Data'!E$2:E$100000,\"550\",'Accounting Data'!J$2:J$100000,\"3???\")+SUMIFS('Accounting Data'!C$2:C$100000,'Accounting Data'!E$2:E$100000,\"550\",'Accounting Data'!J$2:J$100000,\"4???\"))","v":{"v":0,"d":"0 "}},{"v":0,"d":"0 "},{"$f":"[1]!F550BudgFY","v":{"v":0,"d":"0 "}},{"$f":"(SUMIFS('Accounting Data'!C$2:C$100000,'Accounting Data'!E$2:E$100000,\"550\",'Accounting Data'!J$2:J$100000,\"6???\"))-(SUMIFS('Accounting Data'!C$2:C$100000,'Accounting Data'!E$2:E$100000,\"550\",'Accounting Data'!J$2:J$100000,\"69??\"))","v":{"v":1440,"d":"1,440 "}},{"v":4108,"d":"4,108 "},"14.",{"$nulls":6},"14.",{"$f":"-(SUMIFS('Accounting Data'!C$2:C$100000,'Accounting Data'!E$2:E$100000,\"550\",'Accounting Data'!J$2:J$100000,\"5???\"))","v":{"v":0,"d":"0 "}},{"$f":"(SUMIFS('Accounting Data'!C$2:C$100000,'Accounting Data'!E$2:E$100000,\"550\",'Accounting Data'!J$2:J$100000,\"69??\"))","v":{"v":0,"d":"0 "}},"14."]
["555 Textbooks",null,"15.",{"$f":"'Accounting Data'!R364","v":{"v":871,"d":"871 "}},{"$f":"-(SUMIFS('Accounting Data'!C$2:C$100000,'Accounting Data'!E$2:E$100000,\"555\",'Accounting Data'!J$2:J$100000,\"1???\")+SUMIFS('Accounting Data'!C$2:C$100000,'Accounting Data'!E$2:E$100000,\"555\",'Accounting Data'!J$2:J$100000,\"2???\")+SUMIFS('Accounting Data'!C$2:C$100000,'Accounting Data'!E$2:E$100000,\"555\",'Accounting Data'!J$2:J$100000,\"3???\")+SUMIFS('Accounting Data'!C$2:C$100000,'Accounting Data'!E$2:E$100000,\"555\",'Accounting Data'!J$2:J$100000,\"4???\"))","v":{"v":0,"d":"0 "}},{"v":0,"d":"0 "},{"$f":"[1]!F555BudgFY","v":{"v":0,"d":"0 "}},{"$f":"(SUMIFS('Accounting Data'!C$2:C$100000,'Accounting Data'!E$2:E$100000,\"555\",'Accounting Data'!J$2:J$100000,\"6???\"))-(SUMIFS('Accounting Data'!C$2:C$100000,'Accounting Data'!E$2:E$100000,\"555\",'Accounting Data'!J$2:J$100000,\"69??\"))","v":{"v":0,"d":"0 "}},{"v":871,"d":"871 "},"15.",{"$nulls":6},"15.",{"$f":"-(SUMIFS('Accounting Data'!C$2:C$100000,'Accounting Data'!E$2:E$100000,\"555\",'Accounting Data'!J$2:J$100000,\"5???\"))","v":{"v":0,"d":"0 "}},{"$f":"(SUMIFS('Accounting Data'!C$2:C$100000,'Accounting Data'!E$2:E$100000,\"555\",'Accounting Data'!J$2:J$100000,\"69??\"))","v":{"v":0,"d":"0 "}},"15."]
["565 Litigation Recovery",null,"16.",{"$f":"'Accounting Data'!R365","v":{"v":72,"d":"72 "}},{"$f":"-(SUMIFS('Accounting Data'!C$2:C$100000,'Accounting Data'!E$2:E$100000,\"565\",'Accounting Data'!J$2:J$100000,\"1???\")+SUMIFS('Accounting Data'!C$2:C$100000,'Accounting Data'!E$2:E$100000,\"565\",'Accounting Data'!J$2:J$100000,\"2???\")+SUMIFS('Accounting Data'!C$2:C$100000,'Accounting Data'!E$2:E$100000,\"565\",'Accounting Data'!J$2:J$100000,\"3???\")+SUMIFS('Accounting Data'!C$2:C$100000,'Accounting Data'!E$2:E$100000,\"565\",'Accounting Data'!J$2:J$100000,\"4???\"))","v":{"v":0,"d":"0 "}},{"v":0,"d":"0 "},{"$f":"[1]!F565BudgFY","v":{"v":0,"d":"0 "}},{"$f":"(SUMIFS('Accounting Data'!C$2:C$100000,'Accounting Data'!E$2:E$100000,\"565\",'Accounting Data'!J$2:J$100000,\"6???\"))-(SUMIFS('Accounting Data'!C$2:C$100000,'Accounting Data'!E$2:E$100000,\"565\",'Accounting Data'!J$2:J$100000,\"69??\"))","v":{"v":0,"d":"0 "}},{"v":72,"d":"72 "},"16.",{"$nulls":6},"16.",{"$f":"-(SUMIFS('Accounting Data'!C$2:C$100000,'Accounting Data'!E$2:E$100000,\"565\",'Accounting Data'!J$2:J$100000,\"5???\"))","v":{"v":0,"d":"0 "}},{"$f":"(SUMIFS('Accounting Data'!C$2:C$100000,'Accounting Data'!E$2:E$100000,\"565\",'Accounting Data'!J$2:J$100000,\"69??\"))","v":{"v":0,"d":"0 "}},"16."]
["570 Indirect Costs",null,"17.",{"$f":"'Accounting Data'!R366","v":{"v":0,"d":"0 "}},{"$f":"-(SUMIFS('Accounting Data'!C$2:C$100000,'Accounting Data'!E$2:E$100000,\"570\",'Accounting Data'!J$2:J$100000,\"1???\")+SUMIFS('Accounting Data'!C$2:C$100000,'Accounting Data'!E$2:E$100000,\"570\",'Accounting Data'!J$2:J$100000,\"2???\")+SUMIFS('Accounting Data'!C$2:C$100000,'Accounting Data'!E$2:E$100000,\"570\",'Accounting Data'!J$2:J$100000,\"3???\")+SUMIFS('Accounting Data'!C$2:C$100000,'Accounting Data'!E$2:E$100000,\"570\",'Accounting Data'!J$2:J$100000,\"4???\"))","v":{"v":0,"d":"0 "}},{"v":0,"d":"0 "},{"$f":"[1]!F570BudgFY","v":{"v":0,"d":"0 "}},{"$f":"(SUMIFS('Accounting Data'!C$2:C$100000,'Accounting Data'!E$2:E$100000,\"570\",'Accounting Data'!J$2:J$100000,\"6???\"))-(SUMIFS('Accounting Data'!C$2:C$100000,'Accounting Data'!E$2:E$100000,\"570\",'Accounting Data'!J$2:J$100000,\"69??\"))","v":{"v":0,"d":"0 "}},{"v":0,"d":"0 "},"17.",{"$nulls":6},"17.",{"$f":"-(SUMIFS('Accounting Data'!C$2:C$100000,'Accounting Data'!E$2:E$100000,\"570\",'Accounting Data'!J$2:J$100000,\"5???\"))","v":{"v":0,"d":"0 "}},{"$f":"(SUMIFS('Accounting Data'!C$2:C$100000,'Accounting Data'!E$2:E$100000,\"570\",'Accounting Data'!J$2:J$100000,\"69??\"))","v":{"v":0,"d":"0 "}},"17."]
["575 Unemployment Insurance",null,"18.",{"$f":"'Accounting Data'!R367","v":{"v":0,"d":"0 "}},{"$f":"-(SUMIFS('Accounting Data'!C$2:C$100000,'Accounting Data'!E$2:E$100000,\"575\",'Accounting Data'!J$2:J$100000,\"1???\")+SUMIFS('Accounting Data'!C$2:C$100000,'Accounting Data'!E$2:E$100000,\"575\",'Accounting Data'!J$2:J$100000,\"2???\")+SUMIFS('Accounting Data'!C$2:C$100000,'Accounting Data'!E$2:E$100000,\"575\",'Accounting Data'!J$2:J$100000,\"3???\")+SUMIFS('Accounting Data'!C$2:C$100000,'Accounting Data'!E$2:E$100000,\"575\",'Accounting Data'!J$2:J$100000,\"4???\"))","v":{"v":0,"d":"0 "}},{"v":0,"d":"0 "},{"$f":"[1]!F575BudgFY","v":{"v":0,"d":"0 "}},{"$f":"(SUMIFS('Accounting Data'!C$2:C$100000,'Accounting Data'!E$2:E$100000,\"575\",'Accounting Data'!J$2:J$100000,\"6???\"))-(SUMIFS('Accounting Data'!C$2:C$100000,'Accounting Data'!E$2:E$100000,\"575\",'Accounting Data'!J$2:J$100000,\"69??\"))","v":{"v":0,"d":"0 "}},{"v":0,"d":"0 "},"18.",{"$nulls":6},"18.",{"$f":"-(SUMIFS('Accounting Data'!C$2:C$100000,'Accounting Data'!E$2:E$100000,\"575\",'Accounting Data'!J$2:J$100000,\"5???\"))","v":{"v":0,"d":"0 "}},{"$f":"(SUMIFS('Accounting Data'!C$2:C$100000,'Accounting Data'!E$2:E$100000,\"575\",'Accounting Data'!J$2:J$100000,\"69??\"))","v":{"v":0,"d":"0 "}},"18."]
["580 Teacherage",null,"19.",{"$f":"'Accounting Data'!R368","v":{"v":72,"d":"72 "}},{"$f":"-(SUMIFS('Accounting Data'!C$2:C$100000,'Accounting Data'!E$2:E$100000,\"580\",'Accounting Data'!J$2:J$100000,\"1???\")+SUMIFS('Accounting Data'!C$2:C$100000,'Accounting Data'!E$2:E$100000,\"580\",'Accounting Data'!J$2:J$100000,\"2???\")+SUMIFS('Accounting Data'!C$2:C$100000,'Accounting Data'!E$2:E$100000,\"580\",'Accounting Data'!J$2:J$100000,\"3???\")+SUMIFS('Accounting Data'!C$2:C$100000,'Accounting Data'!E$2:E$100000,\"580\",'Accounting Data'!J$2:J$100000,\"4???\"))","v":{"v":0,"d":"0 "}},{"v":0,"d":"0 "},{"$f":"[1]!F580BudgFY","v":{"v":0,"d":"0 "}},{"$f":"(SUMIFS('Accounting Data'!C$2:C$100000,'Accounting Data'!E$2:E$100000,\"580\",'Accounting Data'!J$2:J$100000,\"6???\"))-(SUMIFS('Accounting Data'!C$2:C$100000,'Accounting Data'!E$2:E$100000,\"580\",'Accounting Data'!J$2:J$100000,\"69??\"))","v":{"v":0,"d":"0 "}},{"v":72,"d":"72 "},"19.",{"$nulls":6},"19.",{"$f":"-(SUMIFS('Accounting Data'!C$2:C$100000,'Accounting Data'!E$2:E$100000,\"580\",'Accounting Data'!J$2:J$100000,\"5???\"))","v":{"v":0,"d":"0 "}},{"$f":"(SUMIFS('Accounting Data'!C$2:C$100000,'Accounting Data'!E$2:E$100000,\"580\",'Accounting Data'!J$2:J$100000,\"69??\"))","v":{"v":0,"d":"0 "}},"19."]
["585 Insurance Refund",null,"20.",{"$f":"'Accounting Data'!R369","v":{"v":0,"d":"0 "}},{"$f":"-(SUMIFS('Accounting Data'!C$2:C$100000,'Accounting Data'!E$2:E$100000,\"585\",'Accounting Data'!J$2:J$100000,\"1???\")+SUMIFS('Accounting Data'!C$2:C$100000,'Accounting Data'!E$2:E$100000,\"585\",'Accounting Data'!J$2:J$100000,\"2???\")+SUMIFS('Accounting Data'!C$2:C$100000,'Accounting Data'!E$2:E$100000,\"585\",'Accounting Data'!J$2:J$100000,\"3???\")+SUMIFS('Accounting Data'!C$2:C$100000,'Accounting Data'!E$2:E$100000,\"585\",'Accounting Data'!J$2:J$100000,\"4???\"))","v":{"v":0,"d":"0 "}},{"v":0,"d":"0 "},{"$f":"[1]!F585BudgFY","v":{"v":0,"d":"0 "}},{"$f":"(SUMIFS('Accounting Data'!C$2:C$100000,'Accounting Data'!E$2:E$100000,\"585\",'Accounting Data'!J$2:J$100000,\"6???\"))-(SUMIFS('Accounting Data'!C$2:C$100000,'Accounting Data'!E$2:E$100000,\"585\",'Accounting Data'!J$2:J$100000,\"69??\"))","v":{"v":0,"d":"0 "}},{"v":0,"d":"0 "},"20.",{"$nulls":6},"20.",{"$f":"-(SUMIFS('Accounting Data'!C$2:C$100000,'Accounting Data'!E$2:E$100000,\"585\",'Accounting Data'!J$2:J$100000,\"5???\"))","v":{"v":0,"d":"0 "}},{"$f":"(SUMIFS('Accounting Data'!C$2:C$100000,'Accounting Data'!E$2:E$100000,\"585\",'Accounting Data'!J$2:J$100000,\"69??\"))","v":{"v":0,"d":"0 "}},"20."]
["590 Grants and Gifts to Teachers",null,"21.",{"$f":"'Accounting Data'!R370","v":{"v":0,"d":"0 "}},{"$f":"-(SUMIFS('Accounting Data'!C$2:C$100000,'Accounting Data'!E$2:E$100000,\"590\",'Accounting Data'!J$2:J$100000,\"1???\")+SUMIFS('Accounting Data'!C$2:C$100000,'Accounting Data'!E$2:E$100000,\"590\",'Accounting Data'!J$2:J$100000,\"2???\")+SUMIFS('Accounting Data'!C$2:C$100000,'Accounting Data'!E$2:E$100000,\"590\",'Accounting Data'!J$2:J$100000,\"3???\")+SUMIFS('Accounting Data'!C$2:C$100000,'Accounting Data'!E$2:E$100000,\"590\",'Accounting Data'!J$2:J$100000,\"4???\"))","v":{"v":0,"d":"0 "}},{"v":0,"d":"0 "},{"$f":"[1]!F590BudgFY","v":{"v":0,"d":"0 "}},{"$f":"(SUMIFS('Accounting Data'!C$2:C$100000,'Accounting Data'!E$2:E$100000,\"590\",'Accounting Data'!J$2:J$100000,\"6???\"))-(SUMIFS('Accounting Data'!C$2:C$100000,'Accounting Data'!E$2:E$100000,\"590\",'Accounting Data'!J$2:J$100000,\"69??\"))","v":{"v":0,"d":"0 "}},{"v":0,"d":"0 "},"21.",{"$f":"IF(N39<>N40,\"Total detailed Arizona Industry Credentials Incentive Fund expenditures reported on line 6 do not agree with your accounting records. Please verify entered amounts.\",\"\")","v":""},{"$nulls":5},"21.",{"$f":"-(SUMIFS('Accounting Data'!C$2:C$100000,'Accounting Data'!E$2:E$100000,\"590\",'Accounting Data'!J$2:J$100000,\"5???\"))","v":{"v":0,"d":"0 "}},{"$f":"(SUMIFS('Accounting Data'!C$2:C$100000,'Accounting Data'!E$2:E$100000,\"590\",'Accounting Data'!J$2:J$100000,\"69??\"))","v":{"v":0,"d":"0 "}},"21."]
["595 Advertisement",null,"22.",{"$f":"'Accounting Data'!R371","v":{"v":0,"d":"0 "}},{"$f":"-(SUMIFS('Accounting Data'!C$2:C$100000,'Accounting Data'!E$2:E$100000,\"595\",'Accounting Data'!J$2:J$100000,\"1???\")+SUMIFS('Accounting Data'!C$2:C$100000,'Accounting Data'!E$2:E$100000,\"595\",'Accounting Data'!J$2:J$100000,\"2???\")+SUMIFS('Accounting Data'!C$2:C$100000,'Accounting Data'!E$2:E$100000,\"595\",'Accounting Data'!J$2:J$100000,\"3???\")+SUMIFS('Accounting Data'!C$2:C$100000,'Accounting Data'!E$2:E$100000,\"595\",'Accounting Data'!J$2:J$100000,\"4???\"))","v":{"v":0,"d":"0 "}},{"v":0,"d":"0 "},{"$f":"[1]!F595BudgFY","v":{"v":0,"d":"0 "}},{"$f":"(SUMIFS('Accounting Data'!C$2:C$100000,'Accounting Data'!E$2:E$100000,\"595\",'Accounting Data'!J$2:J$100000,\"6???\"))-(SUMIFS('Accounting Data'!C$2:C$100000,'Accounting Data'!E$2:E$100000,\"595\",'Accounting Data'!J$2:J$100000,\"69??\"))","v":{"v":0,"d":"0 "}},{"v":0,"d":"0 "},"22.",{"$nulls":6},"22.",{"$f":"-(SUMIFS('Accounting Data'!C$2:C$100000,'Accounting Data'!E$2:E$100000,\"595\",'Accounting Data'!J$2:J$100000,\"5???\"))","v":{"v":0,"d":"0 "}},{"$f":"(SUMIFS('Accounting Data'!C$2:C$100000,'Accounting Data'!E$2:E$100000,\"595\",'Accounting Data'!J$2:J$100000,\"69??\"))","v":{"v":0,"d":"0 "}},"22."]
["596 Career Technical Education",null,"23.",{"$f":"'Accounting Data'!R372","v":{"v":0,"d":"0 "}},{"$f":"-(SUMIFS('Accounting Data'!C$2:C$100000,'Accounting Data'!E$2:E$100000,\"596\",'Accounting Data'!J$2:J$100000,\"1???\")+SUMIFS('Accounting Data'!C$2:C$100000,'Accounting Data'!E$2:E$100000,\"596\",'Accounting Data'!J$2:J$100000,\"2???\")+SUMIFS('Accounting Data'!C$2:C$100000,'Accounting Data'!E$2:E$100000,\"596\",'Accounting Data'!J$2:J$100000,\"3???\")+SUMIFS('Accounting Data'!C$2:C$100000,'Accounting Data'!E$2:E$100000,\"596\",'Accounting Data'!J$2:J$100000,\"4???\"))","v":{"v":0,"d":"0 "}},{"v":0,"d":"0 "},{"$f":"[1]!F596BudgFY","v":{"v":0,"d":"0 "}},{"$f":"(SUMIFS('Accounting Data'!C$2:C$100000,'Accounting Data'!E$2:E$100000,\"596\",'Accounting Data'!J$2:J$100000,\"6???\"))-(SUMIFS('Accounting Data'!C$2:C$100000,'Accounting Data'!E$2:E$100000,\"596\",'Accounting Data'!J$2:J$100000,\"69??\"))","v":{"v":0,"d":"0 "}},{"v":0,"d":"0 "},"23.",{"$nulls":6},"23.",{"$f":"-(SUMIFS('Accounting Data'!C$2:C$100000,'Accounting Data'!E$2:E$100000,\"596\",'Accounting Data'!J$2:J$100000,\"5???\"))","v":{"v":0,"d":"0 "}},{"$f":"(SUMIFS('Accounting Data'!C$2:C$100000,'Accounting Data'!E$2:E$100000,\"596\",'Accounting Data'!J$2:J$100000,\"69??\"))","v":{"v":0,"d":"0 "}},"23."]
["597 Arizona Industry Credentials Incentive",null,"24.",{"$f":"'Accounting Data'!R373","v":{"v":0,"d":"0 "}},{"$f":"-(SUMIFS('Accounting Data'!C$2:C$100000,'Accounting Data'!E$2:E$100000,\"597\",'Accounting Data'!J$2:J$100000,\"1???\")+SUMIFS('Accounting Data'!C$2:C$100000,'Accounting Data'!E$2:E$100000,\"597\",'Accounting Data'!J$2:J$100000,\"2???\")+SUMIFS('Accounting Data'!C$2:C$100000,'Accounting Data'!E$2:E$100000,\"597\",'Accounting Data'!J$2:J$100000,\"3???\")+SUMIFS('Accounting Data'!C$2:C$100000,'Accounting Data'!E$2:E$100000,\"597\",'Accounting Data'!J$2:J$100000,\"4???\"))","v":{"v":0,"d":"0 "}},{"v":0,"d":"0 "},{"$f":"[1]!F597BudgFY","v":{"v":0,"d":"0 "}},{"$f":"ROUND((SUMIFS('Accounting Data'!C$2:C$100000,'Accounting Data'!E$2:E$100000,\"597\",'Accounting Data'!J$2:J$100000,\"6???\"))-(SUMIFS('Accounting Data'!C$2:C$100000,'Accounting Data'!E$2:E$100000,\"597\",'Accounting Data'!J$2:J$100000,\"69??\")),0)","v":{"v":0,"d":"0 "}},{"$f":"D30+E30+F30-H30","v":{"v":0,"d":"0 "}},"24.","Arizona Industry Credentials Incentive Fund 597",null,"BUDGET","ACTUAL",null,null,"24.",{"$f":"-(SUMIFS('Accounting Data'!C$2:C$100000,'Accounting Data'!E$2:E$100000,\"597\",'Accounting Data'!J$2:J$100000,\"5???\"))","v":{"v":0,"d":"0 "}},{"$f":"(SUMIFS('Accounting Data'!C$2:C$100000,'Accounting Data'!E$2:E$100000,\"597\",'Accounting Data'!J$2:J$100000,\"69??\"))","v":{"v":0,"d":"0 "}},"24."]
["639 Impact Aid Revenue Bond Building",null,"25.",{"$f":"'Accounting Data'!R377","v":{"v":0,"d":"0 "}},{"$f":"-(SUMIFS('Accounting Data'!C$2:C$100000,'Accounting Data'!E$2:E$100000,\"639\",'Accounting Data'!J$2:J$100000,\"1???\")+SUMIFS('Accounting Data'!C$2:C$100000,'Accounting Data'!E$2:E$100000,\"639\",'Accounting Data'!J$2:J$100000,\"2???\")+SUMIFS('Accounting Data'!C$2:C$100000,'Accounting Data'!E$2:E$100000,\"639\",'Accounting Data'!J$2:J$100000,\"3???\")+SUMIFS('Accounting Data'!C$2:C$100000,'Accounting Data'!E$2:E$100000,\"639\",'Accounting Data'!J$2:J$100000,\"4???\"))","v":{"v":0,"d":"0 "}},{"v":0,"d":"0 "},{"$f":"[1]!F639BudgFY","v":{"v":0,"d":"0 "}},{"$f":"(SUMIFS('Accounting Data'!C$2:C$100000,'Accounting Data'!E$2:E$100000,\"639\",'Accounting Data'!J$2:J$100000,\"6???\"))-(SUMIFS('Accounting Data'!C$2:C$100000,'Accounting Data'!E$2:E$100000,\"639\",'Accounting Data'!J$2:J$100000,\"69??\"))","v":{"v":0,"d":"0 "}},{"$f":"D31+E31+F31-H31","v":{"v":0,"d":"0 "}},"25.","Expenditures",{"$nulls":5},"25.",{"$f":"-(SUMIFS('Accounting Data'!C$2:C$100000,'Accounting Data'!E$2:E$100000,\"639\",'Accounting Data'!J$2:J$100000,\"5???\"))","v":{"v":0,"d":"0 "}},{"$f":"(SUMIFS('Accounting Data'!C$2:C$100000,'Accounting Data'!E$2:E$100000,\"639\",'Accounting Data'!J$2:J$100000,\"69??\"))","v":{"v":0,"d":"0 "}},"25."]
["650 Gifts and Donations—Capital",null,"26.",{"$f":"'Accounting Data'!R378","v":{"v":0,"d":"0 "}},{"$f":"-(SUMIFS('Accounting Data'!C$2:C$100000,'Accounting Data'!E$2:E$100000,\"650\",'Accounting Data'!J$2:J$100000,\"1???\")+SUMIFS('Accounting Data'!C$2:C$100000,'Accounting Data'!E$2:E$100000,\"650\",'Accounting Data'!J$2:J$100000,\"2???\")+SUMIFS('Accounting Data'!C$2:C$100000,'Accounting Data'!E$2:E$100000,\"650\",'Accounting Data'!J$2:J$100000,\"3???\")+SUMIFS('Accounting Data'!C$2:C$100000,'Accounting Data'!E$2:E$100000,\"650\",'Accounting Data'!J$2:J$100000,\"4???\"))","v":{"v":0,"d":"0 "}},{"v":0,"d":"0 "},{"$f":"[1]!F650BudgFY","v":{"v":0,"d":"0 "}},{"$f":"(SUMIFS('Accounting Data'!C$2:C$100000,'Accounting Data'!E$2:E$100000,\"650\",'Accounting Data'!J$2:J$100000,\"6???\"))-(SUMIFS('Accounting Data'!C$2:C$100000,'Accounting Data'!E$2:E$100000,\"650\",'Accounting Data'!J$2:J$100000,\"69??\"))","v":{"v":0,"d":"0 "}},{"v":0,"d":"0 "},"26.","    Teacher instructional costs and professional development",null,null,{"v":0,"d":"0 "},"1.",null,"26.",{"$f":"-(SUMIFS('Accounting Data'!C$2:C$100000,'Accounting Data'!E$2:E$100000,\"650\",'Accounting Data'!J$2:J$100000,\"5???\"))","v":{"v":0,"d":"0 "}},{"$f":"(SUMIFS('Accounting Data'!C$2:C$100000,'Accounting Data'!E$2:E$100000,\"650\",'Accounting Data'!J$2:J$100000,\"69??\"))","v":{"v":0,"d":"0 "}},"26."]
["660 Condemnation",null,"27.",{"$f":"'Accounting Data'!R379","v":{"v":0,"d":"0 "}},{"$f":"-(SUMIFS('Accounting Data'!C$2:C$100000,'Accounting Data'!E$2:E$100000,\"660\",'Accounting Data'!J$2:J$100000,\"1???\")+SUMIFS('Accounting Data'!C$2:C$100000,'Accounting Data'!E$2:E$100000,\"660\",'Accounting Data'!J$2:J$100000,\"2???\")+SUMIFS('Accounting Data'!C$2:C$100000,'Accounting Data'!E$2:E$100000,\"660\",'Accounting Data'!J$2:J$100000,\"3???\")+SUMIFS('Accounting Data'!C$2:C$100000,'Accounting Data'!E$2:E$100000,\"660\",'Accounting Data'!J$2:J$100000,\"4???\"))","v":{"v":0,"d":"0 "}},{"v":0,"d":"0 "},{"$f":"[1]!F660BudgFY","v":{"v":0,"d":"0 "}},{"$f":"(SUMIFS('Accounting Data'!C$2:C$100000,'Accounting Data'!E$2:E$100000,\"660\",'Accounting Data'!J$2:J$100000,\"6???\"))-(SUMIFS('Accounting Data'!C$2:C$100000,'Accounting Data'!E$2:E$100000,\"660\",'Accounting Data'!J$2:J$100000,\"69??\"))","v":{"v":0,"d":"0 "}},{"v":0,"d":"0 "},"27.","    Student certification, credentialing, or                     \n         licensure costs",{"$nulls":5},"27.",{"$f":"-(SUMIFS('Accounting Data'!C$2:C$100000,'Accounting Data'!E$2:E$100000,\"660\",'Accounting Data'!J$2:J$100000,\"5???\"))","v":{"v":0,"d":"0 "}},{"$f":"(SUMIFS('Accounting Data'!C$2:C$100000,'Accounting Data'!E$2:E$100000,\"660\",'Accounting Data'!J$2:J$100000,\"69??\"))","v":{"v":0,"d":"0 "}},"27."]
["665 Energy and Water Savings",null,"28.",{"$f":"'Accounting Data'!R380","v":{"v":0,"d":"0 "}},{"$f":"-(SUMIFS('Accounting Data'!C$2:C$100000,'Accounting Data'!E$2:E$100000,\"665\",'Accounting Data'!J$2:J$100000,\"1???\")+SUMIFS('Accounting Data'!C$2:C$100000,'Accounting Data'!E$2:E$100000,\"665\",'Accounting Data'!J$2:J$100000,\"2???\")+SUMIFS('Accounting Data'!C$2:C$100000,'Accounting Data'!E$2:E$100000,\"665\",'Accounting Data'!J$2:J$100000,\"3???\")+SUMIFS('Accounting Data'!C$2:C$100000,'Accounting Data'!E$2:E$100000,\"665\",'Accounting Data'!J$2:J$100000,\"4???\"))","v":{"v":0,"d":"0 "}},{"v":0,"d":"0 "},{"$f":"[1]!F665BudgFY","v":{"v":0,"d":"0 "}},{"$f":"(SUMIFS('Accounting Data'!C$2:C$100000,'Accounting Data'!E$2:E$100000,\"665\",'Accounting Data'!J$2:J$100000,\"6???\"))-(SUMIFS('Accounting Data'!C$2:C$100000,'Accounting Data'!E$2:E$100000,\"665\",'Accounting Data'!J$2:J$100000,\"69??\"))","v":{"v":0,"d":"0 "}},{"v":0,"d":"0 "},"28.",{"$nulls":3},{"v":0,"d":"0 "},"2.",null,"28.",{"$f":"-(SUMIFS('Accounting Data'!C$2:C$100000,'Accounting Data'!E$2:E$100000,\"665\",'Accounting Data'!J$2:J$100000,\"5???\"))","v":{"v":0,"d":"0 "}},{"$f":"(SUMIFS('Accounting Data'!C$2:C$100000,'Accounting Data'!E$2:E$100000,\"665\",'Accounting Data'!J$2:J$100000,\"69??\"))","v":{"v":0,"d":"0 "}},"28."]
["686 Emergency Deficiencies Correction",null,"29.",{"$f":"'Accounting Data'!R381","v":{"v":0,"d":"0 "}},{"$f":"-(SUMIFS('Accounting Data'!C$2:C$100000,'Accounting Data'!E$2:E$100000,\"686\",'Accounting Data'!J$2:J$100000,\"1???\")+SUMIFS('Accounting Data'!C$2:C$100000,'Accounting Data'!E$2:E$100000,\"686\",'Accounting Data'!J$2:J$100000,\"2???\")+SUMIFS('Accounting Data'!C$2:C$100000,'Accounting Data'!E$2:E$100000,\"686\",'Accounting Data'!J$2:J$100000,\"3???\")+SUMIFS('Accounting Data'!C$2:C$100000,'Accounting Data'!E$2:E$100000,\"686\",'Accounting Data'!J$2:J$100000,\"4???\"))","v":{"v":0,"d":"0 "}},{"v":0,"d":"0 "},{"$f":"[1]!F686BudgFY","v":{"v":0,"d":"0 "}},{"$f":"(SUMIFS('Accounting Data'!C$2:C$100000,'Accounting Data'!E$2:E$100000,\"686\",'Accounting Data'!J$2:J$100000,\"6???\"))-(SUMIFS('Accounting Data'!C$2:C$100000,'Accounting Data'!E$2:E$100000,\"686\",'Accounting Data'!J$2:J$100000,\"69??\"))","v":{"v":0,"d":"0 "}},{"v":0,"d":"0 "},"29.","    Developmental costs",null,null,{"v":0,"d":"0 "},"3.",null,"29.",{"$f":"-(SUMIFS('Accounting Data'!C$2:C$100000,'Accounting Data'!E$2:E$100000,\"686\",'Accounting Data'!J$2:J$100000,\"5???\"))","v":{"v":0,"d":"0 "}},{"$f":"(SUMIFS('Accounting Data'!C$2:C$100000,'Accounting Data'!E$2:E$100000,\"686\",'Accounting Data'!J$2:J$100000,\"69??\"))","v":{"v":0,"d":"0 "}},"29."]
["691 Building Renewal Grant",null,"30.",{"$f":"'Accounting Data'!R382","v":{"v":72,"d":"72 "}},{"$f":"-(SUMIFS('Accounting Data'!C$2:C$100000,'Accounting Data'!E$2:E$100000,\"691\",'Accounting Data'!J$2:J$100000,\"1???\")+SUMIFS('Accounting Data'!C$2:C$100000,'Accounting Data'!E$2:E$100000,\"691\",'Accounting Data'!J$2:J$100000,\"2???\")+SUMIFS('Accounting Data'!C$2:C$100000,'Accounting Data'!E$2:E$100000,\"691\",'Accounting Data'!J$2:J$100000,\"3???\")+SUMIFS('Accounting Data'!C$2:C$100000,'Accounting Data'!E$2:E$100000,\"691\",'Accounting Data'!J$2:J$100000,\"4???\"))","v":{"v":0,"d":"0 "}},{"v":0,"d":"0 "},{"$f":"[1]!F691BudgFY","v":{"v":0,"d":"0 "}},{"$f":"(SUMIFS('Accounting Data'!C$2:C$100000,'Accounting Data'!E$2:E$100000,\"691\",'Accounting Data'!J$2:J$100000,\"6???\"))-(SUMIFS('Accounting Data'!C$2:C$100000,'Accounting Data'!E$2:E$100000,\"691\",'Accounting Data'!J$2:J$100000,\"69??\"))","v":{"v":0,"d":"0 "}},{"v":72,"d":"72 "},"30.","    Instructional hardware, software, or supplies",null,null,{"v":0,"d":"0 "},"4.",null,"30.",{"$f":"-(SUMIFS('Accounting Data'!C$2:C$100000,'Accounting Data'!E$2:E$100000,\"691\",'Accounting Data'!J$2:J$100000,\"5???\"))","v":{"v":0,"d":"0 "}},{"$f":"(SUMIFS('Accounting Data'!C$2:C$100000,'Accounting Data'!E$2:E$100000,\"691\",'Accounting Data'!J$2:J$100000,\"69??\"))","v":{"v":0,"d":"0 "}},"30."]
["695 New School Facilities",null,"31.",{"$f":"'Accounting Data'!R383","v":{"v":0,"d":"0 "}},{"$f":"-(SUMIFS('Accounting Data'!C$2:C$100000,'Accounting Data'!E$2:E$100000,\"695\",'Accounting Data'!J$2:J$100000,\"1???\")+SUMIFS('Accounting Data'!C$2:C$100000,'Accounting Data'!E$2:E$100000,\"695\",'Accounting Data'!J$2:J$100000,\"2???\")+SUMIFS('Accounting Data'!C$2:C$100000,'Accounting Data'!E$2:E$100000,\"695\",'Accounting Data'!J$2:J$100000,\"3???\")+SUMIFS('Accounting Data'!C$2:C$100000,'Accounting Data'!E$2:E$100000,\"695\",'Accounting Data'!J$2:J$100000,\"4???\"))","v":{"v":0,"d":"0 "}},null,{"$f":"[1]!F695TotalBudgFY","v":{"v":0,"d":"0 "}},{"$f":"(SUMIFS('Accounting Data'!C$2:C$100000,'Accounting Data'!E$2:E$100000,\"695\",'Accounting Data'!J$2:J$100000,\"6???\"))-(SUMIFS('Accounting Data'!C$2:C$100000,'Accounting Data'!E$2:E$100000,\"695\",'Accounting Data'!J$2:J$100000,\"69??\"))","v":{"v":0,"d":"0 "}},{"v":0,"d":"0 "},"31.","    Career exploration",null,null,{"v":0,"d":"0 "},"5.",null,"31.",null,null,"31."]
[{"$nulls":7},{"$f":"(SUMIFS('Accounting Data'!C$2:C$100000,'Accounting Data'!E$2:E$100000,\"050\",'Accounting Data'!J$2:J$100000,\"6???\"))-(SUMIFS('Accounting Data'!C$2:C$100000,'Accounting Data'!E$2:E$100000,\"050\",'Accounting Data'!J$2:J$100000,\"69??\"))","v":{"v":0,"d":"0 "}},null,"23.",{"$nulls":6},"23.",null,null,"23."]
["720 Impact Aid Revenue Bond Debt Service",null,"32.",{"$f":"'Accounting Data'!R386","v":{"v":0,"d":"0 "}},{"$f":"-(SUMIFS('Accounting Data'!C$2:C$100000,'Accounting Data'!E$2:E$100000,\"720\",'Accounting Data'!J$2:J$100000,\"1???\")+SUMIFS('Accounting Data'!C$2:C$100000,'Accounting Data'!E$2:E$100000,\"720\",'Accounting Data'!J$2:J$100000,\"2???\")+SUMIFS('Accounting Data'!C$2:C$100000,'Accounting Data'!E$2:E$100000,\"720\",'Accounting Data'!J$2:J$100000,\"3???\")+SUMIFS('Accounting Data'!C$2:C$100000,'Accounting Data'!E$2:E$100000,\"720\",'Accounting Data'!J$2:J$100000,\"4???\"))","v":{"v":0,"d":"0 "}},{"$f":"R39-S39","v":{"v":0,"d":"0 "}},{"$f":"[1]!F720BudgFY","v":{"v":0,"d":"0 "}},{"$f":"(SUMIFS('Accounting Data'!C$2:C$100000,'Accounting Data'!E$2:E$100000,\"720\",'Accounting Data'!J$2:J$100000,\"6???\"))-(SUMIFS('Accounting Data'!C$2:C$100000,'Accounting Data'!E$2:E$100000,\"720\",'Accounting Data'!J$2:J$100000,\"69??\"))","v":{"v":0,"d":"0 "}},{"v":0,"d":"0 "},"32.","Total Expenditures (lines 1-5)",null,{"$f":"[1]!F597BudgFY","v":{"v":0,"d":"0 "}},{"$f":"SUM(N32:N37)","v":{"v":0,"d":"0 "}},"6.",null,"32.",{"$f":"-(SUMIFS('Accounting Data'!C$2:C$100000,'Accounting Data'!E$2:E$100000,\"720\",'Accounting Data'!J$2:J$100000,\"5???\"))","v":{"v":0,"d":"0 "}},{"$f":"(SUMIFS('Accounting Data'!C$2:C$100000,'Accounting Data'!E$2:E$100000,\"720\",'Accounting Data'!J$2:J$100000,\"69??\"))","v":{"v":0,"d":"0 "}},"32."]
["750 Permanent Funds",null,"33.",{"v":0,"d":"0 "},{"$f":"-(SUM(SUMIFS('Accounting Data'!C$2:C$100000,'Accounting Data'!E$2:E$100000,\"75?\",'Accounting Data'!J$2:J$100000,{\"1???\",\"2???\",\"3???\",\"4???\"})))","v":{"v":0,"d":"0 "}},{"$f":"R40-S40","v":{"v":0,"d":"0 "}},{"v":0,"d":"0 "},{"$f":"(SUMIFS('Accounting Data'!C$2:C$100000,'Accounting Data'!E$2:E$100000,\"75?\",'Accounting Data'!J$2:J$100000,\"6???\"))-(SUMIFS('Accounting Data'!C$2:C$100000,'Accounting Data'!E$2:E$100000,\"75?\",'Accounting Data'!J$2:J$100000,\"69??\"))","v":{"v":0,"d":"0 "}},{"v":0,"d":"0 "},"33.","Total Expenditures from accounting data",null,null,{"$f":"F597ActExp","v":{"v":0,"d":"0 "}},"7.",null,"33.",{"$f":"-(SUMIFS('Accounting Data'!C2:C100000,'Accounting Data'!E2:E100000,\"75?\",'Accounting Data'!J2:J100000,\"5???\"))","v":{"v":0,"d":"0 "}},{"$f":"(SUMIFS('Accounting Data'!C$2:C$100000,'Accounting Data'!E$2:E$100000,\"75?\",'Accounting Data'!J$2:J$100000,\"69??\"))","v":{"v":0,"d":"0 "}},"33.",{"$nulls":4},{"$f":"IF(OR(SIBegFunBal=\"\",F955BegFunBal=\"\",OPEBBegFunBal=\"\",ISFOthBegFunBal=\"\",SIActRev=\"\",F955ActRev=\"\",OPEBActRev=\"\",ISFOthActRev=\"\",SIActExp=\"\",F955ActExp=\"\",OPEBActExp=\"\",ISFOthActExp=\"\"),\"yes\",\"\")","v":""}]
["800-849 Trust and Custodial Funds",null,"34.",{"v":0,"d":"0 "},{"$f":"-(SUM(SUMIFS('Accounting Data'!C$2:C$100000,'Accounting Data'!E$2:E$100000,{\"80?\",\"81?\",\"82?\",\"83?\",\"84?\"},'Accounting Data'!J$2:J$100000,\"1???\"),SUMIFS('Accounting Data'!C$2:C$100000,'Accounting Data'!E$2:E$100000,{\"80?\",\"81?\",\"82?\",\"83?\",\"84?\"},'Accounting Data'!J$2:J$100000,\"2???\"),SUMIFS('Accounting Data'!C$2:C$100000,'Accounting Data'!E$2:E$100000,{\"80?\",\"81?\",\"82?\",\"83?\",\"84?\"},'Accounting Data'!J$2:J$100000,\"3???\"),SUMIFS('Accounting Data'!C$2:C$100000,'Accounting Data'!E$2:E$100000,{\"80?\",\"81?\",\"82?\",\"83?\",\"84?\"},'Accounting Data'!J$2:J$100000,\"4???\")))","v":{"v":0,"d":"0 "}},{"$f":"R41-S41","v":{"v":0,"d":"0 "}},{"v":0,"d":"0 "},{"$f":"(SUM(SUMIFS('Accounting Data'!C$2:C$100000,'Accounting Data'!E$2:E$100000,{\"80?\",\"81?\",\"82?\",\"83?\",\"84?\"},'Accounting Data'!J$2:J$100000,\"6???\")))-(SUM(SUMIFS('Accounting Data'!C$2:C$100000,'Accounting Data'!E$2:E$100000,{\"80?\",\"81?\",\"82?\",\"83?\",\"84?\"},'Accounting Data'!J$2:J$100000,\"69??\")))","v":{"v":0,"d":"0 "}},{"$f":"D41+E41+F41-H41","v":{"v":0,"d":"0 "}},"34.",{"$nulls":6},"34.",{"$f":"-(SUM(SUMIFS('Accounting Data'!C$2:C$100000,'Accounting Data'!E$2:E$100000,{\"80?\",\"81?\",\"82?\",\"83?\",\"84?\"},'Accounting Data'!J$2:J$100000,\"5???\")))","v":{"v":0,"d":"0 "}},{"$f":"-(SUM(SUMIFS('Accounting Data'!C$2:C$100000,'Accounting Data'!E$2:E$100000,{\"80?\",\"81?\",\"82?\",\"83?\",\"84?\"},'Accounting Data'!J$2:J$100000,\"69??\")))","v":{"v":0,"d":"0 "}},"34.",{"$nulls":4},{"$f":"IF(OR(AND(OthBegFunBal<>0,A46=\"Other ________________\"),AND(OthActRev<>0,A46=\"Other ________________\"),AND(OthTransf<>0,A46=\"Other ________________\"),AND(OthBudgExp<>0,A46=\"Other ________________\"),AND(OthActExp<>0,A46=\"Other ________________\")),\"Yes\",\"\")","v":""}]
["850 Student Activities",null,"35.",{"$f":"'Accounting Data'!R438","v":{"v":4255,"d":"4,255 "}},{"$f":"-(SUMIFS('Accounting Data'!C$2:C$100000,'Accounting Data'!E$2:E$100000,\"850\",'Accounting Data'!J$2:J$100000,\"1???\")+SUMIFS('Accounting Data'!C$2:C$100000,'Accounting Data'!E$2:E$100000,\"850\",'Accounting Data'!J$2:J$100000,\"2???\")+SUMIFS('Accounting Data'!C$2:C$100000,'Accounting Data'!E$2:E$100000,\"850\",'Accounting Data'!J$2:J$100000,\"3???\")+SUMIFS('Accounting Data'!C$2:C$100000,'Accounting Data'!E$2:E$100000,\"850\",'Accounting Data'!J$2:J$100000,\"4???\"))","v":{"v":3525,"d":"3,525 "}},null,{"$f":"[1]!F850BudgFY","v":{"v":0,"d":"0 "}},{"$f":"(SUMIFS('Accounting Data'!C$2:C$100000,'Accounting Data'!E$2:E$100000,\"850\",'Accounting Data'!J$2:J$100000,\"6???\"))-(SUMIFS('Accounting Data'!C$2:C$100000,'Accounting Data'!E$2:E$100000,\"850\",'Accounting Data'!J$2:J$100000,\"69??\"))","v":{"v":2185,"d":"2,185 "}},{"$f":"D42+E42-H42","v":{"v":5595,"d":"5,595 "}},"35.",{"$nulls":6},"35.",null,null,"35."]
["855 Employee Insurance Program Withholdings",null,"36.",{"v":0,"d":"0 "},{"$f":"-(SUMIFS('Accounting Data'!C2:C100000,'Accounting Data'!E2:E100000,\"855\",'Accounting Data'!J2:J100000,\"1???\")+SUMIFS('Accounting Data'!C2:C100000,'Accounting Data'!E2:E100000,\"855\",'Accounting Data'!J2:J100000,\"2???\")+SUMIFS('Accounting Data'!C2:C100000,'Accounting Data'!E2:E100000,\"855\",'Accounting Data'!J2:J100000,\"3???\")+SUMIFS('Accounting Data'!C2:C100000,'Accounting Data'!E2:E100000,\"855\",'Accounting Data'!J2:J100000,\"4???\"))","v":{"v":0,"d":"0 "}},{"$f":"R43-S43","v":{"v":0,"d":"0 "}},{"v":0,"d":"0 "},{"$f":"(SUMIFS('Accounting Data'!C2:C100000,'Accounting Data'!E2:E100000,\"855\",'Accounting Data'!J2:J100000,\"6???\"))-(SUMIFS('Accounting Data'!C2:C100000,'Accounting Data'!E2:E100000,\"855\",'Accounting Data'!J2:J100000,\"69??\"))","v":{"v":0,"d":"0 "}},{"$f":"D43+E43+F43-H43","v":{"v":0,"d":"0 "}},"36.",{"$nulls":6},"36.",{"$f":"-(SUMIFS('Accounting Data'!C$2:C$100000,'Accounting Data'!E$2:E$100000,\"855\",'Accounting Data'!J$2:J$100000,\"5???\"))","v":{"v":0,"d":"0 "}},{"$f":"-(SUMIFS('Accounting Data'!C$2:C$100000,'Accounting Data'!E$2:E$100000,\"855\",'Accounting Data'!J$2:J$100000,\"69??\"))","v":{"v":0,"d":"0 "}},"36.",{"$nulls":4},{"$f":"O16=\"X\"","v":true}]
["865 State Income Tax Withholdings",null,"37.",{"v":0,"d":"0 "},{"$f":"-(SUMIFS('Accounting Data'!C2:C100000,'Accounting Data'!E2:E100000,\"865\",'Accounting Data'!J2:J100000,\"1???\")+SUMIFS('Accounting Data'!C2:C100000,'Accounting Data'!E2:E100000,\"865\",'Accounting Data'!J2:J100000,\"2???\")+SUMIFS('Accounting Data'!C2:C100000,'Accounting Data'!E2:E100000,\"865\",'Accounting Data'!J2:J100000,\"3???\")+SUMIFS('Accounting Data'!C2:C100000,'Accounting Data'!E2:E100000,\"865\",'Accounting Data'!J2:J100000,\"4???\"))","v":{"v":0,"d":"0 "}},{"$f":"R44-S44","v":{"v":0,"d":"0 "}},{"v":0,"d":"0 "},{"$f":"(SUMIFS('Accounting Data'!C2:C100000,'Accounting Data'!E2:E100000,\"865\",'Accounting Data'!J2:J100000,\"6???\"))-(SUMIFS('Accounting Data'!C2:C100000,'Accounting Data'!E2:E100000,\"865\",'Accounting Data'!J2:J100000,\"69??\"))","v":{"v":0,"d":"0 "}},{"$f":"D44+E44+F44-H44","v":{"v":0,"d":"0 "}},"37.",{"$nulls":6},"37.",{"$f":"-(SUMIFS('Accounting Data'!C$2:C$100000,'Accounting Data'!E$2:E$100000,\"865\",'Accounting Data'!J$2:J$100000,\"5???\"))","v":{"v":0,"d":"0 "}},{"$f":"-(SUMIFS('Accounting Data'!C$2:C$100000,'Accounting Data'!E$2:E$100000,\"865\",'Accounting Data'!J$2:J$100000,\"69??\"))","v":{"v":0,"d":"0 "}},"37."]
["900-949 Enterprise Funds",null,"38.",{"v":0,"d":"0 "},{"$f":"-(SUM(SUMIFS('Accounting Data'!C$2:C$100000,'Accounting Data'!E$2:E$100000,{\"90?\",\"91?\",\"92?\",\"93?\",\"94?\"},'Accounting Data'!J$2:J$100000,\"1???\"),SUMIFS('Accounting Data'!C$2:C$100000,'Accounting Data'!E$2:E$100000,{\"90?\",\"91?\",\"92?\",\"93?\",\"94?\"},'Accounting Data'!J$2:J$100000,\"2???\"),SUMIFS('Accounting Data'!C$2:C$100000,'Accounting Data'!E$2:E$100000,{\"90?\",\"91?\",\"92?\",\"93?\",\"94?\"},'Accounting Data'!J$2:J$100000,\"3???\"),SUMIFS('Accounting Data'!C$2:C$100000,'Accounting Data'!E$2:E$100000,{\"90?\",\"91?\",\"92?\",\"93?\",\"94?\"},'Accounting Data'!J$2:J$100000,\"4???\")))","v":{"v":0,"d":"0 "}},{"$f":"R45-S45","v":{"v":0,"d":"0 "}},{"v":0,"d":"0 "},{"$f":"(SUM(SUMIFS('Accounting Data'!C$2:C$100000,'Accounting Data'!E$2:E$100000,{\"90?\",\"91?\",\"92?\",\"93?\",\"94?\"},'Accounting Data'!J$2:J$100000,\"6???\")))-(SUM(SUMIFS('Accounting Data'!C$2:C$100000,'Accounting Data'!E$2:E$100000,{\"90?\",\"91?\",\"92?\",\"93?\",\"94?\"},'Accounting Data'!J$2:J$100000,\"69??\")))","v":{"v":0,"d":"0 "}},{"$f":"D45+E45+F45-H45","v":{"v":0,"d":"0 "}},"38.",{"$nulls":6},"38.",{"$f":"-(SUM(SUMIFS('Accounting Data'!C$2:C$100000,'Accounting Data'!E$2:E$100000,{\"90?\",\"91?\",\"92?\",\"93?\",\"94?\"},'Accounting Data'!J$2:J$100000,\"5???\")))","v":{"v":0,"d":"0 "}},{"$f":"-(SUM(SUMIFS('Accounting Data'!C$2:C$100000,'Accounting Data'!E$2:E$100000,{\"90?\",\"91?\",\"92?\",\"93?\",\"94?\"},'Accounting Data'!J$2:J$100000,\"69??\")))","v":{"v":0,"d":"0 "}},"38."]
["Other ________________",null,"39.",{"v":0,"d":"0 "},{"$f":"-(SUMIFS('Accounting Data'!C$2:C$100000,'Accounting Data'!E$2:E$100000,\"Other\",'Accounting Data'!J$2:J$100000,\"1???\")+SUMIFS('Accounting Data'!C$2:C$100000,'Accounting Data'!E$2:E$100000,\"Other\",'Accounting Data'!J$2:J$100000,\"2???\")+SUMIFS('Accounting Data'!C$2:C$100000,'Accounting Data'!E$2:E$100000,\"Other\",'Accounting Data'!J$2:J$100000,\"3???\")+SUMIFS('Accounting Data'!C$2:C$100000,'Accounting Data'!E$2:E$100000,\"Other\",'Accounting Data'!J$2:J$100000,\"4???\"))","v":{"v":0,"d":"0 "}},{"$f":"R46-S46","v":{"v":0,"d":"0 "}},{"v":0,"d":"0 "},{"$f":"(SUMIFS('Accounting Data'!C$2:C$100000,'Accounting Data'!E$2:E$100000,\"Other\",'Accounting Data'!J$2:J$100000,\"6???\"))-(SUMIFS('Accounting Data'!C$2:C$100000,'Accounting Data'!E$2:E$100000,\"Other\",'Accounting Data'!J$2:J$100000,\"69??\"))","v":{"v":0,"d":"0 "}},{"$f":"D46+E46+F46-H46","v":{"v":0,"d":"0 "}},"39.",{"$nulls":6},"39.",{"$f":"-(SUMIFS('Accounting Data'!C$2:C$100000,'Accounting Data'!E$2:E$100000,\"Other\",'Accounting Data'!J$2:J$100000,\"5???\"))","v":{"v":0,"d":"0 "}},{"$f":"(SUMIFS('Accounting Data'!C$2:C$100000,'Accounting Data'!E$2:E$100000,\"Other\",'Accounting Data'!J$2:J$100000,\"69??\"))","v":{"v":0,"d":"0 "}},"39."]
["INTERNAL SERVICE FUNDS 950-989"]
["9__ Self Insurance",null,"1.",{"v":0,"d":"0 "},{"v":0,"d":"0 "},{"$f":"R48-S48","v":{"v":0,"d":"0 "}},{"$f":"[1]!F9__SelfInsBudgFY","v":{"v":0,"d":"0 "}},{"v":0,"d":"0 "},{"$f":"D48+E48+F48-H48","v":{"v":0,"d":"0 "}},"1.",{"$nulls":6},"1.",{"v":0,"d":"0 "},{"v":0,"d":"0 "},"1."]
["955 Intergovernmental Agreements",null,"2.",{"v":0,"d":"0 "},{"v":0,"d":"0 "},{"$f":"R49-S49","v":{"v":0,"d":"0 "}},{"$f":"[1]!F955BudgFY","v":{"v":0,"d":"0 "}},{"v":0,"d":"0 "},{"$f":"D49+E49+F49-H49","v":{"v":0,"d":"0 "}},"2.",{"$nulls":6},"2.",{"v":0,"d":"0 "},{"v":0,"d":"0 "},"2."]
["9__ OPEB",null,"3.",{"v":0,"d":"0 "},{"v":0,"d":"0 "},{"$f":"R50-S50","v":{"v":0,"d":"0 "}},{"$f":"[1]!F9__OPEBBudgFY","v":{"v":0,"d":"0 "}},{"v":0,"d":"0 "},{"$f":"D50+E50+F50-H50","v":{"v":0,"d":"0 "}},"3.",{"$nulls":6},"3.",{"v":0,"d":"0 "},{"v":0,"d":"0 "},"3."]
[953,null,"4.",{"v":4365,"d":"4,365 "},{"v":0,"d":"0 "},{"$f":"R51-S51","v":{"v":0,"d":"0 "}},{"$f":"[1]!F9__OtherBudgFY","v":{"v":0,"d":"0 "}},{"v":0,"d":"0 "},{"$f":"D51+E51+F51-H51","v":{"v":4365,"d":"4,365 "}},"4.",{"$nulls":6},"4.",{"v":0,"d":"0 "},{"v":0,"d":"0 "},"4."]
[]
[]
["(1) Actual Revenues and Actual Expenditures should agree with Supplement, Fund 071—line 13 and Fund 072—line 26."]

{"sheet":"Page 7","index":7,"n_rows":78,"n_cols":27,"rows_kept":78,"merged":[[0,2,0,5],[0,8,0,9],[4,15,5,15],[4,16,5,16],[4,17,5,17],[8,8,9,11],[17,13,20,13],[25,8,29,12],[36,1,36,4],[37,1,37,4],[42,8,42,14],[43,14,48,15],[44,1,45,4],[49,8,50,12]]}
[null,"DISTRICT NAME",{"$f":"CoverDistrictName","v":"Double Adobe Elementary School "},{"$nulls":4},"COUNTY",{"$f":"County","v":"Cochise"},null,null,"CTDS NUMBER",{"$f":"Cover!Q1","v":"020345000"}]
[]
[]
[]
["A.","Bonds and Short-term Debt",{"$nulls":5},"F.  ","Total salaries and benefits expenditures related to an agreement with Department",{"$nulls":17},{"$f":"IF(OR(AA25=\"yes\",AA16=\"yes\",AA9=\"yes\",AA7=\"yes\",AA27=\"yes\"),\"yes\",\"\")","v":""}]
[null,"1.  Bonds Outstanding, July 1, 2022",null,null,{"v":0,"d":"0 "},"1.",null,null,"of Labor to settle a decision based on the Fair Labor Standards Act",{"$nulls":3},{"v":0,"d":"0 "}]
[null,"2.  Bonds issued during FY 2023",null,null,{"v":0,"d":"0 "},"2.",{"$nulls":20},{"$f":"IF(OR(E6=\"\",E7=\"\",E8=\"\",E11=\"\",E12=\"\"),\"yes\",\"\")","v":""}]
[null,"3.  Bonds retired during FY 2023",null,null,{"v":0,"d":"0 "},"3."]
[null,"4.  Bonds Outstanding, June 30, 2023",null,null,{"$f":"E6+E7+E8","v":{"v":0,"d":"0 "}},"4.",null,null,"Rewards, Discounts, Incentives, and Other Financial Consideration Received from Credit Card Companies (A.R.S. §35-391)",{"$nulls":17},{"$f":"IF(OR(M6=\"\",M6=\"$\",M10=\"\",M14=\"\",M14=\"$\",M15=\"\",M15=\"$\",M16=\"\",M16=\"$\",CurrentYearSalary=\"\",F41=\"\",F41=\"$\",F42=\"\",F42=\"$\",F43=\"\",F44=\"\",F45=\"\"),\"yes\",\"\")","v":""}]
[{"$nulls":7},"G.  ",{"$nulls":4},{"v":0,"d":"0 "}]
[null,"5.  Short-term Debt Outstanding, July 1, 2022",null,null,{"v":0,"d":"0 "},"5."]
[null,"6.  Short-term Debt Outstanding, June 30, 2023",null,null,{"v":0,"d":"0 "},"6."]
[{"$nulls":7},"H.  ","Cash and Investments held at June 30, 2023"]
["B.","District Assessed Valuation and Other District Information",{"$nulls":6},"1. Sinking funds",{"$nulls":3},{"v":0,"d":"0 "}]
[null,"1.  FY 2023 Assessed Valuations and Tax Rates",{"$nulls":6},"2. Bond funds",{"$nulls":3},{"v":0,"d":"0 "}]
[null,"a.   Primary",{"v":3412585,"d":"3,412,585 "},"Tax Rate  ",8.5783,{"$nulls":3},"3. Other funds, except for any employee retirement funds",{"$nulls":3},{"v":0,"d":"0 "},{"$nulls":13},{"$f":"IF(OR(C16=\"\",C16=\"$\",C17=\"\",C17=\"$\",PrimaryTaxRate=\"\",SecondaryTaxRate=\"\",E18=\"\",E19=\"\",E20=\"\"),\"yes\",\"\")","v":""}]
[null,"b.   Secondary",{"v":0,"d":"0 "},"Tax Rate  ",8.5783]
[null,"2.  Number of Schools",null,null,{"v":1,"d":"1 "}]
[null,"3.  Actual Days in Session",null,null,{"v":188,"d":"188 "}]
[null,"4.  Area of School District (Square Miles) ",null,null,{"v":40,"d":"40 "},null,null,"I.","Average Teacher Salary (A.R.S. §15-903.E)"]
[null,"           (Report this WHETHER OR NOT district changed boundaries in FY 2023)",{"$nulls":6},"1. Average salary of all teachers employed in FY 2023",{"$nulls":3},{"v":46217,"d":"46,217 "}]
[{"$nulls":8},"2. Average salary of all teachers employed in FY 2022",{"$nulls":3},{"$f":"[2]!CurrentYearSalary","v":{"v":42884,"d":"42,884 "}},null,null,"Check this box if your district has no teachers (transporting districts and some CTEDs)."]
["C.","County Approved Liabilities incurred in excess of ",{"$nulls":3},"Unrestricted",null,null,"3. Increase in average teacher salary from prior year",{"$nulls":3},{"$f":"M21-M22","v":{"v":3333,"d":"3,333 "}}]
[null,"district budget (A.R.S. §15-907)  ",null,null,"M & O","Capital Outlay",null,null,"4. Percentage increase",{"$nulls":3},{"$f":"IF(PriorYearSalary<>0,M23/M22,0)","v":{"v":0,"d":"0 "}}]
[null,"1.  Destruction or damage",null,null,{"v":0,"d":"0 "},{"v":0,"d":"0 "},"1.",null,"Comments on Average Salary Calculation (Optional):",{"$nulls":17},{"$f":"IF(OR(E25=\"\",E26=\"\",E27=\"\",F25=\"\",F26=\"\",F27=\"\"),\"yes\",\"\")","v":""}]
[null,"2.  Excessive/unexpected legal expenses",null,null,{"v":0,"d":"0 "},{"v":0,"d":"0 "},"2."]
[null,"3.  Mitigation or removal of health or safety hazard",null,null,{"v":0,"d":"0 "},{"v":0,"d":"0 "},"3.",{"$nulls":19},{"$f":"IF(OR(L34=\"\",L35=\"\",L36=\"\",L37=\"\",L38=\"\",L39=\"\",L40=\"\",L41=\"\",M35=\"\",M36=\"\",M37=\"\",M45=\"\",M46=\"\"),\"yes\",\"\")","v":""}]
[]
["D.","Current Expenditures by Category  "]
[null,"1.  Classroom Instruction excl. Supplies (Function 1000, except line 2 amount)",{"$nulls":3},{"v":410240,"d":"410,240 "}]
[null,"2.  Classroom Supplies (Function 1000, Object Code 6600)",{"$nulls":3},{"v":14151,"d":"14,151 "}]
[null,"3.  Administration (Functions 2300, 2400, 2500, & 2900)",{"$nulls":3},{"v":103463,"d":"103,463 "}]
[null,"4.  Support Services—Students (Function 2100)",{"$nulls":3},{"v":40436,"d":"40,436 "},null,"J.","Certified Staff Salaries and FTE (Funds 001-799 excluding 575) ",null,null,"Salaries","FTE",{"$nulls":6},{"$f":"O22=\"X\"","v":false}]
[null,"5.  All Other Support Services & Operations (Functions 2200, 2600, 2700, ",{"$nulls":6},"1. Substitute Teachers (Functions 1000 & 2213)",null,null,{"v":1700,"d":"1,700 "}]
[null,"     3100, & 3400)",{"$nulls":3},{"v":99311,"d":"99,311 "},null,null,"2. Classroom Teacher Base Salaries (Functions 1000 & 3300)",null,null,{"v":168583,"d":"168,583 "},{"v":1,"d":"1.0"}]
[null,"6.  Total Current Expenditures",{"$nulls":3},{"$f":"IF(F30=\"$\",\"$\",SUM(F30:F35))","v":{"v":667601,"d":"667,601 "}},null,null,"              a. Classroom teachers with fewer than 3 years of experience as defined by A.R.S. §15-941(E)",null,null,{"v":36000,"d":"36,000 "},{"v":1,"d":"1.0"}]
[null,"7.  Total Current Expenditures from Federal Funds, excluding those funds \n     intended to replace local tax revenues (e.g., impact aid funds)",{"$nulls":3},{"v":37941,"d":"37,941 "},null,null,"              b. Classroom teachers with 3 or more years of experience as defined by A.R.S. §15-941(E)",null,null,{"v":102651,"d":"102,651 "},{"v":1,"d":"1.0"}]
[null,"8.  Total Current Expenditures from State and Local Funds, including those \n     funds intended to replace local tax revenues (e.g., impact aid funds)",{"$nulls":3},{"$f":"F36-F37","v":{"v":629660,"d":"629,660 "}},null,null,"3. Classroom Teacher Performance Pay (Functions 1000 & 3300)",null,null,{"v":29931,"d":"29,931 "}]
[{"$nulls":8},"4. Classroom Teacher Payments Not Related to Additional Duties (Function 1000 & 3300)",null,null,{"v":0,"d":"0 "}]
["E. ","Other long-term debt",{"$nulls":6},"5. Classroom Teacher Payments Related to Additional Duties (All Functions)",null,null,{"v":0,"d":"0 "}]
[null,"1. Other Principal (object 6832)",{"$nulls":3},{"v":0,"d":"0 "},null,null,"6. Other Certified Staff (All Functions)",null,null,{"v":0,"d":"0 "}]
[null,"2. Other Interest (object 6842)",{"$nulls":3},{"v":0,"d":"0 "}]
[null,"3. Instructional software subscriptions (more than 12 months) Principal (object 6833)",{"$nulls":3},{"v":0,"d":"0 "},null,null,"7. In FY 2023, did the district pay any of its classroom teachers for prior classroom experience outside of the school district using either of the following"]
[null,"4. Instructional software subscriptions (more than 12 months) Interest (object 6843)",{"$nulls":3},{"v":0,"d":"0 "},null,null,"     two methods:"]
[null,"5. Did the district enter into any new financed purchase agreements or more than 12-month lease agreements or software subscriptions during the fiscal year? (Yes or No)",{"$nulls":3},"no",null,null,"a. Increasing base salary by granting years of experience on its salary schedule? (Yes or No)",{"$nulls":3},"No"]
[{"$nulls":8},"b. Making payments in addition to their base salary? (Yes or No)",{"$nulls":3},"No"]
[]
[{"$nulls":8},"Total Certified Salary Payments from accounting data",{"$nulls":3},{"$f":"SUM(SUMIFS('Accounting Data'!C2:C100000,'Accounting Data'!E2:E100000,{\"0??\",\"1??\",\"2??\",\"3??\",\"4??\",\"5??\",\"6??\",\"7??\",\"COVID\"},'Accounting Data'!J2:J100000,\"610?\"),SUMIFS('Accounting Data'!C2:C100000,'Accounting Data'!E2:E100000,{\"0??\",\"1??\",\"2??\",\"3??\",\"4??\",\"5??\",\"6??\",\"7??\",\"COVID\"},'Accounting Data'!J2:J100000,\"611?\"),SUMIFS('Accounting Data'!C2:C100000,'Accounting Data'!E2:E100000,{\"0??\",\"1??\",\"2??\",\"3??\",\"4??\",\"5??\",\"6??\",\"7??\",\"COVID\"},'Accounting Data'!J2:J100000,\"612?\"),SUMIFS('Accounting Data'!C2:C100000,'Accounting Data'!E2:E100000,{\"0??\",\"1??\",\"2??\",\"3??\",\"4??\",\"5??\",\"6??\",\"7??\",\"COVID\"},'Accounting Data'!J2:J100000,\"613?\"),SUMIFS('Accounting Data'!C2:C100000,'Accounting Data'!E2:E100000,{\"0??\",\"1??\",\"2??\",\"3??\",\"4??\",\"5??\",\"6??\",\"7??\",\"COVID\"},'Accounting Data'!J2:J100000,\"614?\"))-SUM(SUMIFS('Accounting Data'!C2:C100000,'Accounting Data'!E2:E100000,\"575\",'Accounting Data'!J2:J100000,{\"610?\",\"611?\",\"612?\",\"613?\",\"614?\"}))","v":{"v":170283,"d":"170,283 "}}]
[]
[{"$nulls":8},"(1) This form mirrors changes to the certified salary expenditure object code range (6100 to 6149) added to the FY 2024 USFR Chart of Accounts that will be required starting in FY 2025."]
{"$rows_empty":27}
[{"$nulls":8},"      "]

{"sheet":"Page 8","index":8,"n_rows":49,"n_cols":27,"rows_kept":49,"merged":[[0,2,0,5],[0,7,0,12],[3,3,3,16],[25,0,26,2],[28,13,28,16],[31,8,31,12],[32,9,32,12],[33,8,33,12],[34,9,34,12],[35,8,35,12],[36,9,36,12],[37,8,37,12],[38,9,38,12],[48,8,49,16]]}
[null,"DISTRICT NAME",{"$f":"CoverDistrictName","v":"Double Adobe Elementary School "},{"$nulls":3},"COUNTY",{"$f":"County","v":"Cochise"},{"$nulls":7},"CTDS NUMBER",{"$f":"Cover!Q1","v":"020345000"}]
[]
["A. ENROLLMENT OF GIFTED PUPILS BY GRADE (A.R.S. §15-779.02)"]
["    Areas of Identification [A.R.S. §15-203(A)(15)]",null,null,"GRADE"]
[{"$nulls":3},"K",{"v":1,"d":"1 "},{"v":2,"d":"2 "},{"v":3,"d":"3 "},{"v":4,"d":"4 "},{"v":5,"d":"5 "},{"v":6,"d":"6 "},{"v":7,"d":"7 "},{"v":8,"d":"8 "},{"v":9,"d":"9 "},{"v":10,"d":"10 "},{"v":11,"d":"11 "},{"v":12,"d":"12 "},"TOTAL",{"$nulls":9},{"$f":"IF(OR(AA6=\"yes\",AA7=\"yes\",AA8=\"yes\",AA16=\"yes\",AA17=\"yes\",AA33=\"yes\"),\"yes\",\"\")","v":""}]
[" 1. Quantitative Reasoning",null,null,{"v":0,"d":"0 "},{"v":0,"d":"0 "},{"v":0,"d":"0 "},{"v":0,"d":"0 "},{"v":0,"d":"0 "},{"v":0,"d":"0 "},{"v":0,"d":"0 "},{"v":0,"d":"0 "},{"v":0,"d":"0 "},{"v":0,"d":"0 "},{"v":0,"d":"0 "},{"v":0,"d":"0 "},{"v":0,"d":"0 "},{"$f":"SUM(D6:P6)","v":{"v":0,"d":"0 "}},"1.",{"$nulls":8},{"$f":"IF(OR(D6=\"\",E6=\"\",F6=\"\",G6=\"\",H6=\"\",I6=\"\",J6=\"\",K6=\"\",L6=\"\",M6=\"\",N6=\"\",O6=\"\",P6=\"\"),\"yes\",\"\")","v":""}]
[" 2. Verbal Reasoning",null,null,{"v":0,"d":"0 "},{"v":0,"d":"0 "},{"v":0,"d":"0 "},{"v":0,"d":"0 "},{"v":0,"d":"0 "},{"v":0,"d":"0 "},{"v":0,"d":"0 "},{"v":0,"d":"0 "},{"v":0,"d":"0 "},{"v":0,"d":"0 "},{"v":0,"d":"0 "},{"v":0,"d":"0 "},{"v":0,"d":"0 "},{"$f":"SUM(D7:P7)","v":{"v":0,"d":"0 "}},"2.",{"$nulls":8},{"$f":"IF(OR(D7=\"\",E7=\"\",F7=\"\",G7=\"\",H7=\"\",I7=\"\",J7=\"\",K7=\"\",L7=\"\",M7=\"\",N7=\"\",O7=\"\",P7=\"\"),\"yes\",\"\")","v":""}]
[" 3. Nonverbal Reasoning",null,null,{"v":0,"d":"0 "},{"v":0,"d":"0 "},{"v":0,"d":"0 "},{"v":0,"d":"0 "},{"v":0,"d":"0 "},{"v":0,"d":"0 "},{"v":0,"d":"0 "},{"v":0,"d":"0 "},{"v":0,"d":"0 "},{"v":0,"d":"0 "},{"v":0,"d":"0 "},{"v":0,"d":"0 "},{"v":0,"d":"0 "},{"$f":"SUM(D8:P8)","v":{"v":0,"d":"0 "}},"3.",{"$nulls":8},{"$f":"IF(OR(D8=\"\",E8=\"\",F8=\"\",G8=\"\",H8=\"\",I8=\"\",J8=\"\",K8=\"\",L8=\"\",M8=\"\",N8=\"\",O8=\"\",P8=\"\"),\"yes\",\"\")","v":""}]
[" 4. Total Duplicated Enrollment (lines 1-3)",null,null,{"$f":"SUM(D6:D8)","v":{"v":0,"d":"0 "}},{"$f":"SUM(E6:E8)","v":{"v":0,"d":"0 "}},{"v":0,"d":"0 "},{"v":0,"d":"0 "},{"v":0,"d":"0 "},{"v":0,"d":"0 "},{"v":0,"d":"0 "},{"v":0,"d":"0 "},{"$f":"SUM(L6:L8)","v":{"v":0,"d":"0 "}},{"v":0,"d":"0 "},{"v":0,"d":"0 "},{"v":0,"d":"0 "},{"v":0,"d":"0 "},{"v":0,"d":"0 "},"4."]
[]
[]
["B. M&O SPECIAL EDUCATION PROGRAMS BY TYPE ",{"$nulls":7},"         C.  MAINTENANCE AND OPERATION FUND EXPENDITURES FOR",{"$nulls":9}," "]
["   (A.R.S. § 15-761) ",null,null,"PROGRAM","PROGRAM",{"$nulls":3},"               GIFTED PUPILS (ELEMENTARY, SECONDARY, AND TOTAL)   "]
[{"$nulls":3},"200 & 300","200 & 300",{"$nulls":4},"Actual Expenditures for all Gifted Programs:"]
[{"$nulls":3},"BUDGET","ACTUAL",{"$nulls":5},"K-8     $",{"v":0,"d":"0 "}]
[" 1. Total All Disability Classifications",null,null,{"$f":"[1]!F001P200Subtotal","v":{"v":53600,"d":"53,600 "}},{"v":55404,"d":"55,404 "},"1.",{"$nulls":4},"9-12    $",{"v":0,"d":"0 "},{"$nulls":14},{"$f":"IF(OR(E16=\"\",E17=\"\",E18=\"\",E19=\"\",E20=\"\",E21=\"\",E22=\"\",E23=\"\",E27=\"\"),\"yes\",\"\")","v":""}]
[" 2. Gifted Education ",null,null,{"$f":"[1]!SPEDGiftedEdBudgFY","v":{"v":0,"d":"0 "}},{"v":0,"d":"0 "},"2.",{"$nulls":4},"       Total    $",{"$f":"SUM(L15:L16)","v":{"v":0,"d":"0 "}},{"$nulls":14},{"$f":"IF(OR(L15=\"\",L16=\"\",O21=\"\",O22=\"\",N26=\"\"),\"yes\",\"\")","v":""}]
[" 3. Remedial Education",null,null,{"$f":"[1]!SPEDRemedialEdBudgFY","v":{"v":0,"d":"0 "}},{"v":0,"d":"0 "},"3."]
[" 4. ELL Incremental Costs",null,null,{"$f":"[1]!SPEDELLIncCostBudgFY","v":{"v":0,"d":"0 "}},{"v":0,"d":"0 "},"4.",null,null,"         D.  EXPENDITURES FOR AUDIT SERVICES"]
[" 5. ELL Compensatory Instruction",null,null,{"$f":"[1]!SPEDELLCompInstrBudgFY","v":{"v":0,"d":"0 "}},{"v":0,"d":"0 "},"5.",{"$nulls":7},"BUDGET","ACTUAL"]
[" 6. Vocational and Technological Education (non-CTED)",null,null,{"$f":"[1]!SPEDVocTechEdBudgFY","v":{"v":0,"d":"0 "}},{"v":0,"d":"0 "},"6.",null,null,"1.","Nonfederal Audit Expenditures - M&O Fund",null,null,"6350",{"$f":"[1]!F001AuditBudg6350","v":{"v":0,"d":"0 "}},{"v":0,"d":"0 "},"1."]
[" 7. Career Education",null,null,{"$f":"[1]!SPEDCareerEdBudgFY","v":{"v":0,"d":"0 "}},{"v":0,"d":"0 "},"7.",null,null,"2.","Federal Audit Expenditures - All Funds ",null,null,6330,{"$f":"[1]!AllFundAuditBudg6330","v":{"v":0,"d":"0 "}},{"v":0,"d":"0 "},"2."]
[" 8. Career Technical Education (CTED programs in 300 range)",null,null,{"$f":"[1]!JTEDBudgFY","v":{"v":0,"d":"0 "}},{"v":0,"d":"0 "},"8."]
[" 9. Total (lines 1-8) ",null,null,{"$f":"SUM(D16:D23)","v":{"v":53600,"d":"53,600 "}},{"$f":"SUM(E16:E23)","v":{"v":55404,"d":"55,404 "}},"9."]
[{"$nulls":8},"        E. MAINTENANCE AND OPERATION FUND EXPENDITURES FOR PERFORMANCE PAY (A.R.S. §15-920)"]
["10. IEP required pupil transportation costs\n      coded within Program 400",{"$nulls":7},"                  Actual Expenditures made in FY 2023",{"$nulls":3},"$",{"v":0,"d":"0 "}]
[{"$nulls":3},{"$f":"[1]!IEPTransportCosts","v":{"v":0,"d":"0 "}},{"v":0,"d":"0 "},"10."]
[]
[{"$nulls":8},"        F.  TUITION ",{"$nulls":4},"Tuition Expenditures"]
[]
[{"$nulls":8},"             Type 03 Districts Only",{"$nulls":4},"Operations","Capital","Debt","Total"]
[{"$nulls":8},"                1. Tuition to Other Arizona Districts "]
[{"$nulls":9},"for high school students only (objects 6561 & 6565) ",{"$nulls":3},{"v":153530,"d":"153,530 "},{"v":0,"d":"0 "},{"v":0,"d":"0 "},{"$f":"SUM(N33:P33)","v":{"v":153530,"d":"153,530 "}},"1.",{"$nulls":8},{"$f":"IF(OR(N33=\"\",O33=\"\",P33=\"\",N35=\"\",O35=\"\",N37=\"\",O37=\"\",P37=\"\",N39=\"\",O39=\"\",N41=\"\",O41=\"\",N42=\"\",O42=\"\",N44=\"\",O44=\"\",N45=\"\",O45=\"\",N46=\"\",O46=\"\"),\"yes\",\"\")","v":""}]
[{"$nulls":8},"                2. Tuition to Other Arizona Districts"]
[{"$nulls":9},"for all other students (objects 6561)",{"$nulls":3},{"v":0,"d":"0 "},{"v":0,"d":"0 "},null,{"$f":"SUM(N35:O35)","v":{"v":0,"d":"0 "}},"2."]
[{"$nulls":8},"                3. Tuition to Out-of-State Districts "]
[{"$nulls":9},"for high school students only (objects 6562 & 6565) ",{"$nulls":3},{"v":0,"d":"0 "},{"v":0,"d":"0 "},{"v":0,"d":"0 "},{"$f":"SUM(N37:P37)","v":{"v":0,"d":"0 "}},"3."]
[{"$nulls":8},"                4. Tuition to Out-of-State Districts"]
[{"$nulls":9},"for all other students (objects 6562)",{"$nulls":3},{"v":0,"d":"0 "},{"v":0,"d":"0 "},null,{"$f":"SUM(N39:O39)","v":{"v":0,"d":"0 "}},"4."]
[{"$nulls":8},"             Non-Type 03 Districts"]
[{"$nulls":8},"                5. Tuition to Other Arizona Districts (object 6561)",{"$nulls":4},{"v":0,"d":"0 "},{"v":0,"d":"0 "},null,{"$f":"SUM(N41:O41)","v":{"v":0,"d":"0 "}},"5."]
[{"$nulls":8},"                6. Tuition to Out-of-State Districts (object 6562)",{"$nulls":4},{"v":0,"d":"0 "},{"v":0,"d":"0 "},null,{"$f":"SUM(N42:O42)","v":{"v":0,"d":"0 "}},"6."]
[{"$nulls":8},"             All Districts"]
[{"$nulls":8},"                7. Tuition to Private Schools (object 6563)",{"$nulls":4},{"v":0,"d":"0 "},{"v":0,"d":"0 "},null,{"$f":"SUM(N44:O44)","v":{"v":0,"d":"0 "}},"7."]
[{"$nulls":8},"                8. Tuition to Ed Services\\Coops\\IGAs (object 6564)",{"$nulls":4},{"v":0,"d":"0 "},{"v":0,"d":"0 "},null,{"$f":"SUM(N45:O45)","v":{"v":0,"d":"0 "}},"8."]
[{"$nulls":8},"                9. Tuition Other (object 6569) (1)",{"$nulls":4},{"v":0,"d":"0 "},{"v":0,"d":"0 "},null,{"$f":"SUM(N46:O46)","v":{"v":0,"d":"0 "}},"9."]
[{"$nulls":8},"              10. Total (lines 1-9)",{"$nulls":4},{"$f":"N33+N35+N37+N39+SUM(N41:N42)+SUM(N44:N46)","v":{"v":153530,"d":"153,530 "}},{"$f":"O33+O35+O37+O39+SUM(O41:O42)+SUM(O44:O46)","v":{"v":0,"d":"0 "}},{"$f":"P33+P37","v":{"v":0,"d":"0 "}},{"$f":"Q33+Q35+Q37+Q39++SUM(Q41:Q42)+SUM(Q44:Q46)","v":{"v":153530,"d":"153,530 "}},"10."]
[]
[{"$nulls":8},"(1) Tuition paid to the State and other governmental organizations, such as the Arizona School for the Deaf and Blind, as reimbursement for providing specialized instructional services to students residing within the boundaries of the paying district."]

{"sheet":"Page 9","index":9,"n_rows":65,"n_cols":112,"rows_kept":65,"merged":[[0,1,0,4],[0,7,0,10],[2,0,2,13],[2,25,2,44],[4,2,4,11],[5,106,5,111],[6,18,8,18],[6,25,6,31],[6,33,6,39],[6,57,6,63],[6,65,6,71],[6,73,6,79],[6,97,6,103],[6,106,6,111],[7,26,8,26],[7,27,8,27],[7,29,7,31],[7,34,8,34],[7,35,8,35],[7,37,7,39],[7,41,7,55],[7,57,8,57],[7,58,8,58],[7,59,8,59],[7,60,8,60],[7,61,7,63],[7,66,8,66],[7,67,8,67],[7,69,7,71],[7,74,8,74],[7,75,8,75],[7,77,7,79],[7,97,8,97],[7,98,8,98],[7,99,8,99],[7,100,8,100],[7,101,8,101],[7,102,8,102],[7,103,8,103],[7,106,8,106],[7,107,8,107],[7,108,8,108],[7,109,8,109],[7,110,8,110],[7,111,8,111],[7,112,8,112],[8,43,8,45],[8,47,8,49],[8,50,8,52],[8,53,8,55],[8,96,9,96],[9,19,12,19],[10,18,12,18],[10,81,10,87],[11,81,12,81],[11,82,12,82],[11,83,12,83],[11,84,12,84],[11,85,12,85],[11,86,12,86],[11,87,12,87],[11,88,12,88],[14,81,14,95],[15,21,17,21],[15,22,17,22],[15,83,15,85],[15,87,15,89],[15,90,15,92],[15,93,15,95],[16,19,17,19],[18,15,23,15],[19,81,19,95],[20,83,20,85],[20,87,20,89],[20,90,20,92],[20,93,20,95],[24,81,24,88],[25,82,26,82],[25,83,26,83],[25,84,26,84],[25,85,26,85],[25,86,26,86],[25,87,26,87],[25,88,26,88],[27,25,27,37],[29,3,30,4],[30,16,31,16],[31,3,33,3],[31,4,33,4],[31,5,33,5],[31,6,33,6],[45,25,45,31],[46,0,46,2],[46,26,47,26],[46,27,47,27],[46,29,46,31],[47,0,47,2],[47,8,47,11],[48,8,48,11],[49,8,49,11],[50,0,50,2],[50,25,50,33],[51,0,51,2],[51,26,51,27],[51,28,51,29],[51,30,51,31],[51,32,51,33],[52,0,52,2],[52,8,52,11],[53,8,53,11],[53,26,53,27],[53,28,53,29],[53,30,53,31],[53,32,53,33],[54,8,54,11],[55,0,55,3],[55,8,55,12],[56,0,56,3],[57,0,57,3],[57,8,57,10],[59,8,59,11],[60,8,60,11],[61,8,61,11]]}
["DISTRICT NAME",{"$f":"CoverDistrictName","v":"Double Adobe Elementary School "},{"$nulls":4},"COUNTY",{"$f":"County","v":"Cochise"},{"$nulls":4},"CTDS NUMBER",{"$f":"Cover!Q1","v":"020345000"}]
[]
["ADDITIONAL INFORMATION FOR NATIONAL PUBLIC EDUCATION FINANCIAL SURVEY (NPEFS) REPORTING",{"$nulls":24},"The following tables are outside the printable range of the AFR, but are used in the formulas in the NPEFS table to pull amounts from the accounting data based on the fund, program, function and object criteria indicated on the tables."]
[]
[null,null,"Programs 100-630",{"$nulls":9},"Programs 700-900"]
[{"$nulls":4},"Purchased",{"$nulls":3},"Judgments",{"$nulls":97},"Programs 700-999"]
[{"$nulls":3},"Employee","Services",{"$nulls":3},"Against a","Redemption of","Interest",null,"All",{"$nulls":5},"Food service supplies expenses minus commodities",{"$nulls":6},"Object 6100",{"$nulls":7},"Object 6200",{"$nulls":23},"Object 6600",{"$nulls":7},"Object 6700",{"$nulls":7},"Object 6810",{"$nulls":23},"Object 6890",{"$nulls":8},"All object codes "]
["Funds 001-799 (excluding 575) ",null,"Salaries","Benefits","6300, 6400,","Supplies","Property","Dues and Fees","District","Principal","6841, 6842,","Miscellaneous","Object Codes","Total",{"$nulls":12},"All Funds ","Excluded Funds\n575, 800-999","Programs 700-900","Programs 700-900 Excluded Funds (to add back to avoid double exclusion)",{"$nulls":4},"All Funds ","Excluded Funds \n575, 800-999","Programs 700-900","Programs 700-900 Excluded Funds (to add back to avoid double exclusion)",{"$nulls":3},"Objects 6300, 6400 and 6500",{"$nulls":15},"Function","All funds ","Excluded Funds \n575,800-999","Programs 700-900\nAll Funds","Programs 700-900 Excluded Funds (to add back to avoid double exclusion)",{"$nulls":4},"All funds ","Funds 575,800-999","Programs 700-900","Programs 700-900 Excluded Funds (to add back to avoid double exclusion)",{"$nulls":4},"All funds ","Funds 575,800-999","Programs 700-900","Programs 700-900 Excluded Funds (to add back to avoid double exclusion)",{"$nulls":19},"Function","All funds ","Funds 575,800-999","Programs 700-900","Programs 700-900 Fund 575","Programs 700-900 Funds 800-899","Programs 700-900 Funds 900-999",null,null,"All funds and objects, programs 700-900","All funds and object 6900, programs 700-900","Funds 575 programs 700-900, and all objects.","Funds 800-999, programs 700-900, and all objects ","Funds 575, programs 700-900, and object 6900","Funds 800-999, programs 700-900, and object 6900"]
[null,null,6100,6200,6500,6600,6700,6810,6820,"6831, 6832, 6833","6843, 6850",6890,"(excluding 6900)",{"$nulls":12},"Function",null,null,"All Funds","Fund 575 ","Funds 800-899","Funds 900-999",null,"Function",null,null,"All Funds","Fund 575 ","Funds 800-899","Funds 900-999",null,"Function","All funds","Excluded Funds 575, 800-999",null,null,"Programs 700-900","Programs 700-900, Funds 575 ",null,null,"Programs 700-900, Funds 800-899",null,null,"Programs 700-900, Funds 900-999",{"$nulls":7},"Fund 575","Funds 800-899","Funds 900-999",null,"Function",null,null,"All Funds","Fund 575","Funds 800-899","Funds 900-999",null,"Function",null,null,"All Funds","Fund 575","Funds 800-899","Funds 900-999",{"$nulls":25},"Function"]
["1000 Instruction","1.",{"$f":"(AA10-AB10-AC10)+(AD10+AE10+AF10)","v":{"v":203450,"d":"203,450 "}},{"$f":"(AI10-AJ10-AK10)+(AL10+AM10+AN10)","v":{"v":63004,"d":"63,004 "}},{"$f":"(AQ10-AR10-AS10-AT10-AU10)+(AV10+AW10+AX10+AY10+AZ10+BA10+BB10+BC10+BD10)","v":{"v":161135,"d":"161,135 "}},{"$f":"(BG10-BH10-BI10)+(BJ10+BK10+BL10)","v":{"v":12019,"d":"12,019 "}},{"$f":"(BO10-BP10-BQ10)+(BR10+BS10+BT10)","v":{"v":7378,"d":"7,378 "}},{"$f":"(BW10-BX10-BY10)+(BZ10+CA10+CB10)","v":{"v":0,"d":"0 "}},{"$nulls":3},{"$f":"(CU10-CV10-CW10)+(CX10+CY10+CZ10)","v":{"v":0,"d":"0 "}},{"$f":"(DC10-DD10)-((DE10+DF10)-(DG10+DH10))","v":{"v":0,"d":"0 "}},{"$f":"SUM(C10:M10)","v":{"v":446986,"d":"446,986 "}},"1.",{"$nulls":3},{"v":0,"d":"0 "},"Amount used for\nfood service allocation\n(lesser of restricted Fund 510 federal revenue or cell S14)",{"$nulls":5},1000,{"$f":"ROUND(SUMIFS('Accounting Data'!C2:C100000,'Accounting Data'!I2:I100000,\"1???\",'Accounting Data'!J2:J100000,\"61??\"),0)","v":{"v":203450,"d":"203,450 "}},{"$f":"ROUND(SUMIFS('Accounting Data'!C2:C100000,'Accounting Data'!E2:E100000,\"575\",'Accounting Data'!I2:I100000,\"1???\",'Accounting Data'!J2:J100000,\"61??\")+SUMIFS('Accounting Data'!C2:C100000,'Accounting Data'!E2:E100000,\"8??\",'Accounting Data'!I2:I100000,\"1???\",'Accounting Data'!J2:J100000,\"61??\")+SUMIFS('Accounting Data'!C2:C100000,'Accounting Data'!E2:E100000,\"9??\",'Accounting Data'!I2:I100000,\"1???\",'Accounting Data'!J2:J100000,\"61??\"),0)","v":{"v":0,"d":"0 "}},{"$f":"ROUND(SUMIFS('Accounting Data'!C2:C100000,'Accounting Data'!H2:H100000,\"7??\",'Accounting Data'!I2:I100000,\"1???\",'Accounting Data'!J2:J100000,\"61??\")+SUMIFS('Accounting Data'!C2:C100000,'Accounting Data'!H2:H100000,\"8??\",'Accounting Data'!I2:I100000,\"1???\",'Accounting Data'!J2:J100000,\"61??\")+SUMIFS('Accounting Data'!C2:C100000,'Accounting Data'!H2:H100000,\"9??\",'Accounting Data'!I2:I100000,\"1???\",'Accounting Data'!J2:J100000,\"61??\"),0)","v":{"v":0,"d":"0 "}},{"$f":"ROUND(SUMIFS('Accounting Data'!C2:C100000,'Accounting Data'!E2:E100000,\"575\",'Accounting Data'!H2:H100000,\"7??\",'Accounting Data'!I2:I100000,\"1???\",'Accounting Data'!J2:J100000,\"61??\")+SUMIFS('Accounting Data'!C2:C100000,'Accounting Data'!E2:E100000,\"575\",'Accounting Data'!H2:H100000,\"8??\",'Accounting Data'!I2:I100000,\"1???\",'Accounting Data'!J2:J100000,\"61??\")+SUMIFS('Accounting Data'!C2:C100000,'Accounting Data'!E2:E100000,\"575\",'Accounting Data'!H2:H100000,\"9??\",'Accounting Data'!I2:I100000,\"1???\",'Accounting Data'!J2:J100000,\"61??\"),0)","v":{"v":0,"d":"0 "}},{"$f":"ROUND(SUMIFS('Accounting Data'!C2:C100000,'Accounting Data'!E2:E100000,\"8??\",'Accounting Data'!H2:H100000,\"7??\",'Accounting Data'!I2:I100000,\"1???\",'Accounting Data'!J2:J100000,\"61??\")+SUMIFS('Accounting Data'!C2:C100000,'Accounting Data'!E2:E100000,\"8??\",'Accounting Data'!H2:H100000,\"8??\",'Accounting Data'!I2:I100000,\"1???\",'Accounting Data'!J2:J100000,\"61??\")+SUMIFS('Accounting Data'!C2:C100000,'Accounting Data'!E2:E100000,\"8??\",'Accounting Data'!H2:H100000,\"9??\",'Accounting Data'!I2:I100000,\"1???\",'Accounting Data'!J2:J100000,\"61??\"),0)","v":{"v":0,"d":"0 "}},{"$f":"ROUND(SUMIFS('Accounting Data'!C2:C100000,'Accounting Data'!E2:E100000,\"9??\",'Accounting Data'!H2:H100000,\"7??\",'Accounting Data'!I2:I100000,\"1???\",'Accounting Data'!J2:J100000,\"61??\")+SUMIFS('Accounting Data'!C2:C100000,'Accounting Data'!E2:E100000,\"9??\",'Accounting Data'!H2:H100000,\"8??\",'Accounting Data'!I2:I100000,\"1???\",'Accounting Data'!J2:J100000,\"61??\")+SUMIFS('Accounting Data'!C2:C100000,'Accounting Data'!E2:E100000,\"9??\",'Accounting Data'!H2:H100000,\"9??\",'Accounting Data'!I2:I100000,\"1???\",'Accounting Data'!J2:J100000,\"61??\"),0)","v":{"v":0,"d":"0 "}},null,1000,{"$f":"SUMIFS('Accounting Data'!C2:C100000,'Accounting Data'!I2:I100000,\"1???\",'Accounting Data'!J2:J100000,\"62??\")","v":{"v":63004,"d":"63,004 "}},{"$f":"SUMIFS('Accounting Data'!C2:C100000,'Accounting Data'!E2:E100000,\"575\",'Accounting Data'!I2:I100000,\"1???\",'Accounting Data'!J2:J100000,\"62??\")+SUMIFS('Accounting Data'!C2:C100000,'Accounting Data'!E2:E100000,\"8??\",'Accounting Data'!I2:I100000,\"1???\",'Accounting Data'!J2:J100000,\"62??\")+SUMIFS('Accounting Data'!C2:C100000,'Accounting Data'!E2:E100000,\"9??\",'Accounting Data'!I2:I100000,\"1???\",'Accounting Data'!J2:J100000,\"62??\")","v":{"v":0,"d":"0 "}},{"$f":"SUMIFS('Accounting Data'!C2:C100000,'Accounting Data'!H2:H100000,\"7??\",'Accounting Data'!I2:I100000,\"1???\",'Accounting Data'!J2:J100000,\"62??\")+SUMIFS('Accounting Data'!C2:C100000,'Accounting Data'!H2:H100000,\"8??\",'Accounting Data'!I2:I100000,\"1???\",'Accounting Data'!J2:J100000,\"62??\")+SUMIFS('Accounting Data'!C2:C100000,'Accounting Data'!H2:H100000,\"9??\",'Accounting Data'!I2:I100000,\"1???\",'Accounting Data'!J2:J100000,\"62??\")","v":{"v":0,"d":"0 "}},{"$f":"SUMIFS('Accounting Data'!C2:C100000,'Accounting Data'!E2:E100000,\"575\",'Accounting Data'!H2:H100000,\"7??\",'Accounting Data'!I2:I100000,\"1???\",'Accounting Data'!J2:J100000,\"62??\")+SUMIFS('Accounting Data'!C2:C100000,'Accounting Data'!E2:E100000,\"575\",'Accounting Data'!H2:H100000,\"8??\",'Accounting Data'!I2:I100000,\"1???\",'Accounting Data'!J2:J100000,\"62??\")+SUMIFS('Accounting Data'!C2:C100000,'Accounting Data'!E2:E100000,\"575\",'Accounting Data'!H2:H100000,\"9??\",'Accounting Data'!I2:I100000,\"1???\",'Accounting Data'!J2:J100000,\"62??\")","v":{"v":0,"d":"0 "}},{"$f":"SUMIFS('Accounting Data'!C2:C100000,'Accounting Data'!E2:E100000,\"8??\",'Accounting Data'!H2:H100000,\"7??\",'Accounting Data'!I2:I100000,\"1???\",'Accounting Data'!J2:J100000,\"62??\")+SUMIFS('Accounting Data'!C2:C100000,'Accounting Data'!E2:E100000,\"8??\",'Accounting Data'!H2:H100000,\"8??\",'Accounting Data'!I2:I100000,\"1???\",'Accounting Data'!J2:J100000,\"62??\")+SUMIFS('Accounting Data'!C2:C100000,'Accounting Data'!E2:E100000,\"8??\",'Accounting Data'!H2:H100000,\"9??\",'Accounting Data'!I2:I100000,\"1???\",'Accounting Data'!J2:J100000,\"62??\")","v":{"v":0,"d":"0 "}},{"$f":"SUMIFS('Accounting Data'!C2:C100000,'Accounting Data'!E2:E100000,\"9??\",'Accounting Data'!H2:H100000,\"7??\",'Accounting Data'!I2:I100000,\"1???\",'Accounting Data'!J2:J100000,\"62??\")+SUMIFS('Accounting Data'!C2:C100000,'Accounting Data'!E2:E100000,\"9??\",'Accounting Data'!H2:H100000,\"8??\",'Accounting Data'!I2:I100000,\"1???\",'Accounting Data'!J2:J100000,\"62??\")+SUMIFS('Accounting Data'!C2:C100000,'Accounting Data'!E2:E100000,\"9??\",'Accounting Data'!H2:H100000,\"9??\",'Accounting Data'!I2:I100000,\"1???\",'Accounting Data'!J2:J100000,\"62??\")","v":{"v":0,"d":"0 "}},null,1000,{"$f":"SUMIFS('Accounting Data'!C2:C100000,'Accounting Data'!I2:I100000,\"1???\",'Accounting Data'!J2:J100000,\"63??\")+SUMIFS('Accounting Data'!C2:C100000,'Accounting Data'!I2:I100000,\"1???\",'Accounting Data'!J2:J100000,\"64??\")+SUMIFS('Accounting Data'!C2:C100000,'Accounting Data'!I2:I100000,\"1???\",'Accounting Data'!J2:J100000,\"65??\")","v":{"v":161135,"d":"161,135 "}},{"$f":"SUMIFS('Accounting Data'!C2:C100000,'Accounting Data'!E2:E100000,\"575\",'Accounting Data'!I2:I100000,\"1???\",'Accounting Data'!J2:J100000,\"63??\")+SUMIFS('Accounting Data'!C2:C100000,'Accounting Data'!E2:E100000,\"8??\",'Accounting Data'!I2:I100000,\"1???\",'Accounting Data'!J2:J100000,\"63??\")+SUMIFS('Accounting Data'!C2:C100000,'Accounting Data'!E2:E100000,\"9??\",'Accounting Data'!I2:I100000,\"1???\",'Accounting Data'!J2:J100000,\"63??\")","v":{"v":0,"d":"0 "}},{"$f":"SUMIFS('Accounting Data'!C2:C100000,'Accounting Data'!E2:E100000,\"575\",'Accounting Data'!I2:I100000,\"1???\",'Accounting Data'!J2:J100000,\"64??\")+SUMIFS('Accounting Data'!C2:C100000,'Accounting Data'!E2:E100000,\"8??\",'Accounting Data'!I2:I100000,\"1???\",'Accounting Data'!J2:J100000,\"64??\")+SUMIFS('Accounting Data'!C2:C100000,'Accounting Data'!E2:E100000,\"9??\",'Accounting Data'!I2:I100000,\"1???\",'Accounting Data'!J2:J100000,\"64??\")","v":{"v":0,"d":"0 "}},{"$f":"SUMIFS('Accounting Data'!C2:C100000,'Accounting Data'!E2:E100000,\"575\",'Accounting Data'!I2:I100000,\"1???\",'Accounting Data'!J2:J100000,\"65??\")+SUMIFS('Accounting Data'!C2:C100000,'Accounting Data'!E2:E100000,\"8??\",'Accounting Data'!I2:I100000,\"1???\",'Accounting Data'!J2:J100000,\"65??\")+SUMIFS('Accounting Data'!C2:C100000,'Accounting Data'!E2:E100000,\"9??\",'Accounting Data'!I2:I100000,\"1???\",'Accounting Data'!J2:J100000,\"65??\")","v":{"v":0,"d":"0 "}},{"$f":"SUMIFS('Accounting Data'!C2:C100000,'Accounting Data'!H2:H100000,\"7??\",'Accounting Data'!I2:I100000,\"1???\",'Accounting Data'!J2:J100000,\"63??\")+SUMIFS('Accounting Data'!C2:C100000,'Accounting Data'!H2:H100000,\"8??\",'Accounting Data'!I2:I100000,\"1???\",'Accounting Data'!J2:J100000,\"63??\")+SUMIFS('Accounting Data'!C2:C100000,'Accounting Data'!H2:H100000,\"9??\",'Accounting Data'!I2:I100000,\"1???\",'Accounting Data'!J2:J100000,\"63??\")+SUMIFS('Accounting Data'!C2:C100000,'Accounting Data'!H2:H100000,\"7??\",'Accounting Data'!I2:I100000,\"1???\",'Accounting Data'!J2:J100000,\"64??\")+SUMIFS('Accounting Data'!C2:C100000,'Accounting Data'!H2:H100000,\"8??\",'Accounting Data'!I2:I100000,\"1???\",'Accounting Data'!J2:J100000,\"64??\")+SUMIFS('Accounting Data'!C2:C100000,'Accounting Data'!H2:H100000,\"9??\",'Accounting Data'!I2:I100000,\"1???\",'Accounting Data'!J2:J100000,\"64??\")+SUMIFS('Accounting Data'!C2:C100000,'Accounting Data'!H2:H100000,\"7??\",'Accounting Data'!I2:I100000,\"1???\",'Accounting Data'!J2:J100000,\"65??\")+SUMIFS('Accounting Data'!C2:C100000,'Accounting Data'!H2:H100000,\"8??\",'Accounting Data'!I2:I100000,\"1???\",'Accounting Data'!J2:J100000,\"65??\")+SUMIFS('Accounting Data'!C2:C100000,'Accounting Data'!H2:H100000,\"9??\",'Accounting Data'!I2:I100000,\"1???\",'Accounting Data'!J2:J100000,\"65??\")","v":{"v":0,"d":"0 "}},{"$f":"SUMIFS('Accounting Data'!C2:C100000,'Accounting Data'!E2:E100000,\"575\",'Accounting Data'!H2:H100000,\"7??\",'Accounting Data'!I2:I100000,\"1???\",'Accounting Data'!J2:J100000,\"63??\")+SUMIFS('Accounting Data'!C2:C100000,'Accounting Data'!E2:E100000,\"575\",'Accounting Data'!H2:H100000,\"8??\",'Accounting Data'!I2:I100000,\"1???\",'Accounting Data'!J2:J100000,\"63??\")+SUMIFS('Accounting Data'!C2:C100000,'Accounting Data'!E2:E100000,\"575\",'Accounting Data'!H2:H100000,\"9??\",'Accounting Data'!I2:I100000,\"1???\",'Accounting Data'!J2:J100000,\"63??\")","v":{"v":0,"d":"0 "}},{"$f":"SUMIFS('Accounting Data'!C2:C100000,'Accounting Data'!E2:E100000,\"575\",'Accounting Data'!H2:H100000,\"7??\",'Accounting Data'!I2:I100000,\"1???\",'Accounting Data'!J2:J100000,\"64??\")+SUMIFS('Accounting Data'!C2:C100000,'Accounting Data'!E2:E100000,\"575\",'Accounting Data'!H2:H100000,\"8??\",'Accounting Data'!I2:I100000,\"1???\",'Accounting Data'!J2:J100000,\"64??\")+SUMIFS('Accounting Data'!C2:C100000,'Accounting Data'!E2:E100000,\"575\",'Accounting Data'!H2:H100000,\"9??\",'Accounting Data'!I2:I100000,\"1???\",'Accounting Data'!J2:J100000,\"64??\")","v":{"v":0,"d":"0 "}},{"$f":"SUMIFS('Accounting Data'!C2:C100000,'Accounting Data'!E2:E100000,\"575\",'Accounting Data'!H2:H100000,\"7??\",'Accounting Data'!I2:I100000,\"1???\",'Accounting Data'!J2:J100000,\"65??\")+SUMIFS('Accounting Data'!C2:C100000,'Accounting Data'!E2:E100000,\"575\",'Accounting Data'!H2:H100000,\"8??\",'Accounting Data'!I2:I100000,\"1???\",'Accounting Data'!J2:J100000,\"65??\")+SUMIFS('Accounting Data'!C2:C100000,'Accounting Data'!E2:E100000,\"575\",'Accounting Data'!H2:H100000,\"9??\",'Accounting Data'!I2:I100000,\"1???\",'Accounting Data'!J2:J100000,\"65??\")","v":{"v":0,"d":"0 "}},{"$f":"SUMIFS('Accounting Data'!C2:C100000,'Accounting Data'!E2:E100000,\"8??\",'Accounting Data'!H2:H100000,\"7??\",'Accounting Data'!I2:I100000,\"1???\",'Accounting Data'!J2:J100000,\"63??\")+SUMIFS('Accounting Data'!C2:C100000,'Accounting Data'!E2:E100000,\"8??\",'Accounting Data'!H2:H100000,\"8??\",'Accounting Data'!I2:I100000,\"1???\",'Accounting Data'!J2:J100000,\"63??\")+SUMIFS('Accounting Data'!C2:C100000,'Accounting Data'!E2:E100000,\"8??\",'Accounting Data'!H2:H100000,\"9??\",'Accounting Data'!I2:I100000,\"1???\",'Accounting Data'!J2:J100000,\"63??\")","v":{"v":0,"d":"0 "}},{"$f":"SUMIFS('Accounting Data'!C2:C100000,'Accounting Data'!E2:E100000,\"8??\",'Accounting Data'!H2:H100000,\"7??\",'Accounting Data'!I2:I100000,\"1???\",'Accounting Data'!J2:J100000,\"64??\")+SUMIFS('Accounting Data'!C2:C100000,'Accounting Data'!E2:E100000,\"8??\",'Accounting Data'!H2:H100000,\"8??\",'Accounting Data'!I2:I100000,\"1???\",'Accounting Data'!J2:J100000,\"64??\")+SUMIFS('Accounting Data'!C2:C100000,'Accounting Data'!E2:E100000,\"8??\",'Accounting Data'!H2:H100000,\"9??\",'Accounting Data'!I2:I100000,\"1???\",'Accounting Data'!J2:J100000,\"64??\")","v":{"v":0,"d":"0 "}},{"$f":"SUMIFS('Accounting Data'!C2:C100000,'Accounting Data'!E2:E100000,\"8??\",'Accounting Data'!H2:H100000,\"7??\",'Accounting Data'!I2:I100000,\"1???\",'Accounting Data'!J2:J100000,\"65??\")+SUMIFS('Accounting Data'!C2:C100000,'Accounting Data'!E2:E100000,\"8??\",'Accounting Data'!H2:H100000,\"8??\",'Accounting Data'!I2:I100000,\"1???\",'Accounting Data'!J2:J100000,\"65??\")+SUMIFS('Accounting Data'!C2:C100000,'Accounting Data'!E2:E100000,\"8??\",'Accounting Data'!H2:H100000,\"9??\",'Accounting Data'!I2:I100000,\"1???\",'Accounting Data'!J2:J100000,\"65??\")","v":{"v":0,"d":"0 "}},{"$f":"SUMIFS('Accounting Data'!C2:C100000,'Accounting Data'!E2:E100000,\"9??\",'Accounting Data'!H2:H100000,\"7??\",'Accounting Data'!I2:I100000,\"1???\",'Accounting Data'!J2:J100000,\"63??\")+SUMIFS('Accounting Data'!C2:C100000,'Accounting Data'!E2:E100000,\"9??\",'Accounting Data'!H2:H100000,\"8??\",'Accounting Data'!I2:I100000,\"1???\",'Accounting Data'!J2:J100000,\"63??\")+SUMIFS('Accounting Data'!C2:C100000,'Accounting Data'!E2:E100000,\"9??\",'Accounting Data'!H2:H100000,\"9??\",'Accounting Data'!I2:I100000,\"1???\",'Accounting Data'!J2:J100000,\"63??\")","v":{"v":0,"d":"0 "}},{"$f":"SUMIFS('Accounting Data'!C2:C100000,'Accounting Data'!E2:E100000,\"9??\",'Accounting Data'!H2:H100000,\"7??\",'Accounting Data'!I2:I100000,\"1???\",'Accounting Data'!J2:J100000,\"64??\")+SUMIFS('Accounting Data'!C2:C100000,'Accounting Data'!E2:E100000,\"9??\",'Accounting Data'!H2:H100000,\"8??\",'Accounting Data'!I2:I100000,\"1???\",'Accounting Data'!J2:J100000,\"64??\")+SUMIFS('Accounting Data'!C2:C100000,'Accounting Data'!E2:E100000,\"9??\",'Accounting Data'!H2:H100000,\"9??\",'Accounting Data'!I2:I100000,\"1???\",'Accounting Data'!J2:J100000,\"64??\")","v":{"v":0,"d":"0 "}},{"$f":"SUMIFS('Accounting Data'!C2:C100000,'Accounting Data'!E2:E100000,\"9??\",'Accounting Data'!H2:H100000,\"7??\",'Accounting Data'!I2:I100000,\"1???\",'Accounting Data'!J2:J100000,\"65??\")+SUMIFS('Accounting Data'!C2:C100000,'Accounting Data'!E2:E100000,\"9??\",'Accounting Data'!H2:H100000,\"8??\",'Accounting Data'!I2:I100000,\"1???\",'Accounting Data'!J2:J100000,\"65??\")+SUMIFS('Accounting Data'!C2:C100000,'Accounting Data'!E2:E100000,\"9??\",'Accounting Data'!H2:H100000,\"9??\",'Accounting Data'!I2:I100000,\"1???\",'Accounting Data'!J2:J100000,\"65??\")","v":{"v":0,"d":"0 "}},null,1000,{"$f":"SUMIFS('Accounting Data'!C2:C100000,'Accounting Data'!I2:I100000,\"1???\",'Accounting Data'!J2:J100000,\"66??\")","v":{"v":14151,"d":"14,151 "}},{"$f":"SUMIFS('Accounting Data'!$C$2:$C$100000,'Accounting Data'!$E$2:$E$100000,\"575\",'Accounting Data'!$I$2:$I$100000,\"1???\",'Accounting Data'!$J$2:$J$100000,\"66??\")+SUMIFS('Accounting Data'!$C$2:$C$100000,'Accounting Data'!$E$2:$E$100000,\"8??\",'Accounting Data'!$I$2:$I$100000,\"1???\",'Accounting Data'!$J$2:$J$100000,\"66??\")+SUMIFS('Accounting Data'!$C$2:$C$100000,'Accounting Data'!$E$2:$E$100000,\"9??\",'Accounting Data'!$I$2:$I$100000,\"1???\",'Accounting Data'!$J$2:$J$100000,\"66??\")","v":{"v":2132,"d":"2,132 "}},{"$f":"SUMIFS('Accounting Data'!$C$2:$C$100000,'Accounting Data'!$H$2:$H$100000,\"7??\",'Accounting Data'!$I$2:$I$100000,\"1???\",'Accounting Data'!$J$2:$J$100000,\"66??\")+SUMIFS('Accounting Data'!$C$2:$C$100000,'Accounting Data'!$H$2:$H$100000,\"8??\",'Accounting Data'!$I$2:$I$100000,\"1???\",'Accounting Data'!$J$2:$J$100000,\"66??\")+SUMIFS('Accounting Data'!$C$2:$C$100000,'Accounting Data'!$H$2:$H$100000,\"9??\",'Accounting Data'!$I$2:$I$100000,\"1???\",'Accounting Data'!$J$2:$J$100000,\"66??\")","v":{"v":0,"d":"0 "}},{"$f":"SUMIFS('Accounting Data'!$C$2:$C$100000,'Accounting Data'!$E$2:$E$100000,\"575\",'Accounting Data'!$H$2:$H$100000,\"7??\",'Accounting Data'!$I$2:$I$100000,\"1???\",'Accounting Data'!$J$2:$J$100000,\"66??\")+SUMIFS('Accounting Data'!$C$2:$C$100000,'Accounting Data'!$E$2:$E$100000,\"575\",'Accounting Data'!$H$2:$H$100000,\"8??\",'Accounting Data'!$I$2:$I$100000,\"1???\",'Accounting Data'!$J$2:$J$100000,\"66??\")+SUMIFS('Accounting Data'!$C$2:$C$100000,'Accounting Data'!$E$2:$E$100000,\"575\",'Accounting Data'!$H$2:$H$100000,\"9??\",'Accounting Data'!$I$2:$I$100000,\"1???\",'Accounting Data'!$J$2:$J$100000,\"66??\")","v":{"v":0,"d":"0 "}},{"$f":"SUMIFS('Accounting Data'!$C$2:$C$100000,'Accounting Data'!$E$2:$E$100000,\"8??\",'Accounting Data'!$H$2:$H$100000,\"7??\",'Accounting Data'!$I$2:$I$100000,\"1???\",'Accounting Data'!$J$2:$J$100000,\"66??\")+SUMIFS('Accounting Data'!$C$2:$C$100000,'Accounting Data'!$E$2:$E$100000,\"8??\",'Accounting Data'!$H$2:$H$100000,\"8??\",'Accounting Data'!$I$2:$I$100000,\"1???\",'Accounting Data'!$J$2:$J$100000,\"66??\")+SUMIFS('Accounting Data'!$C$2:$C$100000,'Accounting Data'!$E$2:$E$100000,\"8??\",'Accounting Data'!$H$2:$H$100000,\"9??\",'Accounting Data'!$I$2:$I$100000,\"1???\",'Accounting Data'!$J$2:$J$100000,\"66??\")","v":{"v":0,"d":"0 "}},{"$f":"SUMIFS('Accounting Data'!$C$2:$C$100000,'Accounting Data'!$E$2:$E$100000,\"9??\",'Accounting Data'!$H$2:$H$100000,\"7??\",'Accounting Data'!$I$2:$I$100000,\"1???\",'Accounting Data'!$J$2:$J$100000,\"66??\")+SUMIFS('Accounting Data'!$C$2:$C$100000,'Accounting Data'!$E$2:$E$100000,\"9??\",'Accounting Data'!$H$2:$H$100000,\"8??\",'Accounting Data'!$I$2:$I$100000,\"1???\",'Accounting Data'!$J$2:$J$100000,\"66??\")+SUMIFS('Accounting Data'!$C$2:$C$100000,'Accounting Data'!$E$2:$E$100000,\"9??\",'Accounting Data'!$H$2:$H$100000,\"9??\",'Accounting Data'!$I$2:$I$100000,\"1???\",'Accounting Data'!$J$2:$J$100000,\"66??\")","v":{"v":0,"d":"0 "}},null,1000,{"$f":"SUMIFS('Accounting Data'!C2:C100000,'Accounting Data'!I2:I100000,\"1???\",'Accounting Data'!J2:J100000,\"67??\")","v":{"v":7378,"d":"7,378 "}},{"$f":"SUMIFS('Accounting Data'!$C$2:$C$100000,'Accounting Data'!$E$2:$E$100000,\"575\",'Accounting Data'!$I$2:$I$100000,\"1???\",'Accounting Data'!$J$2:$J$100000,\"67??\")+SUMIFS('Accounting Data'!$C$2:$C$100000,'Accounting Data'!$E$2:$E$100000,\"8??\",'Accounting Data'!$I$2:$I$100000,\"1???\",'Accounting Data'!$J$2:$J$100000,\"67??\")+SUMIFS('Accounting Data'!$C$2:$C$100000,'Accounting Data'!$E$2:$E$100000,\"9??\",'Accounting Data'!$I$2:$I$100000,\"1???\",'Accounting Data'!$J$2:$J$100000,\"67??\")","v":{"v":0,"d":"0 "}},{"$f":"SUMIFS('Accounting Data'!$C$2:$C$100000,'Accounting Data'!$H$2:$H$100000,\"7??\",'Accounting Data'!$I$2:$I$100000,\"1???\",'Accounting Data'!$J$2:$J$100000,\"67??\")+SUMIFS('Accounting Data'!$C$2:$C$100000,'Accounting Data'!$H$2:$H$100000,\"8??\",'Accounting Data'!$I$2:$I$100000,\"1???\",'Accounting Data'!$J$2:$J$100000,\"67??\")+SUMIFS('Accounting Data'!$C$2:$C$100000,'Accounting Data'!$H$2:$H$100000,\"9??\",'Accounting Data'!$I$2:$I$100000,\"1???\",'Accounting Data'!$J$2:$J$100000,\"67??\")","v":{"v":0,"d":"0 "}},{"$f":"SUMIFS('Accounting Data'!$C$2:$C$100000,'Accounting Data'!$E$2:$E$100000,\"575\",'Accounting Data'!$H$2:$H$100000,\"7??\",'Accounting Data'!$I$2:$I$100000,\"1???\",'Accounting Data'!$J$2:$J$100000,\"67??\")+SUMIFS('Accounting Data'!$C$2:$C$100000,'Accounting Data'!$E$2:$E$100000,\"575\",'Accounting Data'!$H$2:$H$100000,\"8??\",'Accounting Data'!$I$2:$I$100000,\"1???\",'Accounting Data'!$J$2:$J$100000,\"67??\")+SUMIFS('Accounting Data'!$C$2:$C$100000,'Accounting Data'!$E$2:$E$100000,\"575\",'Accounting Data'!$H$2:$H$100000,\"9??\",'Accounting Data'!$I$2:$I$100000,\"1???\",'Accounting Data'!$J$2:$J$100000,\"67??\")","v":{"v":0,"d":"0 "}},{"$f":"SUMIFS('Accounting Data'!$C$2:$C$100000,'Accounting Data'!$E$2:$E$100000,\"8??\",'Accounting Data'!$H$2:$H$100000,\"7??\",'Accounting Data'!$I$2:$I$100000,\"1???\",'Accounting Data'!$J$2:$J$100000,\"67??\")+SUMIFS('Accounting Data'!$C$2:$C$100000,'Accounting Data'!$E$2:$E$100000,\"8??\",'Accounting Data'!$H$2:$H$100000,\"8??\",'Accounting Data'!$I$2:$I$100000,\"1???\",'Accounting Data'!$J$2:$J$100000,\"67??\")+SUMIFS('Accounting Data'!$C$2:$C$100000,'Accounting Data'!$E$2:$E$100000,\"8??\",'Accounting Data'!$H$2:$H$100000,\"9??\",'Accounting Data'!$I$2:$I$100000,\"1???\",'Accounting Data'!$J$2:$J$100000,\"67??\")","v":{"v":0,"d":"0 "}},{"$f":"SUMIFS('Accounting Data'!$C$2:$C$100000,'Accounting Data'!$E$2:$E$100000,\"9??\",'Accounting Data'!$H$2:$H$100000,\"7??\",'Accounting Data'!$I$2:$I$100000,\"1???\",'Accounting Data'!$J$2:$J$100000,\"67??\")+SUMIFS('Accounting Data'!$C$2:$C$100000,'Accounting Data'!$E$2:$E$100000,\"9??\",'Accounting Data'!$H$2:$H$100000,\"8??\",'Accounting Data'!$I$2:$I$100000,\"1???\",'Accounting Data'!$J$2:$J$100000,\"67??\")+SUMIFS('Accounting Data'!$C$2:$C$100000,'Accounting Data'!$E$2:$E$100000,\"9??\",'Accounting Data'!$H$2:$H$100000,\"9??\",'Accounting Data'!$I$2:$I$100000,\"1???\",'Accounting Data'!$J$2:$J$100000,\"67??\")","v":{"v":0,"d":"0 "}},null,1000,{"$f":"SUMIFS('Accounting Data'!C2:C100000,'Accounting Data'!I2:I100000,\"1???\",'Accounting Data'!J2:J100000,\"681?\")","v":{"v":0,"d":"0 "}},{"$f":"SUMIFS('Accounting Data'!$C$2:$C$100000,'Accounting Data'!$E$2:$E$100000,\"575\",'Accounting Data'!$I$2:$I$100000,\"1???\",'Accounting Data'!$J$2:$J$100000,\"681?\")+SUMIFS('Accounting Data'!$C$2:$C$100000,'Accounting Data'!$E$2:$E$100000,\"8??\",'Accounting Data'!$I$2:$I$100000,\"1???\",'Accounting Data'!$J$2:$J$100000,\"681?\")+SUMIFS('Accounting Data'!$C$2:$C$100000,'Accounting Data'!$E$2:$E$100000,\"9??\",'Accounting Data'!$I$2:$I$100000,\"1???\",'Accounting Data'!$J$2:$J$100000,\"681?\")","v":{"v":0,"d":"0 "}},{"$f":"SUMIFS('Accounting Data'!$C$2:$C$100000,'Accounting Data'!$H$2:$H$100000,\"7??\",'Accounting Data'!$I$2:$I$100000,\"1???\",'Accounting Data'!$J$2:$J$100000,\"681?\")+SUMIFS('Accounting Data'!$C$2:$C$100000,'Accounting Data'!$H$2:$H$100000,\"8??\",'Accounting Data'!$I$2:$I$100000,\"1???\",'Accounting Data'!$J$2:$J$100000,\"681?\")+SUMIFS('Accounting Data'!$C$2:$C$100000,'Accounting Data'!$H$2:$H$100000,\"9??\",'Accounting Data'!$I$2:$I$100000,\"1???\",'Accounting Data'!$J$2:$J$100000,\"681?\")","v":{"v":0,"d":"0 "}},{"$f":"SUMIFS('Accounting Data'!$C$2:$C$100000,'Accounting Data'!$E$2:$E$100000,\"575\",'Accounting Data'!$H$2:$H$100000,\"7??\",'Accounting Data'!$I$2:$I$100000,\"1???\",'Accounting Data'!$J$2:$J$100000,\"681?\")+SUMIFS('Accounting Data'!$C$2:$C$100000,'Accounting Data'!$E$2:$E$100000,\"575\",'Accounting Data'!$H$2:$H$100000,\"8??\",'Accounting Data'!$I$2:$I$100000,\"1???\",'Accounting Data'!$J$2:$J$100000,\"681?\")+SUMIFS('Accounting Data'!$C$2:$C$100000,'Accounting Data'!$E$2:$E$100000,\"575\",'Accounting Data'!$H$2:$H$100000,\"9??\",'Accounting Data'!$I$2:$I$100000,\"1???\",'Accounting Data'!$J$2:$J$100000,\"681?\")","v":{"v":0,"d":"0 "}},{"$f":"SUMIFS('Accounting Data'!$C$2:$C$100000,'Accounting Data'!$E$2:$E$100000,\"8??\",'Accounting Data'!$H$2:$H$100000,\"7??\",'Accounting Data'!$I$2:$I$100000,\"1???\",'Accounting Data'!$J$2:$J$100000,\"681?\")+SUMIFS('Accounting Data'!$C$2:$C$100000,'Accounting Data'!$E$2:$E$100000,\"8??\",'Accounting Data'!$H$2:$H$100000,\"8??\",'Accounting Data'!$I$2:$I$100000,\"1???\",'Accounting Data'!$J$2:$J$100000,\"681?\")+SUMIFS('Accounting Data'!$C$2:$C$100000,'Accounting Data'!$E$2:$E$100000,\"8??\",'Accounting Data'!$H$2:$H$100000,\"9??\",'Accounting Data'!$I$2:$I$100000,\"1???\",'Accounting Data'!$J$2:$J$100000,\"681?\")","v":{"v":0,"d":"0 "}},{"$f":"SUMIFS('Accounting Data'!$C$2:$C$100000,'Accounting Data'!$E$2:$E$100000,\"9??\",'Accounting Data'!$H$2:$H$100000,\"7??\",'Accounting Data'!$I$2:$I$100000,\"1???\",'Accounting Data'!$J$2:$J$100000,\"681?\")+SUMIFS('Accounting Data'!$C$2:$C$100000,'Accounting Data'!$E$2:$E$100000,\"9??\",'Accounting Data'!$H$2:$H$100000,\"8??\",'Accounting Data'!$I$2:$I$100000,\"1???\",'Accounting Data'!$J$2:$J$100000,\"681?\")+SUMIFS('Accounting Data'!$C$2:$C$100000,'Accounting Data'!$E$2:$E$100000,\"9??\",'Accounting Data'!$H$2:$H$100000,\"9??\",'Accounting Data'!$I$2:$I$100000,\"1???\",'Accounting Data'!$J$2:$J$100000,\"681?\")","v":{"v":0,"d":"0 "}},{"$nulls":17},1000,{"$f":"SUMIFS('Accounting Data'!C2:C100000,'Accounting Data'!I2:I100000,\"1???\",'Accounting Data'!J2:J100000,\"689?\")","v":{"v":0,"d":"0 "}},{"$f":"SUMIFS('Accounting Data'!$C$2:$C$100000,'Accounting Data'!$E$2:$E$100000,\"575\",'Accounting Data'!$I$2:$I$100000,\"1???\",'Accounting Data'!$J$2:$J$100000,\"689?\")+SUMIFS('Accounting Data'!$C$2:$C$100000,'Accounting Data'!$E$2:$E$100000,\"8??\",'Accounting Data'!$I$2:$I$100000,\"1???\",'Accounting Data'!$J$2:$J$100000,\"689?\")+SUMIFS('Accounting Data'!$C$2:$C$100000,'Accounting Data'!$E$2:$E$100000,\"9??\",'Accounting Data'!$I$2:$I$100000,\"1???\",'Accounting Data'!$J$2:$J$100000,\"689?\")","v":{"v":0,"d":"0 "}},{"$f":"SUMIFS('Accounting Data'!$C$2:$C$100000,'Accounting Data'!$H$2:$H$100000,\"7??\",'Accounting Data'!$I$2:$I$100000,\"1???\",'Accounting Data'!$J$2:$J$100000,\"689?\")+SUMIFS('Accounting Data'!$C$2:$C$100000,'Accounting Data'!$H$2:$H$100000,\"8??\",'Accounting Data'!$I$2:$I$100000,\"1???\",'Accounting Data'!$J$2:$J$100000,\"689?\")+SUMIFS('Accounting Data'!$C$2:$C$100000,'Accounting Data'!$H$2:$H$100000,\"9??\",'Accounting Data'!$I$2:$I$100000,\"1???\",'Accounting Data'!$J$2:$J$100000,\"689?\")","v":{"v":0,"d":"0 "}},{"$f":"SUMIFS('Accounting Data'!$C$2:$C$100000,'Accounting Data'!$E$2:$E$100000,\"575\",'Accounting Data'!$H$2:$H$100000,\"7??\",'Accounting Data'!$I$2:$I$100000,\"1???\",'Accounting Data'!$J$2:$J$100000,\"689?\")+SUMIFS('Accounting Data'!$C$2:$C$100000,'Accounting Data'!$E$2:$E$100000,\"575\",'Accounting Data'!$H$2:$H$100000,\"8??\",'Accounting Data'!$I$2:$I$100000,\"1???\",'Accounting Data'!$J$2:$J$100000,\"689?\")+SUMIFS('Accounting Data'!$C$2:$C$100000,'Accounting Data'!$E$2:$E$100000,\"575\",'Accounting Data'!$H$2:$H$100000,\"9??\",'Accounting Data'!$I$2:$I$100000,\"1???\",'Accounting Data'!$J$2:$J$100000,\"689?\")","v":{"v":0,"d":"0 "}},{"$f":"SUMIFS('Accounting Data'!$C$2:$C$100000,'Accounting Data'!$E$2:$E$100000,\"8??\",'Accounting Data'!$H$2:$H$100000,\"7??\",'Accounting Data'!$I$2:$I$100000,\"1???\",'Accounting Data'!$J$2:$J$100000,\"689?\")+SUMIFS('Accounting Data'!$C$2:$C$100000,'Accounting Data'!$E$2:$E$100000,\"8??\",'Accounting Data'!$H$2:$H$100000,\"8??\",'Accounting Data'!$I$2:$I$100000,\"1???\",'Accounting Data'!$J$2:$J$100000,\"689?\")+SUMIFS('Accounting Data'!$C$2:$C$100000,'Accounting Data'!$E$2:$E$100000,\"8??\",'Accounting Data'!$H$2:$H$100000,\"9??\",'Accounting Data'!$I$2:$I$100000,\"1???\",'Accounting Data'!$J$2:$J$100000,\"689?\")","v":{"v":0,"d":"0 "}},{"$f":"SUMIFS('Accounting Data'!$C$2:$C$100000,'Accounting Data'!$E$2:$E$100000,\"9??\",'Accounting Data'!$H$2:$H$100000,\"7??\",'Accounting Data'!$I$2:$I$100000,\"1???\",'Accounting Data'!$J$2:$J$100000,\"689?\")+SUMIFS('Accounting Data'!$C$2:$C$100000,'Accounting Data'!$E$2:$E$100000,\"9??\",'Accounting Data'!$H$2:$H$100000,\"8??\",'Accounting Data'!$I$2:$I$100000,\"1???\",'Accounting Data'!$J$2:$J$100000,\"689?\")+SUMIFS('Accounting Data'!$C$2:$C$100000,'Accounting Data'!$E$2:$E$100000,\"9??\",'Accounting Data'!$H$2:$H$100000,\"9??\",'Accounting Data'!$I$2:$I$100000,\"1???\",'Accounting Data'!$J$2:$J$100000,\"689?\")","v":{"v":0,"d":"0 "}},null,1000,{"$f":"SUMIFS('Accounting Data'!$C$2:$C$100000,'Accounting Data'!$H$2:$H$100000,\"7??\",'Accounting Data'!$I$2:$I$100000,\"1???\",'Accounting Data'!$J$2:$J$100000,\"6???\")+SUMIFS('Accounting Data'!$C$2:$C$100000,'Accounting Data'!$H$2:$H$100000,\"8??\",'Accounting Data'!$I$2:$I$100000,\"1???\",'Accounting Data'!$J$2:$J$100000,\"6???\")+SUMIFS('Accounting Data'!$C$2:$C$100000,'Accounting Data'!$H$2:$H$100000,\"9??\",'Accounting Data'!$I$2:$I$100000,\"1???\",'Accounting Data'!$J$2:$J$100000,\"6???\")","v":{"v":0,"d":"0 "}},{"$f":"SUMIFS('Accounting Data'!$C$2:$C$100000,'Accounting Data'!$H$2:$H$100000,\"7??\",'Accounting Data'!$I$2:$I$100000,\"1???\",'Accounting Data'!$J$2:$J$100000,\"69??\")+SUMIFS('Accounting Data'!$C$2:$C$100000,'Accounting Data'!$H$2:$H$100000,\"8??\",'Accounting Data'!$I$2:$I$100000,\"1???\",'Accounting Data'!$J$2:$J$100000,\"69??\")+SUMIFS('Accounting Data'!$C$2:$C$100000,'Accounting Data'!$H$2:$H$100000,\"9??\",'Accounting Data'!$I$2:$I$100000,\"1???\",'Accounting Data'!$J$2:$J$100000,\"69??\")","v":{"v":0,"d":"0 "}},{"$f":"SUMIFS('Accounting Data'!$C$2:$C$100000,'Accounting Data'!$E$2:$E$100000,\"575\",'Accounting Data'!$H$2:$H$100000,\"7??\",'Accounting Data'!$I$2:$I$100000,\"1???\",'Accounting Data'!$J$2:$J$100000,\"6???\")+SUMIFS('Accounting Data'!$C$2:$C$100000,'Accounting Data'!$E$2:$E$100000,\"575\",'Accounting Data'!$H$2:$H$100000,\"8??\",'Accounting Data'!$I$2:$I$100000,\"1???\",'Accounting Data'!$J$2:$J$100000,\"6???\")+SUMIFS('Accounting Data'!$C$2:$C$100000,'Accounting Data'!$E$2:$E$100000,\"575\",'Accounting Data'!$H$2:$H$100000,\"9??\",'Accounting Data'!$I$2:$I$100000,\"1???\",'Accounting Data'!$J$2:$J$100000,\"6???\")","v":{"v":0,"d":"0 "}},{"$f":"SUMIFS('Accounting Data'!$C$2:$C$100000,'Accounting Data'!$E$2:$E$100000,\"8??\",'Accounting Data'!$H$2:$H$100000,\"7??\",'Accounting Data'!$I$2:$I$100000,\"1???\",'Accounting Data'!$J$2:$J$100000,\"6???\")+SUMIFS('Accounting Data'!$C$2:$C$100000,'Accounting Data'!$E$2:$E$100000,\"8??\",'Accounting Data'!$H$2:$H$100000,\"8??\",'Accounting Data'!$I$2:$I$100000,\"1???\",'Accounting Data'!$J$2:$J$100000,\"6???\")+SUMIFS('Accounting Data'!$C$2:$C$100000,'Accounting Data'!$E$2:$E$100000,\"8??\",'Accounting Data'!$H$2:$H$100000,\"9??\",'Accounting Data'!$I$2:$I$100000,\"1???\",'Accounting Data'!$J$2:$J$100000,\"6???\")+SUMIFS('Accounting Data'!$C$2:$C$100000,'Accounting Data'!$E$2:$E$100000,\"9??\",'Accounting Data'!$H$2:$H$100000,\"7??\",'Accounting Data'!$I$2:$I$100000,\"1???\",'Accounting Data'!$J$2:$J$100000,\"6???\")+SUMIFS('Accounting Data'!$C$2:$C$100000,'Accounting Data'!$E$2:$E$100000,\"9??\",'Accounting Data'!$H$2:$H$100000,\"8??\",'Accounting Data'!$I$2:$I$100000,\"1???\",'Accounting Data'!$J$2:$J$100000,\"6???\")+SUMIFS('Accounting Data'!$C$2:$C$100000,'Accounting Data'!$E$2:$E$100000,\"9??\",'Accounting Data'!$H$2:$H$100000,\"9??\",'Accounting Data'!$I$2:$I$100000,\"1???\",'Accounting Data'!$J$2:$J$100000,\"6???\")","v":{"v":0,"d":"0 "}},{"$f":"SUMIFS('Accounting Data'!$C$2:$C$100000,'Accounting Data'!$E$2:$E$100000,\"575\",'Accounting Data'!$H$2:$H$100000,\"7??\",'Accounting Data'!$I$2:$I$100000,\"1???\",'Accounting Data'!$J$2:$J$100000,\"69??\")+SUMIFS('Accounting Data'!$C$2:$C$100000,'Accounting Data'!$E$2:$E$100000,\"575\",'Accounting Data'!$H$2:$H$100000,\"8??\",'Accounting Data'!$I$2:$I$100000,\"1???\",'Accounting Data'!$J$2:$J$100000,\"69??\")+SUMIFS('Accounting Data'!$C$2:$C$100000,'Accounting Data'!$E$2:$E$100000,\"575\",'Accounting Data'!$H$2:$H$100000,\"9??\",'Accounting Data'!$I$2:$I$100000,\"1???\",'Accounting Data'!$J$2:$J$100000,\"69??\")","v":{"v":0,"d":"0 "}},{"$f":"SUMIFS('Accounting Data'!$C$2:$C$100000,'Accounting Data'!$E$2:$E$100000,\"8??\",'Accounting Data'!$H$2:$H$100000,\"7??\",'Accounting Data'!$I$2:$I$100000,\"1???\",'Accounting Data'!$J$2:$J$100000,\"69??\")+SUMIFS('Accounting Data'!$C$2:$C$100000,'Accounting Data'!$E$2:$E$100000,\"8??\",'Accounting Data'!$H$2:$H$100000,\"8??\",'Accounting Data'!$I$2:$I$100000,\"1???\",'Accounting Data'!$J$2:$J$100000,\"69??\")+SUMIFS('Accounting Data'!$C$2:$C$100000,'Accounting Data'!$E$2:$E$100000,\"8??\",'Accounting Data'!$H$2:$H$100000,\"9??\",'Accounting Data'!$I$2:$I$100000,\"1???\",'Accounting Data'!$J$2:$J$100000,\"69??\")+SUMIFS('Accounting Data'!$C$2:$C$100000,'Accounting Data'!$E$2:$E$100000,\"9??\",'Accounting Data'!$H$2:$H$100000,\"7??\",'Accounting Data'!$I$2:$I$100000,\"1???\",'Accounting Data'!$J$2:$J$100000,\"69??\")+SUMIFS('Accounting Data'!$C$2:$C$100000,'Accounting Data'!$E$2:$E$100000,\"9??\",'Accounting Data'!$H$2:$H$100000,\"8??\",'Accounting Data'!$I$2:$I$100000,\"1???\",'Accounting Data'!$J$2:$J$100000,\"69??\")+SUMIFS('Accounting Data'!$C$2:$C$100000,'Accounting Data'!$E$2:$E$100000,\"9??\",'Accounting Data'!$H$2:$H$100000,\"9??\",'Accounting Data'!$I$2:$I$100000,\"1???\",'Accounting Data'!$J$2:$J$100000,\"69??\")","v":{"v":0,"d":"0 "}}]
["2000 Support Services",{"$nulls":17},"Total food service expenses minus commodities",{"$nulls":62},"Object 6820"]
["         2100 Students","2.",{"$f":"(AA12-AB12-AC12)+(AD12+AE12+AF12)","v":{"v":0,"d":"0 "}},{"$f":"(AI12-AJ12-AK12)+(AL12+AM12+AN12)","v":{"v":0,"d":"0 "}},{"$f":"(AQ12-AR12-AS12-AT12-AU12)+(AV12+AW12+AX12+AY12+AZ12+BA12+BB12+BC12+BD12)","v":{"v":40436,"d":"40,436 "}},{"$f":"(BG12-BH12-BI12)+(BJ12+BK12+BL12)","v":{"v":0,"d":"0 "}},{"$f":"(BO12-BP12-BQ12)+(BR12+BS12+BT12)","v":{"v":0,"d":"0 "}},{"$f":"(BW12-BX12-BY12)+(BZ12+CA12+CB12)","v":{"v":0,"d":"0 "}},{"$nulls":3},{"$f":"(CU12-CV12-CW12)+(CX12+CY12+CZ12)","v":{"v":0,"d":"0 "}},{"$f":"(DC12-DD12)-((DE12+DF12)-(DG12+DH12))","v":{"v":0,"d":"0 "}},{"$f":"SUM(C12:M12)","v":{"v":40436,"d":"40,436 "}},"2.",{"$nulls":10},2100,{"$f":"SUMIFS('Accounting Data'!C2:C100000,'Accounting Data'!I2:I100000,\"21??\",'Accounting Data'!J2:J100000,\"61??\")","v":{"v":0,"d":"0 "}},{"$f":"SUMIFS('Accounting Data'!C2:C100000,'Accounting Data'!E2:E100000,\"575\",'Accounting Data'!I2:I100000,\"21??\",'Accounting Data'!J2:J100000,\"61??\")+SUMIFS('Accounting Data'!C2:C100000,'Accounting Data'!E2:E100000,\"8??\",'Accounting Data'!I2:I100000,\"21??\",'Accounting Data'!J2:J100000,\"61??\")+SUMIFS('Accounting Data'!C2:C100000,'Accounting Data'!E2:E100000,\"9??\",'Accounting Data'!I2:I100000,\"21??\",'Accounting Data'!J2:J100000,\"61??\")","v":{"v":0,"d":"0 "}},{"$f":"SUMIFS('Accounting Data'!C2:C100000,'Accounting Data'!H2:H100000,\"7??\",'Accounting Data'!I2:I100000,\"21??\",'Accounting Data'!J2:J100000,\"61??\")+SUMIFS('Accounting Data'!C2:C100000,'Accounting Data'!H2:H100000,\"8??\",'Accounting Data'!I2:I100000,\"21??\",'Accounting Data'!J2:J100000,\"61??\")+SUMIFS('Accounting Data'!C2:C100000,'Accounting Data'!H2:H100000,\"9??\",'Accounting Data'!I2:I100000,\"21??\",'Accounting Data'!J2:J100000,\"61??\")","v":{"v":0,"d":"0 "}},{"$f":"SUMIFS('Accounting Data'!C2:C100000,'Accounting Data'!E2:E100000,\"575\",'Accounting Data'!H2:H100000,\"7??\",'Accounting Data'!I2:I100000,\"21??\",'Accounting Data'!J2:J100000,\"61??\")+SUMIFS('Accounting Data'!C2:C100000,'Accounting Data'!E2:E100000,\"575\",'Accounting Data'!H2:H100000,\"8??\",'Accounting Data'!I2:I100000,\"21??\",'Accounting Data'!J2:J100000,\"61??\")+SUMIFS('Accounting Data'!C2:C100000,'Accounting Data'!E2:E100000,\"575\",'Accounting Data'!H2:H100000,\"9??\",'Accounting Data'!I2:I100000,\"21??\",'Accounting Data'!J2:J100000,\"61??\")","v":{"v":0,"d":"0 "}},{"$f":"SUMIFS('Accounting Data'!C2:C100000,'Accounting Data'!E2:E100000,\"8??\",'Accounting Data'!H2:H100000,\"7??\",'Accounting Data'!I2:I100000,\"21??\",'Accounting Data'!J2:J100000,\"61??\")+SUMIFS('Accounting Data'!C2:C100000,'Accounting Data'!E2:E100000,\"8??\",'Accounting Data'!H2:H100000,\"8??\",'Accounting Data'!I2:I100000,\"21??\",'Accounting Data'!J2:J100000,\"61??\")+SUMIFS('Accounting Data'!C2:C100000,'Accounting Data'!E2:E100000,\"8??\",'Accounting Data'!H2:H100000,\"9??\",'Accounting Data'!I2:I100000,\"21??\",'Accounting Data'!J2:J100000,\"61??\")","v":{"v":0,"d":"0 "}},{"$f":"SUMIFS('Accounting Data'!C2:C100000,'Accounting Data'!E2:E100000,\"9??\",'Accounting Data'!H2:H100000,\"7??\",'Accounting Data'!I2:I100000,\"21??\",'Accounting Data'!J2:J100000,\"61??\")+SUMIFS('Accounting Data'!C2:C100000,'Accounting Data'!E2:E100000,\"9??\",'Accounting Data'!H2:H100000,\"8??\",'Accounting Data'!I2:I100000,\"21??\",'Accounting Data'!J2:J100000,\"61??\")+SUMIFS('Accounting Data'!C2:C100000,'Accounting Data'!E2:E100000,\"9??\",'Accounting Data'!H2:H100000,\"9??\",'Accounting Data'!I2:I100000,\"21??\",'Accounting Data'!J2:J100000,\"61??\")","v":{"v":0,"d":"0 "}},null,2100,{"$f":"SUMIFS('Accounting Data'!C2:C100000,'Accounting Data'!I2:I100000,\"21??\",'Accounting Data'!J2:J100000,\"62??\")","v":{"v":0,"d":"0 "}},{"$f":"SUMIFS('Accounting Data'!C2:C100000,'Accounting Data'!E2:E100000,\"575\",'Accounting Data'!I2:I100000,\"21??\",'Accounting Data'!J2:J100000,\"62??\")+SUMIFS('Accounting Data'!C2:C100000,'Accounting Data'!E2:E100000,\"8??\",'Accounting Data'!I2:I100000,\"21??\",'Accounting Data'!J2:J100000,\"62??\")+SUMIFS('Accounting Data'!C2:C100000,'Accounting Data'!E2:E100000,\"9??\",'Accounting Data'!I2:I100000,\"21??\",'Accounting Data'!J2:J100000,\"62??\")","v":{"v":0,"d":"0 "}},{"$f":"SUMIFS('Accounting Data'!C2:C100000,'Accounting Data'!H2:H100000,\"7??\",'Accounting Data'!I2:I100000,\"21??\",'Accounting Data'!J2:J100000,\"62??\")+SUMIFS('Accounting Data'!C2:C100000,'Accounting Data'!H2:H100000,\"8??\",'Accounting Data'!I2:I100000,\"21??\",'Accounting Data'!J2:J100000,\"62??\")+SUMIFS('Accounting Data'!C2:C100000,'Accounting Data'!H2:H100000,\"9??\",'Accounting Data'!I2:I100000,\"21??\",'Accounting Data'!J2:J100000,\"62??\")","v":{"v":0,"d":"0 "}},{"$f":"SUMIFS('Accounting Data'!C2:C100000,'Accounting Data'!E2:E100000,\"575\",'Accounting Data'!H2:H100000,\"7??\",'Accounting Data'!I2:I100000,\"21??\",'Accounting Data'!J2:J100000,\"62??\")+SUMIFS('Accounting Data'!C2:C100000,'Accounting Data'!E2:E100000,\"575\",'Accounting Data'!H2:H100000,\"8??\",'Accounting Data'!I2:I100000,\"21??\",'Accounting Data'!J2:J100000,\"62??\")+SUMIFS('Accounting Data'!C2:C100000,'Accounting Data'!E2:E100000,\"575\",'Accounting Data'!H2:H100000,\"9??\",'Accounting Data'!I2:I100000,\"21??\",'Accounting Data'!J2:J100000,\"62??\")","v":{"v":0,"d":"0 "}},{"$f":"SUMIFS('Accounting Data'!C2:C100000,'Accounting Data'!E2:E100000,\"8??\",'Accounting Data'!H2:H100000,\"7??\",'Accounting Data'!I2:I100000,\"21??\",'Accounting Data'!J2:J100000,\"62??\")+SUMIFS('Accounting Data'!C2:C100000,'Accounting Data'!E2:E100000,\"8??\",'Accounting Data'!H2:H100000,\"8??\",'Accounting Data'!I2:I100000,\"21??\",'Accounting Data'!J2:J100000,\"62??\")+SUMIFS('Accounting Data'!C2:C100000,'Accounting Data'!E2:E100000,\"8??\",'Accounting Data'!H2:H100000,\"9??\",'Accounting Data'!I2:I100000,\"21??\",'Accounting Data'!J2:J100000,\"62??\")","v":{"v":0,"d":"0 "}},{"$f":"SUMIFS('Accounting Data'!C2:C100000,'Accounting Data'!E2:E100000,\"9??\",'Accounting Data'!H2:H100000,\"7??\",'Accounting Data'!I2:I100000,\"21??\",'Accounting Data'!J2:J100000,\"62??\")+SUMIFS('Accounting Data'!C2:C100000,'Accounting Data'!E2:E100000,\"9??\",'Accounting Data'!H2:H100000,\"8??\",'Accounting Data'!I2:I100000,\"21??\",'Accounting Data'!J2:J100000,\"62??\")+SUMIFS('Accounting Data'!C2:C100000,'Accounting Data'!E2:E100000,\"9??\",'Accounting Data'!H2:H100000,\"9??\",'Accounting Data'!I2:I100000,\"21??\",'Accounting Data'!J2:J100000,\"62??\")","v":{"v":0,"d":"0 "}},null,2100,{"$f":"SUMIFS('Accounting Data'!C2:C100000,'Accounting Data'!I2:I100000,\"21??\",'Accounting Data'!J2:J100000,\"63??\")+SUMIFS('Accounting Data'!C2:C100000,'Accounting Data'!I2:I100000,\"21??\",'Accounting Data'!J2:J100000,\"64??\")+SUMIFS('Accounting Data'!C2:C100000,'Accounting Data'!I2:I100000,\"21??\",'Accounting Data'!J2:J100000,\"65??\")","v":{"v":40436,"d":"40,436 "}},{"$f":"SUMIFS('Accounting Data'!C2:C100000,'Accounting Data'!E2:E100000,\"575\",'Accounting Data'!I2:I100000,\"21??\",'Accounting Data'!J2:J100000,\"63??\")+SUMIFS('Accounting Data'!C2:C100000,'Accounting Data'!E2:E100000,\"8??\",'Accounting Data'!I2:I100000,\"21??\",'Accounting Data'!J2:J100000,\"63??\")+SUMIFS('Accounting Data'!C2:C100000,'Accounting Data'!E2:E100000,\"9??\",'Accounting Data'!I2:I100000,\"21??\",'Accounting Data'!J2:J100000,\"63??\")","v":{"v":0,"d":"0 "}},{"$f":"SUMIFS('Accounting Data'!C2:C100000,'Accounting Data'!E2:E100000,\"575\",'Accounting Data'!I2:I100000,\"21??\",'Accounting Data'!J2:J100000,\"64??\")+SUMIFS('Accounting Data'!C2:C100000,'Accounting Data'!E2:E100000,\"8??\",'Accounting Data'!I2:I100000,\"21??\",'Accounting Data'!J2:J100000,\"64??\")+SUMIFS('Accounting Data'!C2:C100000,'Accounting Data'!E2:E100000,\"9??\",'Accounting Data'!I2:I100000,\"21??\",'Accounting Data'!J2:J100000,\"64??\")","v":{"v":0,"d":"0 "}},{"$f":"SUMIFS('Accounting Data'!C2:C100000,'Accounting Data'!E2:E100000,\"575\",'Accounting Data'!I2:I100000,\"21??\",'Accounting Data'!J2:J100000,\"65??\")+SUMIFS('Accounting Data'!C2:C100000,'Accounting Data'!E2:E100000,\"8??\",'Accounting Data'!I2:I100000,\"21??\",'Accounting Data'!J2:J100000,\"65??\")+SUMIFS('Accounting Data'!C2:C100000,'Accounting Data'!E2:E100000,\"9??\",'Accounting Data'!I2:I100000,\"21??\",'Accounting Data'!J2:J100000,\"65??\")","v":{"v":0,"d":"0 "}},{"$f":"SUMIFS('Accounting Data'!C2:C100000,'Accounting Data'!H2:H100000,\"7??\",'Accounting Data'!I2:I100000,\"21??\",'Accounting Data'!J2:J100000,\"63??\")+SUMIFS('Accounting Data'!C2:C100000,'Accounting Data'!H2:H100000,\"8??\",'Accounting Data'!I2:I100000,\"21??\",'Accounting Data'!J2:J100000,\"63??\")+SUMIFS('Accounting Data'!C2:C100000,'Accounting Data'!H2:H100000,\"9??\",'Accounting Data'!I2:I100000,\"21??\",'Accounting Data'!J2:J100000,\"63??\")+SUMIFS('Accounting Data'!C2:C100000,'Accounting Data'!H2:H100000,\"7??\",'Accounting Data'!I2:I100000,\"21??\",'Accounting Data'!J2:J100000,\"64??\")+SUMIFS('Accounting Data'!C2:C100000,'Accounting Data'!H2:H100000,\"8??\",'Accounting Data'!I2:I100000,\"21??\",'Accounting Data'!J2:J100000,\"64??\")+SUMIFS('Accounting Data'!C2:C100000,'Accounting Data'!H2:H100000,\"9??\",'Accounting Data'!I2:I100000,\"21??\",'Accounting Data'!J2:J100000,\"64??\")+SUMIFS('Accounting Data'!C2:C100000,'Accounting Data'!H2:H100000,\"7??\",'Accounting Data'!I2:I100000,\"21??\",'Accounting Data'!J2:J100000,\"65??\")+SUMIFS('Accounting Data'!C2:C100000,'Accounting Data'!H2:H100000,\"8??\",'Accounting Data'!I2:I100000,\"21??\",'Accounting Data'!J2:J100000,\"65??\")+SUMIFS('Accounting Data'!C2:C100000,'Accounting Data'!H2:H100000,\"9??\",'Accounting Data'!I2:I100000,\"21??\",'Accounting Data'!J2:J100000,\"65??\")","v":{"v":0,"d":"0 "}},{"$f":"SUMIFS('Accounting Data'!C2:C100000,'Accounting Data'!E2:E100000,\"575\",'Accounting Data'!H2:H100000,\"7??\",'Accounting Data'!I2:I100000,\"21??\",'Accounting Data'!J2:J100000,\"63??\")+SUMIFS('Accounting Data'!C2:C100000,'Accounting Data'!E2:E100000,\"575\",'Accounting Data'!H2:H100000,\"8??\",'Accounting Data'!I2:I100000,\"21??\",'Accounting Data'!J2:J100000,\"63??\")+SUMIFS('Accounting Data'!C2:C100000,'Accounting Data'!E2:E100000,\"575\",'Accounting Data'!H2:H100000,\"9??\",'Accounting Data'!I2:I100000,\"21??\",'Accounting Data'!J2:J100000,\"63??\")","v":{"v":0,"d":"0 "}},{"$f":"SUMIFS('Accounting Data'!C2:C100000,'Accounting Data'!E2:E100000,\"575\",'Accounting Data'!H2:H100000,\"7??\",'Accounting Data'!I2:I100000,\"21??\",'Accounting Data'!J2:J100000,\"64??\")+SUMIFS('Accounting Data'!C2:C100000,'Accounting Data'!E2:E100000,\"575\",'Accounting Data'!H2:H100000,\"8??\",'Accounting Data'!I2:I100000,\"21??\",'Accounting Data'!J2:J100000,\"64??\")+SUMIFS('Accounting Data'!C2:C100000,'Accounting Data'!E2:E100000,\"575\",'Accounting Data'!H2:H100000,\"9??\",'Accounting Data'!I2:I100000,\"21??\",'Accounting Data'!J2:J100000,\"64??\")","v":{"v":0,"d":"0 "}},{"$f":"SUMIFS('Accounting Data'!C2:C100000,'Accounting Data'!E2:E100000,\"575\",'Accounting Data'!H2:H100000,\"7??\",'Accounting Data'!I2:I100000,\"21??\",'Accounting Data'!J2:J100000,\"65??\")+SUMIFS('Accounting Data'!C2:C100000,'Accounting Data'!E2:E100000,\"575\",'Accounting Data'!H2:H100000,\"8??\",'Accounting Data'!I2:I100000,\"21??\",'Accounting Data'!J2:J100000,\"65??\")+SUMIFS('Accounting Data'!C2:C100000,'Accounting Data'!E2:E100000,\"575\",'Accounting Data'!H2:H100000,\"9??\",'Accounting Data'!I2:I100000,\"21??\",'Accounting Data'!J2:J100000,\"65??\")","v":{"v":0,"d":"0 "}},{"$f":"SUMIFS('Accounting Data'!C2:C100000,'Accounting Data'!E2:E100000,\"8??\",'Accounting Data'!H2:H100000,\"7??\",'Accounting Data'!I2:I100000,\"21??\",'Accounting Data'!J2:J100000,\"63??\")+SUMIFS('Accounting Data'!C2:C100000,'Accounting Data'!E2:E100000,\"8??\",'Accounting Data'!H2:H100000,\"8??\",'Accounting Data'!I2:I100000,\"21??\",'Accounting Data'!J2:J100000,\"63??\")+SUMIFS('Accounting Data'!C2:C100000,'Accounting Data'!E2:E100000,\"8??\",'Accounting Data'!H2:H100000,\"9??\",'Accounting Data'!I2:I100000,\"21??\",'Accounting Data'!J2:J100000,\"63??\")","v":{"v":0,"d":"0 "}},{"$f":"SUMIFS('Accounting Data'!C2:C100000,'Accounting Data'!E2:E100000,\"8??\",'Accounting Data'!H2:H100000,\"7??\",'Accounting Data'!I2:I100000,\"21??\",'Accounting Data'!J2:J100000,\"64??\")+SUMIFS('Accounting Data'!C2:C100000,'Accounting Data'!E2:E100000,\"8??\",'Accounting Data'!H2:H100000,\"8??\",'Accounting Data'!I2:I100000,\"21??\",'Accounting Data'!J2:J100000,\"64??\")+SUMIFS('Accounting Data'!C2:C100000,'Accounting Data'!E2:E100000,\"8??\",'Accounting Data'!H2:H100000,\"9??\",'Accounting Data'!I2:I100000,\"21??\",'Accounting Data'!J2:J100000,\"64??\")","v":{"v":0,"d":"0 "}},{"$f":"SUMIFS('Accounting Data'!C2:C100000,'Accounting Data'!E2:E100000,\"8??\",'Accounting Data'!H2:H100000,\"7??\",'Accounting Data'!I2:I100000,\"21??\",'Accounting Data'!J2:J100000,\"65??\")+SUMIFS('Accounting Data'!C2:C100000,'Accounting Data'!E2:E100000,\"8??\",'Accounting Data'!H2:H100000,\"8??\",'Accounting Data'!I2:I100000,\"21??\",'Accounting Data'!J2:J100000,\"65??\")+SUMIFS('Accounting Data'!C2:C100000,'Accounting Data'!E2:E100000,\"8??\",'Accounting Data'!H2:H100000,\"9??\",'Accounting Data'!I2:I100000,\"21??\",'Accounting Data'!J2:J100000,\"65??\")","v":{"v":0,"d":"0 "}},{"$f":"SUMIFS('Accounting Data'!C2:C100000,'Accounting Data'!E2:E100000,\"9??\",'Accounting Data'!H2:H100000,\"7??\",'Accounting Data'!I2:I100000,\"21??\",'Accounting Data'!J2:J100000,\"63??\")+SUMIFS('Accounting Data'!C2:C100000,'Accounting Data'!E2:E100000,\"9??\",'Accounting Data'!H2:H100000,\"8??\",'Accounting Data'!I2:I100000,\"21??\",'Accounting Data'!J2:J100000,\"63??\")+SUMIFS('Accounting Data'!C2:C100000,'Accounting Data'!E2:E100000,\"9??\",'Accounting Data'!H2:H100000,\"9??\",'Accounting Data'!I2:I100000,\"21??\",'Accounting Data'!J2:J100000,\"63??\")","v":{"v":0,"d":"0 "}},{"$f":"SUMIFS('Accounting Data'!C2:C100000,'Accounting Data'!E2:E100000,\"9??\",'Accounting Data'!H2:H100000,\"7??\",'Accounting Data'!I2:I100000,\"21??\",'Accounting Data'!J2:J100000,\"64??\")+SUMIFS('Accounting Data'!C2:C100000,'Accounting Data'!E2:E100000,\"9??\",'Accounting Data'!H2:H100000,\"8??\",'Accounting Data'!I2:I100000,\"21??\",'Accounting Data'!J2:J100000,\"64??\")+SUMIFS('Accounting Data'!C2:C100000,'Accounting Data'!E2:E100000,\"9??\",'Accounting Data'!H2:H100000,\"9??\",'Accounting Data'!I2:I100000,\"21??\",'Accounting Data'!J2:J100000,\"64??\")","v":{"v":0,"d":"0 "}},{"$f":"SUMIFS('Accounting Data'!C2:C100000,'Accounting Data'!E2:E100000,\"9??\",'Accounting Data'!H2:H100000,\"7??\",'Accounting Data'!I2:I100000,\"21??\",'Accounting Data'!J2:J100000,\"65??\")+SUMIFS('Accounting Data'!C2:C100000,'Accounting Data'!E2:E100000,\"9??\",'Accounting Data'!H2:H100000,\"8??\",'Accounting Data'!I2:I100000,\"21??\",'Accounting Data'!J2:J100000,\"65??\")+SUMIFS('Accounting Data'!C2:C100000,'Accounting Data'!E2:E100000,\"9??\",'Accounting Data'!H2:H100000,\"9??\",'Accounting Data'!I2:I100000,\"21??\",'Accounting Data'!J2:J100000,\"65??\")","v":{"v":0,"d":"0 "}},null,2100,{"$f":"SUMIFS('Accounting Data'!C2:C100000,'Accounting Data'!I2:I100000,\"21??\",'Accounting Data'!J2:J100000,\"66??\")","v":{"v":0,"d":"0 "}},{"$f":"SUMIFS('Accounting Data'!$C$2:$C$100000,'Accounting Data'!$E$2:$E$100000,\"575\",'Accounting Data'!$I$2:$I$100000,\"21??\",'Accounting Data'!$J$2:$J$100000,\"66??\")+SUMIFS('Accounting Data'!$C$2:$C$100000,'Accounting Data'!$E$2:$E$100000,\"8??\",'Accounting Data'!$I$2:$I$100000,\"21??\",'Accounting Data'!$J$2:$J$100000,\"66??\")+SUMIFS('Accounting Data'!$C$2:$C$100000,'Accounting Data'!$E$2:$E$100000,\"9??\",'Accounting Data'!$I$2:$I$100000,\"21??\",'Accounting Data'!$J$2:$J$100000,\"66??\")","v":{"v":0,"d":"0 "}},{"$f":"SUMIFS('Accounting Data'!$C$2:$C$100000,'Accounting Data'!$H$2:$H$100000,\"7??\",'Accounting Data'!$I$2:$I$100000,\"21??\",'Accounting Data'!$J$2:$J$100000,\"66??\")+SUMIFS('Accounting Data'!$C$2:$C$100000,'Accounting Data'!$H$2:$H$100000,\"8??\",'Accounting Data'!$I$2:$I$100000,\"21??\",'Accounting Data'!$J$2:$J$100000,\"66??\")+SUMIFS('Accounting Data'!$C$2:$C$100000,'Accounting Data'!$H$2:$H$100000,\"9??\",'Accounting Data'!$I$2:$I$100000,\"21??\",'Accounting Data'!$J$2:$J$100000,\"66??\")","v":{"v":0,"d":"0 "}},{"$f":"SUMIFS('Accounting Data'!$C$2:$C$100000,'Accounting Data'!$E$2:$E$100000,\"575\",'Accounting Data'!$H$2:$H$100000,\"7??\",'Accounting Data'!$I$2:$I$100000,\"21??\",'Accounting Data'!$J$2:$J$100000,\"66??\")+SUMIFS('Accounting Data'!$C$2:$C$100000,'Accounting Data'!$E$2:$E$100000,\"575\",'Accounting Data'!$H$2:$H$100000,\"8??\",'Accounting Data'!$I$2:$I$100000,\"21??\",'Accounting Data'!$J$2:$J$100000,\"66??\")+SUMIFS('Accounting Data'!$C$2:$C$100000,'Accounting Data'!$E$2:$E$100000,\"575\",'Accounting Data'!$H$2:$H$100000,\"9??\",'Accounting Data'!$I$2:$I$100000,\"21??\",'Accounting Data'!$J$2:$J$100000,\"66??\")","v":{"v":0,"d":"0 "}},{"$f":"SUMIFS('Accounting Data'!$C$2:$C$100000,'Accounting Data'!$E$2:$E$100000,\"8??\",'Accounting Data'!$H$2:$H$100000,\"7??\",'Accounting Data'!$I$2:$I$100000,\"21??\",'Accounting Data'!$J$2:$J$100000,\"66??\")+SUMIFS('Accounting Data'!$C$2:$C$100000,'Accounting Data'!$E$2:$E$100000,\"8??\",'Accounting Data'!$H$2:$H$100000,\"8??\",'Accounting Data'!$I$2:$I$100000,\"21??\",'Accounting Data'!$J$2:$J$100000,\"66??\")+SUMIFS('Accounting Data'!$C$2:$C$100000,'Accounting Data'!$E$2:$E$100000,\"8??\",'Accounting Data'!$H$2:$H$100000,\"9??\",'Accounting Data'!$I$2:$I$100000,\"21??\",'Accounting Data'!$J$2:$J$100000,\"66??\")","v":{"v":0,"d":"0 "}},{"$f":"SUMIFS('Accounting Data'!$C$2:$C$100000,'Accounting Data'!$E$2:$E$100000,\"9??\",'Accounting Data'!$H$2:$H$100000,\"7??\",'Accounting Data'!$I$2:$I$100000,\"21??\",'Accounting Data'!$J$2:$J$100000,\"66??\")+SUMIFS('Accounting Data'!$C$2:$C$100000,'Accounting Data'!$E$2:$E$100000,\"9??\",'Accounting Data'!$H$2:$H$100000,\"8??\",'Accounting Data'!$I$2:$I$100000,\"21??\",'Accounting Data'!$J$2:$J$100000,\"66??\")+SUMIFS('Accounting Data'!$C$2:$C$100000,'Accounting Data'!$E$2:$E$100000,\"9??\",'Accounting Data'!$H$2:$H$100000,\"9??\",'Accounting Data'!$I$2:$I$100000,\"21??\",'Accounting Data'!$J$2:$J$100000,\"66??\")","v":{"v":0,"d":"0 "}},null,2100,{"$f":"SUMIFS('Accounting Data'!C2:C100000,'Accounting Data'!I2:I100000,\"21??\",'Accounting Data'!J2:J100000,\"67??\")","v":{"v":0,"d":"0 "}},{"$f":"SUMIFS('Accounting Data'!$C$2:$C$100000,'Accounting Data'!$E$2:$E$100000,\"575\",'Accounting Data'!$I$2:$I$100000,\"21??\",'Accounting Data'!$J$2:$J$100000,\"67??\")+SUMIFS('Accounting Data'!$C$2:$C$100000,'Accounting Data'!$E$2:$E$100000,\"8??\",'Accounting Data'!$I$2:$I$100000,\"21??\",'Accounting Data'!$J$2:$J$100000,\"67??\")+SUMIFS('Accounting Data'!$C$2:$C$100000,'Accounting Data'!$E$2:$E$100000,\"9??\",'Accounting Data'!$I$2:$I$100000,\"21??\",'Accounting Data'!$J$2:$J$100000,\"67??\")","v":{"v":0,"d":"0 "}},{"$f":"SUMIFS('Accounting Data'!$C$2:$C$100000,'Accounting Data'!$H$2:$H$100000,\"7??\",'Accounting Data'!$I$2:$I$100000,\"21??\",'Accounting Data'!$J$2:$J$100000,\"67??\")+SUMIFS('Accounting Data'!$C$2:$C$100000,'Accounting Data'!$H$2:$H$100000,\"8??\",'Accounting Data'!$I$2:$I$100000,\"21??\",'Accounting Data'!$J$2:$J$100000,\"67??\")+SUMIFS('Accounting Data'!$C$2:$C$100000,'Accounting Data'!$H$2:$H$100000,\"9??\",'Accounting Data'!$I$2:$I$100000,\"21??\",'Accounting Data'!$J$2:$J$100000,\"67??\")","v":{"v":0,"d":"0 "}},{"$f":"SUMIFS('Accounting Data'!$C$2:$C$100000,'Accounting Data'!$E$2:$E$100000,\"575\",'Accounting Data'!$H$2:$H$100000,\"7??\",'Accounting Data'!$I$2:$I$100000,\"21??\",'Accounting Data'!$J$2:$J$100000,\"67??\")+SUMIFS('Accounting Data'!$C$2:$C$100000,'Accounting Data'!$E$2:$E$100000,\"575\",'Accounting Data'!$H$2:$H$100000,\"8??\",'Accounting Data'!$I$2:$I$100000,\"21??\",'Accounting Data'!$J$2:$J$100000,\"67??\")+SUMIFS('Accounting Data'!$C$2:$C$100000,'Accounting Data'!$E$2:$E$100000,\"575\",'Accounting Data'!$H$2:$H$100000,\"9??\",'Accounting Data'!$I$2:$I$100000,\"21??\",'Accounting Data'!$J$2:$J$100000,\"67??\")","v":{"v":0,"d":"0 "}},{"$f":"SUMIFS('Accounting Data'!$C$2:$C$100000,'Accounting Data'!$E$2:$E$100000,\"8??\",'Accounting Data'!$H$2:$H$100000,\"7??\",'Accounting Data'!$I$2:$I$100000,\"21??\",'Accounting Data'!$J$2:$J$100000,\"67??\")+SUMIFS('Accounting Data'!$C$2:$C$100000,'Accounting Data'!$E$2:$E$100000,\"8??\",'Accounting Data'!$H$2:$H$100000,\"8??\",'Accounting Data'!$I$2:$I$100000,\"21??\",'Accounting Data'!$J$2:$J$100000,\"67??\")+SUMIFS('Accounting Data'!$C$2:$C$100000,'Accounting Data'!$E$2:$E$100000,\"8??\",'Accounting Data'!$H$2:$H$100000,\"9??\",'Accounting Data'!$I$2:$I$100000,\"21??\",'Accounting Data'!$J$2:$J$100000,\"67??\")","v":{"v":0,"d":"0 "}},{"$f":"SUMIFS('Accounting Data'!$C$2:$C$100000,'Accounting Data'!$E$2:$E$100000,\"9??\",'Accounting Data'!$H$2:$H$100000,\"7??\",'Accounting Data'!$I$2:$I$100000,\"21??\",'Accounting Data'!$J$2:$J$100000,\"67??\")+SUMIFS('Accounting Data'!$C$2:$C$100000,'Accounting Data'!$E$2:$E$100000,\"9??\",'Accounting Data'!$H$2:$H$100000,\"8??\",'Accounting Data'!$I$2:$I$100000,\"21??\",'Accounting Data'!$J$2:$J$100000,\"67??\")+SUMIFS('Accounting Data'!$C$2:$C$100000,'Accounting Data'!$E$2:$E$100000,\"9??\",'Accounting Data'!$H$2:$H$100000,\"9??\",'Accounting Data'!$I$2:$I$100000,\"21??\",'Accounting Data'!$J$2:$J$100000,\"67??\")","v":{"v":0,"d":"0 "}},null,2100,{"$f":"SUMIFS('Accounting Data'!C2:C100000,'Accounting Data'!I2:I100000,\"21??\",'Accounting Data'!J2:J100000,\"681?\")","v":{"v":0,"d":"0 "}},{"$f":"SUMIFS('Accounting Data'!$C$2:$C$100000,'Accounting Data'!$E$2:$E$100000,\"575\",'Accounting Data'!$I$2:$I$100000,\"21??\",'Accounting Data'!$J$2:$J$100000,\"681?\")+SUMIFS('Accounting Data'!$C$2:$C$100000,'Accounting Data'!$E$2:$E$100000,\"8??\",'Accounting Data'!$I$2:$I$100000,\"21??\",'Accounting Data'!$J$2:$J$100000,\"681?\")+SUMIFS('Accounting Data'!$C$2:$C$100000,'Accounting Data'!$E$2:$E$100000,\"9??\",'Accounting Data'!$I$2:$I$100000,\"21??\",'Accounting Data'!$J$2:$J$100000,\"681?\")","v":{"v":0,"d":"0 "}},{"$f":"SUMIFS('Accounting Data'!$C$2:$C$100000,'Accounting Data'!$H$2:$H$100000,\"7??\",'Accounting Data'!$I$2:$I$100000,\"21??\",'Accounting Data'!$J$2:$J$100000,\"681?\")+SUMIFS('Accounting Data'!$C$2:$C$100000,'Accounting Data'!$H$2:$H$100000,\"8??\",'Accounting Data'!$I$2:$I$100000,\"21??\",'Accounting Data'!$J$2:$J$100000,\"681?\")+SUMIFS('Accounting Data'!$C$2:$C$100000,'Accounting Data'!$H$2:$H$100000,\"9??\",'Accounting Data'!$I$2:$I$100000,\"21??\",'Accounting Data'!$J$2:$J$100000,\"681?\")","v":{"v":0,"d":"0 "}},{"$f":"SUMIFS('Accounting Data'!$C$2:$C$100000,'Accounting Data'!$E$2:$E$100000,\"575\",'Accounting Data'!$H$2:$H$100000,\"7??\",'Accounting Data'!$I$2:$I$100000,\"21??\",'Accounting Data'!$J$2:$J$100000,\"681?\")+SUMIFS('Accounting Data'!$C$2:$C$100000,'Accounting Data'!$E$2:$E$100000,\"575\",'Accounting Data'!$H$2:$H$100000,\"8??\",'Accounting Data'!$I$2:$I$100000,\"21??\",'Accounting Data'!$J$2:$J$100000,\"681?\")+SUMIFS('Accounting Data'!$C$2:$C$100000,'Accounting Data'!$E$2:$E$100000,\"575\",'Accounting Data'!$H$2:$H$100000,\"9??\",'Accounting Data'!$I$2:$I$100000,\"21??\",'Accounting Data'!$J$2:$J$100000,\"681?\")","v":{"v":0,"d":"0 "}},{"$f":"SUMIFS('Accounting Data'!$C$2:$C$100000,'Accounting Data'!$E$2:$E$100000,\"8??\",'Accounting Data'!$H$2:$H$100000,\"7??\",'Accounting Data'!$I$2:$I$100000,\"21??\",'Accounting Data'!$J$2:$J$100000,\"681?\")+SUMIFS('Accounting Data'!$C$2:$C$100000,'Accounting Data'!$E$2:$E$100000,\"8??\",'Accounting Data'!$H$2:$H$100000,\"8??\",'Accounting Data'!$I$2:$I$100000,\"21??\",'Accounting Data'!$J$2:$J$100000,\"681?\")+SUMIFS('Accounting Data'!$C$2:$C$100000,'Accounting Data'!$E$2:$E$100000,\"8??\",'Accounting Data'!$H$2:$H$100000,\"9??\",'Accounting Data'!$I$2:$I$100000,\"21??\",'Accounting Data'!$J$2:$J$100000,\"681?\")","v":{"v":0,"d":"0 "}},{"$f":"SUMIFS('Accounting Data'!$C$2:$C$100000,'Accounting Data'!$E$2:$E$100000,\"9??\",'Accounting Data'!$H$2:$H$100000,\"7??\",'Accounting Data'!$I$2:$I$100000,\"21??\",'Accounting Data'!$J$2:$J$100000,\"681?\")+SUMIFS('Accounting Data'!$C$2:$C$100000,'Accounting Data'!$E$2:$E$100000,\"9??\",'Accounting Data'!$H$2:$H$100000,\"8??\",'Accounting Data'!$I$2:$I$100000,\"21??\",'Accounting Data'!$J$2:$J$100000,\"681?\")+SUMIFS('Accounting Data'!$C$2:$C$100000,'Accounting Data'!$E$2:$E$100000,\"9??\",'Accounting Data'!$H$2:$H$100000,\"9??\",'Accounting Data'!$I$2:$I$100000,\"21??\",'Accounting Data'!$J$2:$J$100000,\"681?\")","v":{"v":0,"d":"0 "}},null,"Function","All funds ","Funds 575,800-999","Programs 700-900","Programs 700-900 Funds 575","Programs 700-900 Funds 800-899","Programs 700-900 Funds 900-99",{"$nulls":9},2100,{"$f":"SUMIFS('Accounting Data'!C2:C100000,'Accounting Data'!I2:I100000,\"21??\",'Accounting Data'!J2:J100000,\"689?\")","v":{"v":0,"d":"0 "}},{"$f":"SUMIFS('Accounting Data'!$C$2:$C$100000,'Accounting Data'!$E$2:$E$100000,\"575\",'Accounting Data'!$I$2:$I$100000,\"21??\",'Accounting Data'!$J$2:$J$100000,\"689?\")+SUMIFS('Accounting Data'!$C$2:$C$100000,'Accounting Data'!$E$2:$E$100000,\"8??\",'Accounting Data'!$I$2:$I$100000,\"21??\",'Accounting Data'!$J$2:$J$100000,\"689?\")+SUMIFS('Accounting Data'!$C$2:$C$100000,'Accounting Data'!$E$2:$E$100000,\"9??\",'Accounting Data'!$I$2:$I$100000,\"21??\",'Accounting Data'!$J$2:$J$100000,\"689?\")","v":{"v":0,"d":"0 "}},{"$f":"SUMIFS('Accounting Data'!$C$2:$C$100000,'Accounting Data'!$H$2:$H$100000,\"7??\",'Accounting Data'!$I$2:$I$100000,\"21??\",'Accounting Data'!$J$2:$J$100000,\"689?\")+SUMIFS('Accounting Data'!$C$2:$C$100000,'Accounting Data'!$H$2:$H$100000,\"8??\",'Accounting Data'!$I$2:$I$100000,\"21??\",'Accounting Data'!$J$2:$J$100000,\"689?\")+SUMIFS('Accounting Data'!$C$2:$C$100000,'Accounting Data'!$H$2:$H$100000,\"9??\",'Accounting Data'!$I$2:$I$100000,\"21??\",'Accounting Data'!$J$2:$J$100000,\"689?\")","v":{"v":0,"d":"0 "}},{"$f":"SUMIFS('Accounting Data'!$C$2:$C$100000,'Accounting Data'!$E$2:$E$100000,\"575\",'Accounting Data'!$H$2:$H$100000,\"7??\",'Accounting Data'!$I$2:$I$100000,\"21??\",'Accounting Data'!$J$2:$J$100000,\"689?\")+SUMIFS('Accounting Data'!$C$2:$C$100000,'Accounting Data'!$E$2:$E$100000,\"575\",'Accounting Data'!$H$2:$H$100000,\"8??\",'Accounting Data'!$I$2:$I$100000,\"21??\",'Accounting Data'!$J$2:$J$100000,\"689?\")+SUMIFS('Accounting Data'!$C$2:$C$100000,'Accounting Data'!$E$2:$E$100000,\"575\",'Accounting Data'!$H$2:$H$100000,\"9??\",'Accounting Data'!$I$2:$I$100000,\"21??\",'Accounting Data'!$J$2:$J$100000,\"689?\")","v":{"v":0,"d":"0 "}},{"$f":"SUMIFS('Accounting Data'!$C$2:$C$100000,'Accounting Data'!$E$2:$E$100000,\"8??\",'Accounting Data'!$H$2:$H$100000,\"7??\",'Accounting Data'!$I$2:$I$100000,\"21??\",'Accounting Data'!$J$2:$J$100000,\"689?\")+SUMIFS('Accounting Data'!$C$2:$C$100000,'Accounting Data'!$E$2:$E$100000,\"8??\",'Accounting Data'!$H$2:$H$100000,\"8??\",'Accounting Data'!$I$2:$I$100000,\"21??\",'Accounting Data'!$J$2:$J$100000,\"689?\")+SUMIFS('Accounting Data'!$C$2:$C$100000,'Accounting Data'!$E$2:$E$100000,\"8??\",'Accounting Data'!$H$2:$H$100000,\"9??\",'Accounting Data'!$I$2:$I$100000,\"21??\",'Accounting Data'!$J$2:$J$100000,\"689?\")","v":{"v":0,"d":"0 "}},{"$f":"SUMIFS('Accounting Data'!$C$2:$C$100000,'Accounting Data'!$E$2:$E$100000,\"9??\",'Accounting Data'!$H$2:$H$100000,\"7??\",'Accounting Data'!$I$2:$I$100000,\"21??\",'Accounting Data'!$J$2:$J$100000,\"689?\")+SUMIFS('Accounting Data'!$C$2:$C$100000,'Accounting Data'!$E$2:$E$100000,\"9??\",'Accounting Data'!$H$2:$H$100000,\"8??\",'Accounting Data'!$I$2:$I$100000,\"21??\",'Accounting Data'!$J$2:$J$100000,\"689?\")+SUMIFS('Accounting Data'!$C$2:$C$100000,'Accounting Data'!$E$2:$E$100000,\"9??\",'Accounting Data'!$H$2:$H$100000,\"9??\",'Accounting Data'!$I$2:$I$100000,\"21??\",'Accounting Data'!$J$2:$J$100000,\"689?\")","v":{"v":0,"d":"0 "}},null,2100,{"$f":"SUMIFS('Accounting Data'!$C$2:$C$100000,'Accounting Data'!$H$2:$H$100000,\"7??\",'Accounting Data'!$I$2:$I$100000,\"21??\",'Accounting Data'!$J$2:$J$100000,\"6???\")+SUMIFS('Accounting Data'!$C$2:$C$100000,'Accounting Data'!$H$2:$H$100000,\"8??\",'Accounting Data'!$I$2:$I$100000,\"21??\",'Accounting Data'!$J$2:$J$100000,\"6???\")+SUMIFS('Accounting Data'!$C$2:$C$100000,'Accounting Data'!$H$2:$H$100000,\"9??\",'Accounting Data'!$I$2:$I$100000,\"21??\",'Accounting Data'!$J$2:$J$100000,\"6???\")","v":{"v":0,"d":"0 "}},{"$f":"SUMIFS('Accounting Data'!$C$2:$C$100000,'Accounting Data'!$H$2:$H$100000,\"7??\",'Accounting Data'!$I$2:$I$100000,\"21??\",'Accounting Data'!$J$2:$J$100000,\"69??\")+SUMIFS('Accounting Data'!$C$2:$C$100000,'Accounting Data'!$H$2:$H$100000,\"8??\",'Accounting Data'!$I$2:$I$100000,\"21??\",'Accounting Data'!$J$2:$J$100000,\"69??\")+SUMIFS('Accounting Data'!$C$2:$C$100000,'Accounting Data'!$H$2:$H$100000,\"9??\",'Accounting Data'!$I$2:$I$100000,\"21??\",'Accounting Data'!$J$2:$J$100000,\"69??\")","v":{"v":0,"d":"0 "}},{"$f":"SUMIFS('Accounting Data'!$C$2:$C$100000,'Accounting Data'!$E$2:$E$100000,\"575\",'Accounting Data'!$H$2:$H$100000,\"7??\",'Accounting Data'!$I$2:$I$100000,\"21??\",'Accounting Data'!$J$2:$J$100000,\"6???\")+SUMIFS('Accounting Data'!$C$2:$C$100000,'Accounting Data'!$E$2:$E$100000,\"575\",'Accounting Data'!$H$2:$H$100000,\"8??\",'Accounting Data'!$I$2:$I$100000,\"21??\",'Accounting Data'!$J$2:$J$100000,\"6???\")+SUMIFS('Accounting Data'!$C$2:$C$100000,'Accounting Data'!$E$2:$E$100000,\"575\",'Accounting Data'!$H$2:$H$100000,\"9??\",'Accounting Data'!$I$2:$I$100000,\"21??\",'Accounting Data'!$J$2:$J$100000,\"6???\")","v":{"v":0,"d":"0 "}},{"$f":"SUMIFS('Accounting Data'!$C$2:$C$100000,'Accounting Data'!$E$2:$E$100000,\"8??\",'Accounting Data'!$H$2:$H$100000,\"7??\",'Accounting Data'!$I$2:$I$100000,\"21??\",'Accounting Data'!$J$2:$J$100000,\"6???\")+SUMIFS('Accounting Data'!$C$2:$C$100000,'Accounting Data'!$E$2:$E$100000,\"8??\",'Accounting Data'!$H$2:$H$100000,\"8??\",'Accounting Data'!$I$2:$I$100000,\"21??\",'Accounting Data'!$J$2:$J$100000,\"6???\")+SUMIFS('Accounting Data'!$C$2:$C$100000,'Accounting Data'!$E$2:$E$100000,\"8??\",'Accounting Data'!$H$2:$H$100000,\"9??\",'Accounting Data'!$I$2:$I$100000,\"21??\",'Accounting Data'!$J$2:$J$100000,\"6???\")+SUMIFS('Accounting Data'!$C$2:$C$100000,'Accounting Data'!$E$2:$E$100000,\"9??\",'Accounting Data'!$H$2:$H$100000,\"7??\",'Accounting Data'!$I$2:$I$100000,\"21??\",'Accounting Data'!$J$2:$J$100000,\"6???\")+SUMIFS('Accounting Data'!$C$2:$C$100000,'Accounting Data'!$E$2:$E$100000,\"9??\",'Accounting Data'!$H$2:$H$100000,\"8??\",'Accounting Data'!$I$2:$I$100000,\"21??\",'Accounting Data'!$J$2:$J$100000,\"6???\")+SUMIFS('Accounting Data'!$C$2:$C$100000,'Accounting Data'!$E$2:$E$100000,\"9??\",'Accounting Data'!$H$2:$H$100000,\"9??\",'Accounting Data'!$I$2:$I$100000,\"21??\",'Accounting Data'!$J$2:$J$100000,\"6???\")","v":{"v":0,"d":"0 "}},{"$f":"SUMIFS('Accounting Data'!$C$2:$C$100000,'Accounting Data'!$E$2:$E$100000,\"575\",'Accounting Data'!$H$2:$H$100000,\"7??\",'Accounting Data'!$I$2:$I$100000,\"21??\",'Accounting Data'!$J$2:$J$100000,\"69??\")+SUMIFS('Accounting Data'!$C$2:$C$100000,'Accounting Data'!$E$2:$E$100000,\"575\",'Accounting Data'!$H$2:$H$100000,\"8??\",'Accounting Data'!$I$2:$I$100000,\"21??\",'Accounting Data'!$J$2:$J$100000,\"69??\")+SUMIFS('Accounting Data'!$C$2:$C$100000,'Accounting Data'!$E$2:$E$100000,\"575\",'Accounting Data'!$H$2:$H$100000,\"9??\",'Accounting Data'!$I$2:$I$100000,\"21??\",'Accounting Data'!$J$2:$J$100000,\"69??\")","v":{"v":0,"d":"0 "}},{"$f":"SUMIFS('Accounting Data'!$C$2:$C$100000,'Accounting Data'!$E$2:$E$100000,\"8??\",'Accounting Data'!$H$2:$H$100000,\"7??\",'Accounting Data'!$I$2:$I$100000,\"21??\",'Accounting Data'!$J$2:$J$100000,\"69??\")+SUMIFS('Accounting Data'!$C$2:$C$100000,'Accounting Data'!$E$2:$E$100000,\"8??\",'Accounting Data'!$H$2:$H$100000,\"8??\",'Accounting Data'!$I$2:$I$100000,\"21??\",'Accounting Data'!$J$2:$J$100000,\"69??\")+SUMIFS('Accounting Data'!$C$2:$C$100000,'Accounting Data'!$E$2:$E$100000,\"8??\",'Accounting Data'!$H$2:$H$100000,\"9??\",'Accounting Data'!$I$2:$I$100000,\"21??\",'Accounting Data'!$J$2:$J$100000,\"69??\")+SUMIFS('Accounting Data'!$C$2:$C$100000,'Accounting Data'!$E$2:$E$100000,\"9??\",'Accounting Data'!$H$2:$H$100000,\"7??\",'Accounting Data'!$I$2:$I$100000,\"21??\",'Accounting Data'!$J$2:$J$100000,\"69??\")+SUMIFS('Accounting Data'!$C$2:$C$100000,'Accounting Data'!$E$2:$E$100000,\"9??\",'Accounting Data'!$H$2:$H$100000,\"8??\",'Accounting Data'!$I$2:$I$100000,\"21??\",'Accounting Data'!$J$2:$J$100000,\"69??\")+SUMIFS('Accounting Data'!$C$2:$C$100000,'Accounting Data'!$E$2:$E$100000,\"9??\",'Accounting Data'!$H$2:$H$100000,\"9??\",'Accounting Data'!$I$2:$I$100000,\"21??\",'Accounting Data'!$J$2:$J$100000,\"69??\")","v":{"v":0,"d":"0 "}}]
["         2200 Instructional Staff","3.",{"$f":"(AA13-AB13-AC13)+(AD13+AE13+AF13)","v":{"v":0,"d":"0 "}},{"$f":"(AI13-AJ13-AK13)+(AL13+AM13+AN13)","v":{"v":0,"d":"0 "}},{"$f":"(AQ13-AR13-AS13-AT13-AU13)+(AV13+AW13+AX13+AY13+AZ13+BA13+BB13+BC13+BD13)","v":{"v":2644,"d":"2,644 "}},{"$f":"(BG13-BH13-BI13)+(BJ13+BK13+BL13)","v":{"v":211,"d":"211 "}},{"$f":"(BO13-BP13-BQ13)+(BR13+BS13+BT13)","v":{"v":0,"d":"0 "}},{"$f":"(BW13-BX13-BY13)+(BZ13+CA13+CB13)","v":{"v":0,"d":"0 "}},{"$nulls":3},{"$f":"(CU13-CV13-CW13)+(CX13+CY13+CZ13)","v":{"v":961,"d":"961 "}},{"$f":"(DC13-DD13)-((DE13+DF13)-(DG13+DH13))","v":{"v":0,"d":"0 "}},{"v":3816,"d":"3,816 "},"3.",{"$nulls":10},2200,{"$f":"SUMIFS('Accounting Data'!C2:C100000,'Accounting Data'!I2:I100000,\"22??\",'Accounting Data'!J2:J100000,\"61??\")","v":{"v":0,"d":"0 "}},{"$f":"SUMIFS('Accounting Data'!C2:C100000,'Accounting Data'!E2:E100000,\"575\",'Accounting Data'!I2:I100000,\"22??\",'Accounting Data'!J2:J100000,\"61??\")+SUMIFS('Accounting Data'!C2:C100000,'Accounting Data'!E2:E100000,\"8??\",'Accounting Data'!I2:I100000,\"22??\",'Accounting Data'!J2:J100000,\"61??\")+SUMIFS('Accounting Data'!C2:C100000,'Accounting Data'!E2:E100000,\"9??\",'Accounting Data'!I2:I100000,\"22??\",'Accounting Data'!J2:J100000,\"61??\")","v":{"v":0,"d":"0 "}},{"$f":"SUMIFS('Accounting Data'!C2:C100000,'Accounting Data'!H2:H100000,\"7??\",'Accounting Data'!I2:I100000,\"22??\",'Accounting Data'!J2:J100000,\"61??\")+SUMIFS('Accounting Data'!C2:C100000,'Accounting Data'!H2:H100000,\"8??\",'Accounting Data'!I2:I100000,\"22??\",'Accounting Data'!J2:J100000,\"61??\")+SUMIFS('Accounting Data'!C2:C100000,'Accounting Data'!H2:H100000,\"9??\",'Accounting Data'!I2:I100000,\"22??\",'Accounting Data'!J2:J100000,\"61??\")","v":{"v":0,"d":"0 "}},{"$f":"SUMIFS('Accounting Data'!C2:C100000,'Accounting Data'!E2:E100000,\"575\",'Accounting Data'!H2:H100000,\"7??\",'Accounting Data'!I2:I100000,\"22??\",'Accounting Data'!J2:J100000,\"61??\")+SUMIFS('Accounting Data'!C2:C100000,'Accounting Data'!E2:E100000,\"575\",'Accounting Data'!H2:H100000,\"8??\",'Accounting Data'!I2:I100000,\"22??\",'Accounting Data'!J2:J100000,\"61??\")+SUMIFS('Accounting Data'!C2:C100000,'Accounting Data'!E2:E100000,\"575\",'Accounting Data'!H2:H100000,\"9??\",'Accounting Data'!I2:I100000,\"22??\",'Accounting Data'!J2:J100000,\"61??\")","v":{"v":0,"d":"0 "}},{"$f":"SUMIFS('Accounting Data'!C2:C100000,'Accounting Data'!E2:E100000,\"8??\",'Accounting Data'!H2:H100000,\"7??\",'Accounting Data'!I2:I100000,\"22??\",'Accounting Data'!J2:J100000,\"61??\")+SUMIFS('Accounting Data'!C2:C100000,'Accounting Data'!E2:E100000,\"8??\",'Accounting Data'!H2:H100000,\"8??\",'Accounting Data'!I2:I100000,\"22??\",'Accounting Data'!J2:J100000,\"61??\")+SUMIFS('Accounting Data'!C2:C100000,'Accounting Data'!E2:E100000,\"8??\",'Accounting Data'!H2:H100000,\"9??\",'Accounting Data'!I2:I100000,\"22??\",'Accounting Data'!J2:J100000,\"61??\")","v":{"v":0,"d":"0 "}},{"$f":"SUMIFS('Accounting Data'!C2:C100000,'Accounting Data'!E2:E100000,\"9??\",'Accounting Data'!H2:H100000,\"7??\",'Accounting Data'!I2:I100000,\"22??\",'Accounting Data'!J2:J100000,\"61??\")+SUMIFS('Accounting Data'!C2:C100000,'Accounting Data'!E2:E100000,\"9??\",'Accounting Data'!H2:H100000,\"8??\",'Accounting Data'!I2:I100000,\"22??\",'Accounting Data'!J2:J100000,\"61??\")+SUMIFS('Accounting Data'!C2:C100000,'Accounting Data'!E2:E100000,\"9??\",'Accounting Data'!H2:H100000,\"9??\",'Accounting Data'!I2:I100000,\"22??\",'Accounting Data'!J2:J100000,\"61??\")","v":{"v":0,"d":"0 "}},null,2200,{"$f":"SUMIFS('Accounting Data'!C2:C100000,'Accounting Data'!I2:I100000,\"22??\",'Accounting Data'!J2:J100000,\"62??\")","v":{"v":0,"d":"0 "}},{"$f":"SUMIFS('Accounting Data'!C2:C100000,'Accounting Data'!E2:E100000,\"575\",'Accounting Data'!I2:I100000,\"22??\",'Accounting Data'!J2:J100000,\"62??\")+SUMIFS('Accounting Data'!C2:C100000,'Accounting Data'!E2:E100000,\"8??\",'Accounting Data'!I2:I100000,\"22??\",'Accounting Data'!J2:J100000,\"62??\")+SUMIFS('Accounting Data'!C2:C100000,'Accounting Data'!E2:E100000,\"9??\",'Accounting Data'!I2:I100000,\"22??\",'Accounting Data'!J2:J100000,\"62??\")","v":{"v":0,"d":"0 "}},{"$f":"SUMIFS('Accounting Data'!C2:C100000,'Accounting Data'!H2:H100000,\"7??\",'Accounting Data'!I2:I100000,\"22??\",'Accounting Data'!J2:J100000,\"62??\")+SUMIFS('Accounting Data'!C2:C100000,'Accounting Data'!H2:H100000,\"8??\",'Accounting Data'!I2:I100000,\"22??\",'Accounting Data'!J2:J100000,\"62??\")+SUMIFS('Accounting Data'!C2:C100000,'Accounting Data'!H2:H100000,\"9??\",'Accounting Data'!I2:I100000,\"22??\",'Accounting Data'!J2:J100000,\"62??\")","v":{"v":0,"d":"0 "}},{"$f":"SUMIFS('Accounting Data'!C2:C100000,'Accounting Data'!E2:E100000,\"575\",'Accounting Data'!H2:H100000,\"7??\",'Accounting Data'!I2:I100000,\"22??\",'Accounting Data'!J2:J100000,\"62??\")+SUMIFS('Accounting Data'!C2:C100000,'Accounting Data'!E2:E100000,\"575\",'Accounting Data'!H2:H100000,\"8??\",'Accounting Data'!I2:I100000,\"22??\",'Accounting Data'!J2:J100000,\"62??\")+SUMIFS('Accounting Data'!C2:C100000,'Accounting Data'!E2:E100000,\"575\",'Accounting Data'!H2:H100000,\"9??\",'Accounting Data'!I2:I100000,\"22??\",'Accounting Data'!J2:J100000,\"62??\")","v":{"v":0,"d":"0 "}},{"$f":"SUMIFS('Accounting Data'!C2:C100000,'Accounting Data'!E2:E100000,\"8??\",'Accounting Data'!H2:H100000,\"7??\",'Accounting Data'!I2:I100000,\"22??\",'Accounting Data'!J2:J100000,\"62??\")+SUMIFS('Accounting Data'!C2:C100000,'Accounting Data'!E2:E100000,\"8??\",'Accounting Data'!H2:H100000,\"8??\",'Accounting Data'!I2:I100000,\"22??\",'Accounting Data'!J2:J100000,\"62??\")+SUMIFS('Accounting Data'!C2:C100000,'Accounting Data'!E2:E100000,\"8??\",'Accounting Data'!H2:H100000,\"9??\",'Accounting Data'!I2:I100000,\"22??\",'Accounting Data'!J2:J100000,\"62??\")","v":{"v":0,"d":"0 "}},{"$f":"SUMIFS('Accounting Data'!C2:C100000,'Accounting Data'!E2:E100000,\"9??\",'Accounting Data'!H2:H100000,\"7??\",'Accounting Data'!I2:I100000,\"22??\",'Accounting Data'!J2:J100000,\"62??\")+SUMIFS('Accounting Data'!C2:C100000,'Accounting Data'!E2:E100000,\"9??\",'Accounting Data'!H2:H100000,\"8??\",'Accounting Data'!I2:I100000,\"22??\",'Accounting Data'!J2:J100000,\"62??\")+SUMIFS('Accounting Data'!C2:C100000,'Accounting Data'!E2:E100000,\"9??\",'Accounting Data'!H2:H100000,\"9??\",'Accounting Data'!I2:I100000,\"22??\",'Accounting Data'!J2:J100000,\"62??\")","v":{"v":0,"d":"0 "}},null,2200,{"$f":"SUMIFS('Accounting Data'!C2:C100000,'Accounting Data'!I2:I100000,\"22??\",'Accounting Data'!J2:J100000,\"63??\")+SUMIFS('Accounting Data'!C2:C100000,'Accounting Data'!I2:I100000,\"22??\",'Accounting Data'!J2:J100000,\"64??\")+SUMIFS('Accounting Data'!C2:C100000,'Accounting Data'!I2:I100000,\"22??\",'Accounting Data'!J2:J100000,\"65??\")","v":{"v":2644,"d":"2,644 "}},{"$f":"SUMIFS('Accounting Data'!C2:C100000,'Accounting Data'!E2:E100000,\"575\",'Accounting Data'!I2:I100000,\"22??\",'Accounting Data'!J2:J100000,\"63??\")+SUMIFS('Accounting Data'!C2:C100000,'Accounting Data'!E2:E100000,\"8??\",'Accounting Data'!I2:I100000,\"22??\",'Accounting Data'!J2:J100000,\"63??\")+SUMIFS('Accounting Data'!C2:C100000,'Accounting Data'!E2:E100000,\"9??\",'Accounting Data'!I2:I100000,\"22??\",'Accounting Data'!J2:J100000,\"63??\")","v":{"v":0,"d":"0 "}},{"$f":"SUMIFS('Accounting Data'!C2:C100000,'Accounting Data'!E2:E100000,\"575\",'Accounting Data'!I2:I100000,\"22??\",'Accounting Data'!J2:J100000,\"64??\")+SUMIFS('Accounting Data'!C2:C100000,'Accounting Data'!E2:E100000,\"8??\",'Accounting Data'!I2:I100000,\"22??\",'Accounting Data'!J2:J100000,\"64??\")+SUMIFS('Accounting Data'!C2:C100000,'Accounting Data'!E2:E100000,\"9??\",'Accounting Data'!I2:I100000,\"22??\",'Accounting Data'!J2:J100000,\"64??\")","v":{"v":0,"d":"0 "}},{"$f":"SUMIFS('Accounting Data'!C2:C100000,'Accounting Data'!E2:E100000,\"575\",'Accounting Data'!I2:I100000,\"22??\",'Accounting Data'!J2:J100000,\"65??\")+SUMIFS('Accounting Data'!C2:C100000,'Accounting Data'!E2:E100000,\"8??\",'Accounting Data'!I2:I100000,\"22??\",'Accounting Data'!J2:J100000,\"65??\")+SUMIFS('Accounting Data'!C2:C100000,'Accounting Data'!E2:E100000,\"9??\",'Accounting Data'!I2:I100000,\"22??\",'Accounting Data'!J2:J100000,\"65??\")","v":{"v":0,"d":"0 "}},{"$f":"SUMIFS('Accounting Data'!C2:C100000,'Accounting Data'!H2:H100000,\"7??\",'Accounting Data'!I2:I100000,\"22??\",'Accounting Data'!J2:J100000,\"63??\")+SUMIFS('Accounting Data'!C2:C100000,'Accounting Data'!H2:H100000,\"8??\",'Accounting Data'!I2:I100000,\"22??\",'Accounting Data'!J2:J100000,\"63??\")+SUMIFS('Accounting Data'!C2:C100000,'Accounting Data'!H2:H100000,\"9??\",'Accounting Data'!I2:I100000,\"22??\",'Accounting Data'!J2:J100000,\"63??\")+SUMIFS('Accounting Data'!C2:C100000,'Accounting Data'!H2:H100000,\"7??\",'Accounting Data'!I2:I100000,\"22??\",'Accounting Data'!J2:J100000,\"64??\")+SUMIFS('Accounting Data'!C2:C100000,'Accounting Data'!H2:H100000,\"8??\",'Accounting Data'!I2:I100000,\"22??\",'Accounting Data'!J2:J100000,\"64??\")+SUMIFS('Accounting Data'!C2:C100000,'Accounting Data'!H2:H100000,\"9??\",'Accounting Data'!I2:I100000,\"22??\",'Accounting Data'!J2:J100000,\"64??\")+SUMIFS('Accounting Data'!C2:C100000,'Accounting Data'!H2:H100000,\"7??\",'Accounting Data'!I2:I100000,\"22??\",'Accounting Data'!J2:J100000,\"65??\")+SUMIFS('Accounting Data'!C2:C100000,'Accounting Data'!H2:H100000,\"8??\",'Accounting Data'!I2:I100000,\"22??\",'Accounting Data'!J2:J100000,\"65??\")+SUMIFS('Accounting Data'!C2:C100000,'Accounting Data'!H2:H100000,\"9??\",'Accounting Data'!I2:I100000,\"22??\",'Accounting Data'!J2:J100000,\"65??\")","v":{"v":0,"d":"0 "}},{"$f":"SUMIFS('Accounting Data'!C2:C100000,'Accounting Data'!E2:E100000,\"575\",'Accounting Data'!H2:H100000,\"7??\",'Accounting Data'!I2:I100000,\"22??\",'Accounting Data'!J2:J100000,\"63??\")+SUMIFS('Accounting Data'!C2:C100000,'Accounting Data'!E2:E100000,\"575\",'Accounting Data'!H2:H100000,\"8??\",'Accounting Data'!I2:I100000,\"22??\",'Accounting Data'!J2:J100000,\"63??\")+SUMIFS('Accounting Data'!C2:C100000,'Accounting Data'!E2:E100000,\"575\",'Accounting Data'!H2:H100000,\"9??\",'Accounting Data'!I2:I100000,\"22??\",'Accounting Data'!J2:J100000,\"63??\")","v":{"v":0,"d":"0 "}},{"$f":"SUMIFS('Accounting Data'!C2:C100000,'Accounting Data'!E2:E100000,\"575\",'Accounting Data'!H2:H100000,\"7??\",'Accounting Data'!I2:I100000,\"22??\",'Accounting Data'!J2:J100000,\"64??\")+SUMIFS('Accounting Data'!C2:C100000,'Accounting Data'!E2:E100000,\"575\",'Accounting Data'!H2:H100000,\"8??\",'Accounting Data'!I2:I100000,\"22??\",'Accounting Data'!J2:J100000,\"64??\")+SUMIFS('Accounting Data'!C2:C100000,'Accounting Data'!E2:E100000,\"575\",'Accounting Data'!H2:H100000,\"9??\",'Accounting Data'!I2:I100000,\"22??\",'Accounting Data'!J2:J100000,\"64??\")","v":{"v":0,"d":"0 "}},{"$f":"SUMIFS('Accounting Data'!C2:C100000,'Accounting Data'!E2:E100000,\"575\",'Accounting Data'!H2:H100000,\"7??\",'Accounting Data'!I2:I100000,\"22??\",'Accounting Data'!J2:J100000,\"65??\")+SUMIFS('Accounting Data'!C2:C100000,'Accounting Data'!E2:E100000,\"575\",'Accounting Data'!H2:H100000,\"8??\",'Accounting Data'!I2:I100000,\"22??\",'Accounting Data'!J2:J100000,\"65??\")+SUMIFS('Accounting Data'!C2:C100000,'Accounting Data'!E2:E100000,\"575\",'Accounting Data'!H2:H100000,\"9??\",'Accounting Data'!I2:I100000,\"22??\",'Accounting Data'!J2:J100000,\"65??\")","v":{"v":0,"d":"0 "}},{"$f":"SUMIFS('Accounting Data'!C2:C100000,'Accounting Data'!E2:E100000,\"8??\",'Accounting Data'!H2:H100000,\"7??\",'Accounting Data'!I2:I100000,\"22??\",'Accounting Data'!J2:J100000,\"63??\")+SUMIFS('Accounting Data'!C2:C100000,'Accounting Data'!E2:E100000,\"8??\",'Accounting Data'!H2:H100000,\"8??\",'Accounting Data'!I2:I100000,\"22??\",'Accounting Data'!J2:J100000,\"63??\")+SUMIFS('Accounting Data'!C2:C100000,'Accounting Data'!E2:E100000,\"8??\",'Accounting Data'!H2:H100000,\"9??\",'Accounting Data'!I2:I100000,\"22??\",'Accounting Data'!J2:J100000,\"63??\")","v":{"v":0,"d":"0 "}},{"$f":"SUMIFS('Accounting Data'!C2:C100000,'Accounting Data'!E2:E100000,\"8??\",'Accounting Data'!H2:H100000,\"7??\",'Accounting Data'!I2:I100000,\"22??\",'Accounting Data'!J2:J100000,\"64??\")+SUMIFS('Accounting Data'!C2:C100000,'Accounting Data'!E2:E100000,\"8??\",'Accounting Data'!H2:H100000,\"8??\",'Accounting Data'!I2:I100000,\"22??\",'Accounting Data'!J2:J100000,\"64??\")+SUMIFS('Accounting Data'!C2:C100000,'Accounting Data'!E2:E100000,\"8??\",'Accounting Data'!H2:H100000,\"9??\",'Accounting Data'!I2:I100000,\"22??\",'Accounting Data'!J2:J100000,\"64??\")","v":{"v":0,"d":"0 "}},{"$f":"SUMIFS('Accounting Data'!C2:C100000,'Accounting Data'!E2:E100000,\"8??\",'Accounting Data'!H2:H100000,\"7??\",'Accounting Data'!I2:I100000,\"22??\",'Accounting Data'!J2:J100000,\"65??\")+SUMIFS('Accounting Data'!C2:C100000,'Accounting Data'!E2:E100000,\"8??\",'Accounting Data'!H2:H100000,\"8??\",'Accounting Data'!I2:I100000,\"22??\",'Accounting Data'!J2:J100000,\"65??\")+SUMIFS('Accounting Data'!C2:C100000,'Accounting Data'!E2:E100000,\"8??\",'Accounting Data'!H2:H100000,\"9??\",'Accounting Data'!I2:I100000,\"22??\",'Accounting Data'!J2:J100000,\"65??\")","v":{"v":0,"d":"0 "}},{"$f":"SUMIFS('Accounting Data'!C2:C100000,'Accounting Data'!E2:E100000,\"9??\",'Accounting Data'!H2:H100000,\"7??\",'Accounting Data'!I2:I100000,\"22??\",'Accounting Data'!J2:J100000,\"63??\")+SUMIFS('Accounting Data'!C2:C100000,'Accounting Data'!E2:E100000,\"9??\",'Accounting Data'!H2:H100000,\"8??\",'Accounting Data'!I2:I100000,\"22??\",'Accounting Data'!J2:J100000,\"63??\")+SUMIFS('Accounting Data'!C2:C100000,'Accounting Data'!E2:E100000,\"9??\",'Accounting Data'!H2:H100000,\"9??\",'Accounting Data'!I2:I100000,\"22??\",'Accounting Data'!J2:J100000,\"63??\")","v":{"v":0,"d":"0 "}},{"$f":"SUMIFS('Accounting Data'!C2:C100000,'Accounting Data'!E2:E100000,\"9??\",'Accounting Data'!H2:H100000,\"7??\",'Accounting Data'!I2:I100000,\"22??\",'Accounting Data'!J2:J100000,\"64??\")+SUMIFS('Accounting Data'!C2:C100000,'Accounting Data'!E2:E100000,\"9??\",'Accounting Data'!H2:H100000,\"8??\",'Accounting Data'!I2:I100000,\"22??\",'Accounting Data'!J2:J100000,\"64??\")+SUMIFS('Accounting Data'!C2:C100000,'Accounting Data'!E2:E100000,\"9??\",'Accounting Data'!H2:H100000,\"9??\",'Accounting Data'!I2:I100000,\"22??\",'Accounting Data'!J2:J100000,\"64??\")","v":{"v":0,"d":"0 "}},{"$f":"SUMIFS('Accounting Data'!C2:C100000,'Accounting Data'!E2:E100000,\"9??\",'Accounting Data'!H2:H100000,\"7??\",'Accounting Data'!I2:I100000,\"22??\",'Accounting Data'!J2:J100000,\"65??\")+SUMIFS('Accounting Data'!C2:C100000,'Accounting Data'!E2:E100000,\"9??\",'Accounting Data'!H2:H100000,\"8??\",'Accounting Data'!I2:I100000,\"22??\",'Accounting Data'!J2:J100000,\"65??\")+SUMIFS('Accounting Data'!C2:C100000,'Accounting Data'!E2:E100000,\"9??\",'Accounting Data'!H2:H100000,\"9??\",'Accounting Data'!I2:I100000,\"22??\",'Accounting Data'!J2:J100000,\"65??\")","v":{"v":0,"d":"0 "}},null,2200,{"$f":"SUMIFS('Accounting Data'!C2:C100000,'Accounting Data'!I2:I100000,\"22??\",'Accounting Data'!J2:J100000,\"66??\")","v":{"v":211,"d":"211 "}},{"$f":"SUMIFS('Accounting Data'!$C$2:$C$100000,'Accounting Data'!$E$2:$E$100000,\"575\",'Accounting Data'!$I$2:$I$100000,\"22??\",'Accounting Data'!$J$2:$J$100000,\"66??\")+SUMIFS('Accounting Data'!$C$2:$C$100000,'Accounting Data'!$E$2:$E$100000,\"8??\",'Accounting Data'!$I$2:$I$100000,\"22??\",'Accounting Data'!$J$2:$J$100000,\"66??\")+SUMIFS('Accounting Data'!$C$2:$C$100000,'Accounting Data'!$E$2:$E$100000,\"9??\",'Accounting Data'!$I$2:$I$100000,\"22??\",'Accounting Data'!$J$2:$J$100000,\"66??\")","v":{"v":0,"d":"0 "}},{"$f":"SUMIFS('Accounting Data'!$C$2:$C$100000,'Accounting Data'!$H$2:$H$100000,\"7??\",'Accounting Data'!$I$2:$I$100000,\"22??\",'Accounting Data'!$J$2:$J$100000,\"66??\")+SUMIFS('Accounting Data'!$C$2:$C$100000,'Accounting Data'!$H$2:$H$100000,\"8??\",'Accounting Data'!$I$2:$I$100000,\"22??\",'Accounting Data'!$J$2:$J$100000,\"66??\")+SUMIFS('Accounting Data'!$C$2:$C$100000,'Accounting Data'!$H$2:$H$100000,\"9??\",'Accounting Data'!$I$2:$I$100000,\"22??\",'Accounting Data'!$J$2:$J$100000,\"66??\")","v":{"v":0,"d":"0 "}},{"$f":"SUMIFS('Accounting Data'!$C$2:$C$100000,'Accounting Data'!$E$2:$E$100000,\"575\",'Accounting Data'!$H$2:$H$100000,\"7??\",'Accounting Data'!$I$2:$I$100000,\"22??\",'Accounting Data'!$J$2:$J$100000,\"66??\")+SUMIFS('Accounting Data'!$C$2:$C$100000,'Accounting Data'!$E$2:$E$100000,\"575\",'Accounting Data'!$H$2:$H$100000,\"8??\",'Accounting Data'!$I$2:$I$100000,\"22??\",'Accounting Data'!$J$2:$J$100000,\"66??\")+SUMIFS('Accounting Data'!$C$2:$C$100000,'Accounting Data'!$E$2:$E$100000,\"575\",'Accounting Data'!$H$2:$H$100000,\"9??\",'Accounting Data'!$I$2:$I$100000,\"22??\",'Accounting Data'!$J$2:$J$100000,\"66??\")","v":{"v":0,"d":"0 "}},{"$f":"SUMIFS('Accounting Data'!$C$2:$C$100000,'Accounting Data'!$E$2:$E$100000,\"8??\",'Accounting Data'!$H$2:$H$100000,\"7??\",'Accounting Data'!$I$2:$I$100000,\"22??\",'Accounting Data'!$J$2:$J$100000,\"66??\")+SUMIFS('Accounting Data'!$C$2:$C$100000,'Accounting Data'!$E$2:$E$100000,\"8??\",'Accounting Data'!$H$2:$H$100000,\"8??\",'Accounting Data'!$I$2:$I$100000,\"22??\",'Accounting Data'!$J$2:$J$100000,\"66??\")+SUMIFS('Accounting Data'!$C$2:$C$100000,'Accounting Data'!$E$2:$E$100000,\"8??\",'Accounting Data'!$H$2:$H$100000,\"9??\",'Accounting Data'!$I$2:$I$100000,\"22??\",'Accounting Data'!$J$2:$J$100000,\"66??\")","v":{"v":0,"d":"0 "}},{"$f":"SUMIFS('Accounting Data'!$C$2:$C$100000,'Accounting Data'!$E$2:$E$100000,\"9??\",'Accounting Data'!$H$2:$H$100000,\"7??\",'Accounting Data'!$I$2:$I$100000,\"22??\",'Accounting Data'!$J$2:$J$100000,\"66??\")+SUMIFS('Accounting Data'!$C$2:$C$100000,'Accounting Data'!$E$2:$E$100000,\"9??\",'Accounting Data'!$H$2:$H$100000,\"8??\",'Accounting Data'!$I$2:$I$100000,\"22??\",'Accounting Data'!$J$2:$J$100000,\"66??\")+SUMIFS('Accounting Data'!$C$2:$C$100000,'Accounting Data'!$E$2:$E$100000,\"9??\",'Accounting Data'!$H$2:$H$100000,\"9??\",'Accounting Data'!$I$2:$I$100000,\"22??\",'Accounting Data'!$J$2:$J$100000,\"66??\")","v":{"v":0,"d":"0 "}},null,2200,{"$f":"SUMIFS('Accounting Data'!C2:C100000,'Accounting Data'!I2:I100000,\"22??\",'Accounting Data'!J2:J100000,\"67??\")","v":{"v":0,"d":"0 "}},{"$f":"SUMIFS('Accounting Data'!$C$2:$C$100000,'Accounting Data'!$E$2:$E$100000,\"575\",'Accounting Data'!$I$2:$I$100000,\"22??\",'Accounting Data'!$J$2:$J$100000,\"67??\")+SUMIFS('Accounting Data'!$C$2:$C$100000,'Accounting Data'!$E$2:$E$100000,\"8??\",'Accounting Data'!$I$2:$I$100000,\"22??\",'Accounting Data'!$J$2:$J$100000,\"67??\")+SUMIFS('Accounting Data'!$C$2:$C$100000,'Accounting Data'!$E$2:$E$100000,\"9??\",'Accounting Data'!$I$2:$I$100000,\"22??\",'Accounting Data'!$J$2:$J$100000,\"67??\")","v":{"v":0,"d":"0 "}},{"$f":"SUMIFS('Accounting Data'!$C$2:$C$100000,'Accounting Data'!$H$2:$H$100000,\"7??\",'Accounting Data'!$I$2:$I$100000,\"22??\",'Accounting Data'!$J$2:$J$100000,\"67??\")+SUMIFS('Accounting Data'!$C$2:$C$100000,'Accounting Data'!$H$2:$H$100000,\"8??\",'Accounting Data'!$I$2:$I$100000,\"22??\",'Accounting Data'!$J$2:$J$100000,\"67??\")+SUMIFS('Accounting Data'!$C$2:$C$100000,'Accounting Data'!$H$2:$H$100000,\"9??\",'Accounting Data'!$I$2:$I$100000,\"22??\",'Accounting Data'!$J$2:$J$100000,\"67??\")","v":{"v":0,"d":"0 "}},{"$f":"SUMIFS('Accounting Data'!$C$2:$C$100000,'Accounting Data'!$E$2:$E$100000,\"575\",'Accounting Data'!$H$2:$H$100000,\"7??\",'Accounting Data'!$I$2:$I$100000,\"22??\",'Accounting Data'!$J$2:$J$100000,\"67??\")+SUMIFS('Accounting Data'!$C$2:$C$100000,'Accounting Data'!$E$2:$E$100000,\"575\",'Accounting Data'!$H$2:$H$100000,\"8??\",'Accounting Data'!$I$2:$I$100000,\"22??\",'Accounting Data'!$J$2:$J$100000,\"67??\")+SUMIFS('Accounting Data'!$C$2:$C$100000,'Accounting Data'!$E$2:$E$100000,\"575\",'Accounting Data'!$H$2:$H$100000,\"9??\",'Accounting Data'!$I$2:$I$100000,\"22??\",'Accounting Data'!$J$2:$J$100000,\"67??\")","v":{"v":0,"d":"0 "}},{"$f":"SUMIFS('Accounting Data'!$C$2:$C$100000,'Accounting Data'!$E$2:$E$100000,\"8??\",'Accounting Data'!$H$2:$H$100000,\"7??\",'Accounting Data'!$I$2:$I$100000,\"22??\",'Accounting Data'!$J$2:$J$100000,\"67??\")+SUMIFS('Accounting Data'!$C$2:$C$100000,'Accounting Data'!$E$2:$E$100000,\"8??\",'Accounting Data'!$H$2:$H$100000,\"8??\",'Accounting Data'!$I$2:$I$100000,\"22??\",'Accounting Data'!$J$2:$J$100000,\"67??\")+SUMIFS('Accounting Data'!$C$2:$C$100000,'Accounting Data'!$E$2:$E$100000,\"8??\",'Accounting Data'!$H$2:$H$100000,\"9??\",'Accounting Data'!$I$2:$I$100000,\"22??\",'Accounting Data'!$J$2:$J$100000,\"67??\")","v":{"v":0,"d":"0 "}},{"$f":"SUMIFS('Accounting Data'!$C$2:$C$100000,'Accounting Data'!$E$2:$E$100000,\"9??\",'Accounting Data'!$H$2:$H$100000,\"7??\",'Accounting Data'!$I$2:$I$100000,\"22??\",'Accounting Data'!$J$2:$J$100000,\"67??\")+SUMIFS('Accounting Data'!$C$2:$C$100000,'Accounting Data'!$E$2:$E$100000,\"9??\",'Accounting Data'!$H$2:$H$100000,\"8??\",'Accounting Data'!$I$2:$I$100000,\"22??\",'Accounting Data'!$J$2:$J$100000,\"67??\")+SUMIFS('Accounting Data'!$C$2:$C$100000,'Accounting Data'!$E$2:$E$100000,\"9??\",'Accounting Data'!$H$2:$H$100000,\"9??\",'Accounting Data'!$I$2:$I$100000,\"22??\",'Accounting Data'!$J$2:$J$100000,\"67??\")","v":{"v":0,"d":"0 "}},null,2200,{"$f":"SUMIFS('Accounting Data'!C2:C100000,'Accounting Data'!I2:I100000,\"22??\",'Accounting Data'!J2:J100000,\"681?\")","v":{"v":0,"d":"0 "}},{"$f":"SUMIFS('Accounting Data'!$C$2:$C$100000,'Accounting Data'!$E$2:$E$100000,\"575\",'Accounting Data'!$I$2:$I$100000,\"22??\",'Accounting Data'!$J$2:$J$100000,\"681?\")+SUMIFS('Accounting Data'!$C$2:$C$100000,'Accounting Data'!$E$2:$E$100000,\"8??\",'Accounting Data'!$I$2:$I$100000,\"22??\",'Accounting Data'!$J$2:$J$100000,\"681?\")+SUMIFS('Accounting Data'!$C$2:$C$100000,'Accounting Data'!$E$2:$E$100000,\"9??\",'Accounting Data'!$I$2:$I$100000,\"22??\",'Accounting Data'!$J$2:$J$100000,\"681?\")","v":{"v":0,"d":"0 "}},{"$f":"SUMIFS('Accounting Data'!$C$2:$C$100000,'Accounting Data'!$H$2:$H$100000,\"7??\",'Accounting Data'!$I$2:$I$100000,\"22??\",'Accounting Data'!$J$2:$J$100000,\"681?\")+SUMIFS('Accounting Data'!$C$2:$C$100000,'Accounting Data'!$H$2:$H$100000,\"8??\",'Accounting Data'!$I$2:$I$100000,\"22??\",'Accounting Data'!$J$2:$J$100000,\"681?\")+SUMIFS('Accounting Data'!$C$2:$C$100000,'Accounting Data'!$H$2:$H$100000,\"9??\",'Accounting Data'!$I$2:$I$100000,\"22??\",'Accounting Data'!$J$2:$J$100000,\"681?\")","v":{"v":0,"d":"0 "}},{"$f":"SUMIFS('Accounting Data'!$C$2:$C$100000,'Accounting Data'!$E$2:$E$100000,\"575\",'Accounting Data'!$H$2:$H$100000,\"7??\",'Accounting Data'!$I$2:$I$100000,\"22??\",'Accounting Data'!$J$2:$J$100000,\"681?\")+SUMIFS('Accounting Data'!$C$2:$C$100000,'Accounting Data'!$E$2:$E$100000,\"575\",'Accounting Data'!$H$2:$H$100000,\"8??\",'Accounting Data'!$I$2:$I$100000,\"22??\",'Accounting Data'!$J$2:$J$100000,\"681?\")+SUMIFS('Accounting Data'!$C$2:$C$100000,'Accounting Data'!$E$2:$E$100000,\"575\",'Accounting Data'!$H$2:$H$100000,\"9??\",'Accounting Data'!$I$2:$I$100000,\"22??\",'Accounting Data'!$J$2:$J$100000,\"681?\")","v":{"v":0,"d":"0 "}},{"$f":"SUMIFS('Accounting Data'!$C$2:$C$100000,'Accounting Data'!$E$2:$E$100000,\"8??\",'Accounting Data'!$H$2:$H$100000,\"7??\",'Accounting Data'!$I$2:$I$100000,\"22??\",'Accounting Data'!$J$2:$J$100000,\"681?\")+SUMIFS('Accounting Data'!$C$2:$C$100000,'Accounting Data'!$E$2:$E$100000,\"8??\",'Accounting Data'!$H$2:$H$100000,\"8??\",'Accounting Data'!$I$2:$I$100000,\"22??\",'Accounting Data'!$J$2:$J$100000,\"681?\")+SUMIFS('Accounting Data'!$C$2:$C$100000,'Accounting Data'!$E$2:$E$100000,\"8??\",'Accounting Data'!$H$2:$H$100000,\"9??\",'Accounting Data'!$I$2:$I$100000,\"22??\",'Accounting Data'!$J$2:$J$100000,\"681?\")","v":{"v":0,"d":"0 "}},{"$f":"SUMIFS('Accounting Data'!$C$2:$C$100000,'Accounting Data'!$E$2:$E$100000,\"9??\",'Accounting Data'!$H$2:$H$100000,\"7??\",'Accounting Data'!$I$2:$I$100000,\"22??\",'Accounting Data'!$J$2:$J$100000,\"681?\")+SUMIFS('Accounting Data'!$C$2:$C$100000,'Accounting Data'!$E$2:$E$100000,\"9??\",'Accounting Data'!$H$2:$H$100000,\"8??\",'Accounting Data'!$I$2:$I$100000,\"22??\",'Accounting Data'!$J$2:$J$100000,\"681?\")+SUMIFS('Accounting Data'!$C$2:$C$100000,'Accounting Data'!$E$2:$E$100000,\"9??\",'Accounting Data'!$H$2:$H$100000,\"9??\",'Accounting Data'!$I$2:$I$100000,\"22??\",'Accounting Data'!$J$2:$J$100000,\"681?\")","v":{"v":0,"d":"0 "}},{"$nulls":17},2200,{"$f":"SUMIFS('Accounting Data'!C2:C100000,'Accounting Data'!I2:I100000,\"22??\",'Accounting Data'!J2:J100000,\"689?\")","v":{"v":1014,"d":"1,014 "}},{"$f":"SUMIFS('Accounting Data'!$C$2:$C$100000,'Accounting Data'!$E$2:$E$100000,\"575\",'Accounting Data'!$I$2:$I$100000,\"22??\",'Accounting Data'!$J$2:$J$100000,\"689?\")+SUMIFS('Accounting Data'!$C$2:$C$100000,'Accounting Data'!$E$2:$E$100000,\"8??\",'Accounting Data'!$I$2:$I$100000,\"22??\",'Accounting Data'!$J$2:$J$100000,\"689?\")+SUMIFS('Accounting Data'!$C$2:$C$100000,'Accounting Data'!$E$2:$E$100000,\"9??\",'Accounting Data'!$I$2:$I$100000,\"22??\",'Accounting Data'!$J$2:$J$100000,\"689?\")","v":{"v":53,"d":"53 "}},{"$f":"SUMIFS('Accounting Data'!$C$2:$C$100000,'Accounting Data'!$H$2:$H$100000,\"7??\",'Accounting Data'!$I$2:$I$100000,\"22??\",'Accounting Data'!$J$2:$J$100000,\"689?\")+SUMIFS('Accounting Data'!$C$2:$C$100000,'Accounting Data'!$H$2:$H$100000,\"8??\",'Accounting Data'!$I$2:$I$100000,\"22??\",'Accounting Data'!$J$2:$J$100000,\"689?\")+SUMIFS('Accounting Data'!$C$2:$C$100000,'Accounting Data'!$H$2:$H$100000,\"9??\",'Accounting Data'!$I$2:$I$100000,\"22??\",'Accounting Data'!$J$2:$J$100000,\"689?\")","v":{"v":0,"d":"0 "}},{"$f":"SUMIFS('Accounting Data'!$C$2:$C$100000,'Accounting Data'!$E$2:$E$100000,\"575\",'Accounting Data'!$H$2:$H$100000,\"7??\",'Accounting Data'!$I$2:$I$100000,\"22??\",'Accounting Data'!$J$2:$J$100000,\"689?\")+SUMIFS('Accounting Data'!$C$2:$C$100000,'Accounting Data'!$E$2:$E$100000,\"575\",'Accounting Data'!$H$2:$H$100000,\"8??\",'Accounting Data'!$I$2:$I$100000,\"22??\",'Accounting Data'!$J$2:$J$100000,\"689?\")+SUMIFS('Accounting Data'!$C$2:$C$100000,'Accounting Data'!$E$2:$E$100000,\"575\",'Accounting Data'!$H$2:$H$100000,\"9??\",'Accounting Data'!$I$2:$I$100000,\"22??\",'Accounting Data'!$J$2:$J$100000,\"689?\")","v":{"v":0,"d":"0 "}},{"$f":"SUMIFS('Accounting Data'!$C$2:$C$100000,'Accounting Data'!$E$2:$E$100000,\"8??\",'Accounting Data'!$H$2:$H$100000,\"7??\",'Accounting Data'!$I$2:$I$100000,\"22??\",'Accounting Data'!$J$2:$J$100000,\"689?\")+SUMIFS('Accounting Data'!$C$2:$C$100000,'Accounting Data'!$E$2:$E$100000,\"8??\",'Accounting Data'!$H$2:$H$100000,\"8??\",'Accounting Data'!$I$2:$I$100000,\"22??\",'Accounting Data'!$J$2:$J$100000,\"689?\")+SUMIFS('Accounting Data'!$C$2:$C$100000,'Accounting Data'!$E$2:$E$100000,\"8??\",'Accounting Data'!$H$2:$H$100000,\"9??\",'Accounting Data'!$I$2:$I$100000,\"22??\",'Accounting Data'!$J$2:$J$100000,\"689?\")","v":{"v":0,"d":"0 "}},{"$f":"SUMIFS('Accounting Data'!$C$2:$C$100000,'Accounting Data'!$E$2:$E$100000,\"9??\",'Accounting Data'!$H$2:$H$100000,\"7??\",'Accounting Data'!$I$2:$I$100000,\"22??\",'Accounting Data'!$J$2:$J$100000,\"689?\")+SUMIFS('Accounting Data'!$C$2:$C$100000,'Accounting Data'!$E$2:$E$100000,\"9??\",'Accounting Data'!$H$2:$H$100000,\"8??\",'Accounting Data'!$I$2:$I$100000,\"22??\",'Accounting Data'!$J$2:$J$100000,\"689?\")+SUMIFS('Accounting Data'!$C$2:$C$100000,'Accounting Data'!$E$2:$E$100000,\"9??\",'Accounting Data'!$H$2:$H$100000,\"9??\",'Accounting Data'!$I$2:$I$100000,\"22??\",'Accounting Data'!$J$2:$J$100000,\"689?\")","v":{"v":0,"d":"0 "}},null,2200,{"$f":"SUMIFS('Accounting Data'!$C$2:$C$100000,'Accounting Data'!$H$2:$H$100000,\"7??\",'Accounting Data'!$I$2:$I$100000,\"22??\",'Accounting Data'!$J$2:$J$100000,\"6???\")+SUMIFS('Accounting Data'!$C$2:$C$100000,'Accounting Data'!$H$2:$H$100000,\"8??\",'Accounting Data'!$I$2:$I$100000,\"22??\",'Accounting Data'!$J$2:$J$100000,\"6???\")+SUMIFS('Accounting Data'!$C$2:$C$100000,'Accounting Data'!$H$2:$H$100000,\"9??\",'Accounting Data'!$I$2:$I$100000,\"22??\",'Accounting Data'!$J$2:$J$100000,\"6???\")","v":{"v":0,"d":"0 "}},{"$f":"SUMIFS('Accounting Data'!$C$2:$C$100000,'Accounting Data'!$H$2:$H$100000,\"7??\",'Accounting Data'!$I$2:$I$100000,\"22??\",'Accounting Data'!$J$2:$J$100000,\"69??\")+SUMIFS('Accounting Data'!$C$2:$C$100000,'Accounting Data'!$H$2:$H$100000,\"8??\",'Accounting Data'!$I$2:$I$100000,\"22??\",'Accounting Data'!$J$2:$J$100000,\"69??\")+SUMIFS('Accounting Data'!$C$2:$C$100000,'Accounting Data'!$H$2:$H$100000,\"9??\",'Accounting Data'!$I$2:$I$100000,\"22??\",'Accounting Data'!$J$2:$J$100000,\"69??\")","v":{"v":0,"d":"0 "}},{"$f":"SUMIFS('Accounting Data'!$C$2:$C$100000,'Accounting Data'!$E$2:$E$100000,\"575\",'Accounting Data'!$H$2:$H$100000,\"7??\",'Accounting Data'!$I$2:$I$100000,\"22??\",'Accounting Data'!$J$2:$J$100000,\"6???\")+SUMIFS('Accounting Data'!$C$2:$C$100000,'Accounting Data'!$E$2:$E$100000,\"575\",'Accounting Data'!$H$2:$H$100000,\"8??\",'Accounting Data'!$I$2:$I$100000,\"22??\",'Accounting Data'!$J$2:$J$100000,\"6???\")+SUMIFS('Accounting Data'!$C$2:$C$100000,'Accounting Data'!$E$2:$E$100000,\"575\",'Accounting Data'!$H$2:$H$100000,\"9??\",'Accounting Data'!$I$2:$I$100000,\"22??\",'Accounting Data'!$J$2:$J$100000,\"6???\")","v":{"v":0,"d":"0 "}},{"$f":"SUMIFS('Accounting Data'!$C$2:$C$100000,'Accounting Data'!$E$2:$E$100000,\"8??\",'Accounting Data'!$H$2:$H$100000,\"7??\",'Accounting Data'!$I$2:$I$100000,\"22??\",'Accounting Data'!$J$2:$J$100000,\"6???\")+SUMIFS('Accounting Data'!$C$2:$C$100000,'Accounting Data'!$E$2:$E$100000,\"8??\",'Accounting Data'!$H$2:$H$100000,\"8??\",'Accounting Data'!$I$2:$I$100000,\"22??\",'Accounting Data'!$J$2:$J$100000,\"6???\")+SUMIFS('Accounting Data'!$C$2:$C$100000,'Accounting Data'!$E$2:$E$100000,\"8??\",'Accounting Data'!$H$2:$H$100000,\"9??\",'Accounting Data'!$I$2:$I$100000,\"22??\",'Accounting Data'!$J$2:$J$100000,\"6???\")+SUMIFS('Accounting Data'!$C$2:$C$100000,'Accounting Data'!$E$2:$E$100000,\"9??\",'Accounting Data'!$H$2:$H$100000,\"7??\",'Accounting Data'!$I$2:$I$100000,\"22??\",'Accounting Data'!$J$2:$J$100000,\"6???\")+SUMIFS('Accounting Data'!$C$2:$C$100000,'Accounting Data'!$E$2:$E$100000,\"9??\",'Accounting Data'!$H$2:$H$100000,\"8??\",'Accounting Data'!$I$2:$I$100000,\"22??\",'Accounting Data'!$J$2:$J$100000,\"6???\")+SUMIFS('Accounting Data'!$C$2:$C$100000,'Accounting Data'!$E$2:$E$100000,\"9??\",'Accounting Data'!$H$2:$H$100000,\"9??\",'Accounting Data'!$I$2:$I$100000,\"22??\",'Accounting Data'!$J$2:$J$100000,\"6???\")","v":{"v":0,"d":"0 "}},{"$f":"SUMIFS('Accounting Data'!$C$2:$C$100000,'Accounting Data'!$E$2:$E$100000,\"575\",'Accounting Data'!$H$2:$H$100000,\"7??\",'Accounting Data'!$I$2:$I$100000,\"22??\",'Accounting Data'!$J$2:$J$100000,\"69??\")+SUMIFS('Accounting Data'!$C$2:$C$100000,'Accounting Data'!$E$2:$E$100000,\"575\",'Accounting Data'!$H$2:$H$100000,\"8??\",'Accounting Data'!$I$2:$I$100000,\"22??\",'Accounting Data'!$J$2:$J$100000,\"69??\")+SUMIFS('Accounting Data'!$C$2:$C$100000,'Accounting Data'!$E$2:$E$100000,\"575\",'Accounting Data'!$H$2:$H$100000,\"9??\",'Accounting Data'!$I$2:$I$100000,\"22??\",'Accounting Data'!$J$2:$J$100000,\"69??\")","v":{"v":0,"d":"0 "}},{"$f":"SUMIFS('Accounting Data'!$C$2:$C$100000,'Accounting Data'!$E$2:$E$100000,\"8??\",'Accounting Data'!$H$2:$H$100000,\"7??\",'Accounting Data'!$I$2:$I$100000,\"22??\",'Accounting Data'!$J$2:$J$100000,\"69??\")+SUMIFS('Accounting Data'!$C$2:$C$100000,'Accounting Data'!$E$2:$E$100000,\"8??\",'Accounting Data'!$H$2:$H$100000,\"8??\",'Accounting Data'!$I$2:$I$100000,\"22??\",'Accounting Data'!$J$2:$J$100000,\"69??\")+SUMIFS('Accounting Data'!$C$2:$C$100000,'Accounting Data'!$E$2:$E$100000,\"8??\",'Accounting Data'!$H$2:$H$100000,\"9??\",'Accounting Data'!$I$2:$I$100000,\"22??\",'Accounting Data'!$J$2:$J$100000,\"69??\")+SUMIFS('Accounting Data'!$C$2:$C$100000,'Accounting Data'!$E$2:$E$100000,\"9??\",'Accounting Data'!$H$2:$H$100000,\"7??\",'Accounting Data'!$I$2:$I$100000,\"22??\",'Accounting Data'!$J$2:$J$100000,\"69??\")+SUMIFS('Accounting Data'!$C$2:$C$100000,'Accounting Data'!$E$2:$E$100000,\"9??\",'Accounting Data'!$H$2:$H$100000,\"8??\",'Accounting Data'!$I$2:$I$100000,\"22??\",'Accounting Data'!$J$2:$J$100000,\"69??\")+SUMIFS('Accounting Data'!$C$2:$C$100000,'Accounting Data'!$E$2:$E$100000,\"9??\",'Accounting Data'!$H$2:$H$100000,\"9??\",'Accounting Data'!$I$2:$I$100000,\"22??\",'Accounting Data'!$J$2:$J$100000,\"69??\")","v":{"v":0,"d":"0 "}}]
["         2300 General Administration","4.",{"$f":"(AA14-AB14-AC14)+(AD14+AE14+AF14)","v":{"v":0,"d":"0 "}},{"$f":"(AI14-AJ14-AK14)+(AL14+AM14+AN14)","v":{"v":0,"d":"0 "}},{"$f":"(AQ14-AR14-AS14-AT14-AU14)+(AV14+AW14+AX14+AY14+AZ14+BA14+BB14+BC14+BD14)","v":{"v":3622,"d":"3,622 "}},{"$f":"(BG14-BH14-BI14)+(BJ14+BK14+BL14)","v":{"v":0,"d":"0 "}},{"$f":"(BO14-BP14-BQ14)+(BR14+BS14+BT14)","v":{"v":0,"d":"0 "}},{"$f":"(BW14-BX14-BY14)+(BZ14+CA14+CB14)","v":{"v":0,"d":"0 "}},{"$f":"(CE14-CF14-CG14)+(CH14+CI14+CJ14)","v":{"v":0,"d":"0 "}},null,null,{"$f":"(CU14-CV14-CW14)+(CX14+CY14+CZ14)","v":{"v":0,"d":"0 "}},{"$f":"(DC14-DD14)-((DE14+DF14)-(DG14+DH14))","v":{"v":0,"d":"0 "}},{"v":3622,"d":"3,622 "},"4.",{"$nulls":3},{"v":0,"d":"0 "},{"v":0,"d":"0 "},{"$nulls":5},2300,{"$f":"SUMIFS('Accounting Data'!C2:C100000,'Accounting Data'!I2:I100000,\"23??\",'Accounting Data'!J2:J100000,\"61??\")","v":{"v":0,"d":"0 "}},{"$f":"SUMIFS('Accounting Data'!C2:C100000,'Accounting Data'!E2:E100000,\"575\",'Accounting Data'!I2:I100000,\"23??\",'Accounting Data'!J2:J100000,\"61??\")+SUMIFS('Accounting Data'!C2:C100000,'Accounting Data'!E2:E100000,\"8??\",'Accounting Data'!I2:I100000,\"23??\",'Accounting Data'!J2:J100000,\"61??\")+SUMIFS('Accounting Data'!C2:C100000,'Accounting Data'!E2:E100000,\"9??\",'Accounting Data'!I2:I100000,\"23??\",'Accounting Data'!J2:J100000,\"61??\")","v":{"v":0,"d":"0 "}},{"$f":"SUMIFS('Accounting Data'!C2:C100000,'Accounting Data'!H2:H100000,\"7??\",'Accounting Data'!I2:I100000,\"23??\",'Accounting Data'!J2:J100000,\"61??\")+SUMIFS('Accounting Data'!C2:C100000,'Accounting Data'!H2:H100000,\"8??\",'Accounting Data'!I2:I100000,\"23??\",'Accounting Data'!J2:J100000,\"61??\")+SUMIFS('Accounting Data'!C2:C100000,'Accounting Data'!H2:H100000,\"9??\",'Accounting Data'!I2:I100000,\"23??\",'Accounting Data'!J2:J100000,\"61??\")","v":{"v":0,"d":"0 "}},{"$f":"SUMIFS('Accounting Data'!C2:C100000,'Accounting Data'!E2:E100000,\"575\",'Accounting Data'!H2:H100000,\"7??\",'Accounting Data'!I2:I100000,\"23??\",'Accounting Data'!J2:J100000,\"61??\")+SUMIFS('Accounting Data'!C2:C100000,'Accounting Data'!E2:E100000,\"575\",'Accounting Data'!H2:H100000,\"8??\",'Accounting Data'!I2:I100000,\"23??\",'Accounting Data'!J2:J100000,\"61??\")+SUMIFS('Accounting Data'!C2:C100000,'Accounting Data'!E2:E100000,\"575\",'Accounting Data'!H2:H100000,\"9??\",'Accounting Data'!I2:I100000,\"23??\",'Accounting Data'!J2:J100000,\"61??\")","v":{"v":0,"d":"0 "}},{"$f":"SUMIFS('Accounting Data'!C2:C100000,'Accounting Data'!E2:E100000,\"8??\",'Accounting Data'!H2:H100000,\"7??\",'Accounting Data'!I2:I100000,\"23??\",'Accounting Data'!J2:J100000,\"61??\")+SUMIFS('Accounting Data'!C2:C100000,'Accounting Data'!E2:E100000,\"8??\",'Accounting Data'!H2:H100000,\"8??\",'Accounting Data'!I2:I100000,\"23??\",'Accounting Data'!J2:J100000,\"61??\")+SUMIFS('Accounting Data'!C2:C100000,'Accounting Data'!E2:E100000,\"8??\",'Accounting Data'!H2:H100000,\"9??\",'Accounting Data'!I2:I100000,\"23??\",'Accounting Data'!J2:J100000,\"61??\")","v":{"v":0,"d":"0 "}},{"$f":"SUMIFS('Accounting Data'!C2:C100000,'Accounting Data'!E2:E100000,\"9??\",'Accounting Data'!H2:H100000,\"7??\",'Accounting Data'!I2:I100000,\"23??\",'Accounting Data'!J2:J100000,\"61??\")+SUMIFS('Accounting Data'!C2:C100000,'Accounting Data'!E2:E100000,\"9??\",'Accounting Data'!H2:H100000,\"8??\",'Accounting Data'!I2:I100000,\"23??\",'Accounting Data'!J2:J100000,\"61??\")+SUMIFS('Accounting Data'!C2:C100000,'Accounting Data'!E2:E100000,\"9??\",'Accounting Data'!H2:H100000,\"9??\",'Accounting Data'!I2:I100000,\"23??\",'Accounting Data'!J2:J100000,\"61??\")","v":{"v":0,"d":"0 "}},null,2300,{"$f":"SUMIFS('Accounting Data'!C2:C100000,'Accounting Data'!I2:I100000,\"23??\",'Accounting Data'!J2:J100000,\"62??\")","v":{"v":0,"d":"0 "}},{"$f":"SUMIFS('Accounting Data'!C2:C100000,'Accounting Data'!E2:E100000,\"575\",'Accounting Data'!I2:I100000,\"23??\",'Accounting Data'!J2:J100000,\"62??\")+SUMIFS('Accounting Data'!C2:C100000,'Accounting Data'!E2:E100000,\"8??\",'Accounting Data'!I2:I100000,\"23??\",'Accounting Data'!J2:J100000,\"62??\")+SUMIFS('Accounting Data'!C2:C100000,'Accounting Data'!E2:E100000,\"9??\",'Accounting Data'!I2:I100000,\"23??\",'Accounting Data'!J2:J100000,\"62??\")","v":{"v":0,"d":"0 "}},{"$f":"SUMIFS('Accounting Data'!C2:C100000,'Accounting Data'!H2:H100000,\"7??\",'Accounting Data'!I2:I100000,\"23??\",'Accounting Data'!J2:J100000,\"62??\")+SUMIFS('Accounting Data'!C2:C100000,'Accounting Data'!H2:H100000,\"8??\",'Accounting Data'!I2:I100000,\"23??\",'Accounting Data'!J2:J100000,\"62??\")+SUMIFS('Accounting Data'!C2:C100000,'Accounting Data'!H2:H100000,\"9??\",'Accounting Data'!I2:I100000,\"23??\",'Accounting Data'!J2:J100000,\"62??\")","v":{"v":0,"d":"0 "}},{"$f":"SUMIFS('Accounting Data'!C2:C100000,'Accounting Data'!E2:E100000,\"575\",'Accounting Data'!H2:H100000,\"7??\",'Accounting Data'!I2:I100000,\"23??\",'Accounting Data'!J2:J100000,\"62??\")+SUMIFS('Accounting Data'!C2:C100000,'Accounting Data'!E2:E100000,\"575\",'Accounting Data'!H2:H100000,\"8??\",'Accounting Data'!I2:I100000,\"23??\",'Accounting Data'!J2:J100000,\"62??\")+SUMIFS('Accounting Data'!C2:C100000,'Accounting Data'!E2:E100000,\"575\",'Accounting Data'!H2:H100000,\"9??\",'Accounting Data'!I2:I100000,\"23??\",'Accounting Data'!J2:J100000,\"62??\")","v":{"v":0,"d":"0 "}},{"$f":"SUMIFS('Accounting Data'!C2:C100000,'Accounting Data'!E2:E100000,\"8??\",'Accounting Data'!H2:H100000,\"7??\",'Accounting Data'!I2:I100000,\"23??\",'Accounting Data'!J2:J100000,\"62??\")+SUMIFS('Accounting Data'!C2:C100000,'Accounting Data'!E2:E100000,\"8??\",'Accounting Data'!H2:H100000,\"8??\",'Accounting Data'!I2:I100000,\"23??\",'Accounting Data'!J2:J100000,\"62??\")+SUMIFS('Accounting Data'!C2:C100000,'Accounting Data'!E2:E100000,\"8??\",'Accounting Data'!H2:H100000,\"9??\",'Accounting Data'!I2:I100000,\"23??\",'Accounting Data'!J2:J100000,\"62??\")","v":{"v":0,"d":"0 "}},{"$f":"SUMIFS('Accounting Data'!C2:C100000,'Accounting Data'!E2:E100000,\"9??\",'Accounting Data'!H2:H100000,\"7??\",'Accounting Data'!I2:I100000,\"23??\",'Accounting Data'!J2:J100000,\"62??\")+SUMIFS('Accounting Data'!C2:C100000,'Accounting Data'!E2:E100000,\"9??\",'Accounting Data'!H2:H100000,\"8??\",'Accounting Data'!I2:I100000,\"23??\",'Accounting Data'!J2:J100000,\"62??\")+SUMIFS('Accounting Data'!C2:C100000,'Accounting Data'!E2:E100000,\"9??\",'Accounting Data'!H2:H100000,\"9??\",'Accounting Data'!I2:I100000,\"23??\",'Accounting Data'!J2:J100000,\"62??\")","v":{"v":0,"d":"0 "}},null,2300,{"$f":"SUMIFS('Accounting Data'!C2:C100000,'Accounting Data'!I2:I100000,\"23??\",'Accounting Data'!J2:J100000,\"63??\")+SUMIFS('Accounting Data'!C2:C100000,'Accounting Data'!I2:I100000,\"23??\",'Accounting Data'!J2:J100000,\"64??\")+SUMIFS('Accounting Data'!C2:C100000,'Accounting Data'!I2:I100000,\"23??\",'Accounting Data'!J2:J100000,\"65??\")","v":{"v":3622,"d":"3,622 "}},{"$f":"SUMIFS('Accounting Data'!C2:C100000,'Accounting Data'!E2:E100000,\"575\",'Accounting Data'!I2:I100000,\"23??\",'Accounting Data'!J2:J100000,\"63??\")+SUMIFS('Accounting Data'!C2:C100000,'Accounting Data'!E2:E100000,\"8??\",'Accounting Data'!I2:I100000,\"23??\",'Accounting Data'!J2:J100000,\"63??\")+SUMIFS('Accounting Data'!C2:C100000,'Accounting Data'!E2:E100000,\"9??\",'Accounting Data'!I2:I100000,\"23??\",'Accounting Data'!J2:J100000,\"63??\")","v":{"v":0,"d":"0 "}},{"$f":"SUMIFS('Accounting Data'!C2:C100000,'Accounting Data'!E2:E100000,\"575\",'Accounting Data'!I2:I100000,\"23??\",'Accounting Data'!J2:J100000,\"64??\")+SUMIFS('Accounting Data'!C2:C100000,'Accounting Data'!E2:E100000,\"8??\",'Accounting Data'!I2:I100000,\"23??\",'Accounting Data'!J2:J100000,\"64??\")+SUMIFS('Accounting Data'!C2:C100000,'Accounting Data'!E2:E100000,\"9??\",'Accounting Data'!I2:I100000,\"23??\",'Accounting Data'!J2:J100000,\"64??\")","v":{"v":0,"d":"0 "}},{"$f":"SUMIFS('Accounting Data'!C2:C100000,'Accounting Data'!E2:E100000,\"575\",'Accounting Data'!I2:I100000,\"23??\",'Accounting Data'!J2:J100000,\"65??\")+SUMIFS('Accounting Data'!C2:C100000,'Accounting Data'!E2:E100000,\"8??\",'Accounting Data'!I2:I100000,\"23??\",'Accounting Data'!J2:J100000,\"65??\")+SUMIFS('Accounting Data'!C2:C100000,'Accounting Data'!E2:E100000,\"9??\",'Accounting Data'!I2:I100000,\"23??\",'Accounting Data'!J2:J100000,\"65??\")","v":{"v":0,"d":"0 "}},{"$f":"SUMIFS('Accounting Data'!C2:C100000,'Accounting Data'!H2:H100000,\"7??\",'Accounting Data'!I2:I100000,\"23??\",'Accounting Data'!J2:J100000,\"63??\")+SUMIFS('Accounting Data'!C2:C100000,'Accounting Data'!H2:H100000,\"8??\",'Accounting Data'!I2:I100000,\"23??\",'Accounting Data'!J2:J100000,\"63??\")+SUMIFS('Accounting Data'!C2:C100000,'Accounting Data'!H2:H100000,\"9??\",'Accounting Data'!I2:I100000,\"23??\",'Accounting Data'!J2:J100000,\"63??\")+SUMIFS('Accounting Data'!C2:C100000,'Accounting Data'!H2:H100000,\"7??\",'Accounting Data'!I2:I100000,\"23??\",'Accounting Data'!J2:J100000,\"64??\")+SUMIFS('Accounting Data'!C2:C100000,'Accounting Data'!H2:H100000,\"8??\",'Accounting Data'!I2:I100000,\"23??\",'Accounting Data'!J2:J100000,\"64??\")+SUMIFS('Accounting Data'!C2:C100000,'Accounting Data'!H2:H100000,\"9??\",'Accounting Data'!I2:I100000,\"23??\",'Accounting Data'!J2:J100000,\"64??\")+SUMIFS('Accounting Data'!C2:C100000,'Accounting Data'!H2:H100000,\"7??\",'Accounting Data'!I2:I100000,\"23??\",'Accounting Data'!J2:J100000,\"65??\")+SUMIFS('Accounting Data'!C2:C100000,'Accounting Data'!H2:H100000,\"8??\",'Accounting Data'!I2:I100000,\"23??\",'Accounting Data'!J2:J100000,\"65??\")+SUMIFS('Accounting Data'!C2:C100000,'Accounting Data'!H2:H100000,\"9??\",'Accounting Data'!I2:I100000,\"23??\",'Accounting Data'!J2:J100000,\"65??\")","v":{"v":0,"d":"0 "}},{"$f":"SUMIFS('Accounting Data'!C2:C100000,'Accounting Data'!E2:E100000,\"575\",'Accounting Data'!H2:H100000,\"7??\",'Accounting Data'!I2:I100000,\"23??\",'Accounting Data'!J2:J100000,\"63??\")+SUMIFS('Accounting Data'!C2:C100000,'Accounting Data'!E2:E100000,\"575\",'Accounting Data'!H2:H100000,\"8??\",'Accounting Data'!I2:I100000,\"23??\",'Accounting Data'!J2:J100000,\"63??\")+SUMIFS('Accounting Data'!C2:C100000,'Accounting Data'!E2:E100000,\"575\",'Accounting Data'!H2:H100000,\"9??\",'Accounting Data'!I2:I100000,\"23??\",'Accounting Data'!J2:J100000,\"63??\")","v":{"v":0,"d":"0 "}},{"$f":"SUMIFS('Accounting Data'!C2:C100000,'Accounting Data'!E2:E100000,\"575\",'Accounting Data'!H2:H100000,\"7??\",'Accounting Data'!I2:I100000,\"23??\",'Accounting Data'!J2:J100000,\"64??\")+SUMIFS('Accounting Data'!C2:C100000,'Accounting Data'!E2:E100000,\"575\",'Accounting Data'!H2:H100000,\"8??\",'Accounting Data'!I2:I100000,\"23??\",'Accounting Data'!J2:J100000,\"64??\")+SUMIFS('Accounting Data'!C2:C100000,'Accounting Data'!E2:E100000,\"575\",'Accounting Data'!H2:H100000,\"9??\",'Accounting Data'!I2:I100000,\"23??\",'Accounting Data'!J2:J100000,\"64??\")","v":{"v":0,"d":"0 "}},{"$f":"SUMIFS('Accounting Data'!C2:C100000,'Accounting Data'!E2:E100000,\"575\",'Accounting Data'!H2:H100000,\"7??\",'Accounting Data'!I2:I100000,\"23??\",'Accounting Data'!J2:J100000,\"65??\")+SUMIFS('Accounting Data'!C2:C100000,'Accounting Data'!E2:E100000,\"575\",'Accounting Data'!H2:H100000,\"8??\",'Accounting Data'!I2:I100000,\"23??\",'Accounting Data'!J2:J100000,\"65??\")+SUMIFS('Accounting Data'!C2:C100000,'Accounting Data'!E2:E100000,\"575\",'Accounting Data'!H2:H100000,\"9??\",'Accounting Data'!I2:I100000,\"23??\",'Accounting Data'!J2:J100000,\"65??\")","v":{"v":0,"d":"0 "}},{"$f":"SUMIFS('Accounting Data'!C2:C100000,'Accounting Data'!E2:E100000,\"8??\",'Accounting Data'!H2:H100000,\"7??\",'Accounting Data'!I2:I100000,\"23??\",'Accounting Data'!J2:J100000,\"63??\")+SUMIFS('Accounting Data'!C2:C100000,'Accounting Data'!E2:E100000,\"8??\",'Accounting Data'!H2:H100000,\"8??\",'Accounting Data'!I2:I100000,\"23??\",'Accounting Data'!J2:J100000,\"63??\")+SUMIFS('Accounting Data'!C2:C100000,'Accounting Data'!E2:E100000,\"8??\",'Accounting Data'!H2:H100000,\"9??\",'Accounting Data'!I2:I100000,\"23??\",'Accounting Data'!J2:J100000,\"63??\")","v":{"v":0,"d":"0 "}},{"$f":"SUMIFS('Accounting Data'!C2:C100000,'Accounting Data'!E2:E100000,\"8??\",'Accounting Data'!H2:H100000,\"7??\",'Accounting Data'!I2:I100000,\"23??\",'Accounting Data'!J2:J100000,\"64??\")+SUMIFS('Accounting Data'!C2:C100000,'Accounting Data'!E2:E100000,\"8??\",'Accounting Data'!H2:H100000,\"8??\",'Accounting Data'!I2:I100000,\"23??\",'Accounting Data'!J2:J100000,\"64??\")+SUMIFS('Accounting Data'!C2:C100000,'Accounting Data'!E2:E100000,\"8??\",'Accounting Data'!H2:H100000,\"9??\",'Accounting Data'!I2:I100000,\"23??\",'Accounting Data'!J2:J100000,\"64??\")","v":{"v":0,"d":"0 "}},{"$f":"SUMIFS('Accounting Data'!C2:C100000,'Accounting Data'!E2:E100000,\"8??\",'Accounting Data'!H2:H100000,\"7??\",'Accounting Data'!I2:I100000,\"23??\",'Accounting Data'!J2:J100000,\"65??\")+SUMIFS('Accounting Data'!C2:C100000,'Accounting Data'!E2:E100000,\"8??\",'Accounting Data'!H2:H100000,\"8??\",'Accounting Data'!I2:I100000,\"23??\",'Accounting Data'!J2:J100000,\"65??\")+SUMIFS('Accounting Data'!C2:C100000,'Accounting Data'!E2:E100000,\"8??\",'Accounting Data'!H2:H100000,\"9??\",'Accounting Data'!I2:I100000,\"23??\",'Accounting Data'!J2:J100000,\"65??\")","v":{"v":0,"d":"0 "}},{"$f":"SUMIFS('Accounting Data'!C2:C100000,'Accounting Data'!E2:E100000,\"9??\",'Accounting Data'!H2:H100000,\"7??\",'Accounting Data'!I2:I100000,\"23??\",'Accounting Data'!J2:J100000,\"63??\")+SUMIFS('Accounting Data'!C2:C100000,'Accounting Data'!E2:E100000,\"9??\",'Accounting Data'!H2:H100000,\"8??\",'Accounting Data'!I2:I100000,\"23??\",'Accounting Data'!J2:J100000,\"63??\")+SUMIFS('Accounting Data'!C2:C100000,'Accounting Data'!E2:E100000,\"9??\",'Accounting Data'!H2:H100000,\"9??\",'Accounting Data'!I2:I100000,\"23??\",'Accounting Data'!J2:J100000,\"63??\")","v":{"v":0,"d":"0 "}},{"$f":"SUMIFS('Accounting Data'!C2:C100000,'Accounting Data'!E2:E100000,\"9??\",'Accounting Data'!H2:H100000,\"7??\",'Accounting Data'!I2:I100000,\"23??\",'Accounting Data'!J2:J100000,\"64??\")+SUMIFS('Accounting Data'!C2:C100000,'Accounting Data'!E2:E100000,\"9??\",'Accounting Data'!H2:H100000,\"8??\",'Accounting Data'!I2:I100000,\"23??\",'Accounting Data'!J2:J100000,\"64??\")+SUMIFS('Accounting Data'!C2:C100000,'Accounting Data'!E2:E100000,\"9??\",'Accounting Data'!H2:H100000,\"9??\",'Accounting Data'!I2:I100000,\"23??\",'Accounting Data'!J2:J100000,\"64??\")","v":{"v":0,"d":"0 "}},{"$f":"SUMIFS('Accounting Data'!C2:C100000,'Accounting Data'!E2:E100000,\"9??\",'Accounting Data'!H2:H100000,\"7??\",'Accounting Data'!I2:I100000,\"23??\",'Accounting Data'!J2:J100000,\"65??\")+SUMIFS('Accounting Data'!C2:C100000,'Accounting Data'!E2:E100000,\"9??\",'Accounting Data'!H2:H100000,\"8??\",'Accounting Data'!I2:I100000,\"23??\",'Accounting Data'!J2:J100000,\"65??\")+SUMIFS('Accounting Data'!C2:C100000,'Accounting Data'!E2:E100000,\"9??\",'Accounting Data'!H2:H100000,\"9??\",'Accounting Data'!I2:I100000,\"23??\",'Accounting Data'!J2:J100000,\"65??\")","v":{"v":0,"d":"0 "}},null,2300,{"$f":"SUMIFS('Accounting Data'!C2:C100000,'Accounting Data'!I2:I100000,\"23??\",'Accounting Data'!J2:J100000,\"66??\")","v":{"v":0,"d":"0 "}},{"$f":"SUMIFS('Accounting Data'!$C$2:$C$100000,'Accounting Data'!$E$2:$E$100000,\"575\",'Accounting Data'!$I$2:$I$100000,\"23??\",'Accounting Data'!$J$2:$J$100000,\"66??\")+SUMIFS('Accounting Data'!$C$2:$C$100000,'Accounting Data'!$E$2:$E$100000,\"8??\",'Accounting Data'!$I$2:$I$100000,\"23??\",'Accounting Data'!$J$2:$J$100000,\"66??\")+SUMIFS('Accounting Data'!$C$2:$C$100000,'Accounting Data'!$E$2:$E$100000,\"9??\",'Accounting Data'!$I$2:$I$100000,\"23??\",'Accounting Data'!$J$2:$J$100000,\"66??\")","v":{"v":0,"d":"0 "}},{"$f":"SUMIFS('Accounting Data'!$C$2:$C$100000,'Accounting Data'!$H$2:$H$100000,\"7??\",'Accounting Data'!$I$2:$I$100000,\"23??\",'Accounting Data'!$J$2:$J$100000,\"66??\")+SUMIFS('Accounting Data'!$C$2:$C$100000,'Accounting Data'!$H$2:$H$100000,\"8??\",'Accounting Data'!$I$2:$I$100000,\"23??\",'Accounting Data'!$J$2:$J$100000,\"66??\")+SUMIFS('Accounting Data'!$C$2:$C$100000,'Accounting Data'!$H$2:$H$100000,\"9??\",'Accounting Data'!$I$2:$I$100000,\"23??\",'Accounting Data'!$J$2:$J$100000,\"66??\")","v":{"v":0,"d":"0 "}},{"$f":"SUMIFS('Accounting Data'!$C$2:$C$100000,'Accounting Data'!$E$2:$E$100000,\"575\",'Accounting Data'!$H$2:$H$100000,\"7??\",'Accounting Data'!$I$2:$I$100000,\"23??\",'Accounting Data'!$J$2:$J$100000,\"66??\")+SUMIFS('Accounting Data'!$C$2:$C$100000,'Accounting Data'!$E$2:$E$100000,\"575\",'Accounting Data'!$H$2:$H$100000,\"8??\",'Accounting Data'!$I$2:$I$100000,\"23??\",'Accounting Data'!$J$2:$J$100000,\"66??\")+SUMIFS('Accounting Data'!$C$2:$C$100000,'Accounting Data'!$E$2:$E$100000,\"575\",'Accounting Data'!$H$2:$H$100000,\"9??\",'Accounting Data'!$I$2:$I$100000,\"23??\",'Accounting Data'!$J$2:$J$100000,\"66??\")","v":{"v":0,"d":"0 "}},{"$f":"SUMIFS('Accounting Data'!$C$2:$C$100000,'Accounting Data'!$E$2:$E$100000,\"8??\",'Accounting Data'!$H$2:$H$100000,\"7??\",'Accounting Data'!$I$2:$I$100000,\"23??\",'Accounting Data'!$J$2:$J$100000,\"66??\")+SUMIFS('Accounting Data'!$C$2:$C$100000,'Accounting Data'!$E$2:$E$100000,\"8??\",'Accounting Data'!$H$2:$H$100000,\"8??\",'Accounting Data'!$I$2:$I$100000,\"23??\",'Accounting Data'!$J$2:$J$100000,\"66??\")+SUMIFS('Accounting Data'!$C$2:$C$100000,'Accounting Data'!$E$2:$E$100000,\"8??\",'Accounting Data'!$H$2:$H$100000,\"9??\",'Accounting Data'!$I$2:$I$100000,\"23??\",'Accounting Data'!$J$2:$J$100000,\"66??\")","v":{"v":0,"d":"0 "}},{"$f":"SUMIFS('Accounting Data'!$C$2:$C$100000,'Accounting Data'!$E$2:$E$100000,\"9??\",'Accounting Data'!$H$2:$H$100000,\"7??\",'Accounting Data'!$I$2:$I$100000,\"23??\",'Accounting Data'!$J$2:$J$100000,\"66??\")+SUMIFS('Accounting Data'!$C$2:$C$100000,'Accounting Data'!$E$2:$E$100000,\"9??\",'Accounting Data'!$H$2:$H$100000,\"8??\",'Accounting Data'!$I$2:$I$100000,\"23??\",'Accounting Data'!$J$2:$J$100000,\"66??\")+SUMIFS('Accounting Data'!$C$2:$C$100000,'Accounting Data'!$E$2:$E$100000,\"9??\",'Accounting Data'!$H$2:$H$100000,\"9??\",'Accounting Data'!$I$2:$I$100000,\"23??\",'Accounting Data'!$J$2:$J$100000,\"66??\")","v":{"v":0,"d":"0 "}},null,2300,{"$f":"SUMIFS('Accounting Data'!C2:C100000,'Accounting Data'!I2:I100000,\"23??\",'Accounting Data'!J2:J100000,\"67??\")","v":{"v":0,"d":"0 "}},{"$f":"SUMIFS('Accounting Data'!$C$2:$C$100000,'Accounting Data'!$E$2:$E$100000,\"575\",'Accounting Data'!$I$2:$I$100000,\"23??\",'Accounting Data'!$J$2:$J$100000,\"67??\")+SUMIFS('Accounting Data'!$C$2:$C$100000,'Accounting Data'!$E$2:$E$100000,\"8??\",'Accounting Data'!$I$2:$I$100000,\"23??\",'Accounting Data'!$J$2:$J$100000,\"67??\")+SUMIFS('Accounting Data'!$C$2:$C$100000,'Accounting Data'!$E$2:$E$100000,\"9??\",'Accounting Data'!$I$2:$I$100000,\"23??\",'Accounting Data'!$J$2:$J$100000,\"67??\")","v":{"v":0,"d":"0 "}},{"$f":"SUMIFS('Accounting Data'!$C$2:$C$100000,'Accounting Data'!$H$2:$H$100000,\"7??\",'Accounting Data'!$I$2:$I$100000,\"23??\",'Accounting Data'!$J$2:$J$100000,\"67??\")+SUMIFS('Accounting Data'!$C$2:$C$100000,'Accounting Data'!$H$2:$H$100000,\"8??\",'Accounting Data'!$I$2:$I$100000,\"23??\",'Accounting Data'!$J$2:$J$100000,\"67??\")+SUMIFS('Accounting Data'!$C$2:$C$100000,'Accounting Data'!$H$2:$H$100000,\"9??\",'Accounting Data'!$I$2:$I$100000,\"23??\",'Accounting Data'!$J$2:$J$100000,\"67??\")","v":{"v":0,"d":"0 "}},{"$f":"SUMIFS('Accounting Data'!$C$2:$C$100000,'Accounting Data'!$E$2:$E$100000,\"575\",'Accounting Data'!$H$2:$H$100000,\"7??\",'Accounting Data'!$I$2:$I$100000,\"23??\",'Accounting Data'!$J$2:$J$100000,\"67??\")+SUMIFS('Accounting Data'!$C$2:$C$100000,'Accounting Data'!$E$2:$E$100000,\"575\",'Accounting Data'!$H$2:$H$100000,\"8??\",'Accounting Data'!$I$2:$I$100000,\"23??\",'Accounting Data'!$J$2:$J$100000,\"67??\")+SUMIFS('Accounting Data'!$C$2:$C$100000,'Accounting Data'!$E$2:$E$100000,\"575\",'Accounting Data'!$H$2:$H$100000,\"9??\",'Accounting Data'!$I$2:$I$100000,\"23??\",'Accounting Data'!$J$2:$J$100000,\"67??\")","v":{"v":0,"d":"0 "}},{"$f":"SUMIFS('Accounting Data'!$C$2:$C$100000,'Accounting Data'!$E$2:$E$100000,\"8??\",'Accounting Data'!$H$2:$H$100000,\"7??\",'Accounting Data'!$I$2:$I$100000,\"23??\",'Accounting Data'!$J$2:$J$100000,\"67??\")+SUMIFS('Accounting Data'!$C$2:$C$100000,'Accounting Data'!$E$2:$E$100000,\"8??\",'Accounting Data'!$H$2:$H$100000,\"8??\",'Accounting Data'!$I$2:$I$100000,\"23??\",'Accounting Data'!$J$2:$J$100000,\"67??\")+SUMIFS('Accounting Data'!$C$2:$C$100000,'Accounting Data'!$E$2:$E$100000,\"8??\",'Accounting Data'!$H$2:$H$100000,\"9??\",'Accounting Data'!$I$2:$I$100000,\"23??\",'Accounting Data'!$J$2:$J$100000,\"67??\")","v":{"v":0,"d":"0 "}},{"$f":"SUMIFS('Accounting Data'!$C$2:$C$100000,'Accounting Data'!$E$2:$E$100000,\"9??\",'Accounting Data'!$H$2:$H$100000,\"7??\",'Accounting Data'!$I$2:$I$100000,\"23??\",'Accounting Data'!$J$2:$J$100000,\"67??\")+SUMIFS('Accounting Data'!$C$2:$C$100000,'Accounting Data'!$E$2:$E$100000,\"9??\",'Accounting Data'!$H$2:$H$100000,\"8??\",'Accounting Data'!$I$2:$I$100000,\"23??\",'Accounting Data'!$J$2:$J$100000,\"67??\")+SUMIFS('Accounting Data'!$C$2:$C$100000,'Accounting Data'!$E$2:$E$100000,\"9??\",'Accounting Data'!$H$2:$H$100000,\"9??\",'Accounting Data'!$I$2:$I$100000,\"23??\",'Accounting Data'!$J$2:$J$100000,\"67??\")","v":{"v":0,"d":"0 "}},null,2300,{"$f":"SUMIFS('Accounting Data'!C2:C100000,'Accounting Data'!I2:I100000,\"23??\",'Accounting Data'!J2:J100000,\"681?\")","v":{"v":0,"d":"0 "}},{"$f":"SUMIFS('Accounting Data'!$C$2:$C$100000,'Accounting Data'!$E$2:$E$100000,\"575\",'Accounting Data'!$I$2:$I$100000,\"23??\",'Accounting Data'!$J$2:$J$100000,\"681?\")+SUMIFS('Accounting Data'!$C$2:$C$100000,'Accounting Data'!$E$2:$E$100000,\"8??\",'Accounting Data'!$I$2:$I$100000,\"23??\",'Accounting Data'!$J$2:$J$100000,\"681?\")+SUMIFS('Accounting Data'!$C$2:$C$100000,'Accounting Data'!$E$2:$E$100000,\"9??\",'Accounting Data'!$I$2:$I$100000,\"23??\",'Accounting Data'!$J$2:$J$100000,\"681?\")","v":{"v":0,"d":"0 "}},{"$f":"SUMIFS('Accounting Data'!$C$2:$C$100000,'Accounting Data'!$H$2:$H$100000,\"7??\",'Accounting Data'!$I$2:$I$100000,\"23??\",'Accounting Data'!$J$2:$J$100000,\"681?\")+SUMIFS('Accounting Data'!$C$2:$C$100000,'Accounting Data'!$H$2:$H$100000,\"8??\",'Accounting Data'!$I$2:$I$100000,\"23??\",'Accounting Data'!$J$2:$J$100000,\"681?\")+SUMIFS('Accounting Data'!$C$2:$C$100000,'Accounting Data'!$H$2:$H$100000,\"9??\",'Accounting Data'!$I$2:$I$100000,\"23??\",'Accounting Data'!$J$2:$J$100000,\"681?\")","v":{"v":0,"d":"0 "}},{"$f":"SUMIFS('Accounting Data'!$C$2:$C$100000,'Accounting Data'!$E$2:$E$100000,\"575\",'Accounting Data'!$H$2:$H$100000,\"7??\",'Accounting Data'!$I$2:$I$100000,\"23??\",'Accounting Data'!$J$2:$J$100000,\"681?\")+SUMIFS('Accounting Data'!$C$2:$C$100000,'Accounting Data'!$E$2:$E$100000,\"575\",'Accounting Data'!$H$2:$H$100000,\"8??\",'Accounting Data'!$I$2:$I$100000,\"23??\",'Accounting Data'!$J$2:$J$100000,\"681?\")+SUMIFS('Accounting Data'!$C$2:$C$100000,'Accounting Data'!$E$2:$E$100000,\"575\",'Accounting Data'!$H$2:$H$100000,\"9??\",'Accounting Data'!$I$2:$I$100000,\"23??\",'Accounting Data'!$J$2:$J$100000,\"681?\")","v":{"v":0,"d":"0 "}},{"$f":"SUMIFS('Accounting Data'!$C$2:$C$100000,'Accounting Data'!$E$2:$E$100000,\"8??\",'Accounting Data'!$H$2:$H$100000,\"7??\",'Accounting Data'!$I$2:$I$100000,\"23??\",'Accounting Data'!$J$2:$J$100000,\"681?\")+SUMIFS('Accounting Data'!$C$2:$C$100000,'Accounting Data'!$E$2:$E$100000,\"8??\",'Accounting Data'!$H$2:$H$100000,\"8??\",'Accounting Data'!$I$2:$I$100000,\"23??\",'Accounting Data'!$J$2:$J$100000,\"681?\")+SUMIFS('Accounting Data'!$C$2:$C$100000,'Accounting Data'!$E$2:$E$100000,\"8??\",'Accounting Data'!$H$2:$H$100000,\"9??\",'Accounting Data'!$I$2:$I$100000,\"23??\",'Accounting Data'!$J$2:$J$100000,\"681?\")","v":{"v":0,"d":"0 "}},{"$f":"SUMIFS('Accounting Data'!$C$2:$C$100000,'Accounting Data'!$E$2:$E$100000,\"9??\",'Accounting Data'!$H$2:$H$100000,\"7??\",'Accounting Data'!$I$2:$I$100000,\"23??\",'Accounting Data'!$J$2:$J$100000,\"681?\")+SUMIFS('Accounting Data'!$C$2:$C$100000,'Accounting Data'!$E$2:$E$100000,\"9??\",'Accounting Data'!$H$2:$H$100000,\"8??\",'Accounting Data'!$I$2:$I$100000,\"23??\",'Accounting Data'!$J$2:$J$100000,\"681?\")+SUMIFS('Accounting Data'!$C$2:$C$100000,'Accounting Data'!$E$2:$E$100000,\"9??\",'Accounting Data'!$H$2:$H$100000,\"9??\",'Accounting Data'!$I$2:$I$100000,\"23??\",'Accounting Data'!$J$2:$J$100000,\"681?\")","v":{"v":0,"d":"0 "}},null,2300,{"$f":"SUMIFS('Accounting Data'!C2:C100000,'Accounting Data'!I2:I100000,\"23??\",'Accounting Data'!J2:J100000,\"682?\")","v":{"v":0,"d":"0 "}},{"$f":"SUMIFS('Accounting Data'!$C$2:$C$100000,'Accounting Data'!$E$2:$E$100000,\"575\",'Accounting Data'!$I$2:$I$100000,\"23??\",'Accounting Data'!$J$2:$J$100000,\"682?\")+SUMIFS('Accounting Data'!$C$2:$C$100000,'Accounting Data'!$E$2:$E$100000,\"8??\",'Accounting Data'!$I$2:$I$100000,\"23??\",'Accounting Data'!$J$2:$J$100000,\"682?\")+SUMIFS('Accounting Data'!$C$2:$C$100000,'Accounting Data'!$E$2:$E$100000,\"9??\",'Accounting Data'!$I$2:$I$100000,\"23??\",'Accounting Data'!$J$2:$J$100000,\"682?\")","v":{"v":0,"d":"0 "}},{"$f":"SUMIFS('Accounting Data'!$C$2:$C$100000,'Accounting Data'!$H$2:$H$100000,\"7??\",'Accounting Data'!$I$2:$I$100000,\"23??\",'Accounting Data'!$J$2:$J$100000,\"682?\")+SUMIFS('Accounting Data'!$C$2:$C$100000,'Accounting Data'!$H$2:$H$100000,\"8??\",'Accounting Data'!$I$2:$I$100000,\"23??\",'Accounting Data'!$J$2:$J$100000,\"682?\")+SUMIFS('Accounting Data'!$C$2:$C$100000,'Accounting Data'!$H$2:$H$100000,\"9??\",'Accounting Data'!$I$2:$I$100000,\"23??\",'Accounting Data'!$J$2:$J$100000,\"682?\")","v":{"v":0,"d":"0 "}},{"$f":"SUMIFS('Accounting Data'!$C$2:$C$100000,'Accounting Data'!$E$2:$E$100000,\"575\",'Accounting Data'!$H$2:$H$100000,\"7??\",'Accounting Data'!$I$2:$I$100000,\"23??\",'Accounting Data'!$J$2:$J$100000,\"682?\")+SUMIFS('Accounting Data'!$C$2:$C$100000,'Accounting Data'!$E$2:$E$100000,\"575\",'Accounting Data'!$H$2:$H$100000,\"8??\",'Accounting Data'!$I$2:$I$100000,\"23??\",'Accounting Data'!$J$2:$J$100000,\"682?\")+SUMIFS('Accounting Data'!$C$2:$C$100000,'Accounting Data'!$E$2:$E$100000,\"575\",'Accounting Data'!$H$2:$H$100000,\"9??\",'Accounting Data'!$I$2:$I$100000,\"23??\",'Accounting Data'!$J$2:$J$100000,\"682?\")","v":{"v":0,"d":"0 "}},{"$f":"SUMIFS('Accounting Data'!$C$2:$C$100000,'Accounting Data'!$E$2:$E$100000,\"8??\",'Accounting Data'!$H$2:$H$100000,\"7??\",'Accounting Data'!$I$2:$I$100000,\"23??\",'Accounting Data'!$J$2:$J$100000,\"682?\")+SUMIFS('Accounting Data'!$C$2:$C$100000,'Accounting Data'!$E$2:$E$100000,\"8??\",'Accounting Data'!$H$2:$H$100000,\"8??\",'Accounting Data'!$I$2:$I$100000,\"23??\",'Accounting Data'!$J$2:$J$100000,\"682?\")+SUMIFS('Accounting Data'!$C$2:$C$100000,'Accounting Data'!$E$2:$E$100000,\"8??\",'Accounting Data'!$H$2:$H$100000,\"9??\",'Accounting Data'!$I$2:$I$100000,\"23??\",'Accounting Data'!$J$2:$J$100000,\"682?\")","v":{"v":0,"d":"0 "}},{"$f":"SUMIFS('Accounting Data'!$C$2:$C$100000,'Accounting Data'!$E$2:$E$100000,\"9??\",'Accounting Data'!$H$2:$H$100000,\"7??\",'Accounting Data'!$I$2:$I$100000,\"23??\",'Accounting Data'!$J$2:$J$100000,\"682?\")+SUMIFS('Accounting Data'!$C$2:$C$100000,'Accounting Data'!$E$2:$E$100000,\"9??\",'Accounting Data'!$H$2:$H$100000,\"8??\",'Accounting Data'!$I$2:$I$100000,\"23??\",'Accounting Data'!$J$2:$J$100000,\"682?\")+SUMIFS('Accounting Data'!$C$2:$C$100000,'Accounting Data'!$E$2:$E$100000,\"9??\",'Accounting Data'!$H$2:$H$100000,\"9??\",'Accounting Data'!$I$2:$I$100000,\"23??\",'Accounting Data'!$J$2:$J$100000,\"682?\")","v":{"v":0,"d":"0 "}},{"$nulls":9},2300,{"$f":"SUMIFS('Accounting Data'!C2:C100000,'Accounting Data'!I2:I100000,\"23??\",'Accounting Data'!J2:J100000,\"689?\")","v":{"v":0,"d":"0 "}},{"$f":"SUMIFS('Accounting Data'!$C$2:$C$100000,'Accounting Data'!$E$2:$E$100000,\"575\",'Accounting Data'!$I$2:$I$100000,\"23??\",'Accounting Data'!$J$2:$J$100000,\"689?\")+SUMIFS('Accounting Data'!$C$2:$C$100000,'Accounting Data'!$E$2:$E$100000,\"8??\",'Accounting Data'!$I$2:$I$100000,\"23??\",'Accounting Data'!$J$2:$J$100000,\"689?\")+SUMIFS('Accounting Data'!$C$2:$C$100000,'Accounting Data'!$E$2:$E$100000,\"9??\",'Accounting Data'!$I$2:$I$100000,\"23??\",'Accounting Data'!$J$2:$J$100000,\"689?\")","v":{"v":0,"d":"0 "}},{"$f":"SUMIFS('Accounting Data'!$C$2:$C$100000,'Accounting Data'!$H$2:$H$100000,\"7??\",'Accounting Data'!$I$2:$I$100000,\"23??\",'Accounting Data'!$J$2:$J$100000,\"689?\")+SUMIFS('Accounting Data'!$C$2:$C$100000,'Accounting Data'!$H$2:$H$100000,\"8??\",'Accounting Data'!$I$2:$I$100000,\"23??\",'Accounting Data'!$J$2:$J$100000,\"689?\")+SUMIFS('Accounting Data'!$C$2:$C$100000,'Accounting Data'!$H$2:$H$100000,\"9??\",'Accounting Data'!$I$2:$I$100000,\"23??\",'Accounting Data'!$J$2:$J$100000,\"689?\")","v":{"v":0,"d":"0 "}},{"$f":"SUMIFS('Accounting Data'!$C$2:$C$100000,'Accounting Data'!$E$2:$E$100000,\"575\",'Accounting Data'!$H$2:$H$100000,\"7??\",'Accounting Data'!$I$2:$I$100000,\"23??\",'Accounting Data'!$J$2:$J$100000,\"689?\")+SUMIFS('Accounting Data'!$C$2:$C$100000,'Accounting Data'!$E$2:$E$100000,\"575\",'Accounting Data'!$H$2:$H$100000,\"8??\",'Accounting Data'!$I$2:$I$100000,\"23??\",'Accounting Data'!$J$2:$J$100000,\"689?\")+SUMIFS('Accounting Data'!$C$2:$C$100000,'Accounting Data'!$E$2:$E$100000,\"575\",'Accounting Data'!$H$2:$H$100000,\"9??\",'Accounting Data'!$I$2:$I$100000,\"23??\",'Accounting Data'!$J$2:$J$100000,\"689?\")","v":{"v":0,"d":"0 "}},{"$f":"SUMIFS('Accounting Data'!$C$2:$C$100000,'Accounting Data'!$E$2:$E$100000,\"8??\",'Accounting Data'!$H$2:$H$100000,\"7??\",'Accounting Data'!$I$2:$I$100000,\"23??\",'Accounting Data'!$J$2:$J$100000,\"689?\")+SUMIFS('Accounting Data'!$C$2:$C$100000,'Accounting Data'!$E$2:$E$100000,\"8??\",'Accounting Data'!$H$2:$H$100000,\"8??\",'Accounting Data'!$I$2:$I$100000,\"23??\",'Accounting Data'!$J$2:$J$100000,\"689?\")+SUMIFS('Accounting Data'!$C$2:$C$100000,'Accounting Data'!$E$2:$E$100000,\"8??\",'Accounting Data'!$H$2:$H$100000,\"9??\",'Accounting Data'!$I$2:$I$100000,\"23??\",'Accounting Data'!$J$2:$J$100000,\"689?\")","v":{"v":0,"d":"0 "}},{"$f":"SUMIFS('Accounting Data'!$C$2:$C$100000,'Accounting Data'!$E$2:$E$100000,\"9??\",'Accounting Data'!$H$2:$H$100000,\"7??\",'Accounting Data'!$I$2:$I$100000,\"23??\",'Accounting Data'!$J$2:$J$100000,\"689?\")+SUMIFS('Accounting Data'!$C$2:$C$100000,'Accounting Data'!$E$2:$E$100000,\"9??\",'Accounting Data'!$H$2:$H$100000,\"8??\",'Accounting Data'!$I$2:$I$100000,\"23??\",'Accounting Data'!$J$2:$J$100000,\"689?\")+SUMIFS('Accounting Data'!$C$2:$C$100000,'Accounting Data'!$E$2:$E$100000,\"9??\",'Accounting Data'!$H$2:$H$100000,\"9??\",'Accounting Data'!$I$2:$I$100000,\"23??\",'Accounting Data'!$J$2:$J$100000,\"689?\")","v":{"v":0,"d":"0 "}},null,2300,{"$f":"SUMIFS('Accounting Data'!$C$2:$C$100000,'Accounting Data'!$H$2:$H$100000,\"7??\",'Accounting Data'!$I$2:$I$100000,\"23??\",'Accounting Data'!$J$2:$J$100000,\"6???\")+SUMIFS('Accounting Data'!$C$2:$C$100000,'Accounting Data'!$H$2:$H$100000,\"8??\",'Accounting Data'!$I$2:$I$100000,\"23??\",'Accounting Data'!$J$2:$J$100000,\"6???\")+SUMIFS('Accounting Data'!$C$2:$C$100000,'Accounting Data'!$H$2:$H$100000,\"9??\",'Accounting Data'!$I$2:$I$100000,\"23??\",'Accounting Data'!$J$2:$J$100000,\"6???\")","v":{"v":0,"d":"0 "}},{"$f":"SUMIFS('Accounting Data'!$C$2:$C$100000,'Accounting Data'!$H$2:$H$100000,\"7??\",'Accounting Data'!$I$2:$I$100000,\"23??\",'Accounting Data'!$J$2:$J$100000,\"69??\")+SUMIFS('Accounting Data'!$C$2:$C$100000,'Accounting Data'!$H$2:$H$100000,\"8??\",'Accounting Data'!$I$2:$I$100000,\"23??\",'Accounting Data'!$J$2:$J$100000,\"69??\")+SUMIFS('Accounting Data'!$C$2:$C$100000,'Accounting Data'!$H$2:$H$100000,\"9??\",'Accounting Data'!$I$2:$I$100000,\"23??\",'Accounting Data'!$J$2:$J$100000,\"69??\")","v":{"v":0,"d":"0 "}},{"$f":"SUMIFS('Accounting Data'!$C$2:$C$100000,'Accounting Data'!$E$2:$E$100000,\"575\",'Accounting Data'!$H$2:$H$100000,\"7??\",'Accounting Data'!$I$2:$I$100000,\"23??\",'Accounting Data'!$J$2:$J$100000,\"6???\")+SUMIFS('Accounting Data'!$C$2:$C$100000,'Accounting Data'!$E$2:$E$100000,\"575\",'Accounting Data'!$H$2:$H$100000,\"8??\",'Accounting Data'!$I$2:$I$100000,\"23??\",'Accounting Data'!$J$2:$J$100000,\"6???\")+SUMIFS('Accounting Data'!$C$2:$C$100000,'Accounting Data'!$E$2:$E$100000,\"575\",'Accounting Data'!$H$2:$H$100000,\"9??\",'Accounting Data'!$I$2:$I$100000,\"23??\",'Accounting Data'!$J$2:$J$100000,\"6???\")","v":{"v":0,"d":"0 "}},{"$f":"SUMIFS('Accounting Data'!$C$2:$C$100000,'Accounting Data'!$E$2:$E$100000,\"8??\",'Accounting Data'!$H$2:$H$100000,\"7??\",'Accounting Data'!$I$2:$I$100000,\"23??\",'Accounting Data'!$J$2:$J$100000,\"6???\")+SUMIFS('Accounting Data'!$C$2:$C$100000,'Accounting Data'!$E$2:$E$100000,\"8??\",'Accounting Data'!$H$2:$H$100000,\"8??\",'Accounting Data'!$I$2:$I$100000,\"23??\",'Accounting Data'!$J$2:$J$100000,\"6???\")+SUMIFS('Accounting Data'!$C$2:$C$100000,'Accounting Data'!$E$2:$E$100000,\"8??\",'Accounting Data'!$H$2:$H$100000,\"9??\",'Accounting Data'!$I$2:$I$100000,\"23??\",'Accounting Data'!$J$2:$J$100000,\"6???\")+SUMIFS('Accounting Data'!$C$2:$C$100000,'Accounting Data'!$E$2:$E$100000,\"9??\",'Accounting Data'!$H$2:$H$100000,\"7??\",'Accounting Data'!$I$2:$I$100000,\"23??\",'Accounting Data'!$J$2:$J$100000,\"6???\")+SUMIFS('Accounting Data'!$C$2:$C$100000,'Accounting Data'!$E$2:$E$100000,\"9??\",'Accounting Data'!$H$2:$H$100000,\"8??\",'Accounting Data'!$I$2:$I$100000,\"23??\",'Accounting Data'!$J$2:$J$100000,\"6???\")+SUMIFS('Accounting Data'!$C$2:$C$100000,'Accounting Data'!$E$2:$E$100000,\"9??\",'Accounting Data'!$H$2:$H$100000,\"9??\",'Accounting Data'!$I$2:$I$100000,\"23??\",'Accounting Data'!$J$2:$J$100000,\"6???\")","v":{"v":0,"d":"0 "}},{"$f":"SUMIFS('Accounting Data'!$C$2:$C$100000,'Accounting Data'!$E$2:$E$100000,\"575\",'Accounting Data'!$H$2:$H$100000,\"7??\",'Accounting Data'!$I$2:$I$100000,\"23??\",'Accounting Data'!$J$2:$J$100000,\"69??\")+SUMIFS('Accounting Data'!$C$2:$C$100000,'Accounting Data'!$E$2:$E$100000,\"575\",'Accounting Data'!$H$2:$H$100000,\"8??\",'Accounting Data'!$I$2:$I$100000,\"23??\",'Accounting Data'!$J$2:$J$100000,\"69??\")+SUMIFS('Accounting Data'!$C$2:$C$100000,'Accounting Data'!$E$2:$E$100000,\"575\",'Accounting Data'!$H$2:$H$100000,\"9??\",'Accounting Data'!$I$2:$I$100000,\"23??\",'Accounting Data'!$J$2:$J$100000,\"69??\")","v":{"v":0,"d":"0 "}},{"$f":"SUMIFS('Accounting Data'!$C$2:$C$100000,'Accounting Data'!$E$2:$E$100000,\"8??\",'Accounting Data'!$H$2:$H$100000,\"7??\",'Accounting Data'!$I$2:$I$100000,\"23??\",'Accounting Data'!$J$2:$J$100000,\"69??\")+SUMIFS('Accounting Data'!$C$2:$C$100000,'Accounting Data'!$E$2:$E$100000,\"8??\",'Accounting Data'!$H$2:$H$100000,\"8??\",'Accounting Data'!$I$2:$I$100000,\"23??\",'Accounting Data'!$J$2:$J$100000,\"69??\")+SUMIFS('Accounting Data'!$C$2:$C$100000,'Accounting Data'!$E$2:$E$100000,\"8??\",'Accounting Data'!$H$2:$H$100000,\"9??\",'Accounting Data'!$I$2:$I$100000,\"23??\",'Accounting Data'!$J$2:$J$100000,\"69??\")+SUMIFS('Accounting Data'!$C$2:$C$100000,'Accounting Data'!$E$2:$E$100000,\"9??\",'Accounting Data'!$H$2:$H$100000,\"7??\",'Accounting Data'!$I$2:$I$100000,\"23??\",'Accounting Data'!$J$2:$J$100000,\"69??\")+SUMIFS('Accounting Data'!$C$2:$C$100000,'Accounting Data'!$E$2:$E$100000,\"9??\",'Accounting Data'!$H$2:$H$100000,\"8??\",'Accounting Data'!$I$2:$I$100000,\"23??\",'Accounting Data'!$J$2:$J$100000,\"69??\")+SUMIFS('Accounting Data'!$C$2:$C$100000,'Accounting Data'!$E$2:$E$100000,\"9??\",'Accounting Data'!$H$2:$H$100000,\"9??\",'Accounting Data'!$I$2:$I$100000,\"23??\",'Accounting Data'!$J$2:$J$100000,\"69??\")","v":{"v":0,"d":"0 "}}]
["         2400 School Administration","5.",{"$f":"(AA15-AB15-AC15)+(AD15+AE15+AF15)","v":{"v":31757,"d":"31,757 "}},{"$f":"(AI15-AJ15-AK15)+(AL15+AM15+AN15)","v":{"v":20860,"d":"20,860 "}},{"$f":"(AQ15-AR15-AS15-AT15-AU15)+(AV15+AW15+AX15+AY15+AZ15+BA15+BB15+BC15+BD15)","v":{"v":25636,"d":"25,636 "}},{"$f":"(BG15-BH15-BI15)+(BJ15+BK15+BL15)","v":{"v":459,"d":"459 "}},{"$f":"(BO15-BP15-BQ15)+(BR15+BS15+BT15)","v":{"v":0,"d":"0 "}},{"$f":"(BW15-BX15-BY15)+(BZ15+CA15+CB15)","v":{"v":0,"d":"0 "}},{"$nulls":3},{"$f":"(CU15-CV15-CW15)+(CX15+CY15+CZ15)","v":{"v":0,"d":"0 "}},{"$f":"(DC15-DD15)-((DE15+DF15)-(DG15+DH15))","v":{"v":0,"d":"0 "}},{"v":78712,"d":"78,712 "},"5.",{"$nulls":10},2400,{"$f":"SUMIFS('Accounting Data'!C2:C100000,'Accounting Data'!I2:I100000,\"24??\",'Accounting Data'!J2:J100000,\"61??\")","v":{"v":31757,"d":"31,757 "}},{"$f":"SUMIFS('Accounting Data'!C2:C100000,'Accounting Data'!E2:E100000,\"575\",'Accounting Data'!I2:I100000,\"24??\",'Accounting Data'!J2:J100000,\"61??\")+SUMIFS('Accounting Data'!C2:C100000,'Accounting Data'!E2:E100000,\"8??\",'Accounting Data'!I2:I100000,\"24??\",'Accounting Data'!J2:J100000,\"61??\")+SUMIFS('Accounting Data'!C2:C100000,'Accounting Data'!E2:E100000,\"9??\",'Accounting Data'!I2:I100000,\"24??\",'Accounting Data'!J2:J100000,\"61??\")","v":{"v":0,"d":"0 "}},{"$f":"SUMIFS('Accounting Data'!C2:C100000,'Accounting Data'!H2:H100000,\"7??\",'Accounting Data'!I2:I100000,\"24??\",'Accounting Data'!J2:J100000,\"61??\")+SUMIFS('Accounting Data'!C2:C100000,'Accounting Data'!H2:H100000,\"8??\",'Accounting Data'!I2:I100000,\"24??\",'Accounting Data'!J2:J100000,\"61??\")+SUMIFS('Accounting Data'!C2:C100000,'Accounting Data'!H2:H100000,\"9??\",'Accounting Data'!I2:I100000,\"24??\",'Accounting Data'!J2:J100000,\"61??\")","v":{"v":0,"d":"0 "}},{"$f":"SUMIFS('Accounting Data'!C2:C100000,'Accounting Data'!E2:E100000,\"575\",'Accounting Data'!H2:H100000,\"7??\",'Accounting Data'!I2:I100000,\"24??\",'Accounting Data'!J2:J100000,\"61??\")+SUMIFS('Accounting Data'!C2:C100000,'Accounting Data'!E2:E100000,\"575\",'Accounting Data'!H2:H100000,\"8??\",'Accounting Data'!I2:I100000,\"24??\",'Accounting Data'!J2:J100000,\"61??\")+SUMIFS('Accounting Data'!C2:C100000,'Accounting Data'!E2:E100000,\"575\",'Accounting Data'!H2:H100000,\"9??\",'Accounting Data'!I2:I100000,\"24??\",'Accounting Data'!J2:J100000,\"61??\")","v":{"v":0,"d":"0 "}},{"$f":"SUMIFS('Accounting Data'!C2:C100000,'Accounting Data'!E2:E100000,\"8??\",'Accounting Data'!H2:H100000,\"7??\",'Accounting Data'!I2:I100000,\"24??\",'Accounting Data'!J2:J100000,\"61??\")+SUMIFS('Accounting Data'!C2:C100000,'Accounting Data'!E2:E100000,\"8??\",'Accounting Data'!H2:H100000,\"8??\",'Accounting Data'!I2:I100000,\"24??\",'Accounting Data'!J2:J100000,\"61??\")+SUMIFS('Accounting Data'!C2:C100000,'Accounting Data'!E2:E100000,\"8??\",'Accounting Data'!H2:H100000,\"9??\",'Accounting Data'!I2:I100000,\"24??\",'Accounting Data'!J2:J100000,\"61??\")","v":{"v":0,"d":"0 "}},{"$f":"SUMIFS('Accounting Data'!C2:C100000,'Accounting Data'!E2:E100000,\"9??\",'Accounting Data'!H2:H100000,\"7??\",'Accounting Data'!I2:I100000,\"24??\",'Accounting Data'!J2:J100000,\"61??\")+SUMIFS('Accounting Data'!C2:C100000,'Accounting Data'!E2:E100000,\"9??\",'Accounting Data'!H2:H100000,\"8??\",'Accounting Data'!I2:I100000,\"24??\",'Accounting Data'!J2:J100000,\"61??\")+SUMIFS('Accounting Data'!C2:C100000,'Accounting Data'!E2:E100000,\"9??\",'Accounting Data'!H2:H100000,\"9??\",'Accounting Data'!I2:I100000,\"24??\",'Accounting Data'!J2:J100000,\"61??\")","v":{"v":0,"d":"0 "}},null,2400,{"$f":"SUMIFS('Accounting Data'!C2:C100000,'Accounting Data'!I2:I100000,\"24??\",'Accounting Data'!J2:J100000,\"62??\")","v":{"v":20860,"d":"20,860 "}},{"$f":"SUMIFS('Accounting Data'!C2:C100000,'Accounting Data'!E2:E100000,\"575\",'Accounting Data'!I2:I100000,\"24??\",'Accounting Data'!J2:J100000,\"62??\")+SUMIFS('Accounting Data'!C2:C100000,'Accounting Data'!E2:E100000,\"8??\",'Accounting Data'!I2:I100000,\"24??\",'Accounting Data'!J2:J100000,\"62??\")+SUMIFS('Accounting Data'!C2:C100000,'Accounting Data'!E2:E100000,\"9??\",'Accounting Data'!I2:I100000,\"24??\",'Accounting Data'!J2:J100000,\"62??\")","v":{"v":0,"d":"0 "}},{"$f":"SUMIFS('Accounting Data'!C2:C100000,'Accounting Data'!H2:H100000,\"7??\",'Accounting Data'!I2:I100000,\"24??\",'Accounting Data'!J2:J100000,\"62??\")+SUMIFS('Accounting Data'!C2:C100000,'Accounting Data'!H2:H100000,\"8??\",'Accounting Data'!I2:I100000,\"24??\",'Accounting Data'!J2:J100000,\"62??\")+SUMIFS('Accounting Data'!C2:C100000,'Accounting Data'!H2:H100000,\"9??\",'Accounting Data'!I2:I100000,\"24??\",'Accounting Data'!J2:J100000,\"62??\")","v":{"v":0,"d":"0 "}},{"$f":"SUMIFS('Accounting Data'!C2:C100000,'Accounting Data'!E2:E100000,\"575\",'Accounting Data'!H2:H100000,\"7??\",'Accounting Data'!I2:I100000,\"24??\",'Accounting Data'!J2:J100000,\"62??\")+SUMIFS('Accounting Data'!C2:C100000,'Accounting Data'!E2:E100000,\"575\",'Accounting Data'!H2:H100000,\"8??\",'Accounting Data'!I2:I100000,\"24??\",'Accounting Data'!J2:J100000,\"62??\")+SUMIFS('Accounting Data'!C2:C100000,'Accounting Data'!E2:E100000,\"575\",'Accounting Data'!H2:H100000,\"9??\",'Accounting Data'!I2:I100000,\"24??\",'Accounting Data'!J2:J100000,\"62??\")","v":{"v":0,"d":"0 "}},{"$f":"SUMIFS('Accounting Data'!C2:C100000,'Accounting Data'!E2:E100000,\"8??\",'Accounting Data'!H2:H100000,\"7??\",'Accounting Data'!I2:I100000,\"24??\",'Accounting Data'!J2:J100000,\"62??\")+SUMIFS('Accounting Data'!C2:C100000,'Accounting Data'!E2:E100000,\"8??\",'Accounting Data'!H2:H100000,\"8??\",'Accounting Data'!I2:I100000,\"24??\",'Accounting Data'!J2:J100000,\"62??\")+SUMIFS('Accounting Data'!C2:C100000,'Accounting Data'!E2:E100000,\"8??\",'Accounting Data'!H2:H100000,\"9??\",'Accounting Data'!I2:I100000,\"24??\",'Accounting Data'!J2:J100000,\"62??\")","v":{"v":0,"d":"0 "}},{"$f":"SUMIFS('Accounting Data'!C2:C100000,'Accounting Data'!E2:E100000,\"9??\",'Accounting Data'!H2:H100000,\"7??\",'Accounting Data'!I2:I100000,\"24??\",'Accounting Data'!J2:J100000,\"62??\")+SUMIFS('Accounting Data'!C2:C100000,'Accounting Data'!E2:E100000,\"9??\",'Accounting Data'!H2:H100000,\"8??\",'Accounting Data'!I2:I100000,\"24??\",'Accounting Data'!J2:J100000,\"62??\")+SUMIFS('Accounting Data'!C2:C100000,'Accounting Data'!E2:E100000,\"9??\",'Accounting Data'!H2:H100000,\"9??\",'Accounting Data'!I2:I100000,\"24??\",'Accounting Data'!J2:J100000,\"62??\")","v":{"v":0,"d":"0 "}},null,2400,{"$f":"SUMIFS('Accounting Data'!C2:C100000,'Accounting Data'!I2:I100000,\"24??\",'Accounting Data'!J2:J100000,\"63??\")+SUMIFS('Accounting Data'!C2:C100000,'Accounting Data'!I2:I100000,\"24??\",'Accounting Data'!J2:J100000,\"64??\")+SUMIFS('Accounting Data'!C2:C100000,'Accounting Data'!I2:I100000,\"24??\",'Accounting Data'!J2:J100000,\"65??\")","v":{"v":25636,"d":"25,636 "}},{"$f":"SUMIFS('Accounting Data'!C2:C100000,'Accounting Data'!E2:E100000,\"575\",'Accounting Data'!I2:I100000,\"24??\",'Accounting Data'!J2:J100000,\"63??\")+SUMIFS('Accounting Data'!C2:C100000,'Accounting Data'!E2:E100000,\"8??\",'Accounting Data'!I2:I100000,\"24??\",'Accounting Data'!J2:J100000,\"63??\")+SUMIFS('Accounting Data'!C2:C100000,'Accounting Data'!E2:E100000,\"9??\",'Accounting Data'!I2:I100000,\"24??\",'Accounting Data'!J2:J100000,\"63??\")","v":{"v":0,"d":"0 "}},{"$f":"SUMIFS('Accounting Data'!C2:C100000,'Accounting Data'!E2:E100000,\"575\",'Accounting Data'!I2:I100000,\"24??\",'Accounting Data'!J2:J100000,\"64??\")+SUMIFS('Accounting Data'!C2:C100000,'Accounting Data'!E2:E100000,\"8??\",'Accounting Data'!I2:I100000,\"24??\",'Accounting Data'!J2:J100000,\"64??\")+SUMIFS('Accounting Data'!C2:C100000,'Accounting Data'!E2:E100000,\"9??\",'Accounting Data'!I2:I100000,\"24??\",'Accounting Data'!J2:J100000,\"64??\")","v":{"v":0,"d":"0 "}},{"$f":"SUMIFS('Accounting Data'!C2:C100000,'Accounting Data'!E2:E100000,\"575\",'Accounting Data'!I2:I100000,\"24??\",'Accounting Data'!J2:J100000,\"65??\")+SUMIFS('Accounting Data'!C2:C100000,'Accounting Data'!E2:E100000,\"8??\",'Accounting Data'!I2:I100000,\"24??\",'Accounting Data'!J2:J100000,\"65??\")+SUMIFS('Accounting Data'!C2:C100000,'Accounting Data'!E2:E100000,\"9??\",'Accounting Data'!I2:I100000,\"24??\",'Accounting Data'!J2:J100000,\"65??\")","v":{"v":0,"d":"0 "}},{"$f":"SUMIFS('Accounting Data'!C2:C100000,'Accounting Data'!H2:H100000,\"7??\",'Accounting Data'!I2:I100000,\"24??\",'Accounting Data'!J2:J100000,\"63??\")+SUMIFS('Accounting Data'!C2:C100000,'Accounting Data'!H2:H100000,\"8??\",'Accounting Data'!I2:I100000,\"24??\",'Accounting Data'!J2:J100000,\"63??\")+SUMIFS('Accounting Data'!C2:C100000,'Accounting Data'!H2:H100000,\"9??\",'Accounting Data'!I2:I100000,\"24??\",'Accounting Data'!J2:J100000,\"63??\")+SUMIFS('Accounting Data'!C2:C100000,'Accounting Data'!H2:H100000,\"7??\",'Accounting Data'!I2:I100000,\"24??\",'Accounting Data'!J2:J100000,\"64??\")+SUMIFS('Accounting Data'!C2:C100000,'Accounting Data'!H2:H100000,\"8??\",'Accounting Data'!I2:I100000,\"24??\",'Accounting Data'!J2:J100000,\"64??\")+SUMIFS('Accounting Data'!C2:C100000,'Accounting Data'!H2:H100000,\"9??\",'Accounting Data'!I2:I100000,\"24??\",'Accounting Data'!J2:J100000,\"64??\")+SUMIFS('Accounting Data'!C2:C100000,'Accounting Data'!H2:H100000,\"7??\",'Accounting Data'!I2:I100000,\"24??\",'Accounting Data'!J2:J100000,\"65??\")+SUMIFS('Accounting Data'!C2:C100000,'Accounting Data'!H2:H100000,\"8??\",'Accounting Data'!I2:I100000,\"24??\",'Accounting Data'!J2:J100000,\"65??\")+SUMIFS('Accounting Data'!C2:C100000,'Accounting Data'!H2:H100000,\"9??\",'Accounting Data'!I2:I100000,\"24??\",'Accounting Data'!J2:J100000,\"65??\")","v":{"v":0,"d":"0 "}},{"$f":"SUMIFS('Accounting Data'!C$2:C$100000,'Accounting Data'!E$2:E$100000,\"575\",'Accounting Data'!H$2:H$100000,\"7??\",'Accounting Data'!I$2:I$100000,\"24??\",'Accounting Data'!J$2:J$100000,\"63??\")+SUMIFS('Accounting Data'!C$2:C$100000,'Accounting Data'!E$2:E$100000,\"575\",'Accounting Data'!H$2:H$100000,\"8??\",'Accounting Data'!I$2:I$100000,\"24??\",'Accounting Data'!J$2:J$100000,\"63??\")+SUMIFS('Accounting Data'!C$2:C$100000,'Accounting Data'!E$2:E$100000,\"575\",'Accounting Data'!H$2:H$100000,\"9??\",'Accounting Data'!I$2:I$100000,\"24??\",'Accounting Data'!J$2:J$100000,\"63??\")","v":{"v":0,"d":"0 "}},{"$f":"SUMIFS('Accounting Data'!C2:C100000,'Accounting Data'!E2:E100000,\"575\",'Accounting Data'!H2:H100000,\"7??\",'Accounting Data'!I2:I100000,\"24??\",'Accounting Data'!J2:J100000,\"64??\")+SUMIFS('Accounting Data'!C2:C100000,'Accounting Data'!E2:E100000,\"575\",'Accounting Data'!H2:H100000,\"8??\",'Accounting Data'!I2:I100000,\"24??\",'Accounting Data'!J2:J100000,\"64??\")+SUMIFS('Accounting Data'!C2:C100000,'Accounting Data'!E2:E100000,\"575\",'Accounting Data'!H2:H100000,\"9??\",'Accounting Data'!I2:I100000,\"24??\",'Accounting Data'!J2:J100000,\"64??\")","v":{"v":0,"d":"0 "}},{"$f":"SUMIFS('Accounting Data'!C2:C100000,'Accounting Data'!E2:E100000,\"575\",'Accounting Data'!H2:H100000,\"7??\",'Accounting Data'!I2:I100000,\"24??\",'Accounting Data'!J2:J100000,\"65??\")+SUMIFS('Accounting Data'!C2:C100000,'Accounting Data'!E2:E100000,\"575\",'Accounting Data'!H2:H100000,\"8??\",'Accounting Data'!I2:I100000,\"24??\",'Accounting Data'!J2:J100000,\"65??\")+SUMIFS('Accounting Data'!C2:C100000,'Accounting Data'!E2:E100000,\"575\",'Accounting Data'!H2:H100000,\"9??\",'Accounting Data'!I2:I100000,\"24??\",'Accounting Data'!J2:J100000,\"65??\")","v":{"v":0,"d":"0 "}},{"$f":"SUMIFS('Accounting Data'!C2:C100000,'Accounting Data'!E2:E100000,\"8??\",'Accounting Data'!H2:H100000,\"7??\",'Accounting Data'!I2:I100000,\"24??\",'Accounting Data'!J2:J100000,\"63??\")+SUMIFS('Accounting Data'!C2:C100000,'Accounting Data'!E2:E100000,\"8??\",'Accounting Data'!H2:H100000,\"8??\",'Accounting Data'!I2:I100000,\"24??\",'Accounting Data'!J2:J100000,\"63??\")+SUMIFS('Accounting Data'!C2:C100000,'Accounting Data'!E2:E100000,\"8??\",'Accounting Data'!H2:H100000,\"9??\",'Accounting Data'!I2:I100000,\"24??\",'Accounting Data'!J2:J100000,\"63??\")","v":{"v":0,"d":"0 "}},{"$f":"SUMIFS('Accounting Data'!C2:C100000,'Accounting Data'!E2:E100000,\"8??\",'Accounting Data'!H2:H100000,\"7??\",'Accounting Data'!I2:I100000,\"24??\",'Accounting Data'!J2:J100000,\"64??\")+SUMIFS('Accounting Data'!C2:C100000,'Accounting Data'!E2:E100000,\"8??\",'Accounting Data'!H2:H100000,\"8??\",'Accounting Data'!I2:I100000,\"24??\",'Accounting Data'!J2:J100000,\"64??\")+SUMIFS('Accounting Data'!C2:C100000,'Accounting Data'!E2:E100000,\"8??\",'Accounting Data'!H2:H100000,\"9??\",'Accounting Data'!I2:I100000,\"24??\",'Accounting Data'!J2:J100000,\"64??\")","v":{"v":0,"d":"0 "}},{"$f":"SUMIFS('Accounting Data'!C2:C100000,'Accounting Data'!E2:E100000,\"8??\",'Accounting Data'!H2:H100000,\"7??\",'Accounting Data'!I2:I100000,\"24??\",'Accounting Data'!J2:J100000,\"65??\")+SUMIFS('Accounting Data'!C2:C100000,'Accounting Data'!E2:E100000,\"8??\",'Accounting Data'!H2:H100000,\"8??\",'Accounting Data'!I2:I100000,\"24??\",'Accounting Data'!J2:J100000,\"65??\")+SUMIFS('Accounting Data'!C2:C100000,'Accounting Data'!E2:E100000,\"8??\",'Accounting Data'!H2:H100000,\"9??\",'Accounting Data'!I2:I100000,\"24??\",'Accounting Data'!J2:J100000,\"65??\")","v":{"v":0,"d":"0 "}},{"$f":"SUMIFS('Accounting Data'!C2:C100000,'Accounting Data'!E2:E100000,\"9??\",'Accounting Data'!H2:H100000,\"7??\",'Accounting Data'!I2:I100000,\"24??\",'Accounting Data'!J2:J100000,\"63??\")+SUMIFS('Accounting Data'!C2:C100000,'Accounting Data'!E2:E100000,\"9??\",'Accounting Data'!H2:H100000,\"8??\",'Accounting Data'!I2:I100000,\"24??\",'Accounting Data'!J2:J100000,\"63??\")+SUMIFS('Accounting Data'!C2:C100000,'Accounting Data'!E2:E100000,\"9??\",'Accounting Data'!H2:H100000,\"9??\",'Accounting Data'!I2:I100000,\"24??\",'Accounting Data'!J2:J100000,\"63??\")","v":{"v":0,"d":"0 "}},{"$f":"SUMIFS('Accounting Data'!C2:C100000,'Accounting Data'!E2:E100000,\"9??\",'Accounting Data'!H2:H100000,\"7??\",'Accounting Data'!I2:I100000,\"24??\",'Accounting Data'!J2:J100000,\"64??\")+SUMIFS('Accounting Data'!C2:C100000,'Accounting Data'!E2:E100000,\"9??\",'Accounting Data'!H2:H100000,\"8??\",'Accounting Data'!I2:I100000,\"24??\",'Accounting Data'!J2:J100000,\"64??\")+SUMIFS('Accounting Data'!C2:C100000,'Accounting Data'!E2:E100000,\"9??\",'Accounting Data'!H2:H100000,\"9??\",'Accounting Data'!I2:I100000,\"24??\",'Accounting Data'!J2:J100000,\"64??\")","v":{"v":0,"d":"0 "}},{"$f":"SUMIFS('Accounting Data'!C2:C100000,'Accounting Data'!E2:E100000,\"9??\",'Accounting Data'!H2:H100000,\"7??\",'Accounting Data'!I2:I100000,\"24??\",'Accounting Data'!J2:J100000,\"65??\")+SUMIFS('Accounting Data'!C2:C100000,'Accounting Data'!E2:E100000,\"9??\",'Accounting Data'!H2:H100000,\"8??\",'Accounting Data'!I2:I100000,\"24??\",'Accounting Data'!J2:J100000,\"65??\")+SUMIFS('Accounting Data'!C2:C100000,'Accounting Data'!E2:E100000,\"9??\",'Accounting Data'!H2:H100000,\"9??\",'Accounting Data'!I2:I100000,\"24??\",'Accounting Data'!J2:J100000,\"65??\")","v":{"v":0,"d":"0 "}},null,2400,{"$f":"SUMIFS('Accounting Data'!C2:C100000,'Accounting Data'!I2:I100000,\"24??\",'Accounting Data'!J2:J100000,\"66??\")","v":{"v":459,"d":"459 "}},{"$f":"SUMIFS('Accounting Data'!$C$2:$C$100000,'Accounting Data'!$E$2:$E$100000,\"575\",'Accounting Data'!$I$2:$I$100000,\"24??\",'Accounting Data'!$J$2:$J$100000,\"66??\")+SUMIFS('Accounting Data'!$C$2:$C$100000,'Accounting Data'!$E$2:$E$100000,\"8??\",'Accounting Data'!$I$2:$I$100000,\"24??\",'Accounting Data'!$J$2:$J$100000,\"66??\")+SUMIFS('Accounting Data'!$C$2:$C$100000,'Accounting Data'!$E$2:$E$100000,\"9??\",'Accounting Data'!$I$2:$I$100000,\"24??\",'Accounting Data'!$J$2:$J$100000,\"66??\")","v":{"v":0,"d":"0 "}},{"$f":"SUMIFS('Accounting Data'!$C$2:$C$100000,'Accounting Data'!$H$2:$H$100000,\"7??\",'Accounting Data'!$I$2:$I$100000,\"24??\",'Accounting Data'!$J$2:$J$100000,\"66??\")+SUMIFS('Accounting Data'!$C$2:$C$100000,'Accounting Data'!$H$2:$H$100000,\"8??\",'Accounting Data'!$I$2:$I$100000,\"24??\",'Accounting Data'!$J$2:$J$100000,\"66??\")+SUMIFS('Accounting Data'!$C$2:$C$100000,'Accounting Data'!$H$2:$H$100000,\"9??\",'Accounting Data'!$I$2:$I$100000,\"24??\",'Accounting Data'!$J$2:$J$100000,\"66??\")","v":{"v":0,"d":"0 "}},{"$f":"SUMIFS('Accounting Data'!$C$2:$C$100000,'Accounting Data'!$E$2:$E$100000,\"575\",'Accounting Data'!$H$2:$H$100000,\"7??\",'Accounting Data'!$I$2:$I$100000,\"24??\",'Accounting Data'!$J$2:$J$100000,\"66??\")+SUMIFS('Accounting Data'!$C$2:$C$100000,'Accounting Data'!$E$2:$E$100000,\"575\",'Accounting Data'!$H$2:$H$100000,\"8??\",'Accounting Data'!$I$2:$I$100000,\"24??\",'Accounting Data'!$J$2:$J$100000,\"66??\")+SUMIFS('Accounting Data'!$C$2:$C$100000,'Accounting Data'!$E$2:$E$100000,\"575\",'Accounting Data'!$H$2:$H$100000,\"9??\",'Accounting Data'!$I$2:$I$100000,\"24??\",'Accounting Data'!$J$2:$J$100000,\"66??\")","v":{"v":0,"d":"0 "}},{"$f":"SUMIFS('Accounting Data'!$C$2:$C$100000,'Accounting Data'!$E$2:$E$100000,\"8??\",'Accounting Data'!$H$2:$H$100000,\"7??\",'Accounting Data'!$I$2:$I$100000,\"24??\",'Accounting Data'!$J$2:$J$100000,\"66??\")+SUMIFS('Accounting Data'!$C$2:$C$100000,'Accounting Data'!$E$2:$E$100000,\"8??\",'Accounting Data'!$H$2:$H$100000,\"8??\",'Accounting Data'!$I$2:$I$100000,\"24??\",'Accounting Data'!$J$2:$J$100000,\"66??\")+SUMIFS('Accounting Data'!$C$2:$C$100000,'Accounting Data'!$E$2:$E$100000,\"8??\",'Accounting Data'!$H$2:$H$100000,\"9??\",'Accounting Data'!$I$2:$I$100000,\"24??\",'Accounting Data'!$J$2:$J$100000,\"66??\")","v":{"v":0,"d":"0 "}},{"$f":"SUMIFS('Accounting Data'!$C$2:$C$100000,'Accounting Data'!$E$2:$E$100000,\"9??\",'Accounting Data'!$H$2:$H$100000,\"7??\",'Accounting Data'!$I$2:$I$100000,\"24??\",'Accounting Data'!$J$2:$J$100000,\"66??\")+SUMIFS('Accounting Data'!$C$2:$C$100000,'Accounting Data'!$E$2:$E$100000,\"9??\",'Accounting Data'!$H$2:$H$100000,\"8??\",'Accounting Data'!$I$2:$I$100000,\"24??\",'Accounting Data'!$J$2:$J$100000,\"66??\")+SUMIFS('Accounting Data'!$C$2:$C$100000,'Accounting Data'!$E$2:$E$100000,\"9??\",'Accounting Data'!$H$2:$H$100000,\"9??\",'Accounting Data'!$I$2:$I$100000,\"24??\",'Accounting Data'!$J$2:$J$100000,\"66??\")","v":{"v":0,"d":"0 "}},null,2400,{"$f":"SUMIFS('Accounting Data'!C2:C100000,'Accounting Data'!I2:I100000,\"24??\",'Accounting Data'!J2:J100000,\"67??\")","v":{"v":0,"d":"0 "}},{"$f":"SUMIFS('Accounting Data'!$C$2:$C$100000,'Accounting Data'!$E$2:$E$100000,\"575\",'Accounting Data'!$I$2:$I$100000,\"24??\",'Accounting Data'!$J$2:$J$100000,\"67??\")+SUMIFS('Accounting Data'!$C$2:$C$100000,'Accounting Data'!$E$2:$E$100000,\"8??\",'Accounting Data'!$I$2:$I$100000,\"24??\",'Accounting Data'!$J$2:$J$100000,\"67??\")+SUMIFS('Accounting Data'!$C$2:$C$100000,'Accounting Data'!$E$2:$E$100000,\"9??\",'Accounting Data'!$I$2:$I$100000,\"24??\",'Accounting Data'!$J$2:$J$100000,\"67??\")","v":{"v":0,"d":"0 "}},{"$f":"SUMIFS('Accounting Data'!$C$2:$C$100000,'Accounting Data'!$H$2:$H$100000,\"7??\",'Accounting Data'!$I$2:$I$100000,\"24??\",'Accounting Data'!$J$2:$J$100000,\"67??\")+SUMIFS('Accounting Data'!$C$2:$C$100000,'Accounting Data'!$H$2:$H$100000,\"8??\",'Accounting Data'!$I$2:$I$100000,\"24??\",'Accounting Data'!$J$2:$J$100000,\"67??\")+SUMIFS('Accounting Data'!$C$2:$C$100000,'Accounting Data'!$H$2:$H$100000,\"9??\",'Accounting Data'!$I$2:$I$100000,\"24??\",'Accounting Data'!$J$2:$J$100000,\"67??\")","v":{"v":0,"d":"0 "}},{"$f":"SUMIFS('Accounting Data'!$C$2:$C$100000,'Accounting Data'!$E$2:$E$100000,\"575\",'Accounting Data'!$H$2:$H$100000,\"7??\",'Accounting Data'!$I$2:$I$100000,\"24??\",'Accounting Data'!$J$2:$J$100000,\"67??\")+SUMIFS('Accounting Data'!$C$2:$C$100000,'Accounting Data'!$E$2:$E$100000,\"575\",'Accounting Data'!$H$2:$H$100000,\"8??\",'Accounting Data'!$I$2:$I$100000,\"24??\",'Accounting Data'!$J$2:$J$100000,\"67??\")+SUMIFS('Accounting Data'!$C$2:$C$100000,'Accounting Data'!$E$2:$E$100000,\"575\",'Accounting Data'!$H$2:$H$100000,\"9??\",'Accounting Data'!$I$2:$I$100000,\"24??\",'Accounting Data'!$J$2:$J$100000,\"67??\")","v":{"v":0,"d":"0 "}},{"$f":"SUMIFS('Accounting Data'!$C$2:$C$100000,'Accounting Data'!$E$2:$E$100000,\"8??\",'Accounting Data'!$H$2:$H$100000,\"7??\",'Accounting Data'!$I$2:$I$100000,\"24??\",'Accounting Data'!$J$2:$J$100000,\"67??\")+SUMIFS('Accounting Data'!$C$2:$C$100000,'Accounting Data'!$E$2:$E$100000,\"8??\",'Accounting Data'!$H$2:$H$100000,\"8??\",'Accounting Data'!$I$2:$I$100000,\"24??\",'Accounting Data'!$J$2:$J$100000,\"67??\")+SUMIFS('Accounting Data'!$C$2:$C$100000,'Accounting Data'!$E$2:$E$100000,\"8??\",'Accounting Data'!$H$2:$H$100000,\"9??\",'Accounting Data'!$I$2:$I$100000,\"24??\",'Accounting Data'!$J$2:$J$100000,\"67??\")","v":{"v":0,"d":"0 "}},{"$f":"SUMIFS('Accounting Data'!$C$2:$C$100000,'Accounting Data'!$E$2:$E$100000,\"9??\",'Accounting Data'!$H$2:$H$100000,\"7??\",'Accounting Data'!$I$2:$I$100000,\"24??\",'Accounting Data'!$J$2:$J$100000,\"67??\")+SUMIFS('Accounting Data'!$C$2:$C$100000,'Accounting Data'!$E$2:$E$100000,\"9??\",'Accounting Data'!$H$2:$H$100000,\"8??\",'Accounting Data'!$I$2:$I$100000,\"24??\",'Accounting Data'!$J$2:$J$100000,\"67??\")+SUMIFS('Accounting Data'!$C$2:$C$100000,'Accounting Data'!$E$2:$E$100000,\"9??\",'Accounting Data'!$H$2:$H$100000,\"9??\",'Accounting Data'!$I$2:$I$100000,\"24??\",'Accounting Data'!$J$2:$J$100000,\"67??\")","v":{"v":0,"d":"0 "}},null,2400,{"$f":"SUMIFS('Accounting Data'!C2:C100000,'Accounting Data'!I2:I100000,\"24??\",'Accounting Data'!J2:J100000,\"681?\")","v":{"v":0,"d":"0 "}},{"$f":"SUMIFS('Accounting Data'!$C$2:$C$100000,'Accounting Data'!$E$2:$E$100000,\"575\",'Accounting Data'!$I$2:$I$100000,\"24??\",'Accounting Data'!$J$2:$J$100000,\"681?\")+SUMIFS('Accounting Data'!$C$2:$C$100000,'Accounting Data'!$E$2:$E$100000,\"8??\",'Accounting Data'!$I$2:$I$100000,\"24??\",'Accounting Data'!$J$2:$J$100000,\"681?\")+SUMIFS('Accounting Data'!$C$2:$C$100000,'Accounting Data'!$E$2:$E$100000,\"9??\",'Accounting Data'!$I$2:$I$100000,\"24??\",'Accounting Data'!$J$2:$J$100000,\"681?\")","v":{"v":0,"d":"0 "}},{"$f":"SUMIFS('Accounting Data'!$C$2:$C$100000,'Accounting Data'!$H$2:$H$100000,\"7??\",'Accounting Data'!$I$2:$I$100000,\"24??\",'Accounting Data'!$J$2:$J$100000,\"681?\")+SUMIFS('Accounting Data'!$C$2:$C$100000,'Accounting Data'!$H$2:$H$100000,\"8??\",'Accounting Data'!$I$2:$I$100000,\"24??\",'Accounting Data'!$J$2:$J$100000,\"681?\")+SUMIFS('Accounting Data'!$C$2:$C$100000,'Accounting Data'!$H$2:$H$100000,\"9??\",'Accounting Data'!$I$2:$I$100000,\"24??\",'Accounting Data'!$J$2:$J$100000,\"681?\")","v":{"v":0,"d":"0 "}},{"$f":"SUMIFS('Accounting Data'!$C$2:$C$100000,'Accounting Data'!$E$2:$E$100000,\"575\",'Accounting Data'!$H$2:$H$100000,\"7??\",'Accounting Data'!$I$2:$I$100000,\"24??\",'Accounting Data'!$J$2:$J$100000,\"681?\")+SUMIFS('Accounting Data'!$C$2:$C$100000,'Accounting Data'!$E$2:$E$100000,\"575\",'Accounting Data'!$H$2:$H$100000,\"8??\",'Accounting Data'!$I$2:$I$100000,\"24??\",'Accounting Data'!$J$2:$J$100000,\"681?\")+SUMIFS('Accounting Data'!$C$2:$C$100000,'Accounting Data'!$E$2:$E$100000,\"575\",'Accounting Data'!$H$2:$H$100000,\"9??\",'Accounting Data'!$I$2:$I$100000,\"24??\",'Accounting Data'!$J$2:$J$100000,\"681?\")","v":{"v":0,"d":"0 "}},{"$f":"SUMIFS('Accounting Data'!$C$2:$C$100000,'Accounting Data'!$E$2:$E$100000,\"8??\",'Accounting Data'!$H$2:$H$100000,\"7??\",'Accounting Data'!$I$2:$I$100000,\"24??\",'Accounting Data'!$J$2:$J$100000,\"681?\")+SUMIFS('Accounting Data'!$C$2:$C$100000,'Accounting Data'!$E$2:$E$100000,\"8??\",'Accounting Data'!$H$2:$H$100000,\"8??\",'Accounting Data'!$I$2:$I$100000,\"24??\",'Accounting Data'!$J$2:$J$100000,\"681?\")+SUMIFS('Accounting Data'!$C$2:$C$100000,'Accounting Data'!$E$2:$E$100000,\"8??\",'Accounting Data'!$H$2:$H$100000,\"9??\",'Accounting Data'!$I$2:$I$100000,\"24??\",'Accounting Data'!$J$2:$J$100000,\"681?\")","v":{"v":0,"d":"0 "}},{"$f":"SUMIFS('Accounting Data'!$C$2:$C$100000,'Accounting Data'!$E$2:$E$100000,\"9??\",'Accounting Data'!$H$2:$H$100000,\"7??\",'Accounting Data'!$I$2:$I$100000,\"24??\",'Accounting Data'!$J$2:$J$100000,\"681?\")+SUMIFS('Accounting Data'!$C$2:$C$100000,'Accounting Data'!$E$2:$E$100000,\"9??\",'Accounting Data'!$H$2:$H$100000,\"8??\",'Accounting Data'!$I$2:$I$100000,\"24??\",'Accounting Data'!$J$2:$J$100000,\"681?\")+SUMIFS('Accounting Data'!$C$2:$C$100000,'Accounting Data'!$E$2:$E$100000,\"9??\",'Accounting Data'!$H$2:$H$100000,\"9??\",'Accounting Data'!$I$2:$I$100000,\"24??\",'Accounting Data'!$J$2:$J$100000,\"681?\")","v":{"v":0,"d":"0 "}},null,"Object 6850",{"$nulls":15},2400,{"$f":"SUMIFS('Accounting Data'!C2:C100000,'Accounting Data'!I2:I100000,\"24??\",'Accounting Data'!J2:J100000,\"689?\")","v":{"v":0,"d":"0 "}},{"$f":"SUMIFS('Accounting Data'!$C$2:$C$100000,'Accounting Data'!$E$2:$E$100000,\"575\",'Accounting Data'!$I$2:$I$100000,\"24??\",'Accounting Data'!$J$2:$J$100000,\"689?\")+SUMIFS('Accounting Data'!$C$2:$C$100000,'Accounting Data'!$E$2:$E$100000,\"8??\",'Accounting Data'!$I$2:$I$100000,\"24??\",'Accounting Data'!$J$2:$J$100000,\"689?\")+SUMIFS('Accounting Data'!$C$2:$C$100000,'Accounting Data'!$E$2:$E$100000,\"9??\",'Accounting Data'!$I$2:$I$100000,\"24??\",'Accounting Data'!$J$2:$J$100000,\"689?\")","v":{"v":0,"d":"0 "}},{"$f":"SUMIFS('Accounting Data'!$C$2:$C$100000,'Accounting Data'!$H$2:$H$100000,\"7??\",'Accounting Data'!$I$2:$I$100000,\"24??\",'Accounting Data'!$J$2:$J$100000,\"689?\")+SUMIFS('Accounting Data'!$C$2:$C$100000,'Accounting Data'!$H$2:$H$100000,\"8??\",'Accounting Data'!$I$2:$I$100000,\"24??\",'Accounting Data'!$J$2:$J$100000,\"689?\")+SUMIFS('Accounting Data'!$C$2:$C$100000,'Accounting Data'!$H$2:$H$100000,\"9??\",'Accounting Data'!$I$2:$I$100000,\"24??\",'Accounting Data'!$J$2:$J$100000,\"689?\")","v":{"v":0,"d":"0 "}},{"$f":"SUMIFS('Accounting Data'!$C$2:$C$100000,'Accounting Data'!$E$2:$E$100000,\"575\",'Accounting Data'!$H$2:$H$100000,\"7??\",'Accounting Data'!$I$2:$I$100000,\"24??\",'Accounting Data'!$J$2:$J$100000,\"689?\")+SUMIFS('Accounting Data'!$C$2:$C$100000,'Accounting Data'!$E$2:$E$100000,\"575\",'Accounting Data'!$H$2:$H$100000,\"8??\",'Accounting Data'!$I$2:$I$100000,\"24??\",'Accounting Data'!$J$2:$J$100000,\"689?\")+SUMIFS('Accounting Data'!$C$2:$C$100000,'Accounting Data'!$E$2:$E$100000,\"575\",'Accounting Data'!$H$2:$H$100000,\"9??\",'Accounting Data'!$I$2:$I$100000,\"24??\",'Accounting Data'!$J$2:$J$100000,\"689?\")","v":{"v":0,"d":"0 "}},{"$f":"SUMIFS('Accounting Data'!$C$2:$C$100000,'Accounting Data'!$E$2:$E$100000,\"8??\",'Accounting Data'!$H$2:$H$100000,\"7??\",'Accounting Data'!$I$2:$I$100000,\"24??\",'Accounting Data'!$J$2:$J$100000,\"689?\")+SUMIFS('Accounting Data'!$C$2:$C$100000,'Accounting Data'!$E$2:$E$100000,\"8??\",'Accounting Data'!$H$2:$H$100000,\"8??\",'Accounting Data'!$I$2:$I$100000,\"24??\",'Accounting Data'!$J$2:$J$100000,\"689?\")+SUMIFS('Accounting Data'!$C$2:$C$100000,'Accounting Data'!$E$2:$E$100000,\"8??\",'Accounting Data'!$H$2:$H$100000,\"9??\",'Accounting Data'!$I$2:$I$100000,\"24??\",'Accounting Data'!$J$2:$J$100000,\"689?\")","v":{"v":0,"d":"0 "}},{"$f":"SUMIFS('Accounting Data'!$C$2:$C$100000,'Accounting Data'!$E$2:$E$100000,\"9??\",'Accounting Data'!$H$2:$H$100000,\"7??\",'Accounting Data'!$I$2:$I$100000,\"24??\",'Accounting Data'!$J$2:$J$100000,\"689?\")+SUMIFS('Accounting Data'!$C$2:$C$100000,'Accounting Data'!$E$2:$E$100000,\"9??\",'Accounting Data'!$H$2:$H$100000,\"8??\",'Accounting Data'!$I$2:$I$100000,\"24??\",'Accounting Data'!$J$2:$J$100000,\"689?\")+SUMIFS('Accounting Data'!$C$2:$C$100000,'Accounting Data'!$E$2:$E$100000,\"9??\",'Accounting Data'!$H$2:$H$100000,\"9??\",'Accounting Data'!$I$2:$I$100000,\"24??\",'Accounting Data'!$J$2:$J$100000,\"689?\")","v":{"v":0,"d":"0 "}},null,2400,{"$f":"SUMIFS('Accounting Data'!$C$2:$C$100000,'Accounting Data'!$H$2:$H$100000,\"7??\",'Accounting Data'!$I$2:$I$100000,\"24??\",'Accounting Data'!$J$2:$J$100000,\"6???\")+SUMIFS('Accounting Data'!$C$2:$C$100000,'Accounting Data'!$H$2:$H$100000,\"8??\",'Accounting Data'!$I$2:$I$100000,\"24??\",'Accounting Data'!$J$2:$J$100000,\"6???\")+SUMIFS('Accounting Data'!$C$2:$C$100000,'Accounting Data'!$H$2:$H$100000,\"9??\",'Accounting Data'!$I$2:$I$100000,\"24??\",'Accounting Data'!$J$2:$J$100000,\"6???\")","v":{"v":0,"d":"0 "}},{"$f":"SUMIFS('Accounting Data'!$C$2:$C$100000,'Accounting Data'!$H$2:$H$100000,\"7??\",'Accounting Data'!$I$2:$I$100000,\"24??\",'Accounting Data'!$J$2:$J$100000,\"69??\")+SUMIFS('Accounting Data'!$C$2:$C$100000,'Accounting Data'!$H$2:$H$100000,\"8??\",'Accounting Data'!$I$2:$I$100000,\"24??\",'Accounting Data'!$J$2:$J$100000,\"69??\")+SUMIFS('Accounting Data'!$C$2:$C$100000,'Accounting Data'!$H$2:$H$100000,\"9??\",'Accounting Data'!$I$2:$I$100000,\"24??\",'Accounting Data'!$J$2:$J$100000,\"69??\")","v":{"v":0,"d":"0 "}},{"$f":"SUMIFS('Accounting Data'!$C$2:$C$100000,'Accounting Data'!$E$2:$E$100000,\"575\",'Accounting Data'!$H$2:$H$100000,\"7??\",'Accounting Data'!$I$2:$I$100000,\"24??\",'Accounting Data'!$J$2:$J$100000,\"6???\")+SUMIFS('Accounting Data'!$C$2:$C$100000,'Accounting Data'!$E$2:$E$100000,\"575\",'Accounting Data'!$H$2:$H$100000,\"8??\",'Accounting Data'!$I$2:$I$100000,\"24??\",'Accounting Data'!$J$2:$J$100000,\"6???\")+SUMIFS('Accounting Data'!$C$2:$C$100000,'Accounting Data'!$E$2:$E$100000,\"575\",'Accounting Data'!$H$2:$H$100000,\"9??\",'Accounting Data'!$I$2:$I$100000,\"24??\",'Accounting Data'!$J$2:$J$100000,\"6???\")","v":{"v":0,"d":"0 "}},{"$f":"SUMIFS('Accounting Data'!$C$2:$C$100000,'Accounting Data'!$E$2:$E$100000,\"8??\",'Accounting Data'!$H$2:$H$100000,\"7??\",'Accounting Data'!$I$2:$I$100000,\"24??\",'Accounting Data'!$J$2:$J$100000,\"6???\")+SUMIFS('Accounting Data'!$C$2:$C$100000,'Accounting Data'!$E$2:$E$100000,\"8??\",'Accounting Data'!$H$2:$H$100000,\"8??\",'Accounting Data'!$I$2:$I$100000,\"24??\",'Accounting Data'!$J$2:$J$100000,\"6???\")+SUMIFS('Accounting Data'!$C$2:$C$100000,'Accounting Data'!$E$2:$E$100000,\"8??\",'Accounting Data'!$H$2:$H$100000,\"9??\",'Accounting Data'!$I$2:$I$100000,\"24??\",'Accounting Data'!$J$2:$J$100000,\"6???\")+SUMIFS('Accounting Data'!$C$2:$C$100000,'Accounting Data'!$E$2:$E$100000,\"9??\",'Accounting Data'!$H$2:$H$100000,\"7??\",'Accounting Data'!$I$2:$I$100000,\"24??\",'Accounting Data'!$J$2:$J$100000,\"6???\")+SUMIFS('Accounting Data'!$C$2:$C$100000,'Accounting Data'!$E$2:$E$100000,\"9??\",'Accounting Data'!$H$2:$H$100000,\"8??\",'Accounting Data'!$I$2:$I$100000,\"24??\",'Accounting Data'!$J$2:$J$100000,\"6???\")+SUMIFS('Accounting Data'!$C$2:$C$100000,'Accounting Data'!$E$2:$E$100000,\"9??\",'Accounting Data'!$H$2:$H$100000,\"9??\",'Accounting Data'!$I$2:$I$100000,\"24??\",'Accounting Data'!$J$2:$J$100000,\"6???\")","v":{"v":0,"d":"0 "}},{"$f":"SUMIFS('Accounting Data'!$C$2:$C$100000,'Accounting Data'!$E$2:$E$100000,\"575\",'Accounting Data'!$H$2:$H$100000,\"7??\",'Accounting Data'!$I$2:$I$100000,\"24??\",'Accounting Data'!$J$2:$J$100000,\"69??\")+SUMIFS('Accounting Data'!$C$2:$C$100000,'Accounting Data'!$E$2:$E$100000,\"575\",'Accounting Data'!$H$2:$H$100000,\"8??\",'Accounting Data'!$I$2:$I$100000,\"24??\",'Accounting Data'!$J$2:$J$100000,\"69??\")+SUMIFS('Accounting Data'!$C$2:$C$100000,'Accounting Data'!$E$2:$E$100000,\"575\",'Accounting Data'!$H$2:$H$100000,\"9??\",'Accounting Data'!$I$2:$I$100000,\"24??\",'Accounting Data'!$J$2:$J$100000,\"69??\")","v":{"v":0,"d":"0 "}},{"$f":"SUMIFS('Accounting Data'!$C$2:$C$100000,'Accounting Data'!$E$2:$E$100000,\"8??\",'Accounting Data'!$H$2:$H$100000,\"7??\",'Accounting Data'!$I$2:$I$100000,\"24??\",'Accounting Data'!$J$2:$J$100000,\"69??\")+SUMIFS('Accounting Data'!$C$2:$C$100000,'Accounting Data'!$E$2:$E$100000,\"8??\",'Accounting Data'!$H$2:$H$100000,\"8??\",'Accounting Data'!$I$2:$I$100000,\"24??\",'Accounting Data'!$J$2:$J$100000,\"69??\")+SUMIFS('Accounting Data'!$C$2:$C$100000,'Accounting Data'!$E$2:$E$100000,\"8??\",'Accounting Data'!$H$2:$H$100000,\"9??\",'Accounting Data'!$I$2:$I$100000,\"24??\",'Accounting Data'!$J$2:$J$100000,\"69??\")+SUMIFS('Accounting Data'!$C$2:$C$100000,'Accounting Data'!$E$2:$E$100000,\"9??\",'Accounting Data'!$H$2:$H$100000,\"7??\",'Accounting Data'!$I$2:$I$100000,\"24??\",'Accounting Data'!$J$2:$J$100000,\"69??\")+SUMIFS('Accounting Data'!$C$2:$C$100000,'Accounting Data'!$E$2:$E$100000,\"9??\",'Accounting Data'!$H$2:$H$100000,\"8??\",'Accounting Data'!$I$2:$I$100000,\"24??\",'Accounting Data'!$J$2:$J$100000,\"69??\")+SUMIFS('Accounting Data'!$C$2:$C$100000,'Accounting Data'!$E$2:$E$100000,\"9??\",'Accounting Data'!$H$2:$H$100000,\"9??\",'Accounting Data'!$I$2:$I$100000,\"24??\",'Accounting Data'!$J$2:$J$100000,\"69??\")","v":{"v":0,"d":"0 "}}]
["         2500, 2900 Central Services, Other","6.",{"$f":"((AA16+AA17)-(AB16+AB17)-(AC16+AC17))+((AD16+AD17)+(AE16+AE17)+(AF16+AF17))","v":{"v":7252,"d":"7,252 "}},{"$f":"((AI16+AI17)-(AJ16+AJ17)-(AK16+AK17))+((AL16+AL17)+(AM16+AM17)+(AN16+AN17))","v":{"v":1437,"d":"1,437 "}},{"$f":"(SUM(AQ16:AQ17)-SUM(AR16:AT17)-SUM(AU16:AU17))+(SUM(AV16:AX17)+SUM(AY16:BA17)+SUM(BB16:BD17))","v":{"v":8075,"d":"8,075 "}},{"$f":"((BG16+BG17)-(BH16+BH17)-(BI16+BI17))+((BJ16+BJ17)+(BK16+BK17)+(BL16+BL17))","v":{"v":0,"d":"0 "}},{"$f":"((BO16+BO17)-(BP16+BP17)-(BQ16+BQ17))+((BR16+BR17)+(BS16+BS17)+(BT16+BT17))","v":{"v":0,"d":"0 "}},{"$f":"((BW16+BW17)-(BX16+BX17)-(BY16+BY17))+((BZ16+BZ17)+(CA16+CA17)+(CB16+CB17))","v":{"v":0,"d":"0 "}},null,null,{"$f":"(CE17-CH17-CI17)+(CL17+CO17+CR17)","v":{"v":0,"d":"0 "}},{"$f":"((CU16+CU17)-(CV16+CV17)-(CW16+CW17))+((CX16+CX17)+(CY16+CY17)+(CZ16+CZ17))","v":{"v":0,"d":"0 "}},{"$f":"(SUM(DC16:DC17)-SUM(DD16:DD17))-((SUM(DE16:DE17)+SUM(DF16:DF17))-(SUM(DG16:DG17)+SUM(DH16:DH17)))","v":{"v":0,"d":"0 "}},{"v":16764,"d":"16,764 "},"6.",{"$nulls":3},"Impact Aid revenue allocation by object",null,null,"Impact aid revenue allocation\n(P25 * percentage)","Amount used in Impact aid allocation",null,null,2500,{"$f":"SUMIFS('Accounting Data'!C2:C100000,'Accounting Data'!I2:I100000,\"25??\",'Accounting Data'!J2:J100000,\"61??\")","v":{"v":7252,"d":"7,252 "}},{"$f":"SUMIFS('Accounting Data'!C2:C100000,'Accounting Data'!E2:E100000,\"575\",'Accounting Data'!I2:I100000,\"25??\",'Accounting Data'!J2:J100000,\"61??\")+SUMIFS('Accounting Data'!C2:C100000,'Accounting Data'!E2:E100000,\"8??\",'Accounting Data'!I2:I100000,\"25??\",'Accounting Data'!J2:J100000,\"61??\")+SUMIFS('Accounting Data'!C2:C100000,'Accounting Data'!E2:E100000,\"9??\",'Accounting Data'!I2:I100000,\"25??\",'Accounting Data'!J2:J100000,\"61??\")","v":{"v":0,"d":"0 "}},{"$f":"SUMIFS('Accounting Data'!C2:C100000,'Accounting Data'!H2:H100000,\"7??\",'Accounting Data'!I2:I100000,\"25??\",'Accounting Data'!J2:J100000,\"61??\")+SUMIFS('Accounting Data'!C2:C100000,'Accounting Data'!H2:H100000,\"8??\",'Accounting Data'!I2:I100000,\"25??\",'Accounting Data'!J2:J100000,\"61??\")+SUMIFS('Accounting Data'!C2:C100000,'Accounting Data'!H2:H100000,\"9??\",'Accounting Data'!I2:I100000,\"25??\",'Accounting Data'!J2:J100000,\"61??\")","v":{"v":0,"d":"0 "}},{"$f":"SUMIFS('Accounting Data'!C2:C100000,'Accounting Data'!E2:E100000,\"575\",'Accounting Data'!H2:H100000,\"7??\",'Accounting Data'!I2:I100000,\"25??\",'Accounting Data'!J2:J100000,\"61??\")+SUMIFS('Accounting Data'!C2:C100000,'Accounting Data'!E2:E100000,\"575\",'Accounting Data'!H2:H100000,\"8??\",'Accounting Data'!I2:I100000,\"25??\",'Accounting Data'!J2:J100000,\"61??\")+SUMIFS('Accounting Data'!C2:C100000,'Accounting Data'!E2:E100000,\"575\",'Accounting Data'!H2:H100000,\"9??\",'Accounting Data'!I2:I100000,\"25??\",'Accounting Data'!J2:J100000,\"61??\")","v":{"v":0,"d":"0 "}},{"$f":"SUMIFS('Accounting Data'!C2:C100000,'Accounting Data'!E2:E100000,\"8??\",'Accounting Data'!H2:H100000,\"7??\",'Accounting Data'!I2:I100000,\"25??\",'Accounting Data'!J2:J100000,\"61??\")+SUMIFS('Accounting Data'!C2:C100000,'Accounting Data'!E2:E100000,\"8??\",'Accounting Data'!H2:H100000,\"8??\",'Accounting Data'!I2:I100000,\"25??\",'Accounting Data'!J2:J100000,\"61??\")+SUMIFS('Accounting Data'!C2:C100000,'Accounting Data'!E2:E100000,\"8??\",'Accounting Data'!H2:H100000,\"9??\",'Accounting Data'!I2:I100000,\"25??\",'Accounting Data'!J2:J100000,\"61??\")","v":{"v":0,"d":"0 "}},{"$f":"SUMIFS('Accounting Data'!C2:C100000,'Accounting Data'!E2:E100000,\"9??\",'Accounting Data'!H2:H100000,\"7??\",'Accounting Data'!I2:I100000,\"25??\",'Accounting Data'!J2:J100000,\"61??\")+SUMIFS('Accounting Data'!C2:C100000,'Accounting Data'!E2:E100000,\"9??\",'Accounting Data'!H2:H100000,\"8??\",'Accounting Data'!I2:I100000,\"25??\",'Accounting Data'!J2:J100000,\"61??\")+SUMIFS('Accounting Data'!C2:C100000,'Accounting Data'!E2:E100000,\"9??\",'Accounting Data'!H2:H100000,\"9??\",'Accounting Data'!I2:I100000,\"25??\",'Accounting Data'!J2:J100000,\"61??\")","v":{"v":0,"d":"0 "}},null,2500,{"$f":"SUMIFS('Accounting Data'!C2:C100000,'Accounting Data'!I2:I100000,\"25??\",'Accounting Data'!J2:J100000,\"62??\")","v":{"v":1437,"d":"1,437 "}},{"$f":"SUMIFS('Accounting Data'!C2:C100000,'Accounting Data'!E2:E100000,\"575\",'Accounting Data'!I2:I100000,\"25??\",'Accounting Data'!J2:J100000,\"62??\")+SUMIFS('Accounting Data'!C2:C100000,'Accounting Data'!E2:E100000,\"8??\",'Accounting Data'!I2:I100000,\"25??\",'Accounting Data'!J2:J100000,\"62??\")+SUMIFS('Accounting Data'!C2:C100000,'Accounting Data'!E2:E100000,\"9??\",'Accounting Data'!I2:I100000,\"25??\",'Accounting Data'!J2:J100000,\"62??\")","v":{"v":0,"d":"0 "}},{"$f":"SUMIFS('Accounting Data'!C2:C100000,'Accounting Data'!H2:H100000,\"7??\",'Accounting Data'!I2:I100000,\"25??\",'Accounting Data'!J2:J100000,\"62??\")+SUMIFS('Accounting Data'!C2:C100000,'Accounting Data'!H2:H100000,\"8??\",'Accounting Data'!I2:I100000,\"25??\",'Accounting Data'!J2:J100000,\"62??\")+SUMIFS('Accounting Data'!C2:C100000,'Accounting Data'!H2:H100000,\"9??\",'Accounting Data'!I2:I100000,\"25??\",'Accounting Data'!J2:J100000,\"62??\")","v":{"v":0,"d":"0 "}},{"$f":"SUMIFS('Accounting Data'!C2:C100000,'Accounting Data'!E2:E100000,\"575\",'Accounting Data'!H2:H100000,\"7??\",'Accounting Data'!I2:I100000,\"25??\",'Accounting Data'!J2:J100000,\"62??\")+SUMIFS('Accounting Data'!C2:C100000,'Accounting Data'!E2:E100000,\"575\",'Accounting Data'!H2:H100000,\"8??\",'Accounting Data'!I2:I100000,\"25??\",'Accounting Data'!J2:J100000,\"62??\")+SUMIFS('Accounting Data'!C2:C100000,'Accounting Data'!E2:E100000,\"575\",'Accounting Data'!H2:H100000,\"9??\",'Accounting Data'!I2:I100000,\"25??\",'Accounting Data'!J2:J100000,\"62??\")","v":{"v":0,"d":"0 "}},{"$f":"SUMIFS('Accounting Data'!C2:C100000,'Accounting Data'!E2:E100000,\"8??\",'Accounting Data'!H2:H100000,\"7??\",'Accounting Data'!I2:I100000,\"25??\",'Accounting Data'!J2:J100000,\"62??\")+SUMIFS('Accounting Data'!C2:C100000,'Accounting Data'!E2:E100000,\"8??\",'Accounting Data'!H2:H100000,\"8??\",'Accounting Data'!I2:I100000,\"25??\",'Accounting Data'!J2:J100000,\"62??\")+SUMIFS('Accounting Data'!C2:C100000,'Accounting Data'!E2:E100000,\"8??\",'Accounting Data'!H2:H100000,\"9??\",'Accounting Data'!I2:I100000,\"25??\",'Accounting Data'!J2:J100000,\"62??\")","v":{"v":0,"d":"0 "}},{"$f":"SUMIFS('Accounting Data'!C2:C100000,'Accounting Data'!E2:E100000,\"9??\",'Accounting Data'!H2:H100000,\"7??\",'Accounting Data'!I2:I100000,\"25??\",'Accounting Data'!J2:J100000,\"62??\")+SUMIFS('Accounting Data'!C2:C100000,'Accounting Data'!E2:E100000,\"9??\",'Accounting Data'!H2:H100000,\"8??\",'Accounting Data'!I2:I100000,\"25??\",'Accounting Data'!J2:J100000,\"62??\")+SUMIFS('Accounting Data'!C2:C100000,'Accounting Data'!E2:E100000,\"9??\",'Accounting Data'!H2:H100000,\"9??\",'Accounting Data'!I2:I100000,\"25??\",'Accounting Data'!J2:J100000,\"62??\")","v":{"v":0,"d":"0 "}},null,2500,{"$f":"SUMIFS('Accounting Data'!C2:C100000,'Accounting Data'!I2:I100000,\"25??\",'Accounting Data'!J2:J100000,\"63??\")+SUMIFS('Accounting Data'!C2:C100000,'Accounting Data'!I2:I100000,\"25??\",'Accounting Data'!J2:J100000,\"64??\")+SUMIFS('Accounting Data'!C2:C100000,'Accounting Data'!I2:I100000,\"25??\",'Accounting Data'!J2:J100000,\"65??\")","v":{"v":12440,"d":"12,440 "}},{"$f":"SUMIFS('Accounting Data'!C2:C100000,'Accounting Data'!E2:E100000,\"575\",'Accounting Data'!I2:I100000,\"25??\",'Accounting Data'!J2:J100000,\"63??\")+SUMIFS('Accounting Data'!C2:C100000,'Accounting Data'!E2:E100000,\"8??\",'Accounting Data'!I2:I100000,\"25??\",'Accounting Data'!J2:J100000,\"63??\")+SUMIFS('Accounting Data'!C2:C100000,'Accounting Data'!E2:E100000,\"9??\",'Accounting Data'!I2:I100000,\"25??\",'Accounting Data'!J2:J100000,\"63??\")","v":{"v":4365,"d":"4,365 "}},{"$f":"SUMIFS('Accounting Data'!C2:C100000,'Accounting Data'!E2:E100000,\"575\",'Accounting Data'!I2:I100000,\"25??\",'Accounting Data'!J2:J100000,\"64??\")+SUMIFS('Accounting Data'!C2:C100000,'Accounting Data'!E2:E100000,\"8??\",'Accounting Data'!I2:I100000,\"25??\",'Accounting Data'!J2:J100000,\"64??\")+SUMIFS('Accounting Data'!C2:C100000,'Accounting Data'!E2:E100000,\"9??\",'Accounting Data'!I2:I100000,\"25??\",'Accounting Data'!J2:J100000,\"64??\")","v":{"v":0,"d":"0 "}},{"$f":"SUMIFS('Accounting Data'!C2:C100000,'Accounting Data'!E2:E100000,\"575\",'Accounting Data'!I2:I100000,\"25??\",'Accounting Data'!J2:J100000,\"65??\")+SUMIFS('Accounting Data'!C2:C100000,'Accounting Data'!E2:E100000,\"8??\",'Accounting Data'!I2:I100000,\"25??\",'Accounting Data'!J2:J100000,\"65??\")+SUMIFS('Accounting Data'!C2:C100000,'Accounting Data'!E2:E100000,\"9??\",'Accounting Data'!I2:I100000,\"25??\",'Accounting Data'!J2:J100000,\"65??\")","v":{"v":0,"d":"0 "}},{"$f":"SUMIFS('Accounting Data'!C2:C100000,'Accounting Data'!H2:H100000,\"7??\",'Accounting Data'!I2:I100000,\"25??\",'Accounting Data'!J2:J100000,\"63??\")+SUMIFS('Accounting Data'!C2:C100000,'Accounting Data'!H2:H100000,\"8??\",'Accounting Data'!I2:I100000,\"25??\",'Accounting Data'!J2:J100000,\"63??\")+SUMIFS('Accounting Data'!C2:C100000,'Accounting Data'!H2:H100000,\"9??\",'Accounting Data'!I2:I100000,\"25??\",'Accounting Data'!J2:J100000,\"63??\")+SUMIFS('Accounting Data'!C2:C100000,'Accounting Data'!H2:H100000,\"7??\",'Accounting Data'!I2:I100000,\"25??\",'Accounting Data'!J2:J100000,\"64??\")+SUMIFS('Accounting Data'!C2:C100000,'Accounting Data'!H2:H100000,\"8??\",'Accounting Data'!I2:I100000,\"25??\",'Accounting Data'!J2:J100000,\"64??\")+SUMIFS('Accounting Data'!C2:C100000,'Accounting Data'!H2:H100000,\"9??\",'Accounting Data'!I2:I100000,\"25??\",'Accounting Data'!J2:J100000,\"64??\")+SUMIFS('Accounting Data'!C2:C100000,'Accounting Data'!H2:H100000,\"7??\",'Accounting Data'!I2:I100000,\"25??\",'Accounting Data'!J2:J100000,\"65??\")+SUMIFS('Accounting Data'!C2:C100000,'Accounting Data'!H2:H100000,\"8??\",'Accounting Data'!I2:I100000,\"25??\",'Accounting Data'!J2:J100000,\"65??\")+SUMIFS('Accounting Data'!C2:C100000,'Accounting Data'!H2:H100000,\"9??\",'Accounting Data'!I2:I100000,\"25??\",'Accounting Data'!J2:J100000,\"65??\")","v":{"v":0,"d":"0 "}},{"$f":"SUMIFS('Accounting Data'!C2:C100000,'Accounting Data'!E2:E100000,\"575\",'Accounting Data'!H2:H100000,\"7??\",'Accounting Data'!I2:I100000,\"25??\",'Accounting Data'!J2:J100000,\"63??\")+SUMIFS('Accounting Data'!C2:C100000,'Accounting Data'!E2:E100000,\"575\",'Accounting Data'!H2:H100000,\"8??\",'Accounting Data'!I2:I100000,\"25??\",'Accounting Data'!J2:J100000,\"63??\")+SUMIFS('Accounting Data'!C2:C100000,'Accounting Data'!E2:E100000,\"575\",'Accounting Data'!H2:H100000,\"9??\",'Accounting Data'!I2:I100000,\"25??\",'Accounting Data'!J2:J100000,\"63??\")","v":{"v":0,"d":"0 "}},{"$f":"SUMIFS('Accounting Data'!C2:C100000,'Accounting Data'!E2:E100000,\"575\",'Accounting Data'!H2:H100000,\"7??\",'Accounting Data'!I2:I100000,\"25??\",'Accounting Data'!J2:J100000,\"64??\")+SUMIFS('Accounting Data'!C2:C100000,'Accounting Data'!E2:E100000,\"575\",'Accounting Data'!H2:H100000,\"8??\",'Accounting Data'!I2:I100000,\"25??\",'Accounting Data'!J2:J100000,\"64??\")+SUMIFS('Accounting Data'!C2:C100000,'Accounting Data'!E2:E100000,\"575\",'Accounting Data'!H2:H100000,\"9??\",'Accounting Data'!I2:I100000,\"25??\",'Accounting Data'!J2:J100000,\"64??\")","v":{"v":0,"d":"0 "}},{"$f":"SUMIFS('Accounting Data'!C2:C100000,'Accounting Data'!E2:E100000,\"575\",'Accounting Data'!H2:H100000,\"7??\",'Accounting Data'!I2:I100000,\"25??\",'Accounting Data'!J2:J100000,\"65??\")+SUMIFS('Accounting Data'!C2:C100000,'Accounting Data'!E2:E100000,\"575\",'Accounting Data'!H2:H100000,\"8??\",'Accounting Data'!I2:I100000,\"25??\",'Accounting Data'!J2:J100000,\"65??\")+SUMIFS('Accounting Data'!C2:C100000,'Accounting Data'!E2:E100000,\"575\",'Accounting Data'!H2:H100000,\"9??\",'Accounting Data'!I2:I100000,\"25??\",'Accounting Data'!J2:J100000,\"65??\")","v":{"v":0,"d":"0 "}},{"$f":"SUMIFS('Accounting Data'!C2:C100000,'Accounting Data'!E2:E100000,\"8??\",'Accounting Data'!H2:H100000,\"7??\",'Accounting Data'!I2:I100000,\"25??\",'Accounting Data'!J2:J100000,\"63??\")+SUMIFS('Accounting Data'!C2:C100000,'Accounting Data'!E2:E100000,\"8??\",'Accounting Data'!H2:H100000,\"8??\",'Accounting Data'!I2:I100000,\"25??\",'Accounting Data'!J2:J100000,\"63??\")+SUMIFS('Accounting Data'!C2:C100000,'Accounting Data'!E2:E100000,\"8??\",'Accounting Data'!H2:H100000,\"9??\",'Accounting Data'!I2:I100000,\"25??\",'Accounting Data'!J2:J100000,\"63??\")","v":{"v":0,"d":"0 "}},{"$f":"SUMIFS('Accounting Data'!C2:C100000,'Accounting Data'!E2:E100000,\"8??\",'Accounting Data'!H2:H100000,\"7??\",'Accounting Data'!I2:I100000,\"25??\",'Accounting Data'!J2:J100000,\"64??\")+SUMIFS('Accounting Data'!C2:C100000,'Accounting Data'!E2:E100000,\"8??\",'Accounting Data'!H2:H100000,\"8??\",'Accounting Data'!I2:I100000,\"25??\",'Accounting Data'!J2:J100000,\"64??\")+SUMIFS('Accounting Data'!C2:C100000,'Accounting Data'!E2:E100000,\"8??\",'Accounting Data'!H2:H100000,\"9??\",'Accounting Data'!I2:I100000,\"25??\",'Accounting Data'!J2:J100000,\"64??\")","v":{"v":0,"d":"0 "}},{"$f":"SUMIFS('Accounting Data'!C2:C100000,'Accounting Data'!E2:E100000,\"8??\",'Accounting Data'!H2:H100000,\"7??\",'Accounting Data'!I2:I100000,\"25??\",'Accounting Data'!J2:J100000,\"65??\")+SUMIFS('Accounting Data'!C2:C100000,'Accounting Data'!E2:E100000,\"8??\",'Accounting Data'!H2:H100000,\"8??\",'Accounting Data'!I2:I100000,\"25??\",'Accounting Data'!J2:J100000,\"65??\")+SUMIFS('Accounting Data'!C2:C100000,'Accounting Data'!E2:E100000,\"8??\",'Accounting Data'!H2:H100000,\"9??\",'Accounting Data'!I2:I100000,\"25??\",'Accounting Data'!J2:J100000,\"65??\")","v":{"v":0,"d":"0 "}},{"$f":"SUMIFS('Accounting Data'!C2:C100000,'Accounting Data'!E2:E100000,\"9??\",'Accounting Data'!H2:H100000,\"7??\",'Accounting Data'!I2:I100000,\"25??\",'Accounting Data'!J2:J100000,\"63??\")+SUMIFS('Accounting Data'!C2:C100000,'Accounting Data'!E2:E100000,\"9??\",'Accounting Data'!H2:H100000,\"8??\",'Accounting Data'!I2:I100000,\"25??\",'Accounting Data'!J2:J100000,\"63??\")+SUMIFS('Accounting Data'!C2:C100000,'Accounting Data'!E2:E100000,\"9??\",'Accounting Data'!H2:H100000,\"9??\",'Accounting Data'!I2:I100000,\"25??\",'Accounting Data'!J2:J100000,\"63??\")","v":{"v":0,"d":"0 "}},{"$f":"SUMIFS('Accounting Data'!C2:C100000,'Accounting Data'!E2:E100000,\"9??\",'Accounting Data'!H2:H100000,\"7??\",'Accounting Data'!I2:I100000,\"25??\",'Accounting Data'!J2:J100000,\"64??\")+SUMIFS('Accounting Data'!C2:C100000,'Accounting Data'!E2:E100000,\"9??\",'Accounting Data'!H2:H100000,\"8??\",'Accounting Data'!I2:I100000,\"25??\",'Accounting Data'!J2:J100000,\"64??\")+SUMIFS('Accounting Data'!C2:C100000,'Accounting Data'!E2:E100000,\"9??\",'Accounting Data'!H2:H100000,\"9??\",'Accounting Data'!I2:I100000,\"25??\",'Accounting Data'!J2:J100000,\"64??\")","v":{"v":0,"d":"0 "}},{"$f":"SUMIFS('Accounting Data'!C2:C100000,'Accounting Data'!E2:E100000,\"9??\",'Accounting Data'!H2:H100000,\"7??\",'Accounting Data'!I2:I100000,\"25??\",'Accounting Data'!J2:J100000,\"65??\")+SUMIFS('Accounting Data'!C2:C100000,'Accounting Data'!E2:E100000,\"9??\",'Accounting Data'!H2:H100000,\"8??\",'Accounting Data'!I2:I100000,\"25??\",'Accounting Data'!J2:J100000,\"65??\")+SUMIFS('Accounting Data'!C2:C100000,'Accounting Data'!E2:E100000,\"9??\",'Accounting Data'!H2:H100000,\"9??\",'Accounting Data'!I2:I100000,\"25??\",'Accounting Data'!J2:J100000,\"65??\")","v":{"v":0,"d":"0 "}},null,2500,{"$f":"SUMIFS('Accounting Data'!C2:C100000,'Accounting Data'!I2:I100000,\"25??\",'Accounting Data'!J2:J100000,\"66??\")","v":{"v":0,"d":"0 "}},{"$f":"SUMIFS('Accounting Data'!$C$2:$C$100000,'Accounting Data'!$E$2:$E$100000,\"575\",'Accounting Data'!$I$2:$I$100000,\"25??\",'Accounting Data'!$J$2:$J$100000,\"66??\")+SUMIFS('Accounting Data'!$C$2:$C$100000,'Accounting Data'!$E$2:$E$100000,\"8??\",'Accounting Data'!$I$2:$I$100000,\"25??\",'Accounting Data'!$J$2:$J$100000,\"66??\")+SUMIFS('Accounting Data'!$C$2:$C$100000,'Accounting Data'!$E$2:$E$100000,\"9??\",'Accounting Data'!$I$2:$I$100000,\"25??\",'Accounting Data'!$J$2:$J$100000,\"66??\")","v":{"v":0,"d":"0 "}},{"$f":"SUMIFS('Accounting Data'!$C$2:$C$100000,'Accounting Data'!$H$2:$H$100000,\"7??\",'Accounting Data'!$I$2:$I$100000,\"25??\",'Accounting Data'!$J$2:$J$100000,\"66??\")+SUMIFS('Accounting Data'!$C$2:$C$100000,'Accounting Data'!$H$2:$H$100000,\"8??\",'Accounting Data'!$I$2:$I$100000,\"25??\",'Accounting Data'!$J$2:$J$100000,\"66??\")+SUMIFS('Accounting Data'!$C$2:$C$100000,'Accounting Data'!$H$2:$H$100000,\"9??\",'Accounting Data'!$I$2:$I$100000,\"25??\",'Accounting Data'!$J$2:$J$100000,\"66??\")","v":{"v":0,"d":"0 "}},{"$f":"SUMIFS('Accounting Data'!$C$2:$C$100000,'Accounting Data'!$E$2:$E$100000,\"575\",'Accounting Data'!$H$2:$H$100000,\"7??\",'Accounting Data'!$I$2:$I$100000,\"25??\",'Accounting Data'!$J$2:$J$100000,\"66??\")+SUMIFS('Accounting Data'!$C$2:$C$100000,'Accounting Data'!$E$2:$E$100000,\"575\",'Accounting Data'!$H$2:$H$100000,\"8??\",'Accounting Data'!$I$2:$I$100000,\"25??\",'Accounting Data'!$J$2:$J$100000,\"66??\")+SUMIFS('Accounting Data'!$C$2:$C$100000,'Accounting Data'!$E$2:$E$100000,\"575\",'Accounting Data'!$H$2:$H$100000,\"9??\",'Accounting Data'!$I$2:$I$100000,\"25??\",'Accounting Data'!$J$2:$J$100000,\"66??\")","v":{"v":0,"d":"0 "}},{"$f":"SUMIFS('Accounting Data'!$C$2:$C$100000,'Accounting Data'!$E$2:$E$100000,\"8??\",'Accounting Data'!$H$2:$H$100000,\"7??\",'Accounting Data'!$I$2:$I$100000,\"25??\",'Accounting Data'!$J$2:$J$100000,\"66??\")+SUMIFS('Accounting Data'!$C$2:$C$100000,'Accounting Data'!$E$2:$E$100000,\"8??\",'Accounting Data'!$H$2:$H$100000,\"8??\",'Accounting Data'!$I$2:$I$100000,\"25??\",'Accounting Data'!$J$2:$J$100000,\"66??\")+SUMIFS('Accounting Data'!$C$2:$C$100000,'Accounting Data'!$E$2:$E$100000,\"8??\",'Accounting Data'!$H$2:$H$100000,\"9??\",'Accounting Data'!$I$2:$I$100000,\"25??\",'Accounting Data'!$J$2:$J$100000,\"66??\")","v":{"v":0,"d":"0 "}},{"$f":"SUMIFS('Accounting Data'!$C$2:$C$100000,'Accounting Data'!$E$2:$E$100000,\"9??\",'Accounting Data'!$H$2:$H$100000,\"7??\",'Accounting Data'!$I$2:$I$100000,\"25??\",'Accounting Data'!$J$2:$J$100000,\"66??\")+SUMIFS('Accounting Data'!$C$2:$C$100000,'Accounting Data'!$E$2:$E$100000,\"9??\",'Accounting Data'!$H$2:$H$100000,\"8??\",'Accounting Data'!$I$2:$I$100000,\"25??\",'Accounting Data'!$J$2:$J$100000,\"66??\")+SUMIFS('Accounting Data'!$C$2:$C$100000,'Accounting Data'!$E$2:$E$100000,\"9??\",'Accounting Data'!$H$2:$H$100000,\"9??\",'Accounting Data'!$I$2:$I$100000,\"25??\",'Accounting Data'!$J$2:$J$100000,\"66??\")","v":{"v":0,"d":"0 "}},null,2500,{"$f":"SUMIFS('Accounting Data'!C2:C100000,'Accounting Data'!I2:I100000,\"25??\",'Accounting Data'!J2:J100000,\"67??\")","v":{"v":0,"d":"0 "}},{"$f":"SUMIFS('Accounting Data'!$C$2:$C$100000,'Accounting Data'!$E$2:$E$100000,\"575\",'Accounting Data'!$I$2:$I$100000,\"25??\",'Accounting Data'!$J$2:$J$100000,\"67??\")+SUMIFS('Accounting Data'!$C$2:$C$100000,'Accounting Data'!$E$2:$E$100000,\"8??\",'Accounting Data'!$I$2:$I$100000,\"25??\",'Accounting Data'!$J$2:$J$100000,\"67??\")+SUMIFS('Accounting Data'!$C$2:$C$100000,'Accounting Data'!$E$2:$E$100000,\"9??\",'Accounting Data'!$I$2:$I$100000,\"25??\",'Accounting Data'!$J$2:$J$100000,\"67??\")","v":{"v":0,"d":"0 "}},{"$f":"SUMIFS('Accounting Data'!$C$2:$C$100000,'Accounting Data'!$H$2:$H$100000,\"7??\",'Accounting Data'!$I$2:$I$100000,\"25??\",'Accounting Data'!$J$2:$J$100000,\"67??\")+SUMIFS('Accounting Data'!$C$2:$C$100000,'Accounting Data'!$H$2:$H$100000,\"8??\",'Accounting Data'!$I$2:$I$100000,\"25??\",'Accounting Data'!$J$2:$J$100000,\"67??\")+SUMIFS('Accounting Data'!$C$2:$C$100000,'Accounting Data'!$H$2:$H$100000,\"9??\",'Accounting Data'!$I$2:$I$100000,\"25??\",'Accounting Data'!$J$2:$J$100000,\"67??\")","v":{"v":0,"d":"0 "}},{"$f":"SUMIFS('Accounting Data'!$C$2:$C$100000,'Accounting Data'!$E$2:$E$100000,\"575\",'Accounting Data'!$H$2:$H$100000,\"7??\",'Accounting Data'!$I$2:$I$100000,\"25??\",'Accounting Data'!$J$2:$J$100000,\"67??\")+SUMIFS('Accounting Data'!$C$2:$C$100000,'Accounting Data'!$E$2:$E$100000,\"575\",'Accounting Data'!$H$2:$H$100000,\"8??\",'Accounting Data'!$I$2:$I$100000,\"25??\",'Accounting Data'!$J$2:$J$100000,\"67??\")+SUMIFS('Accounting Data'!$C$2:$C$100000,'Accounting Data'!$E$2:$E$100000,\"575\",'Accounting Data'!$H$2:$H$100000,\"9??\",'Accounting Data'!$I$2:$I$100000,\"25??\",'Accounting Data'!$J$2:$J$100000,\"67??\")","v":{"v":0,"d":"0 "}},{"$f":"SUMIFS('Accounting Data'!$C$2:$C$100000,'Accounting Data'!$E$2:$E$100000,\"8??\",'Accounting Data'!$H$2:$H$100000,\"7??\",'Accounting Data'!$I$2:$I$100000,\"25??\",'Accounting Data'!$J$2:$J$100000,\"67??\")+SUMIFS('Accounting Data'!$C$2:$C$100000,'Accounting Data'!$E$2:$E$100000,\"8??\",'Accounting Data'!$H$2:$H$100000,\"8??\",'Accounting Data'!$I$2:$I$100000,\"25??\",'Accounting Data'!$J$2:$J$100000,\"67??\")+SUMIFS('Accounting Data'!$C$2:$C$100000,'Accounting Data'!$E$2:$E$100000,\"8??\",'Accounting Data'!$H$2:$H$100000,\"9??\",'Accounting Data'!$I$2:$I$100000,\"25??\",'Accounting Data'!$J$2:$J$100000,\"67??\")","v":{"v":0,"d":"0 "}},{"$f":"SUMIFS('Accounting Data'!$C$2:$C$100000,'Accounting Data'!$E$2:$E$100000,\"9??\",'Accounting Data'!$H$2:$H$100000,\"7??\",'Accounting Data'!$I$2:$I$100000,\"25??\",'Accounting Data'!$J$2:$J$100000,\"67??\")+SUMIFS('Accounting Data'!$C$2:$C$100000,'Accounting Data'!$E$2:$E$100000,\"9??\",'Accounting Data'!$H$2:$H$100000,\"8??\",'Accounting Data'!$I$2:$I$100000,\"25??\",'Accounting Data'!$J$2:$J$100000,\"67??\")+SUMIFS('Accounting Data'!$C$2:$C$100000,'Accounting Data'!$E$2:$E$100000,\"9??\",'Accounting Data'!$H$2:$H$100000,\"9??\",'Accounting Data'!$I$2:$I$100000,\"25??\",'Accounting Data'!$J$2:$J$100000,\"67??\")","v":{"v":0,"d":"0 "}},null,2500,{"$f":"SUMIFS('Accounting Data'!C2:C100000,'Accounting Data'!I2:I100000,\"25??\",'Accounting Data'!J2:J100000,\"681?\")","v":{"v":0,"d":"0 "}},{"$f":"SUMIFS('Accounting Data'!$C$2:$C$100000,'Accounting Data'!$E$2:$E$100000,\"575\",'Accounting Data'!$I$2:$I$100000,\"25??\",'Accounting Data'!$J$2:$J$100000,\"681?\")+SUMIFS('Accounting Data'!$C$2:$C$100000,'Accounting Data'!$E$2:$E$100000,\"8??\",'Accounting Data'!$I$2:$I$100000,\"25??\",'Accounting Data'!$J$2:$J$100000,\"681?\")+SUMIFS('Accounting Data'!$C$2:$C$100000,'Accounting Data'!$E$2:$E$100000,\"9??\",'Accounting Data'!$I$2:$I$100000,\"25??\",'Accounting Data'!$J$2:$J$100000,\"681?\")","v":{"v":0,"d":"0 "}},{"$f":"SUMIFS('Accounting Data'!$C$2:$C$100000,'Accounting Data'!$H$2:$H$100000,\"7??\",'Accounting Data'!$I$2:$I$100000,\"25??\",'Accounting Data'!$J$2:$J$100000,\"681?\")+SUMIFS('Accounting Data'!$C$2:$C$100000,'Accounting Data'!$H$2:$H$100000,\"8??\",'Accounting Data'!$I$2:$I$100000,\"25??\",'Accounting Data'!$J$2:$J$100000,\"681?\")+SUMIFS('Accounting Data'!$C$2:$C$100000,'Accounting Data'!$H$2:$H$100000,\"9??\",'Accounting Data'!$I$2:$I$100000,\"25??\",'Accounting Data'!$J$2:$J$100000,\"681?\")","v":{"v":0,"d":"0 "}},{"$f":"SUMIFS('Accounting Data'!$C$2:$C$100000,'Accounting Data'!$E$2:$E$100000,\"575\",'Accounting Data'!$H$2:$H$100000,\"7??\",'Accounting Data'!$I$2:$I$100000,\"25??\",'Accounting Data'!$J$2:$J$100000,\"681?\")+SUMIFS('Accounting Data'!$C$2:$C$100000,'Accounting Data'!$E$2:$E$100000,\"575\",'Accounting Data'!$H$2:$H$100000,\"8??\",'Accounting Data'!$I$2:$I$100000,\"25??\",'Accounting Data'!$J$2:$J$100000,\"681?\")+SUMIFS('Accounting Data'!$C$2:$C$100000,'Accounting Data'!$E$2:$E$100000,\"575\",'Accounting Data'!$H$2:$H$100000,\"9??\",'Accounting Data'!$I$2:$I$100000,\"25??\",'Accounting Data'!$J$2:$J$100000,\"681?\")","v":{"v":0,"d":"0 "}},{"$f":"SUMIFS('Accounting Data'!$C$2:$C$100000,'Accounting Data'!$E$2:$E$100000,\"8??\",'Accounting Data'!$H$2:$H$100000,\"7??\",'Accounting Data'!$I$2:$I$100000,\"25??\",'Accounting Data'!$J$2:$J$100000,\"681?\")+SUMIFS('Accounting Data'!$C$2:$C$100000,'Accounting Data'!$E$2:$E$100000,\"8??\",'Accounting Data'!$H$2:$H$100000,\"8??\",'Accounting Data'!$I$2:$I$100000,\"25??\",'Accounting Data'!$J$2:$J$100000,\"681?\")+SUMIFS('Accounting Data'!$C$2:$C$100000,'Accounting Data'!$E$2:$E$100000,\"8??\",'Accounting Data'!$H$2:$H$100000,\"9??\",'Accounting Data'!$I$2:$I$100000,\"25??\",'Accounting Data'!$J$2:$J$100000,\"681?\")","v":{"v":0,"d":"0 "}},{"$f":"SUMIFS('Accounting Data'!$C$2:$C$100000,'Accounting Data'!$E$2:$E$100000,\"9??\",'Accounting Data'!$H$2:$H$100000,\"7??\",'Accounting Data'!$I$2:$I$100000,\"25??\",'Accounting Data'!$J$2:$J$100000,\"681?\")+SUMIFS('Accounting Data'!$C$2:$C$100000,'Accounting Data'!$E$2:$E$100000,\"9??\",'Accounting Data'!$H$2:$H$100000,\"8??\",'Accounting Data'!$I$2:$I$100000,\"25??\",'Accounting Data'!$J$2:$J$100000,\"681?\")+SUMIFS('Accounting Data'!$C$2:$C$100000,'Accounting Data'!$E$2:$E$100000,\"9??\",'Accounting Data'!$H$2:$H$100000,\"9??\",'Accounting Data'!$I$2:$I$100000,\"25??\",'Accounting Data'!$J$2:$J$100000,\"681?\")","v":{"v":0,"d":"0 "}},null,"Function","All funds","Funds 575,800-899,900-999 ",null,null,"Programs 700-900","Funds 575, Programs 700-900",null,null,"Funds 800-899, Programs 700-900",null,null,"Funds 900-999, Programs 700-900",{"$nulls":3},2500,{"$f":"SUMIFS('Accounting Data'!C2:C100000,'Accounting Data'!I2:I100000,\"25??\",'Accounting Data'!J2:J100000,\"689?\")","v":{"v":0,"d":"0 "}},{"$f":"SUMIFS('Accounting Data'!$C$2:$C$100000,'Accounting Data'!$E$2:$E$100000,\"575\",'Accounting Data'!$I$2:$I$100000,\"25??\",'Accounting Data'!$J$2:$J$100000,\"689?\")+SUMIFS('Accounting Data'!$C$2:$C$100000,'Accounting Data'!$E$2:$E$100000,\"8??\",'Accounting Data'!$I$2:$I$100000,\"25??\",'Accounting Data'!$J$2:$J$100000,\"689?\")+SUMIFS('Accounting Data'!$C$2:$C$100000,'Accounting Data'!$E$2:$E$100000,\"9??\",'Accounting Data'!$I$2:$I$100000,\"25??\",'Accounting Data'!$J$2:$J$100000,\"689?\")","v":{"v":0,"d":"0 "}},{"$f":"SUMIFS('Accounting Data'!$C$2:$C$100000,'Accounting Data'!$H$2:$H$100000,\"7??\",'Accounting Data'!$I$2:$I$100000,\"25??\",'Accounting Data'!$J$2:$J$100000,\"689?\")+SUMIFS('Accounting Data'!$C$2:$C$100000,'Accounting Data'!$H$2:$H$100000,\"8??\",'Accounting Data'!$I$2:$I$100000,\"25??\",'Accounting Data'!$J$2:$J$100000,\"689?\")+SUMIFS('Accounting Data'!$C$2:$C$100000,'Accounting Data'!$H$2:$H$100000,\"9??\",'Accounting Data'!$I$2:$I$100000,\"25??\",'Accounting Data'!$J$2:$J$100000,\"689?\")","v":{"v":0,"d":"0 "}},{"$f":"SUMIFS('Accounting Data'!$C$2:$C$100000,'Accounting Data'!$E$2:$E$100000,\"575\",'Accounting Data'!$H$2:$H$100000,\"7??\",'Accounting Data'!$I$2:$I$100000,\"25??\",'Accounting Data'!$J$2:$J$100000,\"689?\")+SUMIFS('Accounting Data'!$C$2:$C$100000,'Accounting Data'!$E$2:$E$100000,\"575\",'Accounting Data'!$H$2:$H$100000,\"8??\",'Accounting Data'!$I$2:$I$100000,\"25??\",'Accounting Data'!$J$2:$J$100000,\"689?\")+SUMIFS('Accounting Data'!$C$2:$C$100000,'Accounting Data'!$E$2:$E$100000,\"575\",'Accounting Data'!$H$2:$H$100000,\"9??\",'Accounting Data'!$I$2:$I$100000,\"25??\",'Accounting Data'!$J$2:$J$100000,\"689?\")","v":{"v":0,"d":"0 "}},{"$f":"SUMIFS('Accounting Data'!$C$2:$C$100000,'Accounting Data'!$E$2:$E$100000,\"8??\",'Accounting Data'!$H$2:$H$100000,\"7??\",'Accounting Data'!$I$2:$I$100000,\"25??\",'Accounting Data'!$J$2:$J$100000,\"689?\")+SUMIFS('Accounting Data'!$C$2:$C$100000,'Accounting Data'!$E$2:$E$100000,\"8??\",'Accounting Data'!$H$2:$H$100000,\"8??\",'Accounting Data'!$I$2:$I$100000,\"25??\",'Accounting Data'!$J$2:$J$100000,\"689?\")+SUMIFS('Accounting Data'!$C$2:$C$100000,'Accounting Data'!$E$2:$E$100000,\"8??\",'Accounting Data'!$H$2:$H$100000,\"9??\",'Accounting Data'!$I$2:$I$100000,\"25??\",'Accounting Data'!$J$2:$J$100000,\"689?\")","v":{"v":0,"d":"0 "}},{"$f":"SUMIFS('Accounting Data'!$C$2:$C$100000,'Accounting Data'!$E$2:$E$100000,\"9??\",'Accounting Data'!$H$2:$H$100000,\"7??\",'Accounting Data'!$I$2:$I$100000,\"25??\",'Accounting Data'!$J$2:$J$100000,\"689?\")+SUMIFS('Accounting Data'!$C$2:$C$100000,'Accounting Data'!$E$2:$E$100000,\"9??\",'Accounting Data'!$H$2:$H$100000,\"8??\",'Accounting Data'!$I$2:$I$100000,\"25??\",'Accounting Data'!$J$2:$J$100000,\"689?\")+SUMIFS('Accounting Data'!$C$2:$C$100000,'Accounting Data'!$E$2:$E$100000,\"9??\",'Accounting Data'!$H$2:$H$100000,\"9??\",'Accounting Data'!$I$2:$I$100000,\"25??\",'Accounting Data'!$J$2:$J$100000,\"689?\")","v":{"v":0,"d":"0 "}},null,2500,{"$f":"SUMIFS('Accounting Data'!$C$2:$C$100000,'Accounting Data'!$H$2:$H$100000,\"7??\",'Accounting Data'!$I$2:$I$100000,\"25??\",'Accounting Data'!$J$2:$J$100000,\"6???\")+SUMIFS('Accounting Data'!$C$2:$C$100000,'Accounting Data'!$H$2:$H$100000,\"8??\",'Accounting Data'!$I$2:$I$100000,\"25??\",'Accounting Data'!$J$2:$J$100000,\"6???\")+SUMIFS('Accounting Data'!$C$2:$C$100000,'Accounting Data'!$H$2:$H$100000,\"9??\",'Accounting Data'!$I$2:$I$100000,\"25??\",'Accounting Data'!$J$2:$J$100000,\"6???\")","v":{"v":0,"d":"0 "}},{"$f":"SUMIFS('Accounting Data'!$C$2:$C$100000,'Accounting Data'!$H$2:$H$100000,\"7??\",'Accounting Data'!$I$2:$I$100000,\"25??\",'Accounting Data'!$J$2:$J$100000,\"69??\")+SUMIFS('Accounting Data'!$C$2:$C$100000,'Accounting Data'!$H$2:$H$100000,\"8??\",'Accounting Data'!$I$2:$I$100000,\"25??\",'Accounting Data'!$J$2:$J$100000,\"69??\")+SUMIFS('Accounting Data'!$C$2:$C$100000,'Accounting Data'!$H$2:$H$100000,\"9??\",'Accounting Data'!$I$2:$I$100000,\"25??\",'Accounting Data'!$J$2:$J$100000,\"69??\")","v":{"v":0,"d":"0 "}},{"$f":"SUMIFS('Accounting Data'!$C$2:$C$100000,'Accounting Data'!$E$2:$E$100000,\"575\",'Accounting Data'!$H$2:$H$100000,\"7??\",'Accounting Data'!$I$2:$I$100000,\"25??\",'Accounting Data'!$J$2:$J$100000,\"6???\")+SUMIFS('Accounting Data'!$C$2:$C$100000,'Accounting Data'!$E$2:$E$100000,\"575\",'Accounting Data'!$H$2:$H$100000,\"8??\",'Accounting Data'!$I$2:$I$100000,\"25??\",'Accounting Data'!$J$2:$J$100000,\"6???\")+SUMIFS('Accounting Data'!$C$2:$C$100000,'Accounting Data'!$E$2:$E$100000,\"575\",'Accounting Data'!$H$2:$H$100000,\"9??\",'Accounting Data'!$I$2:$I$100000,\"25??\",'Accounting Data'!$J$2:$J$100000,\"6???\")","v":{"v":0,"d":"0 "}},{"$f":"SUMIFS('Accounting Data'!$C$2:$C$100000,'Accounting Data'!$E$2:$E$100000,\"8??\",'Accounting Data'!$H$2:$H$100000,\"7??\",'Accounting Data'!$I$2:$I$100000,\"25??\",'Accounting Data'!$J$2:$J$100000,\"6???\")+SUMIFS('Accounting Data'!$C$2:$C$100000,'Accounting Data'!$E$2:$E$100000,\"8??\",'Accounting Data'!$H$2:$H$100000,\"8??\",'Accounting Data'!$I$2:$I$100000,\"25??\",'Accounting Data'!$J$2:$J$100000,\"6???\")+SUMIFS('Accounting Data'!$C$2:$C$100000,'Accounting Data'!$E$2:$E$100000,\"8??\",'Accounting Data'!$H$2:$H$100000,\"9??\",'Accounting Data'!$I$2:$I$100000,\"25??\",'Accounting Data'!$J$2:$J$100000,\"6???\")+SUMIFS('Accounting Data'!$C$2:$C$100000,'Accounting Data'!$E$2:$E$100000,\"9??\",'Accounting Data'!$H$2:$H$100000,\"7??\",'Accounting Data'!$I$2:$I$100000,\"25??\",'Accounting Data'!$J$2:$J$100000,\"6???\")+SUMIFS('Accounting Data'!$C$2:$C$100000,'Accounting Data'!$E$2:$E$100000,\"9??\",'Accounting Data'!$H$2:$H$100000,\"8??\",'Accounting Data'!$I$2:$I$100000,\"25??\",'Accounting Data'!$J$2:$J$100000,\"6???\")+SUMIFS('Accounting Data'!$C$2:$C$100000,'Accounting Data'!$E$2:$E$100000,\"9??\",'Accounting Data'!$H$2:$H$100000,\"9??\",'Accounting Data'!$I$2:$I$100000,\"25??\",'Accounting Data'!$J$2:$J$100000,\"6???\")","v":{"v":0,"d":"0 "}},{"$f":"SUMIFS('Accounting Data'!$C$2:$C$100000,'Accounting Data'!$E$2:$E$100000,\"575\",'Accounting Data'!$H$2:$H$100000,\"7??\",'Accounting Data'!$I$2:$I$100000,\"25??\",'Accounting Data'!$J$2:$J$100000,\"69??\")+SUMIFS('Accounting Data'!$C$2:$C$100000,'Accounting Data'!$E$2:$E$100000,\"575\",'Accounting Data'!$H$2:$H$100000,\"8??\",'Accounting Data'!$I$2:$I$100000,\"25??\",'Accounting Data'!$J$2:$J$100000,\"69??\")+SUMIFS('Accounting Data'!$C$2:$C$100000,'Accounting Data'!$E$2:$E$100000,\"575\",'Accounting Data'!$H$2:$H$100000,\"9??\",'Accounting Data'!$I$2:$I$100000,\"25??\",'Accounting Data'!$J$2:$J$100000,\"69??\")","v":{"v":0,"d":"0 "}},{"$f":"SUMIFS('Accounting Data'!$C$2:$C$100000,'Accounting Data'!$E$2:$E$100000,\"8??\",'Accounting Data'!$H$2:$H$100000,\"7??\",'Accounting Data'!$I$2:$I$100000,\"25??\",'Accounting Data'!$J$2:$J$100000,\"69??\")+SUMIFS('Accounting Data'!$C$2:$C$100000,'Accounting Data'!$E$2:$E$100000,\"8??\",'Accounting Data'!$H$2:$H$100000,\"8??\",'Accounting Data'!$I$2:$I$100000,\"25??\",'Accounting Data'!$J$2:$J$100000,\"69??\")+SUMIFS('Accounting Data'!$C$2:$C$100000,'Accounting Data'!$E$2:$E$100000,\"8??\",'Accounting Data'!$H$2:$H$100000,\"9??\",'Accounting Data'!$I$2:$I$100000,\"25??\",'Accounting Data'!$J$2:$J$100000,\"69??\")+SUMIFS('Accounting Data'!$C$2:$C$100000,'Accounting Data'!$E$2:$E$100000,\"9??\",'Accounting Data'!$H$2:$H$100000,\"7??\",'Accounting Data'!$I$2:$I$100000,\"25??\",'Accounting Data'!$J$2:$J$100000,\"69??\")+SUMIFS('Accounting Data'!$C$2:$C$100000,'Accounting Data'!$E$2:$E$100000,\"9??\",'Accounting Data'!$H$2:$H$100000,\"8??\",'Accounting Data'!$I$2:$I$100000,\"25??\",'Accounting Data'!$J$2:$J$100000,\"69??\")+SUMIFS('Accounting Data'!$C$2:$C$100000,'Accounting Data'!$E$2:$E$100000,\"9??\",'Accounting Data'!$H$2:$H$100000,\"9??\",'Accounting Data'!$I$2:$I$100000,\"25??\",'Accounting Data'!$J$2:$J$100000,\"69??\")","v":{"v":0,"d":"0 "}}]
["         2600 Operation and Maintenance of Plant","7.",{"$f":"(AA18-AB18-AC18)+(AD18+AE18+AF18)","v":{"v":29015,"d":"29,015 "}},{"$f":"(AI18-AJ18-AK18)+(AL18+AM18+AN18)","v":{"v":13397,"d":"13,397 "}},{"$f":"(AQ18-AR18-AS18-AT18-AU18)+(AV18+AW18+AX18+AY18+AZ18+BA18+BB18+BC18+BD18)","v":{"v":11593,"d":"11,593 "}},{"$f":"(BG18-BH18-BI18)+(BJ18+BK18+BL18)","v":{"v":15332,"d":"15,332 "}},{"$f":"(BO18-BP18-BQ18)+(BR18+BS18+BT18)","v":{"v":3229,"d":"3,229 "}},{"$f":"(BW18-BX18-BY18)+(BZ18+CA18+CB18)","v":{"v":0,"d":"0 "}},{"$nulls":3},{"$f":"(CU18-CV18-CW18)+(CX18+CY18+CZ18)","v":{"v":0,"d":"0 "}},{"$f":"(DC18-DD18)-((DE18+DF18)-(DG18+DH18))","v":{"v":0,"d":"0 "}},{"v":72566,"d":"72,566 "},"7.",{"$nulls":4},"Fund 378 expenditures\nby object code",{"$nulls":5},2900,{"$f":"SUMIFS('Accounting Data'!C2:C100000,'Accounting Data'!I2:I100000,\"29??\",'Accounting Data'!J2:J100000,\"61??\")","v":{"v":0,"d":"0 "}},{"$f":"SUMIFS('Accounting Data'!C2:C100000,'Accounting Data'!E2:E100000,\"575\",'Accounting Data'!I2:I100000,\"29??\",'Accounting Data'!J2:J100000,\"61??\")+SUMIFS('Accounting Data'!C2:C100000,'Accounting Data'!E2:E100000,\"8??\",'Accounting Data'!I2:I100000,\"29??\",'Accounting Data'!J2:J100000,\"61??\")+SUMIFS('Accounting Data'!C2:C100000,'Accounting Data'!E2:E100000,\"9??\",'Accounting Data'!I2:I100000,\"29??\",'Accounting Data'!J2:J100000,\"61??\")","v":{"v":0,"d":"0 "}},{"$f":"SUMIFS('Accounting Data'!C2:C100000,'Accounting Data'!H2:H100000,\"7??\",'Accounting Data'!I2:I100000,\"29??\",'Accounting Data'!J2:J100000,\"61??\")+SUMIFS('Accounting Data'!C2:C100000,'Accounting Data'!H2:H100000,\"8??\",'Accounting Data'!I2:I100000,\"29??\",'Accounting Data'!J2:J100000,\"61??\")+SUMIFS('Accounting Data'!C2:C100000,'Accounting Data'!H2:H100000,\"9??\",'Accounting Data'!I2:I100000,\"29??\",'Accounting Data'!J2:J100000,\"61??\")","v":{"v":0,"d":"0 "}},{"$f":"SUMIFS('Accounting Data'!C2:C100000,'Accounting Data'!E2:E100000,\"575\",'Accounting Data'!H2:H100000,\"7??\",'Accounting Data'!I2:I100000,\"29??\",'Accounting Data'!J2:J100000,\"61??\")+SUMIFS('Accounting Data'!C2:C100000,'Accounting Data'!E2:E100000,\"575\",'Accounting Data'!H2:H100000,\"8??\",'Accounting Data'!I2:I100000,\"29??\",'Accounting Data'!J2:J100000,\"61??\")+SUMIFS('Accounting Data'!C2:C100000,'Accounting Data'!E2:E100000,\"575\",'Accounting Data'!H2:H100000,\"9??\",'Accounting Data'!I2:I100000,\"29??\",'Accounting Data'!J2:J100000,\"61??\")","v":{"v":0,"d":"0 "}},{"$f":"SUMIFS('Accounting Data'!C2:C100000,'Accounting Data'!E2:E100000,\"8??\",'Accounting Data'!H2:H100000,\"7??\",'Accounting Data'!I2:I100000,\"29??\",'Accounting Data'!J2:J100000,\"61??\")+SUMIFS('Accounting Data'!C2:C100000,'Accounting Data'!E2:E100000,\"8??\",'Accounting Data'!H2:H100000,\"8??\",'Accounting Data'!I2:I100000,\"29??\",'Accounting Data'!J2:J100000,\"61??\")+SUMIFS('Accounting Data'!C2:C100000,'Accounting Data'!E2:E100000,\"8??\",'Accounting Data'!H2:H100000,\"9??\",'Accounting Data'!I2:I100000,\"29??\",'Accounting Data'!J2:J100000,\"61??\")","v":{"v":0,"d":"0 "}},{"$f":"SUMIFS('Accounting Data'!C2:C100000,'Accounting Data'!E2:E100000,\"9??\",'Accounting Data'!H2:H100000,\"7??\",'Accounting Data'!I2:I100000,\"29??\",'Accounting Data'!J2:J100000,\"61??\")+SUMIFS('Accounting Data'!C2:C100000,'Accounting Data'!E2:E100000,\"9??\",'Accounting Data'!H2:H100000,\"8??\",'Accounting Data'!I2:I100000,\"29??\",'Accounting Data'!J2:J100000,\"61??\")+SUMIFS('Accounting Data'!C2:C100000,'Accounting Data'!E2:E100000,\"9??\",'Accounting Data'!H2:H100000,\"9??\",'Accounting Data'!I2:I100000,\"29??\",'Accounting Data'!J2:J100000,\"61??\")","v":{"v":0,"d":"0 "}},null,2900,{"$f":"SUMIFS('Accounting Data'!C2:C100000,'Accounting Data'!I2:I100000,\"29??\",'Accounting Data'!J2:J100000,\"62??\")","v":{"v":0,"d":"0 "}},{"$f":"SUMIFS('Accounting Data'!C2:C100000,'Accounting Data'!E2:E100000,\"575\",'Accounting Data'!I2:I100000,\"29??\",'Accounting Data'!J2:J100000,\"62??\")+SUMIFS('Accounting Data'!C2:C100000,'Accounting Data'!E2:E100000,\"8??\",'Accounting Data'!I2:I100000,\"29??\",'Accounting Data'!J2:J100000,\"62??\")+SUMIFS('Accounting Data'!C2:C100000,'Accounting Data'!E2:E100000,\"9??\",'Accounting Data'!I2:I100000,\"29??\",'Accounting Data'!J2:J100000,\"62??\")","v":{"v":0,"d":"0 "}},{"$f":"SUMIFS('Accounting Data'!C2:C100000,'Accounting Data'!H2:H100000,\"7??\",'Accounting Data'!I2:I100000,\"29??\",'Accounting Data'!J2:J100000,\"62??\")+SUMIFS('Accounting Data'!C2:C100000,'Accounting Data'!H2:H100000,\"8??\",'Accounting Data'!I2:I100000,\"29??\",'Accounting Data'!J2:J100000,\"62??\")+SUMIFS('Accounting Data'!C2:C100000,'Accounting Data'!H2:H100000,\"9??\",'Accounting Data'!I2:I100000,\"29??\",'Accounting Data'!J2:J100000,\"62??\")","v":{"v":0,"d":"0 "}},{"$f":"SUMIFS('Accounting Data'!C2:C100000,'Accounting Data'!E2:E100000,\"575\",'Accounting Data'!H2:H100000,\"7??\",'Accounting Data'!I2:I100000,\"29??\",'Accounting Data'!J2:J100000,\"62??\")+SUMIFS('Accounting Data'!C2:C100000,'Accounting Data'!E2:E100000,\"575\",'Accounting Data'!H2:H100000,\"8??\",'Accounting Data'!I2:I100000,\"29??\",'Accounting Data'!J2:J100000,\"62??\")+SUMIFS('Accounting Data'!C2:C100000,'Accounting Data'!E2:E100000,\"575\",'Accounting Data'!H2:H100000,\"9??\",'Accounting Data'!I2:I100000,\"29??\",'Accounting Data'!J2:J100000,\"62??\")","v":{"v":0,"d":"0 "}},{"$f":"SUMIFS('Accounting Data'!C2:C100000,'Accounting Data'!E2:E100000,\"8??\",'Accounting Data'!H2:H100000,\"7??\",'Accounting Data'!I2:I100000,\"29??\",'Accounting Data'!J2:J100000,\"62??\")+SUMIFS('Accounting Data'!C2:C100000,'Accounting Data'!E2:E100000,\"8??\",'Accounting Data'!H2:H100000,\"8??\",'Accounting Data'!I2:I100000,\"29??\",'Accounting Data'!J2:J100000,\"62??\")+SUMIFS('Accounting Data'!C2:C100000,'Accounting Data'!E2:E100000,\"8??\",'Accounting Data'!H2:H100000,\"9??\",'Accounting Data'!I2:I100000,\"29??\",'Accounting Data'!J2:J100000,\"62??\")","v":{"v":0,"d":"0 "}},{"$f":"SUMIFS('Accounting Data'!C2:C100000,'Accounting Data'!E2:E100000,\"9??\",'Accounting Data'!H2:H100000,\"7??\",'Accounting Data'!I2:I100000,\"29??\",'Accounting Data'!J2:J100000,\"62??\")+SUMIFS('Accounting Data'!C2:C100000,'Accounting Data'!E2:E100000,\"9??\",'Accounting Data'!H2:H100000,\"8??\",'Accounting Data'!I2:I100000,\"29??\",'Accounting Data'!J2:J100000,\"62??\")+SUMIFS('Accounting Data'!C2:C100000,'Accounting Data'!E2:E100000,\"9??\",'Accounting Data'!H2:H100000,\"9??\",'Accounting Data'!I2:I100000,\"29??\",'Accounting Data'!J2:J100000,\"62??\")","v":{"v":0,"d":"0 "}},null,2900,{"$f":"SUMIFS('Accounting Data'!C2:C100000,'Accounting Data'!I2:I100000,\"29??\",'Accounting Data'!J2:J100000,\"63??\")+SUMIFS('Accounting Data'!C2:C100000,'Accounting Data'!I2:I100000,\"29??\",'Accounting Data'!J2:J100000,\"64??\")+SUMIFS('Accounting Data'!C2:C100000,'Accounting Data'!I2:I100000,\"29??\",'Accounting Data'!J2:J100000,\"65??\")","v":{"v":0,"d":"0 "}},{"$f":"SUMIFS('Accounting Data'!C2:C100000,'Accounting Data'!E2:E100000,\"575\",'Accounting Data'!I2:I100000,\"29??\",'Accounting Data'!J2:J100000,\"63??\")+SUMIFS('Accounting Data'!C2:C100000,'Accounting Data'!E2:E100000,\"8??\",'Accounting Data'!I2:I100000,\"29??\",'Accounting Data'!J2:J100000,\"63??\")+SUMIFS('Accounting Data'!C2:C100000,'Accounting Data'!E2:E100000,\"9??\",'Accounting Data'!I2:I100000,\"29??\",'Accounting Data'!J2:J100000,\"63??\")","v":{"v":0,"d":"0 "}},{"$f":"SUMIFS('Accounting Data'!C2:C100000,'Accounting Data'!E2:E100000,\"575\",'Accounting Data'!I2:I100000,\"29??\",'Accounting Data'!J2:J100000,\"64??\")+SUMIFS('Accounting Data'!C2:C100000,'Accounting Data'!E2:E100000,\"8??\",'Accounting Data'!I2:I100000,\"29??\",'Accounting Data'!J2:J100000,\"64??\")+SUMIFS('Accounting Data'!C2:C100000,'Accounting Data'!E2:E100000,\"9??\",'Accounting Data'!I2:I100000,\"29??\",'Accounting Data'!J2:J100000,\"64??\")","v":{"v":0,"d":"0 "}},{"$f":"SUMIFS('Accounting Data'!C2:C100000,'Accounting Data'!E2:E100000,\"575\",'Accounting Data'!I2:I100000,\"29??\",'Accounting Data'!J2:J100000,\"65??\")+SUMIFS('Accounting Data'!C2:C100000,'Accounting Data'!E2:E100000,\"8??\",'Accounting Data'!I2:I100000,\"29??\",'Accounting Data'!J2:J100000,\"65??\")+SUMIFS('Accounting Data'!C2:C100000,'Accounting Data'!E2:E100000,\"9??\",'Accounting Data'!I2:I100000,\"29??\",'Accounting Data'!J2:J100000,\"65??\")","v":{"v":0,"d":"0 "}},{"$f":"SUMIFS('Accounting Data'!C2:C100000,'Accounting Data'!H2:H100000,\"7??\",'Accounting Data'!I2:I100000,\"29??\",'Accounting Data'!J2:J100000,\"63??\")+SUMIFS('Accounting Data'!C2:C100000,'Accounting Data'!H2:H100000,\"8??\",'Accounting Data'!I2:I100000,\"29??\",'Accounting Data'!J2:J100000,\"63??\")+SUMIFS('Accounting Data'!C2:C100000,'Accounting Data'!H2:H100000,\"9??\",'Accounting Data'!I2:I100000,\"29??\",'Accounting Data'!J2:J100000,\"63??\")+SUMIFS('Accounting Data'!C2:C100000,'Accounting Data'!H2:H100000,\"7??\",'Accounting Data'!I2:I100000,\"29??\",'Accounting Data'!J2:J100000,\"64??\")+SUMIFS('Accounting Data'!C2:C100000,'Accounting Data'!H2:H100000,\"8??\",'Accounting Data'!I2:I100000,\"29??\",'Accounting Data'!J2:J100000,\"64??\")+SUMIFS('Accounting Data'!C2:C100000,'Accounting Data'!H2:H100000,\"9??\",'Accounting Data'!I2:I100000,\"29??\",'Accounting Data'!J2:J100000,\"64??\")+SUMIFS('Accounting Data'!C2:C100000,'Accounting Data'!H2:H100000,\"7??\",'Accounting Data'!I2:I100000,\"29??\",'Accounting Data'!J2:J100000,\"65??\")+SUMIFS('Accounting Data'!C2:C100000,'Accounting Data'!H2:H100000,\"8??\",'Accounting Data'!I2:I100000,\"29??\",'Accounting Data'!J2:J100000,\"65??\")+SUMIFS('Accounting Data'!C2:C100000,'Accounting Data'!H2:H100000,\"9??\",'Accounting Data'!I2:I100000,\"29??\",'Accounting Data'!J2:J100000,\"65??\")","v":{"v":0,"d":"0 "}},{"$f":"SUMIFS('Accounting Data'!C2:C100000,'Accounting Data'!E2:E100000,\"575\",'Accounting Data'!H2:H100000,\"7??\",'Accounting Data'!I2:I100000,\"29??\",'Accounting Data'!J2:J100000,\"63??\")+SUMIFS('Accounting Data'!C2:C100000,'Accounting Data'!E2:E100000,\"575\",'Accounting Data'!H2:H100000,\"8??\",'Accounting Data'!I2:I100000,\"29??\",'Accounting Data'!J2:J100000,\"63??\")+SUMIFS('Accounting Data'!C2:C100000,'Accounting Data'!E2:E100000,\"575\",'Accounting Data'!H2:H100000,\"9??\",'Accounting Data'!I2:I100000,\"29??\",'Accounting Data'!J2:J100000,\"63??\")","v":{"v":0,"d":"0 "}},{"$f":"SUMIFS('Accounting Data'!C2:C100000,'Accounting Data'!E2:E100000,\"575\",'Accounting Data'!H2:H100000,\"7??\",'Accounting Data'!I2:I100000,\"29??\",'Accounting Data'!J2:J100000,\"64??\")+SUMIFS('Accounting Data'!C2:C100000,'Accounting Data'!E2:E100000,\"575\",'Accounting Data'!H2:H100000,\"8??\",'Accounting Data'!I2:I100000,\"29??\",'Accounting Data'!J2:J100000,\"64??\")+SUMIFS('Accounting Data'!C2:C100000,'Accounting Data'!E2:E100000,\"575\",'Accounting Data'!H2:H100000,\"9??\",'Accounting Data'!I2:I100000,\"29??\",'Accounting Data'!J2:J100000,\"64??\")","v":{"v":0,"d":"0 "}},{"$f":"SUMIFS('Accounting Data'!C2:C100000,'Accounting Data'!E2:E100000,\"575\",'Accounting Data'!H2:H100000,\"7??\",'Accounting Data'!I2:I100000,\"29??\",'Accounting Data'!J2:J100000,\"65??\")+SUMIFS('Accounting Data'!C2:C100000,'Accounting Data'!E2:E100000,\"575\",'Accounting Data'!H2:H100000,\"8??\",'Accounting Data'!I2:I100000,\"29??\",'Accounting Data'!J2:J100000,\"65??\")+SUMIFS('Accounting Data'!C2:C100000,'Accounting Data'!E2:E100000,\"575\",'Accounting Data'!H2:H100000,\"9??\",'Accounting Data'!I2:I100000,\"29??\",'Accounting Data'!J2:J100000,\"65??\")","v":{"v":0,"d":"0 "}},{"$f":"SUMIFS('Accounting Data'!C2:C100000,'Accounting Data'!E2:E100000,\"8??\",'Accounting Data'!H2:H100000,\"7??\",'Accounting Data'!I2:I100000,\"29??\",'Accounting Data'!J2:J100000,\"63??\")+SUMIFS('Accounting Data'!C2:C100000,'Accounting Data'!E2:E100000,\"8??\",'Accounting Data'!H2:H100000,\"8??\",'Accounting Data'!I2:I100000,\"29??\",'Accounting Data'!J2:J100000,\"63??\")+SUMIFS('Accounting Data'!C2:C100000,'Accounting Data'!E2:E100000,\"8??\",'Accounting Data'!H2:H100000,\"9??\",'Accounting Data'!I2:I100000,\"29??\",'Accounting Data'!J2:J100000,\"63??\")","v":{"v":0,"d":"0 "}},{"$f":"SUMIFS('Accounting Data'!C2:C100000,'Accounting Data'!E2:E100000,\"8??\",'Accounting Data'!H2:H100000,\"7??\",'Accounting Data'!I2:I100000,\"29??\",'Accounting Data'!J2:J100000,\"64??\")+SUMIFS('Accounting Data'!C2:C100000,'Accounting Data'!E2:E100000,\"8??\",'Accounting Data'!H2:H100000,\"8??\",'Accounting Data'!I2:I100000,\"29??\",'Accounting Data'!J2:J100000,\"64??\")+SUMIFS('Accounting Data'!C2:C100000,'Accounting Data'!E2:E100000,\"8??\",'Accounting Data'!H2:H100000,\"9??\",'Accounting Data'!I2:I100000,\"29??\",'Accounting Data'!J2:J100000,\"64??\")","v":{"v":0,"d":"0 "}},{"$f":"SUMIFS('Accounting Data'!C2:C100000,'Accounting Data'!E2:E100000,\"8??\",'Accounting Data'!H2:H100000,\"7??\",'Accounting Data'!I2:I100000,\"29??\",'Accounting Data'!J2:J100000,\"65??\")+SUMIFS('Accounting Data'!C2:C100000,'Accounting Data'!E2:E100000,\"8??\",'Accounting Data'!H2:H100000,\"8??\",'Accounting Data'!I2:I100000,\"29??\",'Accounting Data'!J2:J100000,\"65??\")+SUMIFS('Accounting Data'!C2:C100000,'Accounting Data'!E2:E100000,\"8??\",'Accounting Data'!H2:H100000,\"9??\",'Accounting Data'!I2:I100000,\"29??\",'Accounting Data'!J2:J100000,\"65??\")","v":{"v":0,"d":"0 "}},{"$f":"SUMIFS('Accounting Data'!C2:C100000,'Accounting Data'!E2:E100000,\"9??\",'Accounting Data'!H2:H100000,\"7??\",'Accounting Data'!I2:I100000,\"29??\",'Accounting Data'!J2:J100000,\"63??\")+SUMIFS('Accounting Data'!C2:C100000,'Accounting Data'!E2:E100000,\"9??\",'Accounting Data'!H2:H100000,\"8??\",'Accounting Data'!I2:I100000,\"29??\",'Accounting Data'!J2:J100000,\"63??\")+SUMIFS('Accounting Data'!C2:C100000,'Accounting Data'!E2:E100000,\"9??\",'Accounting Data'!H2:H100000,\"9??\",'Accounting Data'!I2:I100000,\"29??\",'Accounting Data'!J2:J100000,\"63??\")","v":{"v":0,"d":"0 "}},{"$f":"SUMIFS('Accounting Data'!C2:C100000,'Accounting Data'!E2:E100000,\"9??\",'Accounting Data'!H2:H100000,\"7??\",'Accounting Data'!I2:I100000,\"29??\",'Accounting Data'!J2:J100000,\"64??\")+SUMIFS('Accounting Data'!C2:C100000,'Accounting Data'!E2:E100000,\"9??\",'Accounting Data'!H2:H100000,\"8??\",'Accounting Data'!I2:I100000,\"29??\",'Accounting Data'!J2:J100000,\"64??\")+SUMIFS('Accounting Data'!C2:C100000,'Accounting Data'!E2:E100000,\"9??\",'Accounting Data'!H2:H100000,\"9??\",'Accounting Data'!I2:I100000,\"29??\",'Accounting Data'!J2:J100000,\"64??\")","v":{"v":0,"d":"0 "}},{"$f":"SUMIFS('Accounting Data'!C2:C100000,'Accounting Data'!E2:E100000,\"9??\",'Accounting Data'!H2:H100000,\"7??\",'Accounting Data'!I2:I100000,\"29??\",'Accounting Data'!J2:J100000,\"65??\")+SUMIFS('Accounting Data'!C2:C100000,'Accounting Data'!E2:E100000,\"9??\",'Accounting Data'!H2:H100000,\"8??\",'Accounting Data'!I2:I100000,\"29??\",'Accounting Data'!J2:J100000,\"65??\")+SUMIFS('Accounting Data'!C2:C100000,'Accounting Data'!E2:E100000,\"9??\",'Accounting Data'!H2:H100000,\"9??\",'Accounting Data'!I2:I100000,\"29??\",'Accounting Data'!J2:J100000,\"65??\")","v":{"v":0,"d":"0 "}},null,2900,{"$f":"SUMIFS('Accounting Data'!C2:C100000,'Accounting Data'!I2:I100000,\"29??\",'Accounting Data'!J2:J100000,\"66??\")","v":{"v":0,"d":"0 "}},{"$f":"SUMIFS('Accounting Data'!$C$2:$C$100000,'Accounting Data'!$E$2:$E$100000,\"575\",'Accounting Data'!$I$2:$I$100000,\"29??\",'Accounting Data'!$J$2:$J$100000,\"66??\")+SUMIFS('Accounting Data'!$C$2:$C$100000,'Accounting Data'!$E$2:$E$100000,\"8??\",'Accounting Data'!$I$2:$I$100000,\"29??\",'Accounting Data'!$J$2:$J$100000,\"66??\")+SUMIFS('Accounting Data'!$C$2:$C$100000,'Accounting Data'!$E$2:$E$100000,\"9??\",'Accounting Data'!$I$2:$I$100000,\"29??\",'Accounting Data'!$J$2:$J$100000,\"66??\")","v":{"v":0,"d":"0 "}},{"$f":"SUMIFS('Accounting Data'!$C$2:$C$100000,'Accounting Data'!$H$2:$H$100000,\"7??\",'Accounting Data'!$I$2:$I$100000,\"29??\",'Accounting Data'!$J$2:$J$100000,\"66??\")+SUMIFS('Accounting Data'!$C$2:$C$100000,'Accounting Data'!$H$2:$H$100000,\"8??\",'Accounting Data'!$I$2:$I$100000,\"29??\",'Accounting Data'!$J$2:$J$100000,\"66??\")+SUMIFS('Accounting Data'!$C$2:$C$100000,'Accounting Data'!$H$2:$H$100000,\"9??\",'Accounting Data'!$I$2:$I$100000,\"29??\",'Accounting Data'!$J$2:$J$100000,\"66??\")","v":{"v":0,"d":"0 "}},{"$f":"SUMIFS('Accounting Data'!$C$2:$C$100000,'Accounting Data'!$E$2:$E$100000,\"575\",'Accounting Data'!$H$2:$H$100000,\"7??\",'Accounting Data'!$I$2:$I$100000,\"29??\",'Accounting Data'!$J$2:$J$100000,\"66??\")+SUMIFS('Accounting Data'!$C$2:$C$100000,'Accounting Data'!$E$2:$E$100000,\"575\",'Accounting Data'!$H$2:$H$100000,\"8??\",'Accounting Data'!$I$2:$I$100000,\"29??\",'Accounting Data'!$J$2:$J$100000,\"66??\")+SUMIFS('Accounting Data'!$C$2:$C$100000,'Accounting Data'!$E$2:$E$100000,\"575\",'Accounting Data'!$H$2:$H$100000,\"9??\",'Accounting Data'!$I$2:$I$100000,\"29??\",'Accounting Data'!$J$2:$J$100000,\"66??\")","v":{"v":0,"d":"0 "}},{"$f":"SUMIFS('Accounting Data'!$C$2:$C$100000,'Accounting Data'!$E$2:$E$100000,\"8??\",'Accounting Data'!$H$2:$H$100000,\"7??\",'Accounting Data'!$I$2:$I$100000,\"29??\",'Accounting Data'!$J$2:$J$100000,\"66??\")+SUMIFS('Accounting Data'!$C$2:$C$100000,'Accounting Data'!$E$2:$E$100000,\"8??\",'Accounting Data'!$H$2:$H$100000,\"8??\",'Accounting Data'!$I$2:$I$100000,\"29??\",'Accounting Data'!$J$2:$J$100000,\"66??\")+SUMIFS('Accounting Data'!$C$2:$C$100000,'Accounting Data'!$E$2:$E$100000,\"8??\",'Accounting Data'!$H$2:$H$100000,\"9??\",'Accounting Data'!$I$2:$I$100000,\"29??\",'Accounting Data'!$J$2:$J$100000,\"66??\")","v":{"v":0,"d":"0 "}},{"$f":"SUMIFS('Accounting Data'!$C$2:$C$100000,'Accounting Data'!$E$2:$E$100000,\"9??\",'Accounting Data'!$H$2:$H$100000,\"7??\",'Accounting Data'!$I$2:$I$100000,\"29??\",'Accounting Data'!$J$2:$J$100000,\"66??\")+SUMIFS('Accounting Data'!$C$2:$C$100000,'Accounting Data'!$E$2:$E$100000,\"9??\",'Accounting Data'!$H$2:$H$100000,\"8??\",'Accounting Data'!$I$2:$I$100000,\"29??\",'Accounting Data'!$J$2:$J$100000,\"66??\")+SUMIFS('Accounting Data'!$C$2:$C$100000,'Accounting Data'!$E$2:$E$100000,\"9??\",'Accounting Data'!$H$2:$H$100000,\"9??\",'Accounting Data'!$I$2:$I$100000,\"29??\",'Accounting Data'!$J$2:$J$100000,\"66??\")","v":{"v":0,"d":"0 "}},null,2900,{"$f":"SUMIFS('Accounting Data'!C2:C100000,'Accounting Data'!I2:I100000,\"29??\",'Accounting Data'!J2:J100000,\"67??\")","v":{"v":0,"d":"0 "}},{"$f":"SUMIFS('Accounting Data'!$C$2:$C$100000,'Accounting Data'!$E$2:$E$100000,\"575\",'Accounting Data'!$I$2:$I$100000,\"29??\",'Accounting Data'!$J$2:$J$100000,\"67??\")+SUMIFS('Accounting Data'!$C$2:$C$100000,'Accounting Data'!$E$2:$E$100000,\"8??\",'Accounting Data'!$I$2:$I$100000,\"29??\",'Accounting Data'!$J$2:$J$100000,\"67??\")+SUMIFS('Accounting Data'!$C$2:$C$100000,'Accounting Data'!$E$2:$E$100000,\"9??\",'Accounting Data'!$I$2:$I$100000,\"29??\",'Accounting Data'!$J$2:$J$100000,\"67??\")","v":{"v":0,"d":"0 "}},{"$f":"SUMIFS('Accounting Data'!$C$2:$C$100000,'Accounting Data'!$H$2:$H$100000,\"7??\",'Accounting Data'!$I$2:$I$100000,\"29??\",'Accounting Data'!$J$2:$J$100000,\"67??\")+SUMIFS('Accounting Data'!$C$2:$C$100000,'Accounting Data'!$H$2:$H$100000,\"8??\",'Accounting Data'!$I$2:$I$100000,\"29??\",'Accounting Data'!$J$2:$J$100000,\"67??\")+SUMIFS('Accounting Data'!$C$2:$C$100000,'Accounting Data'!$H$2:$H$100000,\"9??\",'Accounting Data'!$I$2:$I$100000,\"29??\",'Accounting Data'!$J$2:$J$100000,\"67??\")","v":{"v":0,"d":"0 "}},{"$f":"SUMIFS('Accounting Data'!$C$2:$C$100000,'Accounting Data'!$E$2:$E$100000,\"575\",'Accounting Data'!$H$2:$H$100000,\"7??\",'Accounting Data'!$I$2:$I$100000,\"29??\",'Accounting Data'!$J$2:$J$100000,\"67??\")+SUMIFS('Accounting Data'!$C$2:$C$100000,'Accounting Data'!$E$2:$E$100000,\"575\",'Accounting Data'!$H$2:$H$100000,\"8??\",'Accounting Data'!$I$2:$I$100000,\"29??\",'Accounting Data'!$J$2:$J$100000,\"67??\")+SUMIFS('Accounting Data'!$C$2:$C$100000,'Accounting Data'!$E$2:$E$100000,\"575\",'Accounting Data'!$H$2:$H$100000,\"9??\",'Accounting Data'!$I$2:$I$100000,\"29??\",'Accounting Data'!$J$2:$J$100000,\"67??\")","v":{"v":0,"d":"0 "}},{"$f":"SUMIFS('Accounting Data'!$C$2:$C$100000,'Accounting Data'!$E$2:$E$100000,\"8??\",'Accounting Data'!$H$2:$H$100000,\"7??\",'Accounting Data'!$I$2:$I$100000,\"29??\",'Accounting Data'!$J$2:$J$100000,\"67??\")+SUMIFS('Accounting Data'!$C$2:$C$100000,'Accounting Data'!$E$2:$E$100000,\"8??\",'Accounting Data'!$H$2:$H$100000,\"8??\",'Accounting Data'!$I$2:$I$100000,\"29??\",'Accounting Data'!$J$2:$J$100000,\"67??\")+SUMIFS('Accounting Data'!$C$2:$C$100000,'Accounting Data'!$E$2:$E$100000,\"8??\",'Accounting Data'!$H$2:$H$100000,\"9??\",'Accounting Data'!$I$2:$I$100000,\"29??\",'Accounting Data'!$J$2:$J$100000,\"67??\")","v":{"v":0,"d":"0 "}},{"$f":"SUMIFS('Accounting Data'!$C$2:$C$100000,'Accounting Data'!$E$2:$E$100000,\"9??\",'Accounting Data'!$H$2:$H$100000,\"7??\",'Accounting Data'!$I$2:$I$100000,\"29??\",'Accounting Data'!$J$2:$J$100000,\"67??\")+SUMIFS('Accounting Data'!$C$2:$C$100000,'Accounting Data'!$E$2:$E$100000,\"9??\",'Accounting Data'!$H$2:$H$100000,\"8??\",'Accounting Data'!$I$2:$I$100000,\"29??\",'Accounting Data'!$J$2:$J$100000,\"67??\")+SUMIFS('Accounting Data'!$C$2:$C$100000,'Accounting Data'!$E$2:$E$100000,\"9??\",'Accounting Data'!$H$2:$H$100000,\"9??\",'Accounting Data'!$I$2:$I$100000,\"29??\",'Accounting Data'!$J$2:$J$100000,\"67??\")","v":{"v":0,"d":"0 "}},null,2900,{"$f":"SUMIFS('Accounting Data'!C2:C100000,'Accounting Data'!I2:I100000,\"29??\",'Accounting Data'!J2:J100000,\"681?\")","v":{"v":0,"d":"0 "}},{"$f":"SUMIFS('Accounting Data'!$C$2:$C$100000,'Accounting Data'!$E$2:$E$100000,\"575\",'Accounting Data'!$I$2:$I$100000,\"29??\",'Accounting Data'!$J$2:$J$100000,\"681?\")+SUMIFS('Accounting Data'!$C$2:$C$100000,'Accounting Data'!$E$2:$E$100000,\"8??\",'Accounting Data'!$I$2:$I$100000,\"29??\",'Accounting Data'!$J$2:$J$100000,\"681?\")+SUMIFS('Accounting Data'!$C$2:$C$100000,'Accounting Data'!$E$2:$E$100000,\"9??\",'Accounting Data'!$I$2:$I$100000,\"29??\",'Accounting Data'!$J$2:$J$100000,\"681?\")","v":{"v":0,"d":"0 "}},{"$f":"SUMIFS('Accounting Data'!$C$2:$C$100000,'Accounting Data'!$H$2:$H$100000,\"7??\",'Accounting Data'!$I$2:$I$100000,\"29??\",'Accounting Data'!$J$2:$J$100000,\"681?\")+SUMIFS('Accounting Data'!$C$2:$C$100000,'Accounting Data'!$H$2:$H$100000,\"8??\",'Accounting Data'!$I$2:$I$100000,\"29??\",'Accounting Data'!$J$2:$J$100000,\"681?\")+SUMIFS('Accounting Data'!$C$2:$C$100000,'Accounting Data'!$H$2:$H$100000,\"9??\",'Accounting Data'!$I$2:$I$100000,\"29??\",'Accounting Data'!$J$2:$J$100000,\"681?\")","v":{"v":0,"d":"0 "}},{"$f":"SUMIFS('Accounting Data'!$C$2:$C$100000,'Accounting Data'!$E$2:$E$100000,\"575\",'Accounting Data'!$H$2:$H$100000,\"7??\",'Accounting Data'!$I$2:$I$100000,\"29??\",'Accounting Data'!$J$2:$J$100000,\"681?\")+SUMIFS('Accounting Data'!$C$2:$C$100000,'Accounting Data'!$E$2:$E$100000,\"575\",'Accounting Data'!$H$2:$H$100000,\"8??\",'Accounting Data'!$I$2:$I$100000,\"29??\",'Accounting Data'!$J$2:$J$100000,\"681?\")+SUMIFS('Accounting Data'!$C$2:$C$100000,'Accounting Data'!$E$2:$E$100000,\"575\",'Accounting Data'!$H$2:$H$100000,\"9??\",'Accounting Data'!$I$2:$I$100000,\"29??\",'Accounting Data'!$J$2:$J$100000,\"681?\")","v":{"v":0,"d":"0 "}},{"$f":"SUMIFS('Accounting Data'!$C$2:$C$100000,'Accounting Data'!$E$2:$E$100000,\"8??\",'Accounting Data'!$H$2:$H$100000,\"7??\",'Accounting Data'!$I$2:$I$100000,\"29??\",'Accounting Data'!$J$2:$J$100000,\"681?\")+SUMIFS('Accounting Data'!$C$2:$C$100000,'Accounting Data'!$E$2:$E$100000,\"8??\",'Accounting Data'!$H$2:$H$100000,\"8??\",'Accounting Data'!$I$2:$I$100000,\"29??\",'Accounting Data'!$J$2:$J$100000,\"681?\")+SUMIFS('Accounting Data'!$C$2:$C$100000,'Accounting Data'!$E$2:$E$100000,\"8??\",'Accounting Data'!$H$2:$H$100000,\"9??\",'Accounting Data'!$I$2:$I$100000,\"29??\",'Accounting Data'!$J$2:$J$100000,\"681?\")","v":{"v":0,"d":"0 "}},{"$f":"SUMIFS('Accounting Data'!$C$2:$C$100000,'Accounting Data'!$E$2:$E$100000,\"9??\",'Accounting Data'!$H$2:$H$100000,\"7??\",'Accounting Data'!$I$2:$I$100000,\"29??\",'Accounting Data'!$J$2:$J$100000,\"681?\")+SUMIFS('Accounting Data'!$C$2:$C$100000,'Accounting Data'!$E$2:$E$100000,\"9??\",'Accounting Data'!$H$2:$H$100000,\"8??\",'Accounting Data'!$I$2:$I$100000,\"29??\",'Accounting Data'!$J$2:$J$100000,\"681?\")+SUMIFS('Accounting Data'!$C$2:$C$100000,'Accounting Data'!$E$2:$E$100000,\"9??\",'Accounting Data'!$H$2:$H$100000,\"9??\",'Accounting Data'!$I$2:$I$100000,\"29??\",'Accounting Data'!$J$2:$J$100000,\"681?\")","v":{"v":0,"d":"0 "}},null,2500,{"$f":"SUMIFS('Accounting Data'!C2:C100000,'Accounting Data'!I2:I100000,\"25??\",'Accounting Data'!J2:J100000,\"685?\")","v":{"v":0,"d":"0 "}},null,null,{"$f":"SUMIFS('Accounting Data'!$C$2:$C$100000,'Accounting Data'!$E$2:$E$100000,\"575\",'Accounting Data'!$I$2:$I$100000,\"25??\",'Accounting Data'!$J$2:$J$100000,\"685?\")+SUMIFS('Accounting Data'!$C$2:$C$100000,'Accounting Data'!$E$2:$E$100000,\"8??\",'Accounting Data'!$I$2:$I$100000,\"25??\",'Accounting Data'!$J$2:$J$100000,\"685?\")+SUMIFS('Accounting Data'!$C$2:$C$100000,'Accounting Data'!$E$2:$E$100000,\"9??\",'Accounting Data'!$I$2:$I$100000,\"25??\",'Accounting Data'!$J$2:$J$100000,\"685?\")","v":{"v":0,"d":"0 "}},{"$f":"SUMIFS('Accounting Data'!C2:C100000,'Accounting Data'!H2:H100000,\"7??\",'Accounting Data'!I2:I100000,\"25??\",'Accounting Data'!J2:J100000,\"685?\")+SUMIFS('Accounting Data'!C2:C100000,'Accounting Data'!H2:H100000,\"8??\",'Accounting Data'!I2:I100000,\"25??\",'Accounting Data'!J2:J100000,\"685?\")+SUMIFS('Accounting Data'!C2:C100000,'Accounting Data'!H2:H100000,\"9??\",'Accounting Data'!I2:I100000,\"25??\",'Accounting Data'!J2:J100000,\"685?\")","v":{"v":0,"d":"0 "}},null,null,{"$f":"SUMIFS('Accounting Data'!$C$2:$C$100000,'Accounting Data'!$E$2:$E$100000,\"575\",'Accounting Data'!$H$2:$H$100000,\"7??\",'Accounting Data'!$I$2:$I$100000,\"25??\",'Accounting Data'!$J$2:$J$100000,\"685?\")+SUMIFS('Accounting Data'!$C$2:$C$100000,'Accounting Data'!$E$2:$E$100000,\"575\",'Accounting Data'!$H$2:$H$100000,\"8??\",'Accounting Data'!$I$2:$I$100000,\"25??\",'Accounting Data'!$J$2:$J$100000,\"685?\")+SUMIFS('Accounting Data'!$C$2:$C$100000,'Accounting Data'!$E$2:$E$100000,\"575\",'Accounting Data'!$H$2:$H$100000,\"9??\",'Accounting Data'!$I$2:$I$100000,\"25??\",'Accounting Data'!$J$2:$J$100000,\"685?\")","v":{"v":0,"d":"0 "}},null,null,{"$f":"SUMIFS('Accounting Data'!$C$2:$C$100000,'Accounting Data'!$E$2:$E$100000,\"8??\",'Accounting Data'!$H$2:$H$100000,\"7??\",'Accounting Data'!$I$2:$I$100000,\"25??\",'Accounting Data'!$J$2:$J$100000,\"685?\")+SUMIFS('Accounting Data'!$C$2:$C$100000,'Accounting Data'!$E$2:$E$100000,\"8??\",'Accounting Data'!$H$2:$H$100000,\"8??\",'Accounting Data'!$I$2:$I$100000,\"25??\",'Accounting Data'!$J$2:$J$100000,\"685?\")+SUMIFS('Accounting Data'!$C$2:$C$100000,'Accounting Data'!$E$2:$E$100000,\"8??\",'Accounting Data'!$H$2:$H$100000,\"9??\",'Accounting Data'!$I$2:$I$100000,\"25??\",'Accounting Data'!$J$2:$J$100000,\"685?\")","v":{"v":0,"d":"0 "}},null,null,{"$f":"SUMIFS('Accounting Data'!$C$2:$C$100000,'Accounting Data'!$E$2:$E$100000,\"9??\",'Accounting Data'!$H$2:$H$100000,\"7??\",'Accounting Data'!$I$2:$I$100000,\"25??\",'Accounting Data'!$J$2:$J$100000,\"685?\")+SUMIFS('Accounting Data'!$C$2:$C$100000,'Accounting Data'!$E$2:$E$100000,\"9??\",'Accounting Data'!$H$2:$H$100000,\"8??\",'Accounting Data'!$I$2:$I$100000,\"25??\",'Accounting Data'!$J$2:$J$100000,\"685?\")+SUMIFS('Accounting Data'!$C$2:$C$100000,'Accounting Data'!$E$2:$E$100000,\"9??\",'Accounting Data'!$H$2:$H$100000,\"9??\",'Accounting Data'!$I$2:$I$100000,\"25??\",'Accounting Data'!$J$2:$J$100000,\"685?\")","v":{"v":0,"d":"0 "}},null,2900,{"$f":"SUMIFS('Accounting Data'!C2:C100000,'Accounting Data'!I2:I100000,\"29??\",'Accounting Data'!J2:J100000,\"689?\")","v":{"v":0,"d":"0 "}},{"$f":"SUMIFS('Accounting Data'!$C$2:$C$100000,'Accounting Data'!$E$2:$E$100000,\"575\",'Accounting Data'!$I$2:$I$100000,\"29??\",'Accounting Data'!$J$2:$J$100000,\"689?\")+SUMIFS('Accounting Data'!$C$2:$C$100000,'Accounting Data'!$E$2:$E$100000,\"8??\",'Accounting Data'!$I$2:$I$100000,\"29??\",'Accounting Data'!$J$2:$J$100000,\"689?\")+SUMIFS('Accounting Data'!$C$2:$C$100000,'Accounting Data'!$E$2:$E$100000,\"9??\",'Accounting Data'!$I$2:$I$100000,\"29??\",'Accounting Data'!$J$2:$J$100000,\"689?\")","v":{"v":0,"d":"0 "}},{"$f":"SUMIFS('Accounting Data'!$C$2:$C$100000,'Accounting Data'!$H$2:$H$100000,\"7??\",'Accounting Data'!$I$2:$I$100000,\"29??\",'Accounting Data'!$J$2:$J$100000,\"689?\")+SUMIFS('Accounting Data'!$C$2:$C$100000,'Accounting Data'!$H$2:$H$100000,\"8??\",'Accounting Data'!$I$2:$I$100000,\"29??\",'Accounting Data'!$J$2:$J$100000,\"689?\")+SUMIFS('Accounting Data'!$C$2:$C$100000,'Accounting Data'!$H$2:$H$100000,\"9??\",'Accounting Data'!$I$2:$I$100000,\"29??\",'Accounting Data'!$J$2:$J$100000,\"689?\")","v":{"v":0,"d":"0 "}},{"$f":"SUMIFS('Accounting Data'!$C$2:$C$100000,'Accounting Data'!$E$2:$E$100000,\"575\",'Accounting Data'!$H$2:$H$100000,\"7??\",'Accounting Data'!$I$2:$I$100000,\"29??\",'Accounting Data'!$J$2:$J$100000,\"689?\")+SUMIFS('Accounting Data'!$C$2:$C$100000,'Accounting Data'!$E$2:$E$100000,\"575\",'Accounting Data'!$H$2:$H$100000,\"8??\",'Accounting Data'!$I$2:$I$100000,\"29??\",'Accounting Data'!$J$2:$J$100000,\"689?\")+SUMIFS('Accounting Data'!$C$2:$C$100000,'Accounting Data'!$E$2:$E$100000,\"575\",'Accounting Data'!$H$2:$H$100000,\"9??\",'Accounting Data'!$I$2:$I$100000,\"29??\",'Accounting Data'!$J$2:$J$100000,\"689?\")","v":{"v":0,"d":"0 "}},{"$f":"SUMIFS('Accounting Data'!$C$2:$C$100000,'Accounting Data'!$E$2:$E$100000,\"8??\",'Accounting Data'!$H$2:$H$100000,\"7??\",'Accounting Data'!$I$2:$I$100000,\"29??\",'Accounting Data'!$J$2:$J$100000,\"689?\")+SUMIFS('Accounting Data'!$C$2:$C$100000,'Accounting Data'!$E$2:$E$100000,\"8??\",'Accounting Data'!$H$2:$H$100000,\"8??\",'Accounting Data'!$I$2:$I$100000,\"29??\",'Accounting Data'!$J$2:$J$100000,\"689?\")+SUMIFS('Accounting Data'!$C$2:$C$100000,'Accounting Data'!$E$2:$E$100000,\"8??\",'Accounting Data'!$H$2:$H$100000,\"9??\",'Accounting Data'!$I$2:$I$100000,\"29??\",'Accounting Data'!$J$2:$J$100000,\"689?\")","v":{"v":0,"d":"0 "}},{"$f":"SUMIFS('Accounting Data'!$C$2:$C$100000,'Accounting Data'!$E$2:$E$100000,\"9??\",'Accounting Data'!$H$2:$H$100000,\"7??\",'Accounting Data'!$I$2:$I$100000,\"29??\",'Accounting Data'!$J$2:$J$100000,\"689?\")+SUMIFS('Accounting Data'!$C$2:$C$100000,'Accounting Data'!$E$2:$E$100000,\"9??\",'Accounting Data'!$H$2:$H$100000,\"8??\",'Accounting Data'!$I$2:$I$100000,\"29??\",'Accounting Data'!$J$2:$J$100000,\"689?\")+SUMIFS('Accounting Data'!$C$2:$C$100000,'Accounting Data'!$E$2:$E$100000,\"9??\",'Accounting Data'!$H$2:$H$100000,\"9??\",'Accounting Data'!$I$2:$I$100000,\"29??\",'Accounting Data'!$J$2:$J$100000,\"689?\")","v":{"v":0,"d":"0 "}},null,2900,{"$f":"SUMIFS('Accounting Data'!$C$2:$C$100000,'Accounting Data'!$H$2:$H$100000,\"7??\",'Accounting Data'!$I$2:$I$100000,\"29??\",'Accounting Data'!$J$2:$J$100000,\"6???\")+SUMIFS('Accounting Data'!$C$2:$C$100000,'Accounting Data'!$H$2:$H$100000,\"8??\",'Accounting Data'!$I$2:$I$100000,\"29??\",'Accounting Data'!$J$2:$J$100000,\"6???\")+SUMIFS('Accounting Data'!$C$2:$C$100000,'Accounting Data'!$H$2:$H$100000,\"9??\",'Accounting Data'!$I$2:$I$100000,\"29??\",'Accounting Data'!$J$2:$J$100000,\"6???\")","v":{"v":0,"d":"0 "}},{"$f":"SUMIFS('Accounting Data'!$C$2:$C$100000,'Accounting Data'!$H$2:$H$100000,\"7??\",'Accounting Data'!$I$2:$I$100000,\"29??\",'Accounting Data'!$J$2:$J$100000,\"69??\")+SUMIFS('Accounting Data'!$C$2:$C$100000,'Accounting Data'!$H$2:$H$100000,\"8??\",'Accounting Data'!$I$2:$I$100000,\"29??\",'Accounting Data'!$J$2:$J$100000,\"69??\")+SUMIFS('Accounting Data'!$C$2:$C$100000,'Accounting Data'!$H$2:$H$100000,\"9??\",'Accounting Data'!$I$2:$I$100000,\"29??\",'Accounting Data'!$J$2:$J$100000,\"69??\")","v":{"v":0,"d":"0 "}},{"$f":"SUMIFS('Accounting Data'!$C$2:$C$100000,'Accounting Data'!$E$2:$E$100000,\"575\",'Accounting Data'!$H$2:$H$100000,\"7??\",'Accounting Data'!$I$2:$I$100000,\"29??\",'Accounting Data'!$J$2:$J$100000,\"6???\")+SUMIFS('Accounting Data'!$C$2:$C$100000,'Accounting Data'!$E$2:$E$100000,\"575\",'Accounting Data'!$H$2:$H$100000,\"8??\",'Accounting Data'!$I$2:$I$100000,\"29??\",'Accounting Data'!$J$2:$J$100000,\"6???\")+SUMIFS('Accounting Data'!$C$2:$C$100000,'Accounting Data'!$E$2:$E$100000,\"575\",'Accounting Data'!$H$2:$H$100000,\"9??\",'Accounting Data'!$I$2:$I$100000,\"29??\",'Accounting Data'!$J$2:$J$100000,\"6???\")","v":{"v":0,"d":"0 "}},{"$f":"SUMIFS('Accounting Data'!$C$2:$C$100000,'Accounting Data'!$E$2:$E$100000,\"8??\",'Accounting Data'!$H$2:$H$100000,\"7??\",'Accounting Data'!$I$2:$I$100000,\"29??\",'Accounting Data'!$J$2:$J$100000,\"6???\")+SUMIFS('Accounting Data'!$C$2:$C$100000,'Accounting Data'!$E$2:$E$100000,\"8??\",'Accounting Data'!$H$2:$H$100000,\"8??\",'Accounting Data'!$I$2:$I$100000,\"29??\",'Accounting Data'!$J$2:$J$100000,\"6???\")+SUMIFS('Accounting Data'!$C$2:$C$100000,'Accounting Data'!$E$2:$E$100000,\"8??\",'Accounting Data'!$H$2:$H$100000,\"9??\",'Accounting Data'!$I$2:$I$100000,\"29??\",'Accounting Data'!$J$2:$J$100000,\"6???\")+SUMIFS('Accounting Data'!$C$2:$C$100000,'Accounting Data'!$E$2:$E$100000,\"9??\",'Accounting Data'!$H$2:$H$100000,\"7??\",'Accounting Data'!$I$2:$I$100000,\"29??\",'Accounting Data'!$J$2:$J$100000,\"6???\")+SUMIFS('Accounting Data'!$C$2:$C$100000,'Accounting Data'!$E$2:$E$100000,\"9??\",'Accounting Data'!$H$2:$H$100000,\"8??\",'Accounting Data'!$I$2:$I$100000,\"29??\",'Accounting Data'!$J$2:$J$100000,\"6???\")+SUMIFS('Accounting Data'!$C$2:$C$100000,'Accounting Data'!$E$2:$E$100000,\"9??\",'Accounting Data'!$H$2:$H$100000,\"9??\",'Accounting Data'!$I$2:$I$100000,\"29??\",'Accounting Data'!$J$2:$J$100000,\"6???\")","v":{"v":0,"d":"0 "}},{"$f":"SUMIFS('Accounting Data'!$C$2:$C$100000,'Accounting Data'!$E$2:$E$100000,\"575\",'Accounting Data'!$H$2:$H$100000,\"7??\",'Accounting Data'!$I$2:$I$100000,\"29??\",'Accounting Data'!$J$2:$J$100000,\"69??\")+SUMIFS('Accounting Data'!$C$2:$C$100000,'Accounting Data'!$E$2:$E$100000,\"575\",'Accounting Data'!$H$2:$H$100000,\"8??\",'Accounting Data'!$I$2:$I$100000,\"29??\",'Accounting Data'!$J$2:$J$100000,\"69??\")+SUMIFS('Accounting Data'!$C$2:$C$100000,'Accounting Data'!$E$2:$E$100000,\"575\",'Accounting Data'!$H$2:$H$100000,\"9??\",'Accounting Data'!$I$2:$I$100000,\"29??\",'Accounting Data'!$J$2:$J$100000,\"69??\")","v":{"v":0,"d":"0 "}},{"$f":"SUMIFS('Accounting Data'!$C$2:$C$100000,'Accounting Data'!$E$2:$E$100000,\"8??\",'Accounting Data'!$H$2:$H$100000,\"7??\",'Accounting Data'!$I$2:$I$100000,\"29??\",'Accounting Data'!$J$2:$J$100000,\"69??\")+SUMIFS('Accounting Data'!$C$2:$C$100000,'Accounting Data'!$E$2:$E$100000,\"8??\",'Accounting Data'!$H$2:$H$100000,\"8??\",'Accounting Data'!$I$2:$I$100000,\"29??\",'Accounting Data'!$J$2:$J$100000,\"69??\")+SUMIFS('Accounting Data'!$C$2:$C$100000,'Accounting Data'!$E$2:$E$100000,\"8??\",'Accounting Data'!$H$2:$H$100000,\"9??\",'Accounting Data'!$I$2:$I$100000,\"29??\",'Accounting Data'!$J$2:$J$100000,\"69??\")+SUMIFS('Accounting Data'!$C$2:$C$100000,'Accounting Data'!$E$2:$E$100000,\"9??\",'Accounting Data'!$H$2:$H$100000,\"7??\",'Accounting Data'!$I$2:$I$100000,\"29??\",'Accounting Data'!$J$2:$J$100000,\"69??\")+SUMIFS('Accounting Data'!$C$2:$C$100000,'Accounting Data'!$E$2:$E$100000,\"9??\",'Accounting Data'!$H$2:$H$100000,\"8??\",'Accounting Data'!$I$2:$I$100000,\"29??\",'Accounting Data'!$J$2:$J$100000,\"69??\")+SUMIFS('Accounting Data'!$C$2:$C$100000,'Accounting Data'!$E$2:$E$100000,\"9??\",'Accounting Data'!$H$2:$H$100000,\"9??\",'Accounting Data'!$I$2:$I$100000,\"29??\",'Accounting Data'!$J$2:$J$100000,\"69??\")","v":{"v":0,"d":"0 "}}]
["         2700 Student Transportation","8.",{"$f":"(AA19-AB19-AC19)+(AD19+AE19+AF19)","v":{"v":10103,"d":"10,103 "}},{"$f":"(AI19-AJ19-AK19)+(AL19+AM19+AN19)","v":{"v":892,"d":"892 "}},{"$f":"(AQ19-AR19-AS19-AT19-AU19)+(AV19+AW19+AX19+AY19+AZ19+BA19+BB19+BC19+BD19)","v":{"v":3357,"d":"3,357 "}},{"$f":"(BG19-BH19-BI19)+(BJ19+BK19+BL19)","v":{"v":7707,"d":"7,707 "}},{"$f":"(BO19-BP19-BQ19)+(BR19+BS19+BT19)","v":{"v":837,"d":"837 "}},{"$f":"(BW19-BX19-BY19)+(BZ19+CA19+CB19)","v":{"v":0,"d":"0 "}},{"$nulls":3},{"$f":"(CU19-CV19-CW19)+(CX19+CY19+CZ19)","v":{"v":0,"d":"0 "}},null,{"v":22896,"d":"22,896 "},"8.",{"$nulls":3},"Object code",null,"% of Total",{"$nulls":4},2600,{"$f":"SUMIFS('Accounting Data'!C2:C100000,'Accounting Data'!I2:I100000,\"26??\",'Accounting Data'!J2:J100000,\"61??\")","v":{"v":29015,"d":"29,015 "}},{"$f":"SUMIFS('Accounting Data'!C2:C100000,'Accounting Data'!E2:E100000,\"575\",'Accounting Data'!I2:I100000,\"26??\",'Accounting Data'!J2:J100000,\"61??\")+SUMIFS('Accounting Data'!C2:C100000,'Accounting Data'!E2:E100000,\"8??\",'Accounting Data'!I2:I100000,\"26??\",'Accounting Data'!J2:J100000,\"61??\")+SUMIFS('Accounting Data'!C2:C100000,'Accounting Data'!E2:E100000,\"9??\",'Accounting Data'!I2:I100000,\"26??\",'Accounting Data'!J2:J100000,\"61??\")","v":{"v":0,"d":"0 "}},{"$f":"SUMIFS('Accounting Data'!C2:C100000,'Accounting Data'!H2:H100000,\"7??\",'Accounting Data'!I2:I100000,\"26??\",'Accounting Data'!J2:J100000,\"61??\")+SUMIFS('Accounting Data'!C2:C100000,'Accounting Data'!H2:H100000,\"8??\",'Accounting Data'!I2:I100000,\"26??\",'Accounting Data'!J2:J100000,\"61??\")+SUMIFS('Accounting Data'!C2:C100000,'Accounting Data'!H2:H100000,\"9??\",'Accounting Data'!I2:I100000,\"26??\",'Accounting Data'!J2:J100000,\"61??\")","v":{"v":0,"d":"0 "}},{"$f":"SUMIFS('Accounting Data'!C2:C100000,'Accounting Data'!E2:E100000,\"575\",'Accounting Data'!H2:H100000,\"7??\",'Accounting Data'!I2:I100000,\"26??\",'Accounting Data'!J2:J100000,\"61??\")+SUMIFS('Accounting Data'!C2:C100000,'Accounting Data'!E2:E100000,\"575\",'Accounting Data'!H2:H100000,\"8??\",'Accounting Data'!I2:I100000,\"26??\",'Accounting Data'!J2:J100000,\"61??\")+SUMIFS('Accounting Data'!C2:C100000,'Accounting Data'!E2:E100000,\"575\",'Accounting Data'!H2:H100000,\"9??\",'Accounting Data'!I2:I100000,\"26??\",'Accounting Data'!J2:J100000,\"61??\")","v":{"v":0,"d":"0 "}},{"$f":"SUMIFS('Accounting Data'!C2:C100000,'Accounting Data'!E2:E100000,\"8??\",'Accounting Data'!H2:H100000,\"7??\",'Accounting Data'!I2:I100000,\"26??\",'Accounting Data'!J2:J100000,\"61??\")+SUMIFS('Accounting Data'!C2:C100000,'Accounting Data'!E2:E100000,\"8??\",'Accounting Data'!H2:H100000,\"8??\",'Accounting Data'!I2:I100000,\"26??\",'Accounting Data'!J2:J100000,\"61??\")+SUMIFS('Accounting Data'!C2:C100000,'Accounting Data'!E2:E100000,\"8??\",'Accounting Data'!H2:H100000,\"9??\",'Accounting Data'!I2:I100000,\"26??\",'Accounting Data'!J2:J100000,\"61??\")","v":{"v":0,"d":"0 "}},{"$f":"SUMIFS('Accounting Data'!C2:C100000,'Accounting Data'!E2:E100000,\"9??\",'Accounting Data'!H2:H100000,\"7??\",'Accounting Data'!I2:I100000,\"26??\",'Accounting Data'!J2:J100000,\"61??\")+SUMIFS('Accounting Data'!C2:C100000,'Accounting Data'!E2:E100000,\"9??\",'Accounting Data'!H2:H100000,\"8??\",'Accounting Data'!I2:I100000,\"26??\",'Accounting Data'!J2:J100000,\"61??\")+SUMIFS('Accounting Data'!C2:C100000,'Accounting Data'!E2:E100000,\"9??\",'Accounting Data'!H2:H100000,\"9??\",'Accounting Data'!I2:I100000,\"26??\",'Accounting Data'!J2:J100000,\"61??\")","v":{"v":0,"d":"0 "}},null,2600,{"$f":"SUMIFS('Accounting Data'!C2:C100000,'Accounting Data'!I2:I100000,\"26??\",'Accounting Data'!J2:J100000,\"62??\")","v":{"v":13397,"d":"13,397 "}},{"$f":"SUMIFS('Accounting Data'!C2:C100000,'Accounting Data'!E2:E100000,\"575\",'Accounting Data'!I2:I100000,\"26??\",'Accounting Data'!J2:J100000,\"62??\")+SUMIFS('Accounting Data'!C2:C100000,'Accounting Data'!E2:E100000,\"8??\",'Accounting Data'!I2:I100000,\"26??\",'Accounting Data'!J2:J100000,\"62??\")+SUMIFS('Accounting Data'!C2:C100000,'Accounting Data'!E2:E100000,\"9??\",'Accounting Data'!I2:I100000,\"26??\",'Accounting Data'!J2:J100000,\"62??\")","v":{"v":0,"d":"0 "}},{"$f":"SUMIFS('Accounting Data'!C2:C100000,'Accounting Data'!H2:H100000,\"7??\",'Accounting Data'!I2:I100000,\"26??\",'Accounting Data'!J2:J100000,\"62??\")+SUMIFS('Accounting Data'!C2:C100000,'Accounting Data'!H2:H100000,\"8??\",'Accounting Data'!I2:I100000,\"26??\",'Accounting Data'!J2:J100000,\"62??\")+SUMIFS('Accounting Data'!C2:C100000,'Accounting Data'!H2:H100000,\"9??\",'Accounting Data'!I2:I100000,\"26??\",'Accounting Data'!J2:J100000,\"62??\")","v":{"v":0,"d":"0 "}},{"$f":"SUMIFS('Accounting Data'!C2:C100000,'Accounting Data'!E2:E100000,\"575\",'Accounting Data'!H2:H100000,\"7??\",'Accounting Data'!I2:I100000,\"26??\",'Accounting Data'!J2:J100000,\"62??\")+SUMIFS('Accounting Data'!C2:C100000,'Accounting Data'!E2:E100000,\"575\",'Accounting Data'!H2:H100000,\"8??\",'Accounting Data'!I2:I100000,\"26??\",'Accounting Data'!J2:J100000,\"62??\")+SUMIFS('Accounting Data'!C2:C100000,'Accounting Data'!E2:E100000,\"575\",'Accounting Data'!H2:H100000,\"9??\",'Accounting Data'!I2:I100000,\"26??\",'Accounting Data'!J2:J100000,\"62??\")","v":{"v":0,"d":"0 "}},{"$f":"SUMIFS('Accounting Data'!C2:C100000,'Accounting Data'!E2:E100000,\"8??\",'Accounting Data'!H2:H100000,\"7??\",'Accounting Data'!I2:I100000,\"26??\",'Accounting Data'!J2:J100000,\"62??\")+SUMIFS('Accounting Data'!C2:C100000,'Accounting Data'!E2:E100000,\"8??\",'Accounting Data'!H2:H100000,\"8??\",'Accounting Data'!I2:I100000,\"26??\",'Accounting Data'!J2:J100000,\"62??\")+SUMIFS('Accounting Data'!C2:C100000,'Accounting Data'!E2:E100000,\"8??\",'Accounting Data'!H2:H100000,\"9??\",'Accounting Data'!I2:I100000,\"26??\",'Accounting Data'!J2:J100000,\"62??\")","v":{"v":0,"d":"0 "}},{"$f":"SUMIFS('Accounting Data'!C2:C100000,'Accounting Data'!E2:E100000,\"9??\",'Accounting Data'!H2:H100000,\"7??\",'Accounting Data'!I2:I100000,\"26??\",'Accounting Data'!J2:J100000,\"62??\")+SUMIFS('Accounting Data'!C2:C100000,'Accounting Data'!E2:E100000,\"9??\",'Accounting Data'!H2:H100000,\"8??\",'Accounting Data'!I2:I100000,\"26??\",'Accounting Data'!J2:J100000,\"62??\")+SUMIFS('Accounting Data'!C2:C100000,'Accounting Data'!E2:E100000,\"9??\",'Accounting Data'!H2:H100000,\"9??\",'Accounting Data'!I2:I100000,\"26??\",'Accounting Data'!J2:J100000,\"62??\")","v":{"v":0,"d":"0 "}},null,2600,{"$f":"SUMIFS('Accounting Data'!C2:C100000,'Accounting Data'!I2:I100000,\"26??\",'Accounting Data'!J2:J100000,\"63??\")+SUMIFS('Accounting Data'!C2:C100000,'Accounting Data'!I2:I100000,\"26??\",'Accounting Data'!J2:J100000,\"64??\")+SUMIFS('Accounting Data'!C2:C100000,'Accounting Data'!I2:I100000,\"26??\",'Accounting Data'!J2:J100000,\"65??\")","v":{"v":11593,"d":"11,593 "}},{"$f":"SUMIFS('Accounting Data'!C2:C100000,'Accounting Data'!E2:E100000,\"575\",'Accounting Data'!I2:I100000,\"26??\",'Accounting Data'!J2:J100000,\"63??\")+SUMIFS('Accounting Data'!C2:C100000,'Accounting Data'!E2:E100000,\"8??\",'Accounting Data'!I2:I100000,\"26??\",'Accounting Data'!J2:J100000,\"63??\")+SUMIFS('Accounting Data'!C2:C100000,'Accounting Data'!E2:E100000,\"9??\",'Accounting Data'!I2:I100000,\"26??\",'Accounting Data'!J2:J100000,\"63??\")","v":{"v":0,"d":"0 "}},{"$f":"SUMIFS('Accounting Data'!C2:C100000,'Accounting Data'!E2:E100000,\"575\",'Accounting Data'!I2:I100000,\"26??\",'Accounting Data'!J2:J100000,\"64??\")+SUMIFS('Accounting Data'!C2:C100000,'Accounting Data'!E2:E100000,\"8??\",'Accounting Data'!I2:I100000,\"26??\",'Accounting Data'!J2:J100000,\"64??\")+SUMIFS('Accounting Data'!C2:C100000,'Accounting Data'!E2:E100000,\"9??\",'Accounting Data'!I2:I100000,\"26??\",'Accounting Data'!J2:J100000,\"64??\")","v":{"v":0,"d":"0 "}},{"$f":"SUMIFS('Accounting Data'!C2:C100000,'Accounting Data'!E2:E100000,\"575\",'Accounting Data'!I2:I100000,\"26??\",'Accounting Data'!J2:J100000,\"65??\")+SUMIFS('Accounting Data'!C2:C100000,'Accounting Data'!E2:E100000,\"8??\",'Accounting Data'!I2:I100000,\"26??\",'Accounting Data'!J2:J100000,\"65??\")+SUMIFS('Accounting Data'!C2:C100000,'Accounting Data'!E2:E100000,\"9??\",'Accounting Data'!I2:I100000,\"26??\",'Accounting Data'!J2:J100000,\"65??\")","v":{"v":0,"d":"0 "}},{"$f":"SUMIFS('Accounting Data'!C2:C100000,'Accounting Data'!H2:H100000,\"7??\",'Accounting Data'!I2:I100000,\"26??\",'Accounting Data'!J2:J100000,\"63??\")+SUMIFS('Accounting Data'!C2:C100000,'Accounting Data'!H2:H100000,\"8??\",'Accounting Data'!I2:I100000,\"26??\",'Accounting Data'!J2:J100000,\"63??\")+SUMIFS('Accounting Data'!C2:C100000,'Accounting Data'!H2:H100000,\"9??\",'Accounting Data'!I2:I100000,\"26??\",'Accounting Data'!J2:J100000,\"63??\")+SUMIFS('Accounting Data'!C2:C100000,'Accounting Data'!H2:H100000,\"7??\",'Accounting Data'!I2:I100000,\"26??\",'Accounting Data'!J2:J100000,\"64??\")+SUMIFS('Accounting Data'!C2:C100000,'Accounting Data'!H2:H100000,\"8??\",'Accounting Data'!I2:I100000,\"26??\",'Accounting Data'!J2:J100000,\"64??\")+SUMIFS('Accounting Data'!C2:C100000,'Accounting Data'!H2:H100000,\"9??\",'Accounting Data'!I2:I100000,\"26??\",'Accounting Data'!J2:J100000,\"64??\")+SUMIFS('Accounting Data'!C2:C100000,'Accounting Data'!H2:H100000,\"7??\",'Accounting Data'!I2:I100000,\"26??\",'Accounting Data'!J2:J100000,\"65??\")+SUMIFS('Accounting Data'!C2:C100000,'Accounting Data'!H2:H100000,\"8??\",'Accounting Data'!I2:I100000,\"26??\",'Accounting Data'!J2:J100000,\"65??\")+SUMIFS('Accounting Data'!C2:C100000,'Accounting Data'!H2:H100000,\"9??\",'Accounting Data'!I2:I100000,\"26??\",'Accounting Data'!J2:J100000,\"65??\")","v":{"v":0,"d":"0 "}},{"$f":"SUMIFS('Accounting Data'!C2:C100000,'Accounting Data'!E2:E100000,\"575\",'Accounting Data'!H2:H100000,\"7??\",'Accounting Data'!I2:I100000,\"26??\",'Accounting Data'!J2:J100000,\"63??\")+SUMIFS('Accounting Data'!C2:C100000,'Accounting Data'!E2:E100000,\"575\",'Accounting Data'!H2:H100000,\"8??\",'Accounting Data'!I2:I100000,\"26??\",'Accounting Data'!J2:J100000,\"63??\")+SUMIFS('Accounting Data'!C2:C100000,'Accounting Data'!E2:E100000,\"575\",'Accounting Data'!H2:H100000,\"9??\",'Accounting Data'!I2:I100000,\"26??\",'Accounting Data'!J2:J100000,\"63??\")","v":{"v":0,"d":"0 "}},{"$f":"SUMIFS('Accounting Data'!C2:C100000,'Accounting Data'!E2:E100000,\"575\",'Accounting Data'!H2:H100000,\"7??\",'Accounting Data'!I2:I100000,\"26??\",'Accounting Data'!J2:J100000,\"64??\")+SUMIFS('Accounting Data'!C2:C100000,'Accounting Data'!E2:E100000,\"575\",'Accounting Data'!H2:H100000,\"8??\",'Accounting Data'!I2:I100000,\"26??\",'Accounting Data'!J2:J100000,\"64??\")+SUMIFS('Accounting Data'!C2:C100000,'Accounting Data'!E2:E100000,\"575\",'Accounting Data'!H2:H100000,\"9??\",'Accounting Data'!I2:I100000,\"26??\",'Accounting Data'!J2:J100000,\"64??\")","v":{"v":0,"d":"0 "}},{"$f":"SUMIFS('Accounting Data'!C2:C100000,'Accounting Data'!E2:E100000,\"575\",'Accounting Data'!H2:H100000,\"7??\",'Accounting Data'!I2:I100000,\"26??\",'Accounting Data'!J2:J100000,\"65??\")+SUMIFS('Accounting Data'!C2:C100000,'Accounting Data'!E2:E100000,\"575\",'Accounting Data'!H2:H100000,\"8??\",'Accounting Data'!I2:I100000,\"26??\",'Accounting Data'!J2:J100000,\"65??\")+SUMIFS('Accounting Data'!C2:C100000,'Accounting Data'!E2:E100000,\"575\",'Accounting Data'!H2:H100000,\"9??\",'Accounting Data'!I2:I100000,\"26??\",'Accounting Data'!J2:J100000,\"65??\")","v":{"v":0,"d":"0 "}},{"$f":"SUMIFS('Accounting Data'!C2:C100000,'Accounting Data'!E2:E100000,\"8??\",'Accounting Data'!H2:H100000,\"7??\",'Accounting Data'!I2:I100000,\"26??\",'Accounting Data'!J2:J100000,\"63??\")+SUMIFS('Accounting Data'!C2:C100000,'Accounting Data'!E2:E100000,\"8??\",'Accounting Data'!H2:H100000,\"8??\",'Accounting Data'!I2:I100000,\"26??\",'Accounting Data'!J2:J100000,\"63??\")+SUMIFS('Accounting Data'!C2:C100000,'Accounting Data'!E2:E100000,\"8??\",'Accounting Data'!H2:H100000,\"9??\",'Accounting Data'!I2:I100000,\"26??\",'Accounting Data'!J2:J100000,\"63??\")","v":{"v":0,"d":"0 "}},{"$f":"SUMIFS('Accounting Data'!C2:C100000,'Accounting Data'!E2:E100000,\"8??\",'Accounting Data'!H2:H100000,\"7??\",'Accounting Data'!I2:I100000,\"26??\",'Accounting Data'!J2:J100000,\"64??\")+SUMIFS('Accounting Data'!C2:C100000,'Accounting Data'!E2:E100000,\"8??\",'Accounting Data'!H2:H100000,\"8??\",'Accounting Data'!I2:I100000,\"26??\",'Accounting Data'!J2:J100000,\"64??\")+SUMIFS('Accounting Data'!C2:C100000,'Accounting Data'!E2:E100000,\"8??\",'Accounting Data'!H2:H100000,\"9??\",'Accounting Data'!I2:I100000,\"26??\",'Accounting Data'!J2:J100000,\"64??\")","v":{"v":0,"d":"0 "}},{"$f":"SUMIFS('Accounting Data'!C2:C100000,'Accounting Data'!E2:E100000,\"8??\",'Accounting Data'!H2:H100000,\"7??\",'Accounting Data'!I2:I100000,\"26??\",'Accounting Data'!J2:J100000,\"65??\")+SUMIFS('Accounting Data'!C2:C100000,'Accounting Data'!E2:E100000,\"8??\",'Accounting Data'!H2:H100000,\"8??\",'Accounting Data'!I2:I100000,\"26??\",'Accounting Data'!J2:J100000,\"65??\")+SUMIFS('Accounting Data'!C2:C100000,'Accounting Data'!E2:E100000,\"8??\",'Accounting Data'!H2:H100000,\"9??\",'Accounting Data'!I2:I100000,\"26??\",'Accounting Data'!J2:J100000,\"65??\")","v":{"v":0,"d":"0 "}},{"$f":"SUMIFS('Accounting Data'!C2:C100000,'Accounting Data'!E2:E100000,\"9??\",'Accounting Data'!H2:H100000,\"7??\",'Accounting Data'!I2:I100000,\"26??\",'Accounting Data'!J2:J100000,\"63??\")+SUMIFS('Accounting Data'!C2:C100000,'Accounting Data'!E2:E100000,\"9??\",'Accounting Data'!H2:H100000,\"8??\",'Accounting Data'!I2:I100000,\"26??\",'Accounting Data'!J2:J100000,\"63??\")+SUMIFS('Accounting Data'!C2:C100000,'Accounting Data'!E2:E100000,\"9??\",'Accounting Data'!H2:H100000,\"9??\",'Accounting Data'!I2:I100000,\"26??\",'Accounting Data'!J2:J100000,\"63??\")","v":{"v":0,"d":"0 "}},{"$f":"SUMIFS('Accounting Data'!C2:C100000,'Accounting Data'!E2:E100000,\"9??\",'Accounting Data'!H2:H100000,\"7??\",'Accounting Data'!I2:I100000,\"26??\",'Accounting Data'!J2:J100000,\"64??\")+SUMIFS('Accounting Data'!C2:C100000,'Accounting Data'!E2:E100000,\"9??\",'Accounting Data'!H2:H100000,\"8??\",'Accounting Data'!I2:I100000,\"26??\",'Accounting Data'!J2:J100000,\"64??\")+SUMIFS('Accounting Data'!C2:C100000,'Accounting Data'!E2:E100000,\"9??\",'Accounting Data'!H2:H100000,\"9??\",'Accounting Data'!I2:I100000,\"26??\",'Accounting Data'!J2:J100000,\"64??\")","v":{"v":0,"d":"0 "}},{"$f":"SUMIFS('Accounting Data'!C2:C100000,'Accounting Data'!E2:E100000,\"9??\",'Accounting Data'!H2:H100000,\"7??\",'Accounting Data'!I2:I100000,\"26??\",'Accounting Data'!J2:J100000,\"65??\")+SUMIFS('Accounting Data'!C2:C100000,'Accounting Data'!E2:E100000,\"9??\",'Accounting Data'!H2:H100000,\"8??\",'Accounting Data'!I2:I100000,\"26??\",'Accounting Data'!J2:J100000,\"65??\")+SUMIFS('Accounting Data'!C2:C100000,'Accounting Data'!E2:E100000,\"9??\",'Accounting Data'!H2:H100000,\"9??\",'Accounting Data'!I2:I100000,\"26??\",'Accounting Data'!J2:J100000,\"65??\")","v":{"v":0,"d":"0 "}},null,2600,{"$f":"SUMIFS('Accounting Data'!C2:C100000,'Accounting Data'!I2:I100000,\"26??\",'Accounting Data'!J2:J100000,\"66??\")","v":{"v":15332,"d":"15,332 "}},{"$f":"SUMIFS('Accounting Data'!$C$2:$C$100000,'Accounting Data'!$E$2:$E$100000,\"575\",'Accounting Data'!$I$2:$I$100000,\"26??\",'Accounting Data'!$J$2:$J$100000,\"66??\")+SUMIFS('Accounting Data'!$C$2:$C$100000,'Accounting Data'!$E$2:$E$100000,\"8??\",'Accounting Data'!$I$2:$I$100000,\"26??\",'Accounting Data'!$J$2:$J$100000,\"66??\")+SUMIFS('Accounting Data'!$C$2:$C$100000,'Accounting Data'!$E$2:$E$100000,\"9??\",'Accounting Data'!$I$2:$I$100000,\"26??\",'Accounting Data'!$J$2:$J$100000,\"66??\")","v":{"v":0,"d":"0 "}},{"$f":"SUMIFS('Accounting Data'!$C$2:$C$100000,'Accounting Data'!$H$2:$H$100000,\"7??\",'Accounting Data'!$I$2:$I$100000,\"26??\",'Accounting Data'!$J$2:$J$100000,\"66??\")+SUMIFS('Accounting Data'!$C$2:$C$100000,'Accounting Data'!$H$2:$H$100000,\"8??\",'Accounting Data'!$I$2:$I$100000,\"26??\",'Accounting Data'!$J$2:$J$100000,\"66??\")+SUMIFS('Accounting Data'!$C$2:$C$100000,'Accounting Data'!$H$2:$H$100000,\"9??\",'Accounting Data'!$I$2:$I$100000,\"26??\",'Accounting Data'!$J$2:$J$100000,\"66??\")","v":{"v":0,"d":"0 "}},{"$f":"SUMIFS('Accounting Data'!$C$2:$C$100000,'Accounting Data'!$E$2:$E$100000,\"575\",'Accounting Data'!$H$2:$H$100000,\"7??\",'Accounting Data'!$I$2:$I$100000,\"26??\",'Accounting Data'!$J$2:$J$100000,\"66??\")+SUMIFS('Accounting Data'!$C$2:$C$100000,'Accounting Data'!$E$2:$E$100000,\"575\",'Accounting Data'!$H$2:$H$100000,\"8??\",'Accounting Data'!$I$2:$I$100000,\"26??\",'Accounting Data'!$J$2:$J$100000,\"66??\")+SUMIFS('Accounting Data'!$C$2:$C$100000,'Accounting Data'!$E$2:$E$100000,\"575\",'Accounting Data'!$H$2:$H$100000,\"9??\",'Accounting Data'!$I$2:$I$100000,\"26??\",'Accounting Data'!$J$2:$J$100000,\"66??\")","v":{"v":0,"d":"0 "}},{"$f":"SUMIFS('Accounting Data'!$C$2:$C$100000,'Accounting Data'!$E$2:$E$100000,\"8??\",'Accounting Data'!$H$2:$H$100000,\"7??\",'Accounting Data'!$I$2:$I$100000,\"26??\",'Accounting Data'!$J$2:$J$100000,\"66??\")+SUMIFS('Accounting Data'!$C$2:$C$100000,'Accounting Data'!$E$2:$E$100000,\"8??\",'Accounting Data'!$H$2:$H$100000,\"8??\",'Accounting Data'!$I$2:$I$100000,\"26??\",'Accounting Data'!$J$2:$J$100000,\"66??\")+SUMIFS('Accounting Data'!$C$2:$C$100000,'Accounting Data'!$E$2:$E$100000,\"8??\",'Accounting Data'!$H$2:$H$100000,\"9??\",'Accounting Data'!$I$2:$I$100000,\"26??\",'Accounting Data'!$J$2:$J$100000,\"66??\")","v":{"v":0,"d":"0 "}},{"$f":"SUMIFS('Accounting Data'!$C$2:$C$100000,'Accounting Data'!$E$2:$E$100000,\"9??\",'Accounting Data'!$H$2:$H$100000,\"7??\",'Accounting Data'!$I$2:$I$100000,\"26??\",'Accounting Data'!$J$2:$J$100000,\"66??\")+SUMIFS('Accounting Data'!$C$2:$C$100000,'Accounting Data'!$E$2:$E$100000,\"9??\",'Accounting Data'!$H$2:$H$100000,\"8??\",'Accounting Data'!$I$2:$I$100000,\"26??\",'Accounting Data'!$J$2:$J$100000,\"66??\")+SUMIFS('Accounting Data'!$C$2:$C$100000,'Accounting Data'!$E$2:$E$100000,\"9??\",'Accounting Data'!$H$2:$H$100000,\"9??\",'Accounting Data'!$I$2:$I$100000,\"26??\",'Accounting Data'!$J$2:$J$100000,\"66??\")","v":{"v":0,"d":"0 "}},null,2600,{"$f":"SUMIFS('Accounting Data'!C2:C100000,'Accounting Data'!I2:I100000,\"26??\",'Accounting Data'!J2:J100000,\"67??\")","v":{"v":3229,"d":"3,229 "}},{"$f":"SUMIFS('Accounting Data'!$C$2:$C$100000,'Accounting Data'!$E$2:$E$100000,\"575\",'Accounting Data'!$I$2:$I$100000,\"26??\",'Accounting Data'!$J$2:$J$100000,\"67??\")+SUMIFS('Accounting Data'!$C$2:$C$100000,'Accounting Data'!$E$2:$E$100000,\"8??\",'Accounting Data'!$I$2:$I$100000,\"26??\",'Accounting Data'!$J$2:$J$100000,\"67??\")+SUMIFS('Accounting Data'!$C$2:$C$100000,'Accounting Data'!$E$2:$E$100000,\"9??\",'Accounting Data'!$I$2:$I$100000,\"26??\",'Accounting Data'!$J$2:$J$100000,\"67??\")","v":{"v":0,"d":"0 "}},{"$f":"SUMIFS('Accounting Data'!$C$2:$C$100000,'Accounting Data'!$H$2:$H$100000,\"7??\",'Accounting Data'!$I$2:$I$100000,\"26??\",'Accounting Data'!$J$2:$J$100000,\"67??\")+SUMIFS('Accounting Data'!$C$2:$C$100000,'Accounting Data'!$H$2:$H$100000,\"8??\",'Accounting Data'!$I$2:$I$100000,\"26??\",'Accounting Data'!$J$2:$J$100000,\"67??\")+SUMIFS('Accounting Data'!$C$2:$C$100000,'Accounting Data'!$H$2:$H$100000,\"9??\",'Accounting Data'!$I$2:$I$100000,\"26??\",'Accounting Data'!$J$2:$J$100000,\"67??\")","v":{"v":0,"d":"0 "}},{"$f":"SUMIFS('Accounting Data'!$C$2:$C$100000,'Accounting Data'!$E$2:$E$100000,\"575\",'Accounting Data'!$H$2:$H$100000,\"7??\",'Accounting Data'!$I$2:$I$100000,\"26??\",'Accounting Data'!$J$2:$J$100000,\"67??\")+SUMIFS('Accounting Data'!$C$2:$C$100000,'Accounting Data'!$E$2:$E$100000,\"575\",'Accounting Data'!$H$2:$H$100000,\"8??\",'Accounting Data'!$I$2:$I$100000,\"26??\",'Accounting Data'!$J$2:$J$100000,\"67??\")+SUMIFS('Accounting Data'!$C$2:$C$100000,'Accounting Data'!$E$2:$E$100000,\"575\",'Accounting Data'!$H$2:$H$100000,\"9??\",'Accounting Data'!$I$2:$I$100000,\"26??\",'Accounting Data'!$J$2:$J$100000,\"67??\")","v":{"v":0,"d":"0 "}},{"$f":"SUMIFS('Accounting Data'!$C$2:$C$100000,'Accounting Data'!$E$2:$E$100000,\"8??\",'Accounting Data'!$H$2:$H$100000,\"7??\",'Accounting Data'!$I$2:$I$100000,\"26??\",'Accounting Data'!$J$2:$J$100000,\"67??\")+SUMIFS('Accounting Data'!$C$2:$C$100000,'Accounting Data'!$E$2:$E$100000,\"8??\",'Accounting Data'!$H$2:$H$100000,\"8??\",'Accounting Data'!$I$2:$I$100000,\"26??\",'Accounting Data'!$J$2:$J$100000,\"67??\")+SUMIFS('Accounting Data'!$C$2:$C$100000,'Accounting Data'!$E$2:$E$100000,\"8??\",'Accounting Data'!$H$2:$H$100000,\"9??\",'Accounting Data'!$I$2:$I$100000,\"26??\",'Accounting Data'!$J$2:$J$100000,\"67??\")","v":{"v":0,"d":"0 "}},{"$f":"SUMIFS('Accounting Data'!$C$2:$C$100000,'Accounting Data'!$E$2:$E$100000,\"9??\",'Accounting Data'!$H$2:$H$100000,\"7??\",'Accounting Data'!$I$2:$I$100000,\"26??\",'Accounting Data'!$J$2:$J$100000,\"67??\")+SUMIFS('Accounting Data'!$C$2:$C$100000,'Accounting Data'!$E$2:$E$100000,\"9??\",'Accounting Data'!$H$2:$H$100000,\"8??\",'Accounting Data'!$I$2:$I$100000,\"26??\",'Accounting Data'!$J$2:$J$100000,\"67??\")+SUMIFS('Accounting Data'!$C$2:$C$100000,'Accounting Data'!$E$2:$E$100000,\"9??\",'Accounting Data'!$H$2:$H$100000,\"9??\",'Accounting Data'!$I$2:$I$100000,\"26??\",'Accounting Data'!$J$2:$J$100000,\"67??\")","v":{"v":0,"d":"0 "}},null,2600,{"$f":"SUMIFS('Accounting Data'!C2:C100000,'Accounting Data'!I2:I100000,\"26??\",'Accounting Data'!J2:J100000,\"681?\")","v":{"v":0,"d":"0 "}},{"$f":"SUMIFS('Accounting Data'!$C$2:$C$100000,'Accounting Data'!$E$2:$E$100000,\"575\",'Accounting Data'!$I$2:$I$100000,\"26??\",'Accounting Data'!$J$2:$J$100000,\"681?\")+SUMIFS('Accounting Data'!$C$2:$C$100000,'Accounting Data'!$E$2:$E$100000,\"8??\",'Accounting Data'!$I$2:$I$100000,\"26??\",'Accounting Data'!$J$2:$J$100000,\"681?\")+SUMIFS('Accounting Data'!$C$2:$C$100000,'Accounting Data'!$E$2:$E$100000,\"9??\",'Accounting Data'!$I$2:$I$100000,\"26??\",'Accounting Data'!$J$2:$J$100000,\"681?\")","v":{"v":0,"d":"0 "}},{"$f":"SUMIFS('Accounting Data'!$C$2:$C$100000,'Accounting Data'!$H$2:$H$100000,\"7??\",'Accounting Data'!$I$2:$I$100000,\"26??\",'Accounting Data'!$J$2:$J$100000,\"681?\")+SUMIFS('Accounting Data'!$C$2:$C$100000,'Accounting Data'!$H$2:$H$100000,\"8??\",'Accounting Data'!$I$2:$I$100000,\"26??\",'Accounting Data'!$J$2:$J$100000,\"681?\")+SUMIFS('Accounting Data'!$C$2:$C$100000,'Accounting Data'!$H$2:$H$100000,\"9??\",'Accounting Data'!$I$2:$I$100000,\"26??\",'Accounting Data'!$J$2:$J$100000,\"681?\")","v":{"v":0,"d":"0 "}},{"$f":"SUMIFS('Accounting Data'!$C$2:$C$100000,'Accounting Data'!$E$2:$E$100000,\"575\",'Accounting Data'!$H$2:$H$100000,\"7??\",'Accounting Data'!$I$2:$I$100000,\"26??\",'Accounting Data'!$J$2:$J$100000,\"681?\")+SUMIFS('Accounting Data'!$C$2:$C$100000,'Accounting Data'!$E$2:$E$100000,\"575\",'Accounting Data'!$H$2:$H$100000,\"8??\",'Accounting Data'!$I$2:$I$100000,\"26??\",'Accounting Data'!$J$2:$J$100000,\"681?\")+SUMIFS('Accounting Data'!$C$2:$C$100000,'Accounting Data'!$E$2:$E$100000,\"575\",'Accounting Data'!$H$2:$H$100000,\"9??\",'Accounting Data'!$I$2:$I$100000,\"26??\",'Accounting Data'!$J$2:$J$100000,\"681?\")","v":{"v":0,"d":"0 "}},{"$f":"SUMIFS('Accounting Data'!$C$2:$C$100000,'Accounting Data'!$E$2:$E$100000,\"8??\",'Accounting Data'!$H$2:$H$100000,\"7??\",'Accounting Data'!$I$2:$I$100000,\"26??\",'Accounting Data'!$J$2:$J$100000,\"681?\")+SUMIFS('Accounting Data'!$C$2:$C$100000,'Accounting Data'!$E$2:$E$100000,\"8??\",'Accounting Data'!$H$2:$H$100000,\"8??\",'Accounting Data'!$I$2:$I$100000,\"26??\",'Accounting Data'!$J$2:$J$100000,\"681?\")+SUMIFS('Accounting Data'!$C$2:$C$100000,'Accounting Data'!$E$2:$E$100000,\"8??\",'Accounting Data'!$H$2:$H$100000,\"9??\",'Accounting Data'!$I$2:$I$100000,\"26??\",'Accounting Data'!$J$2:$J$100000,\"681?\")","v":{"v":0,"d":"0 "}},{"$f":"SUMIFS('Accounting Data'!$C$2:$C$100000,'Accounting Data'!$E$2:$E$100000,\"9??\",'Accounting Data'!$H$2:$H$100000,\"7??\",'Accounting Data'!$I$2:$I$100000,\"26??\",'Accounting Data'!$J$2:$J$100000,\"681?\")+SUMIFS('Accounting Data'!$C$2:$C$100000,'Accounting Data'!$E$2:$E$100000,\"9??\",'Accounting Data'!$H$2:$H$100000,\"8??\",'Accounting Data'!$I$2:$I$100000,\"26??\",'Accounting Data'!$J$2:$J$100000,\"681?\")+SUMIFS('Accounting Data'!$C$2:$C$100000,'Accounting Data'!$E$2:$E$100000,\"9??\",'Accounting Data'!$H$2:$H$100000,\"9??\",'Accounting Data'!$I$2:$I$100000,\"26??\",'Accounting Data'!$J$2:$J$100000,\"681?\")","v":{"v":0,"d":"0 "}},{"$nulls":17},2600,{"$f":"SUMIFS('Accounting Data'!C2:C100000,'Accounting Data'!I2:I100000,\"26??\",'Accounting Data'!J2:J100000,\"689?\")","v":{"v":0,"d":"0 "}},{"$f":"SUMIFS('Accounting Data'!$C$2:$C$100000,'Accounting Data'!$E$2:$E$100000,\"575\",'Accounting Data'!$I$2:$I$100000,\"26??\",'Accounting Data'!$J$2:$J$100000,\"689?\")+SUMIFS('Accounting Data'!$C$2:$C$100000,'Accounting Data'!$E$2:$E$100000,\"8??\",'Accounting Data'!$I$2:$I$100000,\"26??\",'Accounting Data'!$J$2:$J$100000,\"689?\")+SUMIFS('Accounting Data'!$C$2:$C$100000,'Accounting Data'!$E$2:$E$100000,\"9??\",'Accounting Data'!$I$2:$I$100000,\"26??\",'Accounting Data'!$J$2:$J$100000,\"689?\")","v":{"v":0,"d":"0 "}},{"$f":"SUMIFS('Accounting Data'!$C$2:$C$100000,'Accounting Data'!$H$2:$H$100000,\"7??\",'Accounting Data'!$I$2:$I$100000,\"26??\",'Accounting Data'!$J$2:$J$100000,\"689?\")+SUMIFS('Accounting Data'!$C$2:$C$100000,'Accounting Data'!$H$2:$H$100000,\"8??\",'Accounting Data'!$I$2:$I$100000,\"26??\",'Accounting Data'!$J$2:$J$100000,\"689?\")+SUMIFS('Accounting Data'!$C$2:$C$100000,'Accounting Data'!$H$2:$H$100000,\"9??\",'Accounting Data'!$I$2:$I$100000,\"26??\",'Accounting Data'!$J$2:$J$100000,\"689?\")","v":{"v":0,"d":"0 "}},{"$f":"SUMIFS('Accounting Data'!$C$2:$C$100000,'Accounting Data'!$E$2:$E$100000,\"575\",'Accounting Data'!$H$2:$H$100000,\"7??\",'Accounting Data'!$I$2:$I$100000,\"26??\",'Accounting Data'!$J$2:$J$100000,\"689?\")+SUMIFS('Accounting Data'!$C$2:$C$100000,'Accounting Data'!$E$2:$E$100000,\"575\",'Accounting Data'!$H$2:$H$100000,\"8??\",'Accounting Data'!$I$2:$I$100000,\"26??\",'Accounting Data'!$J$2:$J$100000,\"689?\")+SUMIFS('Accounting Data'!$C$2:$C$100000,'Accounting Data'!$E$2:$E$100000,\"575\",'Accounting Data'!$H$2:$H$100000,\"9??\",'Accounting Data'!$I$2:$I$100000,\"26??\",'Accounting Data'!$J$2:$J$100000,\"689?\")","v":{"v":0,"d":"0 "}},{"$f":"SUMIFS('Accounting Data'!$C$2:$C$100000,'Accounting Data'!$E$2:$E$100000,\"8??\",'Accounting Data'!$H$2:$H$100000,\"7??\",'Accounting Data'!$I$2:$I$100000,\"26??\",'Accounting Data'!$J$2:$J$100000,\"689?\")+SUMIFS('Accounting Data'!$C$2:$C$100000,'Accounting Data'!$E$2:$E$100000,\"8??\",'Accounting Data'!$H$2:$H$100000,\"8??\",'Accounting Data'!$I$2:$I$100000,\"26??\",'Accounting Data'!$J$2:$J$100000,\"689?\")+SUMIFS('Accounting Data'!$C$2:$C$100000,'Accounting Data'!$E$2:$E$100000,\"8??\",'Accounting Data'!$H$2:$H$100000,\"9??\",'Accounting Data'!$I$2:$I$100000,\"26??\",'Accounting Data'!$J$2:$J$100000,\"689?\")","v":{"v":0,"d":"0 "}},{"$f":"SUMIFS('Accounting Data'!$C$2:$C$100000,'Accounting Data'!$E$2:$E$100000,\"9??\",'Accounting Data'!$H$2:$H$100000,\"7??\",'Accounting Data'!$I$2:$I$100000,\"26??\",'Accounting Data'!$J$2:$J$100000,\"689?\")+SUMIFS('Accounting Data'!$C$2:$C$100000,'Accounting Data'!$E$2:$E$100000,\"9??\",'Accounting Data'!$H$2:$H$100000,\"8??\",'Accounting Data'!$I$2:$I$100000,\"26??\",'Accounting Data'!$J$2:$J$100000,\"689?\")+SUMIFS('Accounting Data'!$C$2:$C$100000,'Accounting Data'!$E$2:$E$100000,\"9??\",'Accounting Data'!$H$2:$H$100000,\"9??\",'Accounting Data'!$I$2:$I$100000,\"26??\",'Accounting Data'!$J$2:$J$100000,\"689?\")","v":{"v":0,"d":"0 "}},null,2600,{"$f":"SUMIFS('Accounting Data'!$C$2:$C$100000,'Accounting Data'!$H$2:$H$100000,\"7??\",'Accounting Data'!$I$2:$I$100000,\"26??\",'Accounting Data'!$J$2:$J$100000,\"6???\")+SUMIFS('Accounting Data'!$C$2:$C$100000,'Accounting Data'!$H$2:$H$100000,\"8??\",'Accounting Data'!$I$2:$I$100000,\"26??\",'Accounting Data'!$J$2:$J$100000,\"6???\")+SUMIFS('Accounting Data'!$C$2:$C$100000,'Accounting Data'!$H$2:$H$100000,\"9??\",'Accounting Data'!$I$2:$I$100000,\"26??\",'Accounting Data'!$J$2:$J$100000,\"6???\")","v":{"v":0,"d":"0 "}},{"$f":"SUMIFS('Accounting Data'!$C$2:$C$100000,'Accounting Data'!$H$2:$H$100000,\"7??\",'Accounting Data'!$I$2:$I$100000,\"26??\",'Accounting Data'!$J$2:$J$100000,\"69??\")+SUMIFS('Accounting Data'!$C$2:$C$100000,'Accounting Data'!$H$2:$H$100000,\"8??\",'Accounting Data'!$I$2:$I$100000,\"26??\",'Accounting Data'!$J$2:$J$100000,\"69??\")+SUMIFS('Accounting Data'!$C$2:$C$100000,'Accounting Data'!$H$2:$H$100000,\"9??\",'Accounting Data'!$I$2:$I$100000,\"26??\",'Accounting Data'!$J$2:$J$100000,\"69??\")","v":{"v":0,"d":"0 "}},{"$f":"SUMIFS('Accounting Data'!$C$2:$C$100000,'Accounting Data'!$E$2:$E$100000,\"575\",'Accounting Data'!$H$2:$H$100000,\"7??\",'Accounting Data'!$I$2:$I$100000,\"26??\",'Accounting Data'!$J$2:$J$100000,\"6???\")+SUMIFS('Accounting Data'!$C$2:$C$100000,'Accounting Data'!$E$2:$E$100000,\"575\",'Accounting Data'!$H$2:$H$100000,\"8??\",'Accounting Data'!$I$2:$I$100000,\"26??\",'Accounting Data'!$J$2:$J$100000,\"6???\")+SUMIFS('Accounting Data'!$C$2:$C$100000,'Accounting Data'!$E$2:$E$100000,\"575\",'Accounting Data'!$H$2:$H$100000,\"9??\",'Accounting Data'!$I$2:$I$100000,\"26??\",'Accounting Data'!$J$2:$J$100000,\"6???\")","v":{"v":0,"d":"0 "}},{"$f":"SUMIFS('Accounting Data'!$C$2:$C$100000,'Accounting Data'!$E$2:$E$100000,\"8??\",'Accounting Data'!$H$2:$H$100000,\"7??\",'Accounting Data'!$I$2:$I$100000,\"26??\",'Accounting Data'!$J$2:$J$100000,\"6???\")+SUMIFS('Accounting Data'!$C$2:$C$100000,'Accounting Data'!$E$2:$E$100000,\"8??\",'Accounting Data'!$H$2:$H$100000,\"8??\",'Accounting Data'!$I$2:$I$100000,\"26??\",'Accounting Data'!$J$2:$J$100000,\"6???\")+SUMIFS('Accounting Data'!$C$2:$C$100000,'Accounting Data'!$E$2:$E$100000,\"8??\",'Accounting Data'!$H$2:$H$100000,\"9??\",'Accounting Data'!$I$2:$I$100000,\"26??\",'Accounting Data'!$J$2:$J$100000,\"6???\")+SUMIFS('Accounting Data'!$C$2:$C$100000,'Accounting Data'!$E$2:$E$100000,\"9??\",'Accounting Data'!$H$2:$H$100000,\"7??\",'Accounting Data'!$I$2:$I$100000,\"26??\",'Accounting Data'!$J$2:$J$100000,\"6???\")+SUMIFS('Accounting Data'!$C$2:$C$100000,'Accounting Data'!$E$2:$E$100000,\"9??\",'Accounting Data'!$H$2:$H$100000,\"8??\",'Accounting Data'!$I$2:$I$100000,\"26??\",'Accounting Data'!$J$2:$J$100000,\"6???\")+SUMIFS('Accounting Data'!$C$2:$C$100000,'Accounting Data'!$E$2:$E$100000,\"9??\",'Accounting Data'!$H$2:$H$100000,\"9??\",'Accounting Data'!$I$2:$I$100000,\"26??\",'Accounting Data'!$J$2:$J$100000,\"6???\")","v":{"v":0,"d":"0 "}},{"$f":"SUMIFS('Accounting Data'!$C$2:$C$100000,'Accounting Data'!$E$2:$E$100000,\"575\",'Accounting Data'!$H$2:$H$100000,\"7??\",'Accounting Data'!$I$2:$I$100000,\"26??\",'Accounting Data'!$J$2:$J$100000,\"69??\")+SUMIFS('Accounting Data'!$C$2:$C$100000,'Accounting Data'!$E$2:$E$100000,\"575\",'Accounting Data'!$H$2:$H$100000,\"8??\",'Accounting Data'!$I$2:$I$100000,\"26??\",'Accounting Data'!$J$2:$J$100000,\"69??\")+SUMIFS('Accounting Data'!$C$2:$C$100000,'Accounting Data'!$E$2:$E$100000,\"575\",'Accounting Data'!$H$2:$H$100000,\"9??\",'Accounting Data'!$I$2:$I$100000,\"26??\",'Accounting Data'!$J$2:$J$100000,\"69??\")","v":{"v":0,"d":"0 "}},{"$f":"SUMIFS('Accounting Data'!$C$2:$C$100000,'Accounting Data'!$E$2:$E$100000,\"8??\",'Accounting Data'!$H$2:$H$100000,\"7??\",'Accounting Data'!$I$2:$I$100000,\"26??\",'Accounting Data'!$J$2:$J$100000,\"69??\")+SUMIFS('Accounting Data'!$C$2:$C$100000,'Accounting Data'!$E$2:$E$100000,\"8??\",'Accounting Data'!$H$2:$H$100000,\"8??\",'Accounting Data'!$I$2:$I$100000,\"26??\",'Accounting Data'!$J$2:$J$100000,\"69??\")+SUMIFS('Accounting Data'!$C$2:$C$100000,'Accounting Data'!$E$2:$E$100000,\"8??\",'Accounting Data'!$H$2:$H$100000,\"9??\",'Accounting Data'!$I$2:$I$100000,\"26??\",'Accounting Data'!$J$2:$J$100000,\"69??\")+SUMIFS('Accounting Data'!$C$2:$C$100000,'Accounting Data'!$E$2:$E$100000,\"9??\",'Accounting Data'!$H$2:$H$100000,\"7??\",'Accounting Data'!$I$2:$I$100000,\"26??\",'Accounting Data'!$J$2:$J$100000,\"69??\")+SUMIFS('Accounting Data'!$C$2:$C$100000,'Accounting Data'!$E$2:$E$100000,\"9??\",'Accounting Data'!$H$2:$H$100000,\"8??\",'Accounting Data'!$I$2:$I$100000,\"26??\",'Accounting Data'!$J$2:$J$100000,\"69??\")+SUMIFS('Accounting Data'!$C$2:$C$100000,'Accounting Data'!$E$2:$E$100000,\"9??\",'Accounting Data'!$H$2:$H$100000,\"9??\",'Accounting Data'!$I$2:$I$100000,\"26??\",'Accounting Data'!$J$2:$J$100000,\"69??\")","v":{"v":0,"d":"0 "}}]
["3000 Operation of Noninstructional Services",{"$nulls":14},"Impact aid revenues received that were intended to replace local tax revenues",null,null,"6100",{"$f":"SUMIFS('Accounting Data'!$C$2:$C$100000,'Accounting Data'!$E$2:$E$100000,\"378\",'Accounting Data'!$I$2:$I$100000,\"1???\",'Accounting Data'!$J$2:$J$100000,\"61??\")+SUMIFS('Accounting Data'!$C$2:$C$100000,'Accounting Data'!$E$2:$E$100000,\"378\",'Accounting Data'!$I$2:$I$100000,\"2???\",'Accounting Data'!$J$2:$J$100000,\"61??\")+SUMIFS('Accounting Data'!$C$2:$C$100000,'Accounting Data'!$E$2:$E$100000,\"378\",'Accounting Data'!$I$2:$I$100000,\"3???\",'Accounting Data'!$J$2:$J$100000,\"61??\")","v":{"v":0,"d":"0 "}},{"$f":"IF($T$28=0,0,T19/$T$28)","v":{"v":0,"d":"0 "}},{"$f":"$P$25*U19","v":{"v":0,"d":"0 "}},{"$f":"IF($P$25>$T$28,T19,V19)","v":{"v":0,"d":"0 "}},null,null,2700,{"$f":"SUMIFS('Accounting Data'!C2:C100000,'Accounting Data'!I2:I100000,\"27??\",'Accounting Data'!J2:J100000,\"61??\")","v":{"v":10103,"d":"10,103 "}},{"$f":"SUMIFS('Accounting Data'!C2:C100000,'Accounting Data'!E2:E100000,\"575\",'Accounting Data'!I2:I100000,\"27??\",'Accounting Data'!J2:J100000,\"61??\")+SUMIFS('Accounting Data'!C2:C100000,'Accounting Data'!E2:E100000,\"8??\",'Accounting Data'!I2:I100000,\"27??\",'Accounting Data'!J2:J100000,\"61??\")+SUMIFS('Accounting Data'!C2:C100000,'Accounting Data'!E2:E100000,\"9??\",'Accounting Data'!I2:I100000,\"27??\",'Accounting Data'!J2:J100000,\"61??\")","v":{"v":0,"d":"0 "}},{"$f":"SUMIFS('Accounting Data'!C2:C100000,'Accounting Data'!H2:H100000,\"7??\",'Accounting Data'!I2:I100000,\"27??\",'Accounting Data'!J2:J100000,\"61??\")+SUMIFS('Accounting Data'!C2:C100000,'Accounting Data'!H2:H100000,\"8??\",'Accounting Data'!I2:I100000,\"27??\",'Accounting Data'!J2:J100000,\"61??\")+SUMIFS('Accounting Data'!C2:C100000,'Accounting Data'!H2:H100000,\"9??\",'Accounting Data'!I2:I100000,\"27??\",'Accounting Data'!J2:J100000,\"61??\")","v":{"v":0,"d":"0 "}},{"$f":"SUMIFS('Accounting Data'!C2:C100000,'Accounting Data'!E2:E100000,\"575\",'Accounting Data'!H2:H100000,\"7??\",'Accounting Data'!I2:I100000,\"27??\",'Accounting Data'!J2:J100000,\"61??\")+SUMIFS('Accounting Data'!C2:C100000,'Accounting Data'!E2:E100000,\"575\",'Accounting Data'!H2:H100000,\"8??\",'Accounting Data'!I2:I100000,\"27??\",'Accounting Data'!J2:J100000,\"61??\")+SUMIFS('Accounting Data'!C2:C100000,'Accounting Data'!E2:E100000,\"575\",'Accounting Data'!H2:H100000,\"9??\",'Accounting Data'!I2:I100000,\"27??\",'Accounting Data'!J2:J100000,\"61??\")","v":{"v":0,"d":"0 "}},{"$f":"SUMIFS('Accounting Data'!C2:C100000,'Accounting Data'!E2:E100000,\"8??\",'Accounting Data'!H2:H100000,\"7??\",'Accounting Data'!I2:I100000,\"27??\",'Accounting Data'!J2:J100000,\"61??\")+SUMIFS('Accounting Data'!C2:C100000,'Accounting Data'!E2:E100000,\"8??\",'Accounting Data'!H2:H100000,\"8??\",'Accounting Data'!I2:I100000,\"27??\",'Accounting Data'!J2:J100000,\"61??\")+SUMIFS('Accounting Data'!C2:C100000,'Accounting Data'!E2:E100000,\"8??\",'Accounting Data'!H2:H100000,\"9??\",'Accounting Data'!I2:I100000,\"27??\",'Accounting Data'!J2:J100000,\"61??\")","v":{"v":0,"d":"0 "}},{"$f":"SUMIFS('Accounting Data'!C2:C100000,'Accounting Data'!E2:E100000,\"9??\",'Accounting Data'!H2:H100000,\"7??\",'Accounting Data'!I2:I100000,\"27??\",'Accounting Data'!J2:J100000,\"61??\")+SUMIFS('Accounting Data'!C2:C100000,'Accounting Data'!E2:E100000,\"9??\",'Accounting Data'!H2:H100000,\"8??\",'Accounting Data'!I2:I100000,\"27??\",'Accounting Data'!J2:J100000,\"61??\")+SUMIFS('Accounting Data'!C2:C100000,'Accounting Data'!E2:E100000,\"9??\",'Accounting Data'!H2:H100000,\"9??\",'Accounting Data'!I2:I100000,\"27??\",'Accounting Data'!J2:J100000,\"61??\")","v":{"v":0,"d":"0 "}},null,2700,{"$f":"SUMIFS('Accounting Data'!C2:C100000,'Accounting Data'!I2:I100000,\"27??\",'Accounting Data'!J2:J100000,\"62??\")","v":{"v":892,"d":"892 "}},{"$f":"SUMIFS('Accounting Data'!C2:C100000,'Accounting Data'!E2:E100000,\"575\",'Accounting Data'!I2:I100000,\"27??\",'Accounting Data'!J2:J100000,\"62??\")+SUMIFS('Accounting Data'!C2:C100000,'Accounting Data'!E2:E100000,\"8??\",'Accounting Data'!I2:I100000,\"27??\",'Accounting Data'!J2:J100000,\"62??\")+SUMIFS('Accounting Data'!C2:C100000,'Accounting Data'!E2:E100000,\"9??\",'Accounting Data'!I2:I100000,\"27??\",'Accounting Data'!J2:J100000,\"62??\")","v":{"v":0,"d":"0 "}},{"$f":"SUMIFS('Accounting Data'!C2:C100000,'Accounting Data'!H2:H100000,\"7??\",'Accounting Data'!I2:I100000,\"27??\",'Accounting Data'!J2:J100000,\"62??\")+SUMIFS('Accounting Data'!C2:C100000,'Accounting Data'!H2:H100000,\"8??\",'Accounting Data'!I2:I100000,\"27??\",'Accounting Data'!J2:J100000,\"62??\")+SUMIFS('Accounting Data'!C2:C100000,'Accounting Data'!H2:H100000,\"9??\",'Accounting Data'!I2:I100000,\"27??\",'Accounting Data'!J2:J100000,\"62??\")","v":{"v":0,"d":"0 "}},{"$f":"SUMIFS('Accounting Data'!C2:C100000,'Accounting Data'!E2:E100000,\"575\",'Accounting Data'!H2:H100000,\"7??\",'Accounting Data'!I2:I100000,\"27??\",'Accounting Data'!J2:J100000,\"62??\")+SUMIFS('Accounting Data'!C2:C100000,'Accounting Data'!E2:E100000,\"575\",'Accounting Data'!H2:H100000,\"8??\",'Accounting Data'!I2:I100000,\"27??\",'Accounting Data'!J2:J100000,\"62??\")+SUMIFS('Accounting Data'!C2:C100000,'Accounting Data'!E2:E100000,\"575\",'Accounting Data'!H2:H100000,\"9??\",'Accounting Data'!I2:I100000,\"27??\",'Accounting Data'!J2:J100000,\"62??\")","v":{"v":0,"d":"0 "}},{"$f":"SUMIFS('Accounting Data'!C2:C100000,'Accounting Data'!E2:E100000,\"8??\",'Accounting Data'!H2:H100000,\"7??\",'Accounting Data'!I2:I100000,\"27??\",'Accounting Data'!J2:J100000,\"62??\")+SUMIFS('Accounting Data'!C2:C100000,'Accounting Data'!E2:E100000,\"8??\",'Accounting Data'!H2:H100000,\"8??\",'Accounting Data'!I2:I100000,\"27??\",'Accounting Data'!J2:J100000,\"62??\")+SUMIFS('Accounting Data'!C2:C100000,'Accounting Data'!E2:E100000,\"8??\",'Accounting Data'!H2:H100000,\"9??\",'Accounting Data'!I2:I100000,\"27??\",'Accounting Data'!J2:J100000,\"62??\")","v":{"v":0,"d":"0 "}},{"$f":"SUMIFS('Accounting Data'!C2:C100000,'Accounting Data'!E2:E100000,\"9??\",'Accounting Data'!H2:H100000,\"7??\",'Accounting Data'!I2:I100000,\"27??\",'Accounting Data'!J2:J100000,\"62??\")+SUMIFS('Accounting Data'!C2:C100000,'Accounting Data'!E2:E100000,\"9??\",'Accounting Data'!H2:H100000,\"8??\",'Accounting Data'!I2:I100000,\"27??\",'Accounting Data'!J2:J100000,\"62??\")+SUMIFS('Accounting Data'!C2:C100000,'Accounting Data'!E2:E100000,\"9??\",'Accounting Data'!H2:H100000,\"9??\",'Accounting Data'!I2:I100000,\"27??\",'Accounting Data'!J2:J100000,\"62??\")","v":{"v":0,"d":"0 "}},null,2700,{"$f":"SUMIFS('Accounting Data'!C2:C100000,'Accounting Data'!I2:I100000,\"27??\",'Accounting Data'!J2:J100000,\"63??\")+SUMIFS('Accounting Data'!C2:C100000,'Accounting Data'!I2:I100000,\"27??\",'Accounting Data'!J2:J100000,\"64??\")+SUMIFS('Accounting Data'!C2:C100000,'Accounting Data'!I2:I100000,\"27??\",'Accounting Data'!J2:J100000,\"65??\")","v":{"v":3357,"d":"3,357 "}},{"$f":"SUMIFS('Accounting Data'!C2:C100000,'Accounting Data'!E2:E100000,\"575\",'Accounting Data'!I2:I100000,\"27??\",'Accounting Data'!J2:J100000,\"63??\")+SUMIFS('Accounting Data'!C2:C100000,'Accounting Data'!E2:E100000,\"8??\",'Accounting Data'!I2:I100000,\"27??\",'Accounting Data'!J2:J100000,\"63??\")+SUMIFS('Accounting Data'!C2:C100000,'Accounting Data'!E2:E100000,\"9??\",'Accounting Data'!I2:I100000,\"27??\",'Accounting Data'!J2:J100000,\"63??\")","v":{"v":0,"d":"0 "}},{"$f":"SUMIFS('Accounting Data'!C2:C100000,'Accounting Data'!E2:E100000,\"575\",'Accounting Data'!I2:I100000,\"27??\",'Accounting Data'!J2:J100000,\"64??\")+SUMIFS('Accounting Data'!C2:C100000,'Accounting Data'!E2:E100000,\"8??\",'Accounting Data'!I2:I100000,\"27??\",'Accounting Data'!J2:J100000,\"64??\")+SUMIFS('Accounting Data'!C2:C100000,'Accounting Data'!E2:E100000,\"9??\",'Accounting Data'!I2:I100000,\"27??\",'Accounting Data'!J2:J100000,\"64??\")","v":{"v":0,"d":"0 "}},{"$f":"SUMIFS('Accounting Data'!C2:C100000,'Accounting Data'!E2:E100000,\"575\",'Accounting Data'!I2:I100000,\"27??\",'Accounting Data'!J2:J100000,\"65??\")+SUMIFS('Accounting Data'!C2:C100000,'Accounting Data'!E2:E100000,\"8??\",'Accounting Data'!I2:I100000,\"27??\",'Accounting Data'!J2:J100000,\"65??\")+SUMIFS('Accounting Data'!C2:C100000,'Accounting Data'!E2:E100000,\"9??\",'Accounting Data'!I2:I100000,\"27??\",'Accounting Data'!J2:J100000,\"65??\")","v":{"v":0,"d":"0 "}},{"$f":"SUMIFS('Accounting Data'!C2:C100000,'Accounting Data'!H2:H100000,\"7??\",'Accounting Data'!I2:I100000,\"27??\",'Accounting Data'!J2:J100000,\"63??\")+SUMIFS('Accounting Data'!C2:C100000,'Accounting Data'!H2:H100000,\"8??\",'Accounting Data'!I2:I100000,\"27??\",'Accounting Data'!J2:J100000,\"63??\")+SUMIFS('Accounting Data'!C2:C100000,'Accounting Data'!H2:H100000,\"9??\",'Accounting Data'!I2:I100000,\"27??\",'Accounting Data'!J2:J100000,\"63??\")+SUMIFS('Accounting Data'!C2:C100000,'Accounting Data'!H2:H100000,\"7??\",'Accounting Data'!I2:I100000,\"27??\",'Accounting Data'!J2:J100000,\"64??\")+SUMIFS('Accounting Data'!C2:C100000,'Accounting Data'!H2:H100000,\"8??\",'Accounting Data'!I2:I100000,\"27??\",'Accounting Data'!J2:J100000,\"64??\")+SUMIFS('Accounting Data'!C2:C100000,'Accounting Data'!H2:H100000,\"9??\",'Accounting Data'!I2:I100000,\"27??\",'Accounting Data'!J2:J100000,\"64??\")+SUMIFS('Accounting Data'!C2:C100000,'Accounting Data'!H2:H100000,\"7??\",'Accounting Data'!I2:I100000,\"27??\",'Accounting Data'!J2:J100000,\"65??\")+SUMIFS('Accounting Data'!C2:C100000,'Accounting Data'!H2:H100000,\"8??\",'Accounting Data'!I2:I100000,\"27??\",'Accounting Data'!J2:J100000,\"65??\")+SUMIFS('Accounting Data'!C2:C100000,'Accounting Data'!H2:H100000,\"9??\",'Accounting Data'!I2:I100000,\"27??\",'Accounting Data'!J2:J100000,\"65??\")","v":{"v":0,"d":"0 "}},{"$f":"SUMIFS('Accounting Data'!C2:C100000,'Accounting Data'!E2:E100000,\"575\",'Accounting Data'!H2:H100000,\"7??\",'Accounting Data'!I2:I100000,\"27??\",'Accounting Data'!J2:J100000,\"63??\")+SUMIFS('Accounting Data'!C2:C100000,'Accounting Data'!E2:E100000,\"575\",'Accounting Data'!H2:H100000,\"8??\",'Accounting Data'!I2:I100000,\"27??\",'Accounting Data'!J2:J100000,\"63??\")+SUMIFS('Accounting Data'!C2:C100000,'Accounting Data'!E2:E100000,\"575\",'Accounting Data'!H2:H100000,\"9??\",'Accounting Data'!I2:I100000,\"27??\",'Accounting Data'!J2:J100000,\"63??\")","v":{"v":0,"d":"0 "}},{"$f":"SUMIFS('Accounting Data'!C2:C100000,'Accounting Data'!E2:E100000,\"575\",'Accounting Data'!H2:H100000,\"7??\",'Accounting Data'!I2:I100000,\"27??\",'Accounting Data'!J2:J100000,\"64??\")+SUMIFS('Accounting Data'!C2:C100000,'Accounting Data'!E2:E100000,\"575\",'Accounting Data'!H2:H100000,\"8??\",'Accounting Data'!I2:I100000,\"27??\",'Accounting Data'!J2:J100000,\"64??\")+SUMIFS('Accounting Data'!C2:C100000,'Accounting Data'!E2:E100000,\"575\",'Accounting Data'!H2:H100000,\"9??\",'Accounting Data'!I2:I100000,\"27??\",'Accounting Data'!J2:J100000,\"64??\")","v":{"v":0,"d":"0 "}},{"$f":"SUMIFS('Accounting Data'!C2:C100000,'Accounting Data'!E2:E100000,\"575\",'Accounting Data'!H2:H100000,\"7??\",'Accounting Data'!I2:I100000,\"27??\",'Accounting Data'!J2:J100000,\"65??\")+SUMIFS('Accounting Data'!C2:C100000,'Accounting Data'!E2:E100000,\"575\",'Accounting Data'!H2:H100000,\"8??\",'Accounting Data'!I2:I100000,\"27??\",'Accounting Data'!J2:J100000,\"65??\")+SUMIFS('Accounting Data'!C2:C100000,'Accounting Data'!E2:E100000,\"575\",'Accounting Data'!H2:H100000,\"9??\",'Accounting Data'!I2:I100000,\"27??\",'Accounting Data'!J2:J100000,\"65??\")","v":{"v":0,"d":"0 "}},{"$f":"SUMIFS('Accounting Data'!C2:C100000,'Accounting Data'!E2:E100000,\"8??\",'Accounting Data'!H2:H100000,\"7??\",'Accounting Data'!I2:I100000,\"27??\",'Accounting Data'!J2:J100000,\"63??\")+SUMIFS('Accounting Data'!C2:C100000,'Accounting Data'!E2:E100000,\"8??\",'Accounting Data'!H2:H100000,\"8??\",'Accounting Data'!I2:I100000,\"27??\",'Accounting Data'!J2:J100000,\"63??\")+SUMIFS('Accounting Data'!C2:C100000,'Accounting Data'!E2:E100000,\"8??\",'Accounting Data'!H2:H100000,\"9??\",'Accounting Data'!I2:I100000,\"27??\",'Accounting Data'!J2:J100000,\"63??\")","v":{"v":0,"d":"0 "}},{"$f":"SUMIFS('Accounting Data'!C2:C100000,'Accounting Data'!E2:E100000,\"8??\",'Accounting Data'!H2:H100000,\"7??\",'Accounting Data'!I2:I100000,\"27??\",'Accounting Data'!J2:J100000,\"64??\")+SUMIFS('Accounting Data'!C2:C100000,'Accounting Data'!E2:E100000,\"8??\",'Accounting Data'!H2:H100000,\"8??\",'Accounting Data'!I2:I100000,\"27??\",'Accounting Data'!J2:J100000,\"64??\")+SUMIFS('Accounting Data'!C2:C100000,'Accounting Data'!E2:E100000,\"8??\",'Accounting Data'!H2:H100000,\"9??\",'Accounting Data'!I2:I100000,\"27??\",'Accounting Data'!J2:J100000,\"64??\")","v":{"v":0,"d":"0 "}},{"$f":"SUMIFS('Accounting Data'!C2:C100000,'Accounting Data'!E2:E100000,\"8??\",'Accounting Data'!H2:H100000,\"7??\",'Accounting Data'!I2:I100000,\"27??\",'Accounting Data'!J2:J100000,\"65??\")+SUMIFS('Accounting Data'!C2:C100000,'Accounting Data'!E2:E100000,\"8??\",'Accounting Data'!H2:H100000,\"8??\",'Accounting Data'!I2:I100000,\"27??\",'Accounting Data'!J2:J100000,\"65??\")+SUMIFS('Accounting Data'!C2:C100000,'Accounting Data'!E2:E100000,\"8??\",'Accounting Data'!H2:H100000,\"9??\",'Accounting Data'!I2:I100000,\"27??\",'Accounting Data'!J2:J100000,\"65??\")","v":{"v":0,"d":"0 "}},{"$f":"SUMIFS('Accounting Data'!C2:C100000,'Accounting Data'!E2:E100000,\"9??\",'Accounting Data'!H2:H100000,\"7??\",'Accounting Data'!I2:I100000,\"27??\",'Accounting Data'!J2:J100000,\"63??\")+SUMIFS('Accounting Data'!C2:C100000,'Accounting Data'!E2:E100000,\"9??\",'Accounting Data'!H2:H100000,\"8??\",'Accounting Data'!I2:I100000,\"27??\",'Accounting Data'!J2:J100000,\"63??\")+SUMIFS('Accounting Data'!C2:C100000,'Accounting Data'!E2:E100000,\"9??\",'Accounting Data'!H2:H100000,\"9??\",'Accounting Data'!I2:I100000,\"27??\",'Accounting Data'!J2:J100000,\"63??\")","v":{"v":0,"d":"0 "}},{"$f":"SUMIFS('Accounting Data'!C2:C100000,'Accounting Data'!E2:E100000,\"9??\",'Accounting Data'!H2:H100000,\"7??\",'Accounting Data'!I2:I100000,\"27??\",'Accounting Data'!J2:J100000,\"64??\")+SUMIFS('Accounting Data'!C2:C100000,'Accounting Data'!E2:E100000,\"9??\",'Accounting Data'!H2:H100000,\"8??\",'Accounting Data'!I2:I100000,\"27??\",'Accounting Data'!J2:J100000,\"64??\")+SUMIFS('Accounting Data'!C2:C100000,'Accounting Data'!E2:E100000,\"9??\",'Accounting Data'!H2:H100000,\"9??\",'Accounting Data'!I2:I100000,\"27??\",'Accounting Data'!J2:J100000,\"64??\")","v":{"v":0,"d":"0 "}},{"$f":"SUMIFS('Accounting Data'!C2:C100000,'Accounting Data'!E2:E100000,\"9??\",'Accounting Data'!H2:H100000,\"7??\",'Accounting Data'!I2:I100000,\"27??\",'Accounting Data'!J2:J100000,\"65??\")+SUMIFS('Accounting Data'!C2:C100000,'Accounting Data'!E2:E100000,\"9??\",'Accounting Data'!H2:H100000,\"8??\",'Accounting Data'!I2:I100000,\"27??\",'Accounting Data'!J2:J100000,\"65??\")+SUMIFS('Accounting Data'!C2:C100000,'Accounting Data'!E2:E100000,\"9??\",'Accounting Data'!H2:H100000,\"9??\",'Accounting Data'!I2:I100000,\"27??\",'Accounting Data'!J2:J100000,\"65??\")","v":{"v":0,"d":"0 "}},null,2700,{"$f":"SUMIFS('Accounting Data'!C2:C100000,'Accounting Data'!I2:I100000,\"27??\",'Accounting Data'!J2:J100000,\"66??\")","v":{"v":7707,"d":"7,707 "}},{"$f":"SUMIFS('Accounting Data'!$C$2:$C$100000,'Accounting Data'!$E$2:$E$100000,\"575\",'Accounting Data'!$I$2:$I$100000,\"27??\",'Accounting Data'!$J$2:$J$100000,\"66??\")+SUMIFS('Accounting Data'!$C$2:$C$100000,'Accounting Data'!$E$2:$E$100000,\"8??\",'Accounting Data'!$I$2:$I$100000,\"27??\",'Accounting Data'!$J$2:$J$100000,\"66??\")+SUMIFS('Accounting Data'!$C$2:$C$100000,'Accounting Data'!$E$2:$E$100000,\"9??\",'Accounting Data'!$I$2:$I$100000,\"27??\",'Accounting Data'!$J$2:$J$100000,\"66??\")","v":{"v":0,"d":"0 "}},{"$f":"SUMIFS('Accounting Data'!$C$2:$C$100000,'Accounting Data'!$H$2:$H$100000,\"7??\",'Accounting Data'!$I$2:$I$100000,\"27??\",'Accounting Data'!$J$2:$J$100000,\"66??\")+SUMIFS('Accounting Data'!$C$2:$C$100000,'Accounting Data'!$H$2:$H$100000,\"8??\",'Accounting Data'!$I$2:$I$100000,\"27??\",'Accounting Data'!$J$2:$J$100000,\"66??\")+SUMIFS('Accounting Data'!$C$2:$C$100000,'Accounting Data'!$H$2:$H$100000,\"9??\",'Accounting Data'!$I$2:$I$100000,\"27??\",'Accounting Data'!$J$2:$J$100000,\"66??\")","v":{"v":0,"d":"0 "}},{"$f":"SUMIFS('Accounting Data'!$C$2:$C$100000,'Accounting Data'!$E$2:$E$100000,\"575\",'Accounting Data'!$H$2:$H$100000,\"7??\",'Accounting Data'!$I$2:$I$100000,\"27??\",'Accounting Data'!$J$2:$J$100000,\"66??\")+SUMIFS('Accounting Data'!$C$2:$C$100000,'Accounting Data'!$E$2:$E$100000,\"575\",'Accounting Data'!$H$2:$H$100000,\"8??\",'Accounting Data'!$I$2:$I$100000,\"27??\",'Accounting Data'!$J$2:$J$100000,\"66??\")+SUMIFS('Accounting Data'!$C$2:$C$100000,'Accounting Data'!$E$2:$E$100000,\"575\",'Accounting Data'!$H$2:$H$100000,\"9??\",'Accounting Data'!$I$2:$I$100000,\"27??\",'Accounting Data'!$J$2:$J$100000,\"66??\")","v":{"v":0,"d":"0 "}},{"$f":"SUMIFS('Accounting Data'!$C$2:$C$100000,'Accounting Data'!$E$2:$E$100000,\"8??\",'Accounting Data'!$H$2:$H$100000,\"7??\",'Accounting Data'!$I$2:$I$100000,\"27??\",'Accounting Data'!$J$2:$J$100000,\"66??\")+SUMIFS('Accounting Data'!$C$2:$C$100000,'Accounting Data'!$E$2:$E$100000,\"8??\",'Accounting Data'!$H$2:$H$100000,\"8??\",'Accounting Data'!$I$2:$I$100000,\"27??\",'Accounting Data'!$J$2:$J$100000,\"66??\")+SUMIFS('Accounting Data'!$C$2:$C$100000,'Accounting Data'!$E$2:$E$100000,\"8??\",'Accounting Data'!$H$2:$H$100000,\"9??\",'Accounting Data'!$I$2:$I$100000,\"27??\",'Accounting Data'!$J$2:$J$100000,\"66??\")","v":{"v":0,"d":"0 "}},{"$f":"SUMIFS('Accounting Data'!$C$2:$C$100000,'Accounting Data'!$E$2:$E$100000,\"9??\",'Accounting Data'!$H$2:$H$100000,\"7??\",'Accounting Data'!$I$2:$I$100000,\"27??\",'Accounting Data'!$J$2:$J$100000,\"66??\")+SUMIFS('Accounting Data'!$C$2:$C$100000,'Accounting Data'!$E$2:$E$100000,\"9??\",'Accounting Data'!$H$2:$H$100000,\"8??\",'Accounting Data'!$I$2:$I$100000,\"27??\",'Accounting Data'!$J$2:$J$100000,\"66??\")+SUMIFS('Accounting Data'!$C$2:$C$100000,'Accounting Data'!$E$2:$E$100000,\"9??\",'Accounting Data'!$H$2:$H$100000,\"9??\",'Accounting Data'!$I$2:$I$100000,\"27??\",'Accounting Data'!$J$2:$J$100000,\"66??\")","v":{"v":0,"d":"0 "}},null,2700,{"$f":"SUMIFS('Accounting Data'!C2:C100000,'Accounting Data'!I2:I100000,\"27??\",'Accounting Data'!J2:J100000,\"67??\")","v":{"v":837,"d":"837 "}},{"$f":"SUMIFS('Accounting Data'!$C$2:$C$100000,'Accounting Data'!$E$2:$E$100000,\"575\",'Accounting Data'!$I$2:$I$100000,\"27??\",'Accounting Data'!$J$2:$J$100000,\"67??\")+SUMIFS('Accounting Data'!$C$2:$C$100000,'Accounting Data'!$E$2:$E$100000,\"8??\",'Accounting Data'!$I$2:$I$100000,\"27??\",'Accounting Data'!$J$2:$J$100000,\"67??\")+SUMIFS('Accounting Data'!$C$2:$C$100000,'Accounting Data'!$E$2:$E$100000,\"9??\",'Accounting Data'!$I$2:$I$100000,\"27??\",'Accounting Data'!$J$2:$J$100000,\"67??\")","v":{"v":0,"d":"0 "}},{"$f":"SUMIFS('Accounting Data'!$C$2:$C$100000,'Accounting Data'!$H$2:$H$100000,\"7??\",'Accounting Data'!$I$2:$I$100000,\"27??\",'Accounting Data'!$J$2:$J$100000,\"67??\")+SUMIFS('Accounting Data'!$C$2:$C$100000,'Accounting Data'!$H$2:$H$100000,\"8??\",'Accounting Data'!$I$2:$I$100000,\"27??\",'Accounting Data'!$J$2:$J$100000,\"67??\")+SUMIFS('Accounting Data'!$C$2:$C$100000,'Accounting Data'!$H$2:$H$100000,\"9??\",'Accounting Data'!$I$2:$I$100000,\"27??\",'Accounting Data'!$J$2:$J$100000,\"67??\")","v":{"v":0,"d":"0 "}},{"$f":"SUMIFS('Accounting Data'!$C$2:$C$100000,'Accounting Data'!$E$2:$E$100000,\"575\",'Accounting Data'!$H$2:$H$100000,\"7??\",'Accounting Data'!$I$2:$I$100000,\"27??\",'Accounting Data'!$J$2:$J$100000,\"67??\")+SUMIFS('Accounting Data'!$C$2:$C$100000,'Accounting Data'!$E$2:$E$100000,\"575\",'Accounting Data'!$H$2:$H$100000,\"8??\",'Accounting Data'!$I$2:$I$100000,\"27??\",'Accounting Data'!$J$2:$J$100000,\"67??\")+SUMIFS('Accounting Data'!$C$2:$C$100000,'Accounting Data'!$E$2:$E$100000,\"575\",'Accounting Data'!$H$2:$H$100000,\"9??\",'Accounting Data'!$I$2:$I$100000,\"27??\",'Accounting Data'!$J$2:$J$100000,\"67??\")","v":{"v":0,"d":"0 "}},{"$f":"SUMIFS('Accounting Data'!$C$2:$C$100000,'Accounting Data'!$E$2:$E$100000,\"8??\",'Accounting Data'!$H$2:$H$100000,\"7??\",'Accounting Data'!$I$2:$I$100000,\"27??\",'Accounting Data'!$J$2:$J$100000,\"67??\")+SUMIFS('Accounting Data'!$C$2:$C$100000,'Accounting Data'!$E$2:$E$100000,\"8??\",'Accounting Data'!$H$2:$H$100000,\"8??\",'Accounting Data'!$I$2:$I$100000,\"27??\",'Accounting Data'!$J$2:$J$100000,\"67??\")+SUMIFS('Accounting Data'!$C$2:$C$100000,'Accounting Data'!$E$2:$E$100000,\"8??\",'Accounting Data'!$H$2:$H$100000,\"9??\",'Accounting Data'!$I$2:$I$100000,\"27??\",'Accounting Data'!$J$2:$J$100000,\"67??\")","v":{"v":0,"d":"0 "}},{"$f":"SUMIFS('Accounting Data'!$C$2:$C$100000,'Accounting Data'!$E$2:$E$100000,\"9??\",'Accounting Data'!$H$2:$H$100000,\"7??\",'Accounting Data'!$I$2:$I$100000,\"27??\",'Accounting Data'!$J$2:$J$100000,\"67??\")+SUMIFS('Accounting Data'!$C$2:$C$100000,'Accounting Data'!$E$2:$E$100000,\"9??\",'Accounting Data'!$H$2:$H$100000,\"8??\",'Accounting Data'!$I$2:$I$100000,\"27??\",'Accounting Data'!$J$2:$J$100000,\"67??\")+SUMIFS('Accounting Data'!$C$2:$C$100000,'Accounting Data'!$E$2:$E$100000,\"9??\",'Accounting Data'!$H$2:$H$100000,\"9??\",'Accounting Data'!$I$2:$I$100000,\"27??\",'Accounting Data'!$J$2:$J$100000,\"67??\")","v":{"v":0,"d":"0 "}},null,2700,{"$f":"SUMIFS('Accounting Data'!C2:C100000,'Accounting Data'!I2:I100000,\"27??\",'Accounting Data'!J2:J100000,\"681?\")","v":{"v":0,"d":"0 "}},{"$f":"SUMIFS('Accounting Data'!$C$2:$C$100000,'Accounting Data'!$E$2:$E$100000,\"575\",'Accounting Data'!$I$2:$I$100000,\"27??\",'Accounting Data'!$J$2:$J$100000,\"681?\")+SUMIFS('Accounting Data'!$C$2:$C$100000,'Accounting Data'!$E$2:$E$100000,\"8??\",'Accounting Data'!$I$2:$I$100000,\"27??\",'Accounting Data'!$J$2:$J$100000,\"681?\")+SUMIFS('Accounting Data'!$C$2:$C$100000,'Accounting Data'!$E$2:$E$100000,\"9??\",'Accounting Data'!$I$2:$I$100000,\"27??\",'Accounting Data'!$J$2:$J$100000,\"681?\")","v":{"v":0,"d":"0 "}},{"$f":"SUMIFS('Accounting Data'!$C$2:$C$100000,'Accounting Data'!$H$2:$H$100000,\"7??\",'Accounting Data'!$I$2:$I$100000,\"27??\",'Accounting Data'!$J$2:$J$100000,\"681?\")+SUMIFS('Accounting Data'!$C$2:$C$100000,'Accounting Data'!$H$2:$H$100000,\"8??\",'Accounting Data'!$I$2:$I$100000,\"27??\",'Accounting Data'!$J$2:$J$100000,\"681?\")+SUMIFS('Accounting Data'!$C$2:$C$100000,'Accounting Data'!$H$2:$H$100000,\"9??\",'Accounting Data'!$I$2:$I$100000,\"27??\",'Accounting Data'!$J$2:$J$100000,\"681?\")","v":{"v":0,"d":"0 "}},{"$f":"SUMIFS('Accounting Data'!$C$2:$C$100000,'Accounting Data'!$E$2:$E$100000,\"575\",'Accounting Data'!$H$2:$H$100000,\"7??\",'Accounting Data'!$I$2:$I$100000,\"27??\",'Accounting Data'!$J$2:$J$100000,\"681?\")+SUMIFS('Accounting Data'!$C$2:$C$100000,'Accounting Data'!$E$2:$E$100000,\"575\",'Accounting Data'!$H$2:$H$100000,\"8??\",'Accounting Data'!$I$2:$I$100000,\"27??\",'Accounting Data'!$J$2:$J$100000,\"681?\")+SUMIFS('Accounting Data'!$C$2:$C$100000,'Accounting Data'!$E$2:$E$100000,\"575\",'Accounting Data'!$H$2:$H$100000,\"9??\",'Accounting Data'!$I$2:$I$100000,\"27??\",'Accounting Data'!$J$2:$J$100000,\"681?\")","v":{"v":0,"d":"0 "}},{"$f":"SUMIFS('Accounting Data'!$C$2:$C$100000,'Accounting Data'!$E$2:$E$100000,\"8??\",'Accounting Data'!$H$2:$H$100000,\"7??\",'Accounting Data'!$I$2:$I$100000,\"27??\",'Accounting Data'!$J$2:$J$100000,\"681?\")+SUMIFS('Accounting Data'!$C$2:$C$100000,'Accounting Data'!$E$2:$E$100000,\"8??\",'Accounting Data'!$H$2:$H$100000,\"8??\",'Accounting Data'!$I$2:$I$100000,\"27??\",'Accounting Data'!$J$2:$J$100000,\"681?\")+SUMIFS('Accounting Data'!$C$2:$C$100000,'Accounting Data'!$E$2:$E$100000,\"8??\",'Accounting Data'!$H$2:$H$100000,\"9??\",'Accounting Data'!$I$2:$I$100000,\"27??\",'Accounting Data'!$J$2:$J$100000,\"681?\")","v":{"v":0,"d":"0 "}},{"$f":"SUMIFS('Accounting Data'!$C$2:$C$100000,'Accounting Data'!$E$2:$E$100000,\"9??\",'Accounting Data'!$H$2:$H$100000,\"7??\",'Accounting Data'!$I$2:$I$100000,\"27??\",'Accounting Data'!$J$2:$J$100000,\"681?\")+SUMIFS('Accounting Data'!$C$2:$C$100000,'Accounting Data'!$E$2:$E$100000,\"9??\",'Accounting Data'!$H$2:$H$100000,\"8??\",'Accounting Data'!$I$2:$I$100000,\"27??\",'Accounting Data'!$J$2:$J$100000,\"681?\")+SUMIFS('Accounting Data'!$C$2:$C$100000,'Accounting Data'!$E$2:$E$100000,\"9??\",'Accounting Data'!$H$2:$H$100000,\"9??\",'Accounting Data'!$I$2:$I$100000,\"27??\",'Accounting Data'!$J$2:$J$100000,\"681?\")","v":{"v":0,"d":"0 "}},{"$nulls":17},2700,{"$f":"SUMIFS('Accounting Data'!C2:C100000,'Accounting Data'!I2:I100000,\"27??\",'Accounting Data'!J2:J100000,\"689?\")","v":{"v":0,"d":"0 "}},{"$f":"SUMIFS('Accounting Data'!$C$2:$C$100000,'Accounting Data'!$E$2:$E$100000,\"575\",'Accounting Data'!$I$2:$I$100000,\"27??\",'Accounting Data'!$J$2:$J$100000,\"689?\")+SUMIFS('Accounting Data'!$C$2:$C$100000,'Accounting Data'!$E$2:$E$100000,\"8??\",'Accounting Data'!$I$2:$I$100000,\"27??\",'Accounting Data'!$J$2:$J$100000,\"689?\")+SUMIFS('Accounting Data'!$C$2:$C$100000,'Accounting Data'!$E$2:$E$100000,\"9??\",'Accounting Data'!$I$2:$I$100000,\"27??\",'Accounting Data'!$J$2:$J$100000,\"689?\")","v":{"v":0,"d":"0 "}},{"$f":"SUMIFS('Accounting Data'!$C$2:$C$100000,'Accounting Data'!$H$2:$H$100000,\"7??\",'Accounting Data'!$I$2:$I$100000,\"27??\",'Accounting Data'!$J$2:$J$100000,\"689?\")+SUMIFS('Accounting Data'!$C$2:$C$100000,'Accounting Data'!$H$2:$H$100000,\"8??\",'Accounting Data'!$I$2:$I$100000,\"27??\",'Accounting Data'!$J$2:$J$100000,\"689?\")+SUMIFS('Accounting Data'!$C$2:$C$100000,'Accounting Data'!$H$2:$H$100000,\"9??\",'Accounting Data'!$I$2:$I$100000,\"27??\",'Accounting Data'!$J$2:$J$100000,\"689?\")","v":{"v":0,"d":"0 "}},{"$f":"SUMIFS('Accounting Data'!$C$2:$C$100000,'Accounting Data'!$E$2:$E$100000,\"575\",'Accounting Data'!$H$2:$H$100000,\"7??\",'Accounting Data'!$I$2:$I$100000,\"27??\",'Accounting Data'!$J$2:$J$100000,\"689?\")+SUMIFS('Accounting Data'!$C$2:$C$100000,'Accounting Data'!$E$2:$E$100000,\"575\",'Accounting Data'!$H$2:$H$100000,\"8??\",'Accounting Data'!$I$2:$I$100000,\"27??\",'Accounting Data'!$J$2:$J$100000,\"689?\")+SUMIFS('Accounting Data'!$C$2:$C$100000,'Accounting Data'!$E$2:$E$100000,\"575\",'Accounting Data'!$H$2:$H$100000,\"9??\",'Accounting Data'!$I$2:$I$100000,\"27??\",'Accounting Data'!$J$2:$J$100000,\"689?\")","v":{"v":0,"d":"0 "}},{"$f":"SUMIFS('Accounting Data'!$C$2:$C$100000,'Accounting Data'!$E$2:$E$100000,\"8??\",'Accounting Data'!$H$2:$H$100000,\"7??\",'Accounting Data'!$I$2:$I$100000,\"27??\",'Accounting Data'!$J$2:$J$100000,\"689?\")+SUMIFS('Accounting Data'!$C$2:$C$100000,'Accounting Data'!$E$2:$E$100000,\"8??\",'Accounting Data'!$H$2:$H$100000,\"8??\",'Accounting Data'!$I$2:$I$100000,\"27??\",'Accounting Data'!$J$2:$J$100000,\"689?\")+SUMIFS('Accounting Data'!$C$2:$C$100000,'Accounting Data'!$E$2:$E$100000,\"8??\",'Accounting Data'!$H$2:$H$100000,\"9??\",'Accounting Data'!$I$2:$I$100000,\"27??\",'Accounting Data'!$J$2:$J$100000,\"689?\")","v":{"v":0,"d":"0 "}},{"$f":"SUMIFS('Accounting Data'!$C$2:$C$100000,'Accounting Data'!$E$2:$E$100000,\"9??\",'Accounting Data'!$H$2:$H$100000,\"7??\",'Accounting Data'!$I$2:$I$100000,\"27??\",'Accounting Data'!$J$2:$J$100000,\"689?\")+SUMIFS('Accounting Data'!$C$2:$C$100000,'Accounting Data'!$E$2:$E$100000,\"9??\",'Accounting Data'!$H$2:$H$100000,\"8??\",'Accounting Data'!$I$2:$I$100000,\"27??\",'Accounting Data'!$J$2:$J$100000,\"689?\")+SUMIFS('Accounting Data'!$C$2:$C$100000,'Accounting Data'!$E$2:$E$100000,\"9??\",'Accounting Data'!$H$2:$H$100000,\"9??\",'Accounting Data'!$I$2:$I$100000,\"27??\",'Accounting Data'!$J$2:$J$100000,\"689?\")","v":{"v":0,"d":"0 "}}]
["         3100 Food Service Operations","9.",{"$f":"(AA21-AB21-AC21)+(AD21+AE21+AF21)","v":{"v":0,"d":"0 "}},{"$f":"(AI21-AJ21-AK21)+(AL21+AM21+AN21)","v":{"v":0,"d":"0 "}},{"$f":"(AQ21-AR21-AS21-AT21-AU21)+(AV21+AW21+AX21+AY21+AZ21+BA21+BB21+BC21+BD21)","v":{"v":0,"d":"0 "}},{"$f":"(BG21-BH21-BI21)+(BJ21+BK21+BL21)","v":{"v":0,"d":"0 "}},{"$f":"(BO21-BP21-BQ21)+(BR21+BS21+BT21)","v":{"v":0,"d":"0 "}},{"$f":"(BW21-BX21-BY21)+(BZ21+CA21+CB21)","v":{"v":0,"d":"0 "}},{"$nulls":3},{"$f":"(CU21-CV21-CW21)+(CX21+CY21+CZ21)","v":{"v":0,"d":"0 "}},{"$f":"(DC20-DD20)-((DE20+DF20)-(DG20+DH20))","v":{"v":0,"d":"0 "}},{"v":0,"d":"0 "},"9.",{"$nulls":3},"6200",{"$f":"SUMIFS('Accounting Data'!$C$2:$C$100000,'Accounting Data'!$E$2:$E$100000,\"378\",'Accounting Data'!$I$2:$I$100000,\"1???\",'Accounting Data'!$J$2:$J$100000,\"62??\")+SUMIFS('Accounting Data'!$C$2:$C$100000,'Accounting Data'!$E$2:$E$100000,\"378\",'Accounting Data'!$I$2:$I$100000,\"2???\",'Accounting Data'!$J$2:$J$100000,\"62??\")+SUMIFS('Accounting Data'!$C$2:$C$100000,'Accounting Data'!$E$2:$E$100000,\"378\",'Accounting Data'!$I$2:$I$100000,\"3???\",'Accounting Data'!$J$2:$J$100000,\"62??\")","v":{"v":0,"d":"0 "}},{"$f":"IF($T$28=0,0,T20/$T$28)","v":{"v":0,"d":"0 "}},{"$f":"$P$25*U20","v":{"v":0,"d":"0 "}},{"$f":"IF($P$25>$T$28,T20,V20)","v":{"v":0,"d":"0 "}},{"$nulls":58},"Object 6841, 6842 & 6843",{"$nulls":23},3100,{"$f":"SUMIFS('Accounting Data'!$C$2:$C$100000,'Accounting Data'!$H$2:$H$100000,\"7??\",'Accounting Data'!$I$2:$I$100000,\"31??\",'Accounting Data'!$J$2:$J$100000,\"6???\")+SUMIFS('Accounting Data'!$C$2:$C$100000,'Accounting Data'!$H$2:$H$100000,\"8??\",'Accounting Data'!$I$2:$I$100000,\"31??\",'Accounting Data'!$J$2:$J$100000,\"6???\")+SUMIFS('Accounting Data'!$C$2:$C$100000,'Accounting Data'!$H$2:$H$100000,\"9??\",'Accounting Data'!$I$2:$I$100000,\"31??\",'Accounting Data'!$J$2:$J$100000,\"6???\")","v":{"v":0,"d":"0 "}},{"$f":"SUMIFS('Accounting Data'!$C$2:$C$100000,'Accounting Data'!$H$2:$H$100000,\"7??\",'Accounting Data'!$I$2:$I$100000,\"31??\",'Accounting Data'!$J$2:$J$100000,\"69??\")+SUMIFS('Accounting Data'!$C$2:$C$100000,'Accounting Data'!$H$2:$H$100000,\"8??\",'Accounting Data'!$I$2:$I$100000,\"31??\",'Accounting Data'!$J$2:$J$100000,\"69??\")+SUMIFS('Accounting Data'!$C$2:$C$100000,'Accounting Data'!$H$2:$H$100000,\"9??\",'Accounting Data'!$I$2:$I$100000,\"31??\",'Accounting Data'!$J$2:$J$100000,\"69??\")","v":{"v":0,"d":"0 "}},{"$f":"SUMIFS('Accounting Data'!$C$2:$C$100000,'Accounting Data'!$E$2:$E$100000,\"575\",'Accounting Data'!$H$2:$H$100000,\"7??\",'Accounting Data'!$I$2:$I$100000,\"31??\",'Accounting Data'!$J$2:$J$100000,\"6???\")+SUMIFS('Accounting Data'!$C$2:$C$100000,'Accounting Data'!$E$2:$E$100000,\"575\",'Accounting Data'!$H$2:$H$100000,\"8??\",'Accounting Data'!$I$2:$I$100000,\"31??\",'Accounting Data'!$J$2:$J$100000,\"6???\")+SUMIFS('Accounting Data'!$C$2:$C$100000,'Accounting Data'!$E$2:$E$100000,\"575\",'Accounting Data'!$H$2:$H$100000,\"9??\",'Accounting Data'!$I$2:$I$100000,\"31??\",'Accounting Data'!$J$2:$J$100000,\"6???\")","v":{"v":0,"d":"0 "}},{"$f":"SUMIFS('Accounting Data'!$C$2:$C$100000,'Accounting Data'!$E$2:$E$100000,\"8??\",'Accounting Data'!$H$2:$H$100000,\"7??\",'Accounting Data'!$I$2:$I$100000,\"31??\",'Accounting Data'!$J$2:$J$100000,\"6???\")+SUMIFS('Accounting Data'!$C$2:$C$100000,'Accounting Data'!$E$2:$E$100000,\"8??\",'Accounting Data'!$H$2:$H$100000,\"8??\",'Accounting Data'!$I$2:$I$100000,\"31??\",'Accounting Data'!$J$2:$J$100000,\"6???\")+SUMIFS('Accounting Data'!$C$2:$C$100000,'Accounting Data'!$E$2:$E$100000,\"8??\",'Accounting Data'!$H$2:$H$100000,\"9??\",'Accounting Data'!$I$2:$I$100000,\"31??\",'Accounting Data'!$J$2:$J$100000,\"6???\")+SUMIFS('Accounting Data'!$C$2:$C$100000,'Accounting Data'!$E$2:$E$100000,\"9??\",'Accounting Data'!$H$2:$H$100000,\"7??\",'Accounting Data'!$I$2:$I$100000,\"31??\",'Accounting Data'!$J$2:$J$100000,\"6???\")+SUMIFS('Accounting Data'!$C$2:$C$100000,'Accounting Data'!$E$2:$E$100000,\"9??\",'Accounting Data'!$H$2:$H$100000,\"8??\",'Accounting Data'!$I$2:$I$100000,\"31??\",'Accounting Data'!$J$2:$J$100000,\"6???\")+SUMIFS('Accounting Data'!$C$2:$C$100000,'Accounting Data'!$E$2:$E$100000,\"9??\",'Accounting Data'!$H$2:$H$100000,\"9??\",'Accounting Data'!$I$2:$I$100000,\"31??\",'Accounting Data'!$J$2:$J$100000,\"6???\")","v":{"v":0,"d":"0 "}},{"$f":"SUMIFS('Accounting Data'!$C$2:$C$100000,'Accounting Data'!$E$2:$E$100000,\"575\",'Accounting Data'!$H$2:$H$100000,\"7??\",'Accounting Data'!$I$2:$I$100000,\"31??\",'Accounting Data'!$J$2:$J$100000,\"69??\")+SUMIFS('Accounting Data'!$C$2:$C$100000,'Accounting Data'!$E$2:$E$100000,\"575\",'Accounting Data'!$H$2:$H$100000,\"8??\",'Accounting Data'!$I$2:$I$100000,\"31??\",'Accounting Data'!$J$2:$J$100000,\"69??\")+SUMIFS('Accounting Data'!$C$2:$C$100000,'Accounting Data'!$E$2:$E$100000,\"575\",'Accounting Data'!$H$2:$H$100000,\"9??\",'Accounting Data'!$I$2:$I$100000,\"31??\",'Accounting Data'!$J$2:$J$100000,\"69??\")","v":{"v":0,"d":"0 "}},{"$f":"SUMIFS('Accounting Data'!$C$2:$C$100000,'Accounting Data'!$E$2:$E$100000,\"8??\",'Accounting Data'!$H$2:$H$100000,\"7??\",'Accounting Data'!$I$2:$I$100000,\"31??\",'Accounting Data'!$J$2:$J$100000,\"69??\")+SUMIFS('Accounting Data'!$C$2:$C$100000,'Accounting Data'!$E$2:$E$100000,\"8??\",'Accounting Data'!$H$2:$H$100000,\"8??\",'Accounting Data'!$I$2:$I$100000,\"31??\",'Accounting Data'!$J$2:$J$100000,\"69??\")+SUMIFS('Accounting Data'!$C$2:$C$100000,'Accounting Data'!$E$2:$E$100000,\"8??\",'Accounting Data'!$H$2:$H$100000,\"9??\",'Accounting Data'!$I$2:$I$100000,\"31??\",'Accounting Data'!$J$2:$J$100000,\"69??\")+SUMIFS('Accounting Data'!$C$2:$C$100000,'Accounting Data'!$E$2:$E$100000,\"9??\",'Accounting Data'!$H$2:$H$100000,\"7??\",'Accounting Data'!$I$2:$I$100000,\"31??\",'Accounting Data'!$J$2:$J$100000,\"69??\")+SUMIFS('Accounting Data'!$C$2:$C$100000,'Accounting Data'!$E$2:$E$100000,\"9??\",'Accounting Data'!$H$2:$H$100000,\"8??\",'Accounting Data'!$I$2:$I$100000,\"31??\",'Accounting Data'!$J$2:$J$100000,\"69??\")+SUMIFS('Accounting Data'!$C$2:$C$100000,'Accounting Data'!$E$2:$E$100000,\"9??\",'Accounting Data'!$H$2:$H$100000,\"9??\",'Accounting Data'!$I$2:$I$100000,\"31??\",'Accounting Data'!$J$2:$J$100000,\"69??\")","v":{"v":0,"d":"0 "}}]
["         3200 Enterprise Operations","10.",{"$f":"(AA22-AB22-AC22)+(AD22+AE22+AF22)","v":{"v":0,"d":"0 "}},{"$f":"(AI22-AJ22-AK22)+(AL22+AM22+AN22)","v":{"v":0,"d":"0 "}},{"$f":"(AQ22-AR22-AS22-AT22-AU22)+(AV22+AW22+AX22+AY22+AZ22+BA22+BB22+BC22+BD22)","v":{"v":0,"d":"0 "}},{"$f":"(BG22-BH22-BI22)+(BJ22+BK22+BL22)","v":{"v":0,"d":"0 "}},{"$f":"(BO22-BP22-BQ22)+(BR22+BS22+BT22)","v":{"v":0,"d":"0 "}},{"$f":"(BW22-BX22-BY22)+(BZ22+CA22+CB22)","v":{"v":0,"d":"0 "}},{"$nulls":3},{"$f":"(CU22-CV22-CW22)+(CX22+CY22+CZ22)","v":{"v":0,"d":"0 "}},{"$f":"(DC21-DD21)-((DE21+DF21)-(DG21+DH21))","v":{"v":0,"d":"0 "}},{"v":0,"d":"0 "},"10.",{"$nulls":3},"6300",{"$f":"SUMIFS('Accounting Data'!$C$2:$C$100000,'Accounting Data'!$E$2:$E$100000,\"378\",'Accounting Data'!$I$2:$I$100000,\"1???\",'Accounting Data'!$J$2:$J$100000,\"63??\")+SUMIFS('Accounting Data'!$C$2:$C$100000,'Accounting Data'!$E$2:$E$100000,\"378\",'Accounting Data'!$I$2:$I$100000,\"2???\",'Accounting Data'!$J$2:$J$100000,\"63??\")+SUMIFS('Accounting Data'!$C$2:$C$100000,'Accounting Data'!$E$2:$E$100000,\"378\",'Accounting Data'!$I$2:$I$100000,\"3???\",'Accounting Data'!$J$2:$J$100000,\"63??\")","v":{"v":0,"d":"0 "}},{"$f":"IF($T$28=0,0,T21/$T$28)","v":{"v":0,"d":"0 "}},{"$f":"$P$25*U21","v":{"v":0,"d":"0 "}},{"v":0,"d":"0 "},null,null,3100,{"$f":"SUMIFS('Accounting Data'!C2:C100000,'Accounting Data'!I2:I100000,\"31??\",'Accounting Data'!J2:J100000,\"61??\")","v":{"v":0,"d":"0 "}},{"$f":"SUMIFS('Accounting Data'!C2:C100000,'Accounting Data'!E2:E100000,\"575\",'Accounting Data'!I2:I100000,\"31??\",'Accounting Data'!J2:J100000,\"61??\")+SUMIFS('Accounting Data'!C2:C100000,'Accounting Data'!E2:E100000,\"8??\",'Accounting Data'!I2:I100000,\"31??\",'Accounting Data'!J2:J100000,\"61??\")+SUMIFS('Accounting Data'!C2:C100000,'Accounting Data'!E2:E100000,\"9??\",'Accounting Data'!I2:I100000,\"31??\",'Accounting Data'!J2:J100000,\"61??\")","v":{"v":0,"d":"0 "}},{"$f":"SUMIFS('Accounting Data'!C2:C100000,'Accounting Data'!H2:H100000,\"7??\",'Accounting Data'!I2:I100000,\"31??\",'Accounting Data'!J2:J100000,\"61??\")+SUMIFS('Accounting Data'!C2:C100000,'Accounting Data'!H2:H100000,\"8??\",'Accounting Data'!I2:I100000,\"31??\",'Accounting Data'!J2:J100000,\"61??\")+SUMIFS('Accounting Data'!C2:C100000,'Accounting Data'!H2:H100000,\"9??\",'Accounting Data'!I2:I100000,\"31??\",'Accounting Data'!J2:J100000,\"61??\")","v":{"v":0,"d":"0 "}},{"$f":"SUMIFS('Accounting Data'!C2:C100000,'Accounting Data'!E2:E100000,\"575\",'Accounting Data'!H2:H100000,\"7??\",'Accounting Data'!I2:I100000,\"31??\",'Accounting Data'!J2:J100000,\"61??\")+SUMIFS('Accounting Data'!C2:C100000,'Accounting Data'!E2:E100000,\"575\",'Accounting Data'!H2:H100000,\"8??\",'Accounting Data'!I2:I100000,\"31??\",'Accounting Data'!J2:J100000,\"61??\")+SUMIFS('Accounting Data'!C2:C100000,'Accounting Data'!E2:E100000,\"575\",'Accounting Data'!H2:H100000,\"9??\",'Accounting Data'!I2:I100000,\"31??\",'Accounting Data'!J2:J100000,\"61??\")","v":{"v":0,"d":"0 "}},{"$f":"SUMIFS('Accounting Data'!C2:C100000,'Accounting Data'!E2:E100000,\"8??\",'Accounting Data'!H2:H100000,\"7??\",'Accounting Data'!I2:I100000,\"31??\",'Accounting Data'!J2:J100000,\"61??\")+SUMIFS('Accounting Data'!C2:C100000,'Accounting Data'!E2:E100000,\"8??\",'Accounting Data'!H2:H100000,\"8??\",'Accounting Data'!I2:I100000,\"31??\",'Accounting Data'!J2:J100000,\"61??\")+SUMIFS('Accounting Data'!C2:C100000,'Accounting Data'!E2:E100000,\"8??\",'Accounting Data'!H2:H100000,\"9??\",'Accounting Data'!I2:I100000,\"31??\",'Accounting Data'!J2:J100000,\"61??\")","v":{"v":0,"d":"0 "}},{"$f":"SUMIFS('Accounting Data'!C2:C100000,'Accounting Data'!E2:E100000,\"9??\",'Accounting Data'!H2:H100000,\"7??\",'Accounting Data'!I2:I100000,\"31??\",'Accounting Data'!J2:J100000,\"61??\")+SUMIFS('Accounting Data'!C2:C100000,'Accounting Data'!E2:E100000,\"9??\",'Accounting Data'!H2:H100000,\"8??\",'Accounting Data'!I2:I100000,\"31??\",'Accounting Data'!J2:J100000,\"61??\")+SUMIFS('Accounting Data'!C2:C100000,'Accounting Data'!E2:E100000,\"9??\",'Accounting Data'!H2:H100000,\"9??\",'Accounting Data'!I2:I100000,\"31??\",'Accounting Data'!J2:J100000,\"61??\")","v":{"v":0,"d":"0 "}},null,3100,{"$f":"SUMIFS('Accounting Data'!C2:C100000,'Accounting Data'!I2:I100000,\"31??\",'Accounting Data'!J2:J100000,\"62??\")","v":{"v":0,"d":"0 "}},{"$f":"SUMIFS('Accounting Data'!C2:C100000,'Accounting Data'!E2:E100000,\"575\",'Accounting Data'!I2:I100000,\"31??\",'Accounting Data'!J2:J100000,\"62??\")+SUMIFS('Accounting Data'!C2:C100000,'Accounting Data'!E2:E100000,\"8??\",'Accounting Data'!I2:I100000,\"31??\",'Accounting Data'!J2:J100000,\"62??\")+SUMIFS('Accounting Data'!C2:C100000,'Accounting Data'!E2:E100000,\"9??\",'Accounting Data'!I2:I100000,\"31??\",'Accounting Data'!J2:J100000,\"62??\")","v":{"v":0,"d":"0 "}},{"$f":"SUMIFS('Accounting Data'!C2:C100000,'Accounting Data'!H2:H100000,\"7??\",'Accounting Data'!I2:I100000,\"31??\",'Accounting Data'!J2:J100000,\"62??\")+SUMIFS('Accounting Data'!C2:C100000,'Accounting Data'!H2:H100000,\"8??\",'Accounting Data'!I2:I100000,\"31??\",'Accounting Data'!J2:J100000,\"62??\")+SUMIFS('Accounting Data'!C2:C100000,'Accounting Data'!H2:H100000,\"9??\",'Accounting Data'!I2:I100000,\"31??\",'Accounting Data'!J2:J100000,\"62??\")","v":{"v":0,"d":"0 "}},{"$f":"SUMIFS('Accounting Data'!C2:C100000,'Accounting Data'!E2:E100000,\"575\",'Accounting Data'!H2:H100000,\"7??\",'Accounting Data'!I2:I100000,\"31??\",'Accounting Data'!J2:J100000,\"62??\")+SUMIFS('Accounting Data'!C2:C100000,'Accounting Data'!E2:E100000,\"575\",'Accounting Data'!H2:H100000,\"8??\",'Accounting Data'!I2:I100000,\"31??\",'Accounting Data'!J2:J100000,\"62??\")+SUMIFS('Accounting Data'!C2:C100000,'Accounting Data'!E2:E100000,\"575\",'Accounting Data'!H2:H100000,\"9??\",'Accounting Data'!I2:I100000,\"31??\",'Accounting Data'!J2:J100000,\"62??\")","v":{"v":0,"d":"0 "}},{"$f":"SUMIFS('Accounting Data'!C2:C100000,'Accounting Data'!E2:E100000,\"8??\",'Accounting Data'!H2:H100000,\"7??\",'Accounting Data'!I2:I100000,\"31??\",'Accounting Data'!J2:J100000,\"62??\")+SUMIFS('Accounting Data'!C2:C100000,'Accounting Data'!E2:E100000,\"8??\",'Accounting Data'!H2:H100000,\"8??\",'Accounting Data'!I2:I100000,\"31??\",'Accounting Data'!J2:J100000,\"62??\")+SUMIFS('Accounting Data'!C2:C100000,'Accounting Data'!E2:E100000,\"8??\",'Accounting Data'!H2:H100000,\"9??\",'Accounting Data'!I2:I100000,\"31??\",'Accounting Data'!J2:J100000,\"62??\")","v":{"v":0,"d":"0 "}},{"$f":"SUMIFS('Accounting Data'!C2:C100000,'Accounting Data'!E2:E100000,\"9??\",'Accounting Data'!H2:H100000,\"7??\",'Accounting Data'!I2:I100000,\"31??\",'Accounting Data'!J2:J100000,\"62??\")+SUMIFS('Accounting Data'!C2:C100000,'Accounting Data'!E2:E100000,\"9??\",'Accounting Data'!H2:H100000,\"8??\",'Accounting Data'!I2:I100000,\"31??\",'Accounting Data'!J2:J100000,\"62??\")+SUMIFS('Accounting Data'!C2:C100000,'Accounting Data'!E2:E100000,\"9??\",'Accounting Data'!H2:H100000,\"9??\",'Accounting Data'!I2:I100000,\"31??\",'Accounting Data'!J2:J100000,\"62??\")","v":{"v":0,"d":"0 "}},null,3100,{"$f":"SUMIFS('Accounting Data'!C2:C100000,'Accounting Data'!I2:I100000,\"31??\",'Accounting Data'!J2:J100000,\"63??\")+SUMIFS('Accounting Data'!C2:C100000,'Accounting Data'!I2:I100000,\"31??\",'Accounting Data'!J2:J100000,\"64??\")+SUMIFS('Accounting Data'!C2:C100000,'Accounting Data'!I2:I100000,\"31??\",'Accounting Data'!J2:J100000,\"65??\")","v":{"v":0,"d":"0 "}},{"$f":"SUMIFS('Accounting Data'!C2:C100000,'Accounting Data'!E2:E100000,\"575\",'Accounting Data'!I2:I100000,\"31??\",'Accounting Data'!J2:J100000,\"63??\")+SUMIFS('Accounting Data'!C2:C100000,'Accounting Data'!E2:E100000,\"8??\",'Accounting Data'!I2:I100000,\"31??\",'Accounting Data'!J2:J100000,\"63??\")+SUMIFS('Accounting Data'!C2:C100000,'Accounting Data'!E2:E100000,\"9??\",'Accounting Data'!I2:I100000,\"31??\",'Accounting Data'!J2:J100000,\"63??\")","v":{"v":0,"d":"0 "}},{"$f":"SUMIFS('Accounting Data'!C2:C100000,'Accounting Data'!E2:E100000,\"575\",'Accounting Data'!I2:I100000,\"31??\",'Accounting Data'!J2:J100000,\"64??\")+SUMIFS('Accounting Data'!C2:C100000,'Accounting Data'!E2:E100000,\"8??\",'Accounting Data'!I2:I100000,\"31??\",'Accounting Data'!J2:J100000,\"64??\")+SUMIFS('Accounting Data'!C2:C100000,'Accounting Data'!E2:E100000,\"9??\",'Accounting Data'!I2:I100000,\"31??\",'Accounting Data'!J2:J100000,\"64??\")","v":{"v":0,"d":"0 "}},{"$f":"SUMIFS('Accounting Data'!C2:C100000,'Accounting Data'!E2:E100000,\"575\",'Accounting Data'!I2:I100000,\"31??\",'Accounting Data'!J2:J100000,\"65??\")+SUMIFS('Accounting Data'!C2:C100000,'Accounting Data'!E2:E100000,\"8??\",'Accounting Data'!I2:I100000,\"31??\",'Accounting Data'!J2:J100000,\"65??\")+SUMIFS('Accounting Data'!C2:C100000,'Accounting Data'!E2:E100000,\"9??\",'Accounting Data'!I2:I100000,\"31??\",'Accounting Data'!J2:J100000,\"65??\")","v":{"v":0,"d":"0 "}},{"$f":"SUMIFS('Accounting Data'!C2:C100000,'Accounting Data'!H2:H100000,\"7??\",'Accounting Data'!I2:I100000,\"31??\",'Accounting Data'!J2:J100000,\"63??\")+SUMIFS('Accounting Data'!C2:C100000,'Accounting Data'!H2:H100000,\"8??\",'Accounting Data'!I2:I100000,\"31??\",'Accounting Data'!J2:J100000,\"63??\")+SUMIFS('Accounting Data'!C2:C100000,'Accounting Data'!H2:H100000,\"9??\",'Accounting Data'!I2:I100000,\"31??\",'Accounting Data'!J2:J100000,\"63??\")+SUMIFS('Accounting Data'!C2:C100000,'Accounting Data'!H2:H100000,\"7??\",'Accounting Data'!I2:I100000,\"31??\",'Accounting Data'!J2:J100000,\"64??\")+SUMIFS('Accounting Data'!C2:C100000,'Accounting Data'!H2:H100000,\"8??\",'Accounting Data'!I2:I100000,\"31??\",'Accounting Data'!J2:J100000,\"64??\")+SUMIFS('Accounting Data'!C2:C100000,'Accounting Data'!H2:H100000,\"9??\",'Accounting Data'!I2:I100000,\"31??\",'Accounting Data'!J2:J100000,\"64??\")+SUMIFS('Accounting Data'!C2:C100000,'Accounting Data'!H2:H100000,\"7??\",'Accounting Data'!I2:I100000,\"31??\",'Accounting Data'!J2:J100000,\"65??\")+SUMIFS('Accounting Data'!C2:C100000,'Accounting Data'!H2:H100000,\"8??\",'Accounting Data'!I2:I100000,\"31??\",'Accounting Data'!J2:J100000,\"65??\")+SUMIFS('Accounting Data'!C2:C100000,'Accounting Data'!H2:H100000,\"9??\",'Accounting Data'!I2:I100000,\"31??\",'Accounting Data'!J2:J100000,\"65??\")","v":{"v":0,"d":"0 "}},{"$f":"SUMIFS('Accounting Data'!C2:C100000,'Accounting Data'!E2:E100000,\"575\",'Accounting Data'!H2:H100000,\"7??\",'Accounting Data'!I2:I100000,\"31??\",'Accounting Data'!J2:J100000,\"63??\")+SUMIFS('Accounting Data'!C2:C100000,'Accounting Data'!E2:E100000,\"575\",'Accounting Data'!H2:H100000,\"8??\",'Accounting Data'!I2:I100000,\"31??\",'Accounting Data'!J2:J100000,\"63??\")+SUMIFS('Accounting Data'!C2:C100000,'Accounting Data'!E2:E100000,\"575\",'Accounting Data'!H2:H100000,\"9??\",'Accounting Data'!I2:I100000,\"31??\",'Accounting Data'!J2:J100000,\"63??\")","v":{"v":0,"d":"0 "}},{"$f":"SUMIFS('Accounting Data'!C2:C100000,'Accounting Data'!E2:E100000,\"575\",'Accounting Data'!H2:H100000,\"7??\",'Accounting Data'!I2:I100000,\"31??\",'Accounting Data'!J2:J100000,\"64??\")+SUMIFS('Accounting Data'!C2:C100000,'Accounting Data'!E2:E100000,\"575\",'Accounting Data'!H2:H100000,\"8??\",'Accounting Data'!I2:I100000,\"31??\",'Accounting Data'!J2:J100000,\"64??\")+SUMIFS('Accounting Data'!C2:C100000,'Accounting Data'!E2:E100000,\"575\",'Accounting Data'!H2:H100000,\"9??\",'Accounting Data'!I2:I100000,\"31??\",'Accounting Data'!J2:J100000,\"64??\")","v":{"v":0,"d":"0 "}},{"$f":"SUMIFS('Accounting Data'!C2:C100000,'Accounting Data'!E2:E100000,\"575\",'Accounting Data'!H2:H100000,\"7??\",'Accounting Data'!I2:I100000,\"31??\",'Accounting Data'!J2:J100000,\"65??\")+SUMIFS('Accounting Data'!C2:C100000,'Accounting Data'!E2:E100000,\"575\",'Accounting Data'!H2:H100000,\"8??\",'Accounting Data'!I2:I100000,\"31??\",'Accounting Data'!J2:J100000,\"65??\")+SUMIFS('Accounting Data'!C2:C100000,'Accounting Data'!E2:E100000,\"575\",'Accounting Data'!H2:H100000,\"9??\",'Accounting Data'!I2:I100000,\"31??\",'Accounting Data'!J2:J100000,\"65??\")","v":{"v":0,"d":"0 "}},{"$f":"SUMIFS('Accounting Data'!C2:C100000,'Accounting Data'!E2:E100000,\"8??\",'Accounting Data'!H2:H100000,\"7??\",'Accounting Data'!I2:I100000,\"31??\",'Accounting Data'!J2:J100000,\"63??\")+SUMIFS('Accounting Data'!C2:C100000,'Accounting Data'!E2:E100000,\"8??\",'Accounting Data'!H2:H100000,\"8??\",'Accounting Data'!I2:I100000,\"31??\",'Accounting Data'!J2:J100000,\"63??\")+SUMIFS('Accounting Data'!C2:C100000,'Accounting Data'!E2:E100000,\"8??\",'Accounting Data'!H2:H100000,\"9??\",'Accounting Data'!I2:I100000,\"31??\",'Accounting Data'!J2:J100000,\"63??\")","v":{"v":0,"d":"0 "}},{"$f":"SUMIFS('Accounting Data'!C2:C100000,'Accounting Data'!E2:E100000,\"8??\",'Accounting Data'!H2:H100000,\"7??\",'Accounting Data'!I2:I100000,\"31??\",'Accounting Data'!J2:J100000,\"64??\")+SUMIFS('Accounting Data'!C2:C100000,'Accounting Data'!E2:E100000,\"8??\",'Accounting Data'!H2:H100000,\"8??\",'Accounting Data'!I2:I100000,\"31??\",'Accounting Data'!J2:J100000,\"64??\")+SUMIFS('Accounting Data'!C2:C100000,'Accounting Data'!E2:E100000,\"8??\",'Accounting Data'!H2:H100000,\"9??\",'Accounting Data'!I2:I100000,\"31??\",'Accounting Data'!J2:J100000,\"64??\")","v":{"v":0,"d":"0 "}},{"$f":"SUMIFS('Accounting Data'!C2:C100000,'Accounting Data'!E2:E100000,\"8??\",'Accounting Data'!H2:H100000,\"7??\",'Accounting Data'!I2:I100000,\"31??\",'Accounting Data'!J2:J100000,\"65??\")+SUMIFS('Accounting Data'!C2:C100000,'Accounting Data'!E2:E100000,\"8??\",'Accounting Data'!H2:H100000,\"8??\",'Accounting Data'!I2:I100000,\"31??\",'Accounting Data'!J2:J100000,\"65??\")+SUMIFS('Accounting Data'!C2:C100000,'Accounting Data'!E2:E100000,\"8??\",'Accounting Data'!H2:H100000,\"9??\",'Accounting Data'!I2:I100000,\"31??\",'Accounting Data'!J2:J100000,\"65??\")","v":{"v":0,"d":"0 "}},{"$f":"SUMIFS('Accounting Data'!C2:C100000,'Accounting Data'!E2:E100000,\"9??\",'Accounting Data'!H2:H100000,\"7??\",'Accounting Data'!I2:I100000,\"31??\",'Accounting Data'!J2:J100000,\"63??\")+SUMIFS('Accounting Data'!C2:C100000,'Accounting Data'!E2:E100000,\"9??\",'Accounting Data'!H2:H100000,\"8??\",'Accounting Data'!I2:I100000,\"31??\",'Accounting Data'!J2:J100000,\"63??\")+SUMIFS('Accounting Data'!C2:C100000,'Accounting Data'!E2:E100000,\"9??\",'Accounting Data'!H2:H100000,\"9??\",'Accounting Data'!I2:I100000,\"31??\",'Accounting Data'!J2:J100000,\"63??\")","v":{"v":0,"d":"0 "}},{"$f":"SUMIFS('Accounting Data'!C2:C100000,'Accounting Data'!E2:E100000,\"9??\",'Accounting Data'!H2:H100000,\"7??\",'Accounting Data'!I2:I100000,\"31??\",'Accounting Data'!J2:J100000,\"64??\")+SUMIFS('Accounting Data'!C2:C100000,'Accounting Data'!E2:E100000,\"9??\",'Accounting Data'!H2:H100000,\"8??\",'Accounting Data'!I2:I100000,\"31??\",'Accounting Data'!J2:J100000,\"64??\")+SUMIFS('Accounting Data'!C2:C100000,'Accounting Data'!E2:E100000,\"9??\",'Accounting Data'!H2:H100000,\"9??\",'Accounting Data'!I2:I100000,\"31??\",'Accounting Data'!J2:J100000,\"64??\")","v":{"v":0,"d":"0 "}},{"$f":"SUMIFS('Accounting Data'!C2:C100000,'Accounting Data'!E2:E100000,\"9??\",'Accounting Data'!H2:H100000,\"7??\",'Accounting Data'!I2:I100000,\"31??\",'Accounting Data'!J2:J100000,\"65??\")+SUMIFS('Accounting Data'!C2:C100000,'Accounting Data'!E2:E100000,\"9??\",'Accounting Data'!H2:H100000,\"8??\",'Accounting Data'!I2:I100000,\"31??\",'Accounting Data'!J2:J100000,\"65??\")+SUMIFS('Accounting Data'!C2:C100000,'Accounting Data'!E2:E100000,\"9??\",'Accounting Data'!H2:H100000,\"9??\",'Accounting Data'!I2:I100000,\"31??\",'Accounting Data'!J2:J100000,\"65??\")","v":{"v":0,"d":"0 "}},null,3100,{"$f":"SUMIFS('Accounting Data'!C2:C100000,'Accounting Data'!I2:I100000,\"31??\",'Accounting Data'!J2:J100000,\"66??\")","v":{"v":0,"d":"0 "}},{"$f":"SUMIFS('Accounting Data'!$C$2:$C$100000,'Accounting Data'!$E$2:$E$100000,\"575\",'Accounting Data'!$I$2:$I$100000,\"31??\",'Accounting Data'!$J$2:$J$100000,\"66??\")+SUMIFS('Accounting Data'!$C$2:$C$100000,'Accounting Data'!$E$2:$E$100000,\"8??\",'Accounting Data'!$I$2:$I$100000,\"31??\",'Accounting Data'!$J$2:$J$100000,\"66??\")+SUMIFS('Accounting Data'!$C$2:$C$100000,'Accounting Data'!$E$2:$E$100000,\"9??\",'Accounting Data'!$I$2:$I$100000,\"31??\",'Accounting Data'!$J$2:$J$100000,\"66??\")","v":{"v":0,"d":"0 "}},{"$f":"SUMIFS('Accounting Data'!$C$2:$C$100000,'Accounting Data'!$H$2:$H$100000,\"7??\",'Accounting Data'!$I$2:$I$100000,\"31??\",'Accounting Data'!$J$2:$J$100000,\"66??\")+SUMIFS('Accounting Data'!$C$2:$C$100000,'Accounting Data'!$H$2:$H$100000,\"8??\",'Accounting Data'!$I$2:$I$100000,\"31??\",'Accounting Data'!$J$2:$J$100000,\"66??\")+SUMIFS('Accounting Data'!$C$2:$C$100000,'Accounting Data'!$H$2:$H$100000,\"9??\",'Accounting Data'!$I$2:$I$100000,\"31??\",'Accounting Data'!$J$2:$J$100000,\"66??\")","v":{"v":0,"d":"0 "}},{"$f":"SUMIFS('Accounting Data'!$C$2:$C$100000,'Accounting Data'!$E$2:$E$100000,\"575\",'Accounting Data'!$H$2:$H$100000,\"7??\",'Accounting Data'!$I$2:$I$100000,\"31??\",'Accounting Data'!$J$2:$J$100000,\"66??\")+SUMIFS('Accounting Data'!$C$2:$C$100000,'Accounting Data'!$E$2:$E$100000,\"575\",'Accounting Data'!$H$2:$H$100000,\"8??\",'Accounting Data'!$I$2:$I$100000,\"31??\",'Accounting Data'!$J$2:$J$100000,\"66??\")+SUMIFS('Accounting Data'!$C$2:$C$100000,'Accounting Data'!$E$2:$E$100000,\"575\",'Accounting Data'!$H$2:$H$100000,\"9??\",'Accounting Data'!$I$2:$I$100000,\"31??\",'Accounting Data'!$J$2:$J$100000,\"66??\")","v":{"v":0,"d":"0 "}},{"$f":"SUMIFS('Accounting Data'!$C$2:$C$100000,'Accounting Data'!$E$2:$E$100000,\"8??\",'Accounting Data'!$H$2:$H$100000,\"7??\",'Accounting Data'!$I$2:$I$100000,\"31??\",'Accounting Data'!$J$2:$J$100000,\"66??\")+SUMIFS('Accounting Data'!$C$2:$C$100000,'Accounting Data'!$E$2:$E$100000,\"8??\",'Accounting Data'!$H$2:$H$100000,\"8??\",'Accounting Data'!$I$2:$I$100000,\"31??\",'Accounting Data'!$J$2:$J$100000,\"66??\")+SUMIFS('Accounting Data'!$C$2:$C$100000,'Accounting Data'!$E$2:$E$100000,\"8??\",'Accounting Data'!$H$2:$H$100000,\"9??\",'Accounting Data'!$I$2:$I$100000,\"31??\",'Accounting Data'!$J$2:$J$100000,\"66??\")","v":{"v":0,"d":"0 "}},{"$f":"SUMIFS('Accounting Data'!$C$2:$C$100000,'Accounting Data'!$E$2:$E$100000,\"9??\",'Accounting Data'!$H$2:$H$100000,\"7??\",'Accounting Data'!$I$2:$I$100000,\"31??\",'Accounting Data'!$J$2:$J$100000,\"66??\")+SUMIFS('Accounting Data'!$C$2:$C$100000,'Accounting Data'!$E$2:$E$100000,\"9??\",'Accounting Data'!$H$2:$H$100000,\"8??\",'Accounting Data'!$I$2:$I$100000,\"31??\",'Accounting Data'!$J$2:$J$100000,\"66??\")+SUMIFS('Accounting Data'!$C$2:$C$100000,'Accounting Data'!$E$2:$E$100000,\"9??\",'Accounting Data'!$H$2:$H$100000,\"9??\",'Accounting Data'!$I$2:$I$100000,\"31??\",'Accounting Data'!$J$2:$J$100000,\"66??\")","v":{"v":0,"d":"0 "}},null,3100,{"$f":"SUMIFS('Accounting Data'!C2:C100000,'Accounting Data'!I2:I100000,\"31??\",'Accounting Data'!J2:J100000,\"67??\")","v":{"v":0,"d":"0 "}},{"$f":"SUMIFS('Accounting Data'!$C$2:$C$100000,'Accounting Data'!$E$2:$E$100000,\"575\",'Accounting Data'!$I$2:$I$100000,\"31??\",'Accounting Data'!$J$2:$J$100000,\"67??\")+SUMIFS('Accounting Data'!$C$2:$C$100000,'Accounting Data'!$E$2:$E$100000,\"8??\",'Accounting Data'!$I$2:$I$100000,\"31??\",'Accounting Data'!$J$2:$J$100000,\"67??\")+SUMIFS('Accounting Data'!$C$2:$C$100000,'Accounting Data'!$E$2:$E$100000,\"9??\",'Accounting Data'!$I$2:$I$100000,\"31??\",'Accounting Data'!$J$2:$J$100000,\"67??\")","v":{"v":0,"d":"0 "}},{"$f":"SUMIFS('Accounting Data'!$C$2:$C$100000,'Accounting Data'!$H$2:$H$100000,\"7??\",'Accounting Data'!$I$2:$I$100000,\"31??\",'Accounting Data'!$J$2:$J$100000,\"67??\")+SUMIFS('Accounting Data'!$C$2:$C$100000,'Accounting Data'!$H$2:$H$100000,\"8??\",'Accounting Data'!$I$2:$I$100000,\"31??\",'Accounting Data'!$J$2:$J$100000,\"67??\")+SUMIFS('Accounting Data'!$C$2:$C$100000,'Accounting Data'!$H$2:$H$100000,\"9??\",'Accounting Data'!$I$2:$I$100000,\"31??\",'Accounting Data'!$J$2:$J$100000,\"67??\")","v":{"v":0,"d":"0 "}},{"$f":"SUMIFS('Accounting Data'!$C$2:$C$100000,'Accounting Data'!$E$2:$E$100000,\"575\",'Accounting Data'!$H$2:$H$100000,\"7??\",'Accounting Data'!$I$2:$I$100000,\"31??\",'Accounting Data'!$J$2:$J$100000,\"67??\")+SUMIFS('Accounting Data'!$C$2:$C$100000,'Accounting Data'!$E$2:$E$100000,\"575\",'Accounting Data'!$H$2:$H$100000,\"8??\",'Accounting Data'!$I$2:$I$100000,\"31??\",'Accounting Data'!$J$2:$J$100000,\"67??\")+SUMIFS('Accounting Data'!$C$2:$C$100000,'Accounting Data'!$E$2:$E$100000,\"575\",'Accounting Data'!$H$2:$H$100000,\"9??\",'Accounting Data'!$I$2:$I$100000,\"31??\",'Accounting Data'!$J$2:$J$100000,\"67??\")","v":{"v":0,"d":"0 "}},{"$f":"SUMIFS('Accounting Data'!$C$2:$C$100000,'Accounting Data'!$E$2:$E$100000,\"8??\",'Accounting Data'!$H$2:$H$100000,\"7??\",'Accounting Data'!$I$2:$I$100000,\"31??\",'Accounting Data'!$J$2:$J$100000,\"67??\")+SUMIFS('Accounting Data'!$C$2:$C$100000,'Accounting Data'!$E$2:$E$100000,\"8??\",'Accounting Data'!$H$2:$H$100000,\"8??\",'Accounting Data'!$I$2:$I$100000,\"31??\",'Accounting Data'!$J$2:$J$100000,\"67??\")+SUMIFS('Accounting Data'!$C$2:$C$100000,'Accounting Data'!$E$2:$E$100000,\"8??\",'Accounting Data'!$H$2:$H$100000,\"9??\",'Accounting Data'!$I$2:$I$100000,\"31??\",'Accounting Data'!$J$2:$J$100000,\"67??\")","v":{"v":0,"d":"0 "}},{"$f":"SUMIFS('Accounting Data'!$C$2:$C$100000,'Accounting Data'!$E$2:$E$100000,\"9??\",'Accounting Data'!$H$2:$H$100000,\"7??\",'Accounting Data'!$I$2:$I$100000,\"31??\",'Accounting Data'!$J$2:$J$100000,\"67??\")+SUMIFS('Accounting Data'!$C$2:$C$100000,'Accounting Data'!$E$2:$E$100000,\"9??\",'Accounting Data'!$H$2:$H$100000,\"8??\",'Accounting Data'!$I$2:$I$100000,\"31??\",'Accounting Data'!$J$2:$J$100000,\"67??\")+SUMIFS('Accounting Data'!$C$2:$C$100000,'Accounting Data'!$E$2:$E$100000,\"9??\",'Accounting Data'!$H$2:$H$100000,\"9??\",'Accounting Data'!$I$2:$I$100000,\"31??\",'Accounting Data'!$J$2:$J$100000,\"67??\")","v":{"v":0,"d":"0 "}},null,3100,{"$f":"SUMIFS('Accounting Data'!C2:C100000,'Accounting Data'!I2:I100000,\"31??\",'Accounting Data'!J2:J100000,\"681?\")","v":{"v":0,"d":"0 "}},{"$f":"SUMIFS('Accounting Data'!$C$2:$C$100000,'Accounting Data'!$E$2:$E$100000,\"575\",'Accounting Data'!$I$2:$I$100000,\"31??\",'Accounting Data'!$J$2:$J$100000,\"681?\")+SUMIFS('Accounting Data'!$C$2:$C$100000,'Accounting Data'!$E$2:$E$100000,\"8??\",'Accounting Data'!$I$2:$I$100000,\"31??\",'Accounting Data'!$J$2:$J$100000,\"681?\")+SUMIFS('Accounting Data'!$C$2:$C$100000,'Accounting Data'!$E$2:$E$100000,\"9??\",'Accounting Data'!$I$2:$I$100000,\"31??\",'Accounting Data'!$J$2:$J$100000,\"681?\")","v":{"v":0,"d":"0 "}},{"$f":"SUMIFS('Accounting Data'!$C$2:$C$100000,'Accounting Data'!$H$2:$H$100000,\"7??\",'Accounting Data'!$I$2:$I$100000,\"31??\",'Accounting Data'!$J$2:$J$100000,\"681?\")+SUMIFS('Accounting Data'!$C$2:$C$100000,'Accounting Data'!$H$2:$H$100000,\"8??\",'Accounting Data'!$I$2:$I$100000,\"31??\",'Accounting Data'!$J$2:$J$100000,\"681?\")+SUMIFS('Accounting Data'!$C$2:$C$100000,'Accounting Data'!$H$2:$H$100000,\"9??\",'Accounting Data'!$I$2:$I$100000,\"31??\",'Accounting Data'!$J$2:$J$100000,\"681?\")","v":{"v":0,"d":"0 "}},{"$f":"SUMIFS('Accounting Data'!$C$2:$C$100000,'Accounting Data'!$E$2:$E$100000,\"575\",'Accounting Data'!$H$2:$H$100000,\"7??\",'Accounting Data'!$I$2:$I$100000,\"31??\",'Accounting Data'!$J$2:$J$100000,\"681?\")+SUMIFS('Accounting Data'!$C$2:$C$100000,'Accounting Data'!$E$2:$E$100000,\"575\",'Accounting Data'!$H$2:$H$100000,\"8??\",'Accounting Data'!$I$2:$I$100000,\"31??\",'Accounting Data'!$J$2:$J$100000,\"681?\")+SUMIFS('Accounting Data'!$C$2:$C$100000,'Accounting Data'!$E$2:$E$100000,\"575\",'Accounting Data'!$H$2:$H$100000,\"9??\",'Accounting Data'!$I$2:$I$100000,\"31??\",'Accounting Data'!$J$2:$J$100000,\"681?\")","v":{"v":0,"d":"0 "}},{"$f":"SUMIFS('Accounting Data'!$C$2:$C$100000,'Accounting Data'!$E$2:$E$100000,\"8??\",'Accounting Data'!$H$2:$H$100000,\"7??\",'Accounting Data'!$I$2:$I$100000,\"31??\",'Accounting Data'!$J$2:$J$100000,\"681?\")+SUMIFS('Accounting Data'!$C$2:$C$100000,'Accounting Data'!$E$2:$E$100000,\"8??\",'Accounting Data'!$H$2:$H$100000,\"8??\",'Accounting Data'!$I$2:$I$100000,\"31??\",'Accounting Data'!$J$2:$J$100000,\"681?\")+SUMIFS('Accounting Data'!$C$2:$C$100000,'Accounting Data'!$E$2:$E$100000,\"8??\",'Accounting Data'!$H$2:$H$100000,\"9??\",'Accounting Data'!$I$2:$I$100000,\"31??\",'Accounting Data'!$J$2:$J$100000,\"681?\")","v":{"v":0,"d":"0 "}},{"$f":"SUMIFS('Accounting Data'!$C$2:$C$100000,'Accounting Data'!$E$2:$E$100000,\"9??\",'Accounting Data'!$H$2:$H$100000,\"7??\",'Accounting Data'!$I$2:$I$100000,\"31??\",'Accounting Data'!$J$2:$J$100000,\"681?\")+SUMIFS('Accounting Data'!$C$2:$C$100000,'Accounting Data'!$E$2:$E$100000,\"9??\",'Accounting Data'!$H$2:$H$100000,\"8??\",'Accounting Data'!$I$2:$I$100000,\"31??\",'Accounting Data'!$J$2:$J$100000,\"681?\")+SUMIFS('Accounting Data'!$C$2:$C$100000,'Accounting Data'!$E$2:$E$100000,\"9??\",'Accounting Data'!$H$2:$H$100000,\"9??\",'Accounting Data'!$I$2:$I$100000,\"31??\",'Accounting Data'!$J$2:$J$100000,\"681?\")","v":{"v":0,"d":"0 "}},null,"Function","All funds","Funds 575,800-899,900-999 ",null,null,"Programs 700-900","Funds 575, Programs 700-900",null,null,"Funds 800-899, Programs 700-900",null,null,"Funds 900-999, Programs 700-900",{"$nulls":3},3100,{"$f":"SUMIFS('Accounting Data'!C2:C100000,'Accounting Data'!I2:I100000,\"31??\",'Accounting Data'!J2:J100000,\"689?\")","v":{"v":0,"d":"0 "}},{"$f":"SUMIFS('Accounting Data'!$C$2:$C$100000,'Accounting Data'!$E$2:$E$100000,\"575\",'Accounting Data'!$I$2:$I$100000,\"31??\",'Accounting Data'!$J$2:$J$100000,\"689?\")+SUMIFS('Accounting Data'!$C$2:$C$100000,'Accounting Data'!$E$2:$E$100000,\"8??\",'Accounting Data'!$I$2:$I$100000,\"31??\",'Accounting Data'!$J$2:$J$100000,\"689?\")+SUMIFS('Accounting Data'!$C$2:$C$100000,'Accounting Data'!$E$2:$E$100000,\"9??\",'Accounting Data'!$I$2:$I$100000,\"31??\",'Accounting Data'!$J$2:$J$100000,\"689?\")","v":{"v":0,"d":"0 "}},{"$f":"SUMIFS('Accounting Data'!$C$2:$C$100000,'Accounting Data'!$H$2:$H$100000,\"7??\",'Accounting Data'!$I$2:$I$100000,\"31??\",'Accounting Data'!$J$2:$J$100000,\"689?\")+SUMIFS('Accounting Data'!$C$2:$C$100000,'Accounting Data'!$H$2:$H$100000,\"8??\",'Accounting Data'!$I$2:$I$100000,\"31??\",'Accounting Data'!$J$2:$J$100000,\"689?\")+SUMIFS('Accounting Data'!$C$2:$C$100000,'Accounting Data'!$H$2:$H$100000,\"9??\",'Accounting Data'!$I$2:$I$100000,\"31??\",'Accounting Data'!$J$2:$J$100000,\"689?\")","v":{"v":0,"d":"0 "}},{"$f":"SUMIFS('Accounting Data'!$C$2:$C$100000,'Accounting Data'!$E$2:$E$100000,\"575\",'Accounting Data'!$H$2:$H$100000,\"7??\",'Accounting Data'!$I$2:$I$100000,\"31??\",'Accounting Data'!$J$2:$J$100000,\"689?\")+SUMIFS('Accounting Data'!$C$2:$C$100000,'Accounting Data'!$E$2:$E$100000,\"575\",'Accounting Data'!$H$2:$H$100000,\"8??\",'Accounting Data'!$I$2:$I$100000,\"31??\",'Accounting Data'!$J$2:$J$100000,\"689?\")+SUMIFS('Accounting Data'!$C$2:$C$100000,'Accounting Data'!$E$2:$E$100000,\"575\",'Accounting Data'!$H$2:$H$100000,\"9??\",'Accounting Data'!$I$2:$I$100000,\"31??\",'Accounting Data'!$J$2:$J$100000,\"689?\")","v":{"v":0,"d":"0 "}},{"$f":"SUMIFS('Accounting Data'!$C$2:$C$100000,'Accounting Data'!$E$2:$E$100000,\"8??\",'Accounting Data'!$H$2:$H$100000,\"7??\",'Accounting Data'!$I$2:$I$100000,\"31??\",'Accounting Data'!$J$2:$J$100000,\"689?\")+SUMIFS('Accounting Data'!$C$2:$C$100000,'Accounting Data'!$E$2:$E$100000,\"8??\",'Accounting Data'!$H$2:$H$100000,\"8??\",'Accounting Data'!$I$2:$I$100000,\"31??\",'Accounting Data'!$J$2:$J$100000,\"689?\")+SUMIFS('Accounting Data'!$C$2:$C$100000,'Accounting Data'!$E$2:$E$100000,\"8??\",'Accounting Data'!$H$2:$H$100000,\"9??\",'Accounting Data'!$I$2:$I$100000,\"31??\",'Accounting Data'!$J$2:$J$100000,\"689?\")","v":{"v":0,"d":"0 "}},{"$f":"SUMIFS('Accounting Data'!$C$2:$C$100000,'Accounting Data'!$E$2:$E$100000,\"9??\",'Accounting Data'!$H$2:$H$100000,\"7??\",'Accounting Data'!$I$2:$I$100000,\"31??\",'Accounting Data'!$J$2:$J$100000,\"689?\")+SUMIFS('Accounting Data'!$C$2:$C$100000,'Accounting Data'!$E$2:$E$100000,\"9??\",'Accounting Data'!$H$2:$H$100000,\"8??\",'Accounting Data'!$I$2:$I$100000,\"31??\",'Accounting Data'!$J$2:$J$100000,\"689?\")+SUMIFS('Accounting Data'!$C$2:$C$100000,'Accounting Data'!$E$2:$E$100000,\"9??\",'Accounting Data'!$H$2:$H$100000,\"9??\",'Accounting Data'!$I$2:$I$100000,\"31??\",'Accounting Data'!$J$2:$J$100000,\"689?\")","v":{"v":0,"d":"0 "}},null,3200,{"$f":"SUMIFS('Accounting Data'!$C$2:$C$100000,'Accounting Data'!$H$2:$H$100000,\"7??\",'Accounting Data'!$I$2:$I$100000,\"32??\",'Accounting Data'!$J$2:$J$100000,\"6???\")+SUMIFS('Accounting Data'!$C$2:$C$100000,'Accounting Data'!$H$2:$H$100000,\"8??\",'Accounting Data'!$I$2:$I$100000,\"32??\",'Accounting Data'!$J$2:$J$100000,\"6???\")+SUMIFS('Accounting Data'!$C$2:$C$100000,'Accounting Data'!$H$2:$H$100000,\"9??\",'Accounting Data'!$I$2:$I$100000,\"32??\",'Accounting Data'!$J$2:$J$100000,\"6???\")","v":{"v":0,"d":"0 "}},{"$f":"SUMIFS('Accounting Data'!$C$2:$C$100000,'Accounting Data'!$H$2:$H$100000,\"7??\",'Accounting Data'!$I$2:$I$100000,\"32??\",'Accounting Data'!$J$2:$J$100000,\"69??\")+SUMIFS('Accounting Data'!$C$2:$C$100000,'Accounting Data'!$H$2:$H$100000,\"8??\",'Accounting Data'!$I$2:$I$100000,\"32??\",'Accounting Data'!$J$2:$J$100000,\"69??\")+SUMIFS('Accounting Data'!$C$2:$C$100000,'Accounting Data'!$H$2:$H$100000,\"9??\",'Accounting Data'!$I$2:$I$100000,\"32??\",'Accounting Data'!$J$2:$J$100000,\"69??\")","v":{"v":0,"d":"0 "}},{"$f":"SUMIFS('Accounting Data'!$C$2:$C$100000,'Accounting Data'!$E$2:$E$100000,\"575\",'Accounting Data'!$H$2:$H$100000,\"7??\",'Accounting Data'!$I$2:$I$100000,\"32??\",'Accounting Data'!$J$2:$J$100000,\"6???\")+SUMIFS('Accounting Data'!$C$2:$C$100000,'Accounting Data'!$E$2:$E$100000,\"575\",'Accounting Data'!$H$2:$H$100000,\"8??\",'Accounting Data'!$I$2:$I$100000,\"32??\",'Accounting Data'!$J$2:$J$100000,\"6???\")+SUMIFS('Accounting Data'!$C$2:$C$100000,'Accounting Data'!$E$2:$E$100000,\"575\",'Accounting Data'!$H$2:$H$100000,\"9??\",'Accounting Data'!$I$2:$I$100000,\"32??\",'Accounting Data'!$J$2:$J$100000,\"6???\")","v":{"v":0,"d":"0 "}},{"$f":"SUMIFS('Accounting Data'!$C$2:$C$100000,'Accounting Data'!$E$2:$E$100000,\"8??\",'Accounting Data'!$H$2:$H$100000,\"7??\",'Accounting Data'!$I$2:$I$100000,\"32??\",'Accounting Data'!$J$2:$J$100000,\"6???\")+SUMIFS('Accounting Data'!$C$2:$C$100000,'Accounting Data'!$E$2:$E$100000,\"8??\",'Accounting Data'!$H$2:$H$100000,\"8??\",'Accounting Data'!$I$2:$I$100000,\"32??\",'Accounting Data'!$J$2:$J$100000,\"6???\")+SUMIFS('Accounting Data'!$C$2:$C$100000,'Accounting Data'!$E$2:$E$100000,\"8??\",'Accounting Data'!$H$2:$H$100000,\"9??\",'Accounting Data'!$I$2:$I$100000,\"32??\",'Accounting Data'!$J$2:$J$100000,\"6???\")+SUMIFS('Accounting Data'!$C$2:$C$100000,'Accounting Data'!$E$2:$E$100000,\"9??\",'Accounting Data'!$H$2:$H$100000,\"7??\",'Accounting Data'!$I$2:$I$100000,\"32??\",'Accounting Data'!$J$2:$J$100000,\"6???\")+SUMIFS('Accounting Data'!$C$2:$C$100000,'Accounting Data'!$E$2:$E$100000,\"9??\",'Accounting Data'!$H$2:$H$100000,\"8??\",'Accounting Data'!$I$2:$I$100000,\"32??\",'Accounting Data'!$J$2:$J$100000,\"6???\")+SUMIFS('Accounting Data'!$C$2:$C$100000,'Accounting Data'!$E$2:$E$100000,\"9??\",'Accounting Data'!$H$2:$H$100000,\"9??\",'Accounting Data'!$I$2:$I$100000,\"32??\",'Accounting Data'!$J$2:$J$100000,\"6???\")","v":{"v":0,"d":"0 "}},{"$f":"SUMIFS('Accounting Data'!$C$2:$C$100000,'Accounting Data'!$E$2:$E$100000,\"575\",'Accounting Data'!$H$2:$H$100000,\"7??\",'Accounting Data'!$I$2:$I$100000,\"32??\",'Accounting Data'!$J$2:$J$100000,\"69??\")+SUMIFS('Accounting Data'!$C$2:$C$100000,'Accounting Data'!$E$2:$E$100000,\"575\",'Accounting Data'!$H$2:$H$100000,\"8??\",'Accounting Data'!$I$2:$I$100000,\"32??\",'Accounting Data'!$J$2:$J$100000,\"69??\")+SUMIFS('Accounting Data'!$C$2:$C$100000,'Accounting Data'!$E$2:$E$100000,\"575\",'Accounting Data'!$H$2:$H$100000,\"9??\",'Accounting Data'!$I$2:$I$100000,\"32??\",'Accounting Data'!$J$2:$J$100000,\"69??\")","v":{"v":0,"d":"0 "}},{"$f":"SUMIFS('Accounting Data'!$C$2:$C$100000,'Accounting Data'!$E$2:$E$100000,\"8??\",'Accounting Data'!$H$2:$H$100000,\"7??\",'Accounting Data'!$I$2:$I$100000,\"32??\",'Accounting Data'!$J$2:$J$100000,\"69??\")+SUMIFS('Accounting Data'!$C$2:$C$100000,'Accounting Data'!$E$2:$E$100000,\"8??\",'Accounting Data'!$H$2:$H$100000,\"8??\",'Accounting Data'!$I$2:$I$100000,\"32??\",'Accounting Data'!$J$2:$J$100000,\"69??\")+SUMIFS('Accounting Data'!$C$2:$C$100000,'Accounting Data'!$E$2:$E$100000,\"8??\",'Accounting Data'!$H$2:$H$100000,\"9??\",'Accounting Data'!$I$2:$I$100000,\"32??\",'Accounting Data'!$J$2:$J$100000,\"69??\")+SUMIFS('Accounting Data'!$C$2:$C$100000,'Accounting Data'!$E$2:$E$100000,\"9??\",'Accounting Data'!$H$2:$H$100000,\"7??\",'Accounting Data'!$I$2:$I$100000,\"32??\",'Accounting Data'!$J$2:$J$100000,\"69??\")+SUMIFS('Accounting Data'!$C$2:$C$100000,'Accounting Data'!$E$2:$E$100000,\"9??\",'Accounting Data'!$H$2:$H$100000,\"8??\",'Accounting Data'!$I$2:$I$100000,\"32??\",'Accounting Data'!$J$2:$J$100000,\"69??\")+SUMIFS('Accounting Data'!$C$2:$C$100000,'Accounting Data'!$E$2:$E$100000,\"9??\",'Accounting Data'!$H$2:$H$100000,\"9??\",'Accounting Data'!$I$2:$I$100000,\"32??\",'Accounting Data'!$J$2:$J$100000,\"69??\")","v":{"v":0,"d":"0 "}}]
["         3300 Community Services Operations","11.",{"$nulls":10},{"$f":"(DC22-DD22)-((DE22+DF22)-(DG22+DH22))","v":{"v":0,"d":"0 "}},{"v":0,"d":"0 "},"11.",{"$nulls":3},"6400",{"$f":"SUMIFS('Accounting Data'!$C$2:$C$100000,'Accounting Data'!$E$2:$E$100000,\"378\",'Accounting Data'!$I$2:$I$100000,\"1???\",'Accounting Data'!$J$2:$J$100000,\"64??\")+SUMIFS('Accounting Data'!$C$2:$C$100000,'Accounting Data'!$E$2:$E$100000,\"378\",'Accounting Data'!$I$2:$I$100000,\"2???\",'Accounting Data'!$J$2:$J$100000,\"64??\")+SUMIFS('Accounting Data'!$C$2:$C$100000,'Accounting Data'!$E$2:$E$100000,\"378\",'Accounting Data'!$I$2:$I$100000,\"3???\",'Accounting Data'!$J$2:$J$100000,\"64??\")","v":{"v":0,"d":"0 "}},{"v":0,"d":"0 "},{"v":0,"d":"0 "},{"v":0,"d":"0 "},null,null,3200,{"$f":"SUMIFS('Accounting Data'!C2:C100000,'Accounting Data'!I2:I100000,\"32??\",'Accounting Data'!J2:J100000,\"61??\")","v":{"v":0,"d":"0 "}},{"$f":"SUMIFS('Accounting Data'!C2:C100000,'Accounting Data'!E2:E100000,\"575\",'Accounting Data'!I2:I100000,\"32??\",'Accounting Data'!J2:J100000,\"61??\")+SUMIFS('Accounting Data'!C2:C100000,'Accounting Data'!E2:E100000,\"8??\",'Accounting Data'!I2:I100000,\"32??\",'Accounting Data'!J2:J100000,\"61??\")+SUMIFS('Accounting Data'!C2:C100000,'Accounting Data'!E2:E100000,\"9??\",'Accounting Data'!I2:I100000,\"32??\",'Accounting Data'!J2:J100000,\"61??\")","v":{"v":0,"d":"0 "}},{"$f":"SUMIFS('Accounting Data'!C2:C100000,'Accounting Data'!H2:H100000,\"7??\",'Accounting Data'!I2:I100000,\"32??\",'Accounting Data'!J2:J100000,\"61??\")+SUMIFS('Accounting Data'!C2:C100000,'Accounting Data'!H2:H100000,\"8??\",'Accounting Data'!I2:I100000,\"32??\",'Accounting Data'!J2:J100000,\"61??\")+SUMIFS('Accounting Data'!C2:C100000,'Accounting Data'!H2:H100000,\"9??\",'Accounting Data'!I2:I100000,\"32??\",'Accounting Data'!J2:J100000,\"61??\")","v":{"v":0,"d":"0 "}},{"$f":"SUMIFS('Accounting Data'!C2:C100000,'Accounting Data'!E2:E100000,\"575\",'Accounting Data'!H2:H100000,\"7??\",'Accounting Data'!I2:I100000,\"32??\",'Accounting Data'!J2:J100000,\"61??\")+SUMIFS('Accounting Data'!C2:C100000,'Accounting Data'!E2:E100000,\"575\",'Accounting Data'!H2:H100000,\"8??\",'Accounting Data'!I2:I100000,\"32??\",'Accounting Data'!J2:J100000,\"61??\")+SUMIFS('Accounting Data'!C2:C100000,'Accounting Data'!E2:E100000,\"575\",'Accounting Data'!H2:H100000,\"9??\",'Accounting Data'!I2:I100000,\"32??\",'Accounting Data'!J2:J100000,\"61??\")","v":{"v":0,"d":"0 "}},{"$f":"SUMIFS('Accounting Data'!C2:C100000,'Accounting Data'!E2:E100000,\"8??\",'Accounting Data'!H2:H100000,\"7??\",'Accounting Data'!I2:I100000,\"32??\",'Accounting Data'!J2:J100000,\"61??\")+SUMIFS('Accounting Data'!C2:C100000,'Accounting Data'!E2:E100000,\"8??\",'Accounting Data'!H2:H100000,\"8??\",'Accounting Data'!I2:I100000,\"32??\",'Accounting Data'!J2:J100000,\"61??\")+SUMIFS('Accounting Data'!C2:C100000,'Accounting Data'!E2:E100000,\"8??\",'Accounting Data'!H2:H100000,\"9??\",'Accounting Data'!I2:I100000,\"32??\",'Accounting Data'!J2:J100000,\"61??\")","v":{"v":0,"d":"0 "}},{"$f":"SUMIFS('Accounting Data'!C2:C100000,'Accounting Data'!E2:E100000,\"9??\",'Accounting Data'!H2:H100000,\"7??\",'Accounting Data'!I2:I100000,\"32??\",'Accounting Data'!J2:J100000,\"61??\")+SUMIFS('Accounting Data'!C2:C100000,'Accounting Data'!E2:E100000,\"9??\",'Accounting Data'!H2:H100000,\"8??\",'Accounting Data'!I2:I100000,\"32??\",'Accounting Data'!J2:J100000,\"61??\")+SUMIFS('Accounting Data'!C2:C100000,'Accounting Data'!E2:E100000,\"9??\",'Accounting Data'!H2:H100000,\"9??\",'Accounting Data'!I2:I100000,\"32??\",'Accounting Data'!J2:J100000,\"61??\")","v":{"v":0,"d":"0 "}},null,3200,{"$f":"SUMIFS('Accounting Data'!C2:C100000,'Accounting Data'!I2:I100000,\"32??\",'Accounting Data'!J2:J100000,\"62??\")","v":{"v":0,"d":"0 "}},{"$f":"SUMIFS('Accounting Data'!C2:C100000,'Accounting Data'!E2:E100000,\"575\",'Accounting Data'!I2:I100000,\"32??\",'Accounting Data'!J2:J100000,\"62??\")+SUMIFS('Accounting Data'!C2:C100000,'Accounting Data'!E2:E100000,\"8??\",'Accounting Data'!I2:I100000,\"32??\",'Accounting Data'!J2:J100000,\"62??\")+SUMIFS('Accounting Data'!C2:C100000,'Accounting Data'!E2:E100000,\"9??\",'Accounting Data'!I2:I100000,\"32??\",'Accounting Data'!J2:J100000,\"62??\")","v":{"v":0,"d":"0 "}},{"$f":"SUMIFS('Accounting Data'!C2:C100000,'Accounting Data'!H2:H100000,\"7??\",'Accounting Data'!I2:I100000,\"32??\",'Accounting Data'!J2:J100000,\"62??\")+SUMIFS('Accounting Data'!C2:C100000,'Accounting Data'!H2:H100000,\"8??\",'Accounting Data'!I2:I100000,\"32??\",'Accounting Data'!J2:J100000,\"62??\")+SUMIFS('Accounting Data'!C2:C100000,'Accounting Data'!H2:H100000,\"9??\",'Accounting Data'!I2:I100000,\"32??\",'Accounting Data'!J2:J100000,\"62??\")","v":{"v":0,"d":"0 "}},{"$f":"SUMIFS('Accounting Data'!C2:C100000,'Accounting Data'!E2:E100000,\"575\",'Accounting Data'!H2:H100000,\"7??\",'Accounting Data'!I2:I100000,\"32??\",'Accounting Data'!J2:J100000,\"62??\")+SUMIFS('Accounting Data'!C2:C100000,'Accounting Data'!E2:E100000,\"575\",'Accounting Data'!H2:H100000,\"8??\",'Accounting Data'!I2:I100000,\"32??\",'Accounting Data'!J2:J100000,\"62??\")+SUMIFS('Accounting Data'!C2:C100000,'Accounting Data'!E2:E100000,\"575\",'Accounting Data'!H2:H100000,\"9??\",'Accounting Data'!I2:I100000,\"32??\",'Accounting Data'!J2:J100000,\"62??\")","v":{"v":0,"d":"0 "}},{"$f":"SUMIFS('Accounting Data'!C2:C100000,'Accounting Data'!E2:E100000,\"8??\",'Accounting Data'!H2:H100000,\"7??\",'Accounting Data'!I2:I100000,\"32??\",'Accounting Data'!J2:J100000,\"62??\")+SUMIFS('Accounting Data'!C2:C100000,'Accounting Data'!E2:E100000,\"8??\",'Accounting Data'!H2:H100000,\"8??\",'Accounting Data'!I2:I100000,\"32??\",'Accounting Data'!J2:J100000,\"62??\")+SUMIFS('Accounting Data'!C2:C100000,'Accounting Data'!E2:E100000,\"8??\",'Accounting Data'!H2:H100000,\"9??\",'Accounting Data'!I2:I100000,\"32??\",'Accounting Data'!J2:J100000,\"62??\")","v":{"v":0,"d":"0 "}},{"$f":"SUMIFS('Accounting Data'!C2:C100000,'Accounting Data'!E2:E100000,\"9??\",'Accounting Data'!H2:H100000,\"7??\",'Accounting Data'!I2:I100000,\"32??\",'Accounting Data'!J2:J100000,\"62??\")+SUMIFS('Accounting Data'!C2:C100000,'Accounting Data'!E2:E100000,\"9??\",'Accounting Data'!H2:H100000,\"8??\",'Accounting Data'!I2:I100000,\"32??\",'Accounting Data'!J2:J100000,\"62??\")+SUMIFS('Accounting Data'!C2:C100000,'Accounting Data'!E2:E100000,\"9??\",'Accounting Data'!H2:H100000,\"9??\",'Accounting Data'!I2:I100000,\"32??\",'Accounting Data'!J2:J100000,\"62??\")","v":{"v":0,"d":"0 "}},null,3200,{"$f":"SUMIFS('Accounting Data'!C2:C100000,'Accounting Data'!I2:I100000,\"32??\",'Accounting Data'!J2:J100000,\"63??\")+SUMIFS('Accounting Data'!C2:C100000,'Accounting Data'!I2:I100000,\"32??\",'Accounting Data'!J2:J100000,\"64??\")+SUMIFS('Accounting Data'!C2:C100000,'Accounting Data'!I2:I100000,\"32??\",'Accounting Data'!J2:J100000,\"65??\")","v":{"v":0,"d":"0 "}},{"$f":"SUMIFS('Accounting Data'!C2:C100000,'Accounting Data'!E2:E100000,\"575\",'Accounting Data'!I2:I100000,\"32??\",'Accounting Data'!J2:J100000,\"63??\")+SUMIFS('Accounting Data'!C2:C100000,'Accounting Data'!E2:E100000,\"8??\",'Accounting Data'!I2:I100000,\"32??\",'Accounting Data'!J2:J100000,\"63??\")+SUMIFS('Accounting Data'!C2:C100000,'Accounting Data'!E2:E100000,\"9??\",'Accounting Data'!I2:I100000,\"32??\",'Accounting Data'!J2:J100000,\"63??\")","v":{"v":0,"d":"0 "}},{"$f":"SUMIFS('Accounting Data'!C2:C100000,'Accounting Data'!E2:E100000,\"575\",'Accounting Data'!I2:I100000,\"32??\",'Accounting Data'!J2:J100000,\"64??\")+SUMIFS('Accounting Data'!C2:C100000,'Accounting Data'!E2:E100000,\"8??\",'Accounting Data'!I2:I100000,\"32??\",'Accounting Data'!J2:J100000,\"64??\")+SUMIFS('Accounting Data'!C2:C100000,'Accounting Data'!E2:E100000,\"9??\",'Accounting Data'!I2:I100000,\"32??\",'Accounting Data'!J2:J100000,\"64??\")","v":{"v":0,"d":"0 "}},{"$f":"SUMIFS('Accounting Data'!C2:C100000,'Accounting Data'!E2:E100000,\"575\",'Accounting Data'!I2:I100000,\"32??\",'Accounting Data'!J2:J100000,\"65??\")+SUMIFS('Accounting Data'!C2:C100000,'Accounting Data'!E2:E100000,\"8??\",'Accounting Data'!I2:I100000,\"32??\",'Accounting Data'!J2:J100000,\"65??\")+SUMIFS('Accounting Data'!C2:C100000,'Accounting Data'!E2:E100000,\"9??\",'Accounting Data'!I2:I100000,\"32??\",'Accounting Data'!J2:J100000,\"65??\")","v":{"v":0,"d":"0 "}},{"$f":"SUMIFS('Accounting Data'!C2:C100000,'Accounting Data'!H2:H100000,\"7??\",'Accounting Data'!I2:I100000,\"32??\",'Accounting Data'!J2:J100000,\"63??\")+SUMIFS('Accounting Data'!C2:C100000,'Accounting Data'!H2:H100000,\"8??\",'Accounting Data'!I2:I100000,\"32??\",'Accounting Data'!J2:J100000,\"63??\")+SUMIFS('Accounting Data'!C2:C100000,'Accounting Data'!H2:H100000,\"9??\",'Accounting Data'!I2:I100000,\"32??\",'Accounting Data'!J2:J100000,\"63??\")+SUMIFS('Accounting Data'!C2:C100000,'Accounting Data'!H2:H100000,\"7??\",'Accounting Data'!I2:I100000,\"32??\",'Accounting Data'!J2:J100000,\"64??\")+SUMIFS('Accounting Data'!C2:C100000,'Accounting Data'!H2:H100000,\"8??\",'Accounting Data'!I2:I100000,\"32??\",'Accounting Data'!J2:J100000,\"64??\")+SUMIFS('Accounting Data'!C2:C100000,'Accounting Data'!H2:H100000,\"9??\",'Accounting Data'!I2:I100000,\"32??\",'Accounting Data'!J2:J100000,\"64??\")+SUMIFS('Accounting Data'!C2:C100000,'Accounting Data'!H2:H100000,\"7??\",'Accounting Data'!I2:I100000,\"32??\",'Accounting Data'!J2:J100000,\"65??\")+SUMIFS('Accounting Data'!C2:C100000,'Accounting Data'!H2:H100000,\"8??\",'Accounting Data'!I2:I100000,\"32??\",'Accounting Data'!J2:J100000,\"65??\")+SUMIFS('Accounting Data'!C2:C100000,'Accounting Data'!H2:H100000,\"9??\",'Accounting Data'!I2:I100000,\"32??\",'Accounting Data'!J2:J100000,\"65??\")","v":{"v":0,"d":"0 "}},{"$f":"SUMIFS('Accounting Data'!C2:C100000,'Accounting Data'!E2:E100000,\"575\",'Accounting Data'!H2:H100000,\"7??\",'Accounting Data'!I2:I100000,\"32??\",'Accounting Data'!J2:J100000,\"63??\")+SUMIFS('Accounting Data'!C2:C100000,'Accounting Data'!E2:E100000,\"575\",'Accounting Data'!H2:H100000,\"8??\",'Accounting Data'!I2:I100000,\"32??\",'Accounting Data'!J2:J100000,\"63??\")+SUMIFS('Accounting Data'!C2:C100000,'Accounting Data'!E2:E100000,\"575\",'Accounting Data'!H2:H100000,\"9??\",'Accounting Data'!I2:I100000,\"32??\",'Accounting Data'!J2:J100000,\"63??\")","v":{"v":0,"d":"0 "}},{"$f":"SUMIFS('Accounting Data'!C2:C100000,'Accounting Data'!E2:E100000,\"575\",'Accounting Data'!H2:H100000,\"7??\",'Accounting Data'!I2:I100000,\"32??\",'Accounting Data'!J2:J100000,\"64??\")+SUMIFS('Accounting Data'!C2:C100000,'Accounting Data'!E2:E100000,\"575\",'Accounting Data'!H2:H100000,\"8??\",'Accounting Data'!I2:I100000,\"32??\",'Accounting Data'!J2:J100000,\"64??\")+SUMIFS('Accounting Data'!C2:C100000,'Accounting Data'!E2:E100000,\"575\",'Accounting Data'!H2:H100000,\"9??\",'Accounting Data'!I2:I100000,\"32??\",'Accounting Data'!J2:J100000,\"64??\")","v":{"v":0,"d":"0 "}},{"$f":"SUMIFS('Accounting Data'!C2:C100000,'Accounting Data'!E2:E100000,\"575\",'Accounting Data'!H2:H100000,\"7??\",'Accounting Data'!I2:I100000,\"32??\",'Accounting Data'!J2:J100000,\"65??\")+SUMIFS('Accounting Data'!C2:C100000,'Accounting Data'!E2:E100000,\"575\",'Accounting Data'!H2:H100000,\"8??\",'Accounting Data'!I2:I100000,\"32??\",'Accounting Data'!J2:J100000,\"65??\")+SUMIFS('Accounting Data'!C2:C100000,'Accounting Data'!E2:E100000,\"575\",'Accounting Data'!H2:H100000,\"9??\",'Accounting Data'!I2:I100000,\"32??\",'Accounting Data'!J2:J100000,\"65??\")","v":{"v":0,"d":"0 "}},{"$f":"SUMIFS('Accounting Data'!C2:C100000,'Accounting Data'!E2:E100000,\"8??\",'Accounting Data'!H2:H100000,\"7??\",'Accounting Data'!I2:I100000,\"32??\",'Accounting Data'!J2:J100000,\"63??\")+SUMIFS('Accounting Data'!C2:C100000,'Accounting Data'!E2:E100000,\"8??\",'Accounting Data'!H2:H100000,\"8??\",'Accounting Data'!I2:I100000,\"32??\",'Accounting Data'!J2:J100000,\"63??\")+SUMIFS('Accounting Data'!C2:C100000,'Accounting Data'!E2:E100000,\"8??\",'Accounting Data'!H2:H100000,\"9??\",'Accounting Data'!I2:I100000,\"32??\",'Accounting Data'!J2:J100000,\"63??\")","v":{"v":0,"d":"0 "}},{"$f":"SUMIFS('Accounting Data'!C2:C100000,'Accounting Data'!E2:E100000,\"8??\",'Accounting Data'!H2:H100000,\"7??\",'Accounting Data'!I2:I100000,\"32??\",'Accounting Data'!J2:J100000,\"64??\")+SUMIFS('Accounting Data'!C2:C100000,'Accounting Data'!E2:E100000,\"8??\",'Accounting Data'!H2:H100000,\"8??\",'Accounting Data'!I2:I100000,\"32??\",'Accounting Data'!J2:J100000,\"64??\")+SUMIFS('Accounting Data'!C2:C100000,'Accounting Data'!E2:E100000,\"8??\",'Accounting Data'!H2:H100000,\"9??\",'Accounting Data'!I2:I100000,\"32??\",'Accounting Data'!J2:J100000,\"64??\")","v":{"v":0,"d":"0 "}},{"$f":"SUMIFS('Accounting Data'!C2:C100000,'Accounting Data'!E2:E100000,\"8??\",'Accounting Data'!H2:H100000,\"7??\",'Accounting Data'!I2:I100000,\"32??\",'Accounting Data'!J2:J100000,\"65??\")+SUMIFS('Accounting Data'!C2:C100000,'Accounting Data'!E2:E100000,\"8??\",'Accounting Data'!H2:H100000,\"8??\",'Accounting Data'!I2:I100000,\"32??\",'Accounting Data'!J2:J100000,\"65??\")+SUMIFS('Accounting Data'!C2:C100000,'Accounting Data'!E2:E100000,\"8??\",'Accounting Data'!H2:H100000,\"9??\",'Accounting Data'!I2:I100000,\"32??\",'Accounting Data'!J2:J100000,\"65??\")","v":{"v":0,"d":"0 "}},{"$f":"SUMIFS('Accounting Data'!C2:C100000,'Accounting Data'!E2:E100000,\"9??\",'Accounting Data'!H2:H100000,\"7??\",'Accounting Data'!I2:I100000,\"32??\",'Accounting Data'!J2:J100000,\"63??\")+SUMIFS('Accounting Data'!C2:C100000,'Accounting Data'!E2:E100000,\"9??\",'Accounting Data'!H2:H100000,\"8??\",'Accounting Data'!I2:I100000,\"32??\",'Accounting Data'!J2:J100000,\"63??\")+SUMIFS('Accounting Data'!C2:C100000,'Accounting Data'!E2:E100000,\"9??\",'Accounting Data'!H2:H100000,\"9??\",'Accounting Data'!I2:I100000,\"32??\",'Accounting Data'!J2:J100000,\"63??\")","v":{"v":0,"d":"0 "}},{"$f":"SUMIFS('Accounting Data'!C2:C100000,'Accounting Data'!E2:E100000,\"9??\",'Accounting Data'!H2:H100000,\"7??\",'Accounting Data'!I2:I100000,\"32??\",'Accounting Data'!J2:J100000,\"64??\")+SUMIFS('Accounting Data'!C2:C100000,'Accounting Data'!E2:E100000,\"9??\",'Accounting Data'!H2:H100000,\"8??\",'Accounting Data'!I2:I100000,\"32??\",'Accounting Data'!J2:J100000,\"64??\")+SUMIFS('Accounting Data'!C2:C100000,'Accounting Data'!E2:E100000,\"9??\",'Accounting Data'!H2:H100000,\"9??\",'Accounting Data'!I2:I100000,\"32??\",'Accounting Data'!J2:J100000,\"64??\")","v":{"v":0,"d":"0 "}},{"$f":"SUMIFS('Accounting Data'!C2:C100000,'Accounting Data'!E2:E100000,\"9??\",'Accounting Data'!H2:H100000,\"7??\",'Accounting Data'!I2:I100000,\"32??\",'Accounting Data'!J2:J100000,\"65??\")+SUMIFS('Accounting Data'!C2:C100000,'Accounting Data'!E2:E100000,\"9??\",'Accounting Data'!H2:H100000,\"8??\",'Accounting Data'!I2:I100000,\"32??\",'Accounting Data'!J2:J100000,\"65??\")+SUMIFS('Accounting Data'!C2:C100000,'Accounting Data'!E2:E100000,\"9??\",'Accounting Data'!H2:H100000,\"9??\",'Accounting Data'!I2:I100000,\"32??\",'Accounting Data'!J2:J100000,\"65??\")","v":{"v":0,"d":"0 "}},null,3200,{"$f":"SUMIFS('Accounting Data'!C2:C100000,'Accounting Data'!I2:I100000,\"32??\",'Accounting Data'!J2:J100000,\"66??\")","v":{"v":0,"d":"0 "}},{"$f":"SUMIFS('Accounting Data'!$C$2:$C$100000,'Accounting Data'!$E$2:$E$100000,\"575\",'Accounting Data'!$I$2:$I$100000,\"32??\",'Accounting Data'!$J$2:$J$100000,\"66??\")+SUMIFS('Accounting Data'!$C$2:$C$100000,'Accounting Data'!$E$2:$E$100000,\"8??\",'Accounting Data'!$I$2:$I$100000,\"32??\",'Accounting Data'!$J$2:$J$100000,\"66??\")+SUMIFS('Accounting Data'!$C$2:$C$100000,'Accounting Data'!$E$2:$E$100000,\"9??\",'Accounting Data'!$I$2:$I$100000,\"32??\",'Accounting Data'!$J$2:$J$100000,\"66??\")","v":{"v":0,"d":"0 "}},{"$f":"SUMIFS('Accounting Data'!$C$2:$C$100000,'Accounting Data'!$H$2:$H$100000,\"7??\",'Accounting Data'!$I$2:$I$100000,\"32??\",'Accounting Data'!$J$2:$J$100000,\"66??\")+SUMIFS('Accounting Data'!$C$2:$C$100000,'Accounting Data'!$H$2:$H$100000,\"8??\",'Accounting Data'!$I$2:$I$100000,\"32??\",'Accounting Data'!$J$2:$J$100000,\"66??\")+SUMIFS('Accounting Data'!$C$2:$C$100000,'Accounting Data'!$H$2:$H$100000,\"9??\",'Accounting Data'!$I$2:$I$100000,\"32??\",'Accounting Data'!$J$2:$J$100000,\"66??\")","v":{"v":0,"d":"0 "}},{"$f":"SUMIFS('Accounting Data'!$C$2:$C$100000,'Accounting Data'!$E$2:$E$100000,\"575\",'Accounting Data'!$H$2:$H$100000,\"7??\",'Accounting Data'!$I$2:$I$100000,\"32??\",'Accounting Data'!$J$2:$J$100000,\"66??\")+SUMIFS('Accounting Data'!$C$2:$C$100000,'Accounting Data'!$E$2:$E$100000,\"575\",'Accounting Data'!$H$2:$H$100000,\"8??\",'Accounting Data'!$I$2:$I$100000,\"32??\",'Accounting Data'!$J$2:$J$100000,\"66??\")+SUMIFS('Accounting Data'!$C$2:$C$100000,'Accounting Data'!$E$2:$E$100000,\"575\",'Accounting Data'!$H$2:$H$100000,\"9??\",'Accounting Data'!$I$2:$I$100000,\"32??\",'Accounting Data'!$J$2:$J$100000,\"66??\")","v":{"v":0,"d":"0 "}},{"$f":"SUMIFS('Accounting Data'!$C$2:$C$100000,'Accounting Data'!$E$2:$E$100000,\"8??\",'Accounting Data'!$H$2:$H$100000,\"7??\",'Accounting Data'!$I$2:$I$100000,\"32??\",'Accounting Data'!$J$2:$J$100000,\"66??\")+SUMIFS('Accounting Data'!$C$2:$C$100000,'Accounting Data'!$E$2:$E$100000,\"8??\",'Accounting Data'!$H$2:$H$100000,\"8??\",'Accounting Data'!$I$2:$I$100000,\"32??\",'Accounting Data'!$J$2:$J$100000,\"66??\")+SUMIFS('Accounting Data'!$C$2:$C$100000,'Accounting Data'!$E$2:$E$100000,\"8??\",'Accounting Data'!$H$2:$H$100000,\"9??\",'Accounting Data'!$I$2:$I$100000,\"32??\",'Accounting Data'!$J$2:$J$100000,\"66??\")","v":{"v":0,"d":"0 "}},{"$f":"SUMIFS('Accounting Data'!$C$2:$C$100000,'Accounting Data'!$E$2:$E$100000,\"9??\",'Accounting Data'!$H$2:$H$100000,\"7??\",'Accounting Data'!$I$2:$I$100000,\"32??\",'Accounting Data'!$J$2:$J$100000,\"66??\")+SUMIFS('Accounting Data'!$C$2:$C$100000,'Accounting Data'!$E$2:$E$100000,\"9??\",'Accounting Data'!$H$2:$H$100000,\"8??\",'Accounting Data'!$I$2:$I$100000,\"32??\",'Accounting Data'!$J$2:$J$100000,\"66??\")+SUMIFS('Accounting Data'!$C$2:$C$100000,'Accounting Data'!$E$2:$E$100000,\"9??\",'Accounting Data'!$H$2:$H$100000,\"9??\",'Accounting Data'!$I$2:$I$100000,\"32??\",'Accounting Data'!$J$2:$J$100000,\"66??\")","v":{"v":0,"d":"0 "}},null,3200,{"$f":"SUMIFS('Accounting Data'!C2:C100000,'Accounting Data'!I2:I100000,\"32??\",'Accounting Data'!J2:J100000,\"67??\")","v":{"v":0,"d":"0 "}},{"$f":"SUMIFS('Accounting Data'!$C$2:$C$100000,'Accounting Data'!$E$2:$E$100000,\"575\",'Accounting Data'!$I$2:$I$100000,\"32??\",'Accounting Data'!$J$2:$J$100000,\"67??\")+SUMIFS('Accounting Data'!$C$2:$C$100000,'Accounting Data'!$E$2:$E$100000,\"8??\",'Accounting Data'!$I$2:$I$100000,\"32??\",'Accounting Data'!$J$2:$J$100000,\"67??\")+SUMIFS('Accounting Data'!$C$2:$C$100000,'Accounting Data'!$E$2:$E$100000,\"9??\",'Accounting Data'!$I$2:$I$100000,\"32??\",'Accounting Data'!$J$2:$J$100000,\"67??\")","v":{"v":0,"d":"0 "}},{"$f":"SUMIFS('Accounting Data'!$C$2:$C$100000,'Accounting Data'!$H$2:$H$100000,\"7??\",'Accounting Data'!$I$2:$I$100000,\"32??\",'Accounting Data'!$J$2:$J$100000,\"67??\")+SUMIFS('Accounting Data'!$C$2:$C$100000,'Accounting Data'!$H$2:$H$100000,\"8??\",'Accounting Data'!$I$2:$I$100000,\"32??\",'Accounting Data'!$J$2:$J$100000,\"67??\")+SUMIFS('Accounting Data'!$C$2:$C$100000,'Accounting Data'!$H$2:$H$100000,\"9??\",'Accounting Data'!$I$2:$I$100000,\"32??\",'Accounting Data'!$J$2:$J$100000,\"67??\")","v":{"v":0,"d":"0 "}},{"$f":"SUMIFS('Accounting Data'!$C$2:$C$100000,'Accounting Data'!$E$2:$E$100000,\"575\",'Accounting Data'!$H$2:$H$100000,\"7??\",'Accounting Data'!$I$2:$I$100000,\"32??\",'Accounting Data'!$J$2:$J$100000,\"67??\")+SUMIFS('Accounting Data'!$C$2:$C$100000,'Accounting Data'!$E$2:$E$100000,\"575\",'Accounting Data'!$H$2:$H$100000,\"8??\",'Accounting Data'!$I$2:$I$100000,\"32??\",'Accounting Data'!$J$2:$J$100000,\"67??\")+SUMIFS('Accounting Data'!$C$2:$C$100000,'Accounting Data'!$E$2:$E$100000,\"575\",'Accounting Data'!$H$2:$H$100000,\"9??\",'Accounting Data'!$I$2:$I$100000,\"32??\",'Accounting Data'!$J$2:$J$100000,\"67??\")","v":{"v":0,"d":"0 "}},{"$f":"SUMIFS('Accounting Data'!$C$2:$C$100000,'Accounting Data'!$E$2:$E$100000,\"8??\",'Accounting Data'!$H$2:$H$100000,\"7??\",'Accounting Data'!$I$2:$I$100000,\"32??\",'Accounting Data'!$J$2:$J$100000,\"67??\")+SUMIFS('Accounting Data'!$C$2:$C$100000,'Accounting Data'!$E$2:$E$100000,\"8??\",'Accounting Data'!$H$2:$H$100000,\"8??\",'Accounting Data'!$I$2:$I$100000,\"32??\",'Accounting Data'!$J$2:$J$100000,\"67??\")+SUMIFS('Accounting Data'!$C$2:$C$100000,'Accounting Data'!$E$2:$E$100000,\"8??\",'Accounting Data'!$H$2:$H$100000,\"9??\",'Accounting Data'!$I$2:$I$100000,\"32??\",'Accounting Data'!$J$2:$J$100000,\"67??\")","v":{"v":0,"d":"0 "}},{"$f":"SUMIFS('Accounting Data'!$C$2:$C$100000,'Accounting Data'!$E$2:$E$100000,\"9??\",'Accounting Data'!$H$2:$H$100000,\"7??\",'Accounting Data'!$I$2:$I$100000,\"32??\",'Accounting Data'!$J$2:$J$100000,\"67??\")+SUMIFS('Accounting Data'!$C$2:$C$100000,'Accounting Data'!$E$2:$E$100000,\"9??\",'Accounting Data'!$H$2:$H$100000,\"8??\",'Accounting Data'!$I$2:$I$100000,\"32??\",'Accounting Data'!$J$2:$J$100000,\"67??\")+SUMIFS('Accounting Data'!$C$2:$C$100000,'Accounting Data'!$E$2:$E$100000,\"9??\",'Accounting Data'!$H$2:$H$100000,\"9??\",'Accounting Data'!$I$2:$I$100000,\"32??\",'Accounting Data'!$J$2:$J$100000,\"67??\")","v":{"v":0,"d":"0 "}},null,3200,{"$f":"SUMIFS('Accounting Data'!C2:C100000,'Accounting Data'!I2:I100000,\"32??\",'Accounting Data'!J2:J100000,\"681?\")","v":{"v":0,"d":"0 "}},{"$f":"SUMIFS('Accounting Data'!$C$2:$C$100000,'Accounting Data'!$E$2:$E$100000,\"575\",'Accounting Data'!$I$2:$I$100000,\"32??\",'Accounting Data'!$J$2:$J$100000,\"681?\")+SUMIFS('Accounting Data'!$C$2:$C$100000,'Accounting Data'!$E$2:$E$100000,\"8??\",'Accounting Data'!$I$2:$I$100000,\"32??\",'Accounting Data'!$J$2:$J$100000,\"681?\")+SUMIFS('Accounting Data'!$C$2:$C$100000,'Accounting Data'!$E$2:$E$100000,\"9??\",'Accounting Data'!$I$2:$I$100000,\"32??\",'Accounting Data'!$J$2:$J$100000,\"681?\")","v":{"v":0,"d":"0 "}},{"$f":"SUMIFS('Accounting Data'!$C$2:$C$100000,'Accounting Data'!$H$2:$H$100000,\"7??\",'Accounting Data'!$I$2:$I$100000,\"32??\",'Accounting Data'!$J$2:$J$100000,\"681?\")+SUMIFS('Accounting Data'!$C$2:$C$100000,'Accounting Data'!$H$2:$H$100000,\"8??\",'Accounting Data'!$I$2:$I$100000,\"32??\",'Accounting Data'!$J$2:$J$100000,\"681?\")+SUMIFS('Accounting Data'!$C$2:$C$100000,'Accounting Data'!$H$2:$H$100000,\"9??\",'Accounting Data'!$I$2:$I$100000,\"32??\",'Accounting Data'!$J$2:$J$100000,\"681?\")","v":{"v":0,"d":"0 "}},{"$f":"SUMIFS('Accounting Data'!$C$2:$C$100000,'Accounting Data'!$E$2:$E$100000,\"575\",'Accounting Data'!$H$2:$H$100000,\"7??\",'Accounting Data'!$I$2:$I$100000,\"32??\",'Accounting Data'!$J$2:$J$100000,\"681?\")+SUMIFS('Accounting Data'!$C$2:$C$100000,'Accounting Data'!$E$2:$E$100000,\"575\",'Accounting Data'!$H$2:$H$100000,\"8??\",'Accounting Data'!$I$2:$I$100000,\"32??\",'Accounting Data'!$J$2:$J$100000,\"681?\")+SUMIFS('Accounting Data'!$C$2:$C$100000,'Accounting Data'!$E$2:$E$100000,\"575\",'Accounting Data'!$H$2:$H$100000,\"9??\",'Accounting Data'!$I$2:$I$100000,\"32??\",'Accounting Data'!$J$2:$J$100000,\"681?\")","v":{"v":0,"d":"0 "}},{"$f":"SUMIFS('Accounting Data'!$C$2:$C$100000,'Accounting Data'!$E$2:$E$100000,\"8??\",'Accounting Data'!$H$2:$H$100000,\"7??\",'Accounting Data'!$I$2:$I$100000,\"32??\",'Accounting Data'!$J$2:$J$100000,\"681?\")+SUMIFS('Accounting Data'!$C$2:$C$100000,'Accounting Data'!$E$2:$E$100000,\"8??\",'Accounting Data'!$H$2:$H$100000,\"8??\",'Accounting Data'!$I$2:$I$100000,\"32??\",'Accounting Data'!$J$2:$J$100000,\"681?\")+SUMIFS('Accounting Data'!$C$2:$C$100000,'Accounting Data'!$E$2:$E$100000,\"8??\",'Accounting Data'!$H$2:$H$100000,\"9??\",'Accounting Data'!$I$2:$I$100000,\"32??\",'Accounting Data'!$J$2:$J$100000,\"681?\")","v":{"v":0,"d":"0 "}},{"$f":"SUMIFS('Accounting Data'!$C$2:$C$100000,'Accounting Data'!$E$2:$E$100000,\"9??\",'Accounting Data'!$H$2:$H$100000,\"7??\",'Accounting Data'!$I$2:$I$100000,\"32??\",'Accounting Data'!$J$2:$J$100000,\"681?\")+SUMIFS('Accounting Data'!$C$2:$C$100000,'Accounting Data'!$E$2:$E$100000,\"9??\",'Accounting Data'!$H$2:$H$100000,\"8??\",'Accounting Data'!$I$2:$I$100000,\"32??\",'Accounting Data'!$J$2:$J$100000,\"681?\")+SUMIFS('Accounting Data'!$C$2:$C$100000,'Accounting Data'!$E$2:$E$100000,\"9??\",'Accounting Data'!$H$2:$H$100000,\"9??\",'Accounting Data'!$I$2:$I$100000,\"32??\",'Accounting Data'!$J$2:$J$100000,\"681?\")","v":{"v":0,"d":"0 "}},null,5000,{"$f":"SUMIFS('Accounting Data'!C2:C100000,'Accounting Data'!I2:I100000,\"5???\",'Accounting Data'!J2:J100000,\"6841\")+SUMIFS('Accounting Data'!C2:C100000,'Accounting Data'!I2:I100000,\"5???\",'Accounting Data'!J2:J100000,\"6842\")+SUMIFS('Accounting Data'!C2:C100000,'Accounting Data'!I2:I100000,\"5???\",'Accounting Data'!J2:J100000,\"6843\")","v":{"v":0,"d":"0 "}},{"$f":"SUMIFS('Accounting Data'!$C$2:$C$100000,'Accounting Data'!$E$2:$E$100000,\"575\",'Accounting Data'!$I$2:$I$100000,\"5???\",'Accounting Data'!$J$2:$J$100000,\"6841\")+SUMIFS('Accounting Data'!$C$2:$C$100000,'Accounting Data'!$E$2:$E$100000,\"8??\",'Accounting Data'!$I$2:$I$100000,\"5???\",'Accounting Data'!$J$2:$J$100000,\"6841\")+SUMIFS('Accounting Data'!$C$2:$C$100000,'Accounting Data'!$E$2:$E$100000,\"9??\",'Accounting Data'!$I$2:$I$100000,\"5???\",'Accounting Data'!$J$2:$J$100000,\"6841\")","v":{"v":0,"d":"0 "}},{"$f":"SUMIFS('Accounting Data'!$C$2:$C$100000,'Accounting Data'!$E$2:$E$100000,\"575\",'Accounting Data'!$I$2:$I$100000,\"5???\",'Accounting Data'!$J$2:$J$100000,\"6842\")+SUMIFS('Accounting Data'!$C$2:$C$100000,'Accounting Data'!$E$2:$E$100000,\"8??\",'Accounting Data'!$I$2:$I$100000,\"5???\",'Accounting Data'!$J$2:$J$100000,\"6842\")+SUMIFS('Accounting Data'!$C$2:$C$100000,'Accounting Data'!$E$2:$E$100000,\"9??\",'Accounting Data'!$I$2:$I$100000,\"5???\",'Accounting Data'!$J$2:$J$100000,\"6842\")","v":{"v":0,"d":"0 "}},{"$f":"SUMIFS('Accounting Data'!$C$2:$C$100000,'Accounting Data'!$E$2:$E$100000,\"575\",'Accounting Data'!$I$2:$I$100000,\"5???\",'Accounting Data'!$J$2:$J$100000,\"6843\")+SUMIFS('Accounting Data'!$C$2:$C$100000,'Accounting Data'!$E$2:$E$100000,\"8??\",'Accounting Data'!$I$2:$I$100000,\"5???\",'Accounting Data'!$J$2:$J$100000,\"6843\")+SUMIFS('Accounting Data'!$C$2:$C$100000,'Accounting Data'!$E$2:$E$100000,\"9??\",'Accounting Data'!$I$2:$I$100000,\"5???\",'Accounting Data'!$J$2:$J$100000,\"6843\")","v":{"v":0,"d":"0 "}},{"$f":"SUMIFS('Accounting Data'!C2:C100000,'Accounting Data'!H2:H100000,\"7??\",'Accounting Data'!I2:I100000,\"5???\",'Accounting Data'!J2:J100000,\"6841\")+SUMIFS('Accounting Data'!C2:C100000,'Accounting Data'!H2:H100000,\"8??\",'Accounting Data'!I2:I100000,\"5???\",'Accounting Data'!J2:J100000,\"6841\")+SUMIFS('Accounting Data'!C2:C100000,'Accounting Data'!H2:H100000,\"9??\",'Accounting Data'!I2:I100000,\"5???\",'Accounting Data'!J2:J100000,\"6841\")+SUMIFS('Accounting Data'!C2:C100000,'Accounting Data'!H2:H100000,\"7??\",'Accounting Data'!I2:I100000,\"5???\",'Accounting Data'!J2:J100000,\"6842\")+SUMIFS('Accounting Data'!C2:C100000,'Accounting Data'!H2:H100000,\"8??\",'Accounting Data'!I2:I100000,\"5???\",'Accounting Data'!J2:J100000,\"6842\")+SUMIFS('Accounting Data'!C2:C100000,'Accounting Data'!H2:H100000,\"9??\",'Accounting Data'!I2:I100000,\"5???\",'Accounting Data'!J2:J100000,\"6842\")+SUMIFS('Accounting Data'!C2:C100000,'Accounting Data'!H2:H100000,\"7??\",'Accounting Data'!I2:I100000,\"5???\",'Accounting Data'!J2:J100000,\"6843\")+SUMIFS('Accounting Data'!C2:C100000,'Accounting Data'!H2:H100000,\"8??\",'Accounting Data'!I2:I100000,\"5???\",'Accounting Data'!J2:J100000,\"6843\")+SUMIFS('Accounting Data'!C2:C100000,'Accounting Data'!H2:H100000,\"9??\",'Accounting Data'!I2:I100000,\"5???\",'Accounting Data'!J2:J100000,\"6843\")","v":{"v":0,"d":"0 "}},{"$f":"SUMIFS('Accounting Data'!$C$2:$C$100000,'Accounting Data'!$E$2:$E$100000,\"575\",'Accounting Data'!$H$2:$H$100000,\"7??\",'Accounting Data'!$I$2:$I$100000,\"5???\",'Accounting Data'!$J$2:$J$100000,\"6841\")+SUMIFS('Accounting Data'!$C$2:$C$100000,'Accounting Data'!$E$2:$E$100000,\"575\",'Accounting Data'!$H$2:$H$100000,\"8??\",'Accounting Data'!$I$2:$I$100000,\"5???\",'Accounting Data'!$J$2:$J$100000,\"6841\")+SUMIFS('Accounting Data'!$C$2:$C$100000,'Accounting Data'!$E$2:$E$100000,\"575\",'Accounting Data'!$H$2:$H$100000,\"9??\",'Accounting Data'!$I$2:$I$100000,\"5???\",'Accounting Data'!$J$2:$J$100000,\"6841\")","v":{"v":0,"d":"0 "}},{"$f":"SUMIFS('Accounting Data'!$C$2:$C$100000,'Accounting Data'!$E$2:$E$100000,\"575\",'Accounting Data'!$H$2:$H$100000,\"7??\",'Accounting Data'!$I$2:$I$100000,\"5???\",'Accounting Data'!$J$2:$J$100000,\"6842\")+SUMIFS('Accounting Data'!$C$2:$C$100000,'Accounting Data'!$E$2:$E$100000,\"575\",'Accounting Data'!$H$2:$H$100000,\"8??\",'Accounting Data'!$I$2:$I$100000,\"5???\",'Accounting Data'!$J$2:$J$100000,\"6842\")+SUMIFS('Accounting Data'!$C$2:$C$100000,'Accounting Data'!$E$2:$E$100000,\"575\",'Accounting Data'!$H$2:$H$100000,\"9??\",'Accounting Data'!$I$2:$I$100000,\"5???\",'Accounting Data'!$J$2:$J$100000,\"6842\")","v":{"v":0,"d":"0 "}},{"$f":"SUMIFS('Accounting Data'!$C$2:$C$100000,'Accounting Data'!$E$2:$E$100000,\"575\",'Accounting Data'!$H$2:$H$100000,\"7??\",'Accounting Data'!$I$2:$I$100000,\"5???\",'Accounting Data'!$J$2:$J$100000,\"6843\")+SUMIFS('Accounting Data'!$C$2:$C$100000,'Accounting Data'!$E$2:$E$100000,\"575\",'Accounting Data'!$H$2:$H$100000,\"8??\",'Accounting Data'!$I$2:$I$100000,\"5???\",'Accounting Data'!$J$2:$J$100000,\"6843\")+SUMIFS('Accounting Data'!$C$2:$C$100000,'Accounting Data'!$E$2:$E$100000,\"575\",'Accounting Data'!$H$2:$H$100000,\"9??\",'Accounting Data'!$I$2:$I$100000,\"5???\",'Accounting Data'!$J$2:$J$100000,\"6843\")","v":{"v":0,"d":"0 "}},{"$f":"SUMIFS('Accounting Data'!$C$2:$C$100000,'Accounting Data'!$E$2:$E$100000,\"8??\",'Accounting Data'!$H$2:$H$100000,\"7??\",'Accounting Data'!$I$2:$I$100000,\"5???\",'Accounting Data'!$J$2:$J$100000,\"6841\")+SUMIFS('Accounting Data'!$C$2:$C$100000,'Accounting Data'!$E$2:$E$100000,\"8??\",'Accounting Data'!$H$2:$H$100000,\"8??\",'Accounting Data'!$I$2:$I$100000,\"5???\",'Accounting Data'!$J$2:$J$100000,\"6841\")+SUMIFS('Accounting Data'!$C$2:$C$100000,'Accounting Data'!$E$2:$E$100000,\"8??\",'Accounting Data'!$H$2:$H$100000,\"9??\",'Accounting Data'!$I$2:$I$100000,\"5???\",'Accounting Data'!$J$2:$J$100000,\"6841\")","v":{"v":0,"d":"0 "}},{"$f":"SUMIFS('Accounting Data'!$C$2:$C$100000,'Accounting Data'!$E$2:$E$100000,\"8??\",'Accounting Data'!$H$2:$H$100000,\"7??\",'Accounting Data'!$I$2:$I$100000,\"5???\",'Accounting Data'!$J$2:$J$100000,\"6842\")+SUMIFS('Accounting Data'!$C$2:$C$100000,'Accounting Data'!$E$2:$E$100000,\"8??\",'Accounting Data'!$H$2:$H$100000,\"8??\",'Accounting Data'!$I$2:$I$100000,\"5???\",'Accounting Data'!$J$2:$J$100000,\"6842\")+SUMIFS('Accounting Data'!$C$2:$C$100000,'Accounting Data'!$E$2:$E$100000,\"8??\",'Accounting Data'!$H$2:$H$100000,\"9??\",'Accounting Data'!$I$2:$I$100000,\"5???\",'Accounting Data'!$J$2:$J$100000,\"6842\")","v":{"v":0,"d":"0 "}},{"$f":"SUMIFS('Accounting Data'!$C$2:$C$100000,'Accounting Data'!$E$2:$E$100000,\"8??\",'Accounting Data'!$H$2:$H$100000,\"7??\",'Accounting Data'!$I$2:$I$100000,\"5???\",'Accounting Data'!$J$2:$J$100000,\"6843\")+SUMIFS('Accounting Data'!$C$2:$C$100000,'Accounting Data'!$E$2:$E$100000,\"8??\",'Accounting Data'!$H$2:$H$100000,\"8??\",'Accounting Data'!$I$2:$I$100000,\"5???\",'Accounting Data'!$J$2:$J$100000,\"6843\")+SUMIFS('Accounting Data'!$C$2:$C$100000,'Accounting Data'!$E$2:$E$100000,\"8??\",'Accounting Data'!$H$2:$H$100000,\"9??\",'Accounting Data'!$I$2:$I$100000,\"5???\",'Accounting Data'!$J$2:$J$100000,\"6843\")","v":{"v":0,"d":"0 "}},{"$f":"SUMIFS('Accounting Data'!$C$2:$C$100000,'Accounting Data'!$E$2:$E$100000,\"9??\",'Accounting Data'!$H$2:$H$100000,\"7??\",'Accounting Data'!$I$2:$I$100000,\"5???\",'Accounting Data'!$J$2:$J$100000,\"6841\")+SUMIFS('Accounting Data'!$C$2:$C$100000,'Accounting Data'!$E$2:$E$100000,\"9??\",'Accounting Data'!$H$2:$H$100000,\"8??\",'Accounting Data'!$I$2:$I$100000,\"5???\",'Accounting Data'!$J$2:$J$100000,\"6841\")+SUMIFS('Accounting Data'!$C$2:$C$100000,'Accounting Data'!$E$2:$E$100000,\"9??\",'Accounting Data'!$H$2:$H$100000,\"9??\",'Accounting Data'!$I$2:$I$100000,\"5???\",'Accounting Data'!$J$2:$J$100000,\"6841\")","v":{"v":0,"d":"0 "}},{"$f":"SUMIFS('Accounting Data'!$C$2:$C$100000,'Accounting Data'!$E$2:$E$100000,\"9??\",'Accounting Data'!$H$2:$H$100000,\"7??\",'Accounting Data'!$I$2:$I$100000,\"5???\",'Accounting Data'!$J$2:$J$100000,\"6842\")+SUMIFS('Accounting Data'!$C$2:$C$100000,'Accounting Data'!$E$2:$E$100000,\"9??\",'Accounting Data'!$H$2:$H$100000,\"8??\",'Accounting Data'!$I$2:$I$100000,\"5???\",'Accounting Data'!$J$2:$J$100000,\"6842\")+SUMIFS('Accounting Data'!$C$2:$C$100000,'Accounting Data'!$E$2:$E$100000,\"9??\",'Accounting Data'!$H$2:$H$100000,\"9??\",'Accounting Data'!$I$2:$I$100000,\"5???\",'Accounting Data'!$J$2:$J$100000,\"6842\")","v":{"v":0,"d":"0 "}},{"$f":"SUMIFS('Accounting Data'!$C$2:$C$100000,'Accounting Data'!$E$2:$E$100000,\"9??\",'Accounting Data'!$H$2:$H$100000,\"7??\",'Accounting Data'!$I$2:$I$100000,\"5???\",'Accounting Data'!$J$2:$J$100000,\"6843\")+SUMIFS('Accounting Data'!$C$2:$C$100000,'Accounting Data'!$E$2:$E$100000,\"9??\",'Accounting Data'!$H$2:$H$100000,\"8??\",'Accounting Data'!$I$2:$I$100000,\"5???\",'Accounting Data'!$J$2:$J$100000,\"6843\")+SUMIFS('Accounting Data'!$C$2:$C$100000,'Accounting Data'!$E$2:$E$100000,\"9??\",'Accounting Data'!$H$2:$H$100000,\"9??\",'Accounting Data'!$I$2:$I$100000,\"5???\",'Accounting Data'!$J$2:$J$100000,\"6843\")","v":{"v":0,"d":"0 "}},null,3200,{"$f":"SUMIFS('Accounting Data'!C2:C100000,'Accounting Data'!I2:I100000,\"32??\",'Accounting Data'!J2:J100000,\"689?\")","v":{"v":0,"d":"0 "}},{"$f":"SUMIFS('Accounting Data'!$C$2:$C$100000,'Accounting Data'!$E$2:$E$100000,\"575\",'Accounting Data'!$I$2:$I$100000,\"32??\",'Accounting Data'!$J$2:$J$100000,\"689?\")+SUMIFS('Accounting Data'!$C$2:$C$100000,'Accounting Data'!$E$2:$E$100000,\"8??\",'Accounting Data'!$I$2:$I$100000,\"32??\",'Accounting Data'!$J$2:$J$100000,\"689?\")+SUMIFS('Accounting Data'!$C$2:$C$100000,'Accounting Data'!$E$2:$E$100000,\"9??\",'Accounting Data'!$I$2:$I$100000,\"32??\",'Accounting Data'!$J$2:$J$100000,\"689?\")","v":{"v":0,"d":"0 "}},{"$f":"SUMIFS('Accounting Data'!$C$2:$C$100000,'Accounting Data'!$H$2:$H$100000,\"7??\",'Accounting Data'!$I$2:$I$100000,\"32??\",'Accounting Data'!$J$2:$J$100000,\"689?\")+SUMIFS('Accounting Data'!$C$2:$C$100000,'Accounting Data'!$H$2:$H$100000,\"8??\",'Accounting Data'!$I$2:$I$100000,\"32??\",'Accounting Data'!$J$2:$J$100000,\"689?\")+SUMIFS('Accounting Data'!$C$2:$C$100000,'Accounting Data'!$H$2:$H$100000,\"9??\",'Accounting Data'!$I$2:$I$100000,\"32??\",'Accounting Data'!$J$2:$J$100000,\"689?\")","v":{"v":0,"d":"0 "}},{"$f":"SUMIFS('Accounting Data'!$C$2:$C$100000,'Accounting Data'!$E$2:$E$100000,\"575\",'Accounting Data'!$H$2:$H$100000,\"7??\",'Accounting Data'!$I$2:$I$100000,\"32??\",'Accounting Data'!$J$2:$J$100000,\"689?\")+SUMIFS('Accounting Data'!$C$2:$C$100000,'Accounting Data'!$E$2:$E$100000,\"575\",'Accounting Data'!$H$2:$H$100000,\"8??\",'Accounting Data'!$I$2:$I$100000,\"32??\",'Accounting Data'!$J$2:$J$100000,\"689?\")+SUMIFS('Accounting Data'!$C$2:$C$100000,'Accounting Data'!$E$2:$E$100000,\"575\",'Accounting Data'!$H$2:$H$100000,\"9??\",'Accounting Data'!$I$2:$I$100000,\"32??\",'Accounting Data'!$J$2:$J$100000,\"689?\")","v":{"v":0,"d":"0 "}},{"$f":"SUMIFS('Accounting Data'!$C$2:$C$100000,'Accounting Data'!$E$2:$E$100000,\"8??\",'Accounting Data'!$H$2:$H$100000,\"7??\",'Accounting Data'!$I$2:$I$100000,\"32??\",'Accounting Data'!$J$2:$J$100000,\"689?\")+SUMIFS('Accounting Data'!$C$2:$C$100000,'Accounting Data'!$E$2:$E$100000,\"8??\",'Accounting Data'!$H$2:$H$100000,\"8??\",'Accounting Data'!$I$2:$I$100000,\"32??\",'Accounting Data'!$J$2:$J$100000,\"689?\")+SUMIFS('Accounting Data'!$C$2:$C$100000,'Accounting Data'!$E$2:$E$100000,\"8??\",'Accounting Data'!$H$2:$H$100000,\"9??\",'Accounting Data'!$I$2:$I$100000,\"32??\",'Accounting Data'!$J$2:$J$100000,\"689?\")","v":{"v":0,"d":"0 "}},{"$f":"SUMIFS('Accounting Data'!$C$2:$C$100000,'Accounting Data'!$E$2:$E$100000,\"9??\",'Accounting Data'!$H$2:$H$100000,\"7??\",'Accounting Data'!$I$2:$I$100000,\"32??\",'Accounting Data'!$J$2:$J$100000,\"689?\")+SUMIFS('Accounting Data'!$C$2:$C$100000,'Accounting Data'!$E$2:$E$100000,\"9??\",'Accounting Data'!$H$2:$H$100000,\"8??\",'Accounting Data'!$I$2:$I$100000,\"32??\",'Accounting Data'!$J$2:$J$100000,\"689?\")+SUMIFS('Accounting Data'!$C$2:$C$100000,'Accounting Data'!$E$2:$E$100000,\"9??\",'Accounting Data'!$H$2:$H$100000,\"9??\",'Accounting Data'!$I$2:$I$100000,\"32??\",'Accounting Data'!$J$2:$J$100000,\"689?\")","v":{"v":0,"d":"0 "}},null,3300,{"$f":"SUMIFS('Accounting Data'!$C$2:$C$100000,'Accounting Data'!$I$2:$I$100000,\"33??\",'Accounting Data'!$J$2:$J$100000,\"6???\")","v":{"v":0,"d":"0 "}},{"$f":"SUMIFS('Accounting Data'!$C$2:$C$100000,'Accounting Data'!$I$2:$I$100000,\"33??\",'Accounting Data'!$J$2:$J$100000,\"69??\")","v":{"v":0,"d":"0 "}},{"$f":"SUMIFS('Accounting Data'!$C$2:$C$100000,'Accounting Data'!$E$2:$E$100000,\"575\",'Accounting Data'!$I$2:$I$100000,\"33??\",'Accounting Data'!$J$2:$J$100000,\"6???\")","v":{"v":0,"d":"0 "}},{"$f":"SUMIFS('Accounting Data'!$C$2:$C$100000,'Accounting Data'!$E$2:$E$100000,\"8??\",'Accounting Data'!$I$2:$I$100000,\"33??\",'Accounting Data'!$J$2:$J$100000,\"6???\")+SUMIFS('Accounting Data'!$C$2:$C$100000,'Accounting Data'!$E$2:$E$100000,\"9??\",'Accounting Data'!$I$2:$I$100000,\"33??\",'Accounting Data'!$J$2:$J$100000,\"6???\")","v":{"v":0,"d":"0 "}},{"$f":"SUMIFS('Accounting Data'!$C$2:$C$100000,'Accounting Data'!$E$2:$E$100000,\"575\",'Accounting Data'!$I$2:$I$100000,\"33??\",'Accounting Data'!$J$2:$J$100000,\"69??\")","v":{"v":0,"d":"0 "}},{"$f":"SUMIFS('Accounting Data'!$C$2:$C$100000,'Accounting Data'!$E$2:$E$100000,\"8??\",'Accounting Data'!$I$2:$I$100000,\"33??\",'Accounting Data'!$J$2:$J$100000,\"69??\")+SUMIFS('Accounting Data'!$C$2:$C$100000,'Accounting Data'!$E$2:$E$100000,\"9??\",'Accounting Data'!$I$2:$I$100000,\"33??\",'Accounting Data'!$J$2:$J$100000,\"69??\")","v":{"v":0,"d":"0 "}}]
["         3400 Bookstore Operations","12.",{"$f":"(AA24-AB24-AC24)+(AD24+AE24+AF24)","v":{"v":0,"d":"0 "}},{"$f":"(AI24-AJ24-AK24)+(AL24+AM24+AN24)","v":{"v":0,"d":"0 "}},{"$f":"(AQ24-AR24-AS24-AT24-AU24)+(AV24+AW24+AX24+AY24+AZ24+BA24+BB24+BC24+BD24)","v":{"v":0,"d":"0 "}},{"$f":"(BG24-BH24-BI24)+(BJ24+BK24+BL24)","v":{"v":0,"d":"0 "}},{"$f":"(BO24-BP24-BQ24)+(BR24+BS24+BT24)","v":{"v":0,"d":"0 "}},{"$f":"(BW24-BX24-BY24)+(BZ24+CA24+CB24)","v":{"v":0,"d":"0 "}},{"$nulls":3},{"$f":"(CU24-CV24-CW24)+(CX24+CY24+CZ24)","v":{"v":0,"d":"0 "}},{"$f":"(DC23-DD23)-((DE23+DF23)-(DG23+DH23))","v":{"v":0,"d":"0 "}},{"$f":"SUM(C23:M23)","v":{"v":0,"d":"0 "}},"12.",{"$nulls":3},"6500",{"$f":"SUMIFS('Accounting Data'!$C$2:$C$100000,'Accounting Data'!$E$2:$E$100000,\"378\",'Accounting Data'!$I$2:$I$100000,\"1???\",'Accounting Data'!$J$2:$J$100000,\"65??\")+SUMIFS('Accounting Data'!$C$2:$C$100000,'Accounting Data'!$E$2:$E$100000,\"378\",'Accounting Data'!$I$2:$I$100000,\"2???\",'Accounting Data'!$J$2:$J$100000,\"65??\")+SUMIFS('Accounting Data'!$C$2:$C$100000,'Accounting Data'!$E$2:$E$100000,\"378\",'Accounting Data'!$I$2:$I$100000,\"3???\",'Accounting Data'!$J$2:$J$100000,\"65??\")","v":{"v":0,"d":"0 "}},{"v":0,"d":"0 "},{"v":0,"d":"0 "},{"v":0,"d":"0 "},{"$nulls":82},3400,{"$f":"SUMIFS('Accounting Data'!$C$2:$C$100000,'Accounting Data'!$H$2:$H$100000,\"7??\",'Accounting Data'!$I$2:$I$100000,\"34??\",'Accounting Data'!$J$2:$J$100000,\"6???\")+SUMIFS('Accounting Data'!$C$2:$C$100000,'Accounting Data'!$H$2:$H$100000,\"8??\",'Accounting Data'!$I$2:$I$100000,\"34??\",'Accounting Data'!$J$2:$J$100000,\"6???\")+SUMIFS('Accounting Data'!$C$2:$C$100000,'Accounting Data'!$H$2:$H$100000,\"9??\",'Accounting Data'!$I$2:$I$100000,\"34??\",'Accounting Data'!$J$2:$J$100000,\"6???\")","v":{"v":0,"d":"0 "}},{"$f":"SUMIFS('Accounting Data'!$C$2:$C$100000,'Accounting Data'!$H$2:$H$100000,\"7??\",'Accounting Data'!$I$2:$I$100000,\"34??\",'Accounting Data'!$J$2:$J$100000,\"69??\")+SUMIFS('Accounting Data'!$C$2:$C$100000,'Accounting Data'!$H$2:$H$100000,\"8??\",'Accounting Data'!$I$2:$I$100000,\"34??\",'Accounting Data'!$J$2:$J$100000,\"69??\")+SUMIFS('Accounting Data'!$C$2:$C$100000,'Accounting Data'!$H$2:$H$100000,\"9??\",'Accounting Data'!$I$2:$I$100000,\"34??\",'Accounting Data'!$J$2:$J$100000,\"69??\")","v":{"v":0,"d":"0 "}},{"$f":"SUMIFS('Accounting Data'!$C$2:$C$100000,'Accounting Data'!$E$2:$E$100000,\"575\",'Accounting Data'!$H$2:$H$100000,\"7??\",'Accounting Data'!$I$2:$I$100000,\"34??\",'Accounting Data'!$J$2:$J$100000,\"6???\")+SUMIFS('Accounting Data'!$C$2:$C$100000,'Accounting Data'!$E$2:$E$100000,\"575\",'Accounting Data'!$H$2:$H$100000,\"8??\",'Accounting Data'!$I$2:$I$100000,\"34??\",'Accounting Data'!$J$2:$J$100000,\"6???\")+SUMIFS('Accounting Data'!$C$2:$C$100000,'Accounting Data'!$E$2:$E$100000,\"575\",'Accounting Data'!$H$2:$H$100000,\"9??\",'Accounting Data'!$I$2:$I$100000,\"34??\",'Accounting Data'!$J$2:$J$100000,\"6???\")","v":{"v":0,"d":"0 "}},{"$f":"SUMIFS('Accounting Data'!$C$2:$C$100000,'Accounting Data'!$E$2:$E$100000,\"8??\",'Accounting Data'!$H$2:$H$100000,\"7??\",'Accounting Data'!$I$2:$I$100000,\"34??\",'Accounting Data'!$J$2:$J$100000,\"6???\")+SUMIFS('Accounting Data'!$C$2:$C$100000,'Accounting Data'!$E$2:$E$100000,\"8??\",'Accounting Data'!$H$2:$H$100000,\"8??\",'Accounting Data'!$I$2:$I$100000,\"34??\",'Accounting Data'!$J$2:$J$100000,\"6???\")+SUMIFS('Accounting Data'!$C$2:$C$100000,'Accounting Data'!$E$2:$E$100000,\"8??\",'Accounting Data'!$H$2:$H$100000,\"9??\",'Accounting Data'!$I$2:$I$100000,\"34??\",'Accounting Data'!$J$2:$J$100000,\"6???\")+SUMIFS('Accounting Data'!$C$2:$C$100000,'Accounting Data'!$E$2:$E$100000,\"9??\",'Accounting Data'!$H$2:$H$100000,\"7??\",'Accounting Data'!$I$2:$I$100000,\"34??\",'Accounting Data'!$J$2:$J$100000,\"6???\")+SUMIFS('Accounting Data'!$C$2:$C$100000,'Accounting Data'!$E$2:$E$100000,\"9??\",'Accounting Data'!$H$2:$H$100000,\"8??\",'Accounting Data'!$I$2:$I$100000,\"34??\",'Accounting Data'!$J$2:$J$100000,\"6???\")+SUMIFS('Accounting Data'!$C$2:$C$100000,'Accounting Data'!$E$2:$E$100000,\"9??\",'Accounting Data'!$H$2:$H$100000,\"9??\",'Accounting Data'!$I$2:$I$100000,\"34??\",'Accounting Data'!$J$2:$J$100000,\"6???\")","v":{"v":0,"d":"0 "}},{"$f":"SUMIFS('Accounting Data'!$C$2:$C$100000,'Accounting Data'!$E$2:$E$100000,\"575\",'Accounting Data'!$H$2:$H$100000,\"7??\",'Accounting Data'!$I$2:$I$100000,\"34??\",'Accounting Data'!$J$2:$J$100000,\"69??\")+SUMIFS('Accounting Data'!$C$2:$C$100000,'Accounting Data'!$E$2:$E$100000,\"575\",'Accounting Data'!$H$2:$H$100000,\"8??\",'Accounting Data'!$I$2:$I$100000,\"34??\",'Accounting Data'!$J$2:$J$100000,\"69??\")+SUMIFS('Accounting Data'!$C$2:$C$100000,'Accounting Data'!$E$2:$E$100000,\"575\",'Accounting Data'!$H$2:$H$100000,\"9??\",'Accounting Data'!$I$2:$I$100000,\"34??\",'Accounting Data'!$J$2:$J$100000,\"69??\")","v":{"v":0,"d":"0 "}},{"$f":"SUMIFS('Accounting Data'!$C$2:$C$100000,'Accounting Data'!$E$2:$E$100000,\"8??\",'Accounting Data'!$H$2:$H$100000,\"7??\",'Accounting Data'!$I$2:$I$100000,\"34??\",'Accounting Data'!$J$2:$J$100000,\"69??\")+SUMIFS('Accounting Data'!$C$2:$C$100000,'Accounting Data'!$E$2:$E$100000,\"8??\",'Accounting Data'!$H$2:$H$100000,\"8??\",'Accounting Data'!$I$2:$I$100000,\"34??\",'Accounting Data'!$J$2:$J$100000,\"69??\")+SUMIFS('Accounting Data'!$C$2:$C$100000,'Accounting Data'!$E$2:$E$100000,\"8??\",'Accounting Data'!$H$2:$H$100000,\"9??\",'Accounting Data'!$I$2:$I$100000,\"34??\",'Accounting Data'!$J$2:$J$100000,\"69??\")+SUMIFS('Accounting Data'!$C$2:$C$100000,'Accounting Data'!$E$2:$E$100000,\"9??\",'Accounting Data'!$H$2:$H$100000,\"7??\",'Accounting Data'!$I$2:$I$100000,\"34??\",'Accounting Data'!$J$2:$J$100000,\"69??\")+SUMIFS('Accounting Data'!$C$2:$C$100000,'Accounting Data'!$E$2:$E$100000,\"9??\",'Accounting Data'!$H$2:$H$100000,\"8??\",'Accounting Data'!$I$2:$I$100000,\"34??\",'Accounting Data'!$J$2:$J$100000,\"69??\")+SUMIFS('Accounting Data'!$C$2:$C$100000,'Accounting Data'!$E$2:$E$100000,\"9??\",'Accounting Data'!$H$2:$H$100000,\"9??\",'Accounting Data'!$I$2:$I$100000,\"34??\",'Accounting Data'!$J$2:$J$100000,\"69??\")","v":{"v":0,"d":"0 "}}]
["Total (lines 1-12)","13.",{"$f":"SUM(C10:C23)","v":{"v":281577,"d":"281,577 "}},{"$f":"SUM(D10:D23)","v":{"v":99590,"d":"99,590 "}},{"v":256498,"d":"256,498 "},{"v":35728,"d":"35,728 "},{"v":11444,"d":"11,444 "},{"v":0,"d":"0 "},{"v":0,"d":"0 "},null,{"$f":"SUM(K10:K23)","v":{"v":0,"d":"0 "}},{"$f":"SUM(L10:L23)","v":{"v":961,"d":"961 "}},{"$f":"SUM(M10:M23)","v":{"v":0,"d":"0 "}},{"$f":"SUM(N10:N23)","v":{"v":685798,"d":"685,798 "}},"13.",{"$nulls":3},"6600",{"$f":"SUMIFS('Accounting Data'!$C$2:$C$100000,'Accounting Data'!$E$2:$E$100000,\"378\",'Accounting Data'!$I$2:$I$100000,\"1???\",'Accounting Data'!$J$2:$J$100000,\"66??\")+SUMIFS('Accounting Data'!$C$2:$C$100000,'Accounting Data'!$E$2:$E$100000,\"378\",'Accounting Data'!$I$2:$I$100000,\"2???\",'Accounting Data'!$J$2:$J$100000,\"66??\")+SUMIFS('Accounting Data'!$C$2:$C$100000,'Accounting Data'!$E$2:$E$100000,\"378\",'Accounting Data'!$I$2:$I$100000,\"3???\",'Accounting Data'!$J$2:$J$100000,\"66??\")","v":{"v":0,"d":"0 "}},{"v":0,"d":"0 "},{"v":0,"d":"0 "},{"v":0,"d":"0 "},null,null,3400,{"$f":"SUMIFS('Accounting Data'!C2:C100000,'Accounting Data'!I2:I100000,\"34??\",'Accounting Data'!J2:J100000,\"61??\")","v":{"v":0,"d":"0 "}},{"$f":"SUMIFS('Accounting Data'!C2:C100000,'Accounting Data'!E2:E100000,\"575\",'Accounting Data'!I2:I100000,\"34??\",'Accounting Data'!J2:J100000,\"61??\")+SUMIFS('Accounting Data'!C2:C100000,'Accounting Data'!E2:E100000,\"8??\",'Accounting Data'!I2:I100000,\"34??\",'Accounting Data'!J2:J100000,\"61??\")+SUMIFS('Accounting Data'!C2:C100000,'Accounting Data'!E2:E100000,\"9??\",'Accounting Data'!I2:I100000,\"34??\",'Accounting Data'!J2:J100000,\"61??\")","v":{"v":0,"d":"0 "}},{"$f":"SUMIFS('Accounting Data'!C2:C100000,'Accounting Data'!H2:H100000,\"7??\",'Accounting Data'!I2:I100000,\"34??\",'Accounting Data'!J2:J100000,\"61??\")+SUMIFS('Accounting Data'!C2:C100000,'Accounting Data'!H2:H100000,\"8??\",'Accounting Data'!I2:I100000,\"34??\",'Accounting Data'!J2:J100000,\"61??\")+SUMIFS('Accounting Data'!C2:C100000,'Accounting Data'!H2:H100000,\"9??\",'Accounting Data'!I2:I100000,\"34??\",'Accounting Data'!J2:J100000,\"61??\")","v":{"v":0,"d":"0 "}},{"$f":"SUMIFS('Accounting Data'!C2:C100000,'Accounting Data'!E2:E100000,\"575\",'Accounting Data'!H2:H100000,\"7??\",'Accounting Data'!I2:I100000,\"34??\",'Accounting Data'!J2:J100000,\"61??\")+SUMIFS('Accounting Data'!C2:C100000,'Accounting Data'!E2:E100000,\"575\",'Accounting Data'!H2:H100000,\"8??\",'Accounting Data'!I2:I100000,\"34??\",'Accounting Data'!J2:J100000,\"61??\")+SUMIFS('Accounting Data'!C2:C100000,'Accounting Data'!E2:E100000,\"575\",'Accounting Data'!H2:H100000,\"9??\",'Accounting Data'!I2:I100000,\"34??\",'Accounting Data'!J2:J100000,\"61??\")","v":{"v":0,"d":"0 "}},{"$f":"SUMIFS('Accounting Data'!C2:C100000,'Accounting Data'!E2:E100000,\"8??\",'Accounting Data'!H2:H100000,\"7??\",'Accounting Data'!I2:I100000,\"34??\",'Accounting Data'!J2:J100000,\"61??\")+SUMIFS('Accounting Data'!C2:C100000,'Accounting Data'!E2:E100000,\"8??\",'Accounting Data'!H2:H100000,\"8??\",'Accounting Data'!I2:I100000,\"34??\",'Accounting Data'!J2:J100000,\"61??\")+SUMIFS('Accounting Data'!C2:C100000,'Accounting Data'!E2:E100000,\"8??\",'Accounting Data'!H2:H100000,\"9??\",'Accounting Data'!I2:I100000,\"34??\",'Accounting Data'!J2:J100000,\"61??\")","v":{"v":0,"d":"0 "}},{"$f":"SUMIFS('Accounting Data'!C2:C100000,'Accounting Data'!E2:E100000,\"9??\",'Accounting Data'!H2:H100000,\"7??\",'Accounting Data'!I2:I100000,\"34??\",'Accounting Data'!J2:J100000,\"61??\")+SUMIFS('Accounting Data'!C2:C100000,'Accounting Data'!E2:E100000,\"9??\",'Accounting Data'!H2:H100000,\"8??\",'Accounting Data'!I2:I100000,\"34??\",'Accounting Data'!J2:J100000,\"61??\")+SUMIFS('Accounting Data'!C2:C100000,'Accounting Data'!E2:E100000,\"9??\",'Accounting Data'!H2:H100000,\"9??\",'Accounting Data'!I2:I100000,\"34??\",'Accounting Data'!J2:J100000,\"61??\")","v":{"v":0,"d":"0 "}},null,3400,{"$f":"SUMIFS('Accounting Data'!C2:C100000,'Accounting Data'!I2:I100000,\"34??\",'Accounting Data'!J2:J100000,\"62??\")","v":{"v":0,"d":"0 "}},{"$f":"SUMIFS('Accounting Data'!C2:C100000,'Accounting Data'!E2:E100000,\"575\",'Accounting Data'!I2:I100000,\"34??\",'Accounting Data'!J2:J100000,\"62??\")+SUMIFS('Accounting Data'!C2:C100000,'Accounting Data'!E2:E100000,\"8??\",'Accounting Data'!I2:I100000,\"34??\",'Accounting Data'!J2:J100000,\"62??\")+SUMIFS('Accounting Data'!C2:C100000,'Accounting Data'!E2:E100000,\"9??\",'Accounting Data'!I2:I100000,\"34??\",'Accounting Data'!J2:J100000,\"62??\")","v":{"v":0,"d":"0 "}},{"$f":"SUMIFS('Accounting Data'!C2:C100000,'Accounting Data'!H2:H100000,\"7??\",'Accounting Data'!I2:I100000,\"34??\",'Accounting Data'!J2:J100000,\"62??\")+SUMIFS('Accounting Data'!C2:C100000,'Accounting Data'!H2:H100000,\"8??\",'Accounting Data'!I2:I100000,\"34??\",'Accounting Data'!J2:J100000,\"62??\")+SUMIFS('Accounting Data'!C2:C100000,'Accounting Data'!H2:H100000,\"9??\",'Accounting Data'!I2:I100000,\"34??\",'Accounting Data'!J2:J100000,\"62??\")","v":{"v":0,"d":"0 "}},{"$f":"SUMIFS('Accounting Data'!C2:C100000,'Accounting Data'!E2:E100000,\"575\",'Accounting Data'!H2:H100000,\"7??\",'Accounting Data'!I2:I100000,\"34??\",'Accounting Data'!J2:J100000,\"62??\")+SUMIFS('Accounting Data'!C2:C100000,'Accounting Data'!E2:E100000,\"575\",'Accounting Data'!H2:H100000,\"8??\",'Accounting Data'!I2:I100000,\"34??\",'Accounting Data'!J2:J100000,\"62??\")+SUMIFS('Accounting Data'!C2:C100000,'Accounting Data'!E2:E100000,\"575\",'Accounting Data'!H2:H100000,\"9??\",'Accounting Data'!I2:I100000,\"34??\",'Accounting Data'!J2:J100000,\"62??\")","v":{"v":0,"d":"0 "}},{"$f":"SUMIFS('Accounting Data'!C2:C100000,'Accounting Data'!E2:E100000,\"8??\",'Accounting Data'!H2:H100000,\"7??\",'Accounting Data'!I2:I100000,\"34??\",'Accounting Data'!J2:J100000,\"62??\")+SUMIFS('Accounting Data'!C2:C100000,'Accounting Data'!E2:E100000,\"8??\",'Accounting Data'!H2:H100000,\"8??\",'Accounting Data'!I2:I100000,\"34??\",'Accounting Data'!J2:J100000,\"62??\")+SUMIFS('Accounting Data'!C2:C100000,'Accounting Data'!E2:E100000,\"8??\",'Accounting Data'!H2:H100000,\"9??\",'Accounting Data'!I2:I100000,\"34??\",'Accounting Data'!J2:J100000,\"62??\")","v":{"v":0,"d":"0 "}},{"$f":"SUMIFS('Accounting Data'!C2:C100000,'Accounting Data'!E2:E100000,\"9??\",'Accounting Data'!H2:H100000,\"7??\",'Accounting Data'!I2:I100000,\"34??\",'Accounting Data'!J2:J100000,\"62??\")+SUMIFS('Accounting Data'!C2:C100000,'Accounting Data'!E2:E100000,\"9??\",'Accounting Data'!H2:H100000,\"8??\",'Accounting Data'!I2:I100000,\"34??\",'Accounting Data'!J2:J100000,\"62??\")+SUMIFS('Accounting Data'!C2:C100000,'Accounting Data'!E2:E100000,\"9??\",'Accounting Data'!H2:H100000,\"9??\",'Accounting Data'!I2:I100000,\"34??\",'Accounting Data'!J2:J100000,\"62??\")","v":{"v":0,"d":"0 "}},null,3400,{"$f":"SUMIFS('Accounting Data'!C2:C100000,'Accounting Data'!I2:I100000,\"34??\",'Accounting Data'!J2:J100000,\"63??\")+SUMIFS('Accounting Data'!C2:C100000,'Accounting Data'!I2:I100000,\"34??\",'Accounting Data'!J2:J100000,\"64??\")+SUMIFS('Accounting Data'!C2:C100000,'Accounting Data'!I2:I100000,\"34??\",'Accounting Data'!J2:J100000,\"65??\")","v":{"v":0,"d":"0 "}},{"$f":"SUMIFS('Accounting Data'!C2:C100000,'Accounting Data'!E2:E100000,\"575\",'Accounting Data'!I2:I100000,\"34??\",'Accounting Data'!J2:J100000,\"63??\")+SUMIFS('Accounting Data'!C2:C100000,'Accounting Data'!E2:E100000,\"8??\",'Accounting Data'!I2:I100000,\"34??\",'Accounting Data'!J2:J100000,\"63??\")+SUMIFS('Accounting Data'!C2:C100000,'Accounting Data'!E2:E100000,\"9??\",'Accounting Data'!I2:I100000,\"34??\",'Accounting Data'!J2:J100000,\"63??\")","v":{"v":0,"d":"0 "}},{"$f":"SUMIFS('Accounting Data'!C2:C100000,'Accounting Data'!E2:E100000,\"575\",'Accounting Data'!I2:I100000,\"34??\",'Accounting Data'!J2:J100000,\"64??\")+SUMIFS('Accounting Data'!C2:C100000,'Accounting Data'!E2:E100000,\"8??\",'Accounting Data'!I2:I100000,\"34??\",'Accounting Data'!J2:J100000,\"64??\")+SUMIFS('Accounting Data'!C2:C100000,'Accounting Data'!E2:E100000,\"9??\",'Accounting Data'!I2:I100000,\"34??\",'Accounting Data'!J2:J100000,\"64??\")","v":{"v":0,"d":"0 "}},{"$f":"SUMIFS('Accounting Data'!C2:C100000,'Accounting Data'!E2:E100000,\"575\",'Accounting Data'!I2:I100000,\"34??\",'Accounting Data'!J2:J100000,\"65??\")+SUMIFS('Accounting Data'!C2:C100000,'Accounting Data'!E2:E100000,\"8??\",'Accounting Data'!I2:I100000,\"34??\",'Accounting Data'!J2:J100000,\"65??\")+SUMIFS('Accounting Data'!C2:C100000,'Accounting Data'!E2:E100000,\"9??\",'Accounting Data'!I2:I100000,\"34??\",'Accounting Data'!J2:J100000,\"65??\")","v":{"v":0,"d":"0 "}},{"$f":"SUMIFS('Accounting Data'!C2:C100000,'Accounting Data'!H2:H100000,\"7??\",'Accounting Data'!I2:I100000,\"34??\",'Accounting Data'!J2:J100000,\"63??\")+SUMIFS('Accounting Data'!C2:C100000,'Accounting Data'!H2:H100000,\"8??\",'Accounting Data'!I2:I100000,\"34??\",'Accounting Data'!J2:J100000,\"63??\")+SUMIFS('Accounting Data'!C2:C100000,'Accounting Data'!H2:H100000,\"9??\",'Accounting Data'!I2:I100000,\"34??\",'Accounting Data'!J2:J100000,\"63??\")+SUMIFS('Accounting Data'!C2:C100000,'Accounting Data'!H2:H100000,\"7??\",'Accounting Data'!I2:I100000,\"34??\",'Accounting Data'!J2:J100000,\"64??\")+SUMIFS('Accounting Data'!C2:C100000,'Accounting Data'!H2:H100000,\"8??\",'Accounting Data'!I2:I100000,\"34??\",'Accounting Data'!J2:J100000,\"64??\")+SUMIFS('Accounting Data'!C2:C100000,'Accounting Data'!H2:H100000,\"9??\",'Accounting Data'!I2:I100000,\"34??\",'Accounting Data'!J2:J100000,\"64??\")+SUMIFS('Accounting Data'!C2:C100000,'Accounting Data'!H2:H100000,\"7??\",'Accounting Data'!I2:I100000,\"34??\",'Accounting Data'!J2:J100000,\"65??\")+SUMIFS('Accounting Data'!C2:C100000,'Accounting Data'!H2:H100000,\"8??\",'Accounting Data'!I2:I100000,\"34??\",'Accounting Data'!J2:J100000,\"65??\")+SUMIFS('Accounting Data'!C2:C100000,'Accounting Data'!H2:H100000,\"9??\",'Accounting Data'!I2:I100000,\"34??\",'Accounting Data'!J2:J100000,\"65??\")","v":{"v":0,"d":"0 "}},{"$f":"SUMIFS('Accounting Data'!C2:C100000,'Accounting Data'!E2:E100000,\"575\",'Accounting Data'!H2:H100000,\"7??\",'Accounting Data'!I2:I100000,\"34??\",'Accounting Data'!J2:J100000,\"63??\")+SUMIFS('Accounting Data'!C2:C100000,'Accounting Data'!E2:E100000,\"575\",'Accounting Data'!H2:H100000,\"8??\",'Accounting Data'!I2:I100000,\"34??\",'Accounting Data'!J2:J100000,\"63??\")+SUMIFS('Accounting Data'!C2:C100000,'Accounting Data'!E2:E100000,\"575\",'Accounting Data'!H2:H100000,\"9??\",'Accounting Data'!I2:I100000,\"34??\",'Accounting Data'!J2:J100000,\"63??\")","v":{"v":0,"d":"0 "}},{"$f":"SUMIFS('Accounting Data'!C2:C100000,'Accounting Data'!E2:E100000,\"575\",'Accounting Data'!H2:H100000,\"7??\",'Accounting Data'!I2:I100000,\"34??\",'Accounting Data'!J2:J100000,\"64??\")+SUMIFS('Accounting Data'!C2:C100000,'Accounting Data'!E2:E100000,\"575\",'Accounting Data'!H2:H100000,\"8??\",'Accounting Data'!I2:I100000,\"34??\",'Accounting Data'!J2:J100000,\"64??\")+SUMIFS('Accounting Data'!C2:C100000,'Accounting Data'!E2:E100000,\"575\",'Accounting Data'!H2:H100000,\"9??\",'Accounting Data'!I2:I100000,\"34??\",'Accounting Data'!J2:J100000,\"64??\")","v":{"v":0,"d":"0 "}},{"$f":"SUMIFS('Accounting Data'!C2:C100000,'Accounting Data'!E2:E100000,\"575\",'Accounting Data'!H2:H100000,\"7??\",'Accounting Data'!I2:I100000,\"34??\",'Accounting Data'!J2:J100000,\"65??\")+SUMIFS('Accounting Data'!C2:C100000,'Accounting Data'!E2:E100000,\"575\",'Accounting Data'!H2:H100000,\"8??\",'Accounting Data'!I2:I100000,\"34??\",'Accounting Data'!J2:J100000,\"65??\")+SUMIFS('Accounting Data'!C2:C100000,'Accounting Data'!E2:E100000,\"575\",'Accounting Data'!H2:H100000,\"9??\",'Accounting Data'!I2:I100000,\"34??\",'Accounting Data'!J2:J100000,\"65??\")","v":{"v":0,"d":"0 "}},{"$f":"SUMIFS('Accounting Data'!C2:C100000,'Accounting Data'!E2:E100000,\"8??\",'Accounting Data'!H2:H100000,\"7??\",'Accounting Data'!I2:I100000,\"34??\",'Accounting Data'!J2:J100000,\"63??\")+SUMIFS('Accounting Data'!C2:C100000,'Accounting Data'!E2:E100000,\"8??\",'Accounting Data'!H2:H100000,\"8??\",'Accounting Data'!I2:I100000,\"34??\",'Accounting Data'!J2:J100000,\"63??\")+SUMIFS('Accounting Data'!C2:C100000,'Accounting Data'!E2:E100000,\"8??\",'Accounting Data'!H2:H100000,\"9??\",'Accounting Data'!I2:I100000,\"34??\",'Accounting Data'!J2:J100000,\"63??\")","v":{"v":0,"d":"0 "}},{"$f":"SUMIFS('Accounting Data'!C2:C100000,'Accounting Data'!E2:E100000,\"8??\",'Accounting Data'!H2:H100000,\"7??\",'Accounting Data'!I2:I100000,\"34??\",'Accounting Data'!J2:J100000,\"64??\")+SUMIFS('Accounting Data'!C2:C100000,'Accounting Data'!E2:E100000,\"8??\",'Accounting Data'!H2:H100000,\"8??\",'Accounting Data'!I2:I100000,\"34??\",'Accounting Data'!J2:J100000,\"64??\")+SUMIFS('Accounting Data'!C2:C100000,'Accounting Data'!E2:E100000,\"8??\",'Accounting Data'!H2:H100000,\"9??\",'Accounting Data'!I2:I100000,\"34??\",'Accounting Data'!J2:J100000,\"64??\")","v":{"v":0,"d":"0 "}},{"$f":"SUMIFS('Accounting Data'!C2:C100000,'Accounting Data'!E2:E100000,\"8??\",'Accounting Data'!H2:H100000,\"7??\",'Accounting Data'!I2:I100000,\"34??\",'Accounting Data'!J2:J100000,\"65??\")+SUMIFS('Accounting Data'!C2:C100000,'Accounting Data'!E2:E100000,\"8??\",'Accounting Data'!H2:H100000,\"8??\",'Accounting Data'!I2:I100000,\"34??\",'Accounting Data'!J2:J100000,\"65??\")+SUMIFS('Accounting Data'!C2:C100000,'Accounting Data'!E2:E100000,\"8??\",'Accounting Data'!H2:H100000,\"9??\",'Accounting Data'!I2:I100000,\"34??\",'Accounting Data'!J2:J100000,\"65??\")","v":{"v":0,"d":"0 "}},{"$f":"SUMIFS('Accounting Data'!C2:C100000,'Accounting Data'!E2:E100000,\"9??\",'Accounting Data'!H2:H100000,\"7??\",'Accounting Data'!I2:I100000,\"34??\",'Accounting Data'!J2:J100000,\"63??\")+SUMIFS('Accounting Data'!C2:C100000,'Accounting Data'!E2:E100000,\"9??\",'Accounting Data'!H2:H100000,\"8??\",'Accounting Data'!I2:I100000,\"34??\",'Accounting Data'!J2:J100000,\"63??\")+SUMIFS('Accounting Data'!C2:C100000,'Accounting Data'!E2:E100000,\"9??\",'Accounting Data'!H2:H100000,\"9??\",'Accounting Data'!I2:I100000,\"34??\",'Accounting Data'!J2:J100000,\"63??\")","v":{"v":0,"d":"0 "}},{"$f":"SUMIFS('Accounting Data'!C2:C100000,'Accounting Data'!E2:E100000,\"9??\",'Accounting Data'!H2:H100000,\"7??\",'Accounting Data'!I2:I100000,\"34??\",'Accounting Data'!J2:J100000,\"64??\")+SUMIFS('Accounting Data'!C2:C100000,'Accounting Data'!E2:E100000,\"9??\",'Accounting Data'!H2:H100000,\"8??\",'Accounting Data'!I2:I100000,\"34??\",'Accounting Data'!J2:J100000,\"64??\")+SUMIFS('Accounting Data'!C2:C100000,'Accounting Data'!E2:E100000,\"9??\",'Accounting Data'!H2:H100000,\"9??\",'Accounting Data'!I2:I100000,\"34??\",'Accounting Data'!J2:J100000,\"64??\")","v":{"v":0,"d":"0 "}},{"$f":"SUMIFS('Accounting Data'!C2:C100000,'Accounting Data'!E2:E100000,\"9??\",'Accounting Data'!H2:H100000,\"7??\",'Accounting Data'!I2:I100000,\"34??\",'Accounting Data'!J2:J100000,\"65??\")+SUMIFS('Accounting Data'!C2:C100000,'Accounting Data'!E2:E100000,\"9??\",'Accounting Data'!H2:H100000,\"8??\",'Accounting Data'!I2:I100000,\"34??\",'Accounting Data'!J2:J100000,\"65??\")+SUMIFS('Accounting Data'!C2:C100000,'Accounting Data'!E2:E100000,\"9??\",'Accounting Data'!H2:H100000,\"9??\",'Accounting Data'!I2:I100000,\"34??\",'Accounting Data'!J2:J100000,\"65??\")","v":{"v":0,"d":"0 "}},null,3400,{"$f":"SUMIFS('Accounting Data'!C2:C100000,'Accounting Data'!I2:I100000,\"34??\",'Accounting Data'!J2:J100000,\"66??\")","v":{"v":0,"d":"0 "}},{"$f":"SUMIFS('Accounting Data'!$C$2:$C$100000,'Accounting Data'!$E$2:$E$100000,\"575\",'Accounting Data'!$I$2:$I$100000,\"34??\",'Accounting Data'!$J$2:$J$100000,\"66??\")+SUMIFS('Accounting Data'!$C$2:$C$100000,'Accounting Data'!$E$2:$E$100000,\"8??\",'Accounting Data'!$I$2:$I$100000,\"34??\",'Accounting Data'!$J$2:$J$100000,\"66??\")+SUMIFS('Accounting Data'!$C$2:$C$100000,'Accounting Data'!$E$2:$E$100000,\"9??\",'Accounting Data'!$I$2:$I$100000,\"34??\",'Accounting Data'!$J$2:$J$100000,\"66??\")","v":{"v":0,"d":"0 "}},{"$f":"SUMIFS('Accounting Data'!$C$2:$C$100000,'Accounting Data'!$H$2:$H$100000,\"7??\",'Accounting Data'!$I$2:$I$100000,\"34??\",'Accounting Data'!$J$2:$J$100000,\"66??\")+SUMIFS('Accounting Data'!$C$2:$C$100000,'Accounting Data'!$H$2:$H$100000,\"8??\",'Accounting Data'!$I$2:$I$100000,\"34??\",'Accounting Data'!$J$2:$J$100000,\"66??\")+SUMIFS('Accounting Data'!$C$2:$C$100000,'Accounting Data'!$H$2:$H$100000,\"9??\",'Accounting Data'!$I$2:$I$100000,\"34??\",'Accounting Data'!$J$2:$J$100000,\"66??\")","v":{"v":0,"d":"0 "}},{"$f":"SUMIFS('Accounting Data'!$C$2:$C$100000,'Accounting Data'!$E$2:$E$100000,\"575\",'Accounting Data'!$H$2:$H$100000,\"7??\",'Accounting Data'!$I$2:$I$100000,\"34??\",'Accounting Data'!$J$2:$J$100000,\"66??\")+SUMIFS('Accounting Data'!$C$2:$C$100000,'Accounting Data'!$E$2:$E$100000,\"575\",'Accounting Data'!$H$2:$H$100000,\"8??\",'Accounting Data'!$I$2:$I$100000,\"34??\",'Accounting Data'!$J$2:$J$100000,\"66??\")+SUMIFS('Accounting Data'!$C$2:$C$100000,'Accounting Data'!$E$2:$E$100000,\"575\",'Accounting Data'!$H$2:$H$100000,\"9??\",'Accounting Data'!$I$2:$I$100000,\"34??\",'Accounting Data'!$J$2:$J$100000,\"66??\")","v":{"v":0,"d":"0 "}},{"$f":"SUMIFS('Accounting Data'!$C$2:$C$100000,'Accounting Data'!$E$2:$E$100000,\"8??\",'Accounting Data'!$H$2:$H$100000,\"7??\",'Accounting Data'!$I$2:$I$100000,\"34??\",'Accounting Data'!$J$2:$J$100000,\"66??\")+SUMIFS('Accounting Data'!$C$2:$C$100000,'Accounting Data'!$E$2:$E$100000,\"8??\",'Accounting Data'!$H$2:$H$100000,\"8??\",'Accounting Data'!$I$2:$I$100000,\"34??\",'Accounting Data'!$J$2:$J$100000,\"66??\")+SUMIFS('Accounting Data'!$C$2:$C$100000,'Accounting Data'!$E$2:$E$100000,\"8??\",'Accounting Data'!$H$2:$H$100000,\"9??\",'Accounting Data'!$I$2:$I$100000,\"34??\",'Accounting Data'!$J$2:$J$100000,\"66??\")","v":{"v":0,"d":"0 "}},{"$f":"SUMIFS('Accounting Data'!$C$2:$C$100000,'Accounting Data'!$E$2:$E$100000,\"9??\",'Accounting Data'!$H$2:$H$100000,\"7??\",'Accounting Data'!$I$2:$I$100000,\"34??\",'Accounting Data'!$J$2:$J$100000,\"66??\")+SUMIFS('Accounting Data'!$C$2:$C$100000,'Accounting Data'!$E$2:$E$100000,\"9??\",'Accounting Data'!$H$2:$H$100000,\"8??\",'Accounting Data'!$I$2:$I$100000,\"34??\",'Accounting Data'!$J$2:$J$100000,\"66??\")+SUMIFS('Accounting Data'!$C$2:$C$100000,'Accounting Data'!$E$2:$E$100000,\"9??\",'Accounting Data'!$H$2:$H$100000,\"9??\",'Accounting Data'!$I$2:$I$100000,\"34??\",'Accounting Data'!$J$2:$J$100000,\"66??\")","v":{"v":0,"d":"0 "}},null,3400,{"$f":"SUMIFS('Accounting Data'!C2:C100000,'Accounting Data'!I2:I100000,\"34??\",'Accounting Data'!J2:J100000,\"67??\")","v":{"v":0,"d":"0 "}},{"$f":"SUMIFS('Accounting Data'!$C$2:$C$100000,'Accounting Data'!$E$2:$E$100000,\"575\",'Accounting Data'!$I$2:$I$100000,\"34??\",'Accounting Data'!$J$2:$J$100000,\"67??\")+SUMIFS('Accounting Data'!$C$2:$C$100000,'Accounting Data'!$E$2:$E$100000,\"8??\",'Accounting Data'!$I$2:$I$100000,\"34??\",'Accounting Data'!$J$2:$J$100000,\"67??\")+SUMIFS('Accounting Data'!$C$2:$C$100000,'Accounting Data'!$E$2:$E$100000,\"9??\",'Accounting Data'!$I$2:$I$100000,\"34??\",'Accounting Data'!$J$2:$J$100000,\"67??\")","v":{"v":0,"d":"0 "}},{"$f":"SUMIFS('Accounting Data'!$C$2:$C$100000,'Accounting Data'!$H$2:$H$100000,\"7??\",'Accounting Data'!$I$2:$I$100000,\"34??\",'Accounting Data'!$J$2:$J$100000,\"67??\")+SUMIFS('Accounting Data'!$C$2:$C$100000,'Accounting Data'!$H$2:$H$100000,\"8??\",'Accounting Data'!$I$2:$I$100000,\"34??\",'Accounting Data'!$J$2:$J$100000,\"67??\")+SUMIFS('Accounting Data'!$C$2:$C$100000,'Accounting Data'!$H$2:$H$100000,\"9??\",'Accounting Data'!$I$2:$I$100000,\"34??\",'Accounting Data'!$J$2:$J$100000,\"67??\")","v":{"v":0,"d":"0 "}},{"$f":"SUMIFS('Accounting Data'!$C$2:$C$100000,'Accounting Data'!$E$2:$E$100000,\"575\",'Accounting Data'!$H$2:$H$100000,\"7??\",'Accounting Data'!$I$2:$I$100000,\"34??\",'Accounting Data'!$J$2:$J$100000,\"67??\")+SUMIFS('Accounting Data'!$C$2:$C$100000,'Accounting Data'!$E$2:$E$100000,\"575\",'Accounting Data'!$H$2:$H$100000,\"8??\",'Accounting Data'!$I$2:$I$100000,\"34??\",'Accounting Data'!$J$2:$J$100000,\"67??\")+SUMIFS('Accounting Data'!$C$2:$C$100000,'Accounting Data'!$E$2:$E$100000,\"575\",'Accounting Data'!$H$2:$H$100000,\"9??\",'Accounting Data'!$I$2:$I$100000,\"34??\",'Accounting Data'!$J$2:$J$100000,\"67??\")","v":{"v":0,"d":"0 "}},{"$f":"SUMIFS('Accounting Data'!$C$2:$C$100000,'Accounting Data'!$E$2:$E$100000,\"8??\",'Accounting Data'!$H$2:$H$100000,\"7??\",'Accounting Data'!$I$2:$I$100000,\"34??\",'Accounting Data'!$J$2:$J$100000,\"67??\")+SUMIFS('Accounting Data'!$C$2:$C$100000,'Accounting Data'!$E$2:$E$100000,\"8??\",'Accounting Data'!$H$2:$H$100000,\"8??\",'Accounting Data'!$I$2:$I$100000,\"34??\",'Accounting Data'!$J$2:$J$100000,\"67??\")+SUMIFS('Accounting Data'!$C$2:$C$100000,'Accounting Data'!$E$2:$E$100000,\"8??\",'Accounting Data'!$H$2:$H$100000,\"9??\",'Accounting Data'!$I$2:$I$100000,\"34??\",'Accounting Data'!$J$2:$J$100000,\"67??\")","v":{"v":0,"d":"0 "}},{"$f":"SUMIFS('Accounting Data'!$C$2:$C$100000,'Accounting Data'!$E$2:$E$100000,\"9??\",'Accounting Data'!$H$2:$H$100000,\"7??\",'Accounting Data'!$I$2:$I$100000,\"34??\",'Accounting Data'!$J$2:$J$100000,\"67??\")+SUMIFS('Accounting Data'!$C$2:$C$100000,'Accounting Data'!$E$2:$E$100000,\"9??\",'Accounting Data'!$H$2:$H$100000,\"8??\",'Accounting Data'!$I$2:$I$100000,\"34??\",'Accounting Data'!$J$2:$J$100000,\"67??\")+SUMIFS('Accounting Data'!$C$2:$C$100000,'Accounting Data'!$E$2:$E$100000,\"9??\",'Accounting Data'!$H$2:$H$100000,\"9??\",'Accounting Data'!$I$2:$I$100000,\"34??\",'Accounting Data'!$J$2:$J$100000,\"67??\")","v":{"v":0,"d":"0 "}},null,3400,{"$f":"SUMIFS('Accounting Data'!C2:C100000,'Accounting Data'!I2:I100000,\"34??\",'Accounting Data'!J2:J100000,\"681?\")","v":{"v":0,"d":"0 "}},{"$f":"SUMIFS('Accounting Data'!$C$2:$C$100000,'Accounting Data'!$E$2:$E$100000,\"575\",'Accounting Data'!$I$2:$I$100000,\"34??\",'Accounting Data'!$J$2:$J$100000,\"681?\")+SUMIFS('Accounting Data'!$C$2:$C$100000,'Accounting Data'!$E$2:$E$100000,\"8??\",'Accounting Data'!$I$2:$I$100000,\"34??\",'Accounting Data'!$J$2:$J$100000,\"681?\")+SUMIFS('Accounting Data'!$C$2:$C$100000,'Accounting Data'!$E$2:$E$100000,\"9??\",'Accounting Data'!$I$2:$I$100000,\"34??\",'Accounting Data'!$J$2:$J$100000,\"681?\")","v":{"v":0,"d":"0 "}},{"$f":"SUMIFS('Accounting Data'!$C$2:$C$100000,'Accounting Data'!$H$2:$H$100000,\"7??\",'Accounting Data'!$I$2:$I$100000,\"34??\",'Accounting Data'!$J$2:$J$100000,\"681?\")+SUMIFS('Accounting Data'!$C$2:$C$100000,'Accounting Data'!$H$2:$H$100000,\"8??\",'Accounting Data'!$I$2:$I$100000,\"34??\",'Accounting Data'!$J$2:$J$100000,\"681?\")+SUMIFS('Accounting Data'!$C$2:$C$100000,'Accounting Data'!$H$2:$H$100000,\"9??\",'Accounting Data'!$I$2:$I$100000,\"34??\",'Accounting Data'!$J$2:$J$100000,\"681?\")","v":{"v":0,"d":"0 "}},{"$f":"SUMIFS('Accounting Data'!$C$2:$C$100000,'Accounting Data'!$E$2:$E$100000,\"575\",'Accounting Data'!$H$2:$H$100000,\"7??\",'Accounting Data'!$I$2:$I$100000,\"34??\",'Accounting Data'!$J$2:$J$100000,\"681?\")+SUMIFS('Accounting Data'!$C$2:$C$100000,'Accounting Data'!$E$2:$E$100000,\"575\",'Accounting Data'!$H$2:$H$100000,\"8??\",'Accounting Data'!$I$2:$I$100000,\"34??\",'Accounting Data'!$J$2:$J$100000,\"681?\")+SUMIFS('Accounting Data'!$C$2:$C$100000,'Accounting Data'!$E$2:$E$100000,\"575\",'Accounting Data'!$H$2:$H$100000,\"9??\",'Accounting Data'!$I$2:$I$100000,\"34??\",'Accounting Data'!$J$2:$J$100000,\"681?\")","v":{"v":0,"d":"0 "}},{"$f":"SUMIFS('Accounting Data'!$C$2:$C$100000,'Accounting Data'!$E$2:$E$100000,\"8??\",'Accounting Data'!$H$2:$H$100000,\"7??\",'Accounting Data'!$I$2:$I$100000,\"34??\",'Accounting Data'!$J$2:$J$100000,\"681?\")+SUMIFS('Accounting Data'!$C$2:$C$100000,'Accounting Data'!$E$2:$E$100000,\"8??\",'Accounting Data'!$H$2:$H$100000,\"8??\",'Accounting Data'!$I$2:$I$100000,\"34??\",'Accounting Data'!$J$2:$J$100000,\"681?\")+SUMIFS('Accounting Data'!$C$2:$C$100000,'Accounting Data'!$E$2:$E$100000,\"8??\",'Accounting Data'!$H$2:$H$100000,\"9??\",'Accounting Data'!$I$2:$I$100000,\"34??\",'Accounting Data'!$J$2:$J$100000,\"681?\")","v":{"v":0,"d":"0 "}},{"$f":"SUMIFS('Accounting Data'!$C$2:$C$100000,'Accounting Data'!$E$2:$E$100000,\"9??\",'Accounting Data'!$H$2:$H$100000,\"7??\",'Accounting Data'!$I$2:$I$100000,\"34??\",'Accounting Data'!$J$2:$J$100000,\"681?\")+SUMIFS('Accounting Data'!$C$2:$C$100000,'Accounting Data'!$E$2:$E$100000,\"9??\",'Accounting Data'!$H$2:$H$100000,\"8??\",'Accounting Data'!$I$2:$I$100000,\"34??\",'Accounting Data'!$J$2:$J$100000,\"681?\")+SUMIFS('Accounting Data'!$C$2:$C$100000,'Accounting Data'!$E$2:$E$100000,\"9??\",'Accounting Data'!$H$2:$H$100000,\"9??\",'Accounting Data'!$I$2:$I$100000,\"34??\",'Accounting Data'!$J$2:$J$100000,\"681?\")","v":{"v":0,"d":"0 "}},{"$nulls":17},3400,{"$f":"SUMIFS('Accounting Data'!C2:C100000,'Accounting Data'!I2:I100000,\"34??\",'Accounting Data'!J2:J100000,\"689?\")","v":{"v":0,"d":"0 "}},{"$f":"SUMIFS('Accounting Data'!$C$2:$C$100000,'Accounting Data'!$E$2:$E$100000,\"575\",'Accounting Data'!$I$2:$I$100000,\"34??\",'Accounting Data'!$J$2:$J$100000,\"689?\")+SUMIFS('Accounting Data'!$C$2:$C$100000,'Accounting Data'!$E$2:$E$100000,\"8??\",'Accounting Data'!$I$2:$I$100000,\"34??\",'Accounting Data'!$J$2:$J$100000,\"689?\")+SUMIFS('Accounting Data'!$C$2:$C$100000,'Accounting Data'!$E$2:$E$100000,\"9??\",'Accounting Data'!$I$2:$I$100000,\"34??\",'Accounting Data'!$J$2:$J$100000,\"689?\")","v":{"v":0,"d":"0 "}},{"$f":"SUMIFS('Accounting Data'!$C$2:$C$100000,'Accounting Data'!$H$2:$H$100000,\"7??\",'Accounting Data'!$I$2:$I$100000,\"34??\",'Accounting Data'!$J$2:$J$100000,\"689?\")+SUMIFS('Accounting Data'!$C$2:$C$100000,'Accounting Data'!$H$2:$H$100000,\"8??\",'Accounting Data'!$I$2:$I$100000,\"34??\",'Accounting Data'!$J$2:$J$100000,\"689?\")+SUMIFS('Accounting Data'!$C$2:$C$100000,'Accounting Data'!$H$2:$H$100000,\"9??\",'Accounting Data'!$I$2:$I$100000,\"34??\",'Accounting Data'!$J$2:$J$100000,\"689?\")","v":{"v":0,"d":"0 "}},{"$f":"SUMIFS('Accounting Data'!$C$2:$C$100000,'Accounting Data'!$E$2:$E$100000,\"575\",'Accounting Data'!$H$2:$H$100000,\"7??\",'Accounting Data'!$I$2:$I$100000,\"34??\",'Accounting Data'!$J$2:$J$100000,\"689?\")+SUMIFS('Accounting Data'!$C$2:$C$100000,'Accounting Data'!$E$2:$E$100000,\"575\",'Accounting Data'!$H$2:$H$100000,\"8??\",'Accounting Data'!$I$2:$I$100000,\"34??\",'Accounting Data'!$J$2:$J$100000,\"689?\")+SUMIFS('Accounting Data'!$C$2:$C$100000,'Accounting Data'!$E$2:$E$100000,\"575\",'Accounting Data'!$H$2:$H$100000,\"9??\",'Accounting Data'!$I$2:$I$100000,\"34??\",'Accounting Data'!$J$2:$J$100000,\"689?\")","v":{"v":0,"d":"0 "}},{"$f":"SUMIFS('Accounting Data'!$C$2:$C$100000,'Accounting Data'!$E$2:$E$100000,\"8??\",'Accounting Data'!$H$2:$H$100000,\"7??\",'Accounting Data'!$I$2:$I$100000,\"34??\",'Accounting Data'!$J$2:$J$100000,\"689?\")+SUMIFS('Accounting Data'!$C$2:$C$100000,'Accounting Data'!$E$2:$E$100000,\"8??\",'Accounting Data'!$H$2:$H$100000,\"8??\",'Accounting Data'!$I$2:$I$100000,\"34??\",'Accounting Data'!$J$2:$J$100000,\"689?\")+SUMIFS('Accounting Data'!$C$2:$C$100000,'Accounting Data'!$E$2:$E$100000,\"8??\",'Accounting Data'!$H$2:$H$100000,\"9??\",'Accounting Data'!$I$2:$I$100000,\"34??\",'Accounting Data'!$J$2:$J$100000,\"689?\")","v":{"v":0,"d":"0 "}},{"$f":"SUMIFS('Accounting Data'!$C$2:$C$100000,'Accounting Data'!$E$2:$E$100000,\"9??\",'Accounting Data'!$H$2:$H$100000,\"7??\",'Accounting Data'!$I$2:$I$100000,\"34??\",'Accounting Data'!$J$2:$J$100000,\"689?\")+SUMIFS('Accounting Data'!$C$2:$C$100000,'Accounting Data'!$E$2:$E$100000,\"9??\",'Accounting Data'!$H$2:$H$100000,\"8??\",'Accounting Data'!$I$2:$I$100000,\"34??\",'Accounting Data'!$J$2:$J$100000,\"689?\")+SUMIFS('Accounting Data'!$C$2:$C$100000,'Accounting Data'!$E$2:$E$100000,\"9??\",'Accounting Data'!$H$2:$H$100000,\"9??\",'Accounting Data'!$I$2:$I$100000,\"34??\",'Accounting Data'!$J$2:$J$100000,\"689?\")","v":{"v":0,"d":"0 "}}]
["From Federal Funds","14.",{"$f":"(AA31+AB31+AC31)-(AD31+AE31+AF31+AG31+AH31+AI31+AJ31+AK31+AL31)-W19+IF(S10>0,IF(SUM(C20,D20,E20,S10,G20,H20,L20)>0,(T14)*(C20/(C20+D20+E20+S10+G20+H20+L20))),IF(SUM(C20,D20,E20,G20,H20,L20)>0,(T14)*(C20/(C20+D20+E20+G20+H20+L20)),0))","v":{"v":95857,"d":"95,857 "}},{"$f":"(AA32+AB32+AC32)-(AD32+AE32+AF32+AG32+AH32+AI32+AJ32+AK32+AL32)-W20+IF(S10>0,IF(SUM(C20,D20,E20,S10,G20,H20,L20)>0,(T14)*(D20/(C20+D20+E20+S10+G20+H20+L20))),IF(SUM(C20,D20,E20,G20,H20,L20)>0,(T14)*(D20/(C20+D20+E20+G20+H20+L20)),0))","v":{"v":49297,"d":"49,297 "}},{"$f":"(SUM(AA33:AA35)+SUM(AB33:AB35)+SUM(AC33:AC35))-(SUM(AD33:AD35)+SUM(AE33:AE35)+SUM(AF33:AF35)+SUM(AG33:AG35)+SUM(AH33:AH35)+SUM(AI33:AI35)+SUM(AJ33:AJ35)+SUM(AK33:AK35)+SUM(AL33:AL35))-W21-W22-W23+IF(S10>0,IF(SUM(C20,D20,E20,S10,G20,H20,L20)>0,(T14)*(E20/(C20+D20+E20+S10+G20+H20+L20))),IF(SUM(C20,D20,E20,G20,H20,L20)>0,(T14)*(E20/(C20+D20+E20+G20+H20+L20)),0))","v":{"v":24564,"d":"24,564 "}},{"$f":"(AA36+AB36+AC36)-(AD36+AE36+AF36+AG36+AH36+AI36+AJ36+AK36+AL36)-W24+IF(S10>0,#REF!,F20)+IF(AND(SUM(C20,D20,E20,S10,G20,H20,L20)>0,S10>0),(T14)*(S10/(C20+D20+E20+S10+G20+H20+L20)))","v":{"v":6817,"d":"6,817 "}},{"$f":"(AA37+AB37+AC37)-(AD37+AE37+AF37+AG37+AH37+AI37+AJ37+AK37+AL37)-W25+IF(S10>0,IF(SUM(C20,D20,E20,S10,G20,H20,L20)>0,(T14)*(G20/(C20+D20+E20+S10+G20+H20+L20))),IF(SUM(C20,D20,E20,G20,H20,L20)>0,(T14)*(G20/(C20+D20+E20+G20+H20+L20)),0))","v":{"v":0,"d":"0 "}},{"$f":"(AA38+AB38+AC38)-(AD38+AE38+AF38+AG38+AH38+AI38+AJ38+AK38+AL38)-W26+IF(S10>0,IF(SUM(C20,D20,E20,S10,G20,H20,L20)>0,(T14)*(H20/(C20+D20+E20+S10+G20+H20+L20))),IF(SUM(C20,D20,E20,G20,H20,L20)>0,(T14)*(H20/(C20+D20+E20+G20+H20+L20)),0))","v":{"v":0,"d":"0 "}},{"$f":"AA53-AC53-AE53-AG53","v":{"v":0,"d":"0 "}},null,{"$f":"AA55-AC55-AE55-AG55","v":{"v":0,"d":"0 "}},{"$f":"(AA39+AB39+AC39)-(AD39+AE39+AF39+AG39+AH39+AI39+AJ39+AK39+AL39)-W27+IF(S10>0,IF(SUM(C20,D20,E20,S10,G20,H20,L20)>0,(T14)*(L20/(C20+D20+E20+S10+G20+H20+L20))),IF(SUM(C20,D20,E20,G20,H20,L20)>0,(T14)*(L20/(C20+D20+E20+G20+H20+L20)),0))","v":{"v":0,"d":"0 "}},{"$f":"SUM(AA43:AI43)-SUM(AA44:AI44)","v":{"v":0,"d":"0 "}},{"$f":"SUM(C25:M25)","v":{"v":176535,"d":"176,535 "}},"14.",{"v":0,"d":"0 "},null,null,"6700",{"$f":"SUMIFS('Accounting Data'!$C$2:$C$100000,'Accounting Data'!$E$2:$E$100000,\"378\",'Accounting Data'!$I$2:$I$100000,\"1???\",'Accounting Data'!$J$2:$J$100000,\"67??\")+SUMIFS('Accounting Data'!$C$2:$C$100000,'Accounting Data'!$E$2:$E$100000,\"378\",'Accounting Data'!$I$2:$I$100000,\"2???\",'Accounting Data'!$J$2:$J$100000,\"67??\")+SUMIFS('Accounting Data'!$C$2:$C$100000,'Accounting Data'!$E$2:$E$100000,\"378\",'Accounting Data'!$I$2:$I$100000,\"3???\",'Accounting Data'!$J$2:$J$100000,\"67??\")","v":{"v":0,"d":"0 "}},{"v":0,"d":"0 "},{"v":0,"d":"0 "},{"v":0,"d":"0 "},{"$nulls":58},"Object 6831, 6832 & 6833",{"$nulls":15},4000,{"$f":"SUMIFS('Accounting Data'!C2:C100000,'Accounting Data'!I2:I100000,\"4???\",'Accounting Data'!J2:J100000,\"689?\")","v":{"v":0,"d":"0 "}},{"$f":"SUMIFS('Accounting Data'!$C$2:$C$100000,'Accounting Data'!$E$2:$E$100000,\"575\",'Accounting Data'!$I$2:$I$100000,\"4???\",'Accounting Data'!$J$2:$J$100000,\"689?\")+SUMIFS('Accounting Data'!$C$2:$C$100000,'Accounting Data'!$E$2:$E$100000,\"8??\",'Accounting Data'!$I$2:$I$100000,\"4???\",'Accounting Data'!$J$2:$J$100000,\"689?\")+SUMIFS('Accounting Data'!$C$2:$C$100000,'Accounting Data'!$E$2:$E$100000,\"9??\",'Accounting Data'!$I$2:$I$100000,\"4???\",'Accounting Data'!$J$2:$J$100000,\"689?\")","v":{"v":0,"d":"0 "}},{"$f":"SUMIFS('Accounting Data'!$C$2:$C$100000,'Accounting Data'!$H$2:$H$100000,\"7??\",'Accounting Data'!$I$2:$I$100000,\"4???\",'Accounting Data'!$J$2:$J$100000,\"689?\")+SUMIFS('Accounting Data'!$C$2:$C$100000,'Accounting Data'!$H$2:$H$100000,\"8??\",'Accounting Data'!$I$2:$I$100000,\"4???\",'Accounting Data'!$J$2:$J$100000,\"689?\")+SUMIFS('Accounting Data'!$C$2:$C$100000,'Accounting Data'!$H$2:$H$100000,\"9??\",'Accounting Data'!$I$2:$I$100000,\"4???\",'Accounting Data'!$J$2:$J$100000,\"689?\")","v":{"v":0,"d":"0 "}},{"$f":"SUMIFS('Accounting Data'!$C$2:$C$100000,'Accounting Data'!$E$2:$E$100000,\"575\",'Accounting Data'!$H$2:$H$100000,\"7??\",'Accounting Data'!$I$2:$I$100000,\"4???\",'Accounting Data'!$J$2:$J$100000,\"689?\")+SUMIFS('Accounting Data'!$C$2:$C$100000,'Accounting Data'!$E$2:$E$100000,\"575\",'Accounting Data'!$H$2:$H$100000,\"8??\",'Accounting Data'!$I$2:$I$100000,\"4???\",'Accounting Data'!$J$2:$J$100000,\"689?\")+SUMIFS('Accounting Data'!$C$2:$C$100000,'Accounting Data'!$E$2:$E$100000,\"575\",'Accounting Data'!$H$2:$H$100000,\"9??\",'Accounting Data'!$I$2:$I$100000,\"4???\",'Accounting Data'!$J$2:$J$100000,\"689?\")","v":{"v":0,"d":"0 "}},{"$f":"SUMIFS('Accounting Data'!$C$2:$C$100000,'Accounting Data'!$E$2:$E$100000,\"8??\",'Accounting Data'!$H$2:$H$100000,\"7??\",'Accounting Data'!$I$2:$I$100000,\"4???\",'Accounting Data'!$J$2:$J$100000,\"689?\")+SUMIFS('Accounting Data'!$C$2:$C$100000,'Accounting Data'!$E$2:$E$100000,\"8??\",'Accounting Data'!$H$2:$H$100000,\"8??\",'Accounting Data'!$I$2:$I$100000,\"4???\",'Accounting Data'!$J$2:$J$100000,\"689?\")+SUMIFS('Accounting Data'!$C$2:$C$100000,'Accounting Data'!$E$2:$E$100000,\"8??\",'Accounting Data'!$H$2:$H$100000,\"9??\",'Accounting Data'!$I$2:$I$100000,\"4???\",'Accounting Data'!$J$2:$J$100000,\"689?\")","v":{"v":0,"d":"0 "}},{"$f":"SUMIFS('Accounting Data'!$C$2:$C$100000,'Accounting Data'!$E$2:$E$100000,\"9??\",'Accounting Data'!$H$2:$H$100000,\"7??\",'Accounting Data'!$I$2:$I$100000,\"4???\",'Accounting Data'!$J$2:$J$100000,\"689?\")+SUMIFS('Accounting Data'!$C$2:$C$100000,'Accounting Data'!$E$2:$E$100000,\"9??\",'Accounting Data'!$H$2:$H$100000,\"8??\",'Accounting Data'!$I$2:$I$100000,\"4???\",'Accounting Data'!$J$2:$J$100000,\"689?\")+SUMIFS('Accounting Data'!$C$2:$C$100000,'Accounting Data'!$E$2:$E$100000,\"9??\",'Accounting Data'!$H$2:$H$100000,\"9??\",'Accounting Data'!$I$2:$I$100000,\"4???\",'Accounting Data'!$J$2:$J$100000,\"689?\")","v":{"v":0,"d":"0 "}},null,4000,{"$f":"SUMIFS('Accounting Data'!$C$2:$C$100000,'Accounting Data'!$H$2:$H$100000,\"7??\",'Accounting Data'!$I$2:$I$100000,\"4???\",'Accounting Data'!$J$2:$J$100000,\"6???\")+SUMIFS('Accounting Data'!$C$2:$C$100000,'Accounting Data'!$H$2:$H$100000,\"8??\",'Accounting Data'!$I$2:$I$100000,\"4???\",'Accounting Data'!$J$2:$J$100000,\"6???\")+SUMIFS('Accounting Data'!$C$2:$C$100000,'Accounting Data'!$H$2:$H$100000,\"9??\",'Accounting Data'!$I$2:$I$100000,\"4???\",'Accounting Data'!$J$2:$J$100000,\"6???\")","v":{"v":0,"d":"0 "}},{"$f":"SUMIFS('Accounting Data'!$C$2:$C$100000,'Accounting Data'!$H$2:$H$100000,\"7??\",'Accounting Data'!$I$2:$I$100000,\"4???\",'Accounting Data'!$J$2:$J$100000,\"69??\")+SUMIFS('Accounting Data'!$C$2:$C$100000,'Accounting Data'!$H$2:$H$100000,\"8??\",'Accounting Data'!$I$2:$I$100000,\"4???\",'Accounting Data'!$J$2:$J$100000,\"69??\")+SUMIFS('Accounting Data'!$C$2:$C$100000,'Accounting Data'!$H$2:$H$100000,\"9??\",'Accounting Data'!$I$2:$I$100000,\"4???\",'Accounting Data'!$J$2:$J$100000,\"69??\")","v":{"v":0,"d":"0 "}},{"$f":"SUMIFS('Accounting Data'!$C$2:$C$100000,'Accounting Data'!$E$2:$E$100000,\"575\",'Accounting Data'!$H$2:$H$100000,\"7??\",'Accounting Data'!$I$2:$I$100000,\"4???\",'Accounting Data'!$J$2:$J$100000,\"6???\")+SUMIFS('Accounting Data'!$C$2:$C$100000,'Accounting Data'!$E$2:$E$100000,\"575\",'Accounting Data'!$H$2:$H$100000,\"8??\",'Accounting Data'!$I$2:$I$100000,\"4???\",'Accounting Data'!$J$2:$J$100000,\"6???\")+SUMIFS('Accounting Data'!$C$2:$C$100000,'Accounting Data'!$E$2:$E$100000,\"575\",'Accounting Data'!$H$2:$H$100000,\"9??\",'Accounting Data'!$I$2:$I$100000,\"4???\",'Accounting Data'!$J$2:$J$100000,\"6???\")","v":{"v":0,"d":"0 "}},{"$f":"SUMIFS('Accounting Data'!$C$2:$C$100000,'Accounting Data'!$E$2:$E$100000,\"8??\",'Accounting Data'!$H$2:$H$100000,\"7??\",'Accounting Data'!$I$2:$I$100000,\"4???\",'Accounting Data'!$J$2:$J$100000,\"6???\")+SUMIFS('Accounting Data'!$C$2:$C$100000,'Accounting Data'!$E$2:$E$100000,\"8??\",'Accounting Data'!$H$2:$H$100000,\"8??\",'Accounting Data'!$I$2:$I$100000,\"4???\",'Accounting Data'!$J$2:$J$100000,\"6???\")+SUMIFS('Accounting Data'!$C$2:$C$100000,'Accounting Data'!$E$2:$E$100000,\"8??\",'Accounting Data'!$H$2:$H$100000,\"9??\",'Accounting Data'!$I$2:$I$100000,\"4???\",'Accounting Data'!$J$2:$J$100000,\"6???\")+SUMIFS('Accounting Data'!$C$2:$C$100000,'Accounting Data'!$E$2:$E$100000,\"9??\",'Accounting Data'!$H$2:$H$100000,\"7??\",'Accounting Data'!$I$2:$I$100000,\"4???\",'Accounting Data'!$J$2:$J$100000,\"6???\")+SUMIFS('Accounting Data'!$C$2:$C$100000,'Accounting Data'!$E$2:$E$100000,\"9??\",'Accounting Data'!$H$2:$H$100000,\"8??\",'Accounting Data'!$I$2:$I$100000,\"4???\",'Accounting Data'!$J$2:$J$100000,\"6???\")+SUMIFS('Accounting Data'!$C$2:$C$100000,'Accounting Data'!$E$2:$E$100000,\"9??\",'Accounting Data'!$H$2:$H$100000,\"9??\",'Accounting Data'!$I$2:$I$100000,\"4???\",'Accounting Data'!$J$2:$J$100000,\"6???\")","v":{"v":0,"d":"0 "}},{"$f":"SUMIFS('Accounting Data'!$C$2:$C$100000,'Accounting Data'!$E$2:$E$100000,\"575\",'Accounting Data'!$H$2:$H$100000,\"7??\",'Accounting Data'!$I$2:$I$100000,\"4???\",'Accounting Data'!$J$2:$J$100000,\"69??\")+SUMIFS('Accounting Data'!$C$2:$C$100000,'Accounting Data'!$E$2:$E$100000,\"575\",'Accounting Data'!$H$2:$H$100000,\"8??\",'Accounting Data'!$I$2:$I$100000,\"4???\",'Accounting Data'!$J$2:$J$100000,\"69??\")+SUMIFS('Accounting Data'!$C$2:$C$100000,'Accounting Data'!$E$2:$E$100000,\"575\",'Accounting Data'!$H$2:$H$100000,\"9??\",'Accounting Data'!$I$2:$I$100000,\"4???\",'Accounting Data'!$J$2:$J$100000,\"69??\")","v":{"v":0,"d":"0 "}},{"$f":"SUMIFS('Accounting Data'!$C$2:$C$100000,'Accounting Data'!$E$2:$E$100000,\"8??\",'Accounting Data'!$H$2:$H$100000,\"7??\",'Accounting Data'!$I$2:$I$100000,\"4???\",'Accounting Data'!$J$2:$J$100000,\"69??\")+SUMIFS('Accounting Data'!$C$2:$C$100000,'Accounting Data'!$E$2:$E$100000,\"8??\",'Accounting Data'!$H$2:$H$100000,\"8??\",'Accounting Data'!$I$2:$I$100000,\"4???\",'Accounting Data'!$J$2:$J$100000,\"69??\")+SUMIFS('Accounting Data'!$C$2:$C$100000,'Accounting Data'!$E$2:$E$100000,\"8??\",'Accounting Data'!$H$2:$H$100000,\"9??\",'Accounting Data'!$I$2:$I$100000,\"4???\",'Accounting Data'!$J$2:$J$100000,\"69??\")+SUMIFS('Accounting Data'!$C$2:$C$100000,'Accounting Data'!$E$2:$E$100000,\"9??\",'Accounting Data'!$H$2:$H$100000,\"7??\",'Accounting Data'!$I$2:$I$100000,\"4???\",'Accounting Data'!$J$2:$J$100000,\"69??\")+SUMIFS('Accounting Data'!$C$2:$C$100000,'Accounting Data'!$E$2:$E$100000,\"9??\",'Accounting Data'!$H$2:$H$100000,\"8??\",'Accounting Data'!$I$2:$I$100000,\"4???\",'Accounting Data'!$J$2:$J$100000,\"69??\")+SUMIFS('Accounting Data'!$C$2:$C$100000,'Accounting Data'!$E$2:$E$100000,\"9??\",'Accounting Data'!$H$2:$H$100000,\"9??\",'Accounting Data'!$I$2:$I$100000,\"4???\",'Accounting Data'!$J$2:$J$100000,\"69??\")","v":{"v":0,"d":"0 "}}]
["From State and Local Sources","15.",{"$f":"C24-C25","v":{"v":185720,"d":"185,720 "}},{"v":50293,"d":"50,293 "},{"v":231934,"d":"231,934 "},{"v":28911,"d":"28,911 "},{"v":11444,"d":"11,444 "},{"v":0,"d":"0 "},{"v":0,"d":"0 "},null,{"$f":"K24-K25","v":{"v":0,"d":"0 "}},{"$f":"L24-L25","v":{"v":961,"d":"961 "}},{"$f":"M24-M25","v":{"v":0,"d":"0 "}},{"$f":"N24-N25","v":{"v":509263,"d":"509,263 "}},"15.",{"$nulls":3},"6810",{"$f":"SUMIFS('Accounting Data'!$C$2:$C$100000,'Accounting Data'!$E$2:$E$100000,\"378\",'Accounting Data'!$I$2:$I$100000,\"1???\",'Accounting Data'!$J$2:$J$100000,\"681?\")+SUMIFS('Accounting Data'!$C$2:$C$100000,'Accounting Data'!$E$2:$E$100000,\"378\",'Accounting Data'!$I$2:$I$100000,\"2???\",'Accounting Data'!$J$2:$J$100000,\"681?\")+SUMIFS('Accounting Data'!$C$2:$C$100000,'Accounting Data'!$E$2:$E$100000,\"378\",'Accounting Data'!$I$2:$I$100000,\"3???\",'Accounting Data'!$J$2:$J$100000,\"681?\")","v":{"v":0,"d":"0 "}},{"v":0,"d":"0 "},{"v":0,"d":"0 "},{"v":0,"d":"0 "},null,null,4000,{"$f":"SUMIFS('Accounting Data'!C2:C100000,'Accounting Data'!I2:I100000,\"4???\",'Accounting Data'!J2:J100000,\"61??\")","v":{"v":0,"d":"0 "}},{"$f":"SUMIFS('Accounting Data'!C2:C100000,'Accounting Data'!E2:E100000,\"575\",'Accounting Data'!I2:I100000,\"4???\",'Accounting Data'!J2:J100000,\"61??\")+SUMIFS('Accounting Data'!C2:C100000,'Accounting Data'!E2:E100000,\"8??\",'Accounting Data'!I2:I100000,\"4???\",'Accounting Data'!J2:J100000,\"61??\")+SUMIFS('Accounting Data'!C2:C100000,'Accounting Data'!E2:E100000,\"9??\",'Accounting Data'!I2:I100000,\"4???\",'Accounting Data'!J2:J100000,\"61??\")","v":{"v":0,"d":"0 "}},{"$f":"SUMIFS('Accounting Data'!C2:C100000,'Accounting Data'!H2:H100000,\"7??\",'Accounting Data'!I2:I100000,\"4???\",'Accounting Data'!J2:J100000,\"61??\")+SUMIFS('Accounting Data'!C2:C100000,'Accounting Data'!H2:H100000,\"8??\",'Accounting Data'!I2:I100000,\"4???\",'Accounting Data'!J2:J100000,\"61??\")+SUMIFS('Accounting Data'!C2:C100000,'Accounting Data'!H2:H100000,\"9??\",'Accounting Data'!I2:I100000,\"4???\",'Accounting Data'!J2:J100000,\"61??\")","v":{"v":0,"d":"0 "}},{"$f":"SUMIFS('Accounting Data'!C2:C100000,'Accounting Data'!E2:E100000,\"575\",'Accounting Data'!H2:H100000,\"7??\",'Accounting Data'!I2:I100000,\"4???\",'Accounting Data'!J2:J100000,\"61??\")+SUMIFS('Accounting Data'!C2:C100000,'Accounting Data'!E2:E100000,\"575\",'Accounting Data'!H2:H100000,\"8??\",'Accounting Data'!I2:I100000,\"4???\",'Accounting Data'!J2:J100000,\"61??\")+SUMIFS('Accounting Data'!C2:C100000,'Accounting Data'!E2:E100000,\"575\",'Accounting Data'!H2:H100000,\"9??\",'Accounting Data'!I2:I100000,\"4???\",'Accounting Data'!J2:J100000,\"61??\")","v":{"v":0,"d":"0 "}},{"$f":"SUMIFS('Accounting Data'!C2:C100000,'Accounting Data'!E2:E100000,\"8??\",'Accounting Data'!H2:H100000,\"7??\",'Accounting Data'!I2:I100000,\"4???\",'Accounting Data'!J2:J100000,\"61??\")+SUMIFS('Accounting Data'!C2:C100000,'Accounting Data'!E2:E100000,\"8??\",'Accounting Data'!H2:H100000,\"8??\",'Accounting Data'!I2:I100000,\"4???\",'Accounting Data'!J2:J100000,\"61??\")+SUMIFS('Accounting Data'!C2:C100000,'Accounting Data'!E2:E100000,\"8??\",'Accounting Data'!H2:H100000,\"9??\",'Accounting Data'!I2:I100000,\"4???\",'Accounting Data'!J2:J100000,\"61??\")","v":{"v":0,"d":"0 "}},{"$f":"SUMIFS('Accounting Data'!C2:C100000,'Accounting Data'!E2:E100000,\"9??\",'Accounting Data'!H2:H100000,\"7??\",'Accounting Data'!I2:I100000,\"4???\",'Accounting Data'!J2:J100000,\"61??\")+SUMIFS('Accounting Data'!C2:C100000,'Accounting Data'!E2:E100000,\"9??\",'Accounting Data'!H2:H100000,\"8??\",'Accounting Data'!I2:I100000,\"4???\",'Accounting Data'!J2:J100000,\"61??\")+SUMIFS('Accounting Data'!C2:C100000,'Accounting Data'!E2:E100000,\"9??\",'Accounting Data'!H2:H100000,\"9??\",'Accounting Data'!I2:I100000,\"4???\",'Accounting Data'!J2:J100000,\"61??\")","v":{"v":0,"d":"0 "}},null,4000,{"$f":"SUMIFS('Accounting Data'!C2:C100000,'Accounting Data'!I2:I100000,\"4???\",'Accounting Data'!J2:J100000,\"62??\")","v":{"v":0,"d":"0 "}},{"$f":"SUMIFS('Accounting Data'!C2:C100000,'Accounting Data'!E2:E100000,\"575\",'Accounting Data'!I2:I100000,\"4???\",'Accounting Data'!J2:J100000,\"62??\")+SUMIFS('Accounting Data'!C2:C100000,'Accounting Data'!E2:E100000,\"8??\",'Accounting Data'!I2:I100000,\"4???\",'Accounting Data'!J2:J100000,\"62??\")+SUMIFS('Accounting Data'!C2:C100000,'Accounting Data'!E2:E100000,\"9??\",'Accounting Data'!I2:I100000,\"4???\",'Accounting Data'!J2:J100000,\"62??\")","v":{"v":0,"d":"0 "}},{"$f":"SUMIFS('Accounting Data'!C2:C100000,'Accounting Data'!H2:H100000,\"7??\",'Accounting Data'!I2:I100000,\"4???\",'Accounting Data'!J2:J100000,\"62??\")+SUMIFS('Accounting Data'!C2:C100000,'Accounting Data'!H2:H100000,\"8??\",'Accounting Data'!I2:I100000,\"4???\",'Accounting Data'!J2:J100000,\"62??\")+SUMIFS('Accounting Data'!C2:C100000,'Accounting Data'!H2:H100000,\"9??\",'Accounting Data'!I2:I100000,\"4???\",'Accounting Data'!J2:J100000,\"62??\")","v":{"v":0,"d":"0 "}},{"$f":"SUMIFS('Accounting Data'!C2:C100000,'Accounting Data'!E2:E100000,\"575\",'Accounting Data'!H2:H100000,\"7??\",'Accounting Data'!I2:I100000,\"4???\",'Accounting Data'!J2:J100000,\"62??\")+SUMIFS('Accounting Data'!C2:C100000,'Accounting Data'!E2:E100000,\"575\",'Accounting Data'!H2:H100000,\"8??\",'Accounting Data'!I2:I100000,\"4???\",'Accounting Data'!J2:J100000,\"62??\")+SUMIFS('Accounting Data'!C2:C100000,'Accounting Data'!E2:E100000,\"575\",'Accounting Data'!H2:H100000,\"9??\",'Accounting Data'!I2:I100000,\"4???\",'Accounting Data'!J2:J100000,\"62??\")","v":{"v":0,"d":"0 "}},{"$f":"SUMIFS('Accounting Data'!C2:C100000,'Accounting Data'!E2:E100000,\"8??\",'Accounting Data'!H2:H100000,\"7??\",'Accounting Data'!I2:I100000,\"4???\",'Accounting Data'!J2:J100000,\"62??\")+SUMIFS('Accounting Data'!C2:C100000,'Accounting Data'!E2:E100000,\"8??\",'Accounting Data'!H2:H100000,\"8??\",'Accounting Data'!I2:I100000,\"4???\",'Accounting Data'!J2:J100000,\"62??\")+SUMIFS('Accounting Data'!C2:C100000,'Accounting Data'!E2:E100000,\"8??\",'Accounting Data'!H2:H100000,\"9??\",'Accounting Data'!I2:I100000,\"4???\",'Accounting Data'!J2:J100000,\"62??\")","v":{"v":0,"d":"0 "}},{"$f":"SUMIFS('Accounting Data'!C2:C100000,'Accounting Data'!E2:E100000,\"9??\",'Accounting Data'!H2:H100000,\"7??\",'Accounting Data'!I2:I100000,\"4???\",'Accounting Data'!J2:J100000,\"62??\")+SUMIFS('Accounting Data'!C2:C100000,'Accounting Data'!E2:E100000,\"9??\",'Accounting Data'!H2:H100000,\"8??\",'Accounting Data'!I2:I100000,\"4???\",'Accounting Data'!J2:J100000,\"62??\")+SUMIFS('Accounting Data'!C2:C100000,'Accounting Data'!E2:E100000,\"9??\",'Accounting Data'!H2:H100000,\"9??\",'Accounting Data'!I2:I100000,\"4???\",'Accounting Data'!J2:J100000,\"62??\")","v":{"v":0,"d":"0 "}},null,4000,{"$f":"SUMIFS('Accounting Data'!C2:C100000,'Accounting Data'!I2:I100000,\"4???\",'Accounting Data'!J2:J100000,\"63??\")+SUMIFS('Accounting Data'!C2:C100000,'Accounting Data'!I2:I100000,\"4???\",'Accounting Data'!J2:J100000,\"64??\")+SUMIFS('Accounting Data'!C2:C100000,'Accounting Data'!I2:I100000,\"4???\",'Accounting Data'!J2:J100000,\"65??\")","v":{"v":0,"d":"0 "}},{"$f":"SUMIFS('Accounting Data'!C2:C100000,'Accounting Data'!E2:E100000,\"575\",'Accounting Data'!I2:I100000,\"4???\",'Accounting Data'!J2:J100000,\"63??\")+SUMIFS('Accounting Data'!C2:C100000,'Accounting Data'!E2:E100000,\"8??\",'Accounting Data'!I2:I100000,\"4???\",'Accounting Data'!J2:J100000,\"63??\")+SUMIFS('Accounting Data'!C2:C100000,'Accounting Data'!E2:E100000,\"9??\",'Accounting Data'!I2:I100000,\"4???\",'Accounting Data'!J2:J100000,\"63??\")","v":{"v":0,"d":"0 "}},{"$f":"SUMIFS('Accounting Data'!C2:C100000,'Accounting Data'!E2:E100000,\"575\",'Accounting Data'!I2:I100000,\"4???\",'Accounting Data'!J2:J100000,\"64??\")+SUMIFS('Accounting Data'!C2:C100000,'Accounting Data'!E2:E100000,\"8??\",'Accounting Data'!I2:I100000,\"4???\",'Accounting Data'!J2:J100000,\"64??\")+SUMIFS('Accounting Data'!C2:C100000,'Accounting Data'!E2:E100000,\"9??\",'Accounting Data'!I2:I100000,\"4???\",'Accounting Data'!J2:J100000,\"64??\")","v":{"v":0,"d":"0 "}},{"$f":"SUMIFS('Accounting Data'!C2:C100000,'Accounting Data'!E2:E100000,\"575\",'Accounting Data'!I2:I100000,\"4???\",'Accounting Data'!J2:J100000,\"65??\")+SUMIFS('Accounting Data'!C2:C100000,'Accounting Data'!E2:E100000,\"8??\",'Accounting Data'!I2:I100000,\"4???\",'Accounting Data'!J2:J100000,\"65??\")+SUMIFS('Accounting Data'!C2:C100000,'Accounting Data'!E2:E100000,\"9??\",'Accounting Data'!I2:I100000,\"4???\",'Accounting Data'!J2:J100000,\"65??\")","v":{"v":0,"d":"0 "}},{"$f":"SUMIFS('Accounting Data'!C2:C100000,'Accounting Data'!H2:H100000,\"7??\",'Accounting Data'!I2:I100000,\"4???\",'Accounting Data'!J2:J100000,\"63??\")+SUMIFS('Accounting Data'!C2:C100000,'Accounting Data'!H2:H100000,\"8??\",'Accounting Data'!I2:I100000,\"4???\",'Accounting Data'!J2:J100000,\"63??\")+SUMIFS('Accounting Data'!C2:C100000,'Accounting Data'!H2:H100000,\"9??\",'Accounting Data'!I2:I100000,\"4???\",'Accounting Data'!J2:J100000,\"63??\")+SUMIFS('Accounting Data'!C2:C100000,'Accounting Data'!H2:H100000,\"7??\",'Accounting Data'!I2:I100000,\"4???\",'Accounting Data'!J2:J100000,\"64??\")+SUMIFS('Accounting Data'!C2:C100000,'Accounting Data'!H2:H100000,\"8??\",'Accounting Data'!I2:I100000,\"4???\",'Accounting Data'!J2:J100000,\"64??\")+SUMIFS('Accounting Data'!C2:C100000,'Accounting Data'!H2:H100000,\"9??\",'Accounting Data'!I2:I100000,\"4???\",'Accounting Data'!J2:J100000,\"64??\")+SUMIFS('Accounting Data'!C2:C100000,'Accounting Data'!H2:H100000,\"7??\",'Accounting Data'!I2:I100000,\"4???\",'Accounting Data'!J2:J100000,\"65??\")+SUMIFS('Accounting Data'!C2:C100000,'Accounting Data'!H2:H100000,\"8??\",'Accounting Data'!I2:I100000,\"4???\",'Accounting Data'!J2:J100000,\"65??\")+SUMIFS('Accounting Data'!C2:C100000,'Accounting Data'!H2:H100000,\"9??\",'Accounting Data'!I2:I100000,\"4???\",'Accounting Data'!J2:J100000,\"65??\")","v":{"v":0,"d":"0 "}},{"$f":"SUMIFS('Accounting Data'!C2:C100000,'Accounting Data'!E2:E100000,\"575\",'Accounting Data'!H2:H100000,\"7??\",'Accounting Data'!I2:I100000,\"4???\",'Accounting Data'!J2:J100000,\"63??\")+SUMIFS('Accounting Data'!C2:C100000,'Accounting Data'!E2:E100000,\"575\",'Accounting Data'!H2:H100000,\"8??\",'Accounting Data'!I2:I100000,\"4???\",'Accounting Data'!J2:J100000,\"63??\")+SUMIFS('Accounting Data'!C2:C100000,'Accounting Data'!E2:E100000,\"575\",'Accounting Data'!H2:H100000,\"9??\",'Accounting Data'!I2:I100000,\"4???\",'Accounting Data'!J2:J100000,\"63??\")","v":{"v":0,"d":"0 "}},{"$f":"SUMIFS('Accounting Data'!C2:C100000,'Accounting Data'!E2:E100000,\"575\",'Accounting Data'!H2:H100000,\"7??\",'Accounting Data'!I2:I100000,\"4???\",'Accounting Data'!J2:J100000,\"64??\")+SUMIFS('Accounting Data'!C2:C100000,'Accounting Data'!E2:E100000,\"575\",'Accounting Data'!H2:H100000,\"8??\",'Accounting Data'!I2:I100000,\"4???\",'Accounting Data'!J2:J100000,\"64??\")+SUMIFS('Accounting Data'!C2:C100000,'Accounting Data'!E2:E100000,\"575\",'Accounting Data'!H2:H100000,\"9??\",'Accounting Data'!I2:I100000,\"4???\",'Accounting Data'!J2:J100000,\"64??\")","v":{"v":0,"d":"0 "}},{"$f":"SUMIFS('Accounting Data'!C2:C100000,'Accounting Data'!E2:E100000,\"575\",'Accounting Data'!H2:H100000,\"7??\",'Accounting Data'!I2:I100000,\"4???\",'Accounting Data'!J2:J100000,\"65??\")+SUMIFS('Accounting Data'!C2:C100000,'Accounting Data'!E2:E100000,\"575\",'Accounting Data'!H2:H100000,\"8??\",'Accounting Data'!I2:I100000,\"4???\",'Accounting Data'!J2:J100000,\"65??\")+SUMIFS('Accounting Data'!C2:C100000,'Accounting Data'!E2:E100000,\"575\",'Accounting Data'!H2:H100000,\"9??\",'Accounting Data'!I2:I100000,\"4???\",'Accounting Data'!J2:J100000,\"65??\")","v":{"v":0,"d":"0 "}},{"$f":"SUMIFS('Accounting Data'!C2:C100000,'Accounting Data'!E2:E100000,\"8??\",'Accounting Data'!H2:H100000,\"7??\",'Accounting Data'!I2:I100000,\"4???\",'Accounting Data'!J2:J100000,\"63??\")+SUMIFS('Accounting Data'!C2:C100000,'Accounting Data'!E2:E100000,\"8??\",'Accounting Data'!H2:H100000,\"8??\",'Accounting Data'!I2:I100000,\"4???\",'Accounting Data'!J2:J100000,\"63??\")+SUMIFS('Accounting Data'!C2:C100000,'Accounting Data'!E2:E100000,\"8??\",'Accounting Data'!H2:H100000,\"9??\",'Accounting Data'!I2:I100000,\"4???\",'Accounting Data'!J2:J100000,\"63??\")","v":{"v":0,"d":"0 "}},{"$f":"SUMIFS('Accounting Data'!C2:C100000,'Accounting Data'!E2:E100000,\"8??\",'Accounting Data'!H2:H100000,\"7??\",'Accounting Data'!I2:I100000,\"4???\",'Accounting Data'!J2:J100000,\"64??\")+SUMIFS('Accounting Data'!C2:C100000,'Accounting Data'!E2:E100000,\"8??\",'Accounting Data'!H2:H100000,\"8??\",'Accounting Data'!I2:I100000,\"4???\",'Accounting Data'!J2:J100000,\"64??\")+SUMIFS('Accounting Data'!C2:C100000,'Accounting Data'!E2:E100000,\"8??\",'Accounting Data'!H2:H100000,\"9??\",'Accounting Data'!I2:I100000,\"4???\",'Accounting Data'!J2:J100000,\"64??\")","v":{"v":0,"d":"0 "}},{"$f":"SUMIFS('Accounting Data'!C2:C100000,'Accounting Data'!E2:E100000,\"8??\",'Accounting Data'!H2:H100000,\"7??\",'Accounting Data'!I2:I100000,\"4???\",'Accounting Data'!J2:J100000,\"65??\")+SUMIFS('Accounting Data'!C2:C100000,'Accounting Data'!E2:E100000,\"8??\",'Accounting Data'!H2:H100000,\"8??\",'Accounting Data'!I2:I100000,\"4???\",'Accounting Data'!J2:J100000,\"65??\")+SUMIFS('Accounting Data'!C2:C100000,'Accounting Data'!E2:E100000,\"8??\",'Accounting Data'!H2:H100000,\"9??\",'Accounting Data'!I2:I100000,\"4???\",'Accounting Data'!J2:J100000,\"65??\")","v":{"v":0,"d":"0 "}},{"$f":"SUMIFS('Accounting Data'!C2:C100000,'Accounting Data'!E2:E100000,\"9??\",'Accounting Data'!H2:H100000,\"7??\",'Accounting Data'!I2:I100000,\"4???\",'Accounting Data'!J2:J100000,\"63??\")+SUMIFS('Accounting Data'!C2:C100000,'Accounting Data'!E2:E100000,\"9??\",'Accounting Data'!H2:H100000,\"8??\",'Accounting Data'!I2:I100000,\"4???\",'Accounting Data'!J2:J100000,\"63??\")+SUMIFS('Accounting Data'!C2:C100000,'Accounting Data'!E2:E100000,\"9??\",'Accounting Data'!H2:H100000,\"9??\",'Accounting Data'!I2:I100000,\"4???\",'Accounting Data'!J2:J100000,\"63??\")","v":{"v":0,"d":"0 "}},{"$f":"SUMIFS('Accounting Data'!C2:C100000,'Accounting Data'!E2:E100000,\"9??\",'Accounting Data'!H2:H100000,\"7??\",'Accounting Data'!I2:I100000,\"4???\",'Accounting Data'!J2:J100000,\"64??\")+SUMIFS('Accounting Data'!C2:C100000,'Accounting Data'!E2:E100000,\"9??\",'Accounting Data'!H2:H100000,\"8??\",'Accounting Data'!I2:I100000,\"4???\",'Accounting Data'!J2:J100000,\"64??\")+SUMIFS('Accounting Data'!C2:C100000,'Accounting Data'!E2:E100000,\"9??\",'Accounting Data'!H2:H100000,\"9??\",'Accounting Data'!I2:I100000,\"4???\",'Accounting Data'!J2:J100000,\"64??\")","v":{"v":0,"d":"0 "}},{"$f":"SUMIFS('Accounting Data'!C2:C100000,'Accounting Data'!E2:E100000,\"9??\",'Accounting Data'!H2:H100000,\"7??\",'Accounting Data'!I2:I100000,\"4???\",'Accounting Data'!J2:J100000,\"65??\")+SUMIFS('Accounting Data'!C2:C100000,'Accounting Data'!E2:E100000,\"9??\",'Accounting Data'!H2:H100000,\"8??\",'Accounting Data'!I2:I100000,\"4???\",'Accounting Data'!J2:J100000,\"65??\")+SUMIFS('Accounting Data'!C2:C100000,'Accounting Data'!E2:E100000,\"9??\",'Accounting Data'!H2:H100000,\"9??\",'Accounting Data'!I2:I100000,\"4???\",'Accounting Data'!J2:J100000,\"65??\")","v":{"v":0,"d":"0 "}},null,4000,{"$f":"SUMIFS('Accounting Data'!C2:C100000,'Accounting Data'!I2:I100000,\"4???\",'Accounting Data'!J2:J100000,\"66??\")","v":{"v":0,"d":"0 "}},{"$f":"SUMIFS('Accounting Data'!$C$2:$C$100000,'Accounting Data'!$E$2:$E$100000,\"575\",'Accounting Data'!$I$2:$I$100000,\"4???\",'Accounting Data'!$J$2:$J$100000,\"66??\")+SUMIFS('Accounting Data'!$C$2:$C$100000,'Accounting Data'!$E$2:$E$100000,\"8??\",'Accounting Data'!$I$2:$I$100000,\"4???\",'Accounting Data'!$J$2:$J$100000,\"66??\")+SUMIFS('Accounting Data'!$C$2:$C$100000,'Accounting Data'!$E$2:$E$100000,\"9??\",'Accounting Data'!$I$2:$I$100000,\"4???\",'Accounting Data'!$J$2:$J$100000,\"66??\")","v":{"v":0,"d":"0 "}},{"$f":"SUMIFS('Accounting Data'!$C$2:$C$100000,'Accounting Data'!$H$2:$H$100000,\"7??\",'Accounting Data'!$I$2:$I$100000,\"4???\",'Accounting Data'!$J$2:$J$100000,\"66??\")+SUMIFS('Accounting Data'!$C$2:$C$100000,'Accounting Data'!$H$2:$H$100000,\"8??\",'Accounting Data'!$I$2:$I$100000,\"4???\",'Accounting Data'!$J$2:$J$100000,\"66??\")+SUMIFS('Accounting Data'!$C$2:$C$100000,'Accounting Data'!$H$2:$H$100000,\"9??\",'Accounting Data'!$I$2:$I$100000,\"4???\",'Accounting Data'!$J$2:$J$100000,\"66??\")","v":{"v":0,"d":"0 "}},{"$f":"SUMIFS('Accounting Data'!$C$2:$C$100000,'Accounting Data'!$E$2:$E$100000,\"575\",'Accounting Data'!$H$2:$H$100000,\"7??\",'Accounting Data'!$I$2:$I$100000,\"4???\",'Accounting Data'!$J$2:$J$100000,\"66??\")+SUMIFS('Accounting Data'!$C$2:$C$100000,'Accounting Data'!$E$2:$E$100000,\"575\",'Accounting Data'!$H$2:$H$100000,\"8??\",'Accounting Data'!$I$2:$I$100000,\"4???\",'Accounting Data'!$J$2:$J$100000,\"66??\")+SUMIFS('Accounting Data'!$C$2:$C$100000,'Accounting Data'!$E$2:$E$100000,\"575\",'Accounting Data'!$H$2:$H$100000,\"9??\",'Accounting Data'!$I$2:$I$100000,\"4???\",'Accounting Data'!$J$2:$J$100000,\"66??\")","v":{"v":0,"d":"0 "}},{"$f":"SUMIFS('Accounting Data'!$C$2:$C$100000,'Accounting Data'!$E$2:$E$100000,\"8??\",'Accounting Data'!$H$2:$H$100000,\"7??\",'Accounting Data'!$I$2:$I$100000,\"4???\",'Accounting Data'!$J$2:$J$100000,\"66??\")+SUMIFS('Accounting Data'!$C$2:$C$100000,'Accounting Data'!$E$2:$E$100000,\"8??\",'Accounting Data'!$H$2:$H$100000,\"8??\",'Accounting Data'!$I$2:$I$100000,\"4???\",'Accounting Data'!$J$2:$J$100000,\"66??\")+SUMIFS('Accounting Data'!$C$2:$C$100000,'Accounting Data'!$E$2:$E$100000,\"8??\",'Accounting Data'!$H$2:$H$100000,\"9??\",'Accounting Data'!$I$2:$I$100000,\"4???\",'Accounting Data'!$J$2:$J$100000,\"66??\")","v":{"v":0,"d":"0 "}},{"$f":"SUMIFS('Accounting Data'!$C$2:$C$100000,'Accounting Data'!$E$2:$E$100000,\"9??\",'Accounting Data'!$H$2:$H$100000,\"7??\",'Accounting Data'!$I$2:$I$100000,\"4???\",'Accounting Data'!$J$2:$J$100000,\"66??\")+SUMIFS('Accounting Data'!$C$2:$C$100000,'Accounting Data'!$E$2:$E$100000,\"9??\",'Accounting Data'!$H$2:$H$100000,\"8??\",'Accounting Data'!$I$2:$I$100000,\"4???\",'Accounting Data'!$J$2:$J$100000,\"66??\")+SUMIFS('Accounting Data'!$C$2:$C$100000,'Accounting Data'!$E$2:$E$100000,\"9??\",'Accounting Data'!$H$2:$H$100000,\"9??\",'Accounting Data'!$I$2:$I$100000,\"4???\",'Accounting Data'!$J$2:$J$100000,\"66??\")","v":{"v":0,"d":"0 "}},null,4000,{"$f":"SUMIFS('Accounting Data'!C2:C100000,'Accounting Data'!I2:I100000,\"4???\",'Accounting Data'!J2:J100000,\"67??\")","v":{"v":0,"d":"0 "}},{"$f":"SUMIFS('Accounting Data'!$C$2:$C$100000,'Accounting Data'!$E$2:$E$100000,\"575\",'Accounting Data'!$I$2:$I$100000,\"4???\",'Accounting Data'!$J$2:$J$100000,\"67??\")+SUMIFS('Accounting Data'!$C$2:$C$100000,'Accounting Data'!$E$2:$E$100000,\"8??\",'Accounting Data'!$I$2:$I$100000,\"4???\",'Accounting Data'!$J$2:$J$100000,\"67??\")+SUMIFS('Accounting Data'!$C$2:$C$100000,'Accounting Data'!$E$2:$E$100000,\"9??\",'Accounting Data'!$I$2:$I$100000,\"4???\",'Accounting Data'!$J$2:$J$100000,\"67??\")","v":{"v":0,"d":"0 "}},{"$f":"SUMIFS('Accounting Data'!$C$2:$C$100000,'Accounting Data'!$H$2:$H$100000,\"7??\",'Accounting Data'!$I$2:$I$100000,\"4???\",'Accounting Data'!$J$2:$J$100000,\"67??\")+SUMIFS('Accounting Data'!$C$2:$C$100000,'Accounting Data'!$H$2:$H$100000,\"8??\",'Accounting Data'!$I$2:$I$100000,\"4???\",'Accounting Data'!$J$2:$J$100000,\"67??\")+SUMIFS('Accounting Data'!$C$2:$C$100000,'Accounting Data'!$H$2:$H$100000,\"9??\",'Accounting Data'!$I$2:$I$100000,\"4???\",'Accounting Data'!$J$2:$J$100000,\"67??\")","v":{"v":0,"d":"0 "}},{"$f":"SUMIFS('Accounting Data'!$C$2:$C$100000,'Accounting Data'!$E$2:$E$100000,\"575\",'Accounting Data'!$H$2:$H$100000,\"7??\",'Accounting Data'!$I$2:$I$100000,\"4???\",'Accounting Data'!$J$2:$J$100000,\"67??\")+SUMIFS('Accounting Data'!$C$2:$C$100000,'Accounting Data'!$E$2:$E$100000,\"575\",'Accounting Data'!$H$2:$H$100000,\"8??\",'Accounting Data'!$I$2:$I$100000,\"4???\",'Accounting Data'!$J$2:$J$100000,\"67??\")+SUMIFS('Accounting Data'!$C$2:$C$100000,'Accounting Data'!$E$2:$E$100000,\"575\",'Accounting Data'!$H$2:$H$100000,\"9??\",'Accounting Data'!$I$2:$I$100000,\"4???\",'Accounting Data'!$J$2:$J$100000,\"67??\")","v":{"v":0,"d":"0 "}},{"$f":"SUMIFS('Accounting Data'!$C$2:$C$100000,'Accounting Data'!$E$2:$E$100000,\"8??\",'Accounting Data'!$H$2:$H$100000,\"7??\",'Accounting Data'!$I$2:$I$100000,\"4???\",'Accounting Data'!$J$2:$J$100000,\"67??\")+SUMIFS('Accounting Data'!$C$2:$C$100000,'Accounting Data'!$E$2:$E$100000,\"8??\",'Accounting Data'!$H$2:$H$100000,\"8??\",'Accounting Data'!$I$2:$I$100000,\"4???\",'Accounting Data'!$J$2:$J$100000,\"67??\")+SUMIFS('Accounting Data'!$C$2:$C$100000,'Accounting Data'!$E$2:$E$100000,\"8??\",'Accounting Data'!$H$2:$H$100000,\"9??\",'Accounting Data'!$I$2:$I$100000,\"4???\",'Accounting Data'!$J$2:$J$100000,\"67??\")","v":{"v":0,"d":"0 "}},{"$f":"SUMIFS('Accounting Data'!$C$2:$C$100000,'Accounting Data'!$E$2:$E$100000,\"9??\",'Accounting Data'!$H$2:$H$100000,\"7??\",'Accounting Data'!$I$2:$I$100000,\"4???\",'Accounting Data'!$J$2:$J$100000,\"67??\")+SUMIFS('Accounting Data'!$C$2:$C$100000,'Accounting Data'!$E$2:$E$100000,\"9??\",'Accounting Data'!$H$2:$H$100000,\"8??\",'Accounting Data'!$I$2:$I$100000,\"4???\",'Accounting Data'!$J$2:$J$100000,\"67??\")+SUMIFS('Accounting Data'!$C$2:$C$100000,'Accounting Data'!$E$2:$E$100000,\"9??\",'Accounting Data'!$H$2:$H$100000,\"9??\",'Accounting Data'!$I$2:$I$100000,\"4???\",'Accounting Data'!$J$2:$J$100000,\"67??\")","v":{"v":0,"d":"0 "}},null,4000,{"$f":"SUMIFS('Accounting Data'!C2:C100000,'Accounting Data'!I2:I100000,\"4???\",'Accounting Data'!J2:J100000,\"681?\")","v":{"v":0,"d":"0 "}},{"$f":"SUMIFS('Accounting Data'!$C$2:$C$100000,'Accounting Data'!$E$2:$E$100000,\"575\",'Accounting Data'!$I$2:$I$100000,\"4???\",'Accounting Data'!$J$2:$J$100000,\"681?\")+SUMIFS('Accounting Data'!$C$2:$C$100000,'Accounting Data'!$E$2:$E$100000,\"8??\",'Accounting Data'!$I$2:$I$100000,\"4???\",'Accounting Data'!$J$2:$J$100000,\"681?\")+SUMIFS('Accounting Data'!$C$2:$C$100000,'Accounting Data'!$E$2:$E$100000,\"9??\",'Accounting Data'!$I$2:$I$100000,\"4???\",'Accounting Data'!$J$2:$J$100000,\"681?\")","v":{"v":0,"d":"0 "}},{"$f":"SUMIFS('Accounting Data'!$C$2:$C$100000,'Accounting Data'!$H$2:$H$100000,\"7??\",'Accounting Data'!$I$2:$I$100000,\"4???\",'Accounting Data'!$J$2:$J$100000,\"681?\")+SUMIFS('Accounting Data'!$C$2:$C$100000,'Accounting Data'!$H$2:$H$100000,\"8??\",'Accounting Data'!$I$2:$I$100000,\"4???\",'Accounting Data'!$J$2:$J$100000,\"681?\")+SUMIFS('Accounting Data'!$C$2:$C$100000,'Accounting Data'!$H$2:$H$100000,\"9??\",'Accounting Data'!$I$2:$I$100000,\"4???\",'Accounting Data'!$J$2:$J$100000,\"681?\")","v":{"v":0,"d":"0 "}},{"$f":"SUMIFS('Accounting Data'!$C$2:$C$100000,'Accounting Data'!$E$2:$E$100000,\"575\",'Accounting Data'!$H$2:$H$100000,\"7??\",'Accounting Data'!$I$2:$I$100000,\"4???\",'Accounting Data'!$J$2:$J$100000,\"681?\")+SUMIFS('Accounting Data'!$C$2:$C$100000,'Accounting Data'!$E$2:$E$100000,\"575\",'Accounting Data'!$H$2:$H$100000,\"8??\",'Accounting Data'!$I$2:$I$100000,\"4???\",'Accounting Data'!$J$2:$J$100000,\"681?\")+SUMIFS('Accounting Data'!$C$2:$C$100000,'Accounting Data'!$E$2:$E$100000,\"575\",'Accounting Data'!$H$2:$H$100000,\"9??\",'Accounting Data'!$I$2:$I$100000,\"4???\",'Accounting Data'!$J$2:$J$100000,\"681?\")","v":{"v":0,"d":"0 "}},{"$f":"SUMIFS('Accounting Data'!$C$2:$C$100000,'Accounting Data'!$E$2:$E$100000,\"8??\",'Accounting Data'!$H$2:$H$100000,\"7??\",'Accounting Data'!$I$2:$I$100000,\"4???\",'Accounting Data'!$J$2:$J$100000,\"681?\")+SUMIFS('Accounting Data'!$C$2:$C$100000,'Accounting Data'!$E$2:$E$100000,\"8??\",'Accounting Data'!$H$2:$H$100000,\"8??\",'Accounting Data'!$I$2:$I$100000,\"4???\",'Accounting Data'!$J$2:$J$100000,\"681?\")+SUMIFS('Accounting Data'!$C$2:$C$100000,'Accounting Data'!$E$2:$E$100000,\"8??\",'Accounting Data'!$H$2:$H$100000,\"9??\",'Accounting Data'!$I$2:$I$100000,\"4???\",'Accounting Data'!$J$2:$J$100000,\"681?\")","v":{"v":0,"d":"0 "}},{"$f":"SUMIFS('Accounting Data'!$C$2:$C$100000,'Accounting Data'!$E$2:$E$100000,\"9??\",'Accounting Data'!$H$2:$H$100000,\"7??\",'Accounting Data'!$I$2:$I$100000,\"4???\",'Accounting Data'!$J$2:$J$100000,\"681?\")+SUMIFS('Accounting Data'!$C$2:$C$100000,'Accounting Data'!$E$2:$E$100000,\"9??\",'Accounting Data'!$H$2:$H$100000,\"8??\",'Accounting Data'!$I$2:$I$100000,\"4???\",'Accounting Data'!$J$2:$J$100000,\"681?\")+SUMIFS('Accounting Data'!$C$2:$C$100000,'Accounting Data'!$E$2:$E$100000,\"9??\",'Accounting Data'!$H$2:$H$100000,\"9??\",'Accounting Data'!$I$2:$I$100000,\"4???\",'Accounting Data'!$J$2:$J$100000,\"681?\")","v":{"v":0,"d":"0 "}},null,"Function","All funds ","Funds 575,800-999","Programs 700-900","Programs 700-900 Funds 575","Programs 700-900 Funds 800-899","Programs 700-900 Funds 900-999",{"$nulls":17},5000,{"$f":"SUMIFS('Accounting Data'!$C$2:$C$100000,'Accounting Data'!$H$2:$H$100000,\"7??\",'Accounting Data'!$I$2:$I$100000,\"5???\",'Accounting Data'!$J$2:$J$100000,\"6???\")+SUMIFS('Accounting Data'!$C$2:$C$100000,'Accounting Data'!$H$2:$H$100000,\"8??\",'Accounting Data'!$I$2:$I$100000,\"5???\",'Accounting Data'!$J$2:$J$100000,\"6???\")+SUMIFS('Accounting Data'!$C$2:$C$100000,'Accounting Data'!$H$2:$H$100000,\"9??\",'Accounting Data'!$I$2:$I$100000,\"5???\",'Accounting Data'!$J$2:$J$100000,\"6???\")","v":{"v":0,"d":"0 "}},{"$f":"SUMIFS('Accounting Data'!$C$2:$C$100000,'Accounting Data'!$H$2:$H$100000,\"7??\",'Accounting Data'!$I$2:$I$100000,\"5???\",'Accounting Data'!$J$2:$J$100000,\"69??\")+SUMIFS('Accounting Data'!$C$2:$C$100000,'Accounting Data'!$H$2:$H$100000,\"8??\",'Accounting Data'!$I$2:$I$100000,\"5???\",'Accounting Data'!$J$2:$J$100000,\"69??\")+SUMIFS('Accounting Data'!$C$2:$C$100000,'Accounting Data'!$H$2:$H$100000,\"9??\",'Accounting Data'!$I$2:$I$100000,\"5???\",'Accounting Data'!$J$2:$J$100000,\"69??\")","v":{"v":0,"d":"0 "}},{"$f":"SUMIFS('Accounting Data'!$C$2:$C$100000,'Accounting Data'!$E$2:$E$100000,\"575\",'Accounting Data'!$H$2:$H$100000,\"7??\",'Accounting Data'!$I$2:$I$100000,\"5???\",'Accounting Data'!$J$2:$J$100000,\"6???\")+SUMIFS('Accounting Data'!$C$2:$C$100000,'Accounting Data'!$E$2:$E$100000,\"575\",'Accounting Data'!$H$2:$H$100000,\"8??\",'Accounting Data'!$I$2:$I$100000,\"5???\",'Accounting Data'!$J$2:$J$100000,\"6???\")+SUMIFS('Accounting Data'!$C$2:$C$100000,'Accounting Data'!$E$2:$E$100000,\"575\",'Accounting Data'!$H$2:$H$100000,\"9??\",'Accounting Data'!$I$2:$I$100000,\"5???\",'Accounting Data'!$J$2:$J$100000,\"6???\")","v":{"v":0,"d":"0 "}},{"$f":"SUMIFS('Accounting Data'!$C$2:$C$100000,'Accounting Data'!$E$2:$E$100000,\"8??\",'Accounting Data'!$H$2:$H$100000,\"7??\",'Accounting Data'!$I$2:$I$100000,\"5???\",'Accounting Data'!$J$2:$J$100000,\"6???\")+SUMIFS('Accounting Data'!$C$2:$C$100000,'Accounting Data'!$E$2:$E$100000,\"8??\",'Accounting Data'!$H$2:$H$100000,\"8??\",'Accounting Data'!$I$2:$I$100000,\"5???\",'Accounting Data'!$J$2:$J$100000,\"6???\")+SUMIFS('Accounting Data'!$C$2:$C$100000,'Accounting Data'!$E$2:$E$100000,\"8??\",'Accounting Data'!$H$2:$H$100000,\"9??\",'Accounting Data'!$I$2:$I$100000,\"5???\",'Accounting Data'!$J$2:$J$100000,\"6???\")+SUMIFS('Accounting Data'!$C$2:$C$100000,'Accounting Data'!$E$2:$E$100000,\"9??\",'Accounting Data'!$H$2:$H$100000,\"7??\",'Accounting Data'!$I$2:$I$100000,\"5???\",'Accounting Data'!$J$2:$J$100000,\"6???\")+SUMIFS('Accounting Data'!$C$2:$C$100000,'Accounting Data'!$E$2:$E$100000,\"9??\",'Accounting Data'!$H$2:$H$100000,\"8??\",'Accounting Data'!$I$2:$I$100000,\"5???\",'Accounting Data'!$J$2:$J$100000,\"6???\")+SUMIFS('Accounting Data'!$C$2:$C$100000,'Accounting Data'!$E$2:$E$100000,\"9??\",'Accounting Data'!$H$2:$H$100000,\"9??\",'Accounting Data'!$I$2:$I$100000,\"5???\",'Accounting Data'!$J$2:$J$100000,\"6???\")","v":{"v":0,"d":"0 "}},{"$f":"SUMIFS('Accounting Data'!$C$2:$C$100000,'Accounting Data'!$E$2:$E$100000,\"575\",'Accounting Data'!$H$2:$H$100000,\"7??\",'Accounting Data'!$I$2:$I$100000,\"5???\",'Accounting Data'!$J$2:$J$100000,\"69??\")+SUMIFS('Accounting Data'!$C$2:$C$100000,'Accounting Data'!$E$2:$E$100000,\"575\",'Accounting Data'!$H$2:$H$100000,\"8??\",'Accounting Data'!$I$2:$I$100000,\"5???\",'Accounting Data'!$J$2:$J$100000,\"69??\")+SUMIFS('Accounting Data'!$C$2:$C$100000,'Accounting Data'!$E$2:$E$100000,\"575\",'Accounting Data'!$H$2:$H$100000,\"9??\",'Accounting Data'!$I$2:$I$100000,\"5???\",'Accounting Data'!$J$2:$J$100000,\"69??\")","v":{"v":0,"d":"0 "}},{"$f":"SUMIFS('Accounting Data'!$C$2:$C$100000,'Accounting Data'!$E$2:$E$100000,\"8??\",'Accounting Data'!$H$2:$H$100000,\"7??\",'Accounting Data'!$I$2:$I$100000,\"5???\",'Accounting Data'!$J$2:$J$100000,\"69??\")+SUMIFS('Accounting Data'!$C$2:$C$100000,'Accounting Data'!$E$2:$E$100000,\"8??\",'Accounting Data'!$H$2:$H$100000,\"8??\",'Accounting Data'!$I$2:$I$100000,\"5???\",'Accounting Data'!$J$2:$J$100000,\"69??\")+SUMIFS('Accounting Data'!$C$2:$C$100000,'Accounting Data'!$E$2:$E$100000,\"8??\",'Accounting Data'!$H$2:$H$100000,\"9??\",'Accounting Data'!$I$2:$I$100000,\"5???\",'Accounting Data'!$J$2:$J$100000,\"69??\")+SUMIFS('Accounting Data'!$C$2:$C$100000,'Accounting Data'!$E$2:$E$100000,\"9??\",'Accounting Data'!$H$2:$H$100000,\"7??\",'Accounting Data'!$I$2:$I$100000,\"5???\",'Accounting Data'!$J$2:$J$100000,\"69??\")+SUMIFS('Accounting Data'!$C$2:$C$100000,'Accounting Data'!$E$2:$E$100000,\"9??\",'Accounting Data'!$H$2:$H$100000,\"8??\",'Accounting Data'!$I$2:$I$100000,\"5???\",'Accounting Data'!$J$2:$J$100000,\"69??\")+SUMIFS('Accounting Data'!$C$2:$C$100000,'Accounting Data'!$E$2:$E$100000,\"9??\",'Accounting Data'!$H$2:$H$100000,\"9??\",'Accounting Data'!$I$2:$I$100000,\"5???\",'Accounting Data'!$J$2:$J$100000,\"69??\")","v":{"v":0,"d":"0 "}}]
["4000 Facilities Acquisition and Construction","16.",{"$f":"(AA26-AB26-AC26)+(AD26+AE26+AF26)","v":{"v":0,"d":"0 "}},{"$f":"(AI26-AJ26-AK26)+(AL26+AM26+AN26)","v":{"v":0,"d":"0 "}},{"$f":"(AQ26-AR26-AS26-AT26-AU26)+(AV26+AW26+AX26+AY26+AZ26+BA26+BB26+BC26+BD26)","v":{"v":0,"d":"0 "}},{"$f":"(BG26-BH26-BI26)+(BJ26+BK26+BL26)","v":{"v":0,"d":"0 "}},{"$f":"(BO26-BP26-BQ26)+(BR26+BS26+BT26)","v":{"v":0,"d":"0 "}},{"$f":"(BW26-BX26-BY26)+(BZ26+CA26+CB26)","v":{"v":0,"d":"0 "}},{"$nulls":3},{"$f":"(CU25-CV25-CW25)+(CX25+CY25+CZ25)","v":{"v":0,"d":"0 "}},{"$f":"(DC25-DD25)-((DE25+DF25)-(DG25+DH25))","v":{"v":0,"d":"0 "}},{"v":0,"d":"0 "},"16.",{"$nulls":3},6890,{"$f":"SUMIFS('Accounting Data'!$C$2:$C$100000,'Accounting Data'!$E$2:$E$100000,\"378\",'Accounting Data'!$I$2:$I$100000,\"1???\",'Accounting Data'!$J$2:$J$100000,\"689?\")+SUMIFS('Accounting Data'!$C$2:$C$100000,'Accounting Data'!$E$2:$E$100000,\"378\",'Accounting Data'!$I$2:$I$100000,\"2???\",'Accounting Data'!$J$2:$J$100000,\"689?\")+SUMIFS('Accounting Data'!$C$2:$C$100000,'Accounting Data'!$E$2:$E$100000,\"378\",'Accounting Data'!$I$2:$I$100000,\"3???\",'Accounting Data'!$J$2:$J$100000,\"689?\")","v":{"v":0,"d":"0 "}},{"v":0,"d":"0 "},{"v":0,"d":"0 "},{"v":0,"d":"0 "}]
["5000 Debt Service","17.",{"$nulls":7},{"$f":"(CE28-CF28-CG28)+(CH28+CI28+CJ28)","v":{"v":0,"d":"0 "}},{"$f":"(CE22-CF22-CG22-CH22-CI22)+(CJ22+CK22+CL22+CM22+CN22+CO22+CP22+CQ22+CR22)","v":{"v":0,"d":"0 "}},null,{"$f":"(DC26-DD26)-((DE26+DF26)-(DG26+DH26))","v":{"v":0,"d":"0 "}},{"$f":"SUM(C28:M28)","v":{"v":0,"d":"0 "}},"17.",{"$nulls":3},"Total",{"$f":"SUM(T19:T27)","v":{"v":0,"d":"0 "}},{"$nulls":5},"Federal Funds: 100-399, 639, 699, and 720",{"$nulls":55},5000,{"$f":"SUMIFS('Accounting Data'!C2:C100000,'Accounting Data'!I2:I100000,\"5???\",'Accounting Data'!J2:J100000,\"6831\")+SUMIFS('Accounting Data'!C2:C100000,'Accounting Data'!I2:I100000,\"5???\",'Accounting Data'!J2:J100000,\"6832\")+SUMIFS('Accounting Data'!C2:C100000,'Accounting Data'!I2:I100000,\"5???\",'Accounting Data'!J2:J100000,\"6833\")","v":{"v":0,"d":"0 "}},{"$f":"SUMIFS('Accounting Data'!C2:C100000,'Accounting Data'!E2:E100000,\"575\",'Accounting Data'!I2:I100000,\"5???\",'Accounting Data'!J2:J100000,\"6831\")+SUMIFS('Accounting Data'!C2:C100000,'Accounting Data'!E2:E100000,\"8??\",'Accounting Data'!I2:I100000,\"5???\",'Accounting Data'!J2:J100000,\"6831\")+SUMIFS('Accounting Data'!C2:C100000,'Accounting Data'!E2:E100000,\"9??\",'Accounting Data'!I2:I100000,\"5???\",'Accounting Data'!J2:J100000,\"6831\")+SUMIFS('Accounting Data'!C2:C100000,'Accounting Data'!E2:E100000,\"575\",'Accounting Data'!I2:I100000,\"5???\",'Accounting Data'!J2:J100000,\"6832\")+SUMIFS('Accounting Data'!C2:C100000,'Accounting Data'!E2:E100000,\"8??\",'Accounting Data'!I2:I100000,\"5???\",'Accounting Data'!J2:J100000,\"6832\")+SUMIFS('Accounting Data'!C2:C100000,'Accounting Data'!E2:E100000,\"9??\",'Accounting Data'!I2:I100000,\"5???\",'Accounting Data'!J2:J100000,\"6832\")+SUMIFS('Accounting Data'!C2:C100000,'Accounting Data'!E2:E100000,\"575\",'Accounting Data'!I2:I100000,\"5???\",'Accounting Data'!J2:J100000,\"6833\")+SUMIFS('Accounting Data'!C2:C100000,'Accounting Data'!E2:E100000,\"8??\",'Accounting Data'!I2:I100000,\"5???\",'Accounting Data'!J2:J100000,\"6833\")+SUMIFS('Accounting Data'!C2:C100000,'Accounting Data'!E2:E100000,\"9??\",'Accounting Data'!I2:I100000,\"5???\",'Accounting Data'!J2:J100000,\"6833\")","v":{"v":0,"d":"0 "}},{"$f":"SUMIFS('Accounting Data'!C2:C100000,'Accounting Data'!H2:H100000,\"7??\",'Accounting Data'!I2:I100000,\"5???\",'Accounting Data'!J2:J100000,\"6831\")+SUMIFS('Accounting Data'!C2:C100000,'Accounting Data'!H2:H100000,\"8??\",'Accounting Data'!I2:I100000,\"5???\",'Accounting Data'!J2:J100000,\"6831\")+SUMIFS('Accounting Data'!C2:C100000,'Accounting Data'!H2:H100000,\"9??\",'Accounting Data'!I2:I100000,\"5???\",'Accounting Data'!J2:J100000,\"6831\")+SUMIFS('Accounting Data'!C2:C100000,'Accounting Data'!H2:H100000,\"7??\",'Accounting Data'!I2:I100000,\"5???\",'Accounting Data'!J2:J100000,\"6832\")+SUMIFS('Accounting Data'!C2:C100000,'Accounting Data'!H2:H100000,\"8??\",'Accounting Data'!I2:I100000,\"5???\",'Accounting Data'!J2:J100000,\"6832\")+SUMIFS('Accounting Data'!C2:C100000,'Accounting Data'!H2:H100000,\"9??\",'Accounting Data'!I2:I100000,\"5???\",'Accounting Data'!J2:J100000,\"6832\")+SUMIFS('Accounting Data'!C2:C100000,'Accounting Data'!H2:H100000,\"7??\",'Accounting Data'!I2:I100000,\"5???\",'Accounting Data'!J2:J100000,\"6833\")+SUMIFS('Accounting Data'!C2:C100000,'Accounting Data'!H2:H100000,\"8??\",'Accounting Data'!I2:I100000,\"5???\",'Accounting Data'!J2:J100000,\"6833\")+SUMIFS('Accounting Data'!C2:C100000,'Accounting Data'!H2:H100000,\"9??\",'Accounting Data'!I2:I100000,\"5???\",'Accounting Data'!J2:J100000,\"6833\")","v":{"v":0,"d":"0 "}},{"$f":"SUMIFS('Accounting Data'!C2:C100000,'Accounting Data'!E2:E100000,\"575\",'Accounting Data'!H2:H100000,\"7??\",'Accounting Data'!I2:I100000,\"5???\",'Accounting Data'!J2:J100000,\"6831\")+SUMIFS('Accounting Data'!C2:C100000,'Accounting Data'!E2:E100000,\"575\",'Accounting Data'!H2:H100000,\"8??\",'Accounting Data'!I2:I100000,\"5???\",'Accounting Data'!J2:J100000,\"6831\")+SUMIFS('Accounting Data'!C2:C100000,'Accounting Data'!E2:E100000,\"575\",'Accounting Data'!H2:H100000,\"9??\",'Accounting Data'!I2:I100000,\"5???\",'Accounting Data'!J2:J100000,\"6831\")+SUMIFS('Accounting Data'!C2:C100000,'Accounting Data'!E2:E100000,\"575\",'Accounting Data'!H2:H100000,\"7??\",'Accounting Data'!I2:I100000,\"5???\",'Accounting Data'!J2:J100000,\"6832\")+SUMIFS('Accounting Data'!C2:C100000,'Accounting Data'!E2:E100000,\"575\",'Accounting Data'!H2:H100000,\"8??\",'Accounting Data'!I2:I100000,\"5???\",'Accounting Data'!J2:J100000,\"6832\")+SUMIFS('Accounting Data'!C2:C100000,'Accounting Data'!E2:E100000,\"575\",'Accounting Data'!H2:H100000,\"9??\",'Accounting Data'!I2:I100000,\"5???\",'Accounting Data'!J2:J100000,\"6832\")+SUMIFS('Accounting Data'!C2:C100000,'Accounting Data'!E2:E100000,\"575\",'Accounting Data'!H2:H100000,\"7??\",'Accounting Data'!I2:I100000,\"5???\",'Accounting Data'!J2:J100000,\"6833\")+SUMIFS('Accounting Data'!C2:C100000,'Accounting Data'!E2:E100000,\"575\",'Accounting Data'!H2:H100000,\"8??\",'Accounting Data'!I2:I100000,\"5???\",'Accounting Data'!J2:J100000,\"6833\")+SUMIFS('Accounting Data'!C2:C100000,'Accounting Data'!E2:E100000,\"575\",'Accounting Data'!H2:H100000,\"9??\",'Accounting Data'!I2:I100000,\"5???\",'Accounting Data'!J2:J100000,\"6833\")","v":{"v":0,"d":"0 "}},{"$f":"SUMIFS('Accounting Data'!C2:C100000,'Accounting Data'!E2:E100000,\"8??\",'Accounting Data'!H2:H100000,\"7??\",'Accounting Data'!I2:I100000,\"5???\",'Accounting Data'!J2:J100000,\"6831\")+SUMIFS('Accounting Data'!C2:C100000,'Accounting Data'!E2:E100000,\"8??\",'Accounting Data'!H2:H100000,\"8??\",'Accounting Data'!I2:I100000,\"5???\",'Accounting Data'!J2:J100000,\"6831\")+SUMIFS('Accounting Data'!C2:C100000,'Accounting Data'!E2:E100000,\"8??\",'Accounting Data'!H2:H100000,\"9??\",'Accounting Data'!I2:I100000,\"5???\",'Accounting Data'!J2:J100000,\"6831\")+SUMIFS('Accounting Data'!C2:C100000,'Accounting Data'!E2:E100000,\"8??\",'Accounting Data'!H2:H100000,\"7??\",'Accounting Data'!I2:I100000,\"5???\",'Accounting Data'!J2:J100000,\"6832\")+SUMIFS('Accounting Data'!C2:C100000,'Accounting Data'!E2:E100000,\"8??\",'Accounting Data'!H2:H100000,\"8??\",'Accounting Data'!I2:I100000,\"5???\",'Accounting Data'!J2:J100000,\"6832\")+SUMIFS('Accounting Data'!C2:C100000,'Accounting Data'!E2:E100000,\"8??\",'Accounting Data'!H2:H100000,\"9??\",'Accounting Data'!I2:I100000,\"5???\",'Accounting Data'!J2:J100000,\"6832\")+SUMIFS('Accounting Data'!C2:C100000,'Accounting Data'!E2:E100000,\"8??\",'Accounting Data'!H2:H100000,\"7??\",'Accounting Data'!I2:I100000,\"5???\",'Accounting Data'!J2:J100000,\"6833\")+SUMIFS('Accounting Data'!C2:C100000,'Accounting Data'!E2:E100000,\"8??\",'Accounting Data'!H2:H100000,\"8??\",'Accounting Data'!I2:I100000,\"5???\",'Accounting Data'!J2:J100000,\"6833\")+SUMIFS('Accounting Data'!C2:C100000,'Accounting Data'!E2:E100000,\"8??\",'Accounting Data'!H2:H100000,\"9??\",'Accounting Data'!I2:I100000,\"5???\",'Accounting Data'!J2:J100000,\"6833\")","v":{"v":0,"d":"0 "}},{"$f":"SUMIFS('Accounting Data'!C2:C100000,'Accounting Data'!E2:E100000,\"9??\",'Accounting Data'!H2:H100000,\"7??\",'Accounting Data'!I2:I100000,\"5???\",'Accounting Data'!J2:J100000,\"6831\")+SUMIFS('Accounting Data'!C2:C100000,'Accounting Data'!E2:E100000,\"9??\",'Accounting Data'!H2:H100000,\"8??\",'Accounting Data'!I2:I100000,\"5???\",'Accounting Data'!J2:J100000,\"6831\")+SUMIFS('Accounting Data'!C2:C100000,'Accounting Data'!E2:E100000,\"9??\",'Accounting Data'!H2:H100000,\"9??\",'Accounting Data'!I2:I100000,\"5???\",'Accounting Data'!J2:J100000,\"6831\")+SUMIFS('Accounting Data'!C2:C100000,'Accounting Data'!E2:E100000,\"9??\",'Accounting Data'!H2:H100000,\"7??\",'Accounting Data'!I2:I100000,\"5???\",'Accounting Data'!J2:J100000,\"6832\")+SUMIFS('Accounting Data'!C2:C100000,'Accounting Data'!E2:E100000,\"9??\",'Accounting Data'!H2:H100000,\"8??\",'Accounting Data'!I2:I100000,\"5???\",'Accounting Data'!J2:J100000,\"6832\")+SUMIFS('Accounting Data'!C2:C100000,'Accounting Data'!E2:E100000,\"9??\",'Accounting Data'!H2:H100000,\"9??\",'Accounting Data'!I2:I100000,\"5???\",'Accounting Data'!J2:J100000,\"6832\")+SUMIFS('Accounting Data'!C2:C100000,'Accounting Data'!E2:E100000,\"9??\",'Accounting Data'!H2:H100000,\"7??\",'Accounting Data'!I2:I100000,\"5???\",'Accounting Data'!J2:J100000,\"6833\")+SUMIFS('Accounting Data'!C2:C100000,'Accounting Data'!E2:E100000,\"9??\",'Accounting Data'!H2:H100000,\"8??\",'Accounting Data'!I2:I100000,\"5???\",'Accounting Data'!J2:J100000,\"6833\")+SUMIFS('Accounting Data'!C2:C100000,'Accounting Data'!E2:E100000,\"9??\",'Accounting Data'!H2:H100000,\"9??\",'Accounting Data'!I2:I100000,\"5???\",'Accounting Data'!J2:J100000,\"6833\")","v":{"v":0,"d":"0 "}}]
[{"$nulls":26},"All programs","All programs","All programs","Program 700","Program 800","Program 900","Program 700","Program 800","Program 900","Program 700","Program 800","Program 900"]
[{"$nulls":25},"Object","Function 1000","Function 2000","Function 3000","Function 1000","Function 1000","Function 1000","Function 2000","Function 2000","Function 2000","Function 3000","Function 3000","Function 3000"]
["Teacher Salaries (Funds 001-799 excluding 575, Function 1000)",{"$nulls":7},"Programs 700-900 Expenditure Detail (Funds 001-799, excluding 575)",{"$nulls":7},"Certified teacher and substitute salaries",{"$nulls":8},6100,{"$f":"SUMIFS('Accounting Data'!C2:C100000,'Accounting Data'!E2:E100000,\"1??\",'Accounting Data'!I2:I100000,\"1???\",'Accounting Data'!J2:J100000,\"61??\")+SUMIFS('Accounting Data'!C2:C100000,'Accounting Data'!E2:E100000,\"2??\",'Accounting Data'!I2:I100000,\"1???\",'Accounting Data'!J2:J100000,\"61??\")+SUMIFS('Accounting Data'!C2:C100000,'Accounting Data'!E2:E100000,\"3??\",'Accounting Data'!I2:I100000,\"1???\",'Accounting Data'!J2:J100000,\"61??\")+SUMIFS('Accounting Data'!C2:C100000,'Accounting Data'!E2:E100000,\"639\",'Accounting Data'!I2:I100000,\"1???\",'Accounting Data'!J2:J100000,\"61??\")+SUMIFS('Accounting Data'!C2:C100000,'Accounting Data'!E2:E100000,\"699\",'Accounting Data'!I2:I100000,\"1???\",'Accounting Data'!J2:J100000,\"61??\")+SUMIFS('Accounting Data'!C2:C100000,'Accounting Data'!E2:E100000,\"720\",'Accounting Data'!I2:I100000,\"1???\",'Accounting Data'!J2:J100000,\"61??\")+SUMIFS('Accounting Data'!C2:C100000,'Accounting Data'!E2:E100000,\"COVID\",'Accounting Data'!I2:I100000,\"1???\",'Accounting Data'!J2:J100000,\"61??\")","v":{"v":95857,"d":"95,857 "}},{"$f":"SUMIFS('Accounting Data'!C2:C100000,'Accounting Data'!E2:E100000,\"1??\",'Accounting Data'!I2:I100000,\"2???\",'Accounting Data'!J2:J100000,\"61??\")+SUMIFS('Accounting Data'!C2:C100000,'Accounting Data'!E2:E100000,\"2??\",'Accounting Data'!I2:I100000,\"2???\",'Accounting Data'!J2:J100000,\"61??\")+SUMIFS('Accounting Data'!C2:C100000,'Accounting Data'!E2:E100000,\"3??\",'Accounting Data'!I2:I100000,\"2???\",'Accounting Data'!J2:J100000,\"61??\")+SUMIFS('Accounting Data'!C2:C100000,'Accounting Data'!E2:E100000,\"639\",'Accounting Data'!I2:I100000,\"2???\",'Accounting Data'!J2:J100000,\"61??\")+SUMIFS('Accounting Data'!C2:C100000,'Accounting Data'!E2:E100000,\"699\",'Accounting Data'!I2:I100000,\"2???\",'Accounting Data'!J2:J100000,\"61??\")+SUMIFS('Accounting Data'!C2:C100000,'Accounting Data'!E2:E100000,\"720\",'Accounting Data'!I2:I100000,\"2???\",'Accounting Data'!J2:J100000,\"61??\")+SUMIFS('Accounting Data'!C2:C100000,'Accounting Data'!E2:E100000,\"COVID\",'Accounting Data'!I2:I100000,\"2???\",'Accounting Data'!J2:J100000,\"61??\")","v":{"v":0,"d":"0 "}},{"$f":"SUMIFS('Accounting Data'!C2:C100000,'Accounting Data'!E2:E100000,\"1??\",'Accounting Data'!I2:I100000,\"3???\",'Accounting Data'!J2:J100000,\"61??\")+SUMIFS('Accounting Data'!C2:C100000,'Accounting Data'!E2:E100000,\"2??\",'Accounting Data'!I2:I100000,\"3???\",'Accounting Data'!J2:J100000,\"61??\")+SUMIFS('Accounting Data'!C2:C100000,'Accounting Data'!E2:E100000,\"3??\",'Accounting Data'!I2:I100000,\"3???\",'Accounting Data'!J2:J100000,\"61??\")+SUMIFS('Accounting Data'!C2:C100000,'Accounting Data'!E2:E100000,\"639\",'Accounting Data'!I2:I100000,\"3???\",'Accounting Data'!J2:J100000,\"61??\")+SUMIFS('Accounting Data'!C2:C100000,'Accounting Data'!E2:E100000,\"699\",'Accounting Data'!I2:I100000,\"3???\",'Accounting Data'!J2:J100000,\"61??\")+SUMIFS('Accounting Data'!C2:C100000,'Accounting Data'!E2:E100000,\"720\",'Accounting Data'!I2:I100000,\"3???\",'Accounting Data'!J2:J100000,\"61??\")+SUMIFS('Accounting Data'!C2:C100000,'Accounting Data'!E2:E100000,\"COVID\",'Accounting Data'!I2:I100000,\"3???\",'Accounting Data'!J2:J100000,\"61??\")","v":{"v":0,"d":"0 "}},{"$f":"SUMIFS('Accounting Data'!C2:C100000,'Accounting Data'!E2:E100000,\"1??\",'Accounting Data'!H2:H100000,\"7??\",'Accounting Data'!I2:I100000,\"1???\",'Accounting Data'!J2:J100000,\"61??\")+SUMIFS('Accounting Data'!C2:C100000,'Accounting Data'!E2:E100000,\"2??\",'Accounting Data'!H2:H100000,\"7??\",'Accounting Data'!I2:I100000,\"1???\",'Accounting Data'!J2:J100000,\"61??\")+SUMIFS('Accounting Data'!C2:C100000,'Accounting Data'!E2:E100000,\"3??\",'Accounting Data'!H2:H100000,\"7??\",'Accounting Data'!I2:I100000,\"1???\",'Accounting Data'!J2:J100000,\"61??\")+SUMIFS('Accounting Data'!C2:C100000,'Accounting Data'!E2:E100000,\"639\",'Accounting Data'!H2:H100000,\"7??\",'Accounting Data'!I2:I100000,\"1???\",'Accounting Data'!J2:J100000,\"61??\")+SUMIFS('Accounting Data'!C2:C100000,'Accounting Data'!E2:E100000,\"699\",'Accounting Data'!H2:H100000,\"7??\",'Accounting Data'!I2:I100000,\"1???\",'Accounting Data'!J2:J100000,\"61??\")+SUMIFS('Accounting Data'!C2:C100000,'Accounting Data'!E2:E100000,\"720\",'Accounting Data'!H2:H100000,\"7??\",'Accounting Data'!I2:I100000,\"1???\",'Accounting Data'!J2:J100000,\"61??\")+SUMIFS('Accounting Data'!C2:C100000,'Accounting Data'!E2:E100000,\"COVID\",'Accounting Data'!H2:H100000,\"7??\",'Accounting Data'!I2:I100000,\"1???\",'Accounting Data'!J2:J100000,\"61??\")","v":{"v":0,"d":"0 "}},{"$f":"SUMIFS('Accounting Data'!C2:C100000,'Accounting Data'!E2:E100000,\"1??\",'Accounting Data'!H2:H100000,\"8??\",'Accounting Data'!I2:I100000,\"1???\",'Accounting Data'!J2:J100000,\"61??\")+SUMIFS('Accounting Data'!C2:C100000,'Accounting Data'!E2:E100000,\"2??\",'Accounting Data'!H2:H100000,\"8??\",'Accounting Data'!I2:I100000,\"1???\",'Accounting Data'!J2:J100000,\"61??\")+SUMIFS('Accounting Data'!C2:C100000,'Accounting Data'!E2:E100000,\"3??\",'Accounting Data'!H2:H100000,\"8??\",'Accounting Data'!I2:I100000,\"1???\",'Accounting Data'!J2:J100000,\"61??\")+SUMIFS('Accounting Data'!C2:C100000,'Accounting Data'!E2:E100000,\"639\",'Accounting Data'!H2:H100000,\"8??\",'Accounting Data'!I2:I100000,\"1???\",'Accounting Data'!J2:J100000,\"61??\")+SUMIFS('Accounting Data'!C2:C100000,'Accounting Data'!E2:E100000,\"699\",'Accounting Data'!H2:H100000,\"8??\",'Accounting Data'!I2:I100000,\"1???\",'Accounting Data'!J2:J100000,\"61??\")+SUMIFS('Accounting Data'!C2:C100000,'Accounting Data'!E2:E100000,\"720\",'Accounting Data'!H2:H100000,\"8??\",'Accounting Data'!I2:I100000,\"1???\",'Accounting Data'!J2:J100000,\"61??\")+SUMIFS('Accounting Data'!C2:C100000,'Accounting Data'!E2:E100000,\"COVID\",'Accounting Data'!H2:H100000,\"8??\",'Accounting Data'!I2:I100000,\"1???\",'Accounting Data'!J2:J100000,\"61??\")","v":{"v":0,"d":"0 "}},{"$f":"SUMIFS('Accounting Data'!C2:C100000,'Accounting Data'!E2:E100000,\"1??\",'Accounting Data'!H2:H100000,\"9??\",'Accounting Data'!I2:I100000,\"1???\",'Accounting Data'!J2:J100000,\"61??\")+SUMIFS('Accounting Data'!C2:C100000,'Accounting Data'!E2:E100000,\"2??\",'Accounting Data'!H2:H100000,\"9??\",'Accounting Data'!I2:I100000,\"1???\",'Accounting Data'!J2:J100000,\"61??\")+SUMIFS('Accounting Data'!C2:C100000,'Accounting Data'!E2:E100000,\"3??\",'Accounting Data'!H2:H100000,\"9??\",'Accounting Data'!I2:I100000,\"1???\",'Accounting Data'!J2:J100000,\"61??\")+SUMIFS('Accounting Data'!C2:C100000,'Accounting Data'!E2:E100000,\"639\",'Accounting Data'!H2:H100000,\"9??\",'Accounting Data'!I2:I100000,\"1???\",'Accounting Data'!J2:J100000,\"61??\")+SUMIFS('Accounting Data'!C2:C100000,'Accounting Data'!E2:E100000,\"699\",'Accounting Data'!H2:H100000,\"9??\",'Accounting Data'!I2:I100000,\"1???\",'Accounting Data'!J2:J100000,\"61??\")+SUMIFS('Accounting Data'!C2:C100000,'Accounting Data'!E2:E100000,\"720\",'Accounting Data'!H2:H100000,\"9??\",'Accounting Data'!I2:I100000,\"1???\",'Accounting Data'!J2:J100000,\"61??\")+SUMIFS('Accounting Data'!C2:C100000,'Accounting Data'!E2:E100000,\"COVID\",'Accounting Data'!H2:H100000,\"9??\",'Accounting Data'!I2:I100000,\"1???\",'Accounting Data'!J2:J100000,\"61??\")","v":{"v":0,"d":"0 "}},{"$f":"SUMIFS('Accounting Data'!C2:C100000,'Accounting Data'!E2:E100000,\"1??\",'Accounting Data'!H2:H100000,\"7??\",'Accounting Data'!I2:I100000,\"2???\",'Accounting Data'!J2:J100000,\"61??\")+SUMIFS('Accounting Data'!C2:C100000,'Accounting Data'!E2:E100000,\"2??\",'Accounting Data'!H2:H100000,\"7??\",'Accounting Data'!I2:I100000,\"2???\",'Accounting Data'!J2:J100000,\"61??\")+SUMIFS('Accounting Data'!C2:C100000,'Accounting Data'!E2:E100000,\"3??\",'Accounting Data'!H2:H100000,\"7??\",'Accounting Data'!I2:I100000,\"2???\",'Accounting Data'!J2:J100000,\"61??\")+SUMIFS('Accounting Data'!C2:C100000,'Accounting Data'!E2:E100000,\"639\",'Accounting Data'!H2:H100000,\"7??\",'Accounting Data'!I2:I100000,\"2???\",'Accounting Data'!J2:J100000,\"61??\")+SUMIFS('Accounting Data'!C2:C100000,'Accounting Data'!E2:E100000,\"699\",'Accounting Data'!H2:H100000,\"7??\",'Accounting Data'!I2:I100000,\"2???\",'Accounting Data'!J2:J100000,\"61??\")+SUMIFS('Accounting Data'!C2:C100000,'Accounting Data'!E2:E100000,\"720\",'Accounting Data'!H2:H100000,\"7??\",'Accounting Data'!I2:I100000,\"2???\",'Accounting Data'!J2:J100000,\"61??\")+SUMIFS('Accounting Data'!C2:C100000,'Accounting Data'!E2:E100000,\"COVID\",'Accounting Data'!H2:H100000,\"7??\",'Accounting Data'!I2:I100000,\"2???\",'Accounting Data'!J2:J100000,\"61??\")","v":{"v":0,"d":"0 "}},{"$f":"SUMIFS('Accounting Data'!C2:C100000,'Accounting Data'!E2:E100000,\"1??\",'Accounting Data'!H2:H100000,\"8??\",'Accounting Data'!I2:I100000,\"2???\",'Accounting Data'!J2:J100000,\"61??\")+SUMIFS('Accounting Data'!C2:C100000,'Accounting Data'!E2:E100000,\"2??\",'Accounting Data'!H2:H100000,\"8??\",'Accounting Data'!I2:I100000,\"2???\",'Accounting Data'!J2:J100000,\"61??\")+SUMIFS('Accounting Data'!C2:C100000,'Accounting Data'!E2:E100000,\"3??\",'Accounting Data'!H2:H100000,\"8??\",'Accounting Data'!I2:I100000,\"2???\",'Accounting Data'!J2:J100000,\"61??\")+SUMIFS('Accounting Data'!C2:C100000,'Accounting Data'!E2:E100000,\"639\",'Accounting Data'!H2:H100000,\"8??\",'Accounting Data'!I2:I100000,\"2???\",'Accounting Data'!J2:J100000,\"61??\")+SUMIFS('Accounting Data'!C2:C100000,'Accounting Data'!E2:E100000,\"699\",'Accounting Data'!H2:H100000,\"8??\",'Accounting Data'!I2:I100000,\"2???\",'Accounting Data'!J2:J100000,\"61??\")+SUMIFS('Accounting Data'!C2:C100000,'Accounting Data'!E2:E100000,\"720\",'Accounting Data'!H2:H100000,\"8??\",'Accounting Data'!I2:I100000,\"2???\",'Accounting Data'!J2:J100000,\"61??\")+SUMIFS('Accounting Data'!C2:C100000,'Accounting Data'!E2:E100000,\"COVID\",'Accounting Data'!H2:H100000,\"8??\",'Accounting Data'!I2:I100000,\"2???\",'Accounting Data'!J2:J100000,\"61??\")","v":{"v":0,"d":"0 "}},{"$f":"SUMIFS('Accounting Data'!C2:C100000,'Accounting Data'!E2:E100000,\"1??\",'Accounting Data'!H2:H100000,\"9??\",'Accounting Data'!I2:I100000,\"2???\",'Accounting Data'!J2:J100000,\"61??\")+SUMIFS('Accounting Data'!C2:C100000,'Accounting Data'!E2:E100000,\"2??\",'Accounting Data'!H2:H100000,\"9??\",'Accounting Data'!I2:I100000,\"2???\",'Accounting Data'!J2:J100000,\"61??\")+SUMIFS('Accounting Data'!C2:C100000,'Accounting Data'!E2:E100000,\"3??\",'Accounting Data'!H2:H100000,\"9??\",'Accounting Data'!I2:I100000,\"2???\",'Accounting Data'!J2:J100000,\"61??\")+SUMIFS('Accounting Data'!C2:C100000,'Accounting Data'!E2:E100000,\"639\",'Accounting Data'!H2:H100000,\"9??\",'Accounting Data'!I2:I100000,\"2???\",'Accounting Data'!J2:J100000,\"61??\")+SUMIFS('Accounting Data'!C2:C100000,'Accounting Data'!E2:E100000,\"699\",'Accounting Data'!H2:H100000,\"9??\",'Accounting Data'!I2:I100000,\"2???\",'Accounting Data'!J2:J100000,\"61??\")+SUMIFS('Accounting Data'!C2:C100000,'Accounting Data'!E2:E100000,\"720\",'Accounting Data'!H2:H100000,\"9??\",'Accounting Data'!I2:I100000,\"2???\",'Accounting Data'!J2:J100000,\"61??\")+SUMIFS('Accounting Data'!C2:C100000,'Accounting Data'!E2:E100000,\"COVID\",'Accounting Data'!H2:H100000,\"9??\",'Accounting Data'!I2:I100000,\"2???\",'Accounting Data'!J2:J100000,\"61??\")","v":{"v":0,"d":"0 "}},{"$f":"SUMIFS('Accounting Data'!C2:C100000,'Accounting Data'!E2:E100000,\"1??\",'Accounting Data'!H2:H100000,\"7??\",'Accounting Data'!I2:I100000,\"3???\",'Accounting Data'!J2:J100000,\"61??\")+SUMIFS('Accounting Data'!C2:C100000,'Accounting Data'!E2:E100000,\"2??\",'Accounting Data'!H2:H100000,\"7??\",'Accounting Data'!I2:I100000,\"3???\",'Accounting Data'!J2:J100000,\"61??\")+SUMIFS('Accounting Data'!C2:C100000,'Accounting Data'!E2:E100000,\"3??\",'Accounting Data'!H2:H100000,\"7??\",'Accounting Data'!I2:I100000,\"3???\",'Accounting Data'!J2:J100000,\"61??\")+SUMIFS('Accounting Data'!C2:C100000,'Accounting Data'!E2:E100000,\"639\",'Accounting Data'!H2:H100000,\"7??\",'Accounting Data'!I2:I100000,\"3???\",'Accounting Data'!J2:J100000,\"61??\")+SUMIFS('Accounting Data'!C2:C100000,'Accounting Data'!E2:E100000,\"699\",'Accounting Data'!H2:H100000,\"7??\",'Accounting Data'!I2:I100000,\"3???\",'Accounting Data'!J2:J100000,\"61??\")+SUMIFS('Accounting Data'!C2:C100000,'Accounting Data'!E2:E100000,\"720\",'Accounting Data'!H2:H100000,\"7??\",'Accounting Data'!I2:I100000,\"3???\",'Accounting Data'!J2:J100000,\"61??\")+SUMIFS('Accounting Data'!C2:C100000,'Accounting Data'!E2:E100000,\"COVID\",'Accounting Data'!H2:H100000,\"7??\",'Accounting Data'!I2:I100000,\"3???\",'Accounting Data'!J2:J100000,\"61??\")","v":{"v":0,"d":"0 "}},{"$f":"SUMIFS('Accounting Data'!C2:C100000,'Accounting Data'!E2:E100000,\"1??\",'Accounting Data'!H2:H100000,\"8??\",'Accounting Data'!I2:I100000,\"3???\",'Accounting Data'!J2:J100000,\"61??\")+SUMIFS('Accounting Data'!C2:C100000,'Accounting Data'!E2:E100000,\"2??\",'Accounting Data'!H2:H100000,\"8??\",'Accounting Data'!I2:I100000,\"3???\",'Accounting Data'!J2:J100000,\"61??\")+SUMIFS('Accounting Data'!C2:C100000,'Accounting Data'!E2:E100000,\"3??\",'Accounting Data'!H2:H100000,\"8??\",'Accounting Data'!I2:I100000,\"3???\",'Accounting Data'!J2:J100000,\"61??\")+SUMIFS('Accounting Data'!C2:C100000,'Accounting Data'!E2:E100000,\"639\",'Accounting Data'!H2:H100000,\"8??\",'Accounting Data'!I2:I100000,\"3???\",'Accounting Data'!J2:J100000,\"61??\")+SUMIFS('Accounting Data'!C2:C100000,'Accounting Data'!E2:E100000,\"699\",'Accounting Data'!H2:H100000,\"8??\",'Accounting Data'!I2:I100000,\"3???\",'Accounting Data'!J2:J100000,\"61??\")+SUMIFS('Accounting Data'!C2:C100000,'Accounting Data'!E2:E100000,\"720\",'Accounting Data'!H2:H100000,\"8??\",'Accounting Data'!I2:I100000,\"3???\",'Accounting Data'!J2:J100000,\"61??\")+SUMIFS('Accounting Data'!C2:C100000,'Accounting Data'!E2:E100000,\"COVID\",'Accounting Data'!H2:H100000,\"8??\",'Accounting Data'!I2:I100000,\"3???\",'Accounting Data'!J2:J100000,\"61??\")","v":{"v":0,"d":"0 "}},{"$f":"SUMIFS('Accounting Data'!C2:C100000,'Accounting Data'!E2:E100000,\"1??\",'Accounting Data'!H2:H100000,\"9??\",'Accounting Data'!I2:I100000,\"3???\",'Accounting Data'!J2:J100000,\"61??\")+SUMIFS('Accounting Data'!C2:C100000,'Accounting Data'!E2:E100000,\"2??\",'Accounting Data'!H2:H100000,\"9??\",'Accounting Data'!I2:I100000,\"3???\",'Accounting Data'!J2:J100000,\"61??\")+SUMIFS('Accounting Data'!C2:C100000,'Accounting Data'!E2:E100000,\"3??\",'Accounting Data'!H2:H100000,\"9??\",'Accounting Data'!I2:I100000,\"3???\",'Accounting Data'!J2:J100000,\"61??\")+SUMIFS('Accounting Data'!C2:C100000,'Accounting Data'!E2:E100000,\"639\",'Accounting Data'!H2:H100000,\"9??\",'Accounting Data'!I2:I100000,\"3???\",'Accounting Data'!J2:J100000,\"61??\")+SUMIFS('Accounting Data'!C2:C100000,'Accounting Data'!E2:E100000,\"699\",'Accounting Data'!H2:H100000,\"9??\",'Accounting Data'!I2:I100000,\"3???\",'Accounting Data'!J2:J100000,\"61??\")+SUMIFS('Accounting Data'!C2:C100000,'Accounting Data'!E2:E100000,\"720\",'Accounting Data'!H2:H100000,\"9??\",'Accounting Data'!I2:I100000,\"3???\",'Accounting Data'!J2:J100000,\"61??\")+SUMIFS('Accounting Data'!C2:C100000,'Accounting Data'!E2:E100000,\"COVID\",'Accounting Data'!H2:H100000,\"9??\",'Accounting Data'!I2:I100000,\"3???\",'Accounting Data'!J2:J100000,\"61??\")","v":{"v":0,"d":"0 "}}]
[{"$nulls":3},"Certified Teachers \n(in Object 6100)","Certified Substitutes \n(in Object 6100)","Contract Teachers \n(in Object 6300)","Contract Substitutes \n(in Object 6300)",{"$nulls":3},"Property","All Other",{"$nulls":13},6200,{"$f":"SUMIFS('Accounting Data'!C2:C100000,'Accounting Data'!E2:E100000,\"1??\",'Accounting Data'!I2:I100000,\"1???\",'Accounting Data'!J2:J100000,\"62??\")+SUMIFS('Accounting Data'!C2:C100000,'Accounting Data'!E2:E100000,\"2??\",'Accounting Data'!I2:I100000,\"1???\",'Accounting Data'!J2:J100000,\"62??\")+SUMIFS('Accounting Data'!C2:C100000,'Accounting Data'!E2:E100000,\"3??\",'Accounting Data'!I2:I100000,\"1???\",'Accounting Data'!J2:J100000,\"62??\")+SUMIFS('Accounting Data'!C2:C100000,'Accounting Data'!E2:E100000,\"639\",'Accounting Data'!I2:I100000,\"1???\",'Accounting Data'!J2:J100000,\"62??\")+SUMIFS('Accounting Data'!C2:C100000,'Accounting Data'!E2:E100000,\"699\",'Accounting Data'!I2:I100000,\"1???\",'Accounting Data'!J2:J100000,\"62??\")+SUMIFS('Accounting Data'!C2:C100000,'Accounting Data'!E2:E100000,\"720\",'Accounting Data'!I2:I100000,\"1???\",'Accounting Data'!J2:J100000,\"62??\")+SUMIFS('Accounting Data'!C2:C100000,'Accounting Data'!E2:E100000,\"COVID\",'Accounting Data'!I2:I100000,\"1???\",'Accounting Data'!J2:J100000,\"62??\")","v":{"v":27085,"d":"27,085 "}},{"$f":"SUMIFS('Accounting Data'!C2:C100000,'Accounting Data'!E2:E100000,\"1??\",'Accounting Data'!I2:I100000,\"2???\",'Accounting Data'!J2:J100000,\"62??\")+SUMIFS('Accounting Data'!C2:C100000,'Accounting Data'!E2:E100000,\"2??\",'Accounting Data'!I2:I100000,\"2???\",'Accounting Data'!J2:J100000,\"62??\")+SUMIFS('Accounting Data'!C2:C100000,'Accounting Data'!E2:E100000,\"3??\",'Accounting Data'!I2:I100000,\"2???\",'Accounting Data'!J2:J100000,\"62??\")+SUMIFS('Accounting Data'!C2:C100000,'Accounting Data'!E2:E100000,\"639\",'Accounting Data'!I2:I100000,\"2???\",'Accounting Data'!J2:J100000,\"62??\")+SUMIFS('Accounting Data'!C2:C100000,'Accounting Data'!E2:E100000,\"699\",'Accounting Data'!I2:I100000,\"2???\",'Accounting Data'!J2:J100000,\"62??\")+SUMIFS('Accounting Data'!C2:C100000,'Accounting Data'!E2:E100000,\"720\",'Accounting Data'!I2:I100000,\"2???\",'Accounting Data'!J2:J100000,\"62??\")+SUMIFS('Accounting Data'!C2:C100000,'Accounting Data'!E2:E100000,\"COVID\",'Accounting Data'!I2:I100000,\"2???\",'Accounting Data'!J2:J100000,\"62??\")","v":{"v":22212,"d":"22,212 "}},{"$f":"SUMIFS('Accounting Data'!C2:C100000,'Accounting Data'!E2:E100000,\"1??\",'Accounting Data'!I2:I100000,\"3???\",'Accounting Data'!J2:J100000,\"62??\")+SUMIFS('Accounting Data'!C2:C100000,'Accounting Data'!E2:E100000,\"2??\",'Accounting Data'!I2:I100000,\"3???\",'Accounting Data'!J2:J100000,\"62??\")+SUMIFS('Accounting Data'!C2:C100000,'Accounting Data'!E2:E100000,\"3??\",'Accounting Data'!I2:I100000,\"3???\",'Accounting Data'!J2:J100000,\"62??\")+SUMIFS('Accounting Data'!C2:C100000,'Accounting Data'!E2:E100000,\"639\",'Accounting Data'!I2:I100000,\"3???\",'Accounting Data'!J2:J100000,\"62??\")+SUMIFS('Accounting Data'!C2:C100000,'Accounting Data'!E2:E100000,\"699\",'Accounting Data'!I2:I100000,\"3???\",'Accounting Data'!J2:J100000,\"62??\")+SUMIFS('Accounting Data'!C2:C100000,'Accounting Data'!E2:E100000,\"720\",'Accounting Data'!I2:I100000,\"3???\",'Accounting Data'!J2:J100000,\"62??\")+SUMIFS('Accounting Data'!C2:C100000,'Accounting Data'!E2:E100000,\"COVID\",'Accounting Data'!I2:I100000,\"3???\",'Accounting Data'!J2:J100000,\"62??\")","v":{"v":0,"d":"0 "}},{"$f":"SUMIFS('Accounting Data'!C2:C100000,'Accounting Data'!E2:E100000,\"1??\",'Accounting Data'!H2:H100000,\"7??\",'Accounting Data'!I2:I100000,\"1???\",'Accounting Data'!J2:J100000,\"62??\")+SUMIFS('Accounting Data'!C2:C100000,'Accounting Data'!E2:E100000,\"2??\",'Accounting Data'!H2:H100000,\"7??\",'Accounting Data'!I2:I100000,\"1???\",'Accounting Data'!J2:J100000,\"62??\")+SUMIFS('Accounting Data'!C2:C100000,'Accounting Data'!E2:E100000,\"3??\",'Accounting Data'!H2:H100000,\"7??\",'Accounting Data'!I2:I100000,\"1???\",'Accounting Data'!J2:J100000,\"62??\")+SUMIFS('Accounting Data'!C2:C100000,'Accounting Data'!E2:E100000,\"639\",'Accounting Data'!H2:H100000,\"7??\",'Accounting Data'!I2:I100000,\"1???\",'Accounting Data'!J2:J100000,\"62??\")+SUMIFS('Accounting Data'!C2:C100000,'Accounting Data'!E2:E100000,\"699\",'Accounting Data'!H2:H100000,\"7??\",'Accounting Data'!I2:I100000,\"1???\",'Accounting Data'!J2:J100000,\"62??\")+SUMIFS('Accounting Data'!C2:C100000,'Accounting Data'!E2:E100000,\"720\",'Accounting Data'!H2:H100000,\"7??\",'Accounting Data'!I2:I100000,\"1???\",'Accounting Data'!J2:J100000,\"62??\")+SUMIFS('Accounting Data'!C2:C100000,'Accounting Data'!E2:E100000,\"COVID\",'Accounting Data'!H2:H100000,\"7??\",'Accounting Data'!I2:I100000,\"1???\",'Accounting Data'!J2:J100000,\"62??\")","v":{"v":0,"d":"0 "}},{"$f":"SUMIFS('Accounting Data'!C2:C100000,'Accounting Data'!E2:E100000,\"1??\",'Accounting Data'!H2:H100000,\"8??\",'Accounting Data'!I2:I100000,\"1???\",'Accounting Data'!J2:J100000,\"62??\")+SUMIFS('Accounting Data'!C2:C100000,'Accounting Data'!E2:E100000,\"2??\",'Accounting Data'!H2:H100000,\"8??\",'Accounting Data'!I2:I100000,\"1???\",'Accounting Data'!J2:J100000,\"62??\")+SUMIFS('Accounting Data'!C2:C100000,'Accounting Data'!E2:E100000,\"3??\",'Accounting Data'!H2:H100000,\"8??\",'Accounting Data'!I2:I100000,\"1???\",'Accounting Data'!J2:J100000,\"62??\")+SUMIFS('Accounting Data'!C2:C100000,'Accounting Data'!E2:E100000,\"639\",'Accounting Data'!H2:H100000,\"8??\",'Accounting Data'!I2:I100000,\"1???\",'Accounting Data'!J2:J100000,\"62??\")+SUMIFS('Accounting Data'!C2:C100000,'Accounting Data'!E2:E100000,\"699\",'Accounting Data'!H2:H100000,\"8??\",'Accounting Data'!I2:I100000,\"1???\",'Accounting Data'!J2:J100000,\"62??\")+SUMIFS('Accounting Data'!C2:C100000,'Accounting Data'!E2:E100000,\"720\",'Accounting Data'!H2:H100000,\"8??\",'Accounting Data'!I2:I100000,\"1???\",'Accounting Data'!J2:J100000,\"62??\")+SUMIFS('Accounting Data'!C2:C100000,'Accounting Data'!E2:E100000,\"COVID\",'Accounting Data'!H2:H100000,\"8??\",'Accounting Data'!I2:I100000,\"1???\",'Accounting Data'!J2:J100000,\"62??\")","v":{"v":0,"d":"0 "}},{"$f":"SUMIFS('Accounting Data'!C2:C100000,'Accounting Data'!E2:E100000,\"1??\",'Accounting Data'!H2:H100000,\"9??\",'Accounting Data'!I2:I100000,\"1???\",'Accounting Data'!J2:J100000,\"62??\")+SUMIFS('Accounting Data'!C2:C100000,'Accounting Data'!E2:E100000,\"2??\",'Accounting Data'!H2:H100000,\"9??\",'Accounting Data'!I2:I100000,\"1???\",'Accounting Data'!J2:J100000,\"62??\")+SUMIFS('Accounting Data'!C2:C100000,'Accounting Data'!E2:E100000,\"3??\",'Accounting Data'!H2:H100000,\"9??\",'Accounting Data'!I2:I100000,\"1???\",'Accounting Data'!J2:J100000,\"62??\")+SUMIFS('Accounting Data'!C2:C100000,'Accounting Data'!E2:E100000,\"639\",'Accounting Data'!H2:H100000,\"9??\",'Accounting Data'!I2:I100000,\"1???\",'Accounting Data'!J2:J100000,\"62??\")+SUMIFS('Accounting Data'!C2:C100000,'Accounting Data'!E2:E100000,\"699\",'Accounting Data'!H2:H100000,\"9??\",'Accounting Data'!I2:I100000,\"1???\",'Accounting Data'!J2:J100000,\"62??\")+SUMIFS('Accounting Data'!C2:C100000,'Accounting Data'!E2:E100000,\"720\",'Accounting Data'!H2:H100000,\"9??\",'Accounting Data'!I2:I100000,\"1???\",'Accounting Data'!J2:J100000,\"62??\")+SUMIFS('Accounting Data'!C2:C100000,'Accounting Data'!E2:E100000,\"COVID\",'Accounting Data'!H2:H100000,\"9??\",'Accounting Data'!I2:I100000,\"1???\",'Accounting Data'!J2:J100000,\"62??\")","v":{"v":0,"d":"0 "}},{"$f":"SUMIFS('Accounting Data'!C2:C100000,'Accounting Data'!E2:E100000,\"1??\",'Accounting Data'!H2:H100000,\"7??\",'Accounting Data'!I2:I100000,\"2???\",'Accounting Data'!J2:J100000,\"62??\")+SUMIFS('Accounting Data'!C2:C100000,'Accounting Data'!E2:E100000,\"2??\",'Accounting Data'!H2:H100000,\"7??\",'Accounting Data'!I2:I100000,\"2???\",'Accounting Data'!J2:J100000,\"62??\")+SUMIFS('Accounting Data'!C2:C100000,'Accounting Data'!E2:E100000,\"3??\",'Accounting Data'!H2:H100000,\"7??\",'Accounting Data'!I2:I100000,\"2???\",'Accounting Data'!J2:J100000,\"62??\")+SUMIFS('Accounting Data'!C2:C100000,'Accounting Data'!E2:E100000,\"639\",'Accounting Data'!H2:H100000,\"7??\",'Accounting Data'!I2:I100000,\"2???\",'Accounting Data'!J2:J100000,\"62??\")+SUMIFS('Accounting Data'!C2:C100000,'Accounting Data'!E2:E100000,\"699\",'Accounting Data'!H2:H100000,\"7??\",'Accounting Data'!I2:I100000,\"2???\",'Accounting Data'!J2:J100000,\"62??\")+SUMIFS('Accounting Data'!C2:C100000,'Accounting Data'!E2:E100000,\"720\",'Accounting Data'!H2:H100000,\"7??\",'Accounting Data'!I2:I100000,\"2???\",'Accounting Data'!J2:J100000,\"62??\")+SUMIFS('Accounting Data'!C2:C100000,'Accounting Data'!E2:E100000,\"COVID\",'Accounting Data'!H2:H100000,\"7??\",'Accounting Data'!I2:I100000,\"2???\",'Accounting Data'!J2:J100000,\"62??\")","v":{"v":0,"d":"0 "}},{"$f":"SUMIFS('Accounting Data'!C2:C100000,'Accounting Data'!E2:E100000,\"1??\",'Accounting Data'!H2:H100000,\"8??\",'Accounting Data'!I2:I100000,\"2???\",'Accounting Data'!J2:J100000,\"62??\")+SUMIFS('Accounting Data'!C2:C100000,'Accounting Data'!E2:E100000,\"2??\",'Accounting Data'!H2:H100000,\"8??\",'Accounting Data'!I2:I100000,\"2???\",'Accounting Data'!J2:J100000,\"62??\")+SUMIFS('Accounting Data'!C2:C100000,'Accounting Data'!E2:E100000,\"3??\",'Accounting Data'!H2:H100000,\"8??\",'Accounting Data'!I2:I100000,\"2???\",'Accounting Data'!J2:J100000,\"62??\")+SUMIFS('Accounting Data'!C2:C100000,'Accounting Data'!E2:E100000,\"639\",'Accounting Data'!H2:H100000,\"8??\",'Accounting Data'!I2:I100000,\"2???\",'Accounting Data'!J2:J100000,\"62??\")+SUMIFS('Accounting Data'!C2:C100000,'Accounting Data'!E2:E100000,\"699\",'Accounting Data'!H2:H100000,\"8??\",'Accounting Data'!I2:I100000,\"2???\",'Accounting Data'!J2:J100000,\"62??\")+SUMIFS('Accounting Data'!C2:C100000,'Accounting Data'!E2:E100000,\"720\",'Accounting Data'!H2:H100000,\"8??\",'Accounting Data'!I2:I100000,\"2???\",'Accounting Data'!J2:J100000,\"62??\")+SUMIFS('Accounting Data'!C2:C100000,'Accounting Data'!E2:E100000,\"COVID\",'Accounting Data'!H2:H100000,\"8??\",'Accounting Data'!I2:I100000,\"2???\",'Accounting Data'!J2:J100000,\"62??\")","v":{"v":0,"d":"0 "}},{"$f":"SUMIFS('Accounting Data'!C2:C100000,'Accounting Data'!E2:E100000,\"1??\",'Accounting Data'!H2:H100000,\"9??\",'Accounting Data'!I2:I100000,\"2???\",'Accounting Data'!J2:J100000,\"62??\")+SUMIFS('Accounting Data'!C2:C100000,'Accounting Data'!E2:E100000,\"2??\",'Accounting Data'!H2:H100000,\"9??\",'Accounting Data'!I2:I100000,\"2???\",'Accounting Data'!J2:J100000,\"62??\")+SUMIFS('Accounting Data'!C2:C100000,'Accounting Data'!E2:E100000,\"3??\",'Accounting Data'!H2:H100000,\"9??\",'Accounting Data'!I2:I100000,\"2???\",'Accounting Data'!J2:J100000,\"62??\")+SUMIFS('Accounting Data'!C2:C100000,'Accounting Data'!E2:E100000,\"639\",'Accounting Data'!H2:H100000,\"9??\",'Accounting Data'!I2:I100000,\"2???\",'Accounting Data'!J2:J100000,\"62??\")+SUMIFS('Accounting Data'!C2:C100000,'Accounting Data'!E2:E100000,\"699\",'Accounting Data'!H2:H100000,\"9??\",'Accounting Data'!I2:I100000,\"2???\",'Accounting Data'!J2:J100000,\"62??\")+SUMIFS('Accounting Data'!C2:C100000,'Accounting Data'!E2:E100000,\"720\",'Accounting Data'!H2:H100000,\"9??\",'Accounting Data'!I2:I100000,\"2???\",'Accounting Data'!J2:J100000,\"62??\")+SUMIFS('Accounting Data'!C2:C100000,'Accounting Data'!E2:E100000,\"COVID\",'Accounting Data'!H2:H100000,\"9??\",'Accounting Data'!I2:I100000,\"2???\",'Accounting Data'!J2:J100000,\"62??\")","v":{"v":0,"d":"0 "}},{"$f":"SUMIFS('Accounting Data'!C2:C100000,'Accounting Data'!E2:E100000,\"1??\",'Accounting Data'!H2:H100000,\"7??\",'Accounting Data'!I2:I100000,\"3???\",'Accounting Data'!J2:J100000,\"62??\")+SUMIFS('Accounting Data'!C2:C100000,'Accounting Data'!E2:E100000,\"2??\",'Accounting Data'!H2:H100000,\"7??\",'Accounting Data'!I2:I100000,\"3???\",'Accounting Data'!J2:J100000,\"62??\")+SUMIFS('Accounting Data'!C2:C100000,'Accounting Data'!E2:E100000,\"3??\",'Accounting Data'!H2:H100000,\"7??\",'Accounting Data'!I2:I100000,\"3???\",'Accounting Data'!J2:J100000,\"62??\")+SUMIFS('Accounting Data'!C2:C100000,'Accounting Data'!E2:E100000,\"639\",'Accounting Data'!H2:H100000,\"7??\",'Accounting Data'!I2:I100000,\"3???\",'Accounting Data'!J2:J100000,\"62??\")+SUMIFS('Accounting Data'!C2:C100000,'Accounting Data'!E2:E100000,\"699\",'Accounting Data'!H2:H100000,\"7??\",'Accounting Data'!I2:I100000,\"3???\",'Accounting Data'!J2:J100000,\"62??\")+SUMIFS('Accounting Data'!C2:C100000,'Accounting Data'!E2:E100000,\"720\",'Accounting Data'!H2:H100000,\"7??\",'Accounting Data'!I2:I100000,\"3???\",'Accounting Data'!J2:J100000,\"62??\")+SUMIFS('Accounting Data'!C2:C100000,'Accounting Data'!E2:E100000,\"COVID\",'Accounting Data'!H2:H100000,\"7??\",'Accounting Data'!I2:I100000,\"3???\",'Accounting Data'!J2:J100000,\"62??\")","v":{"v":0,"d":"0 "}},{"$f":"SUMIFS('Accounting Data'!C2:C100000,'Accounting Data'!E2:E100000,\"1??\",'Accounting Data'!H2:H100000,\"8??\",'Accounting Data'!I2:I100000,\"3???\",'Accounting Data'!J2:J100000,\"62??\")+SUMIFS('Accounting Data'!C2:C100000,'Accounting Data'!E2:E100000,\"2??\",'Accounting Data'!H2:H100000,\"8??\",'Accounting Data'!I2:I100000,\"3???\",'Accounting Data'!J2:J100000,\"62??\")+SUMIFS('Accounting Data'!C2:C100000,'Accounting Data'!E2:E100000,\"3??\",'Accounting Data'!H2:H100000,\"8??\",'Accounting Data'!I2:I100000,\"3???\",'Accounting Data'!J2:J100000,\"62??\")+SUMIFS('Accounting Data'!C2:C100000,'Accounting Data'!E2:E100000,\"639\",'Accounting Data'!H2:H100000,\"8??\",'Accounting Data'!I2:I100000,\"3???\",'Accounting Data'!J2:J100000,\"62??\")+SUMIFS('Accounting Data'!C2:C100000,'Accounting Data'!E2:E100000,\"699\",'Accounting Data'!H2:H100000,\"8??\",'Accounting Data'!I2:I100000,\"3???\",'Accounting Data'!J2:J100000,\"62??\")+SUMIFS('Accounting Data'!C2:C100000,'Accounting Data'!E2:E100000,\"720\",'Accounting Data'!H2:H100000,\"8??\",'Accounting Data'!I2:I100000,\"3???\",'Accounting Data'!J2:J100000,\"62??\")+SUMIFS('Accounting Data'!C2:C100000,'Accounting Data'!E2:E100000,\"COVID\",'Accounting Data'!H2:H100000,\"8??\",'Accounting Data'!I2:I100000,\"3???\",'Accounting Data'!J2:J100000,\"62??\")","v":{"v":0,"d":"0 "}},{"$f":"SUMIFS('Accounting Data'!C2:C100000,'Accounting Data'!E2:E100000,\"1??\",'Accounting Data'!H2:H100000,\"9??\",'Accounting Data'!I2:I100000,\"3???\",'Accounting Data'!J2:J100000,\"62??\")+SUMIFS('Accounting Data'!C2:C100000,'Accounting Data'!E2:E100000,\"2??\",'Accounting Data'!H2:H100000,\"9??\",'Accounting Data'!I2:I100000,\"3???\",'Accounting Data'!J2:J100000,\"62??\")+SUMIFS('Accounting Data'!C2:C100000,'Accounting Data'!E2:E100000,\"3??\",'Accounting Data'!H2:H100000,\"9??\",'Accounting Data'!I2:I100000,\"3???\",'Accounting Data'!J2:J100000,\"62??\")+SUMIFS('Accounting Data'!C2:C100000,'Accounting Data'!E2:E100000,\"639\",'Accounting Data'!H2:H100000,\"9??\",'Accounting Data'!I2:I100000,\"3???\",'Accounting Data'!J2:J100000,\"62??\")+SUMIFS('Accounting Data'!C2:C100000,'Accounting Data'!E2:E100000,\"699\",'Accounting Data'!H2:H100000,\"9??\",'Accounting Data'!I2:I100000,\"3???\",'Accounting Data'!J2:J100000,\"62??\")+SUMIFS('Accounting Data'!C2:C100000,'Accounting Data'!E2:E100000,\"720\",'Accounting Data'!H2:H100000,\"9??\",'Accounting Data'!I2:I100000,\"3???\",'Accounting Data'!J2:J100000,\"62??\")+SUMIFS('Accounting Data'!C2:C100000,'Accounting Data'!E2:E100000,\"COVID\",'Accounting Data'!H2:H100000,\"9??\",'Accounting Data'!I2:I100000,\"3???\",'Accounting Data'!J2:J100000,\"62??\")","v":{"v":0,"d":"0 "}}]
[{"$nulls":10},{"v":6700,"d":"6,700 "},"(excluding 6900)","Total",{"$nulls":3},{"$f":"(((AA10-AB10-AC10)+(AD10+AE10+AF10))-((AA49-AB49-AC49)+(AD49+AE49+AF49)))","v":{"v":170324,"d":"170,324 "}},{"$nulls":8},6300,{"$f":"SUMIFS('Accounting Data'!C2:C100000,'Accounting Data'!E2:E100000,\"1??\",'Accounting Data'!I2:I100000,\"1???\",'Accounting Data'!J2:J100000,\"63??\")+SUMIFS('Accounting Data'!C2:C100000,'Accounting Data'!E2:E100000,\"2??\",'Accounting Data'!I2:I100000,\"1???\",'Accounting Data'!J2:J100000,\"63??\")+SUMIFS('Accounting Data'!C2:C100000,'Accounting Data'!E2:E100000,\"3??\",'Accounting Data'!I2:I100000,\"1???\",'Accounting Data'!J2:J100000,\"63??\")+SUMIFS('Accounting Data'!C2:C100000,'Accounting Data'!E2:E100000,\"639\",'Accounting Data'!I2:I100000,\"1???\",'Accounting Data'!J2:J100000,\"63??\")+SUMIFS('Accounting Data'!C2:C100000,'Accounting Data'!E2:E100000,\"699\",'Accounting Data'!I2:I100000,\"1???\",'Accounting Data'!J2:J100000,\"63??\")+SUMIFS('Accounting Data'!C2:C100000,'Accounting Data'!E2:E100000,\"720\",'Accounting Data'!I2:I100000,\"1???\",'Accounting Data'!J2:J100000,\"63??\")+SUMIFS('Accounting Data'!C2:C100000,'Accounting Data'!E2:E100000,\"COVID\",'Accounting Data'!I2:I100000,\"1???\",'Accounting Data'!J2:J100000,\"63??\")","v":{"v":1120,"d":"1,120 "}},{"$f":"SUMIFS('Accounting Data'!C2:C100000,'Accounting Data'!E2:E100000,\"1??\",'Accounting Data'!I2:I100000,\"2???\",'Accounting Data'!J2:J100000,\"63??\")+SUMIFS('Accounting Data'!C2:C100000,'Accounting Data'!E2:E100000,\"2??\",'Accounting Data'!I2:I100000,\"2???\",'Accounting Data'!J2:J100000,\"63??\")+SUMIFS('Accounting Data'!C2:C100000,'Accounting Data'!E2:E100000,\"3??\",'Accounting Data'!I2:I100000,\"2???\",'Accounting Data'!J2:J100000,\"63??\")+SUMIFS('Accounting Data'!C2:C100000,'Accounting Data'!E2:E100000,\"639\",'Accounting Data'!I2:I100000,\"2???\",'Accounting Data'!J2:J100000,\"63??\")+SUMIFS('Accounting Data'!C2:C100000,'Accounting Data'!E2:E100000,\"699\",'Accounting Data'!I2:I100000,\"2???\",'Accounting Data'!J2:J100000,\"63??\")+SUMIFS('Accounting Data'!C2:C100000,'Accounting Data'!E2:E100000,\"720\",'Accounting Data'!I2:I100000,\"2???\",'Accounting Data'!J2:J100000,\"63??\")+SUMIFS('Accounting Data'!C2:C100000,'Accounting Data'!E2:E100000,\"COVID\",'Accounting Data'!I2:I100000,\"2???\",'Accounting Data'!J2:J100000,\"63??\")","v":{"v":13961,"d":"13,961 "}},{"$f":"SUMIFS('Accounting Data'!C2:C100000,'Accounting Data'!E2:E100000,\"1??\",'Accounting Data'!I2:I100000,\"3???\",'Accounting Data'!J2:J100000,\"63??\")+SUMIFS('Accounting Data'!C2:C100000,'Accounting Data'!E2:E100000,\"2??\",'Accounting Data'!I2:I100000,\"3???\",'Accounting Data'!J2:J100000,\"63??\")+SUMIFS('Accounting Data'!C2:C100000,'Accounting Data'!E2:E100000,\"3??\",'Accounting Data'!I2:I100000,\"3???\",'Accounting Data'!J2:J100000,\"63??\")+SUMIFS('Accounting Data'!C2:C100000,'Accounting Data'!E2:E100000,\"639\",'Accounting Data'!I2:I100000,\"3???\",'Accounting Data'!J2:J100000,\"63??\")+SUMIFS('Accounting Data'!C2:C100000,'Accounting Data'!E2:E100000,\"699\",'Accounting Data'!I2:I100000,\"3???\",'Accounting Data'!J2:J100000,\"63??\")+SUMIFS('Accounting Data'!C2:C100000,'Accounting Data'!E2:E100000,\"720\",'Accounting Data'!I2:I100000,\"3???\",'Accounting Data'!J2:J100000,\"63??\")+SUMIFS('Accounting Data'!C2:C100000,'Accounting Data'!E2:E100000,\"COVID\",'Accounting Data'!I2:I100000,\"3???\",'Accounting Data'!J2:J100000,\"63??\")","v":{"v":0,"d":"0 "}},{"$f":"SUMIFS('Accounting Data'!C2:C100000,'Accounting Data'!E2:E100000,\"1??\",'Accounting Data'!H2:H100000,\"7??\",'Accounting Data'!I2:I100000,\"1???\",'Accounting Data'!J2:J100000,\"63??\")+SUMIFS('Accounting Data'!C2:C100000,'Accounting Data'!E2:E100000,\"2??\",'Accounting Data'!H2:H100000,\"7??\",'Accounting Data'!I2:I100000,\"1???\",'Accounting Data'!J2:J100000,\"63??\")+SUMIFS('Accounting Data'!C2:C100000,'Accounting Data'!E2:E100000,\"3??\",'Accounting Data'!H2:H100000,\"7??\",'Accounting Data'!I2:I100000,\"1???\",'Accounting Data'!J2:J100000,\"63??\")+SUMIFS('Accounting Data'!C2:C100000,'Accounting Data'!E2:E100000,\"639\",'Accounting Data'!H2:H100000,\"7??\",'Accounting Data'!I2:I100000,\"1???\",'Accounting Data'!J2:J100000,\"63??\")+SUMIFS('Accounting Data'!C2:C100000,'Accounting Data'!E2:E100000,\"699\",'Accounting Data'!H2:H100000,\"7??\",'Accounting Data'!I2:I100000,\"1???\",'Accounting Data'!J2:J100000,\"63??\")+SUMIFS('Accounting Data'!C2:C100000,'Accounting Data'!E2:E100000,\"720\",'Accounting Data'!H2:H100000,\"7??\",'Accounting Data'!I2:I100000,\"1???\",'Accounting Data'!J2:J100000,\"63??\")+SUMIFS('Accounting Data'!C2:C100000,'Accounting Data'!E2:E100000,\"COVID\",'Accounting Data'!H2:H100000,\"7??\",'Accounting Data'!I2:I100000,\"1???\",'Accounting Data'!J2:J100000,\"63??\")","v":{"v":0,"d":"0 "}},{"$f":"SUMIFS('Accounting Data'!C2:C100000,'Accounting Data'!E2:E100000,\"1??\",'Accounting Data'!H2:H100000,\"8??\",'Accounting Data'!I2:I100000,\"1???\",'Accounting Data'!J2:J100000,\"63??\")+SUMIFS('Accounting Data'!C2:C100000,'Accounting Data'!E2:E100000,\"2??\",'Accounting Data'!H2:H100000,\"8??\",'Accounting Data'!I2:I100000,\"1???\",'Accounting Data'!J2:J100000,\"63??\")+SUMIFS('Accounting Data'!C2:C100000,'Accounting Data'!E2:E100000,\"3??\",'Accounting Data'!H2:H100000,\"8??\",'Accounting Data'!I2:I100000,\"1???\",'Accounting Data'!J2:J100000,\"63??\")+SUMIFS('Accounting Data'!C2:C100000,'Accounting Data'!E2:E100000,\"639\",'Accounting Data'!H2:H100000,\"8??\",'Accounting Data'!I2:I100000,\"1???\",'Accounting Data'!J2:J100000,\"63??\")+SUMIFS('Accounting Data'!C2:C100000,'Accounting Data'!E2:E100000,\"699\",'Accounting Data'!H2:H100000,\"8??\",'Accounting Data'!I2:I100000,\"1???\",'Accounting Data'!J2:J100000,\"63??\")+SUMIFS('Accounting Data'!C2:C100000,'Accounting Data'!E2:E100000,\"720\",'Accounting Data'!H2:H100000,\"8??\",'Accounting Data'!I2:I100000,\"1???\",'Accounting Data'!J2:J100000,\"63??\")+SUMIFS('Accounting Data'!C2:C100000,'Accounting Data'!E2:E100000,\"COVID\",'Accounting Data'!H2:H100000,\"8??\",'Accounting Data'!I2:I100000,\"1???\",'Accounting Data'!J2:J100000,\"63??\")","v":{"v":0,"d":"0 "}},{"$f":"SUMIFS('Accounting Data'!C2:C100000,'Accounting Data'!E2:E100000,\"1??\",'Accounting Data'!H2:H100000,\"9??\",'Accounting Data'!I2:I100000,\"1???\",'Accounting Data'!J2:J100000,\"63??\")+SUMIFS('Accounting Data'!C2:C100000,'Accounting Data'!E2:E100000,\"2??\",'Accounting Data'!H2:H100000,\"9??\",'Accounting Data'!I2:I100000,\"1???\",'Accounting Data'!J2:J100000,\"63??\")+SUMIFS('Accounting Data'!C2:C100000,'Accounting Data'!E2:E100000,\"3??\",'Accounting Data'!H2:H100000,\"9??\",'Accounting Data'!I2:I100000,\"1???\",'Accounting Data'!J2:J100000,\"63??\")+SUMIFS('Accounting Data'!C2:C100000,'Accounting Data'!E2:E100000,\"639\",'Accounting Data'!H2:H100000,\"9??\",'Accounting Data'!I2:I100000,\"1???\",'Accounting Data'!J2:J100000,\"63??\")+SUMIFS('Accounting Data'!C2:C100000,'Accounting Data'!E2:E100000,\"699\",'Accounting Data'!H2:H100000,\"9??\",'Accounting Data'!I2:I100000,\"1???\",'Accounting Data'!J2:J100000,\"63??\")+SUMIFS('Accounting Data'!C2:C100000,'Accounting Data'!E2:E100000,\"720\",'Accounting Data'!H2:H100000,\"9??\",'Accounting Data'!I2:I100000,\"1???\",'Accounting Data'!J2:J100000,\"63??\")+SUMIFS('Accounting Data'!C2:C100000,'Accounting Data'!E2:E100000,\"COVID\",'Accounting Data'!H2:H100000,\"9??\",'Accounting Data'!I2:I100000,\"1???\",'Accounting Data'!J2:J100000,\"63??\")","v":{"v":0,"d":"0 "}},{"$f":"SUMIFS('Accounting Data'!C2:C100000,'Accounting Data'!E2:E100000,\"1??\",'Accounting Data'!H2:H100000,\"7??\",'Accounting Data'!I2:I100000,\"2???\",'Accounting Data'!J2:J100000,\"63??\")+SUMIFS('Accounting Data'!C2:C100000,'Accounting Data'!E2:E100000,\"2??\",'Accounting Data'!H2:H100000,\"7??\",'Accounting Data'!I2:I100000,\"2???\",'Accounting Data'!J2:J100000,\"63??\")+SUMIFS('Accounting Data'!C2:C100000,'Accounting Data'!E2:E100000,\"3??\",'Accounting Data'!H2:H100000,\"7??\",'Accounting Data'!I2:I100000,\"2???\",'Accounting Data'!J2:J100000,\"63??\")+SUMIFS('Accounting Data'!C2:C100000,'Accounting Data'!E2:E100000,\"639\",'Accounting Data'!H2:H100000,\"7??\",'Accounting Data'!I2:I100000,\"2???\",'Accounting Data'!J2:J100000,\"63??\")+SUMIFS('Accounting Data'!C2:C100000,'Accounting Data'!E2:E100000,\"699\",'Accounting Data'!H2:H100000,\"7??\",'Accounting Data'!I2:I100000,\"2???\",'Accounting Data'!J2:J100000,\"63??\")+SUMIFS('Accounting Data'!C2:C100000,'Accounting Data'!E2:E100000,\"720\",'Accounting Data'!H2:H100000,\"7??\",'Accounting Data'!I2:I100000,\"2???\",'Accounting Data'!J2:J100000,\"63??\")+SUMIFS('Accounting Data'!C2:C100000,'Accounting Data'!E2:E100000,\"COVID\",'Accounting Data'!H2:H100000,\"7??\",'Accounting Data'!I2:I100000,\"2???\",'Accounting Data'!J2:J100000,\"63??\")","v":{"v":0,"d":"0 "}},{"$f":"SUMIFS('Accounting Data'!C2:C100000,'Accounting Data'!E2:E100000,\"1??\",'Accounting Data'!H2:H100000,\"8??\",'Accounting Data'!I2:I100000,\"2???\",'Accounting Data'!J2:J100000,\"63??\")+SUMIFS('Accounting Data'!C2:C100000,'Accounting Data'!E2:E100000,\"2??\",'Accounting Data'!H2:H100000,\"8??\",'Accounting Data'!I2:I100000,\"2???\",'Accounting Data'!J2:J100000,\"63??\")+SUMIFS('Accounting Data'!C2:C100000,'Accounting Data'!E2:E100000,\"3??\",'Accounting Data'!H2:H100000,\"8??\",'Accounting Data'!I2:I100000,\"2???\",'Accounting Data'!J2:J100000,\"63??\")+SUMIFS('Accounting Data'!C2:C100000,'Accounting Data'!E2:E100000,\"639\",'Accounting Data'!H2:H100000,\"8??\",'Accounting Data'!I2:I100000,\"2???\",'Accounting Data'!J2:J100000,\"63??\")+SUMIFS('Accounting Data'!C2:C100000,'Accounting Data'!E2:E100000,\"699\",'Accounting Data'!H2:H100000,\"8??\",'Accounting Data'!I2:I100000,\"2???\",'Accounting Data'!J2:J100000,\"63??\")+SUMIFS('Accounting Data'!C2:C100000,'Accounting Data'!E2:E100000,\"720\",'Accounting Data'!H2:H100000,\"8??\",'Accounting Data'!I2:I100000,\"2???\",'Accounting Data'!J2:J100000,\"63??\")+SUMIFS('Accounting Data'!C2:C100000,'Accounting Data'!E2:E100000,\"COVID\",'Accounting Data'!H2:H100000,\"8??\",'Accounting Data'!I2:I100000,\"2???\",'Accounting Data'!J2:J100000,\"63??\")","v":{"v":0,"d":"0 "}},{"$f":"SUMIFS('Accounting Data'!C2:C100000,'Accounting Data'!E2:E100000,\"1??\",'Accounting Data'!H2:H100000,\"9??\",'Accounting Data'!I2:I100000,\"2???\",'Accounting Data'!J2:J100000,\"63??\")+SUMIFS('Accounting Data'!C2:C100000,'Accounting Data'!E2:E100000,\"2??\",'Accounting Data'!H2:H100000,\"9??\",'Accounting Data'!I2:I100000,\"2???\",'Accounting Data'!J2:J100000,\"63??\")+SUMIFS('Accounting Data'!C2:C100000,'Accounting Data'!E2:E100000,\"3??\",'Accounting Data'!H2:H100000,\"9??\",'Accounting Data'!I2:I100000,\"2???\",'Accounting Data'!J2:J100000,\"63??\")+SUMIFS('Accounting Data'!C2:C100000,'Accounting Data'!E2:E100000,\"639\",'Accounting Data'!H2:H100000,\"9??\",'Accounting Data'!I2:I100000,\"2???\",'Accounting Data'!J2:J100000,\"63??\")+SUMIFS('Accounting Data'!C2:C100000,'Accounting Data'!E2:E100000,\"699\",'Accounting Data'!H2:H100000,\"9??\",'Accounting Data'!I2:I100000,\"2???\",'Accounting Data'!J2:J100000,\"63??\")+SUMIFS('Accounting Data'!C2:C100000,'Accounting Data'!E2:E100000,\"720\",'Accounting Data'!H2:H100000,\"9??\",'Accounting Data'!I2:I100000,\"2???\",'Accounting Data'!J2:J100000,\"63??\")+SUMIFS('Accounting Data'!C2:C100000,'Accounting Data'!E2:E100000,\"COVID\",'Accounting Data'!H2:H100000,\"9??\",'Accounting Data'!I2:I100000,\"2???\",'Accounting Data'!J2:J100000,\"63??\")","v":{"v":0,"d":"0 "}},{"$f":"SUMIFS('Accounting Data'!C2:C100000,'Accounting Data'!E2:E100000,\"1??\",'Accounting Data'!H2:H100000,\"7??\",'Accounting Data'!I2:I100000,\"3???\",'Accounting Data'!J2:J100000,\"63??\")+SUMIFS('Accounting Data'!C2:C100000,'Accounting Data'!E2:E100000,\"2??\",'Accounting Data'!H2:H100000,\"7??\",'Accounting Data'!I2:I100000,\"3???\",'Accounting Data'!J2:J100000,\"63??\")+SUMIFS('Accounting Data'!C2:C100000,'Accounting Data'!E2:E100000,\"3??\",'Accounting Data'!H2:H100000,\"7??\",'Accounting Data'!I2:I100000,\"3???\",'Accounting Data'!J2:J100000,\"63??\")+SUMIFS('Accounting Data'!C2:C100000,'Accounting Data'!E2:E100000,\"639\",'Accounting Data'!H2:H100000,\"7??\",'Accounting Data'!I2:I100000,\"3???\",'Accounting Data'!J2:J100000,\"63??\")+SUMIFS('Accounting Data'!C2:C100000,'Accounting Data'!E2:E100000,\"699\",'Accounting Data'!H2:H100000,\"7??\",'Accounting Data'!I2:I100000,\"3???\",'Accounting Data'!J2:J100000,\"63??\")+SUMIFS('Accounting Data'!C2:C100000,'Accounting Data'!E2:E100000,\"720\",'Accounting Data'!H2:H100000,\"7??\",'Accounting Data'!I2:I100000,\"3???\",'Accounting Data'!J2:J100000,\"63??\")+SUMIFS('Accounting Data'!C2:C100000,'Accounting Data'!E2:E100000,\"COVID\",'Accounting Data'!H2:H100000,\"7??\",'Accounting Data'!I2:I100000,\"3???\",'Accounting Data'!J2:J100000,\"63??\")","v":{"v":0,"d":"0 "}},{"$f":"SUMIFS('Accounting Data'!C2:C100000,'Accounting Data'!E2:E100000,\"1??\",'Accounting Data'!H2:H100000,\"8??\",'Accounting Data'!I2:I100000,\"3???\",'Accounting Data'!J2:J100000,\"63??\")+SUMIFS('Accounting Data'!C2:C100000,'Accounting Data'!E2:E100000,\"2??\",'Accounting Data'!H2:H100000,\"8??\",'Accounting Data'!I2:I100000,\"3???\",'Accounting Data'!J2:J100000,\"63??\")+SUMIFS('Accounting Data'!C2:C100000,'Accounting Data'!E2:E100000,\"3??\",'Accounting Data'!H2:H100000,\"8??\",'Accounting Data'!I2:I100000,\"3???\",'Accounting Data'!J2:J100000,\"63??\")+SUMIFS('Accounting Data'!C2:C100000,'Accounting Data'!E2:E100000,\"639\",'Accounting Data'!H2:H100000,\"8??\",'Accounting Data'!I2:I100000,\"3???\",'Accounting Data'!J2:J100000,\"63??\")+SUMIFS('Accounting Data'!C2:C100000,'Accounting Data'!E2:E100000,\"699\",'Accounting Data'!H2:H100000,\"8??\",'Accounting Data'!I2:I100000,\"3???\",'Accounting Data'!J2:J100000,\"63??\")+SUMIFS('Accounting Data'!C2:C100000,'Accounting Data'!E2:E100000,\"720\",'Accounting Data'!H2:H100000,\"8??\",'Accounting Data'!I2:I100000,\"3???\",'Accounting Data'!J2:J100000,\"63??\")+SUMIFS('Accounting Data'!C2:C100000,'Accounting Data'!E2:E100000,\"COVID\",'Accounting Data'!H2:H100000,\"8??\",'Accounting Data'!I2:I100000,\"3???\",'Accounting Data'!J2:J100000,\"63??\")","v":{"v":0,"d":"0 "}},{"$f":"SUMIFS('Accounting Data'!C2:C100000,'Accounting Data'!E2:E100000,\"1??\",'Accounting Data'!H2:H100000,\"9??\",'Accounting Data'!I2:I100000,\"3???\",'Accounting Data'!J2:J100000,\"63??\")+SUMIFS('Accounting Data'!C2:C100000,'Accounting Data'!E2:E100000,\"2??\",'Accounting Data'!H2:H100000,\"9??\",'Accounting Data'!I2:I100000,\"3???\",'Accounting Data'!J2:J100000,\"63??\")+SUMIFS('Accounting Data'!C2:C100000,'Accounting Data'!E2:E100000,\"3??\",'Accounting Data'!H2:H100000,\"9??\",'Accounting Data'!I2:I100000,\"3???\",'Accounting Data'!J2:J100000,\"63??\")+SUMIFS('Accounting Data'!C2:C100000,'Accounting Data'!E2:E100000,\"639\",'Accounting Data'!H2:H100000,\"9??\",'Accounting Data'!I2:I100000,\"3???\",'Accounting Data'!J2:J100000,\"63??\")+SUMIFS('Accounting Data'!C2:C100000,'Accounting Data'!E2:E100000,\"699\",'Accounting Data'!H2:H100000,\"9??\",'Accounting Data'!I2:I100000,\"3???\",'Accounting Data'!J2:J100000,\"63??\")+SUMIFS('Accounting Data'!C2:C100000,'Accounting Data'!E2:E100000,\"720\",'Accounting Data'!H2:H100000,\"9??\",'Accounting Data'!I2:I100000,\"3???\",'Accounting Data'!J2:J100000,\"63??\")+SUMIFS('Accounting Data'!C2:C100000,'Accounting Data'!E2:E100000,\"COVID\",'Accounting Data'!H2:H100000,\"9??\",'Accounting Data'!I2:I100000,\"3???\",'Accounting Data'!J2:J100000,\"63??\")","v":{"v":0,"d":"0 "}}]
[{"$nulls":8},"1. Program 700",null,{"$f":"(SUMIFS('Accounting Data'!C2:C100000,'Accounting Data'!H2:H100000,\"7??\",'Accounting Data'!J2:J100000,\"67??\"))-(SUMIFS('Accounting Data'!C2:C100000,'Accounting Data'!E2:E100000,\"575\",'Accounting Data'!H2:H100000,\"7??\",'Accounting Data'!J2:J100000,\"67??\")+SUMIFS('Accounting Data'!C2:C100000,'Accounting Data'!E2:E100000,\"8??\",'Accounting Data'!H2:H100000,\"7??\",'Accounting Data'!J2:J100000,\"67??\")+SUMIFS('Accounting Data'!C2:C100000,'Accounting Data'!E2:E100000,\"9??\",'Accounting Data'!H2:H100000,\"7??\",'Accounting Data'!J2:J100000,\"67??\"))","v":{"v":0,"d":"0 "}},{"$f":"(SUMIFS('Accounting Data'!C2:C100000,'Accounting Data'!H2:H100000,\"7??\",'Accounting Data'!J2:J100000,\"6???\"))-(SUMIFS('Accounting Data'!C2:C100000,'Accounting Data'!E2:E100000,\"575\",'Accounting Data'!H2:H100000,\"7??\",'Accounting Data'!J2:J100000,\"6???\")+SUMIFS('Accounting Data'!C2:C100000,'Accounting Data'!E2:E100000,\"8??\",'Accounting Data'!H2:H100000,\"7??\",'Accounting Data'!J2:J100000,\"6???\")+SUMIFS('Accounting Data'!C2:C100000,'Accounting Data'!E2:E100000,\"9??\",'Accounting Data'!H2:H100000,\"7??\",'Accounting Data'!J2:J100000,\"6???\"))-(SUMIFS('Accounting Data'!C2:C100000,'Accounting Data'!H2:H100000,\"7??\",'Accounting Data'!J2:J100000,\"69??\"))+(SUMIFS('Accounting Data'!C2:C100000,'Accounting Data'!E2:E100000,\"575\",'Accounting Data'!H2:H100000,\"7??\",'Accounting Data'!J2:J100000,\"69??\")+SUMIFS('Accounting Data'!C2:C100000,'Accounting Data'!E2:E100000,\"8??\",'Accounting Data'!H2:H100000,\"7??\",'Accounting Data'!J2:J100000,\"69??\")+SUMIFS('Accounting Data'!C2:C100000,'Accounting Data'!E2:E100000,\"9??\",'Accounting Data'!H2:H100000,\"7??\",'Accounting Data'!J2:J100000,\"69??\"))-K34","v":{"v":0,"d":"0 "}},{"$f":"K34+L34","v":{"v":0,"d":"0 "}},"1.",{"$nulls":11},6400,{"$f":"SUMIFS('Accounting Data'!C2:C100000,'Accounting Data'!E2:E100000,\"1??\",'Accounting Data'!I2:I100000,\"1???\",'Accounting Data'!J2:J100000,\"64??\")+SUMIFS('Accounting Data'!C2:C100000,'Accounting Data'!E2:E100000,\"2??\",'Accounting Data'!I2:I100000,\"1???\",'Accounting Data'!J2:J100000,\"64??\")+SUMIFS('Accounting Data'!C2:C100000,'Accounting Data'!E2:E100000,\"3??\",'Accounting Data'!I2:I100000,\"1???\",'Accounting Data'!J2:J100000,\"64??\")+SUMIFS('Accounting Data'!C2:C100000,'Accounting Data'!E2:E100000,\"639\",'Accounting Data'!I2:I100000,\"1???\",'Accounting Data'!J2:J100000,\"64??\")+SUMIFS('Accounting Data'!C2:C100000,'Accounting Data'!E2:E100000,\"699\",'Accounting Data'!I2:I100000,\"1???\",'Accounting Data'!J2:J100000,\"64??\")+SUMIFS('Accounting Data'!C2:C100000,'Accounting Data'!E2:E100000,\"720\",'Accounting Data'!I2:I100000,\"1???\",'Accounting Data'!J2:J100000,\"64??\")+SUMIFS('Accounting Data'!C2:C100000,'Accounting Data'!E2:E100000,\"COVID\",'Accounting Data'!I2:I100000,\"1???\",'Accounting Data'!J2:J100000,\"64??\")","v":{"v":0,"d":"0 "}},{"$f":"SUMIFS('Accounting Data'!C2:C100000,'Accounting Data'!E2:E100000,\"1??\",'Accounting Data'!I2:I100000,\"2???\",'Accounting Data'!J2:J100000,\"64??\")+SUMIFS('Accounting Data'!C2:C100000,'Accounting Data'!E2:E100000,\"2??\",'Accounting Data'!I2:I100000,\"2???\",'Accounting Data'!J2:J100000,\"64??\")+SUMIFS('Accounting Data'!C2:C100000,'Accounting Data'!E2:E100000,\"3??\",'Accounting Data'!I2:I100000,\"2???\",'Accounting Data'!J2:J100000,\"64??\")+SUMIFS('Accounting Data'!C2:C100000,'Accounting Data'!E2:E100000,\"639\",'Accounting Data'!I2:I100000,\"2???\",'Accounting Data'!J2:J100000,\"64??\")+SUMIFS('Accounting Data'!C2:C100000,'Accounting Data'!E2:E100000,\"699\",'Accounting Data'!I2:I100000,\"2???\",'Accounting Data'!J2:J100000,\"64??\")+SUMIFS('Accounting Data'!C2:C100000,'Accounting Data'!E2:E100000,\"720\",'Accounting Data'!I2:I100000,\"2???\",'Accounting Data'!J2:J100000,\"64??\")+SUMIFS('Accounting Data'!C2:C100000,'Accounting Data'!E2:E100000,\"COVID\",'Accounting Data'!I2:I100000,\"2???\",'Accounting Data'!J2:J100000,\"64??\")","v":{"v":2215,"d":"2,215 "}},{"$f":"SUMIFS('Accounting Data'!C2:C100000,'Accounting Data'!E2:E100000,\"1??\",'Accounting Data'!I2:I100000,\"3???\",'Accounting Data'!J2:J100000,\"64??\")+SUMIFS('Accounting Data'!C2:C100000,'Accounting Data'!E2:E100000,\"2??\",'Accounting Data'!I2:I100000,\"3???\",'Accounting Data'!J2:J100000,\"64??\")+SUMIFS('Accounting Data'!C2:C100000,'Accounting Data'!E2:E100000,\"3??\",'Accounting Data'!I2:I100000,\"3???\",'Accounting Data'!J2:J100000,\"64??\")+SUMIFS('Accounting Data'!C2:C100000,'Accounting Data'!E2:E100000,\"639\",'Accounting Data'!I2:I100000,\"3???\",'Accounting Data'!J2:J100000,\"64??\")+SUMIFS('Accounting Data'!C2:C100000,'Accounting Data'!E2:E100000,\"699\",'Accounting Data'!I2:I100000,\"3???\",'Accounting Data'!J2:J100000,\"64??\")+SUMIFS('Accounting Data'!C2:C100000,'Accounting Data'!E2:E100000,\"720\",'Accounting Data'!I2:I100000,\"3???\",'Accounting Data'!J2:J100000,\"64??\")+SUMIFS('Accounting Data'!C2:C100000,'Accounting Data'!E2:E100000,\"COVID\",'Accounting Data'!I2:I100000,\"3???\",'Accounting Data'!J2:J100000,\"64??\")","v":{"v":0,"d":"0 "}},{"$f":"SUMIFS('Accounting Data'!C2:C100000,'Accounting Data'!E2:E100000,\"1??\",'Accounting Data'!H2:H100000,\"7??\",'Accounting Data'!I2:I100000,\"1???\",'Accounting Data'!J2:J100000,\"64??\")+SUMIFS('Accounting Data'!C2:C100000,'Accounting Data'!E2:E100000,\"2??\",'Accounting Data'!H2:H100000,\"7??\",'Accounting Data'!I2:I100000,\"1???\",'Accounting Data'!J2:J100000,\"64??\")+SUMIFS('Accounting Data'!C2:C100000,'Accounting Data'!E2:E100000,\"3??\",'Accounting Data'!H2:H100000,\"7??\",'Accounting Data'!I2:I100000,\"1???\",'Accounting Data'!J2:J100000,\"64??\")+SUMIFS('Accounting Data'!C2:C100000,'Accounting Data'!E2:E100000,\"639\",'Accounting Data'!H2:H100000,\"7??\",'Accounting Data'!I2:I100000,\"1???\",'Accounting Data'!J2:J100000,\"64??\")+SUMIFS('Accounting Data'!C2:C100000,'Accounting Data'!E2:E100000,\"699\",'Accounting Data'!H2:H100000,\"7??\",'Accounting Data'!I2:I100000,\"1???\",'Accounting Data'!J2:J100000,\"64??\")+SUMIFS('Accounting Data'!C2:C100000,'Accounting Data'!E2:E100000,\"720\",'Accounting Data'!H2:H100000,\"7??\",'Accounting Data'!I2:I100000,\"1???\",'Accounting Data'!J2:J100000,\"64??\")+SUMIFS('Accounting Data'!C2:C100000,'Accounting Data'!E2:E100000,\"COVID\",'Accounting Data'!H2:H100000,\"7??\",'Accounting Data'!I2:I100000,\"1???\",'Accounting Data'!J2:J100000,\"64??\")","v":{"v":0,"d":"0 "}},{"$f":"SUMIFS('Accounting Data'!C2:C100000,'Accounting Data'!E2:E100000,\"1??\",'Accounting Data'!H2:H100000,\"8??\",'Accounting Data'!I2:I100000,\"1???\",'Accounting Data'!J2:J100000,\"64??\")+SUMIFS('Accounting Data'!C2:C100000,'Accounting Data'!E2:E100000,\"2??\",'Accounting Data'!H2:H100000,\"8??\",'Accounting Data'!I2:I100000,\"1???\",'Accounting Data'!J2:J100000,\"64??\")+SUMIFS('Accounting Data'!C2:C100000,'Accounting Data'!E2:E100000,\"3??\",'Accounting Data'!H2:H100000,\"8??\",'Accounting Data'!I2:I100000,\"1???\",'Accounting Data'!J2:J100000,\"64??\")+SUMIFS('Accounting Data'!C2:C100000,'Accounting Data'!E2:E100000,\"639\",'Accounting Data'!H2:H100000,\"8??\",'Accounting Data'!I2:I100000,\"1???\",'Accounting Data'!J2:J100000,\"64??\")+SUMIFS('Accounting Data'!C2:C100000,'Accounting Data'!E2:E100000,\"699\",'Accounting Data'!H2:H100000,\"8??\",'Accounting Data'!I2:I100000,\"1???\",'Accounting Data'!J2:J100000,\"64??\")+SUMIFS('Accounting Data'!C2:C100000,'Accounting Data'!E2:E100000,\"720\",'Accounting Data'!H2:H100000,\"8??\",'Accounting Data'!I2:I100000,\"1???\",'Accounting Data'!J2:J100000,\"64??\")+SUMIFS('Accounting Data'!C2:C100000,'Accounting Data'!E2:E100000,\"COVID\",'Accounting Data'!H2:H100000,\"8??\",'Accounting Data'!I2:I100000,\"1???\",'Accounting Data'!J2:J100000,\"64??\")","v":{"v":0,"d":"0 "}},{"$f":"SUMIFS('Accounting Data'!C2:C100000,'Accounting Data'!E2:E100000,\"1??\",'Accounting Data'!H2:H100000,\"9??\",'Accounting Data'!I2:I100000,\"1???\",'Accounting Data'!J2:J100000,\"64??\")+SUMIFS('Accounting Data'!C2:C100000,'Accounting Data'!E2:E100000,\"2??\",'Accounting Data'!H2:H100000,\"9??\",'Accounting Data'!I2:I100000,\"1???\",'Accounting Data'!J2:J100000,\"64??\")+SUMIFS('Accounting Data'!C2:C100000,'Accounting Data'!E2:E100000,\"3??\",'Accounting Data'!H2:H100000,\"9??\",'Accounting Data'!I2:I100000,\"1???\",'Accounting Data'!J2:J100000,\"64??\")+SUMIFS('Accounting Data'!C2:C100000,'Accounting Data'!E2:E100000,\"639\",'Accounting Data'!H2:H100000,\"9??\",'Accounting Data'!I2:I100000,\"1???\",'Accounting Data'!J2:J100000,\"64??\")+SUMIFS('Accounting Data'!C2:C100000,'Accounting Data'!E2:E100000,\"699\",'Accounting Data'!H2:H100000,\"9??\",'Accounting Data'!I2:I100000,\"1???\",'Accounting Data'!J2:J100000,\"64??\")+SUMIFS('Accounting Data'!C2:C100000,'Accounting Data'!E2:E100000,\"720\",'Accounting Data'!H2:H100000,\"9??\",'Accounting Data'!I2:I100000,\"1???\",'Accounting Data'!J2:J100000,\"64??\")+SUMIFS('Accounting Data'!C2:C100000,'Accounting Data'!E2:E100000,\"COVID\",'Accounting Data'!H2:H100000,\"9??\",'Accounting Data'!I2:I100000,\"1???\",'Accounting Data'!J2:J100000,\"64??\")","v":{"v":0,"d":"0 "}},{"$f":"SUMIFS('Accounting Data'!C2:C100000,'Accounting Data'!E2:E100000,\"1??\",'Accounting Data'!H2:H100000,\"7??\",'Accounting Data'!I2:I100000,\"2???\",'Accounting Data'!J2:J100000,\"64??\")+SUMIFS('Accounting Data'!C2:C100000,'Accounting Data'!E2:E100000,\"2??\",'Accounting Data'!H2:H100000,\"7??\",'Accounting Data'!I2:I100000,\"2???\",'Accounting Data'!J2:J100000,\"64??\")+SUMIFS('Accounting Data'!C2:C100000,'Accounting Data'!E2:E100000,\"3??\",'Accounting Data'!H2:H100000,\"7??\",'Accounting Data'!I2:I100000,\"2???\",'Accounting Data'!J2:J100000,\"64??\")+SUMIFS('Accounting Data'!C2:C100000,'Accounting Data'!E2:E100000,\"639\",'Accounting Data'!H2:H100000,\"7??\",'Accounting Data'!I2:I100000,\"2???\",'Accounting Data'!J2:J100000,\"64??\")+SUMIFS('Accounting Data'!C2:C100000,'Accounting Data'!E2:E100000,\"699\",'Accounting Data'!H2:H100000,\"7??\",'Accounting Data'!I2:I100000,\"2???\",'Accounting Data'!J2:J100000,\"64??\")+SUMIFS('Accounting Data'!C2:C100000,'Accounting Data'!E2:E100000,\"720\",'Accounting Data'!H2:H100000,\"7??\",'Accounting Data'!I2:I100000,\"2???\",'Accounting Data'!J2:J100000,\"64??\")+SUMIFS('Accounting Data'!C2:C100000,'Accounting Data'!E2:E100000,\"COVID\",'Accounting Data'!H2:H100000,\"7??\",'Accounting Data'!I2:I100000,\"2???\",'Accounting Data'!J2:J100000,\"64??\")","v":{"v":0,"d":"0 "}},{"$f":"SUMIFS('Accounting Data'!C2:C100000,'Accounting Data'!E2:E100000,\"1??\",'Accounting Data'!H2:H100000,\"8??\",'Accounting Data'!I2:I100000,\"2???\",'Accounting Data'!J2:J100000,\"64??\")+SUMIFS('Accounting Data'!C2:C100000,'Accounting Data'!E2:E100000,\"2??\",'Accounting Data'!H2:H100000,\"8??\",'Accounting Data'!I2:I100000,\"2???\",'Accounting Data'!J2:J100000,\"64??\")+SUMIFS('Accounting Data'!C2:C100000,'Accounting Data'!E2:E100000,\"3??\",'Accounting Data'!H2:H100000,\"8??\",'Accounting Data'!I2:I100000,\"2???\",'Accounting Data'!J2:J100000,\"64??\")+SUMIFS('Accounting Data'!C2:C100000,'Accounting Data'!E2:E100000,\"639\",'Accounting Data'!H2:H100000,\"8??\",'Accounting Data'!I2:I100000,\"2???\",'Accounting Data'!J2:J100000,\"64??\")+SUMIFS('Accounting Data'!C2:C100000,'Accounting Data'!E2:E100000,\"699\",'Accounting Data'!H2:H100000,\"8??\",'Accounting Data'!I2:I100000,\"2???\",'Accounting Data'!J2:J100000,\"64??\")+SUMIFS('Accounting Data'!C2:C100000,'Accounting Data'!E2:E100000,\"720\",'Accounting Data'!H2:H100000,\"8??\",'Accounting Data'!I2:I100000,\"2???\",'Accounting Data'!J2:J100000,\"64??\")+SUMIFS('Accounting Data'!C2:C100000,'Accounting Data'!E2:E100000,\"COVID\",'Accounting Data'!H2:H100000,\"8??\",'Accounting Data'!I2:I100000,\"2???\",'Accounting Data'!J2:J100000,\"64??\")","v":{"v":0,"d":"0 "}},{"$f":"SUMIFS('Accounting Data'!C2:C100000,'Accounting Data'!E2:E100000,\"1??\",'Accounting Data'!H2:H100000,\"9??\",'Accounting Data'!I2:I100000,\"2???\",'Accounting Data'!J2:J100000,\"64??\")+SUMIFS('Accounting Data'!C2:C100000,'Accounting Data'!E2:E100000,\"2??\",'Accounting Data'!H2:H100000,\"9??\",'Accounting Data'!I2:I100000,\"2???\",'Accounting Data'!J2:J100000,\"64??\")+SUMIFS('Accounting Data'!C2:C100000,'Accounting Data'!E2:E100000,\"3??\",'Accounting Data'!H2:H100000,\"9??\",'Accounting Data'!I2:I100000,\"2???\",'Accounting Data'!J2:J100000,\"64??\")+SUMIFS('Accounting Data'!C2:C100000,'Accounting Data'!E2:E100000,\"639\",'Accounting Data'!H2:H100000,\"9??\",'Accounting Data'!I2:I100000,\"2???\",'Accounting Data'!J2:J100000,\"64??\")+SUMIFS('Accounting Data'!C2:C100000,'Accounting Data'!E2:E100000,\"699\",'Accounting Data'!H2:H100000,\"9??\",'Accounting Data'!I2:I100000,\"2???\",'Accounting Data'!J2:J100000,\"64??\")+SUMIFS('Accounting Data'!C2:C100000,'Accounting Data'!E2:E100000,\"720\",'Accounting Data'!H2:H100000,\"9??\",'Accounting Data'!I2:I100000,\"2???\",'Accounting Data'!J2:J100000,\"64??\")+SUMIFS('Accounting Data'!C2:C100000,'Accounting Data'!E2:E100000,\"COVID\",'Accounting Data'!H2:H100000,\"9??\",'Accounting Data'!I2:I100000,\"2???\",'Accounting Data'!J2:J100000,\"64??\")","v":{"v":0,"d":"0 "}},{"$f":"SUMIFS('Accounting Data'!C2:C100000,'Accounting Data'!E2:E100000,\"1??\",'Accounting Data'!H2:H100000,\"7??\",'Accounting Data'!I2:I100000,\"3???\",'Accounting Data'!J2:J100000,\"64??\")+SUMIFS('Accounting Data'!C2:C100000,'Accounting Data'!E2:E100000,\"2??\",'Accounting Data'!H2:H100000,\"7??\",'Accounting Data'!I2:I100000,\"3???\",'Accounting Data'!J2:J100000,\"64??\")+SUMIFS('Accounting Data'!C2:C100000,'Accounting Data'!E2:E100000,\"3??\",'Accounting Data'!H2:H100000,\"7??\",'Accounting Data'!I2:I100000,\"3???\",'Accounting Data'!J2:J100000,\"64??\")+SUMIFS('Accounting Data'!C2:C100000,'Accounting Data'!E2:E100000,\"639\",'Accounting Data'!H2:H100000,\"7??\",'Accounting Data'!I2:I100000,\"3???\",'Accounting Data'!J2:J100000,\"64??\")+SUMIFS('Accounting Data'!C2:C100000,'Accounting Data'!E2:E100000,\"699\",'Accounting Data'!H2:H100000,\"7??\",'Accounting Data'!I2:I100000,\"3???\",'Accounting Data'!J2:J100000,\"64??\")+SUMIFS('Accounting Data'!C2:C100000,'Accounting Data'!E2:E100000,\"720\",'Accounting Data'!H2:H100000,\"7??\",'Accounting Data'!I2:I100000,\"3???\",'Accounting Data'!J2:J100000,\"64??\")+SUMIFS('Accounting Data'!C2:C100000,'Accounting Data'!E2:E100000,\"COVID\",'Accounting Data'!H2:H100000,\"7??\",'Accounting Data'!I2:I100000,\"3???\",'Accounting Data'!J2:J100000,\"64??\")","v":{"v":0,"d":"0 "}},{"$f":"SUMIFS('Accounting Data'!C2:C100000,'Accounting Data'!E2:E100000,\"1??\",'Accounting Data'!H2:H100000,\"8??\",'Accounting Data'!I2:I100000,\"3???\",'Accounting Data'!J2:J100000,\"64??\")+SUMIFS('Accounting Data'!C2:C100000,'Accounting Data'!E2:E100000,\"2??\",'Accounting Data'!H2:H100000,\"8??\",'Accounting Data'!I2:I100000,\"3???\",'Accounting Data'!J2:J100000,\"64??\")+SUMIFS('Accounting Data'!C2:C100000,'Accounting Data'!E2:E100000,\"3??\",'Accounting Data'!H2:H100000,\"8??\",'Accounting Data'!I2:I100000,\"3???\",'Accounting Data'!J2:J100000,\"64??\")+SUMIFS('Accounting Data'!C2:C100000,'Accounting Data'!E2:E100000,\"639\",'Accounting Data'!H2:H100000,\"8??\",'Accounting Data'!I2:I100000,\"3???\",'Accounting Data'!J2:J100000,\"64??\")+SUMIFS('Accounting Data'!C2:C100000,'Accounting Data'!E2:E100000,\"699\",'Accounting Data'!H2:H100000,\"8??\",'Accounting Data'!I2:I100000,\"3???\",'Accounting Data'!J2:J100000,\"64??\")+SUMIFS('Accounting Data'!C2:C100000,'Accounting Data'!E2:E100000,\"720\",'Accounting Data'!H2:H100000,\"8??\",'Accounting Data'!I2:I100000,\"3???\",'Accounting Data'!J2:J100000,\"64??\")+SUMIFS('Accounting Data'!C2:C100000,'Accounting Data'!E2:E100000,\"COVID\",'Accounting Data'!H2:H100000,\"8??\",'Accounting Data'!I2:I100000,\"3???\",'Accounting Data'!J2:J100000,\"64??\")","v":{"v":0,"d":"0 "}},{"$f":"SUMIFS('Accounting Data'!C2:C100000,'Accounting Data'!E2:E100000,\"1??\",'Accounting Data'!H2:H100000,\"9??\",'Accounting Data'!I2:I100000,\"3???\",'Accounting Data'!J2:J100000,\"64??\")+SUMIFS('Accounting Data'!C2:C100000,'Accounting Data'!E2:E100000,\"2??\",'Accounting Data'!H2:H100000,\"9??\",'Accounting Data'!I2:I100000,\"3???\",'Accounting Data'!J2:J100000,\"64??\")+SUMIFS('Accounting Data'!C2:C100000,'Accounting Data'!E2:E100000,\"3??\",'Accounting Data'!H2:H100000,\"9??\",'Accounting Data'!I2:I100000,\"3???\",'Accounting Data'!J2:J100000,\"64??\")+SUMIFS('Accounting Data'!C2:C100000,'Accounting Data'!E2:E100000,\"639\",'Accounting Data'!H2:H100000,\"9??\",'Accounting Data'!I2:I100000,\"3???\",'Accounting Data'!J2:J100000,\"64??\")+SUMIFS('Accounting Data'!C2:C100000,'Accounting Data'!E2:E100000,\"699\",'Accounting Data'!H2:H100000,\"9??\",'Accounting Data'!I2:I100000,\"3???\",'Accounting Data'!J2:J100000,\"64??\")+SUMIFS('Accounting Data'!C2:C100000,'Accounting Data'!E2:E100000,\"720\",'Accounting Data'!H2:H100000,\"9??\",'Accounting Data'!I2:I100000,\"3???\",'Accounting Data'!J2:J100000,\"64??\")+SUMIFS('Accounting Data'!C2:C100000,'Accounting Data'!E2:E100000,\"COVID\",'Accounting Data'!H2:H100000,\"9??\",'Accounting Data'!I2:I100000,\"3???\",'Accounting Data'!J2:J100000,\"64??\")","v":{"v":0,"d":"0 "}}]
["1. Regular Education (Programs 100, 280, 520, and 550)",null,null,{"v":168583,"d":"168,583 "},{"v":1700,"d":"1,700 "},{"v":0,"d":"0 "},{"v":0,"d":"0 "},"1.","2. Program 800",null,{"$f":"(SUMIFS('Accounting Data'!C2:C100000,'Accounting Data'!H2:H100000,\"8??\",'Accounting Data'!J2:J100000,\"67??\"))-(SUMIFS('Accounting Data'!C2:C100000,'Accounting Data'!E2:E100000,\"575\",'Accounting Data'!H2:H100000,\"8??\",'Accounting Data'!J2:J100000,\"67??\")+SUMIFS('Accounting Data'!C2:C100000,'Accounting Data'!E2:E100000,\"8??\",'Accounting Data'!H2:H100000,\"8??\",'Accounting Data'!J2:J100000,\"67??\")+SUMIFS('Accounting Data'!C2:C100000,'Accounting Data'!E2:E100000,\"9??\",'Accounting Data'!H2:H100000,\"8??\",'Accounting Data'!J2:J100000,\"67??\"))","v":{"v":0,"d":"0 "}},{"$f":"(SUMIFS('Accounting Data'!C2:C100000,'Accounting Data'!H2:H100000,\"8??\",'Accounting Data'!J2:J100000,\"6???\"))-(SUMIFS('Accounting Data'!C2:C100000,'Accounting Data'!E2:E100000,\"575\",'Accounting Data'!H2:H100000,\"8??\",'Accounting Data'!J2:J100000,\"6???\")+SUMIFS('Accounting Data'!C2:C100000,'Accounting Data'!E2:E100000,\"8??\",'Accounting Data'!H2:H100000,\"8??\",'Accounting Data'!J2:J100000,\"6???\")+SUMIFS('Accounting Data'!C2:C100000,'Accounting Data'!E2:E100000,\"9??\",'Accounting Data'!H2:H100000,\"8??\",'Accounting Data'!J2:J100000,\"6???\"))-(SUMIFS('Accounting Data'!C2:C100000,'Accounting Data'!H2:H100000,\"8??\",'Accounting Data'!J2:J100000,\"69??\"))+(SUMIFS('Accounting Data'!C2:C100000,'Accounting Data'!E2:E100000,\"575\",'Accounting Data'!H2:H100000,\"8??\",'Accounting Data'!J2:J100000,\"69??\")+SUMIFS('Accounting Data'!C2:C100000,'Accounting Data'!E2:E100000,\"8??\",'Accounting Data'!H2:H100000,\"8??\",'Accounting Data'!J2:J100000,\"69??\")+SUMIFS('Accounting Data'!C2:C100000,'Accounting Data'!E2:E100000,\"9??\",'Accounting Data'!H2:H100000,\"8??\",'Accounting Data'!J2:J100000,\"69??\"))-K35","v":{"v":0,"d":"0 "}},{"$f":"K35+L35","v":{"v":0,"d":"0 "}},"2.",{"$nulls":11},6500,{"$f":"SUMIFS('Accounting Data'!C2:C100000,'Accounting Data'!E2:E100000,\"1??\",'Accounting Data'!I2:I100000,\"1???\",'Accounting Data'!J2:J100000,\"65??\")+SUMIFS('Accounting Data'!C2:C100000,'Accounting Data'!E2:E100000,\"2??\",'Accounting Data'!I2:I100000,\"1???\",'Accounting Data'!J2:J100000,\"65??\")+SUMIFS('Accounting Data'!C2:C100000,'Accounting Data'!E2:E100000,\"3??\",'Accounting Data'!I2:I100000,\"1???\",'Accounting Data'!J2:J100000,\"65??\")+SUMIFS('Accounting Data'!C2:C100000,'Accounting Data'!E2:E100000,\"639\",'Accounting Data'!I2:I100000,\"1???\",'Accounting Data'!J2:J100000,\"65??\")+SUMIFS('Accounting Data'!C2:C100000,'Accounting Data'!E2:E100000,\"699\",'Accounting Data'!I2:I100000,\"1???\",'Accounting Data'!J2:J100000,\"65??\")+SUMIFS('Accounting Data'!C2:C100000,'Accounting Data'!E2:E100000,\"720\",'Accounting Data'!I2:I100000,\"1???\",'Accounting Data'!J2:J100000,\"65??\")+SUMIFS('Accounting Data'!C2:C100000,'Accounting Data'!E2:E100000,\"COVID\",'Accounting Data'!I2:I100000,\"1???\",'Accounting Data'!J2:J100000,\"65??\")","v":{"v":6168,"d":"6,168 "}},{"$f":"SUMIFS('Accounting Data'!C2:C100000,'Accounting Data'!E2:E100000,\"1??\",'Accounting Data'!I2:I100000,\"2???\",'Accounting Data'!J2:J100000,\"65??\")+SUMIFS('Accounting Data'!C2:C100000,'Accounting Data'!E2:E100000,\"2??\",'Accounting Data'!I2:I100000,\"2???\",'Accounting Data'!J2:J100000,\"65??\")+SUMIFS('Accounting Data'!C2:C100000,'Accounting Data'!E2:E100000,\"3??\",'Accounting Data'!I2:I100000,\"2???\",'Accounting Data'!J2:J100000,\"65??\")+SUMIFS('Accounting Data'!C2:C100000,'Accounting Data'!E2:E100000,\"639\",'Accounting Data'!I2:I100000,\"2???\",'Accounting Data'!J2:J100000,\"65??\")+SUMIFS('Accounting Data'!C2:C100000,'Accounting Data'!E2:E100000,\"699\",'Accounting Data'!I2:I100000,\"2???\",'Accounting Data'!J2:J100000,\"65??\")+SUMIFS('Accounting Data'!C2:C100000,'Accounting Data'!E2:E100000,\"720\",'Accounting Data'!I2:I100000,\"2???\",'Accounting Data'!J2:J100000,\"65??\")+SUMIFS('Accounting Data'!C2:C100000,'Accounting Data'!E2:E100000,\"COVID\",'Accounting Data'!I2:I100000,\"2???\",'Accounting Data'!J2:J100000,\"65??\")","v":{"v":1100,"d":"1,100 "}},{"$f":"SUMIFS('Accounting Data'!C2:C100000,'Accounting Data'!E2:E100000,\"1??\",'Accounting Data'!I2:I100000,\"3???\",'Accounting Data'!J2:J100000,\"65??\")+SUMIFS('Accounting Data'!C2:C100000,'Accounting Data'!E2:E100000,\"2??\",'Accounting Data'!I2:I100000,\"3???\",'Accounting Data'!J2:J100000,\"65??\")+SUMIFS('Accounting Data'!C2:C100000,'Accounting Data'!E2:E100000,\"3??\",'Accounting Data'!I2:I100000,\"3???\",'Accounting Data'!J2:J100000,\"65??\")+SUMIFS('Accounting Data'!C2:C100000,'Accounting Data'!E2:E100000,\"639\",'Accounting Data'!I2:I100000,\"3???\",'Accounting Data'!J2:J100000,\"65??\")+SUMIFS('Accounting Data'!C2:C100000,'Accounting Data'!E2:E100000,\"699\",'Accounting Data'!I2:I100000,\"3???\",'Accounting Data'!J2:J100000,\"65??\")+SUMIFS('Accounting Data'!C2:C100000,'Accounting Data'!E2:E100000,\"720\",'Accounting Data'!I2:I100000,\"3???\",'Accounting Data'!J2:J100000,\"65??\")+SUMIFS('Accounting Data'!C2:C100000,'Accounting Data'!E2:E100000,\"COVID\",'Accounting Data'!I2:I100000,\"3???\",'Accounting Data'!J2:J100000,\"65??\")","v":{"v":0,"d":"0 "}},{"$f":"SUMIFS('Accounting Data'!C2:C100000,'Accounting Data'!E2:E100000,\"1??\",'Accounting Data'!H2:H100000,\"7??\",'Accounting Data'!I2:I100000,\"1???\",'Accounting Data'!J2:J100000,\"65??\")+SUMIFS('Accounting Data'!C2:C100000,'Accounting Data'!E2:E100000,\"2??\",'Accounting Data'!H2:H100000,\"7??\",'Accounting Data'!I2:I100000,\"1???\",'Accounting Data'!J2:J100000,\"65??\")+SUMIFS('Accounting Data'!C2:C100000,'Accounting Data'!E2:E100000,\"3??\",'Accounting Data'!H2:H100000,\"7??\",'Accounting Data'!I2:I100000,\"1???\",'Accounting Data'!J2:J100000,\"65??\")+SUMIFS('Accounting Data'!C2:C100000,'Accounting Data'!E2:E100000,\"639\",'Accounting Data'!H2:H100000,\"7??\",'Accounting Data'!I2:I100000,\"1???\",'Accounting Data'!J2:J100000,\"65??\")+SUMIFS('Accounting Data'!C2:C100000,'Accounting Data'!E2:E100000,\"699\",'Accounting Data'!H2:H100000,\"7??\",'Accounting Data'!I2:I100000,\"1???\",'Accounting Data'!J2:J100000,\"65??\")+SUMIFS('Accounting Data'!C2:C100000,'Accounting Data'!E2:E100000,\"720\",'Accounting Data'!H2:H100000,\"7??\",'Accounting Data'!I2:I100000,\"1???\",'Accounting Data'!J2:J100000,\"65??\")+SUMIFS('Accounting Data'!C2:C100000,'Accounting Data'!E2:E100000,\"COVID\",'Accounting Data'!H2:H100000,\"7??\",'Accounting Data'!I2:I100000,\"1???\",'Accounting Data'!J2:J100000,\"65??\")","v":{"v":0,"d":"0 "}},{"$f":"SUMIFS('Accounting Data'!C2:C100000,'Accounting Data'!E2:E100000,\"1??\",'Accounting Data'!H2:H100000,\"8??\",'Accounting Data'!I2:I100000,\"1???\",'Accounting Data'!J2:J100000,\"65??\")+SUMIFS('Accounting Data'!C2:C100000,'Accounting Data'!E2:E100000,\"2??\",'Accounting Data'!H2:H100000,\"8??\",'Accounting Data'!I2:I100000,\"1???\",'Accounting Data'!J2:J100000,\"65??\")+SUMIFS('Accounting Data'!C2:C100000,'Accounting Data'!E2:E100000,\"3??\",'Accounting Data'!H2:H100000,\"8??\",'Accounting Data'!I2:I100000,\"1???\",'Accounting Data'!J2:J100000,\"65??\")+SUMIFS('Accounting Data'!C2:C100000,'Accounting Data'!E2:E100000,\"639\",'Accounting Data'!H2:H100000,\"8??\",'Accounting Data'!I2:I100000,\"1???\",'Accounting Data'!J2:J100000,\"65??\")+SUMIFS('Accounting Data'!C2:C100000,'Accounting Data'!E2:E100000,\"699\",'Accounting Data'!H2:H100000,\"8??\",'Accounting Data'!I2:I100000,\"1???\",'Accounting Data'!J2:J100000,\"65??\")+SUMIFS('Accounting Data'!C2:C100000,'Accounting Data'!E2:E100000,\"720\",'Accounting Data'!H2:H100000,\"8??\",'Accounting Data'!I2:I100000,\"1???\",'Accounting Data'!J2:J100000,\"65??\")+SUMIFS('Accounting Data'!C2:C100000,'Accounting Data'!E2:E100000,\"COVID\",'Accounting Data'!H2:H100000,\"8??\",'Accounting Data'!I2:I100000,\"1???\",'Accounting Data'!J2:J100000,\"65??\")","v":{"v":0,"d":"0 "}},{"$f":"SUMIFS('Accounting Data'!C2:C100000,'Accounting Data'!E2:E100000,\"1??\",'Accounting Data'!H2:H100000,\"9??\",'Accounting Data'!I2:I100000,\"1???\",'Accounting Data'!J2:J100000,\"65??\")+SUMIFS('Accounting Data'!C2:C100000,'Accounting Data'!E2:E100000,\"2??\",'Accounting Data'!H2:H100000,\"9??\",'Accounting Data'!I2:I100000,\"1???\",'Accounting Data'!J2:J100000,\"65??\")+SUMIFS('Accounting Data'!C2:C100000,'Accounting Data'!E2:E100000,\"3??\",'Accounting Data'!H2:H100000,\"9??\",'Accounting Data'!I2:I100000,\"1???\",'Accounting Data'!J2:J100000,\"65??\")+SUMIFS('Accounting Data'!C2:C100000,'Accounting Data'!E2:E100000,\"639\",'Accounting Data'!H2:H100000,\"9??\",'Accounting Data'!I2:I100000,\"1???\",'Accounting Data'!J2:J100000,\"65??\")+SUMIFS('Accounting Data'!C2:C100000,'Accounting Data'!E2:E100000,\"699\",'Accounting Data'!H2:H100000,\"9??\",'Accounting Data'!I2:I100000,\"1???\",'Accounting Data'!J2:J100000,\"65??\")+SUMIFS('Accounting Data'!C2:C100000,'Accounting Data'!E2:E100000,\"720\",'Accounting Data'!H2:H100000,\"9??\",'Accounting Data'!I2:I100000,\"1???\",'Accounting Data'!J2:J100000,\"65??\")+SUMIFS('Accounting Data'!C2:C100000,'Accounting Data'!E2:E100000,\"COVID\",'Accounting Data'!H2:H100000,\"9??\",'Accounting Data'!I2:I100000,\"1???\",'Accounting Data'!J2:J100000,\"65??\")","v":{"v":0,"d":"0 "}},{"$f":"SUMIFS('Accounting Data'!C2:C100000,'Accounting Data'!E2:E100000,\"1??\",'Accounting Data'!H2:H100000,\"7??\",'Accounting Data'!I2:I100000,\"2???\",'Accounting Data'!J2:J100000,\"65??\")+SUMIFS('Accounting Data'!C2:C100000,'Accounting Data'!E2:E100000,\"2??\",'Accounting Data'!H2:H100000,\"7??\",'Accounting Data'!I2:I100000,\"2???\",'Accounting Data'!J2:J100000,\"65??\")+SUMIFS('Accounting Data'!C2:C100000,'Accounting Data'!E2:E100000,\"3??\",'Accounting Data'!H2:H100000,\"7??\",'Accounting Data'!I2:I100000,\"2???\",'Accounting Data'!J2:J100000,\"65??\")+SUMIFS('Accounting Data'!C2:C100000,'Accounting Data'!E2:E100000,\"639\",'Accounting Data'!H2:H100000,\"7??\",'Accounting Data'!I2:I100000,\"2???\",'Accounting Data'!J2:J100000,\"65??\")+SUMIFS('Accounting Data'!C2:C100000,'Accounting Data'!E2:E100000,\"699\",'Accounting Data'!H2:H100000,\"7??\",'Accounting Data'!I2:I100000,\"2???\",'Accounting Data'!J2:J100000,\"65??\")+SUMIFS('Accounting Data'!C2:C100000,'Accounting Data'!E2:E100000,\"720\",'Accounting Data'!H2:H100000,\"7??\",'Accounting Data'!I2:I100000,\"2???\",'Accounting Data'!J2:J100000,\"65??\")+SUMIFS('Accounting Data'!C2:C100000,'Accounting Data'!E2:E100000,\"COVID\",'Accounting Data'!H2:H100000,\"7??\",'Accounting Data'!I2:I100000,\"2???\",'Accounting Data'!J2:J100000,\"65??\")","v":{"v":0,"d":"0 "}},{"$f":"SUMIFS('Accounting Data'!C2:C100000,'Accounting Data'!E2:E100000,\"1??\",'Accounting Data'!H2:H100000,\"8??\",'Accounting Data'!I2:I100000,\"2???\",'Accounting Data'!J2:J100000,\"65??\")+SUMIFS('Accounting Data'!C2:C100000,'Accounting Data'!E2:E100000,\"2??\",'Accounting Data'!H2:H100000,\"8??\",'Accounting Data'!I2:I100000,\"2???\",'Accounting Data'!J2:J100000,\"65??\")+SUMIFS('Accounting Data'!C2:C100000,'Accounting Data'!E2:E100000,\"3??\",'Accounting Data'!H2:H100000,\"8??\",'Accounting Data'!I2:I100000,\"2???\",'Accounting Data'!J2:J100000,\"65??\")+SUMIFS('Accounting Data'!C2:C100000,'Accounting Data'!E2:E100000,\"639\",'Accounting Data'!H2:H100000,\"8??\",'Accounting Data'!I2:I100000,\"2???\",'Accounting Data'!J2:J100000,\"65??\")+SUMIFS('Accounting Data'!C2:C100000,'Accounting Data'!E2:E100000,\"699\",'Accounting Data'!H2:H100000,\"8??\",'Accounting Data'!I2:I100000,\"2???\",'Accounting Data'!J2:J100000,\"65??\")+SUMIFS('Accounting Data'!C2:C100000,'Accounting Data'!E2:E100000,\"720\",'Accounting Data'!H2:H100000,\"8??\",'Accounting Data'!I2:I100000,\"2???\",'Accounting Data'!J2:J100000,\"65??\")+SUMIFS('Accounting Data'!C2:C100000,'Accounting Data'!E2:E100000,\"COVID\",'Accounting Data'!H2:H100000,\"8??\",'Accounting Data'!I2:I100000,\"2???\",'Accounting Data'!J2:J100000,\"65??\")","v":{"v":0,"d":"0 "}},{"$f":"SUMIFS('Accounting Data'!C2:C100000,'Accounting Data'!E2:E100000,\"1??\",'Accounting Data'!H2:H100000,\"9??\",'Accounting Data'!I2:I100000,\"2???\",'Accounting Data'!J2:J100000,\"65??\")+SUMIFS('Accounting Data'!C2:C100000,'Accounting Data'!E2:E100000,\"2??\",'Accounting Data'!H2:H100000,\"9??\",'Accounting Data'!I2:I100000,\"2???\",'Accounting Data'!J2:J100000,\"65??\")+SUMIFS('Accounting Data'!C2:C100000,'Accounting Data'!E2:E100000,\"3??\",'Accounting Data'!H2:H100000,\"9??\",'Accounting Data'!I2:I100000,\"2???\",'Accounting Data'!J2:J100000,\"65??\")+SUMIFS('Accounting Data'!C2:C100000,'Accounting Data'!E2:E100000,\"639\",'Accounting Data'!H2:H100000,\"9??\",'Accounting Data'!I2:I100000,\"2???\",'Accounting Data'!J2:J100000,\"65??\")+SUMIFS('Accounting Data'!C2:C100000,'Accounting Data'!E2:E100000,\"699\",'Accounting Data'!H2:H100000,\"9??\",'Accounting Data'!I2:I100000,\"2???\",'Accounting Data'!J2:J100000,\"65??\")+SUMIFS('Accounting Data'!C2:C100000,'Accounting Data'!E2:E100000,\"720\",'Accounting Data'!H2:H100000,\"9??\",'Accounting Data'!I2:I100000,\"2???\",'Accounting Data'!J2:J100000,\"65??\")+SUMIFS('Accounting Data'!C2:C100000,'Accounting Data'!E2:E100000,\"COVID\",'Accounting Data'!H2:H100000,\"9??\",'Accounting Data'!I2:I100000,\"2???\",'Accounting Data'!J2:J100000,\"65??\")","v":{"v":0,"d":"0 "}},{"$f":"SUMIFS('Accounting Data'!C2:C100000,'Accounting Data'!E2:E100000,\"1??\",'Accounting Data'!H2:H100000,\"7??\",'Accounting Data'!I2:I100000,\"3???\",'Accounting Data'!J2:J100000,\"65??\")+SUMIFS('Accounting Data'!C2:C100000,'Accounting Data'!E2:E100000,\"2??\",'Accounting Data'!H2:H100000,\"7??\",'Accounting Data'!I2:I100000,\"3???\",'Accounting Data'!J2:J100000,\"65??\")+SUMIFS('Accounting Data'!C2:C100000,'Accounting Data'!E2:E100000,\"3??\",'Accounting Data'!H2:H100000,\"7??\",'Accounting Data'!I2:I100000,\"3???\",'Accounting Data'!J2:J100000,\"65??\")+SUMIFS('Accounting Data'!C2:C100000,'Accounting Data'!E2:E100000,\"639\",'Accounting Data'!H2:H100000,\"7??\",'Accounting Data'!I2:I100000,\"3???\",'Accounting Data'!J2:J100000,\"65??\")+SUMIFS('Accounting Data'!C2:C100000,'Accounting Data'!E2:E100000,\"699\",'Accounting Data'!H2:H100000,\"7??\",'Accounting Data'!I2:I100000,\"3???\",'Accounting Data'!J2:J100000,\"65??\")+SUMIFS('Accounting Data'!C2:C100000,'Accounting Data'!E2:E100000,\"720\",'Accounting Data'!H2:H100000,\"7??\",'Accounting Data'!I2:I100000,\"3???\",'Accounting Data'!J2:J100000,\"65??\")+SUMIFS('Accounting Data'!C2:C100000,'Accounting Data'!E2:E100000,\"COVID\",'Accounting Data'!H2:H100000,\"7??\",'Accounting Data'!I2:I100000,\"3???\",'Accounting Data'!J2:J100000,\"65??\")","v":{"v":0,"d":"0 "}},{"$f":"SUMIFS('Accounting Data'!C2:C100000,'Accounting Data'!E2:E100000,\"1??\",'Accounting Data'!H2:H100000,\"8??\",'Accounting Data'!I2:I100000,\"3???\",'Accounting Data'!J2:J100000,\"65??\")+SUMIFS('Accounting Data'!C2:C100000,'Accounting Data'!E2:E100000,\"2??\",'Accounting Data'!H2:H100000,\"8??\",'Accounting Data'!I2:I100000,\"3???\",'Accounting Data'!J2:J100000,\"65??\")+SUMIFS('Accounting Data'!C2:C100000,'Accounting Data'!E2:E100000,\"3??\",'Accounting Data'!H2:H100000,\"8??\",'Accounting Data'!I2:I100000,\"3???\",'Accounting Data'!J2:J100000,\"65??\")+SUMIFS('Accounting Data'!C2:C100000,'Accounting Data'!E2:E100000,\"639\",'Accounting Data'!H2:H100000,\"8??\",'Accounting Data'!I2:I100000,\"3???\",'Accounting Data'!J2:J100000,\"65??\")+SUMIFS('Accounting Data'!C2:C100000,'Accounting Data'!E2:E100000,\"699\",'Accounting Data'!H2:H100000,\"8??\",'Accounting Data'!I2:I100000,\"3???\",'Accounting Data'!J2:J100000,\"65??\")+SUMIFS('Accounting Data'!C2:C100000,'Accounting Data'!E2:E100000,\"720\",'Accounting Data'!H2:H100000,\"8??\",'Accounting Data'!I2:I100000,\"3???\",'Accounting Data'!J2:J100000,\"65??\")+SUMIFS('Accounting Data'!C2:C100000,'Accounting Data'!E2:E100000,\"COVID\",'Accounting Data'!H2:H100000,\"8??\",'Accounting Data'!I2:I100000,\"3???\",'Accounting Data'!J2:J100000,\"65??\")","v":{"v":0,"d":"0 "}},{"$f":"SUMIFS('Accounting Data'!C2:C100000,'Accounting Data'!E2:E100000,\"1??\",'Accounting Data'!H2:H100000,\"9??\",'Accounting Data'!I2:I100000,\"3???\",'Accounting Data'!J2:J100000,\"65??\")+SUMIFS('Accounting Data'!C2:C100000,'Accounting Data'!E2:E100000,\"2??\",'Accounting Data'!H2:H100000,\"9??\",'Accounting Data'!I2:I100000,\"3???\",'Accounting Data'!J2:J100000,\"65??\")+SUMIFS('Accounting Data'!C2:C100000,'Accounting Data'!E2:E100000,\"3??\",'Accounting Data'!H2:H100000,\"9??\",'Accounting Data'!I2:I100000,\"3???\",'Accounting Data'!J2:J100000,\"65??\")+SUMIFS('Accounting Data'!C2:C100000,'Accounting Data'!E2:E100000,\"639\",'Accounting Data'!H2:H100000,\"9??\",'Accounting Data'!I2:I100000,\"3???\",'Accounting Data'!J2:J100000,\"65??\")+SUMIFS('Accounting Data'!C2:C100000,'Accounting Data'!E2:E100000,\"699\",'Accounting Data'!H2:H100000,\"9??\",'Accounting Data'!I2:I100000,\"3???\",'Accounting Data'!J2:J100000,\"65??\")+SUMIFS('Accounting Data'!C2:C100000,'Accounting Data'!E2:E100000,\"720\",'Accounting Data'!H2:H100000,\"9??\",'Accounting Data'!I2:I100000,\"3???\",'Accounting Data'!J2:J100000,\"65??\")+SUMIFS('Accounting Data'!C2:C100000,'Accounting Data'!E2:E100000,\"COVID\",'Accounting Data'!H2:H100000,\"9??\",'Accounting Data'!I2:I100000,\"3???\",'Accounting Data'!J2:J100000,\"65??\")","v":{"v":0,"d":"0 "}}]
["2. Special Education (Programs 200-230, 250, 512, 514, and 515)",null,null,{"v":16331,"d":"16,331 "},{"v":0,"d":"0 "},{"v":0,"d":"0 "},{"v":0,"d":"0 "},"2.","3. Program 900",null,{"$f":"(SUMIFS('Accounting Data'!C2:C100000,'Accounting Data'!H2:H100000,\"9??\",'Accounting Data'!J2:J100000,\"67??\"))-(SUMIFS('Accounting Data'!C2:C100000,'Accounting Data'!E2:E100000,\"575\",'Accounting Data'!H2:H100000,\"9??\",'Accounting Data'!J2:J100000,\"67??\")+SUMIFS('Accounting Data'!C2:C100000,'Accounting Data'!E2:E100000,\"8??\",'Accounting Data'!H2:H100000,\"9??\",'Accounting Data'!J2:J100000,\"67??\")+SUMIFS('Accounting Data'!C2:C100000,'Accounting Data'!E2:E100000,\"9??\",'Accounting Data'!H2:H100000,\"9??\",'Accounting Data'!J2:J100000,\"67??\"))","v":{"v":0,"d":"0 "}},{"$f":"(SUMIFS('Accounting Data'!C2:C100000,'Accounting Data'!H2:H100000,\"9??\",'Accounting Data'!J2:J100000,\"6???\"))-(SUMIFS('Accounting Data'!C2:C100000,'Accounting Data'!E2:E100000,\"575\",'Accounting Data'!H2:H100000,\"9??\",'Accounting Data'!J2:J100000,\"6???\")+SUMIFS('Accounting Data'!C2:C100000,'Accounting Data'!E2:E100000,\"8??\",'Accounting Data'!H2:H100000,\"9??\",'Accounting Data'!J2:J100000,\"6???\")+SUMIFS('Accounting Data'!C2:C100000,'Accounting Data'!E2:E100000,\"9??\",'Accounting Data'!H2:H100000,\"9??\",'Accounting Data'!J2:J100000,\"6???\"))-(SUMIFS('Accounting Data'!C2:C100000,'Accounting Data'!H2:H100000,\"9??\",'Accounting Data'!J2:J100000,\"69??\"))+(SUMIFS('Accounting Data'!C2:C100000,'Accounting Data'!E2:E100000,\"575\",'Accounting Data'!H2:H100000,\"9??\",'Accounting Data'!J2:J100000,\"69??\")+SUMIFS('Accounting Data'!C2:C100000,'Accounting Data'!E2:E100000,\"8??\",'Accounting Data'!H2:H100000,\"9??\",'Accounting Data'!J2:J100000,\"69??\")+SUMIFS('Accounting Data'!C2:C100000,'Accounting Data'!E2:E100000,\"9??\",'Accounting Data'!H2:H100000,\"9??\",'Accounting Data'!J2:J100000,\"69??\"))-K36","v":{"v":0,"d":"0 "}},{"$f":"K36+L36","v":{"v":0,"d":"0 "}},"3.",{"$nulls":11},6600,{"$f":"SUMIFS('Accounting Data'!C2:C100000,'Accounting Data'!E2:E100000,\"1??\",'Accounting Data'!I2:I100000,\"1???\",'Accounting Data'!J2:J100000,\"66??\")+SUMIFS('Accounting Data'!C2:C100000,'Accounting Data'!E2:E100000,\"2??\",'Accounting Data'!I2:I100000,\"1???\",'Accounting Data'!J2:J100000,\"66??\")+SUMIFS('Accounting Data'!C2:C100000,'Accounting Data'!E2:E100000,\"3??\",'Accounting Data'!I2:I100000,\"1???\",'Accounting Data'!J2:J100000,\"66??\")+SUMIFS('Accounting Data'!C2:C100000,'Accounting Data'!E2:E100000,\"639\",'Accounting Data'!I2:I100000,\"1???\",'Accounting Data'!J2:J100000,\"66??\")+SUMIFS('Accounting Data'!C2:C100000,'Accounting Data'!E2:E100000,\"699\",'Accounting Data'!I2:I100000,\"1???\",'Accounting Data'!J2:J100000,\"66??\")+SUMIFS('Accounting Data'!C2:C100000,'Accounting Data'!E2:E100000,\"720\",'Accounting Data'!I2:I100000,\"1???\",'Accounting Data'!J2:J100000,\"66??\")+SUMIFS('Accounting Data'!C2:C100000,'Accounting Data'!E2:E100000,\"COVID\",'Accounting Data'!I2:I100000,\"1???\",'Accounting Data'!J2:J100000,\"66??\")","v":{"v":1377,"d":"1,377 "}},{"$f":"SUMIFS('Accounting Data'!C2:C100000,'Accounting Data'!E2:E100000,\"1??\",'Accounting Data'!I2:I100000,\"2???\",'Accounting Data'!J2:J100000,\"66??\")+SUMIFS('Accounting Data'!C2:C100000,'Accounting Data'!E2:E100000,\"2??\",'Accounting Data'!I2:I100000,\"2???\",'Accounting Data'!J2:J100000,\"66??\")+SUMIFS('Accounting Data'!C2:C100000,'Accounting Data'!E2:E100000,\"3??\",'Accounting Data'!I2:I100000,\"2???\",'Accounting Data'!J2:J100000,\"66??\")+SUMIFS('Accounting Data'!C2:C100000,'Accounting Data'!E2:E100000,\"639\",'Accounting Data'!I2:I100000,\"2???\",'Accounting Data'!J2:J100000,\"66??\")+SUMIFS('Accounting Data'!C2:C100000,'Accounting Data'!E2:E100000,\"699\",'Accounting Data'!I2:I100000,\"2???\",'Accounting Data'!J2:J100000,\"66??\")+SUMIFS('Accounting Data'!C2:C100000,'Accounting Data'!E2:E100000,\"720\",'Accounting Data'!I2:I100000,\"2???\",'Accounting Data'!J2:J100000,\"66??\")+SUMIFS('Accounting Data'!C2:C100000,'Accounting Data'!E2:E100000,\"COVID\",'Accounting Data'!I2:I100000,\"2???\",'Accounting Data'!J2:J100000,\"66??\")","v":{"v":5440,"d":"5,440 "}},{"$f":"SUMIFS('Accounting Data'!C2:C100000,'Accounting Data'!E2:E100000,\"1??\",'Accounting Data'!I2:I100000,\"3???\",'Accounting Data'!J2:J100000,\"66??\")+SUMIFS('Accounting Data'!C2:C100000,'Accounting Data'!E2:E100000,\"2??\",'Accounting Data'!I2:I100000,\"3???\",'Accounting Data'!J2:J100000,\"66??\")+SUMIFS('Accounting Data'!C2:C100000,'Accounting Data'!E2:E100000,\"3??\",'Accounting Data'!I2:I100000,\"3???\",'Accounting Data'!J2:J100000,\"66??\")+SUMIFS('Accounting Data'!C2:C100000,'Accounting Data'!E2:E100000,\"639\",'Accounting Data'!I2:I100000,\"3???\",'Accounting Data'!J2:J100000,\"66??\")+SUMIFS('Accounting Data'!C2:C100000,'Accounting Data'!E2:E100000,\"699\",'Accounting Data'!I2:I100000,\"3???\",'Accounting Data'!J2:J100000,\"66??\")+SUMIFS('Accounting Data'!C2:C100000,'Accounting Data'!E2:E100000,\"720\",'Accounting Data'!I2:I100000,\"3???\",'Accounting Data'!J2:J100000,\"66??\")+SUMIFS('Accounting Data'!C2:C100000,'Accounting Data'!E2:E100000,\"COVID\",'Accounting Data'!I2:I100000,\"3???\",'Accounting Data'!J2:J100000,\"66??\")","v":{"v":0,"d":"0 "}},{"$f":"SUMIFS('Accounting Data'!C2:C100000,'Accounting Data'!E2:E100000,\"1??\",'Accounting Data'!H2:H100000,\"7??\",'Accounting Data'!I2:I100000,\"1???\",'Accounting Data'!J2:J100000,\"66??\")+SUMIFS('Accounting Data'!C2:C100000,'Accounting Data'!E2:E100000,\"2??\",'Accounting Data'!H2:H100000,\"7??\",'Accounting Data'!I2:I100000,\"1???\",'Accounting Data'!J2:J100000,\"66??\")+SUMIFS('Accounting Data'!C2:C100000,'Accounting Data'!E2:E100000,\"3??\",'Accounting Data'!H2:H100000,\"7??\",'Accounting Data'!I2:I100000,\"1???\",'Accounting Data'!J2:J100000,\"66??\")+SUMIFS('Accounting Data'!C2:C100000,'Accounting Data'!E2:E100000,\"639\",'Accounting Data'!H2:H100000,\"7??\",'Accounting Data'!I2:I100000,\"1???\",'Accounting Data'!J2:J100000,\"66??\")+SUMIFS('Accounting Data'!C2:C100000,'Accounting Data'!E2:E100000,\"699\",'Accounting Data'!H2:H100000,\"7??\",'Accounting Data'!I2:I100000,\"1???\",'Accounting Data'!J2:J100000,\"66??\")+SUMIFS('Accounting Data'!C2:C100000,'Accounting Data'!E2:E100000,\"720\",'Accounting Data'!H2:H100000,\"7??\",'Accounting Data'!I2:I100000,\"1???\",'Accounting Data'!J2:J100000,\"66??\")+SUMIFS('Accounting Data'!C2:C100000,'Accounting Data'!E2:E100000,\"COVID\",'Accounting Data'!H2:H100000,\"7??\",'Accounting Data'!I2:I100000,\"1???\",'Accounting Data'!J2:J100000,\"66??\")","v":{"v":0,"d":"0 "}},{"$f":"SUMIFS('Accounting Data'!C2:C100000,'Accounting Data'!E2:E100000,\"1??\",'Accounting Data'!H2:H100000,\"8??\",'Accounting Data'!I2:I100000,\"1???\",'Accounting Data'!J2:J100000,\"66??\")+SUMIFS('Accounting Data'!C2:C100000,'Accounting Data'!E2:E100000,\"2??\",'Accounting Data'!H2:H100000,\"8??\",'Accounting Data'!I2:I100000,\"1???\",'Accounting Data'!J2:J100000,\"66??\")+SUMIFS('Accounting Data'!C2:C100000,'Accounting Data'!E2:E100000,\"3??\",'Accounting Data'!H2:H100000,\"8??\",'Accounting Data'!I2:I100000,\"1???\",'Accounting Data'!J2:J100000,\"66??\")+SUMIFS('Accounting Data'!C2:C100000,'Accounting Data'!E2:E100000,\"639\",'Accounting Data'!H2:H100000,\"8??\",'Accounting Data'!I2:I100000,\"1???\",'Accounting Data'!J2:J100000,\"66??\")+SUMIFS('Accounting Data'!C2:C100000,'Accounting Data'!E2:E100000,\"699\",'Accounting Data'!H2:H100000,\"8??\",'Accounting Data'!I2:I100000,\"1???\",'Accounting Data'!J2:J100000,\"66??\")+SUMIFS('Accounting Data'!C2:C100000,'Accounting Data'!E2:E100000,\"720\",'Accounting Data'!H2:H100000,\"8??\",'Accounting Data'!I2:I100000,\"1???\",'Accounting Data'!J2:J100000,\"66??\")+SUMIFS('Accounting Data'!C2:C100000,'Accounting Data'!E2:E100000,\"COVID\",'Accounting Data'!H2:H100000,\"8??\",'Accounting Data'!I2:I100000,\"1???\",'Accounting Data'!J2:J100000,\"66??\")","v":{"v":0,"d":"0 "}},{"$f":"SUMIFS('Accounting Data'!C2:C100000,'Accounting Data'!E2:E100000,\"1??\",'Accounting Data'!H2:H100000,\"9??\",'Accounting Data'!I2:I100000,\"1???\",'Accounting Data'!J2:J100000,\"66??\")+SUMIFS('Accounting Data'!C2:C100000,'Accounting Data'!E2:E100000,\"2??\",'Accounting Data'!H2:H100000,\"9??\",'Accounting Data'!I2:I100000,\"1???\",'Accounting Data'!J2:J100000,\"66??\")+SUMIFS('Accounting Data'!C2:C100000,'Accounting Data'!E2:E100000,\"3??\",'Accounting Data'!H2:H100000,\"9??\",'Accounting Data'!I2:I100000,\"1???\",'Accounting Data'!J2:J100000,\"66??\")+SUMIFS('Accounting Data'!C2:C100000,'Accounting Data'!E2:E100000,\"639\",'Accounting Data'!H2:H100000,\"9??\",'Accounting Data'!I2:I100000,\"1???\",'Accounting Data'!J2:J100000,\"66??\")+SUMIFS('Accounting Data'!C2:C100000,'Accounting Data'!E2:E100000,\"699\",'Accounting Data'!H2:H100000,\"9??\",'Accounting Data'!I2:I100000,\"1???\",'Accounting Data'!J2:J100000,\"66??\")+SUMIFS('Accounting Data'!C2:C100000,'Accounting Data'!E2:E100000,\"720\",'Accounting Data'!H2:H100000,\"9??\",'Accounting Data'!I2:I100000,\"1???\",'Accounting Data'!J2:J100000,\"66??\")+SUMIFS('Accounting Data'!C2:C100000,'Accounting Data'!E2:E100000,\"COVID\",'Accounting Data'!H2:H100000,\"9??\",'Accounting Data'!I2:I100000,\"1???\",'Accounting Data'!J2:J100000,\"66??\")","v":{"v":0,"d":"0 "}},{"$f":"SUMIFS('Accounting Data'!C2:C100000,'Accounting Data'!E2:E100000,\"1??\",'Accounting Data'!H2:H100000,\"7??\",'Accounting Data'!I2:I100000,\"2???\",'Accounting Data'!J2:J100000,\"66??\")+SUMIFS('Accounting Data'!C2:C100000,'Accounting Data'!E2:E100000,\"2??\",'Accounting Data'!H2:H100000,\"7??\",'Accounting Data'!I2:I100000,\"2???\",'Accounting Data'!J2:J100000,\"66??\")+SUMIFS('Accounting Data'!C2:C100000,'Accounting Data'!E2:E100000,\"3??\",'Accounting Data'!H2:H100000,\"7??\",'Accounting Data'!I2:I100000,\"2???\",'Accounting Data'!J2:J100000,\"66??\")+SUMIFS('Accounting Data'!C2:C100000,'Accounting Data'!E2:E100000,\"639\",'Accounting Data'!H2:H100000,\"7??\",'Accounting Data'!I2:I100000,\"2???\",'Accounting Data'!J2:J100000,\"66??\")+SUMIFS('Accounting Data'!C2:C100000,'Accounting Data'!E2:E100000,\"699\",'Accounting Data'!H2:H100000,\"7??\",'Accounting Data'!I2:I100000,\"2???\",'Accounting Data'!J2:J100000,\"66??\")+SUMIFS('Accounting Data'!C2:C100000,'Accounting Data'!E2:E100000,\"720\",'Accounting Data'!H2:H100000,\"7??\",'Accounting Data'!I2:I100000,\"2???\",'Accounting Data'!J2:J100000,\"66??\")+SUMIFS('Accounting Data'!C2:C100000,'Accounting Data'!E2:E100000,\"COVID\",'Accounting Data'!H2:H100000,\"7??\",'Accounting Data'!I2:I100000,\"2???\",'Accounting Data'!J2:J100000,\"66??\")","v":{"v":0,"d":"0 "}},{"$f":"SUMIFS('Accounting Data'!C2:C100000,'Accounting Data'!E2:E100000,\"1??\",'Accounting Data'!H2:H100000,\"8??\",'Accounting Data'!I2:I100000,\"2???\",'Accounting Data'!J2:J100000,\"66??\")+SUMIFS('Accounting Data'!C2:C100000,'Accounting Data'!E2:E100000,\"2??\",'Accounting Data'!H2:H100000,\"8??\",'Accounting Data'!I2:I100000,\"2???\",'Accounting Data'!J2:J100000,\"66??\")+SUMIFS('Accounting Data'!C2:C100000,'Accounting Data'!E2:E100000,\"3??\",'Accounting Data'!H2:H100000,\"8??\",'Accounting Data'!I2:I100000,\"2???\",'Accounting Data'!J2:J100000,\"66??\")+SUMIFS('Accounting Data'!C2:C100000,'Accounting Data'!E2:E100000,\"639\",'Accounting Data'!H2:H100000,\"8??\",'Accounting Data'!I2:I100000,\"2???\",'Accounting Data'!J2:J100000,\"66??\")+SUMIFS('Accounting Data'!C2:C100000,'Accounting Data'!E2:E100000,\"699\",'Accounting Data'!H2:H100000,\"8??\",'Accounting Data'!I2:I100000,\"2???\",'Accounting Data'!J2:J100000,\"66??\")+SUMIFS('Accounting Data'!C2:C100000,'Accounting Data'!E2:E100000,\"720\",'Accounting Data'!H2:H100000,\"8??\",'Accounting Data'!I2:I100000,\"2???\",'Accounting Data'!J2:J100000,\"66??\")+SUMIFS('Accounting Data'!C2:C100000,'Accounting Data'!E2:E100000,\"COVID\",'Accounting Data'!H2:H100000,\"8??\",'Accounting Data'!I2:I100000,\"2???\",'Accounting Data'!J2:J100000,\"66??\")","v":{"v":0,"d":"0 "}},{"$f":"SUMIFS('Accounting Data'!C2:C100000,'Accounting Data'!E2:E100000,\"1??\",'Accounting Data'!H2:H100000,\"9??\",'Accounting Data'!I2:I100000,\"2???\",'Accounting Data'!J2:J100000,\"66??\")+SUMIFS('Accounting Data'!C2:C100000,'Accounting Data'!E2:E100000,\"2??\",'Accounting Data'!H2:H100000,\"9??\",'Accounting Data'!I2:I100000,\"2???\",'Accounting Data'!J2:J100000,\"66??\")+SUMIFS('Accounting Data'!C2:C100000,'Accounting Data'!E2:E100000,\"3??\",'Accounting Data'!H2:H100000,\"9??\",'Accounting Data'!I2:I100000,\"2???\",'Accounting Data'!J2:J100000,\"66??\")+SUMIFS('Accounting Data'!C2:C100000,'Accounting Data'!E2:E100000,\"639\",'Accounting Data'!H2:H100000,\"9??\",'Accounting Data'!I2:I100000,\"2???\",'Accounting Data'!J2:J100000,\"66??\")+SUMIFS('Accounting Data'!C2:C100000,'Accounting Data'!E2:E100000,\"699\",'Accounting Data'!H2:H100000,\"9??\",'Accounting Data'!I2:I100000,\"2???\",'Accounting Data'!J2:J100000,\"66??\")+SUMIFS('Accounting Data'!C2:C100000,'Accounting Data'!E2:E100000,\"720\",'Accounting Data'!H2:H100000,\"9??\",'Accounting Data'!I2:I100000,\"2???\",'Accounting Data'!J2:J100000,\"66??\")+SUMIFS('Accounting Data'!C2:C100000,'Accounting Data'!E2:E100000,\"COVID\",'Accounting Data'!H2:H100000,\"9??\",'Accounting Data'!I2:I100000,\"2???\",'Accounting Data'!J2:J100000,\"66??\")","v":{"v":0,"d":"0 "}},{"$f":"SUMIFS('Accounting Data'!C2:C100000,'Accounting Data'!E2:E100000,\"1??\",'Accounting Data'!H2:H100000,\"7??\",'Accounting Data'!I2:I100000,\"3???\",'Accounting Data'!J2:J100000,\"66??\")+SUMIFS('Accounting Data'!C2:C100000,'Accounting Data'!E2:E100000,\"2??\",'Accounting Data'!H2:H100000,\"7??\",'Accounting Data'!I2:I100000,\"3???\",'Accounting Data'!J2:J100000,\"66??\")+SUMIFS('Accounting Data'!C2:C100000,'Accounting Data'!E2:E100000,\"3??\",'Accounting Data'!H2:H100000,\"7??\",'Accounting Data'!I2:I100000,\"3???\",'Accounting Data'!J2:J100000,\"66??\")+SUMIFS('Accounting Data'!C2:C100000,'Accounting Data'!E2:E100000,\"639\",'Accounting Data'!H2:H100000,\"7??\",'Accounting Data'!I2:I100000,\"3???\",'Accounting Data'!J2:J100000,\"66??\")+SUMIFS('Accounting Data'!C2:C100000,'Accounting Data'!E2:E100000,\"699\",'Accounting Data'!H2:H100000,\"7??\",'Accounting Data'!I2:I100000,\"3???\",'Accounting Data'!J2:J100000,\"66??\")+SUMIFS('Accounting Data'!C2:C100000,'Accounting Data'!E2:E100000,\"720\",'Accounting Data'!H2:H100000,\"7??\",'Accounting Data'!I2:I100000,\"3???\",'Accounting Data'!J2:J100000,\"66??\")+SUMIFS('Accounting Data'!C2:C100000,'Accounting Data'!E2:E100000,\"COVID\",'Accounting Data'!H2:H100000,\"7??\",'Accounting Data'!I2:I100000,\"3???\",'Accounting Data'!J2:J100000,\"66??\")","v":{"v":0,"d":"0 "}},{"$f":"SUMIFS('Accounting Data'!C2:C100000,'Accounting Data'!E2:E100000,\"1??\",'Accounting Data'!H2:H100000,\"8??\",'Accounting Data'!I2:I100000,\"3???\",'Accounting Data'!J2:J100000,\"66??\")+SUMIFS('Accounting Data'!C2:C100000,'Accounting Data'!E2:E100000,\"2??\",'Accounting Data'!H2:H100000,\"8??\",'Accounting Data'!I2:I100000,\"3???\",'Accounting Data'!J2:J100000,\"66??\")+SUMIFS('Accounting Data'!C2:C100000,'Accounting Data'!E2:E100000,\"3??\",'Accounting Data'!H2:H100000,\"8??\",'Accounting Data'!I2:I100000,\"3???\",'Accounting Data'!J2:J100000,\"66??\")+SUMIFS('Accounting Data'!C2:C100000,'Accounting Data'!E2:E100000,\"639\",'Accounting Data'!H2:H100000,\"8??\",'Accounting Data'!I2:I100000,\"3???\",'Accounting Data'!J2:J100000,\"66??\")+SUMIFS('Accounting Data'!C2:C100000,'Accounting Data'!E2:E100000,\"699\",'Accounting Data'!H2:H100000,\"8??\",'Accounting Data'!I2:I100000,\"3???\",'Accounting Data'!J2:J100000,\"66??\")+SUMIFS('Accounting Data'!C2:C100000,'Accounting Data'!E2:E100000,\"720\",'Accounting Data'!H2:H100000,\"8??\",'Accounting Data'!I2:I100000,\"3???\",'Accounting Data'!J2:J100000,\"66??\")+SUMIFS('Accounting Data'!C2:C100000,'Accounting Data'!E2:E100000,\"COVID\",'Accounting Data'!H2:H100000,\"8??\",'Accounting Data'!I2:I100000,\"3???\",'Accounting Data'!J2:J100000,\"66??\")","v":{"v":0,"d":"0 "}},{"$f":"SUMIFS('Accounting Data'!C2:C100000,'Accounting Data'!E2:E100000,\"1??\",'Accounting Data'!H2:H100000,\"9??\",'Accounting Data'!I2:I100000,\"3???\",'Accounting Data'!J2:J100000,\"66??\")+SUMIFS('Accounting Data'!C2:C100000,'Accounting Data'!E2:E100000,\"2??\",'Accounting Data'!H2:H100000,\"9??\",'Accounting Data'!I2:I100000,\"3???\",'Accounting Data'!J2:J100000,\"66??\")+SUMIFS('Accounting Data'!C2:C100000,'Accounting Data'!E2:E100000,\"3??\",'Accounting Data'!H2:H100000,\"9??\",'Accounting Data'!I2:I100000,\"3???\",'Accounting Data'!J2:J100000,\"66??\")+SUMIFS('Accounting Data'!C2:C100000,'Accounting Data'!E2:E100000,\"639\",'Accounting Data'!H2:H100000,\"9??\",'Accounting Data'!I2:I100000,\"3???\",'Accounting Data'!J2:J100000,\"66??\")+SUMIFS('Accounting Data'!C2:C100000,'Accounting Data'!E2:E100000,\"699\",'Accounting Data'!H2:H100000,\"9??\",'Accounting Data'!I2:I100000,\"3???\",'Accounting Data'!J2:J100000,\"66??\")+SUMIFS('Accounting Data'!C2:C100000,'Accounting Data'!E2:E100000,\"720\",'Accounting Data'!H2:H100000,\"9??\",'Accounting Data'!I2:I100000,\"3???\",'Accounting Data'!J2:J100000,\"66??\")+SUMIFS('Accounting Data'!C2:C100000,'Accounting Data'!E2:E100000,\"COVID\",'Accounting Data'!H2:H100000,\"9??\",'Accounting Data'!I2:I100000,\"3???\",'Accounting Data'!J2:J100000,\"66??\")","v":{"v":0,"d":"0 "}}]
["3. Vocational Ed. and CTED (Programs 270, 300-399, and 540)",null,null,{"v":0,"d":"0 "},{"v":0,"d":"0 "},{"v":0,"d":"0 "},{"v":0,"d":"0 "},"3.","4. Total (lines 1-3)",null,{"$f":"SUM(K34:K36)","v":{"v":0,"d":"0 "}},{"$f":"SUM(L34:L36)","v":{"v":0,"d":"0 "}},{"$f":"(M34+M35+M36)","v":{"v":0,"d":"0 "}},"4.",{"$nulls":11},6700,{"$f":"SUMIFS('Accounting Data'!C2:C100000,'Accounting Data'!E2:E100000,\"1??\",'Accounting Data'!I2:I100000,\"1???\",'Accounting Data'!J2:J100000,\"67??\")+SUMIFS('Accounting Data'!C2:C100000,'Accounting Data'!E2:E100000,\"2??\",'Accounting Data'!I2:I100000,\"1???\",'Accounting Data'!J2:J100000,\"67??\")+SUMIFS('Accounting Data'!C2:C100000,'Accounting Data'!E2:E100000,\"3??\",'Accounting Data'!I2:I100000,\"1???\",'Accounting Data'!J2:J100000,\"67??\")+SUMIFS('Accounting Data'!C2:C100000,'Accounting Data'!E2:E100000,\"639\",'Accounting Data'!I2:I100000,\"1???\",'Accounting Data'!J2:J100000,\"67??\")+SUMIFS('Accounting Data'!C2:C100000,'Accounting Data'!E2:E100000,\"699\",'Accounting Data'!I2:I100000,\"1???\",'Accounting Data'!J2:J100000,\"67??\")+SUMIFS('Accounting Data'!C2:C100000,'Accounting Data'!E2:E100000,\"720\",'Accounting Data'!I2:I100000,\"1???\",'Accounting Data'!J2:J100000,\"67??\")+SUMIFS('Accounting Data'!C2:C100000,'Accounting Data'!E2:E100000,\"COVID\",'Accounting Data'!I2:I100000,\"1???\",'Accounting Data'!J2:J100000,\"67??\")","v":{"v":0,"d":"0 "}},{"$f":"SUMIFS('Accounting Data'!C2:C100000,'Accounting Data'!E2:E100000,\"1??\",'Accounting Data'!I2:I100000,\"2???\",'Accounting Data'!J2:J100000,\"67??\")+SUMIFS('Accounting Data'!C2:C100000,'Accounting Data'!E2:E100000,\"2??\",'Accounting Data'!I2:I100000,\"2???\",'Accounting Data'!J2:J100000,\"67??\")+SUMIFS('Accounting Data'!C2:C100000,'Accounting Data'!E2:E100000,\"3??\",'Accounting Data'!I2:I100000,\"2???\",'Accounting Data'!J2:J100000,\"67??\")+SUMIFS('Accounting Data'!C2:C100000,'Accounting Data'!E2:E100000,\"639\",'Accounting Data'!I2:I100000,\"2???\",'Accounting Data'!J2:J100000,\"67??\")+SUMIFS('Accounting Data'!C2:C100000,'Accounting Data'!E2:E100000,\"699\",'Accounting Data'!I2:I100000,\"2???\",'Accounting Data'!J2:J100000,\"67??\")+SUMIFS('Accounting Data'!C2:C100000,'Accounting Data'!E2:E100000,\"720\",'Accounting Data'!I2:I100000,\"2???\",'Accounting Data'!J2:J100000,\"67??\")+SUMIFS('Accounting Data'!C2:C100000,'Accounting Data'!E2:E100000,\"COVID\",'Accounting Data'!I2:I100000,\"2???\",'Accounting Data'!J2:J100000,\"67??\")","v":{"v":0,"d":"0 "}},{"$f":"SUMIFS('Accounting Data'!C2:C100000,'Accounting Data'!E2:E100000,\"1??\",'Accounting Data'!I2:I100000,\"3???\",'Accounting Data'!J2:J100000,\"67??\")+SUMIFS('Accounting Data'!C2:C100000,'Accounting Data'!E2:E100000,\"2??\",'Accounting Data'!I2:I100000,\"3???\",'Accounting Data'!J2:J100000,\"67??\")+SUMIFS('Accounting Data'!C2:C100000,'Accounting Data'!E2:E100000,\"3??\",'Accounting Data'!I2:I100000,\"3???\",'Accounting Data'!J2:J100000,\"67??\")+SUMIFS('Accounting Data'!C2:C100000,'Accounting Data'!E2:E100000,\"639\",'Accounting Data'!I2:I100000,\"3???\",'Accounting Data'!J2:J100000,\"67??\")+SUMIFS('Accounting Data'!C2:C100000,'Accounting Data'!E2:E100000,\"699\",'Accounting Data'!I2:I100000,\"3???\",'Accounting Data'!J2:J100000,\"67??\")+SUMIFS('Accounting Data'!C2:C100000,'Accounting Data'!E2:E100000,\"720\",'Accounting Data'!I2:I100000,\"3???\",'Accounting Data'!J2:J100000,\"67??\")+SUMIFS('Accounting Data'!C2:C100000,'Accounting Data'!E2:E100000,\"COVID\",'Accounting Data'!I2:I100000,\"3???\",'Accounting Data'!J2:J100000,\"67??\")","v":{"v":0,"d":"0 "}},{"$f":"SUMIFS('Accounting Data'!C2:C100000,'Accounting Data'!E2:E100000,\"1??\",'Accounting Data'!H2:H100000,\"7??\",'Accounting Data'!I2:I100000,\"1???\",'Accounting Data'!J2:J100000,\"67??\")+SUMIFS('Accounting Data'!C2:C100000,'Accounting Data'!E2:E100000,\"2??\",'Accounting Data'!H2:H100000,\"7??\",'Accounting Data'!I2:I100000,\"1???\",'Accounting Data'!J2:J100000,\"67??\")+SUMIFS('Accounting Data'!C2:C100000,'Accounting Data'!E2:E100000,\"3??\",'Accounting Data'!H2:H100000,\"7??\",'Accounting Data'!I2:I100000,\"1???\",'Accounting Data'!J2:J100000,\"67??\")+SUMIFS('Accounting Data'!C2:C100000,'Accounting Data'!E2:E100000,\"639\",'Accounting Data'!H2:H100000,\"7??\",'Accounting Data'!I2:I100000,\"1???\",'Accounting Data'!J2:J100000,\"67??\")+SUMIFS('Accounting Data'!C2:C100000,'Accounting Data'!E2:E100000,\"699\",'Accounting Data'!H2:H100000,\"7??\",'Accounting Data'!I2:I100000,\"1???\",'Accounting Data'!J2:J100000,\"67??\")+SUMIFS('Accounting Data'!C2:C100000,'Accounting Data'!E2:E100000,\"720\",'Accounting Data'!H2:H100000,\"7??\",'Accounting Data'!I2:I100000,\"1???\",'Accounting Data'!J2:J100000,\"67??\")+SUMIFS('Accounting Data'!C2:C100000,'Accounting Data'!E2:E100000,\"COVID\",'Accounting Data'!H2:H100000,\"7??\",'Accounting Data'!I2:I100000,\"1???\",'Accounting Data'!J2:J100000,\"67??\")","v":{"v":0,"d":"0 "}},{"$f":"SUMIFS('Accounting Data'!C2:C100000,'Accounting Data'!E2:E100000,\"1??\",'Accounting Data'!H2:H100000,\"8??\",'Accounting Data'!I2:I100000,\"1???\",'Accounting Data'!J2:J100000,\"67??\")+SUMIFS('Accounting Data'!C2:C100000,'Accounting Data'!E2:E100000,\"2??\",'Accounting Data'!H2:H100000,\"8??\",'Accounting Data'!I2:I100000,\"1???\",'Accounting Data'!J2:J100000,\"67??\")+SUMIFS('Accounting Data'!C2:C100000,'Accounting Data'!E2:E100000,\"3??\",'Accounting Data'!H2:H100000,\"8??\",'Accounting Data'!I2:I100000,\"1???\",'Accounting Data'!J2:J100000,\"67??\")+SUMIFS('Accounting Data'!C2:C100000,'Accounting Data'!E2:E100000,\"639\",'Accounting Data'!H2:H100000,\"8??\",'Accounting Data'!I2:I100000,\"1???\",'Accounting Data'!J2:J100000,\"67??\")+SUMIFS('Accounting Data'!C2:C100000,'Accounting Data'!E2:E100000,\"699\",'Accounting Data'!H2:H100000,\"8??\",'Accounting Data'!I2:I100000,\"1???\",'Accounting Data'!J2:J100000,\"67??\")+SUMIFS('Accounting Data'!C2:C100000,'Accounting Data'!E2:E100000,\"720\",'Accounting Data'!H2:H100000,\"8??\",'Accounting Data'!I2:I100000,\"1???\",'Accounting Data'!J2:J100000,\"67??\")+SUMIFS('Accounting Data'!C2:C100000,'Accounting Data'!E2:E100000,\"COVID\",'Accounting Data'!H2:H100000,\"8??\",'Accounting Data'!I2:I100000,\"1???\",'Accounting Data'!J2:J100000,\"67??\")","v":{"v":0,"d":"0 "}},{"$f":"SUMIFS('Accounting Data'!C2:C100000,'Accounting Data'!E2:E100000,\"1??\",'Accounting Data'!H2:H100000,\"9??\",'Accounting Data'!I2:I100000,\"1???\",'Accounting Data'!J2:J100000,\"67??\")+SUMIFS('Accounting Data'!C2:C100000,'Accounting Data'!E2:E100000,\"2??\",'Accounting Data'!H2:H100000,\"9??\",'Accounting Data'!I2:I100000,\"1???\",'Accounting Data'!J2:J100000,\"67??\")+SUMIFS('Accounting Data'!C2:C100000,'Accounting Data'!E2:E100000,\"3??\",'Accounting Data'!H2:H100000,\"9??\",'Accounting Data'!I2:I100000,\"1???\",'Accounting Data'!J2:J100000,\"67??\")+SUMIFS('Accounting Data'!C2:C100000,'Accounting Data'!E2:E100000,\"639\",'Accounting Data'!H2:H100000,\"9??\",'Accounting Data'!I2:I100000,\"1???\",'Accounting Data'!J2:J100000,\"67??\")+SUMIFS('Accounting Data'!C2:C100000,'Accounting Data'!E2:E100000,\"699\",'Accounting Data'!H2:H100000,\"9??\",'Accounting Data'!I2:I100000,\"1???\",'Accounting Data'!J2:J100000,\"67??\")+SUMIFS('Accounting Data'!C2:C100000,'Accounting Data'!E2:E100000,\"720\",'Accounting Data'!H2:H100000,\"9??\",'Accounting Data'!I2:I100000,\"1???\",'Accounting Data'!J2:J100000,\"67??\")+SUMIFS('Accounting Data'!C2:C100000,'Accounting Data'!E2:E100000,\"COVID\",'Accounting Data'!H2:H100000,\"9??\",'Accounting Data'!I2:I100000,\"1???\",'Accounting Data'!J2:J100000,\"67??\")","v":{"v":0,"d":"0 "}},{"$f":"SUMIFS('Accounting Data'!C2:C100000,'Accounting Data'!E2:E100000,\"1??\",'Accounting Data'!H2:H100000,\"7??\",'Accounting Data'!I2:I100000,\"2???\",'Accounting Data'!J2:J100000,\"67??\")+SUMIFS('Accounting Data'!C2:C100000,'Accounting Data'!E2:E100000,\"2??\",'Accounting Data'!H2:H100000,\"7??\",'Accounting Data'!I2:I100000,\"2???\",'Accounting Data'!J2:J100000,\"67??\")+SUMIFS('Accounting Data'!C2:C100000,'Accounting Data'!E2:E100000,\"3??\",'Accounting Data'!H2:H100000,\"7??\",'Accounting Data'!I2:I100000,\"2???\",'Accounting Data'!J2:J100000,\"67??\")+SUMIFS('Accounting Data'!C2:C100000,'Accounting Data'!E2:E100000,\"639\",'Accounting Data'!H2:H100000,\"7??\",'Accounting Data'!I2:I100000,\"2???\",'Accounting Data'!J2:J100000,\"67??\")+SUMIFS('Accounting Data'!C2:C100000,'Accounting Data'!E2:E100000,\"699\",'Accounting Data'!H2:H100000,\"7??\",'Accounting Data'!I2:I100000,\"2???\",'Accounting Data'!J2:J100000,\"67??\")+SUMIFS('Accounting Data'!C2:C100000,'Accounting Data'!E2:E100000,\"720\",'Accounting Data'!H2:H100000,\"7??\",'Accounting Data'!I2:I100000,\"2???\",'Accounting Data'!J2:J100000,\"67??\")+SUMIFS('Accounting Data'!C2:C100000,'Accounting Data'!E2:E100000,\"COVID\",'Accounting Data'!H2:H100000,\"7??\",'Accounting Data'!I2:I100000,\"2???\",'Accounting Data'!J2:J100000,\"67??\")","v":{"v":0,"d":"0 "}},{"$f":"SUMIFS('Accounting Data'!C2:C100000,'Accounting Data'!E2:E100000,\"1??\",'Accounting Data'!H2:H100000,\"8??\",'Accounting Data'!I2:I100000,\"2???\",'Accounting Data'!J2:J100000,\"67??\")+SUMIFS('Accounting Data'!C2:C100000,'Accounting Data'!E2:E100000,\"2??\",'Accounting Data'!H2:H100000,\"8??\",'Accounting Data'!I2:I100000,\"2???\",'Accounting Data'!J2:J100000,\"67??\")+SUMIFS('Accounting Data'!C2:C100000,'Accounting Data'!E2:E100000,\"3??\",'Accounting Data'!H2:H100000,\"8??\",'Accounting Data'!I2:I100000,\"2???\",'Accounting Data'!J2:J100000,\"67??\")+SUMIFS('Accounting Data'!C2:C100000,'Accounting Data'!E2:E100000,\"639\",'Accounting Data'!H2:H100000,\"8??\",'Accounting Data'!I2:I100000,\"2???\",'Accounting Data'!J2:J100000,\"67??\")+SUMIFS('Accounting Data'!C2:C100000,'Accounting Data'!E2:E100000,\"699\",'Accounting Data'!H2:H100000,\"8??\",'Accounting Data'!I2:I100000,\"2???\",'Accounting Data'!J2:J100000,\"67??\")+SUMIFS('Accounting Data'!C2:C100000,'Accounting Data'!E2:E100000,\"720\",'Accounting Data'!H2:H100000,\"8??\",'Accounting Data'!I2:I100000,\"2???\",'Accounting Data'!J2:J100000,\"67??\")+SUMIFS('Accounting Data'!C2:C100000,'Accounting Data'!E2:E100000,\"COVID\",'Accounting Data'!H2:H100000,\"8??\",'Accounting Data'!I2:I100000,\"2???\",'Accounting Data'!J2:J100000,\"67??\")","v":{"v":0,"d":"0 "}},{"$f":"SUMIFS('Accounting Data'!C2:C100000,'Accounting Data'!E2:E100000,\"1??\",'Accounting Data'!H2:H100000,\"9??\",'Accounting Data'!I2:I100000,\"2???\",'Accounting Data'!J2:J100000,\"67??\")+SUMIFS('Accounting Data'!C2:C100000,'Accounting Data'!E2:E100000,\"2??\",'Accounting Data'!H2:H100000,\"9??\",'Accounting Data'!I2:I100000,\"2???\",'Accounting Data'!J2:J100000,\"67??\")+SUMIFS('Accounting Data'!C2:C100000,'Accounting Data'!E2:E100000,\"3??\",'Accounting Data'!H2:H100000,\"9??\",'Accounting Data'!I2:I100000,\"2???\",'Accounting Data'!J2:J100000,\"67??\")+SUMIFS('Accounting Data'!C2:C100000,'Accounting Data'!E2:E100000,\"639\",'Accounting Data'!H2:H100000,\"9??\",'Accounting Data'!I2:I100000,\"2???\",'Accounting Data'!J2:J100000,\"67??\")+SUMIFS('Accounting Data'!C2:C100000,'Accounting Data'!E2:E100000,\"699\",'Accounting Data'!H2:H100000,\"9??\",'Accounting Data'!I2:I100000,\"2???\",'Accounting Data'!J2:J100000,\"67??\")+SUMIFS('Accounting Data'!C2:C100000,'Accounting Data'!E2:E100000,\"720\",'Accounting Data'!H2:H100000,\"9??\",'Accounting Data'!I2:I100000,\"2???\",'Accounting Data'!J2:J100000,\"67??\")+SUMIFS('Accounting Data'!C2:C100000,'Accounting Data'!E2:E100000,\"COVID\",'Accounting Data'!H2:H100000,\"9??\",'Accounting Data'!I2:I100000,\"2???\",'Accounting Data'!J2:J100000,\"67??\")","v":{"v":0,"d":"0 "}},{"$f":"SUMIFS('Accounting Data'!C2:C100000,'Accounting Data'!E2:E100000,\"1??\",'Accounting Data'!H2:H100000,\"7??\",'Accounting Data'!I2:I100000,\"3???\",'Accounting Data'!J2:J100000,\"67??\")+SUMIFS('Accounting Data'!C2:C100000,'Accounting Data'!E2:E100000,\"2??\",'Accounting Data'!H2:H100000,\"7??\",'Accounting Data'!I2:I100000,\"3???\",'Accounting Data'!J2:J100000,\"67??\")+SUMIFS('Accounting Data'!C2:C100000,'Accounting Data'!E2:E100000,\"3??\",'Accounting Data'!H2:H100000,\"7??\",'Accounting Data'!I2:I100000,\"3???\",'Accounting Data'!J2:J100000,\"67??\")+SUMIFS('Accounting Data'!C2:C100000,'Accounting Data'!E2:E100000,\"639\",'Accounting Data'!H2:H100000,\"7??\",'Accounting Data'!I2:I100000,\"3???\",'Accounting Data'!J2:J100000,\"67??\")+SUMIFS('Accounting Data'!C2:C100000,'Accounting Data'!E2:E100000,\"699\",'Accounting Data'!H2:H100000,\"7??\",'Accounting Data'!I2:I100000,\"3???\",'Accounting Data'!J2:J100000,\"67??\")+SUMIFS('Accounting Data'!C2:C100000,'Accounting Data'!E2:E100000,\"720\",'Accounting Data'!H2:H100000,\"7??\",'Accounting Data'!I2:I100000,\"3???\",'Accounting Data'!J2:J100000,\"67??\")+SUMIFS('Accounting Data'!C2:C100000,'Accounting Data'!E2:E100000,\"COVID\",'Accounting Data'!H2:H100000,\"7??\",'Accounting Data'!I2:I100000,\"3???\",'Accounting Data'!J2:J100000,\"67??\")","v":{"v":0,"d":"0 "}},{"$f":"SUMIFS('Accounting Data'!C2:C100000,'Accounting Data'!E2:E100000,\"1??\",'Accounting Data'!H2:H100000,\"8??\",'Accounting Data'!I2:I100000,\"3???\",'Accounting Data'!J2:J100000,\"67??\")+SUMIFS('Accounting Data'!C2:C100000,'Accounting Data'!E2:E100000,\"2??\",'Accounting Data'!H2:H100000,\"8??\",'Accounting Data'!I2:I100000,\"3???\",'Accounting Data'!J2:J100000,\"67??\")+SUMIFS('Accounting Data'!C2:C100000,'Accounting Data'!E2:E100000,\"3??\",'Accounting Data'!H2:H100000,\"8??\",'Accounting Data'!I2:I100000,\"3???\",'Accounting Data'!J2:J100000,\"67??\")+SUMIFS('Accounting Data'!C2:C100000,'Accounting Data'!E2:E100000,\"639\",'Accounting Data'!H2:H100000,\"8??\",'Accounting Data'!I2:I100000,\"3???\",'Accounting Data'!J2:J100000,\"67??\")+SUMIFS('Accounting Data'!C2:C100000,'Accounting Data'!E2:E100000,\"699\",'Accounting Data'!H2:H100000,\"8??\",'Accounting Data'!I2:I100000,\"3???\",'Accounting Data'!J2:J100000,\"67??\")+SUMIFS('Accounting Data'!C2:C100000,'Accounting Data'!E2:E100000,\"720\",'Accounting Data'!H2:H100000,\"8??\",'Accounting Data'!I2:I100000,\"3???\",'Accounting Data'!J2:J100000,\"67??\")+SUMIFS('Accounting Data'!C2:C100000,'Accounting Data'!E2:E100000,\"COVID\",'Accounting Data'!H2:H100000,\"8??\",'Accounting Data'!I2:I100000,\"3???\",'Accounting Data'!J2:J100000,\"67??\")","v":{"v":0,"d":"0 "}},{"$f":"SUMIFS('Accounting Data'!C2:C100000,'Accounting Data'!E2:E100000,\"1??\",'Accounting Data'!H2:H100000,\"9??\",'Accounting Data'!I2:I100000,\"3???\",'Accounting Data'!J2:J100000,\"67??\")+SUMIFS('Accounting Data'!C2:C100000,'Accounting Data'!E2:E100000,\"2??\",'Accounting Data'!H2:H100000,\"9??\",'Accounting Data'!I2:I100000,\"3???\",'Accounting Data'!J2:J100000,\"67??\")+SUMIFS('Accounting Data'!C2:C100000,'Accounting Data'!E2:E100000,\"3??\",'Accounting Data'!H2:H100000,\"9??\",'Accounting Data'!I2:I100000,\"3???\",'Accounting Data'!J2:J100000,\"67??\")+SUMIFS('Accounting Data'!C2:C100000,'Accounting Data'!E2:E100000,\"639\",'Accounting Data'!H2:H100000,\"9??\",'Accounting Data'!I2:I100000,\"3???\",'Accounting Data'!J2:J100000,\"67??\")+SUMIFS('Accounting Data'!C2:C100000,'Accounting Data'!E2:E100000,\"699\",'Accounting Data'!H2:H100000,\"9??\",'Accounting Data'!I2:I100000,\"3???\",'Accounting Data'!J2:J100000,\"67??\")+SUMIFS('Accounting Data'!C2:C100000,'Accounting Data'!E2:E100000,\"720\",'Accounting Data'!H2:H100000,\"9??\",'Accounting Data'!I2:I100000,\"3???\",'Accounting Data'!J2:J100000,\"67??\")+SUMIFS('Accounting Data'!C2:C100000,'Accounting Data'!E2:E100000,\"COVID\",'Accounting Data'!H2:H100000,\"9??\",'Accounting Data'!I2:I100000,\"3???\",'Accounting Data'!J2:J100000,\"67??\")","v":{"v":0,"d":"0 "}}]
["4. Other (Programs 240, 260, 265, 510, 511, 513, and 530)",null,null,{"v":0,"d":"0 "},{"v":0,"d":"0 "},{"v":0,"d":"0 "},{"v":0,"d":"0 "},"4.",{"$nulls":17},6810,{"$f":"SUMIFS('Accounting Data'!C2:C100000,'Accounting Data'!E2:E100000,\"1??\",'Accounting Data'!I2:I100000,\"1???\",'Accounting Data'!J2:J100000,\"681?\")+SUMIFS('Accounting Data'!C2:C100000,'Accounting Data'!E2:E100000,\"2??\",'Accounting Data'!I2:I100000,\"1???\",'Accounting Data'!J2:J100000,\"681?\")+SUMIFS('Accounting Data'!C2:C100000,'Accounting Data'!E2:E100000,\"3??\",'Accounting Data'!I2:I100000,\"1???\",'Accounting Data'!J2:J100000,\"681?\")+SUMIFS('Accounting Data'!C2:C100000,'Accounting Data'!E2:E100000,\"639\",'Accounting Data'!I2:I100000,\"1???\",'Accounting Data'!J2:J100000,\"681?\")+SUMIFS('Accounting Data'!C2:C100000,'Accounting Data'!E2:E100000,\"699\",'Accounting Data'!I2:I100000,\"1???\",'Accounting Data'!J2:J100000,\"681?\")+SUMIFS('Accounting Data'!C2:C100000,'Accounting Data'!E2:E100000,\"720\",'Accounting Data'!I2:I100000,\"1???\",'Accounting Data'!J2:J100000,\"681?\")+SUMIFS('Accounting Data'!C2:C100000,'Accounting Data'!E2:E100000,\"COVID\",'Accounting Data'!I2:I100000,\"1???\",'Accounting Data'!J2:J100000,\"681?\")","v":{"v":0,"d":"0 "}},{"$f":"SUMIFS('Accounting Data'!C2:C100000,'Accounting Data'!E2:E100000,\"1??\",'Accounting Data'!I2:I100000,\"2???\",'Accounting Data'!J2:J100000,\"681?\")+SUMIFS('Accounting Data'!C2:C100000,'Accounting Data'!E2:E100000,\"2??\",'Accounting Data'!I2:I100000,\"2???\",'Accounting Data'!J2:J100000,\"681?\")+SUMIFS('Accounting Data'!C2:C100000,'Accounting Data'!E2:E100000,\"3??\",'Accounting Data'!I2:I100000,\"2???\",'Accounting Data'!J2:J100000,\"681?\")+SUMIFS('Accounting Data'!C2:C100000,'Accounting Data'!E2:E100000,\"639\",'Accounting Data'!I2:I100000,\"2???\",'Accounting Data'!J2:J100000,\"681?\")+SUMIFS('Accounting Data'!C2:C100000,'Accounting Data'!E2:E100000,\"699\",'Accounting Data'!I2:I100000,\"2???\",'Accounting Data'!J2:J100000,\"681?\")+SUMIFS('Accounting Data'!C2:C100000,'Accounting Data'!E2:E100000,\"720\",'Accounting Data'!I2:I100000,\"2???\",'Accounting Data'!J2:J100000,\"681?\")+SUMIFS('Accounting Data'!C2:C100000,'Accounting Data'!E2:E100000,\"COVID\",'Accounting Data'!I2:I100000,\"2???\",'Accounting Data'!J2:J100000,\"681?\")","v":{"v":0,"d":"0 "}},{"$f":"SUMIFS('Accounting Data'!C2:C100000,'Accounting Data'!E2:E100000,\"1??\",'Accounting Data'!I2:I100000,\"3???\",'Accounting Data'!J2:J100000,\"681?\")+SUMIFS('Accounting Data'!C2:C100000,'Accounting Data'!E2:E100000,\"2??\",'Accounting Data'!I2:I100000,\"3???\",'Accounting Data'!J2:J100000,\"681?\")+SUMIFS('Accounting Data'!C2:C100000,'Accounting Data'!E2:E100000,\"3??\",'Accounting Data'!I2:I100000,\"3???\",'Accounting Data'!J2:J100000,\"681?\")+SUMIFS('Accounting Data'!C2:C100000,'Accounting Data'!E2:E100000,\"639\",'Accounting Data'!I2:I100000,\"3???\",'Accounting Data'!J2:J100000,\"681?\")+SUMIFS('Accounting Data'!C2:C100000,'Accounting Data'!E2:E100000,\"699\",'Accounting Data'!I2:I100000,\"3???\",'Accounting Data'!J2:J100000,\"681?\")+SUMIFS('Accounting Data'!C2:C100000,'Accounting Data'!E2:E100000,\"720\",'Accounting Data'!I2:I100000,\"3???\",'Accounting Data'!J2:J100000,\"681?\")+SUMIFS('Accounting Data'!C2:C100000,'Accounting Data'!E2:E100000,\"COVID\",'Accounting Data'!I2:I100000,\"3???\",'Accounting Data'!J2:J100000,\"681?\")","v":{"v":0,"d":"0 "}},{"$f":"SUMIFS('Accounting Data'!C2:C100000,'Accounting Data'!E2:E100000,\"1??\",'Accounting Data'!H2:H100000,\"7??\",'Accounting Data'!I2:I100000,\"1???\",'Accounting Data'!J2:J100000,\"681?\")+SUMIFS('Accounting Data'!C2:C100000,'Accounting Data'!E2:E100000,\"2??\",'Accounting Data'!H2:H100000,\"7??\",'Accounting Data'!I2:I100000,\"1???\",'Accounting Data'!J2:J100000,\"681?\")+SUMIFS('Accounting Data'!C2:C100000,'Accounting Data'!E2:E100000,\"3??\",'Accounting Data'!H2:H100000,\"7??\",'Accounting Data'!I2:I100000,\"1???\",'Accounting Data'!J2:J100000,\"681?\")+SUMIFS('Accounting Data'!C2:C100000,'Accounting Data'!E2:E100000,\"639\",'Accounting Data'!H2:H100000,\"7??\",'Accounting Data'!I2:I100000,\"1???\",'Accounting Data'!J2:J100000,\"681?\")+SUMIFS('Accounting Data'!C2:C100000,'Accounting Data'!E2:E100000,\"699\",'Accounting Data'!H2:H100000,\"7??\",'Accounting Data'!I2:I100000,\"1???\",'Accounting Data'!J2:J100000,\"681?\")+SUMIFS('Accounting Data'!C2:C100000,'Accounting Data'!E2:E100000,\"720\",'Accounting Data'!H2:H100000,\"7??\",'Accounting Data'!I2:I100000,\"1???\",'Accounting Data'!J2:J100000,\"681?\")+SUMIFS('Accounting Data'!C2:C100000,'Accounting Data'!E2:E100000,\"COVID\",'Accounting Data'!H2:H100000,\"7??\",'Accounting Data'!I2:I100000,\"1???\",'Accounting Data'!J2:J100000,\"681?\")","v":{"v":0,"d":"0 "}},{"$f":"SUMIFS('Accounting Data'!C2:C100000,'Accounting Data'!E2:E100000,\"1??\",'Accounting Data'!H2:H100000,\"8??\",'Accounting Data'!I2:I100000,\"1???\",'Accounting Data'!J2:J100000,\"681?\")+SUMIFS('Accounting Data'!C2:C100000,'Accounting Data'!E2:E100000,\"2??\",'Accounting Data'!H2:H100000,\"8??\",'Accounting Data'!I2:I100000,\"1???\",'Accounting Data'!J2:J100000,\"681?\")+SUMIFS('Accounting Data'!C2:C100000,'Accounting Data'!E2:E100000,\"3??\",'Accounting Data'!H2:H100000,\"8??\",'Accounting Data'!I2:I100000,\"1???\",'Accounting Data'!J2:J100000,\"681?\")+SUMIFS('Accounting Data'!C2:C100000,'Accounting Data'!E2:E100000,\"639\",'Accounting Data'!H2:H100000,\"8??\",'Accounting Data'!I2:I100000,\"1???\",'Accounting Data'!J2:J100000,\"681?\")+SUMIFS('Accounting Data'!C2:C100000,'Accounting Data'!E2:E100000,\"699\",'Accounting Data'!H2:H100000,\"8??\",'Accounting Data'!I2:I100000,\"1???\",'Accounting Data'!J2:J100000,\"681?\")+SUMIFS('Accounting Data'!C2:C100000,'Accounting Data'!E2:E100000,\"720\",'Accounting Data'!H2:H100000,\"8??\",'Accounting Data'!I2:I100000,\"1???\",'Accounting Data'!J2:J100000,\"681?\")+SUMIFS('Accounting Data'!C2:C100000,'Accounting Data'!E2:E100000,\"COVID\",'Accounting Data'!H2:H100000,\"8??\",'Accounting Data'!I2:I100000,\"1???\",'Accounting Data'!J2:J100000,\"681?\")","v":{"v":0,"d":"0 "}},{"$f":"SUMIFS('Accounting Data'!C2:C100000,'Accounting Data'!E2:E100000,\"1??\",'Accounting Data'!H2:H100000,\"9??\",'Accounting Data'!I2:I100000,\"1???\",'Accounting Data'!J2:J100000,\"681?\")+SUMIFS('Accounting Data'!C2:C100000,'Accounting Data'!E2:E100000,\"2??\",'Accounting Data'!H2:H100000,\"9??\",'Accounting Data'!I2:I100000,\"1???\",'Accounting Data'!J2:J100000,\"681?\")+SUMIFS('Accounting Data'!C2:C100000,'Accounting Data'!E2:E100000,\"3??\",'Accounting Data'!H2:H100000,\"9??\",'Accounting Data'!I2:I100000,\"1???\",'Accounting Data'!J2:J100000,\"681?\")+SUMIFS('Accounting Data'!C2:C100000,'Accounting Data'!E2:E100000,\"639\",'Accounting Data'!H2:H100000,\"9??\",'Accounting Data'!I2:I100000,\"1???\",'Accounting Data'!J2:J100000,\"681?\")+SUMIFS('Accounting Data'!C2:C100000,'Accounting Data'!E2:E100000,\"699\",'Accounting Data'!H2:H100000,\"9??\",'Accounting Data'!I2:I100000,\"1???\",'Accounting Data'!J2:J100000,\"681?\")+SUMIFS('Accounting Data'!C2:C100000,'Accounting Data'!E2:E100000,\"720\",'Accounting Data'!H2:H100000,\"9??\",'Accounting Data'!I2:I100000,\"1???\",'Accounting Data'!J2:J100000,\"681?\")+SUMIFS('Accounting Data'!C2:C100000,'Accounting Data'!E2:E100000,\"COVID\",'Accounting Data'!H2:H100000,\"9??\",'Accounting Data'!I2:I100000,\"1???\",'Accounting Data'!J2:J100000,\"681?\")","v":{"v":0,"d":"0 "}},{"$f":"SUMIFS('Accounting Data'!C2:C100000,'Accounting Data'!E2:E100000,\"1??\",'Accounting Data'!H2:H100000,\"7??\",'Accounting Data'!I2:I100000,\"2???\",'Accounting Data'!J2:J100000,\"681?\")+SUMIFS('Accounting Data'!C2:C100000,'Accounting Data'!E2:E100000,\"2??\",'Accounting Data'!H2:H100000,\"7??\",'Accounting Data'!I2:I100000,\"2???\",'Accounting Data'!J2:J100000,\"681?\")+SUMIFS('Accounting Data'!C2:C100000,'Accounting Data'!E2:E100000,\"3??\",'Accounting Data'!H2:H100000,\"7??\",'Accounting Data'!I2:I100000,\"2???\",'Accounting Data'!J2:J100000,\"681?\")+SUMIFS('Accounting Data'!C2:C100000,'Accounting Data'!E2:E100000,\"639\",'Accounting Data'!H2:H100000,\"7??\",'Accounting Data'!I2:I100000,\"2???\",'Accounting Data'!J2:J100000,\"681?\")+SUMIFS('Accounting Data'!C2:C100000,'Accounting Data'!E2:E100000,\"699\",'Accounting Data'!H2:H100000,\"7??\",'Accounting Data'!I2:I100000,\"2???\",'Accounting Data'!J2:J100000,\"681?\")+SUMIFS('Accounting Data'!C2:C100000,'Accounting Data'!E2:E100000,\"720\",'Accounting Data'!H2:H100000,\"7??\",'Accounting Data'!I2:I100000,\"2???\",'Accounting Data'!J2:J100000,\"681?\")+SUMIFS('Accounting Data'!C2:C100000,'Accounting Data'!E2:E100000,\"COVID\",'Accounting Data'!H2:H100000,\"7??\",'Accounting Data'!I2:I100000,\"2???\",'Accounting Data'!J2:J100000,\"681?\")","v":{"v":0,"d":"0 "}},{"$f":"SUMIFS('Accounting Data'!C2:C100000,'Accounting Data'!E2:E100000,\"1??\",'Accounting Data'!H2:H100000,\"8??\",'Accounting Data'!I2:I100000,\"2???\",'Accounting Data'!J2:J100000,\"681?\")+SUMIFS('Accounting Data'!C2:C100000,'Accounting Data'!E2:E100000,\"2??\",'Accounting Data'!H2:H100000,\"8??\",'Accounting Data'!I2:I100000,\"2???\",'Accounting Data'!J2:J100000,\"681?\")+SUMIFS('Accounting Data'!C2:C100000,'Accounting Data'!E2:E100000,\"3??\",'Accounting Data'!H2:H100000,\"8??\",'Accounting Data'!I2:I100000,\"2???\",'Accounting Data'!J2:J100000,\"681?\")+SUMIFS('Accounting Data'!C2:C100000,'Accounting Data'!E2:E100000,\"639\",'Accounting Data'!H2:H100000,\"8??\",'Accounting Data'!I2:I100000,\"2???\",'Accounting Data'!J2:J100000,\"681?\")+SUMIFS('Accounting Data'!C2:C100000,'Accounting Data'!E2:E100000,\"699\",'Accounting Data'!H2:H100000,\"8??\",'Accounting Data'!I2:I100000,\"2???\",'Accounting Data'!J2:J100000,\"681?\")+SUMIFS('Accounting Data'!C2:C100000,'Accounting Data'!E2:E100000,\"720\",'Accounting Data'!H2:H100000,\"8??\",'Accounting Data'!I2:I100000,\"2???\",'Accounting Data'!J2:J100000,\"681?\")+SUMIFS('Accounting Data'!C2:C100000,'Accounting Data'!E2:E100000,\"COVID\",'Accounting Data'!H2:H100000,\"8??\",'Accounting Data'!I2:I100000,\"2???\",'Accounting Data'!J2:J100000,\"681?\")","v":{"v":0,"d":"0 "}},{"$f":"SUMIFS('Accounting Data'!C2:C100000,'Accounting Data'!E2:E100000,\"1??\",'Accounting Data'!H2:H100000,\"9??\",'Accounting Data'!I2:I100000,\"2???\",'Accounting Data'!J2:J100000,\"681?\")+SUMIFS('Accounting Data'!C2:C100000,'Accounting Data'!E2:E100000,\"2??\",'Accounting Data'!H2:H100000,\"9??\",'Accounting Data'!I2:I100000,\"2???\",'Accounting Data'!J2:J100000,\"681?\")+SUMIFS('Accounting Data'!C2:C100000,'Accounting Data'!E2:E100000,\"3??\",'Accounting Data'!H2:H100000,\"9??\",'Accounting Data'!I2:I100000,\"2???\",'Accounting Data'!J2:J100000,\"681?\")+SUMIFS('Accounting Data'!C2:C100000,'Accounting Data'!E2:E100000,\"639\",'Accounting Data'!H2:H100000,\"9??\",'Accounting Data'!I2:I100000,\"2???\",'Accounting Data'!J2:J100000,\"681?\")+SUMIFS('Accounting Data'!C2:C100000,'Accounting Data'!E2:E100000,\"699\",'Accounting Data'!H2:H100000,\"9??\",'Accounting Data'!I2:I100000,\"2???\",'Accounting Data'!J2:J100000,\"681?\")+SUMIFS('Accounting Data'!C2:C100000,'Accounting Data'!E2:E100000,\"720\",'Accounting Data'!H2:H100000,\"9??\",'Accounting Data'!I2:I100000,\"2???\",'Accounting Data'!J2:J100000,\"681?\")+SUMIFS('Accounting Data'!C2:C100000,'Accounting Data'!E2:E100000,\"COVID\",'Accounting Data'!H2:H100000,\"9??\",'Accounting Data'!I2:I100000,\"2???\",'Accounting Data'!J2:J100000,\"681?\")","v":{"v":0,"d":"0 "}},{"$f":"SUMIFS('Accounting Data'!C2:C100000,'Accounting Data'!E2:E100000,\"1??\",'Accounting Data'!H2:H100000,\"7??\",'Accounting Data'!I2:I100000,\"3???\",'Accounting Data'!J2:J100000,\"681?\")+SUMIFS('Accounting Data'!C2:C100000,'Accounting Data'!E2:E100000,\"2??\",'Accounting Data'!H2:H100000,\"7??\",'Accounting Data'!I2:I100000,\"3???\",'Accounting Data'!J2:J100000,\"681?\")+SUMIFS('Accounting Data'!C2:C100000,'Accounting Data'!E2:E100000,\"3??\",'Accounting Data'!H2:H100000,\"7??\",'Accounting Data'!I2:I100000,\"3???\",'Accounting Data'!J2:J100000,\"681?\")+SUMIFS('Accounting Data'!C2:C100000,'Accounting Data'!E2:E100000,\"639\",'Accounting Data'!H2:H100000,\"7??\",'Accounting Data'!I2:I100000,\"3???\",'Accounting Data'!J2:J100000,\"681?\")+SUMIFS('Accounting Data'!C2:C100000,'Accounting Data'!E2:E100000,\"699\",'Accounting Data'!H2:H100000,\"7??\",'Accounting Data'!I2:I100000,\"3???\",'Accounting Data'!J2:J100000,\"681?\")+SUMIFS('Accounting Data'!C2:C100000,'Accounting Data'!E2:E100000,\"720\",'Accounting Data'!H2:H100000,\"7??\",'Accounting Data'!I2:I100000,\"3???\",'Accounting Data'!J2:J100000,\"681?\")+SUMIFS('Accounting Data'!C2:C100000,'Accounting Data'!E2:E100000,\"COVID\",'Accounting Data'!H2:H100000,\"7??\",'Accounting Data'!I2:I100000,\"3???\",'Accounting Data'!J2:J100000,\"681?\")","v":{"v":0,"d":"0 "}},{"$f":"SUMIFS('Accounting Data'!C2:C100000,'Accounting Data'!E2:E100000,\"1??\",'Accounting Data'!H2:H100000,\"8??\",'Accounting Data'!I2:I100000,\"3???\",'Accounting Data'!J2:J100000,\"681?\")+SUMIFS('Accounting Data'!C2:C100000,'Accounting Data'!E2:E100000,\"2??\",'Accounting Data'!H2:H100000,\"8??\",'Accounting Data'!I2:I100000,\"3???\",'Accounting Data'!J2:J100000,\"681?\")+SUMIFS('Accounting Data'!C2:C100000,'Accounting Data'!E2:E100000,\"3??\",'Accounting Data'!H2:H100000,\"8??\",'Accounting Data'!I2:I100000,\"3???\",'Accounting Data'!J2:J100000,\"681?\")+SUMIFS('Accounting Data'!C2:C100000,'Accounting Data'!E2:E100000,\"639\",'Accounting Data'!H2:H100000,\"8??\",'Accounting Data'!I2:I100000,\"3???\",'Accounting Data'!J2:J100000,\"681?\")+SUMIFS('Accounting Data'!C2:C100000,'Accounting Data'!E2:E100000,\"699\",'Accounting Data'!H2:H100000,\"8??\",'Accounting Data'!I2:I100000,\"3???\",'Accounting Data'!J2:J100000,\"681?\")+SUMIFS('Accounting Data'!C2:C100000,'Accounting Data'!E2:E100000,\"720\",'Accounting Data'!H2:H100000,\"8??\",'Accounting Data'!I2:I100000,\"3???\",'Accounting Data'!J2:J100000,\"681?\")+SUMIFS('Accounting Data'!C2:C100000,'Accounting Data'!E2:E100000,\"COVID\",'Accounting Data'!H2:H100000,\"8??\",'Accounting Data'!I2:I100000,\"3???\",'Accounting Data'!J2:J100000,\"681?\")","v":{"v":0,"d":"0 "}},{"$f":"SUMIFS('Accounting Data'!C2:C100000,'Accounting Data'!E2:E100000,\"1??\",'Accounting Data'!H2:H100000,\"9??\",'Accounting Data'!I2:I100000,\"3???\",'Accounting Data'!J2:J100000,\"681?\")+SUMIFS('Accounting Data'!C2:C100000,'Accounting Data'!E2:E100000,\"2??\",'Accounting Data'!H2:H100000,\"9??\",'Accounting Data'!I2:I100000,\"3???\",'Accounting Data'!J2:J100000,\"681?\")+SUMIFS('Accounting Data'!C2:C100000,'Accounting Data'!E2:E100000,\"3??\",'Accounting Data'!H2:H100000,\"9??\",'Accounting Data'!I2:I100000,\"3???\",'Accounting Data'!J2:J100000,\"681?\")+SUMIFS('Accounting Data'!C2:C100000,'Accounting Data'!E2:E100000,\"639\",'Accounting Data'!H2:H100000,\"9??\",'Accounting Data'!I2:I100000,\"3???\",'Accounting Data'!J2:J100000,\"681?\")+SUMIFS('Accounting Data'!C2:C100000,'Accounting Data'!E2:E100000,\"699\",'Accounting Data'!H2:H100000,\"9??\",'Accounting Data'!I2:I100000,\"3???\",'Accounting Data'!J2:J100000,\"681?\")+SUMIFS('Accounting Data'!C2:C100000,'Accounting Data'!E2:E100000,\"720\",'Accounting Data'!H2:H100000,\"9??\",'Accounting Data'!I2:I100000,\"3???\",'Accounting Data'!J2:J100000,\"681?\")+SUMIFS('Accounting Data'!C2:C100000,'Accounting Data'!E2:E100000,\"COVID\",'Accounting Data'!H2:H100000,\"9??\",'Accounting Data'!I2:I100000,\"3???\",'Accounting Data'!J2:J100000,\"681?\")","v":{"v":0,"d":"0 "}}]
["5. Cocurricular Activities, Athletics, and Other (Program 600-630) ",null,null,{"v":0,"d":"0 "},{"v":0,"d":"0 "},{"v":0,"d":"0 "},{"v":0,"d":"0 "},"5.","Property Detail for Function 4000 (Funds 001-799, excluding 575)",{"$nulls":16},6890,{"$f":"SUMIFS('Accounting Data'!C2:C100000,'Accounting Data'!E2:E100000,\"1??\",'Accounting Data'!I2:I100000,\"1???\",'Accounting Data'!J2:J100000,\"689?\")+SUMIFS('Accounting Data'!C2:C100000,'Accounting Data'!E2:E100000,\"2??\",'Accounting Data'!I2:I100000,\"1???\",'Accounting Data'!J2:J100000,\"689?\")+SUMIFS('Accounting Data'!C2:C100000,'Accounting Data'!E2:E100000,\"3??\",'Accounting Data'!I2:I100000,\"1???\",'Accounting Data'!J2:J100000,\"689?\")+SUMIFS('Accounting Data'!C2:C100000,'Accounting Data'!E2:E100000,\"639\",'Accounting Data'!I2:I100000,\"1???\",'Accounting Data'!J2:J100000,\"689?\")+SUMIFS('Accounting Data'!C2:C100000,'Accounting Data'!E2:E100000,\"699\",'Accounting Data'!I2:I100000,\"1???\",'Accounting Data'!J2:J100000,\"689?\")+SUMIFS('Accounting Data'!C2:C100000,'Accounting Data'!E2:E100000,\"720\",'Accounting Data'!I2:I100000,\"1???\",'Accounting Data'!J2:J100000,\"689?\")+SUMIFS('Accounting Data'!C2:C100000,'Accounting Data'!E2:E100000,\"COVID\",'Accounting Data'!I2:I100000,\"1???\",'Accounting Data'!J2:J100000,\"689?\")","v":{"v":0,"d":"0 "}},{"$f":"SUMIFS('Accounting Data'!C2:C100000,'Accounting Data'!E2:E100000,\"1??\",'Accounting Data'!I2:I100000,\"2???\",'Accounting Data'!J2:J100000,\"689?\")+SUMIFS('Accounting Data'!C2:C100000,'Accounting Data'!E2:E100000,\"2??\",'Accounting Data'!I2:I100000,\"2???\",'Accounting Data'!J2:J100000,\"689?\")+SUMIFS('Accounting Data'!C2:C100000,'Accounting Data'!E2:E100000,\"3??\",'Accounting Data'!I2:I100000,\"2???\",'Accounting Data'!J2:J100000,\"689?\")+SUMIFS('Accounting Data'!C2:C100000,'Accounting Data'!E2:E100000,\"639\",'Accounting Data'!I2:I100000,\"2???\",'Accounting Data'!J2:J100000,\"689?\")+SUMIFS('Accounting Data'!C2:C100000,'Accounting Data'!E2:E100000,\"699\",'Accounting Data'!I2:I100000,\"2???\",'Accounting Data'!J2:J100000,\"689?\")+SUMIFS('Accounting Data'!C2:C100000,'Accounting Data'!E2:E100000,\"720\",'Accounting Data'!I2:I100000,\"2???\",'Accounting Data'!J2:J100000,\"689?\")+SUMIFS('Accounting Data'!C2:C100000,'Accounting Data'!E2:E100000,\"COVID\",'Accounting Data'!I2:I100000,\"2???\",'Accounting Data'!J2:J100000,\"689?\")","v":{"v":0,"d":"0 "}},{"$f":"SUMIFS('Accounting Data'!C2:C100000,'Accounting Data'!E2:E100000,\"1??\",'Accounting Data'!I2:I100000,\"3???\",'Accounting Data'!J2:J100000,\"689?\")+SUMIFS('Accounting Data'!C2:C100000,'Accounting Data'!E2:E100000,\"2??\",'Accounting Data'!I2:I100000,\"3???\",'Accounting Data'!J2:J100000,\"689?\")+SUMIFS('Accounting Data'!C2:C100000,'Accounting Data'!E2:E100000,\"3??\",'Accounting Data'!I2:I100000,\"3???\",'Accounting Data'!J2:J100000,\"689?\")+SUMIFS('Accounting Data'!C2:C100000,'Accounting Data'!E2:E100000,\"639\",'Accounting Data'!I2:I100000,\"3???\",'Accounting Data'!J2:J100000,\"689?\")+SUMIFS('Accounting Data'!C2:C100000,'Accounting Data'!E2:E100000,\"699\",'Accounting Data'!I2:I100000,\"3???\",'Accounting Data'!J2:J100000,\"689?\")+SUMIFS('Accounting Data'!C2:C100000,'Accounting Data'!E2:E100000,\"720\",'Accounting Data'!I2:I100000,\"3???\",'Accounting Data'!J2:J100000,\"689?\")+SUMIFS('Accounting Data'!C2:C100000,'Accounting Data'!E2:E100000,\"COVID\",'Accounting Data'!I2:I100000,\"3???\",'Accounting Data'!J2:J100000,\"689?\")","v":{"v":0,"d":"0 "}},{"$f":"SUMIFS('Accounting Data'!C2:C100000,'Accounting Data'!E2:E100000,\"1??\",'Accounting Data'!H2:H100000,\"7??\",'Accounting Data'!I2:I100000,\"1???\",'Accounting Data'!J2:J100000,\"689?\")+SUMIFS('Accounting Data'!C2:C100000,'Accounting Data'!E2:E100000,\"2??\",'Accounting Data'!H2:H100000,\"7??\",'Accounting Data'!I2:I100000,\"1???\",'Accounting Data'!J2:J100000,\"689?\")+SUMIFS('Accounting Data'!C2:C100000,'Accounting Data'!E2:E100000,\"3??\",'Accounting Data'!H2:H100000,\"7??\",'Accounting Data'!I2:I100000,\"1???\",'Accounting Data'!J2:J100000,\"689?\")+SUMIFS('Accounting Data'!C2:C100000,'Accounting Data'!E2:E100000,\"639\",'Accounting Data'!H2:H100000,\"7??\",'Accounting Data'!I2:I100000,\"1???\",'Accounting Data'!J2:J100000,\"689?\")+SUMIFS('Accounting Data'!C2:C100000,'Accounting Data'!E2:E100000,\"699\",'Accounting Data'!H2:H100000,\"7??\",'Accounting Data'!I2:I100000,\"1???\",'Accounting Data'!J2:J100000,\"689?\")+SUMIFS('Accounting Data'!C2:C100000,'Accounting Data'!E2:E100000,\"720\",'Accounting Data'!H2:H100000,\"7??\",'Accounting Data'!I2:I100000,\"1???\",'Accounting Data'!J2:J100000,\"689?\")+SUMIFS('Accounting Data'!C2:C100000,'Accounting Data'!E2:E100000,\"COVID\",'Accounting Data'!H2:H100000,\"7??\",'Accounting Data'!I2:I100000,\"1???\",'Accounting Data'!J2:J100000,\"689?\")","v":{"v":0,"d":"0 "}},{"$f":"SUMIFS('Accounting Data'!C2:C100000,'Accounting Data'!E2:E100000,\"1??\",'Accounting Data'!H2:H100000,\"8??\",'Accounting Data'!I2:I100000,\"1???\",'Accounting Data'!J2:J100000,\"689?\")+SUMIFS('Accounting Data'!C2:C100000,'Accounting Data'!E2:E100000,\"2??\",'Accounting Data'!H2:H100000,\"8??\",'Accounting Data'!I2:I100000,\"1???\",'Accounting Data'!J2:J100000,\"689?\")+SUMIFS('Accounting Data'!C2:C100000,'Accounting Data'!E2:E100000,\"3??\",'Accounting Data'!H2:H100000,\"8??\",'Accounting Data'!I2:I100000,\"1???\",'Accounting Data'!J2:J100000,\"689?\")+SUMIFS('Accounting Data'!C2:C100000,'Accounting Data'!E2:E100000,\"639\",'Accounting Data'!H2:H100000,\"8??\",'Accounting Data'!I2:I100000,\"1???\",'Accounting Data'!J2:J100000,\"689?\")+SUMIFS('Accounting Data'!C2:C100000,'Accounting Data'!E2:E100000,\"699\",'Accounting Data'!H2:H100000,\"8??\",'Accounting Data'!I2:I100000,\"1???\",'Accounting Data'!J2:J100000,\"689?\")+SUMIFS('Accounting Data'!C2:C100000,'Accounting Data'!E2:E100000,\"720\",'Accounting Data'!H2:H100000,\"8??\",'Accounting Data'!I2:I100000,\"1???\",'Accounting Data'!J2:J100000,\"689?\")+SUMIFS('Accounting Data'!C2:C100000,'Accounting Data'!E2:E100000,\"COVID\",'Accounting Data'!H2:H100000,\"8??\",'Accounting Data'!I2:I100000,\"1???\",'Accounting Data'!J2:J100000,\"689?\")","v":{"v":0,"d":"0 "}},{"$f":"SUMIFS('Accounting Data'!C2:C100000,'Accounting Data'!E2:E100000,\"1??\",'Accounting Data'!H2:H100000,\"9??\",'Accounting Data'!I2:I100000,\"1???\",'Accounting Data'!J2:J100000,\"689?\")+SUMIFS('Accounting Data'!C2:C100000,'Accounting Data'!E2:E100000,\"2??\",'Accounting Data'!H2:H100000,\"9??\",'Accounting Data'!I2:I100000,\"1???\",'Accounting Data'!J2:J100000,\"689?\")+SUMIFS('Accounting Data'!C2:C100000,'Accounting Data'!E2:E100000,\"3??\",'Accounting Data'!H2:H100000,\"9??\",'Accounting Data'!I2:I100000,\"1???\",'Accounting Data'!J2:J100000,\"689?\")+SUMIFS('Accounting Data'!C2:C100000,'Accounting Data'!E2:E100000,\"639\",'Accounting Data'!H2:H100000,\"9??\",'Accounting Data'!I2:I100000,\"1???\",'Accounting Data'!J2:J100000,\"689?\")+SUMIFS('Accounting Data'!C2:C100000,'Accounting Data'!E2:E100000,\"699\",'Accounting Data'!H2:H100000,\"9??\",'Accounting Data'!I2:I100000,\"1???\",'Accounting Data'!J2:J100000,\"689?\")+SUMIFS('Accounting Data'!C2:C100000,'Accounting Data'!E2:E100000,\"720\",'Accounting Data'!H2:H100000,\"9??\",'Accounting Data'!I2:I100000,\"1???\",'Accounting Data'!J2:J100000,\"689?\")+SUMIFS('Accounting Data'!C2:C100000,'Accounting Data'!E2:E100000,\"COVID\",'Accounting Data'!H2:H100000,\"9??\",'Accounting Data'!I2:I100000,\"1???\",'Accounting Data'!J2:J100000,\"689?\")","v":{"v":0,"d":"0 "}},{"$f":"SUMIFS('Accounting Data'!C2:C100000,'Accounting Data'!E2:E100000,\"1??\",'Accounting Data'!H2:H100000,\"7??\",'Accounting Data'!I2:I100000,\"2???\",'Accounting Data'!J2:J100000,\"689?\")+SUMIFS('Accounting Data'!C2:C100000,'Accounting Data'!E2:E100000,\"2??\",'Accounting Data'!H2:H100000,\"7??\",'Accounting Data'!I2:I100000,\"2???\",'Accounting Data'!J2:J100000,\"689?\")+SUMIFS('Accounting Data'!C2:C100000,'Accounting Data'!E2:E100000,\"3??\",'Accounting Data'!H2:H100000,\"7??\",'Accounting Data'!I2:I100000,\"2???\",'Accounting Data'!J2:J100000,\"689?\")+SUMIFS('Accounting Data'!C2:C100000,'Accounting Data'!E2:E100000,\"639\",'Accounting Data'!H2:H100000,\"7??\",'Accounting Data'!I2:I100000,\"2???\",'Accounting Data'!J2:J100000,\"689?\")+SUMIFS('Accounting Data'!C2:C100000,'Accounting Data'!E2:E100000,\"699\",'Accounting Data'!H2:H100000,\"7??\",'Accounting Data'!I2:I100000,\"2???\",'Accounting Data'!J2:J100000,\"689?\")+SUMIFS('Accounting Data'!C2:C100000,'Accounting Data'!E2:E100000,\"720\",'Accounting Data'!H2:H100000,\"7??\",'Accounting Data'!I2:I100000,\"2???\",'Accounting Data'!J2:J100000,\"689?\")+SUMIFS('Accounting Data'!C2:C100000,'Accounting Data'!E2:E100000,\"COVID\",'Accounting Data'!H2:H100000,\"7??\",'Accounting Data'!I2:I100000,\"2???\",'Accounting Data'!J2:J100000,\"689?\")","v":{"v":0,"d":"0 "}},{"$f":"SUMIFS('Accounting Data'!C2:C100000,'Accounting Data'!E2:E100000,\"1??\",'Accounting Data'!H2:H100000,\"8??\",'Accounting Data'!I2:I100000,\"2???\",'Accounting Data'!J2:J100000,\"689?\")+SUMIFS('Accounting Data'!C2:C100000,'Accounting Data'!E2:E100000,\"2??\",'Accounting Data'!H2:H100000,\"8??\",'Accounting Data'!I2:I100000,\"2???\",'Accounting Data'!J2:J100000,\"689?\")+SUMIFS('Accounting Data'!C2:C100000,'Accounting Data'!E2:E100000,\"3??\",'Accounting Data'!H2:H100000,\"8??\",'Accounting Data'!I2:I100000,\"2???\",'Accounting Data'!J2:J100000,\"689?\")+SUMIFS('Accounting Data'!C2:C100000,'Accounting Data'!E2:E100000,\"639\",'Accounting Data'!H2:H100000,\"8??\",'Accounting Data'!I2:I100000,\"2???\",'Accounting Data'!J2:J100000,\"689?\")+SUMIFS('Accounting Data'!C2:C100000,'Accounting Data'!E2:E100000,\"699\",'Accounting Data'!H2:H100000,\"8??\",'Accounting Data'!I2:I100000,\"2???\",'Accounting Data'!J2:J100000,\"689?\")+SUMIFS('Accounting Data'!C2:C100000,'Accounting Data'!E2:E100000,\"720\",'Accounting Data'!H2:H100000,\"8??\",'Accounting Data'!I2:I100000,\"2???\",'Accounting Data'!J2:J100000,\"689?\")+SUMIFS('Accounting Data'!C2:C100000,'Accounting Data'!E2:E100000,\"COVID\",'Accounting Data'!H2:H100000,\"8??\",'Accounting Data'!I2:I100000,\"2???\",'Accounting Data'!J2:J100000,\"689?\")","v":{"v":0,"d":"0 "}},{"$f":"SUMIFS('Accounting Data'!C2:C100000,'Accounting Data'!E2:E100000,\"1??\",'Accounting Data'!H2:H100000,\"9??\",'Accounting Data'!I2:I100000,\"2???\",'Accounting Data'!J2:J100000,\"689?\")+SUMIFS('Accounting Data'!C2:C100000,'Accounting Data'!E2:E100000,\"2??\",'Accounting Data'!H2:H100000,\"9??\",'Accounting Data'!I2:I100000,\"2???\",'Accounting Data'!J2:J100000,\"689?\")+SUMIFS('Accounting Data'!C2:C100000,'Accounting Data'!E2:E100000,\"3??\",'Accounting Data'!H2:H100000,\"9??\",'Accounting Data'!I2:I100000,\"2???\",'Accounting Data'!J2:J100000,\"689?\")+SUMIFS('Accounting Data'!C2:C100000,'Accounting Data'!E2:E100000,\"639\",'Accounting Data'!H2:H100000,\"9??\",'Accounting Data'!I2:I100000,\"2???\",'Accounting Data'!J2:J100000,\"689?\")+SUMIFS('Accounting Data'!C2:C100000,'Accounting Data'!E2:E100000,\"699\",'Accounting Data'!H2:H100000,\"9??\",'Accounting Data'!I2:I100000,\"2???\",'Accounting Data'!J2:J100000,\"689?\")+SUMIFS('Accounting Data'!C2:C100000,'Accounting Data'!E2:E100000,\"720\",'Accounting Data'!H2:H100000,\"9??\",'Accounting Data'!I2:I100000,\"2???\",'Accounting Data'!J2:J100000,\"689?\")+SUMIFS('Accounting Data'!C2:C100000,'Accounting Data'!E2:E100000,\"COVID\",'Accounting Data'!H2:H100000,\"9??\",'Accounting Data'!I2:I100000,\"2???\",'Accounting Data'!J2:J100000,\"689?\")","v":{"v":0,"d":"0 "}},{"$f":"SUMIFS('Accounting Data'!C2:C100000,'Accounting Data'!E2:E100000,\"1??\",'Accounting Data'!H2:H100000,\"7??\",'Accounting Data'!I2:I100000,\"3???\",'Accounting Data'!J2:J100000,\"689?\")+SUMIFS('Accounting Data'!C2:C100000,'Accounting Data'!E2:E100000,\"2??\",'Accounting Data'!H2:H100000,\"7??\",'Accounting Data'!I2:I100000,\"3???\",'Accounting Data'!J2:J100000,\"689?\")+SUMIFS('Accounting Data'!C2:C100000,'Accounting Data'!E2:E100000,\"3??\",'Accounting Data'!H2:H100000,\"7??\",'Accounting Data'!I2:I100000,\"3???\",'Accounting Data'!J2:J100000,\"689?\")+SUMIFS('Accounting Data'!C2:C100000,'Accounting Data'!E2:E100000,\"639\",'Accounting Data'!H2:H100000,\"7??\",'Accounting Data'!I2:I100000,\"3???\",'Accounting Data'!J2:J100000,\"689?\")+SUMIFS('Accounting Data'!C2:C100000,'Accounting Data'!E2:E100000,\"699\",'Accounting Data'!H2:H100000,\"7??\",'Accounting Data'!I2:I100000,\"3???\",'Accounting Data'!J2:J100000,\"689?\")+SUMIFS('Accounting Data'!C2:C100000,'Accounting Data'!E2:E100000,\"720\",'Accounting Data'!H2:H100000,\"7??\",'Accounting Data'!I2:I100000,\"3???\",'Accounting Data'!J2:J100000,\"689?\")+SUMIFS('Accounting Data'!C2:C100000,'Accounting Data'!E2:E100000,\"COVID\",'Accounting Data'!H2:H100000,\"7??\",'Accounting Data'!I2:I100000,\"3???\",'Accounting Data'!J2:J100000,\"689?\")","v":{"v":0,"d":"0 "}},{"$f":"SUMIFS('Accounting Data'!C2:C100000,'Accounting Data'!E2:E100000,\"1??\",'Accounting Data'!H2:H100000,\"8??\",'Accounting Data'!I2:I100000,\"3???\",'Accounting Data'!J2:J100000,\"689?\")+SUMIFS('Accounting Data'!C2:C100000,'Accounting Data'!E2:E100000,\"2??\",'Accounting Data'!H2:H100000,\"8??\",'Accounting Data'!I2:I100000,\"3???\",'Accounting Data'!J2:J100000,\"689?\")+SUMIFS('Accounting Data'!C2:C100000,'Accounting Data'!E2:E100000,\"3??\",'Accounting Data'!H2:H100000,\"8??\",'Accounting Data'!I2:I100000,\"3???\",'Accounting Data'!J2:J100000,\"689?\")+SUMIFS('Accounting Data'!C2:C100000,'Accounting Data'!E2:E100000,\"639\",'Accounting Data'!H2:H100000,\"8??\",'Accounting Data'!I2:I100000,\"3???\",'Accounting Data'!J2:J100000,\"689?\")+SUMIFS('Accounting Data'!C2:C100000,'Accounting Data'!E2:E100000,\"699\",'Accounting Data'!H2:H100000,\"8??\",'Accounting Data'!I2:I100000,\"3???\",'Accounting Data'!J2:J100000,\"689?\")+SUMIFS('Accounting Data'!C2:C100000,'Accounting Data'!E2:E100000,\"720\",'Accounting Data'!H2:H100000,\"8??\",'Accounting Data'!I2:I100000,\"3???\",'Accounting Data'!J2:J100000,\"689?\")+SUMIFS('Accounting Data'!C2:C100000,'Accounting Data'!E2:E100000,\"COVID\",'Accounting Data'!H2:H100000,\"8??\",'Accounting Data'!I2:I100000,\"3???\",'Accounting Data'!J2:J100000,\"689?\")","v":{"v":0,"d":"0 "}},{"$f":"SUMIFS('Accounting Data'!C2:C100000,'Accounting Data'!E2:E100000,\"1??\",'Accounting Data'!H2:H100000,\"9??\",'Accounting Data'!I2:I100000,\"3???\",'Accounting Data'!J2:J100000,\"689?\")+SUMIFS('Accounting Data'!C2:C100000,'Accounting Data'!E2:E100000,\"2??\",'Accounting Data'!H2:H100000,\"9??\",'Accounting Data'!I2:I100000,\"3???\",'Accounting Data'!J2:J100000,\"689?\")+SUMIFS('Accounting Data'!C2:C100000,'Accounting Data'!E2:E100000,\"3??\",'Accounting Data'!H2:H100000,\"9??\",'Accounting Data'!I2:I100000,\"3???\",'Accounting Data'!J2:J100000,\"689?\")+SUMIFS('Accounting Data'!C2:C100000,'Accounting Data'!E2:E100000,\"639\",'Accounting Data'!H2:H100000,\"9??\",'Accounting Data'!I2:I100000,\"3???\",'Accounting Data'!J2:J100000,\"689?\")+SUMIFS('Accounting Data'!C2:C100000,'Accounting Data'!E2:E100000,\"699\",'Accounting Data'!H2:H100000,\"9??\",'Accounting Data'!I2:I100000,\"3???\",'Accounting Data'!J2:J100000,\"689?\")+SUMIFS('Accounting Data'!C2:C100000,'Accounting Data'!E2:E100000,\"720\",'Accounting Data'!H2:H100000,\"9??\",'Accounting Data'!I2:I100000,\"3???\",'Accounting Data'!J2:J100000,\"689?\")+SUMIFS('Accounting Data'!C2:C100000,'Accounting Data'!E2:E100000,\"COVID\",'Accounting Data'!H2:H100000,\"9??\",'Accounting Data'!I2:I100000,\"3???\",'Accounting Data'!J2:J100000,\"689?\")","v":{"v":0,"d":"0 "}}]
[{"$nulls":8},"1. 6710 Land and Improvements",null,null,{"$f":"(SUMIFS('Accounting Data'!C2:C100000,'Accounting Data'!I2:I100000,\"4???\",'Accounting Data'!J2:J100000,\"671?\"))-(SUMIFS('Accounting Data'!C2:C100000,'Accounting Data'!E2:E100000,\"575\",'Accounting Data'!I2:I100000,\"4???\",'Accounting Data'!J2:J100000,\"671?\")+SUMIFS('Accounting Data'!C2:C100000,'Accounting Data'!E2:E100000,\"8??\",'Accounting Data'!I2:I100000,\"4???\",'Accounting Data'!J2:J100000,\"671?\")+SUMIFS('Accounting Data'!C2:C100000,'Accounting Data'!E2:E100000,\"9??\",'Accounting Data'!I2:I100000,\"4???\",'Accounting Data'!J2:J100000,\"671?\"))","v":{"v":0,"d":"0 "}},"1."]
["Other Items (Funds 001-799, excluding 575)",{"$nulls":7},"2. 6720 Buildings and Improvements",null,null,{"$f":"(SUMIFS('Accounting Data'!C2:C100000,'Accounting Data'!I2:I100000,\"4???\",'Accounting Data'!J2:J100000,\"672?\"))-(SUMIFS('Accounting Data'!C2:C100000,'Accounting Data'!E2:E100000,\"575\",'Accounting Data'!I2:I100000,\"4???\",'Accounting Data'!J2:J100000,\"672?\")+SUMIFS('Accounting Data'!C2:C100000,'Accounting Data'!E2:E100000,\"8??\",'Accounting Data'!I2:I100000,\"4???\",'Accounting Data'!J2:J100000,\"672?\")+SUMIFS('Accounting Data'!C2:C100000,'Accounting Data'!E2:E100000,\"9??\",'Accounting Data'!I2:I100000,\"4???\",'Accounting Data'!J2:J100000,\"672?\"))","v":{"v":0,"d":"0 "}},"2.",{"$nulls":13},"Program 700","Program 800","Program 900","Program 700","Program 800","Program 900","Program 700","Program 800","Program 900"]
["6. Textbooks used for Instruction (Function 1000, Object 6640)",null,null,{"v":655,"d":"655 "},"6.",{"$nulls":3},"3. 6731-39 Equipment",null,null,{"$f":"(SUMIFS('Accounting Data'!C2:C100000,'Accounting Data'!I2:I100000,\"4???\",'Accounting Data'!J2:J100000,\"673?\"))-(SUMIFS('Accounting Data'!C2:C100000,'Accounting Data'!E2:E100000,\"575\",'Accounting Data'!I2:I100000,\"4???\",'Accounting Data'!J2:J100000,\"673?\")+SUMIFS('Accounting Data'!C2:C100000,'Accounting Data'!E2:E100000,\"8??\",'Accounting Data'!I2:I100000,\"4???\",'Accounting Data'!J2:J100000,\"673?\")+SUMIFS('Accounting Data'!C2:C100000,'Accounting Data'!E2:E100000,\"9??\",'Accounting Data'!I2:I100000,\"4???\",'Accounting Data'!J2:J100000,\"673?\"))","v":{"v":0,"d":"0 "}},"3.",{"$nulls":12},"Object","Function 1000","Function 1000","Function 1000","Function 2000","Function 2000","Function 2000","Function 3000","Function 3000","Function 3000"]
["7. Number of FTE-Certified Teachers",null,null,{"v":3,"d":"3 "},"7.",{"$nulls":3},"4. Total (lines 1-3)",null,null,{"$f":"SUM(L40:L42)","v":{"v":0,"d":"0 "}},"4.",{"$nulls":12},6000,{"$f":"SUMIFS('Accounting Data'!C2:C100000,'Accounting Data'!E2:E100000,\"1??\",'Accounting Data'!H2:H100000,\"7??\",'Accounting Data'!I2:I100000,\"1???\",'Accounting Data'!J2:J100000,\"6???\")+SUMIFS('Accounting Data'!C2:C100000,'Accounting Data'!E2:E100000,\"2??\",'Accounting Data'!H2:H100000,\"7??\",'Accounting Data'!I2:I100000,\"1???\",'Accounting Data'!J2:J100000,\"6???\")+SUMIFS('Accounting Data'!C2:C100000,'Accounting Data'!E2:E100000,\"3??\",'Accounting Data'!H2:H100000,\"7??\",'Accounting Data'!I2:I100000,\"1???\",'Accounting Data'!J2:J100000,\"6???\")+SUMIFS('Accounting Data'!C2:C100000,'Accounting Data'!E2:E100000,\"639\",'Accounting Data'!H2:H100000,\"7??\",'Accounting Data'!I2:I100000,\"1???\",'Accounting Data'!J2:J100000,\"6???\")+SUMIFS('Accounting Data'!C2:C100000,'Accounting Data'!E2:E100000,\"699\",'Accounting Data'!H2:H100000,\"7??\",'Accounting Data'!I2:I100000,\"1???\",'Accounting Data'!J2:J100000,\"6???\")+SUMIFS('Accounting Data'!C2:C100000,'Accounting Data'!E2:E100000,\"720\",'Accounting Data'!H2:H100000,\"7??\",'Accounting Data'!I2:I100000,\"1???\",'Accounting Data'!J2:J100000,\"6???\")+SUMIFS('Accounting Data'!C2:C100000,'Accounting Data'!E2:E100000,\"COVID\",'Accounting Data'!H2:H100000,\"7??\",'Accounting Data'!I2:I100000,\"1???\",'Accounting Data'!J2:J100000,\"6???\")","v":{"v":0,"d":"0 "}},{"$f":"SUMIFS('Accounting Data'!C2:C100000,'Accounting Data'!E2:E100000,\"1??\",'Accounting Data'!H2:H100000,\"8??\",'Accounting Data'!I2:I100000,\"1???\",'Accounting Data'!J2:J100000,\"6???\")+SUMIFS('Accounting Data'!C2:C100000,'Accounting Data'!E2:E100000,\"2??\",'Accounting Data'!H2:H100000,\"8??\",'Accounting Data'!I2:I100000,\"1???\",'Accounting Data'!J2:J100000,\"6???\")+SUMIFS('Accounting Data'!C2:C100000,'Accounting Data'!E2:E100000,\"3??\",'Accounting Data'!H2:H100000,\"8??\",'Accounting Data'!I2:I100000,\"1???\",'Accounting Data'!J2:J100000,\"6???\")+SUMIFS('Accounting Data'!C2:C100000,'Accounting Data'!E2:E100000,\"639\",'Accounting Data'!H2:H100000,\"8??\",'Accounting Data'!I2:I100000,\"1???\",'Accounting Data'!J2:J100000,\"6???\")+SUMIFS('Accounting Data'!C2:C100000,'Accounting Data'!E2:E100000,\"699\",'Accounting Data'!H2:H100000,\"8??\",'Accounting Data'!I2:I100000,\"1???\",'Accounting Data'!J2:J100000,\"6???\")+SUMIFS('Accounting Data'!C2:C100000,'Accounting Data'!E2:E100000,\"720\",'Accounting Data'!H2:H100000,\"8??\",'Accounting Data'!I2:I100000,\"1???\",'Accounting Data'!J2:J100000,\"6???\")+SUMIFS('Accounting Data'!C2:C100000,'Accounting Data'!E2:E100000,\"COVID\",'Accounting Data'!H2:H100000,\"8??\",'Accounting Data'!I2:I100000,\"1???\",'Accounting Data'!J2:J100000,\"6???\")","v":{"v":0,"d":"0 "}},{"$f":"SUMIFS('Accounting Data'!C2:C100000,'Accounting Data'!E2:E100000,\"1??\",'Accounting Data'!H2:H100000,\"9??\",'Accounting Data'!I2:I100000,\"1???\",'Accounting Data'!J2:J100000,\"6???\")+SUMIFS('Accounting Data'!C2:C100000,'Accounting Data'!E2:E100000,\"2??\",'Accounting Data'!H2:H100000,\"9??\",'Accounting Data'!I2:I100000,\"1???\",'Accounting Data'!J2:J100000,\"6???\")+SUMIFS('Accounting Data'!C2:C100000,'Accounting Data'!E2:E100000,\"3??\",'Accounting Data'!H2:H100000,\"9??\",'Accounting Data'!I2:I100000,\"1???\",'Accounting Data'!J2:J100000,\"6???\")+SUMIFS('Accounting Data'!C2:C100000,'Accounting Data'!E2:E100000,\"639\",'Accounting Data'!H2:H100000,\"9??\",'Accounting Data'!I2:I100000,\"1???\",'Accounting Data'!J2:J100000,\"6???\")+SUMIFS('Accounting Data'!C2:C100000,'Accounting Data'!E2:E100000,\"699\",'Accounting Data'!H2:H100000,\"9??\",'Accounting Data'!I2:I100000,\"1???\",'Accounting Data'!J2:J100000,\"6???\")+SUMIFS('Accounting Data'!C2:C100000,'Accounting Data'!E2:E100000,\"720\",'Accounting Data'!H2:H100000,\"9??\",'Accounting Data'!I2:I100000,\"1???\",'Accounting Data'!J2:J100000,\"6???\")+SUMIFS('Accounting Data'!C2:C100000,'Accounting Data'!E2:E100000,\"COVID\",'Accounting Data'!H2:H100000,\"9??\",'Accounting Data'!I2:I100000,\"1???\",'Accounting Data'!J2:J100000,\"6???\")","v":{"v":0,"d":"0 "}},{"$f":"SUMIFS('Accounting Data'!C2:C100000,'Accounting Data'!E2:E100000,\"1??\",'Accounting Data'!H2:H100000,\"7??\",'Accounting Data'!I2:I100000,\"2???\",'Accounting Data'!J2:J100000,\"6???\")+SUMIFS('Accounting Data'!C2:C100000,'Accounting Data'!E2:E100000,\"2??\",'Accounting Data'!H2:H100000,\"7??\",'Accounting Data'!I2:I100000,\"2???\",'Accounting Data'!J2:J100000,\"6???\")+SUMIFS('Accounting Data'!C2:C100000,'Accounting Data'!E2:E100000,\"3??\",'Accounting Data'!H2:H100000,\"7??\",'Accounting Data'!I2:I100000,\"2???\",'Accounting Data'!J2:J100000,\"6???\")+SUMIFS('Accounting Data'!C2:C100000,'Accounting Data'!E2:E100000,\"639\",'Accounting Data'!H2:H100000,\"7??\",'Accounting Data'!I2:I100000,\"2???\",'Accounting Data'!J2:J100000,\"6???\")+SUMIFS('Accounting Data'!C2:C100000,'Accounting Data'!E2:E100000,\"699\",'Accounting Data'!H2:H100000,\"7??\",'Accounting Data'!I2:I100000,\"2???\",'Accounting Data'!J2:J100000,\"6???\")+SUMIFS('Accounting Data'!C2:C100000,'Accounting Data'!E2:E100000,\"720\",'Accounting Data'!H2:H100000,\"7??\",'Accounting Data'!I2:I100000,\"2???\",'Accounting Data'!J2:J100000,\"6???\")+SUMIFS('Accounting Data'!C2:C100000,'Accounting Data'!E2:E100000,\"COVID\",'Accounting Data'!H2:H100000,\"7??\",'Accounting Data'!I2:I100000,\"2???\",'Accounting Data'!J2:J100000,\"6???\")","v":{"v":0,"d":"0 "}},{"$f":"SUMIFS('Accounting Data'!C2:C100000,'Accounting Data'!E2:E100000,\"1??\",'Accounting Data'!H2:H100000,\"8??\",'Accounting Data'!I2:I100000,\"2???\",'Accounting Data'!J2:J100000,\"6???\")+SUMIFS('Accounting Data'!C2:C100000,'Accounting Data'!E2:E100000,\"2??\",'Accounting Data'!H2:H100000,\"8??\",'Accounting Data'!I2:I100000,\"2???\",'Accounting Data'!J2:J100000,\"6???\")+SUMIFS('Accounting Data'!C2:C100000,'Accounting Data'!E2:E100000,\"3??\",'Accounting Data'!H2:H100000,\"8??\",'Accounting Data'!I2:I100000,\"2???\",'Accounting Data'!J2:J100000,\"6???\")+SUMIFS('Accounting Data'!C2:C100000,'Accounting Data'!E2:E100000,\"639\",'Accounting Data'!H2:H100000,\"8??\",'Accounting Data'!I2:I100000,\"2???\",'Accounting Data'!J2:J100000,\"6???\")+SUMIFS('Accounting Data'!C2:C100000,'Accounting Data'!E2:E100000,\"699\",'Accounting Data'!H2:H100000,\"8??\",'Accounting Data'!I2:I100000,\"2???\",'Accounting Data'!J2:J100000,\"6???\")+SUMIFS('Accounting Data'!C2:C100000,'Accounting Data'!E2:E100000,\"720\",'Accounting Data'!H2:H100000,\"8??\",'Accounting Data'!I2:I100000,\"2???\",'Accounting Data'!J2:J100000,\"6???\")+SUMIFS('Accounting Data'!C2:C100000,'Accounting Data'!E2:E100000,\"COVID\",'Accounting Data'!H2:H100000,\"8??\",'Accounting Data'!I2:I100000,\"2???\",'Accounting Data'!J2:J100000,\"6???\")","v":{"v":0,"d":"0 "}},{"$f":"SUMIFS('Accounting Data'!C2:C100000,'Accounting Data'!E2:E100000,\"1??\",'Accounting Data'!H2:H100000,\"9??\",'Accounting Data'!I2:I100000,\"2???\",'Accounting Data'!J2:J100000,\"6???\")+SUMIFS('Accounting Data'!C2:C100000,'Accounting Data'!E2:E100000,\"2??\",'Accounting Data'!H2:H100000,\"9??\",'Accounting Data'!I2:I100000,\"2???\",'Accounting Data'!J2:J100000,\"6???\")+SUMIFS('Accounting Data'!C2:C100000,'Accounting Data'!E2:E100000,\"3??\",'Accounting Data'!H2:H100000,\"9??\",'Accounting Data'!I2:I100000,\"2???\",'Accounting Data'!J2:J100000,\"6???\")+SUMIFS('Accounting Data'!C2:C100000,'Accounting Data'!E2:E100000,\"639\",'Accounting Data'!H2:H100000,\"9??\",'Accounting Data'!I2:I100000,\"2???\",'Accounting Data'!J2:J100000,\"6???\")+SUMIFS('Accounting Data'!C2:C100000,'Accounting Data'!E2:E100000,\"699\",'Accounting Data'!H2:H100000,\"9??\",'Accounting Data'!I2:I100000,\"2???\",'Accounting Data'!J2:J100000,\"6???\")+SUMIFS('Accounting Data'!C2:C100000,'Accounting Data'!E2:E100000,\"720\",'Accounting Data'!H2:H100000,\"9??\",'Accounting Data'!I2:I100000,\"2???\",'Accounting Data'!J2:J100000,\"6???\")+SUMIFS('Accounting Data'!C2:C100000,'Accounting Data'!E2:E100000,\"COVID\",'Accounting Data'!H2:H100000,\"9??\",'Accounting Data'!I2:I100000,\"2???\",'Accounting Data'!J2:J100000,\"6???\")","v":{"v":0,"d":"0 "}},{"$f":"SUMIFS('Accounting Data'!C2:C100000,'Accounting Data'!E2:E100000,\"1??\",'Accounting Data'!H2:H100000,\"7??\",'Accounting Data'!I2:I100000,\"3???\",'Accounting Data'!J2:J100000,\"6???\")+SUMIFS('Accounting Data'!C2:C100000,'Accounting Data'!E2:E100000,\"2??\",'Accounting Data'!H2:H100000,\"7??\",'Accounting Data'!I2:I100000,\"3???\",'Accounting Data'!J2:J100000,\"6???\")+SUMIFS('Accounting Data'!C2:C100000,'Accounting Data'!E2:E100000,\"3??\",'Accounting Data'!H2:H100000,\"7??\",'Accounting Data'!I2:I100000,\"3???\",'Accounting Data'!J2:J100000,\"6???\")+SUMIFS('Accounting Data'!C2:C100000,'Accounting Data'!E2:E100000,\"639\",'Accounting Data'!H2:H100000,\"7??\",'Accounting Data'!I2:I100000,\"3???\",'Accounting Data'!J2:J100000,\"6???\")+SUMIFS('Accounting Data'!C2:C100000,'Accounting Data'!E2:E100000,\"699\",'Accounting Data'!H2:H100000,\"7??\",'Accounting Data'!I2:I100000,\"3???\",'Accounting Data'!J2:J100000,\"6???\")+SUMIFS('Accounting Data'!C2:C100000,'Accounting Data'!E2:E100000,\"720\",'Accounting Data'!H2:H100000,\"7??\",'Accounting Data'!I2:I100000,\"3???\",'Accounting Data'!J2:J100000,\"6???\")+SUMIFS('Accounting Data'!C2:C100000,'Accounting Data'!E2:E100000,\"COVID\",'Accounting Data'!H2:H100000,\"7??\",'Accounting Data'!I2:I100000,\"3???\",'Accounting Data'!J2:J100000,\"6???\")","v":{"v":0,"d":"0 "}},{"$f":"SUMIFS('Accounting Data'!C2:C100000,'Accounting Data'!E2:E100000,\"1??\",'Accounting Data'!H2:H100000,\"8??\",'Accounting Data'!I2:I100000,\"3???\",'Accounting Data'!J2:J100000,\"6???\")+SUMIFS('Accounting Data'!C2:C100000,'Accounting Data'!E2:E100000,\"2??\",'Accounting Data'!H2:H100000,\"8??\",'Accounting Data'!I2:I100000,\"3???\",'Accounting Data'!J2:J100000,\"6???\")+SUMIFS('Accounting Data'!C2:C100000,'Accounting Data'!E2:E100000,\"3??\",'Accounting Data'!H2:H100000,\"8??\",'Accounting Data'!I2:I100000,\"3???\",'Accounting Data'!J2:J100000,\"6???\")+SUMIFS('Accounting Data'!C2:C100000,'Accounting Data'!E2:E100000,\"639\",'Accounting Data'!H2:H100000,\"8??\",'Accounting Data'!I2:I100000,\"3???\",'Accounting Data'!J2:J100000,\"6???\")+SUMIFS('Accounting Data'!C2:C100000,'Accounting Data'!E2:E100000,\"699\",'Accounting Data'!H2:H100000,\"8??\",'Accounting Data'!I2:I100000,\"3???\",'Accounting Data'!J2:J100000,\"6???\")+SUMIFS('Accounting Data'!C2:C100000,'Accounting Data'!E2:E100000,\"720\",'Accounting Data'!H2:H100000,\"8??\",'Accounting Data'!I2:I100000,\"3???\",'Accounting Data'!J2:J100000,\"6???\")+SUMIFS('Accounting Data'!C2:C100000,'Accounting Data'!E2:E100000,\"COVID\",'Accounting Data'!H2:H100000,\"8??\",'Accounting Data'!I2:I100000,\"3???\",'Accounting Data'!J2:J100000,\"6???\")","v":{"v":0,"d":"0 "}},{"$f":"SUMIFS('Accounting Data'!C2:C100000,'Accounting Data'!E2:E100000,\"1??\",'Accounting Data'!H2:H100000,\"9??\",'Accounting Data'!I2:I100000,\"3???\",'Accounting Data'!J2:J100000,\"6???\")+SUMIFS('Accounting Data'!C2:C100000,'Accounting Data'!E2:E100000,\"2??\",'Accounting Data'!H2:H100000,\"9??\",'Accounting Data'!I2:I100000,\"3???\",'Accounting Data'!J2:J100000,\"6???\")+SUMIFS('Accounting Data'!C2:C100000,'Accounting Data'!E2:E100000,\"3??\",'Accounting Data'!H2:H100000,\"9??\",'Accounting Data'!I2:I100000,\"3???\",'Accounting Data'!J2:J100000,\"6???\")+SUMIFS('Accounting Data'!C2:C100000,'Accounting Data'!E2:E100000,\"639\",'Accounting Data'!H2:H100000,\"9??\",'Accounting Data'!I2:I100000,\"3???\",'Accounting Data'!J2:J100000,\"6???\")+SUMIFS('Accounting Data'!C2:C100000,'Accounting Data'!E2:E100000,\"699\",'Accounting Data'!H2:H100000,\"9??\",'Accounting Data'!I2:I100000,\"3???\",'Accounting Data'!J2:J100000,\"6???\")+SUMIFS('Accounting Data'!C2:C100000,'Accounting Data'!E2:E100000,\"720\",'Accounting Data'!H2:H100000,\"9??\",'Accounting Data'!I2:I100000,\"3???\",'Accounting Data'!J2:J100000,\"6???\")+SUMIFS('Accounting Data'!C2:C100000,'Accounting Data'!E2:E100000,\"COVID\",'Accounting Data'!H2:H100000,\"9??\",'Accounting Data'!I2:I100000,\"3???\",'Accounting Data'!J2:J100000,\"6???\")","v":{"v":0,"d":"0 "}}]
["8. Number of FTE-Contract Teachers",null,null,{"v":0,"d":"0 "},"8.",{"$nulls":3},"5. 6450 Construction",null,null,{"$f":"(SUMIFS('Accounting Data'!C2:C100000,'Accounting Data'!I2:I100000,\"4???\",'Accounting Data'!J2:J100000,\"645?\"))-(SUMIFS('Accounting Data'!C2:C100000,'Accounting Data'!E2:E100000,\"575\",'Accounting Data'!I2:I100000,\"4???\",'Accounting Data'!J2:J100000,\"645?\")+SUMIFS('Accounting Data'!C2:C100000,'Accounting Data'!E2:E100000,\"8??\",'Accounting Data'!I2:I100000,\"4???\",'Accounting Data'!J2:J100000,\"645?\")+SUMIFS('Accounting Data'!C2:C100000,'Accounting Data'!E2:E100000,\"9??\",'Accounting Data'!I2:I100000,\"4???\",'Accounting Data'!J2:J100000,\"645?\"))","v":{"v":0,"d":"0 "}},"5.",{"$nulls":12},6900,{"$f":"SUMIFS('Accounting Data'!C2:C100000,'Accounting Data'!E2:E100000,\"1??\",'Accounting Data'!H2:H100000,\"7??\",'Accounting Data'!I2:I100000,\"1???\",'Accounting Data'!J2:J100000,\"69??\")+SUMIFS('Accounting Data'!C2:C100000,'Accounting Data'!E2:E100000,\"2??\",'Accounting Data'!H2:H100000,\"7??\",'Accounting Data'!I2:I100000,\"1???\",'Accounting Data'!J2:J100000,\"69??\")+SUMIFS('Accounting Data'!C2:C100000,'Accounting Data'!E2:E100000,\"3??\",'Accounting Data'!H2:H100000,\"7??\",'Accounting Data'!I2:I100000,\"1???\",'Accounting Data'!J2:J100000,\"69??\")+SUMIFS('Accounting Data'!C2:C100000,'Accounting Data'!E2:E100000,\"639\",'Accounting Data'!H2:H100000,\"7??\",'Accounting Data'!I2:I100000,\"1???\",'Accounting Data'!J2:J100000,\"69??\")+SUMIFS('Accounting Data'!C2:C100000,'Accounting Data'!E2:E100000,\"699\",'Accounting Data'!H2:H100000,\"7??\",'Accounting Data'!I2:I100000,\"1???\",'Accounting Data'!J2:J100000,\"69??\")+SUMIFS('Accounting Data'!C2:C100000,'Accounting Data'!E2:E100000,\"720\",'Accounting Data'!H2:H100000,\"7??\",'Accounting Data'!I2:I100000,\"1???\",'Accounting Data'!J2:J100000,\"69??\")+SUMIFS('Accounting Data'!C2:C100000,'Accounting Data'!E2:E100000,\"COVID\",'Accounting Data'!H2:H100000,\"7??\",'Accounting Data'!I2:I100000,\"1???\",'Accounting Data'!J2:J100000,\"69??\")","v":{"v":0,"d":"0 "}},{"$f":"SUMIFS('Accounting Data'!C2:C100000,'Accounting Data'!E2:E100000,\"1??\",'Accounting Data'!H2:H100000,\"8??\",'Accounting Data'!I2:I100000,\"1???\",'Accounting Data'!J2:J100000,\"69??\")+SUMIFS('Accounting Data'!C2:C100000,'Accounting Data'!E2:E100000,\"2??\",'Accounting Data'!H2:H100000,\"8??\",'Accounting Data'!I2:I100000,\"1???\",'Accounting Data'!J2:J100000,\"69??\")+SUMIFS('Accounting Data'!C2:C100000,'Accounting Data'!E2:E100000,\"3??\",'Accounting Data'!H2:H100000,\"8??\",'Accounting Data'!I2:I100000,\"1???\",'Accounting Data'!J2:J100000,\"69??\")+SUMIFS('Accounting Data'!C2:C100000,'Accounting Data'!E2:E100000,\"639\",'Accounting Data'!H2:H100000,\"8??\",'Accounting Data'!I2:I100000,\"1???\",'Accounting Data'!J2:J100000,\"69??\")+SUMIFS('Accounting Data'!C2:C100000,'Accounting Data'!E2:E100000,\"699\",'Accounting Data'!H2:H100000,\"8??\",'Accounting Data'!I2:I100000,\"1???\",'Accounting Data'!J2:J100000,\"69??\")+SUMIFS('Accounting Data'!C2:C100000,'Accounting Data'!E2:E100000,\"720\",'Accounting Data'!H2:H100000,\"8??\",'Accounting Data'!I2:I100000,\"1???\",'Accounting Data'!J2:J100000,\"69??\")+SUMIFS('Accounting Data'!C2:C100000,'Accounting Data'!E2:E100000,\"COVID\",'Accounting Data'!H2:H100000,\"8??\",'Accounting Data'!I2:I100000,\"1???\",'Accounting Data'!J2:J100000,\"69??\")","v":{"v":0,"d":"0 "}},{"$f":"SUMIFS('Accounting Data'!C2:C100000,'Accounting Data'!E2:E100000,\"1??\",'Accounting Data'!H2:H100000,\"9??\",'Accounting Data'!I2:I100000,\"1???\",'Accounting Data'!J2:J100000,\"69??\")+SUMIFS('Accounting Data'!C2:C100000,'Accounting Data'!E2:E100000,\"2??\",'Accounting Data'!H2:H100000,\"9??\",'Accounting Data'!I2:I100000,\"1???\",'Accounting Data'!J2:J100000,\"69??\")+SUMIFS('Accounting Data'!C2:C100000,'Accounting Data'!E2:E100000,\"3??\",'Accounting Data'!H2:H100000,\"9??\",'Accounting Data'!I2:I100000,\"1???\",'Accounting Data'!J2:J100000,\"69??\")+SUMIFS('Accounting Data'!C2:C100000,'Accounting Data'!E2:E100000,\"639\",'Accounting Data'!H2:H100000,\"9??\",'Accounting Data'!I2:I100000,\"1???\",'Accounting Data'!J2:J100000,\"69??\")+SUMIFS('Accounting Data'!C2:C100000,'Accounting Data'!E2:E100000,\"699\",'Accounting Data'!H2:H100000,\"9??\",'Accounting Data'!I2:I100000,\"1???\",'Accounting Data'!J2:J100000,\"69??\")+SUMIFS('Accounting Data'!C2:C100000,'Accounting Data'!E2:E100000,\"720\",'Accounting Data'!H2:H100000,\"9??\",'Accounting Data'!I2:I100000,\"1???\",'Accounting Data'!J2:J100000,\"69??\")+SUMIFS('Accounting Data'!C2:C100000,'Accounting Data'!E2:E100000,\"COVID\",'Accounting Data'!H2:H100000,\"9??\",'Accounting Data'!I2:I100000,\"1???\",'Accounting Data'!J2:J100000,\"69??\")","v":{"v":0,"d":"0 "}},{"$f":"SUMIFS('Accounting Data'!C2:C100000,'Accounting Data'!E2:E100000,\"1??\",'Accounting Data'!H2:H100000,\"7??\",'Accounting Data'!I2:I100000,\"2???\",'Accounting Data'!J2:J100000,\"69??\")+SUMIFS('Accounting Data'!C2:C100000,'Accounting Data'!E2:E100000,\"2??\",'Accounting Data'!H2:H100000,\"7??\",'Accounting Data'!I2:I100000,\"2???\",'Accounting Data'!J2:J100000,\"69??\")+SUMIFS('Accounting Data'!C2:C100000,'Accounting Data'!E2:E100000,\"3??\",'Accounting Data'!H2:H100000,\"7??\",'Accounting Data'!I2:I100000,\"2???\",'Accounting Data'!J2:J100000,\"69??\")+SUMIFS('Accounting Data'!C2:C100000,'Accounting Data'!E2:E100000,\"639\",'Accounting Data'!H2:H100000,\"7??\",'Accounting Data'!I2:I100000,\"2???\",'Accounting Data'!J2:J100000,\"69??\")+SUMIFS('Accounting Data'!C2:C100000,'Accounting Data'!E2:E100000,\"699\",'Accounting Data'!H2:H100000,\"7??\",'Accounting Data'!I2:I100000,\"2???\",'Accounting Data'!J2:J100000,\"69??\")+SUMIFS('Accounting Data'!C2:C100000,'Accounting Data'!E2:E100000,\"720\",'Accounting Data'!H2:H100000,\"7??\",'Accounting Data'!I2:I100000,\"2???\",'Accounting Data'!J2:J100000,\"69??\")+SUMIFS('Accounting Data'!C2:C100000,'Accounting Data'!E2:E100000,\"COVID\",'Accounting Data'!H2:H100000,\"7??\",'Accounting Data'!I2:I100000,\"2???\",'Accounting Data'!J2:J100000,\"69??\")","v":{"v":0,"d":"0 "}},{"$f":"SUMIFS('Accounting Data'!C2:C100000,'Accounting Data'!E2:E100000,\"1??\",'Accounting Data'!H2:H100000,\"8??\",'Accounting Data'!I2:I100000,\"2???\",'Accounting Data'!J2:J100000,\"69??\")+SUMIFS('Accounting Data'!C2:C100000,'Accounting Data'!E2:E100000,\"2??\",'Accounting Data'!H2:H100000,\"8??\",'Accounting Data'!I2:I100000,\"2???\",'Accounting Data'!J2:J100000,\"69??\")+SUMIFS('Accounting Data'!C2:C100000,'Accounting Data'!E2:E100000,\"3??\",'Accounting Data'!H2:H100000,\"8??\",'Accounting Data'!I2:I100000,\"2???\",'Accounting Data'!J2:J100000,\"69??\")+SUMIFS('Accounting Data'!C2:C100000,'Accounting Data'!E2:E100000,\"639\",'Accounting Data'!H2:H100000,\"8??\",'Accounting Data'!I2:I100000,\"2???\",'Accounting Data'!J2:J100000,\"69??\")+SUMIFS('Accounting Data'!C2:C100000,'Accounting Data'!E2:E100000,\"699\",'Accounting Data'!H2:H100000,\"8??\",'Accounting Data'!I2:I100000,\"2???\",'Accounting Data'!J2:J100000,\"69??\")+SUMIFS('Accounting Data'!C2:C100000,'Accounting Data'!E2:E100000,\"720\",'Accounting Data'!H2:H100000,\"8??\",'Accounting Data'!I2:I100000,\"2???\",'Accounting Data'!J2:J100000,\"69??\")+SUMIFS('Accounting Data'!C2:C100000,'Accounting Data'!E2:E100000,\"COVID\",'Accounting Data'!H2:H100000,\"8??\",'Accounting Data'!I2:I100000,\"2???\",'Accounting Data'!J2:J100000,\"69??\")","v":{"v":0,"d":"0 "}},{"$f":"SUMIFS('Accounting Data'!C2:C100000,'Accounting Data'!E2:E100000,\"1??\",'Accounting Data'!H2:H100000,\"9??\",'Accounting Data'!I2:I100000,\"2???\",'Accounting Data'!J2:J100000,\"69??\")+SUMIFS('Accounting Data'!C2:C100000,'Accounting Data'!E2:E100000,\"2??\",'Accounting Data'!H2:H100000,\"9??\",'Accounting Data'!I2:I100000,\"2???\",'Accounting Data'!J2:J100000,\"69??\")+SUMIFS('Accounting Data'!C2:C100000,'Accounting Data'!E2:E100000,\"3??\",'Accounting Data'!H2:H100000,\"9??\",'Accounting Data'!I2:I100000,\"2???\",'Accounting Data'!J2:J100000,\"69??\")+SUMIFS('Accounting Data'!C2:C100000,'Accounting Data'!E2:E100000,\"639\",'Accounting Data'!H2:H100000,\"9??\",'Accounting Data'!I2:I100000,\"2???\",'Accounting Data'!J2:J100000,\"69??\")+SUMIFS('Accounting Data'!C2:C100000,'Accounting Data'!E2:E100000,\"699\",'Accounting Data'!H2:H100000,\"9??\",'Accounting Data'!I2:I100000,\"2???\",'Accounting Data'!J2:J100000,\"69??\")+SUMIFS('Accounting Data'!C2:C100000,'Accounting Data'!E2:E100000,\"720\",'Accounting Data'!H2:H100000,\"9??\",'Accounting Data'!I2:I100000,\"2???\",'Accounting Data'!J2:J100000,\"69??\")+SUMIFS('Accounting Data'!C2:C100000,'Accounting Data'!E2:E100000,\"COVID\",'Accounting Data'!H2:H100000,\"9??\",'Accounting Data'!I2:I100000,\"2???\",'Accounting Data'!J2:J100000,\"69??\")","v":{"v":0,"d":"0 "}},{"$f":"SUMIFS('Accounting Data'!C2:C100000,'Accounting Data'!E2:E100000,\"1??\",'Accounting Data'!H2:H100000,\"7??\",'Accounting Data'!I2:I100000,\"3???\",'Accounting Data'!J2:J100000,\"69??\")+SUMIFS('Accounting Data'!C2:C100000,'Accounting Data'!E2:E100000,\"2??\",'Accounting Data'!H2:H100000,\"7??\",'Accounting Data'!I2:I100000,\"3???\",'Accounting Data'!J2:J100000,\"69??\")+SUMIFS('Accounting Data'!C2:C100000,'Accounting Data'!E2:E100000,\"3??\",'Accounting Data'!H2:H100000,\"7??\",'Accounting Data'!I2:I100000,\"3???\",'Accounting Data'!J2:J100000,\"69??\")+SUMIFS('Accounting Data'!C2:C100000,'Accounting Data'!E2:E100000,\"639\",'Accounting Data'!H2:H100000,\"7??\",'Accounting Data'!I2:I100000,\"3???\",'Accounting Data'!J2:J100000,\"69??\")+SUMIFS('Accounting Data'!C2:C100000,'Accounting Data'!E2:E100000,\"699\",'Accounting Data'!H2:H100000,\"7??\",'Accounting Data'!I2:I100000,\"3???\",'Accounting Data'!J2:J100000,\"69??\")+SUMIFS('Accounting Data'!C2:C100000,'Accounting Data'!E2:E100000,\"720\",'Accounting Data'!H2:H100000,\"7??\",'Accounting Data'!I2:I100000,\"3???\",'Accounting Data'!J2:J100000,\"69??\")+SUMIFS('Accounting Data'!C2:C100000,'Accounting Data'!E2:E100000,\"COVID\",'Accounting Data'!H2:H100000,\"7??\",'Accounting Data'!I2:I100000,\"3???\",'Accounting Data'!J2:J100000,\"69??\")","v":{"v":0,"d":"0 "}},{"$f":"SUMIFS('Accounting Data'!C2:C100000,'Accounting Data'!E2:E100000,\"1??\",'Accounting Data'!H2:H100000,\"8??\",'Accounting Data'!I2:I100000,\"3???\",'Accounting Data'!J2:J100000,\"69??\")+SUMIFS('Accounting Data'!C2:C100000,'Accounting Data'!E2:E100000,\"2??\",'Accounting Data'!H2:H100000,\"8??\",'Accounting Data'!I2:I100000,\"3???\",'Accounting Data'!J2:J100000,\"69??\")+SUMIFS('Accounting Data'!C2:C100000,'Accounting Data'!E2:E100000,\"3??\",'Accounting Data'!H2:H100000,\"8??\",'Accounting Data'!I2:I100000,\"3???\",'Accounting Data'!J2:J100000,\"69??\")+SUMIFS('Accounting Data'!C2:C100000,'Accounting Data'!E2:E100000,\"639\",'Accounting Data'!H2:H100000,\"8??\",'Accounting Data'!I2:I100000,\"3???\",'Accounting Data'!J2:J100000,\"69??\")+SUMIFS('Accounting Data'!C2:C100000,'Accounting Data'!E2:E100000,\"699\",'Accounting Data'!H2:H100000,\"8??\",'Accounting Data'!I2:I100000,\"3???\",'Accounting Data'!J2:J100000,\"69??\")+SUMIFS('Accounting Data'!C2:C100000,'Accounting Data'!E2:E100000,\"720\",'Accounting Data'!H2:H100000,\"8??\",'Accounting Data'!I2:I100000,\"3???\",'Accounting Data'!J2:J100000,\"69??\")+SUMIFS('Accounting Data'!C2:C100000,'Accounting Data'!E2:E100000,\"COVID\",'Accounting Data'!H2:H100000,\"8??\",'Accounting Data'!I2:I100000,\"3???\",'Accounting Data'!J2:J100000,\"69??\")","v":{"v":0,"d":"0 "}},{"$f":"SUMIFS('Accounting Data'!C2:C100000,'Accounting Data'!E2:E100000,\"1??\",'Accounting Data'!H2:H100000,\"9??\",'Accounting Data'!I2:I100000,\"3???\",'Accounting Data'!J2:J100000,\"69??\")+SUMIFS('Accounting Data'!C2:C100000,'Accounting Data'!E2:E100000,\"2??\",'Accounting Data'!H2:H100000,\"9??\",'Accounting Data'!I2:I100000,\"3???\",'Accounting Data'!J2:J100000,\"69??\")+SUMIFS('Accounting Data'!C2:C100000,'Accounting Data'!E2:E100000,\"3??\",'Accounting Data'!H2:H100000,\"9??\",'Accounting Data'!I2:I100000,\"3???\",'Accounting Data'!J2:J100000,\"69??\")+SUMIFS('Accounting Data'!C2:C100000,'Accounting Data'!E2:E100000,\"639\",'Accounting Data'!H2:H100000,\"9??\",'Accounting Data'!I2:I100000,\"3???\",'Accounting Data'!J2:J100000,\"69??\")+SUMIFS('Accounting Data'!C2:C100000,'Accounting Data'!E2:E100000,\"699\",'Accounting Data'!H2:H100000,\"9??\",'Accounting Data'!I2:I100000,\"3???\",'Accounting Data'!J2:J100000,\"69??\")+SUMIFS('Accounting Data'!C2:C100000,'Accounting Data'!E2:E100000,\"720\",'Accounting Data'!H2:H100000,\"9??\",'Accounting Data'!I2:I100000,\"3???\",'Accounting Data'!J2:J100000,\"69??\")+SUMIFS('Accounting Data'!C2:C100000,'Accounting Data'!E2:E100000,\"COVID\",'Accounting Data'!H2:H100000,\"9??\",'Accounting Data'!I2:I100000,\"3???\",'Accounting Data'!J2:J100000,\"69??\")","v":{"v":0,"d":"0 "}}]
[]
["Utilities and Energy Detail (Funds 001-799 excluding 575, Only Function 2600)",{"$nulls":7},"Technology (Funds 001-799 excluding 575, All Functions)",{"$nulls":16},"Object 6100"]
["1. 6410-6411 Utility Services",null,null,{"$f":"SUMIFS('Accounting Data'!C2:C100000,'Accounting Data'!I2:I100000,\"26??\",'Accounting Data'!J2:J100000,\"6410\")+SUMIFS('Accounting Data'!C2:C100000,'Accounting Data'!I2:I100000,\"26??\",'Accounting Data'!J2:J100000,\"6411\")-(SUMIFS('Accounting Data'!C2:C100000,'Accounting Data'!E2:E100000,\"575\",'Accounting Data'!I2:I100000,\"26??\",'Accounting Data'!J2:J100000,\"6410\")+SUMIFS('Accounting Data'!C2:C100000,'Accounting Data'!E2:E100000,\"8??\",'Accounting Data'!I2:I100000,\"26??\",'Accounting Data'!J2:J100000,\"6410\")+SUMIFS('Accounting Data'!C2:C100000,'Accounting Data'!E2:E100000,\"9??\",'Accounting Data'!I2:I100000,\"26??\",'Accounting Data'!J2:J100000,\"6410\")+SUMIFS('Accounting Data'!C2:C100000,'Accounting Data'!E2:E100000,\"575\",'Accounting Data'!I2:I100000,\"26??\",'Accounting Data'!J2:J100000,\"6411\")+SUMIFS('Accounting Data'!C2:C100000,'Accounting Data'!E2:E100000,\"8??\",'Accounting Data'!I2:I100000,\"26??\",'Accounting Data'!J2:J100000,\"6411\")+SUMIFS('Accounting Data'!C2:C100000,'Accounting Data'!E2:E100000,\"9??\",'Accounting Data'!I2:I100000,\"26??\",'Accounting Data'!J2:J100000,\"6411\"))","v":{"v":3988,"d":"3,988 "}},"1.",{"$nulls":3},"1. 6340 Technical Services",{"$nulls":4},{"$f":"SUMIFS('Accounting Data'!C2:C100000,'Accounting Data'!J2:J100000,\"634?\")-(SUM(SUMIFS('Accounting Data'!C2:C100000,'Accounting Data'!E2:E100000,{\"575\",\"8??\",\"9??\"},'Accounting Data'!J2:J100000,\"634?\")))","v":{"v":1123,"d":"1,123 "}},"1.",{"$nulls":11},"All Funds ","Excluded Funds\n575, 800-999","Programs 700-900","Programs 700-900 Excluded Funds (to add back to avoid double exclusion)"]
["2. 6620-6629 Energy",null,null,{"$f":"SUMIFS('Accounting Data'!C2:C100000,'Accounting Data'!I2:I100000,\"26??\",'Accounting Data'!J2:J100000,\"662?\")-(SUMIFS('Accounting Data'!C2:C100000,'Accounting Data'!E2:E100000,\"575\",'Accounting Data'!I2:I100000,\"26??\",'Accounting Data'!J2:J100000,\"662?\")+SUMIFS('Accounting Data'!C2:C100000,'Accounting Data'!E2:E100000,\"8??\",'Accounting Data'!I2:I100000,\"26??\",'Accounting Data'!J2:J100000,\"662?\")+SUMIFS('Accounting Data'!C2:C100000,'Accounting Data'!E2:E100000,\"9??\",'Accounting Data'!I2:I100000,\"26??\",'Accounting Data'!J2:J100000,\"662?\"))","v":{"v":10019,"d":"10,019 "}},"2.",{"$nulls":3},"2. 6432 Technology-Related Repairs and Maintenance",{"$nulls":4},{"$f":"SUMIFS('Accounting Data'!C2:C100000,'Accounting Data'!J2:J100000,\"6432\")-(SUM(SUMIFS('Accounting Data'!C2:C100000,'Accounting Data'!E2:E100000,{\"575\",\"8??\",\"9??\"},'Accounting Data'!J2:J100000,\"6432\")))","v":{"v":0,"d":"0 "}},"2.",{"$nulls":10},"Function",null,null,"All Funds","Fund 575 ","Funds 800-899","Funds 900-999"]
[{"$nulls":8},"3. 6443 Rental of Computers and Related Equipment",{"$nulls":4},{"$f":"SUMIFS('Accounting Data'!C2:C100000,'Accounting Data'!J2:J100000,\"6443\")-(SUM(SUMIFS('Accounting Data'!C2:C100000,'Accounting Data'!E2:E100000,{\"575\",\"8??\",\"9??\"},'Accounting Data'!J2:J100000,\"6443\")))","v":{"v":0,"d":"0 "}},"3.",{"$nulls":10},1900,{"$f":"ROUND(SUMIFS('Accounting Data'!C2:C100000,'Accounting Data'!I2:I100000,\"19??\",'Accounting Data'!J2:J100000,\"61??\"),0)","v":{"v":33126,"d":"33,126 "}},{"$f":"ROUND(SUMIFS('Accounting Data'!C2:C100000,'Accounting Data'!E2:E100000,\"575\",'Accounting Data'!I2:I100000,\"19??\",'Accounting Data'!J2:J100000,\"61??\")+SUMIFS('Accounting Data'!C2:C100000,'Accounting Data'!E2:E100000,\"8??\",'Accounting Data'!I2:I100000,\"19??\",'Accounting Data'!J2:J100000,\"61??\")+SUMIFS('Accounting Data'!C2:C100000,'Accounting Data'!E2:E100000,\"9??\",'Accounting Data'!I2:I100000,\"19??\",'Accounting Data'!J2:J100000,\"61??\"),0)","v":{"v":0,"d":"0 "}},{"$f":"ROUND(SUMIFS('Accounting Data'!C2:C100000,'Accounting Data'!H2:H100000,\"7??\",'Accounting Data'!I2:I100000,\"19??\",'Accounting Data'!J2:J100000,\"61??\")+SUMIFS('Accounting Data'!C2:C100000,'Accounting Data'!H2:H100000,\"8??\",'Accounting Data'!I2:I100000,\"19??\",'Accounting Data'!J2:J100000,\"61??\")+SUMIFS('Accounting Data'!C2:C100000,'Accounting Data'!H2:H100000,\"9??\",'Accounting Data'!I2:I100000,\"19??\",'Accounting Data'!J2:J100000,\"61??\"),0)","v":{"v":0,"d":"0 "}},{"$f":"ROUND(SUMIFS('Accounting Data'!C2:C100000,'Accounting Data'!E2:E100000,\"575\",'Accounting Data'!H2:H100000,\"7??\",'Accounting Data'!I2:I100000,\"19??\",'Accounting Data'!J2:J100000,\"61??\")+SUMIFS('Accounting Data'!C2:C100000,'Accounting Data'!E2:E100000,\"575\",'Accounting Data'!H2:H100000,\"8??\",'Accounting Data'!I2:I100000,\"19??\",'Accounting Data'!J2:J100000,\"61??\")+SUMIFS('Accounting Data'!C2:C100000,'Accounting Data'!E2:E100000,\"575\",'Accounting Data'!H2:H100000,\"9??\",'Accounting Data'!I2:I100000,\"19??\",'Accounting Data'!J2:J100000,\"61??\"),0)","v":{"v":0,"d":"0 "}},{"$f":"ROUND(SUMIFS('Accounting Data'!C2:C100000,'Accounting Data'!E2:E100000,\"8??\",'Accounting Data'!H2:H100000,\"7??\",'Accounting Data'!I2:I100000,\"19??\",'Accounting Data'!J2:J100000,\"61??\")+SUMIFS('Accounting Data'!C2:C100000,'Accounting Data'!E2:E100000,\"8??\",'Accounting Data'!H2:H100000,\"8??\",'Accounting Data'!I2:I100000,\"19??\",'Accounting Data'!J2:J100000,\"61??\")+SUMIFS('Accounting Data'!C2:C100000,'Accounting Data'!E2:E100000,\"8??\",'Accounting Data'!H2:H100000,\"9??\",'Accounting Data'!I2:I100000,\"19??\",'Accounting Data'!J2:J100000,\"61??\"),0)","v":{"v":0,"d":"0 "}},{"$f":"ROUND(SUMIFS('Accounting Data'!C2:C100000,'Accounting Data'!E2:E100000,\"9??\",'Accounting Data'!H2:H100000,\"7??\",'Accounting Data'!I2:I100000,\"19??\",'Accounting Data'!J2:J100000,\"61??\")+SUMIFS('Accounting Data'!C2:C100000,'Accounting Data'!E2:E100000,\"9??\",'Accounting Data'!H2:H100000,\"8??\",'Accounting Data'!I2:I100000,\"19??\",'Accounting Data'!J2:J100000,\"61??\")+SUMIFS('Accounting Data'!C2:C100000,'Accounting Data'!E2:E100000,\"9??\",'Accounting Data'!H2:H100000,\"9??\",'Accounting Data'!I2:I100000,\"19??\",'Accounting Data'!J2:J100000,\"61??\"),0)","v":{"v":0,"d":"0 "}}]
["CTED Districts Only (Funds 001-799 excluding 575, All Functions)",{"$nulls":7},"4. 6531 Telecommunications",{"$nulls":4},{"$f":"SUMIFS('Accounting Data'!C2:C100000,'Accounting Data'!J2:J100000,\"6531\")-(SUMIFS('Accounting Data'!C2:C100000,'Accounting Data'!E2:E100000,\"575\",'Accounting Data'!J2:J100000,\"6531\")+SUMIFS('Accounting Data'!C2:C100000,'Accounting Data'!E2:E100000,\"8??\",'Accounting Data'!J2:J100000,\"6531\")+SUMIFS('Accounting Data'!C2:C100000,'Accounting Data'!E2:E100000,\"9??\",'Accounting Data'!J2:J100000,\"6531\"))","v":{"v":6637,"d":"6,637 "}},"4."]
["1. 6591 Services Purchased from Other Arizona Districts",null,null,{"$f":"IF(VALUE(LEFT(RIGHT(N1,7),2))=8,SUMIFS('Accounting Data'!C2:C100000,'Accounting Data'!J2:J100000,\"6591\"),0)","v":{"v":0,"d":"0 "}},"1.",{"$nulls":3},"5. 6641-43 Software reported in library books, texbooks, or instructional aids",{"$nulls":4},{"v":0,"d":"0 "},"5.",{"$nulls":10},"Federal Funds: 100-399, 639, 600, and 720"]
["2. 6870 Pass-through Payments",null,null,{"$f":"IF(VALUE(LEFT(RIGHT(N1,7),2))=8,SUMIFS('Accounting Data'!C2:C100000,'Accounting Data'!J2:J100000,\"687?\"),0)","v":{"v":0,"d":"0 "}},"2.",{"$nulls":3},"6. 6650 and 6655 Supplies–Technology-Related and Short-term noninstructional software subscriptions",{"$nulls":4},{"$f":"SUMIFS('Accounting Data'!C2:C100000,'Accounting Data'!J2:J100000,\"665?\")-(SUMIFS('Accounting Data'!C2:C100000,'Accounting Data'!E2:E100000,\"575\",'Accounting Data'!J2:J100000,\"665?\")+SUMIFS('Accounting Data'!C2:C100000,'Accounting Data'!E2:E100000,\"8??\",'Accounting Data'!J2:J100000,\"665?\")+SUMIFS('Accounting Data'!C2:C100000,'Accounting Data'!E2:E100000,\"9??\",'Accounting Data'!J2:J100000,\"665?\"))","v":{"v":0,"d":"0 "}},"6.",{"$nulls":10},"Object","All programs, function 2300",null,"Program 700,  function 2300",null,"Program 800,  function 2300",null,"Program 900,  function 2300"]
["3. 6880 Sub-awards",null,null,{"$f":"IF(VALUE(LEFT(RIGHT(N1,7),2))=8,SUMIFS('Accounting Data'!C2:C100000,'Accounting Data'!J2:J100000,\"688?\"),0)","v":{"v":0,"d":"0 "}},"3.",{"$nulls":3},"7. 6737-38 Technology-Related Hardware & Software (less than $5,000)",{"$nulls":4},{"$f":"(SUMIFS('Accounting Data'!C2:C100000,'Accounting Data'!J2:J100000,\"6737\")+SUMIFS('Accounting Data'!C2:C100000,'Accounting Data'!J2:J100000,\"6738\"))-(SUMIFS('Accounting Data'!C2:C100000,'Accounting Data'!E2:E100000,\"575\",'Accounting Data'!J2:J100000,\"6737\")+SUMIFS('Accounting Data'!C2:C100000,'Accounting Data'!E2:E100000,\"8??\",'Accounting Data'!J2:J100000,\"6737\")+SUMIFS('Accounting Data'!C2:C100000,'Accounting Data'!E2:E100000,\"9??\",'Accounting Data'!J2:J100000,\"6737\")+SUMIFS('Accounting Data'!C2:C100000,'Accounting Data'!E2:E100000,\"575\",'Accounting Data'!J2:J100000,\"6738\")+SUMIFS('Accounting Data'!C2:C100000,'Accounting Data'!E2:E100000,\"8??\",'Accounting Data'!J2:J100000,\"6738\")+SUMIFS('Accounting Data'!C2:C100000,'Accounting Data'!E2:E100000,\"9??\",'Accounting Data'!J2:J100000,\"6738\"))","v":{"v":0,"d":"0 "}},"7.",{"$nulls":10},6820,{"$f":"SUMIFS('Accounting Data'!$C$2:$C$100000,'Accounting Data'!$E$2:$E$100000,\"1??\",'Accounting Data'!$I$2:$I$100000,\"23??\",'Accounting Data'!$J$2:$J$100000,\"682?\")+SUMIFS('Accounting Data'!$C$2:$C$100000,'Accounting Data'!$E$2:$E$100000,\"2??\",'Accounting Data'!$I$2:$I$100000,\"23??\",'Accounting Data'!$J$2:$J$100000,\"682?\")+SUMIFS('Accounting Data'!$C$2:$C$100000,'Accounting Data'!$E$2:$E$100000,\"3??\",'Accounting Data'!$I$2:$I$100000,\"23??\",'Accounting Data'!$J$2:$J$100000,\"682?\")+SUMIFS('Accounting Data'!$C$2:$C$100000,'Accounting Data'!$E$2:$E$100000,\"639\",'Accounting Data'!$I$2:$I$100000,\"23??\",'Accounting Data'!$J$2:$J$100000,\"682?\")+SUMIFS('Accounting Data'!$C$2:$C$100000,'Accounting Data'!$E$2:$E$100000,\"699\",'Accounting Data'!$I$2:$I$100000,\"23??\",'Accounting Data'!$J$2:$J$100000,\"682?\")+SUMIFS('Accounting Data'!$C$2:$C$100000,'Accounting Data'!$E$2:$E$100000,\"720\",'Accounting Data'!$I$2:$I$100000,\"23??\",'Accounting Data'!$J$2:$J$100000,\"682?\")+SUMIFS('Accounting Data'!$C$2:$C$100000,'Accounting Data'!$E$2:$E$100000,\"COVID\",'Accounting Data'!$I$2:$I$100000,\"23??\",'Accounting Data'!$J$2:$J$100000,\"682?\")","v":{"v":0,"d":"0 "}},null,{"$f":"SUMIFS('Accounting Data'!$C$2:$C$100000,'Accounting Data'!$E$2:$E$100000,\"1??\",'Accounting Data'!$H$2:$H$100000,\"7??\",'Accounting Data'!$I$2:$I$100000,\"23??\",'Accounting Data'!$J$2:$J$100000,\"682?\")+SUMIFS('Accounting Data'!$C$2:$C$100000,'Accounting Data'!$E$2:$E$100000,\"2??\",'Accounting Data'!$H$2:$H$100000,\"7??\",'Accounting Data'!$I$2:$I$100000,\"23??\",'Accounting Data'!$J$2:$J$100000,\"682?\")+SUMIFS('Accounting Data'!$C$2:$C$100000,'Accounting Data'!$E$2:$E$100000,\"3??\",'Accounting Data'!$H$2:$H$100000,\"7??\",'Accounting Data'!$I$2:$I$100000,\"23??\",'Accounting Data'!$J$2:$J$100000,\"682?\")+SUMIFS('Accounting Data'!$C$2:$C$100000,'Accounting Data'!$E$2:$E$100000,\"639\",'Accounting Data'!$H$2:$H$100000,\"7??\",'Accounting Data'!$I$2:$I$100000,\"23??\",'Accounting Data'!$J$2:$J$100000,\"682?\")+SUMIFS('Accounting Data'!$C$2:$C$100000,'Accounting Data'!$E$2:$E$100000,\"699\",'Accounting Data'!$H$2:$H$100000,\"7??\",'Accounting Data'!$I$2:$I$100000,\"23??\",'Accounting Data'!$J$2:$J$100000,\"682?\")+SUMIFS('Accounting Data'!$C$2:$C$100000,'Accounting Data'!$E$2:$E$100000,\"720\",'Accounting Data'!$H$2:$H$100000,\"7??\",'Accounting Data'!$I$2:$I$100000,\"23??\",'Accounting Data'!$J$2:$J$100000,\"682?\")+SUMIFS('Accounting Data'!$C$2:$C$100000,'Accounting Data'!$E$2:$E$100000,\"COVID\",'Accounting Data'!$H$2:$H$100000,\"7??\",'Accounting Data'!$I$2:$I$100000,\"23??\",'Accounting Data'!$J$2:$J$100000,\"682?\")","v":{"v":0,"d":"0 "}},null,{"$f":"SUMIFS('Accounting Data'!$C$2:$C$100000,'Accounting Data'!$E$2:$E$100000,\"1??\",'Accounting Data'!$H$2:$H$100000,\"8??\",'Accounting Data'!$I$2:$I$100000,\"23??\",'Accounting Data'!$J$2:$J$100000,\"682?\")+SUMIFS('Accounting Data'!$C$2:$C$100000,'Accounting Data'!$E$2:$E$100000,\"2??\",'Accounting Data'!$H$2:$H$100000,\"8??\",'Accounting Data'!$I$2:$I$100000,\"23??\",'Accounting Data'!$J$2:$J$100000,\"682?\")+SUMIFS('Accounting Data'!$C$2:$C$100000,'Accounting Data'!$E$2:$E$100000,\"3??\",'Accounting Data'!$H$2:$H$100000,\"8??\",'Accounting Data'!$I$2:$I$100000,\"23??\",'Accounting Data'!$J$2:$J$100000,\"682?\")+SUMIFS('Accounting Data'!$C$2:$C$100000,'Accounting Data'!$E$2:$E$100000,\"639\",'Accounting Data'!$H$2:$H$100000,\"8??\",'Accounting Data'!$I$2:$I$100000,\"23??\",'Accounting Data'!$J$2:$J$100000,\"682?\")+SUMIFS('Accounting Data'!$C$2:$C$100000,'Accounting Data'!$E$2:$E$100000,\"699\",'Accounting Data'!$H$2:$H$100000,\"8??\",'Accounting Data'!$I$2:$I$100000,\"23??\",'Accounting Data'!$J$2:$J$100000,\"682?\")+SUMIFS('Accounting Data'!$C$2:$C$100000,'Accounting Data'!$E$2:$E$100000,\"720\",'Accounting Data'!$H$2:$H$100000,\"8??\",'Accounting Data'!$I$2:$I$100000,\"23??\",'Accounting Data'!$J$2:$J$100000,\"682?\")+SUMIFS('Accounting Data'!$C$2:$C$100000,'Accounting Data'!$E$2:$E$100000,\"COVID\",'Accounting Data'!$H$2:$H$100000,\"8??\",'Accounting Data'!$I$2:$I$100000,\"23??\",'Accounting Data'!$J$2:$J$100000,\"682?\")","v":{"v":0,"d":"0 "}},null,{"$f":"SUMIFS('Accounting Data'!$C$2:$C$100000,'Accounting Data'!$E$2:$E$100000,\"1??\",'Accounting Data'!$H$2:$H$100000,\"9??\",'Accounting Data'!$I$2:$I$100000,\"23??\",'Accounting Data'!$J$2:$J$100000,\"682?\")+SUMIFS('Accounting Data'!$C$2:$C$100000,'Accounting Data'!$E$2:$E$100000,\"2??\",'Accounting Data'!$H$2:$H$100000,\"9??\",'Accounting Data'!$I$2:$I$100000,\"23??\",'Accounting Data'!$J$2:$J$100000,\"682?\")+SUMIFS('Accounting Data'!$C$2:$C$100000,'Accounting Data'!$E$2:$E$100000,\"3??\",'Accounting Data'!$H$2:$H$100000,\"9??\",'Accounting Data'!$I$2:$I$100000,\"23??\",'Accounting Data'!$J$2:$J$100000,\"682?\")+SUMIFS('Accounting Data'!$C$2:$C$100000,'Accounting Data'!$E$2:$E$100000,\"639\",'Accounting Data'!$H$2:$H$100000,\"9??\",'Accounting Data'!$I$2:$I$100000,\"23??\",'Accounting Data'!$J$2:$J$100000,\"682?\")+SUMIFS('Accounting Data'!$C$2:$C$100000,'Accounting Data'!$E$2:$E$100000,\"699\",'Accounting Data'!$H$2:$H$100000,\"9??\",'Accounting Data'!$I$2:$I$100000,\"23??\",'Accounting Data'!$J$2:$J$100000,\"682?\")+SUMIFS('Accounting Data'!$C$2:$C$100000,'Accounting Data'!$E$2:$E$100000,\"720\",'Accounting Data'!$H$2:$H$100000,\"9??\",'Accounting Data'!$I$2:$I$100000,\"23??\",'Accounting Data'!$J$2:$J$100000,\"682?\")+SUMIFS('Accounting Data'!$C$2:$C$100000,'Accounting Data'!$E$2:$E$100000,\"COVID\",'Accounting Data'!$H$2:$H$100000,\"9??\",'Accounting Data'!$I$2:$I$100000,\"23??\",'Accounting Data'!$J$2:$J$100000,\"682?\")","v":{"v":0,"d":"0 "}}]
[{"$nulls":8},"8. Subtotal (Lines 1-7)",{"$nulls":4},{"$f":"SUM(N47:N53)","v":{"v":7760,"d":"7,760 "}},"8.",{"$nulls":10},"Object","All programs, function 2500",null,"Program 700,  function 2500",null,"Program 800,  function 2500",null,"Program 900,  function 2500"]
["Revenue from selected federal sources",{"$nulls":7},"9. 6739 Technology-Related Hardware & Software ($5,000 or more)",{"$nulls":4},{"$f":"SUMIFS('Accounting Data'!C2:C100000,'Accounting Data'!J2:J100000,\"6739\")-(SUMIFS('Accounting Data'!C2:C100000,'Accounting Data'!E2:E100000,\"575\",'Accounting Data'!J2:J100000,\"6739\")+SUMIFS('Accounting Data'!C2:C100000,'Accounting Data'!E2:E100000,\"8??\",'Accounting Data'!J2:J100000,\"6739\")+SUMIFS('Accounting Data'!C2:C100000,'Accounting Data'!E2:E100000,\"9??\",'Accounting Data'!J2:J100000,\"6739\"))","v":{"v":0,"d":"0 "}},"9.",{"$nulls":10},6850,{"$f":"SUMIFS('Accounting Data'!$C$2:$C$100000,'Accounting Data'!$E$2:$E$100000,\"1??\",'Accounting Data'!$I$2:$I$100000,\"25??\",'Accounting Data'!$J$2:$J$100000,\"685?\")+SUMIFS('Accounting Data'!$C$2:$C$100000,'Accounting Data'!$E$2:$E$100000,\"2??\",'Accounting Data'!$I$2:$I$100000,\"25??\",'Accounting Data'!$J$2:$J$100000,\"685?\")+SUMIFS('Accounting Data'!$C$2:$C$100000,'Accounting Data'!$E$2:$E$100000,\"3??\",'Accounting Data'!$I$2:$I$100000,\"25??\",'Accounting Data'!$J$2:$J$100000,\"685?\")+SUMIFS('Accounting Data'!$C$2:$C$100000,'Accounting Data'!$E$2:$E$100000,\"639\",'Accounting Data'!$I$2:$I$100000,\"25??\",'Accounting Data'!$J$2:$J$100000,\"685?\")+SUMIFS('Accounting Data'!$C$2:$C$100000,'Accounting Data'!$E$2:$E$100000,\"699\",'Accounting Data'!$I$2:$I$100000,\"25??\",'Accounting Data'!$J$2:$J$100000,\"685?\")+SUMIFS('Accounting Data'!$C$2:$C$100000,'Accounting Data'!$E$2:$E$100000,\"720\",'Accounting Data'!$I$2:$I$100000,\"25??\",'Accounting Data'!$J$2:$J$100000,\"685?\")+SUMIFS('Accounting Data'!$C$2:$C$100000,'Accounting Data'!$E$2:$E$100000,\"COVID\",'Accounting Data'!$I$2:$I$100000,\"25??\",'Accounting Data'!$J$2:$J$100000,\"685?\")","v":{"v":0,"d":"0 "}},null,{"$f":"SUMIFS('Accounting Data'!$C$2:$C$100000,'Accounting Data'!$E$2:$E$100000,\"1??\",'Accounting Data'!$H$2:$H$100000,\"7??\",'Accounting Data'!$I$2:$I$100000,\"25??\",'Accounting Data'!$J$2:$J$100000,\"685?\")+SUMIFS('Accounting Data'!$C$2:$C$100000,'Accounting Data'!$E$2:$E$100000,\"2??\",'Accounting Data'!$H$2:$H$100000,\"7??\",'Accounting Data'!$I$2:$I$100000,\"25??\",'Accounting Data'!$J$2:$J$100000,\"685?\")+SUMIFS('Accounting Data'!$C$2:$C$100000,'Accounting Data'!$E$2:$E$100000,\"3??\",'Accounting Data'!$H$2:$H$100000,\"7??\",'Accounting Data'!$I$2:$I$100000,\"25??\",'Accounting Data'!$J$2:$J$100000,\"685?\")+SUMIFS('Accounting Data'!$C$2:$C$100000,'Accounting Data'!$E$2:$E$100000,\"639\",'Accounting Data'!$H$2:$H$100000,\"7??\",'Accounting Data'!$I$2:$I$100000,\"25??\",'Accounting Data'!$J$2:$J$100000,\"685?\")+SUMIFS('Accounting Data'!$C$2:$C$100000,'Accounting Data'!$E$2:$E$100000,\"699\",'Accounting Data'!$H$2:$H$100000,\"7??\",'Accounting Data'!$I$2:$I$100000,\"25??\",'Accounting Data'!$J$2:$J$100000,\"685?\")+SUMIFS('Accounting Data'!$C$2:$C$100000,'Accounting Data'!$E$2:$E$100000,\"720\",'Accounting Data'!$H$2:$H$100000,\"7??\",'Accounting Data'!$I$2:$I$100000,\"25??\",'Accounting Data'!$J$2:$J$100000,\"685?\")+SUMIFS('Accounting Data'!$C$2:$C$100000,'Accounting Data'!$E$2:$E$100000,\"COVID\",'Accounting Data'!$H$2:$H$100000,\"7??\",'Accounting Data'!$I$2:$I$100000,\"25??\",'Accounting Data'!$J$2:$J$100000,\"685?\")","v":{"v":0,"d":"0 "}},null,{"$f":"SUMIFS('Accounting Data'!$C$2:$C$100000,'Accounting Data'!$E$2:$E$100000,\"1??\",'Accounting Data'!$H$2:$H$100000,\"8??\",'Accounting Data'!$I$2:$I$100000,\"25??\",'Accounting Data'!$J$2:$J$100000,\"685?\")+SUMIFS('Accounting Data'!$C$2:$C$100000,'Accounting Data'!$E$2:$E$100000,\"2??\",'Accounting Data'!$H$2:$H$100000,\"8??\",'Accounting Data'!$I$2:$I$100000,\"25??\",'Accounting Data'!$J$2:$J$100000,\"685?\")+SUMIFS('Accounting Data'!$C$2:$C$100000,'Accounting Data'!$E$2:$E$100000,\"3??\",'Accounting Data'!$H$2:$H$100000,\"8??\",'Accounting Data'!$I$2:$I$100000,\"25??\",'Accounting Data'!$J$2:$J$100000,\"685?\")+SUMIFS('Accounting Data'!$C$2:$C$100000,'Accounting Data'!$E$2:$E$100000,\"639\",'Accounting Data'!$H$2:$H$100000,\"8??\",'Accounting Data'!$I$2:$I$100000,\"25??\",'Accounting Data'!$J$2:$J$100000,\"685?\")+SUMIFS('Accounting Data'!$C$2:$C$100000,'Accounting Data'!$E$2:$E$100000,\"699\",'Accounting Data'!$H$2:$H$100000,\"8??\",'Accounting Data'!$I$2:$I$100000,\"25??\",'Accounting Data'!$J$2:$J$100000,\"685?\")+SUMIFS('Accounting Data'!$C$2:$C$100000,'Accounting Data'!$E$2:$E$100000,\"720\",'Accounting Data'!$H$2:$H$100000,\"8??\",'Accounting Data'!$I$2:$I$100000,\"25??\",'Accounting Data'!$J$2:$J$100000,\"685?\")+SUMIFS('Accounting Data'!$C$2:$C$100000,'Accounting Data'!$E$2:$E$100000,\"COVID\",'Accounting Data'!$H$2:$H$100000,\"8??\",'Accounting Data'!$I$2:$I$100000,\"25??\",'Accounting Data'!$J$2:$J$100000,\"685?\")","v":{"v":0,"d":"0 "}},null,{"$f":"SUMIFS('Accounting Data'!$C$2:$C$100000,'Accounting Data'!$E$2:$E$100000,\"1??\",'Accounting Data'!$H$2:$H$100000,\"9??\",'Accounting Data'!$I$2:$I$100000,\"25??\",'Accounting Data'!$J$2:$J$100000,\"685?\")+SUMIFS('Accounting Data'!$C$2:$C$100000,'Accounting Data'!$E$2:$E$100000,\"2??\",'Accounting Data'!$H$2:$H$100000,\"9??\",'Accounting Data'!$I$2:$I$100000,\"25??\",'Accounting Data'!$J$2:$J$100000,\"685?\")+SUMIFS('Accounting Data'!$C$2:$C$100000,'Accounting Data'!$E$2:$E$100000,\"3??\",'Accounting Data'!$H$2:$H$100000,\"9??\",'Accounting Data'!$I$2:$I$100000,\"25??\",'Accounting Data'!$J$2:$J$100000,\"685?\")+SUMIFS('Accounting Data'!$C$2:$C$100000,'Accounting Data'!$E$2:$E$100000,\"639\",'Accounting Data'!$H$2:$H$100000,\"9??\",'Accounting Data'!$I$2:$I$100000,\"25??\",'Accounting Data'!$J$2:$J$100000,\"685?\")+SUMIFS('Accounting Data'!$C$2:$C$100000,'Accounting Data'!$E$2:$E$100000,\"699\",'Accounting Data'!$H$2:$H$100000,\"9??\",'Accounting Data'!$I$2:$I$100000,\"25??\",'Accounting Data'!$J$2:$J$100000,\"685?\")+SUMIFS('Accounting Data'!$C$2:$C$100000,'Accounting Data'!$E$2:$E$100000,\"720\",'Accounting Data'!$H$2:$H$100000,\"9??\",'Accounting Data'!$I$2:$I$100000,\"25??\",'Accounting Data'!$J$2:$J$100000,\"685?\")+SUMIFS('Accounting Data'!$C$2:$C$100000,'Accounting Data'!$E$2:$E$100000,\"COVID\",'Accounting Data'!$H$2:$H$100000,\"9??\",'Accounting Data'!$I$2:$I$100000,\"25??\",'Accounting Data'!$J$2:$J$100000,\"685?\")","v":{"v":0,"d":"0 "}}]
["1. ESEA Title IV - Student Support and Academic Enrichment Grants",{"$nulls":3},{"v":6426,"d":"6,426 "},"1. ",null,null,"10. 6832 and 6842 Noninstructional software subscriptions (more than 12 months) Principal and Interest",{"$nulls":4},{"v":0,"d":"0 "},"10."]
["2. ESEA Title IV - 21st Century Community Learning Centers",{"$nulls":3},{"v":0,"d":"0 "},"2.",null,null,"11. 6833 and 6843 Instructional software subscriptions (more than 12 months) Principal and Interest",{"$nulls":4},{"$f":"SUMIFS('Accounting Data'!C2:C100000,'Accounting Data'!J2:J100000,\"6833\")-(SUM(SUMIFS('Accounting Data'!C2:C100000,'Accounting Data'!E2:E100000,{\"575\",\"8??\",\"9??\"},'Accounting Data'!J2:J100000,\"6833\")))+SUMIFS('Accounting Data'!C2:C100000,'Accounting Data'!J2:J100000,\"6843\")-(SUM(SUMIFS('Accounting Data'!C2:C100000,'Accounting Data'!E2:E100000,{\"575\",\"8??\",\"9??\"},'Accounting Data'!J2:J100000,\"6843\")))","v":{"v":0,"d":"0 "}},"11.",{"$nulls":11},{"$f":"IF(OR(AA58=\"yes\",AA59=\"yes\",AA60=\"yes\",AA61=\"yes\",AA62=\"yes\",AA63=\"yes\",AA65=\"yes\"),\"yes\",\"\")","v":""}]
["3. ESEA Title V - Rural Education - Rural and Low-Income School Program ",{"$nulls":3},{"v":0,"d":"0 "},"3. ",{"$nulls":20},{"$f":"IF(OR(D35=\"\",E35=\"\",F35=\"\",G35=\"\"),\"yes\",\"\")","v":""}]
["4. ESEA Title V - Rural Education - Small, Rural School Achievement Program",{"$nulls":3},{"v":0,"d":"0 "},"4. ",null,null,"Support Services-Instruction Detail (Funds 001-799 excluding 575, All Objects)",{"$nulls":17},{"$f":"IF(OR(D36=\"\",E36=\"\",F36=\"\",G36=\"\"),\"yes\",\"\")","v":""}]
[{"$nulls":8},"1. 2210 Improvement of Instruction",{"$nulls":3},{"$f":"SUMIFS('Accounting Data'!C2:C100000,'Accounting Data'!I2:I100000,\"221?\")-(SUM(SUMIFS('Accounting Data'!C2:C100000,'Accounting Data'!E2:E100000,{\"575\",\"8??\",\"9??\"},'Accounting Data'!I2:I100000,\"221?\")))","v":{"v":2855,"d":"2,855 "}},"1.",{"$nulls":12},{"$f":"IF(OR(D37=\"\",E37=\"\",F37=\"\",G37=\"\"),\"yes\",\"\")","v":""}]
[{"$nulls":8},"2. 2220 Library/Media Services",{"$nulls":3},{"$f":"SUMIFS('Accounting Data'!C2:C100000,'Accounting Data'!I2:I100000,\"222?\")-(SUM(SUMIFS('Accounting Data'!C2:C100000,'Accounting Data'!E2:E100000,{\"575\",\"8??\",\"9??\"},'Accounting Data'!I2:I100000,\"222?\")))","v":{"v":0,"d":"0 "}},"2.",{"$nulls":12},{"$f":"IF(OR(D38=\"\",E38=\"\",F38=\"\",G38=\"\"),\"yes\",\"\")","v":""}]
[{"$nulls":26},{"$f":"IF(OR(D39=\"\",E39=\"\",F39=\"\",G39=\"\"),\"yes\",\"\")","v":""}]
[{"$nulls":26},{"$f":"IF(OR(D42=\"\",D43=\"\",D44=\"\",E56=\"\",E57=\"\",E58=\"\",E59=\"\"),\"yes\",\"\")","v":""}]
[]
[{"$nulls":26},{"$f":"IF(P25=\"\",\"yes\",\"\")","v":""}]

{"sheet":"Page 10","index":10,"n_rows":50,"n_cols":55,"rows_kept":50,"merged":[[0,1,0,4],[0,7,0,8],[4,0,5,0],[4,2,4,11],[4,13,8,13],[7,0,8,1],[22,0,22,2],[22,6,22,9],[23,6,23,8],[25,6,28,9],[25,16,26,16],[27,16,28,16],[33,6,37,9],[34,0,34,3],[38,3,39,3],[38,4,39,4],[38,5,39,5],[38,6,39,6],[38,7,39,7],[39,0,39,2],[40,0,40,2],[41,0,41,2],[42,0,42,2],[43,0,43,2],[44,0,44,2],[45,0,45,2],[46,0,46,2],[48,8,50,12],[49,0,49,1],[49,6,50,7],[51,1,51,2],[52,1,52,2],[53,1,53,2],[54,1,54,2],[55,1,55,2],[56,1,56,2],[57,1,57,2],[58,1,58,2],[59,1,59,2]]}
["DISTRICT NAME",{"$f":"CoverDistrictName","v":"Double Adobe Elementary School "},{"$nulls":4},"COUNTY",{"$f":"Cover!J1","v":"Cochise"},null,null,"CTDS NUMBER",{"$f":"CoverCTDS","v":"020345000"}]
[]
[null,null,"Additional information for National Public Education Financial Survey (NPEFS) reporting of COVID-19 federal relief funds"]
[]
[null,null,"Programs 100-630",{"$nulls":9},"Programs 700-900","Total"]
[{"$nulls":4},"Purchased",{"$nulls":3},"Judgments"]
[{"$nulls":3},"Employee","Services",{"$nulls":3},"Against a","Interest on Short",null,null,"All"]
["Current Expenditures from COVID-19 federal relief funds",null,"Salaries","Benefits","6300, 6400,","Supplies","Property","Dues and Fees","District","Term Debt","Miscellaneous","Other","Object Codes"]
[null,null,6100,6200,6500,6600,6700,6810,6820,6850,6890,6800,"(excluding 6900)"]
["1000 Instruction","1.",{"$f":"SUM(SUMIFS('Accounting Data'!C2:C100000,'Accounting Data'!E2:E100000,\"COVID\",'Accounting Data'!H2:H100000,{\"0??\",\"1??\",\"2??\",\"3??\",\"4??\",\"5??\",\"6??\"},'Accounting Data'!I2:I100000,\"1???\",'Accounting Data'!J2:J100000,\"61??\"))+SUM(SUMIFS('Accounting Data'!C2:C100000,'Accounting Data'!E2:E100000,\"227\",'Accounting Data'!H2:H100000,{\"0??\",\"1??\",\"2??\",\"3??\",\"4??\",\"5??\",\"6??\"},'Accounting Data'!I2:I100000,\"1???\",'Accounting Data'!J2:J100000,\"61??\"))+SUM(SUMIFS('Accounting Data'!C2:C100000,'Accounting Data'!E2:E100000,\"228\",'Accounting Data'!H2:H100000,{\"0??\",\"1??\",\"2??\",\"3??\",\"4??\",\"5??\",\"6??\"},'Accounting Data'!I2:I100000,\"1???\",'Accounting Data'!J2:J100000,\"61??\"))","v":{"v":78721,"d":"78,721 "}},{"$f":"SUM(SUMIFS('Accounting Data'!C2:C100000,'Accounting Data'!E2:E100000,\"COVID\",'Accounting Data'!H2:H100000,{\"0??\",\"1??\",\"2??\",\"3??\",\"4??\",\"5??\",\"6??\"},'Accounting Data'!I2:I100000,\"1???\",'Accounting Data'!J2:J100000,\"62??\"))+SUM(SUMIFS('Accounting Data'!C2:C100000,'Accounting Data'!E2:E100000,\"227\",'Accounting Data'!H2:H100000,{\"0??\",\"1??\",\"2??\",\"3??\",\"4??\",\"5??\",\"6??\"},'Accounting Data'!I2:I100000,\"1???\",'Accounting Data'!J2:J100000,\"62??\"))+SUM(SUMIFS('Accounting Data'!C2:C100000,'Accounting Data'!E2:E100000,\"228\",'Accounting Data'!H2:H100000,{\"0??\",\"1??\",\"2??\",\"3??\",\"4??\",\"5??\",\"6??\"},'Accounting Data'!I2:I100000,\"1???\",'Accounting Data'!J2:J100000,\"62??\"))","v":{"v":23791,"d":"23,791 "}},{"$f":"SUM(SUMIFS('Accounting Data'!C2:C100000,'Accounting Data'!E2:E100000,\"COVID\",'Accounting Data'!H2:H100000,{\"0??\",\"1??\",\"2??\",\"3??\",\"4??\",\"5??\",\"6??\"},'Accounting Data'!I2:I100000,\"1???\",'Accounting Data'!J2:J100000,\"63??\"))+SUM(SUMIFS('Accounting Data'!C2:C100000,'Accounting Data'!E2:E100000,\"COVID\",'Accounting Data'!H2:H100000,{\"0??\",\"1??\",\"2??\",\"3??\",\"4??\",\"5??\",\"6??\"},'Accounting Data'!I2:I100000,\"1???\",'Accounting Data'!J2:J100000,\"64??\"))+SUM(SUMIFS('Accounting Data'!C2:C100000,'Accounting Data'!E2:E100000,\"COVID\",'Accounting Data'!H2:H100000,{\"0??\",\"1??\",\"2??\",\"3??\",\"4??\",\"5??\",\"6??\"},'Accounting Data'!I2:I100000,\"1???\",'Accounting Data'!J2:J100000,\"65??\"))+SUM(SUMIFS('Accounting Data'!C2:C100000,'Accounting Data'!E2:E100000,\"227\",'Accounting Data'!H2:H100000,{\"0??\",\"1??\",\"2??\",\"3??\",\"4??\",\"5??\",\"6??\"},'Accounting Data'!I2:I100000,\"1???\",'Accounting Data'!J2:J100000,\"63??\"))+SUM(SUMIFS('Accounting Data'!C2:C100000,'Accounting Data'!E2:E100000,\"227\",'Accounting Data'!H2:H100000,{\"0??\",\"1??\",\"2??\",\"3??\",\"4??\",\"5??\",\"6??\"},'Accounting Data'!I2:I100000,\"1???\",'Accounting Data'!J2:J100000,\"64??\"))+SUM(SUMIFS('Accounting Data'!C2:C100000,'Accounting Data'!E2:E100000,\"227\",'Accounting Data'!H2:H100000,{\"0??\",\"1??\",\"2??\",\"3??\",\"4??\",\"5??\",\"6??\"},'Accounting Data'!I2:I100000,\"1???\",'Accounting Data'!J2:J100000,\"65??\"))+SUM(SUMIFS('Accounting Data'!C2:C100000,'Accounting Data'!E2:E100000,\"228\",'Accounting Data'!H2:H100000,{\"0??\",\"1??\",\"2??\",\"3??\",\"4??\",\"5??\",\"6??\"},'Accounting Data'!I2:I100000,\"1???\",'Accounting Data'!J2:J100000,\"63??\"))+SUM(SUMIFS('Accounting Data'!C2:C100000,'Accounting Data'!E2:E100000,\"228\",'Accounting Data'!H2:H100000,{\"0??\",\"1??\",\"2??\",\"3??\",\"4??\",\"5??\",\"6??\"},'Accounting Data'!I2:I100000,\"1???\",'Accounting Data'!J2:J100000,\"64??\"))+SUM(SUMIFS('Accounting Data'!C2:C100000,'Accounting Data'!E2:E100000,\"228\",'Accounting Data'!H2:H100000,{\"0??\",\"1??\",\"2??\",\"3??\",\"4??\",\"5??\",\"6??\"},'Accounting Data'!I2:I100000,\"1???\",'Accounting Data'!J2:J100000,\"65??\"))","v":{"v":0,"d":"0 "}},{"$f":"SUM(SUMIFS('Accounting Data'!C2:C100000,'Accounting Data'!E2:E100000,\"COVID\",'Accounting Data'!H2:H100000,{\"0??\",\"1??\",\"2??\",\"3??\",\"4??\",\"5??\",\"6??\"},'Accounting Data'!I2:I100000,\"1???\",'Accounting Data'!J2:J100000,\"66??\"))+SUM(SUMIFS('Accounting Data'!C2:C100000,'Accounting Data'!E2:E100000,\"227\",'Accounting Data'!H2:H100000,{\"0??\",\"1??\",\"2??\",\"3??\",\"4??\",\"5??\",\"6??\"},'Accounting Data'!I2:I100000,\"1???\",'Accounting Data'!J2:J100000,\"66??\"))+SUM(SUMIFS('Accounting Data'!C2:C100000,'Accounting Data'!E2:E100000,\"228\",'Accounting Data'!H2:H100000,{\"0??\",\"1??\",\"2??\",\"3??\",\"4??\",\"5??\",\"6??\"},'Accounting Data'!I2:I100000,\"1???\",'Accounting Data'!J2:J100000,\"66??\"))","v":{"v":0,"d":"0 "}},{"$f":"SUM(SUMIFS('Accounting Data'!C2:C100000,'Accounting Data'!E2:E100000,\"COVID\",'Accounting Data'!H2:H100000,{\"0??\",\"1??\",\"2??\",\"3??\",\"4??\",\"5??\",\"6??\"},'Accounting Data'!I2:I100000,\"1???\",'Accounting Data'!J2:J100000,\"67??\"))+SUM(SUMIFS('Accounting Data'!C2:C100000,'Accounting Data'!E2:E100000,\"227\",'Accounting Data'!H2:H100000,{\"0??\",\"1??\",\"2??\",\"3??\",\"4??\",\"5??\",\"6??\"},'Accounting Data'!I2:I100000,\"1???\",'Accounting Data'!J2:J100000,\"67??\"))+SUM(SUMIFS('Accounting Data'!C2:C100000,'Accounting Data'!E2:E100000,\"228\",'Accounting Data'!H2:H100000,{\"0??\",\"1??\",\"2??\",\"3??\",\"4??\",\"5??\",\"6??\"},'Accounting Data'!I2:I100000,\"1???\",'Accounting Data'!J2:J100000,\"67??\"))","v":{"v":0,"d":"0 "}},{"$f":"SUM(SUMIFS('Accounting Data'!C2:C100000,'Accounting Data'!E2:E100000,\"COVID\",'Accounting Data'!H2:H100000,{\"0??\",\"1??\",\"2??\",\"3??\",\"4??\",\"5??\",\"6??\"},'Accounting Data'!I2:I100000,\"1???\",'Accounting Data'!J2:J100000,\"681?\"))+SUM(SUMIFS('Accounting Data'!C2:C100000,'Accounting Data'!E2:E100000,\"227\",'Accounting Data'!H2:H100000,{\"0??\",\"1??\",\"2??\",\"3??\",\"4??\",\"5??\",\"6??\"},'Accounting Data'!I2:I100000,\"1???\",'Accounting Data'!J2:J100000,\"681?\"))+SUM(SUMIFS('Accounting Data'!C2:C100000,'Accounting Data'!E2:E100000,\"228\",'Accounting Data'!H2:H100000,{\"0??\",\"1??\",\"2??\",\"3??\",\"4??\",\"5??\",\"6??\"},'Accounting Data'!I2:I100000,\"1???\",'Accounting Data'!J2:J100000,\"681?\"))","v":{"v":0,"d":"0 "}},null,null,{"$f":"SUM(SUMIFS('Accounting Data'!C2:C100000,'Accounting Data'!E2:E100000,\"COVID\",'Accounting Data'!H2:H100000,{\"0??\",\"1??\",\"2??\",\"3??\",\"4??\",\"5??\",\"6??\"},'Accounting Data'!I2:I100000,\"1???\",'Accounting Data'!J2:J100000,\"689?\"))+SUM(SUMIFS('Accounting Data'!C2:C100000,'Accounting Data'!E2:E100000,\"227\",'Accounting Data'!H2:H100000,{\"0??\",\"1??\",\"2??\",\"3??\",\"4??\",\"5??\",\"6??\"},'Accounting Data'!I2:I100000,\"1???\",'Accounting Data'!J2:J100000,\"689?\"))+SUM(SUMIFS('Accounting Data'!C2:C100000,'Accounting Data'!E2:E100000,\"228\",'Accounting Data'!H2:H100000,{\"0??\",\"1??\",\"2??\",\"3??\",\"4??\",\"5??\",\"6??\"},'Accounting Data'!I2:I100000,\"1???\",'Accounting Data'!J2:J100000,\"689?\"))","v":{"v":0,"d":"0 "}},{"$f":"SUM(SUMIFS('Accounting Data'!C2:C100000,'Accounting Data'!E2:E100000,\"COVID\",'Accounting Data'!H2:H100000,{\"0??\",\"1??\",\"2??\",\"3??\",\"4??\",\"5??\",\"6??\"},'Accounting Data'!I2:I100000,\"1???\",'Accounting Data'!J2:J100000,\"68??\"))+SUM(SUMIFS('Accounting Data'!C2:C100000,'Accounting Data'!E2:E100000,\"227\",'Accounting Data'!H2:H100000,{\"0??\",\"1??\",\"2??\",\"3??\",\"4??\",\"5??\",\"6??\"},'Accounting Data'!I2:I100000,\"1???\",'Accounting Data'!J2:J100000,\"68??\"))+SUM(SUMIFS('Accounting Data'!C2:C100000,'Accounting Data'!E2:E100000,\"228\",'Accounting Data'!H2:H100000,{\"0??\",\"1??\",\"2??\",\"3??\",\"4??\",\"5??\",\"6??\"},'Accounting Data'!I2:I100000,\"1???\",'Accounting Data'!J2:J100000,\"68??\"))-H10-K10","v":{"v":0,"d":"0 "}},{"$f":"SUM(SUMIFS('Accounting Data'!C2:C100000,'Accounting Data'!E2:E100000,\"COVID\",'Accounting Data'!H2:H100000,{\"7??\",\"8??\",\"9??\"},'Accounting Data'!I2:I100000,\"1???\",'Accounting Data'!J2:J100000,\"6???\"))-SUM(SUMIFS('Accounting Data'!C2:C100000,'Accounting Data'!E2:E100000,\"COVID\",'Accounting Data'!H2:H100000,{\"7??\",\"8??\",\"9??\"},'Accounting Data'!I2:I100000,\"1???\",'Accounting Data'!J2:J100000,\"69??\"))+SUM(SUMIFS('Accounting Data'!C2:C100000,'Accounting Data'!E2:E100000,\"227\",'Accounting Data'!H2:H100000,{\"7??\",\"8??\",\"9??\"},'Accounting Data'!I2:I100000,\"1???\",'Accounting Data'!J2:J100000,\"6???\"))-SUM(SUMIFS('Accounting Data'!C2:C100000,'Accounting Data'!E2:E100000,\"227\",'Accounting Data'!H2:H100000,{\"7??\",\"8??\",\"9??\"},'Accounting Data'!I2:I100000,\"1???\",'Accounting Data'!J2:J100000,\"69??\"))+SUM(SUMIFS('Accounting Data'!C2:C100000,'Accounting Data'!E2:E100000,\"228\",'Accounting Data'!H2:H100000,{\"7??\",\"8??\",\"9??\"},'Accounting Data'!I2:I100000,\"1???\",'Accounting Data'!J2:J100000,\"6???\"))-SUM(SUMIFS('Accounting Data'!C2:C100000,'Accounting Data'!E2:E100000,\"228\",'Accounting Data'!H2:H100000,{\"7??\",\"8??\",\"9??\"},'Accounting Data'!I2:I100000,\"1???\",'Accounting Data'!J2:J100000,\"69??\"))","v":{"v":0,"d":"0 "}},{"$f":"ROUND(SUM(C10:M10),0)","v":{"v":102512,"d":"102,512 "}}]
["2100, 2200 Student Support Services","2.",{"$f":"SUM(SUMIFS('Accounting Data'!C2:C100000,'Accounting Data'!E2:E100000,\"COVID\",'Accounting Data'!H2:H100000,{\"0??\",\"1??\",\"2??\",\"3??\",\"4??\",\"5??\",\"6??\"},'Accounting Data'!I2:I100000,\"21??\",'Accounting Data'!J2:J100000,\"61??\"))+SUM(SUMIFS('Accounting Data'!C2:C100000,'Accounting Data'!E2:E100000,\"COVID\",'Accounting Data'!H2:H100000,{\"0??\",\"1??\",\"2??\",\"3??\",\"4??\",\"5??\",\"6??\"},'Accounting Data'!I2:I100000,\"22??\",'Accounting Data'!J2:J100000,\"61??\"))+SUM(SUMIFS('Accounting Data'!C2:C100000,'Accounting Data'!E2:E100000,\"227\",'Accounting Data'!H2:H100000,{\"0??\",\"1??\",\"2??\",\"3??\",\"4??\",\"5??\",\"6??\"},'Accounting Data'!I2:I100000,\"21??\",'Accounting Data'!J2:J100000,\"61??\"))+SUM(SUMIFS('Accounting Data'!C2:C100000,'Accounting Data'!E2:E100000,\"227\",'Accounting Data'!H2:H100000,{\"0??\",\"1??\",\"2??\",\"3??\",\"4??\",\"5??\",\"6??\"},'Accounting Data'!I2:I100000,\"22??\",'Accounting Data'!J2:J100000,\"61??\"))+SUM(SUMIFS('Accounting Data'!C2:C100000,'Accounting Data'!E2:E100000,\"228\",'Accounting Data'!H2:H100000,{\"0??\",\"1??\",\"2??\",\"3??\",\"4??\",\"5??\",\"6??\"},'Accounting Data'!I2:I100000,\"21??\",'Accounting Data'!J2:J100000,\"61??\"))+SUM(SUMIFS('Accounting Data'!C2:C100000,'Accounting Data'!E2:E100000,\"228\",'Accounting Data'!H2:H100000,{\"0??\",\"1??\",\"2??\",\"3??\",\"4??\",\"5??\",\"6??\"},'Accounting Data'!I2:I100000,\"22??\",'Accounting Data'!J2:J100000,\"61??\"))","v":{"v":0,"d":"0 "}},{"$f":"SUM(SUMIFS('Accounting Data'!C2:C100000,'Accounting Data'!E2:E100000,\"COVID\",'Accounting Data'!H2:H100000,{\"0??\",\"1??\",\"2??\",\"3??\",\"4??\",\"5??\",\"6??\"},'Accounting Data'!I2:I100000,\"21??\",'Accounting Data'!J2:J100000,\"62??\"))+SUM(SUMIFS('Accounting Data'!C2:C100000,'Accounting Data'!E2:E100000,\"COVID\",'Accounting Data'!H2:H100000,{\"0??\",\"1??\",\"2??\",\"3??\",\"4??\",\"5??\",\"6??\"},'Accounting Data'!I2:I100000,\"22??\",'Accounting Data'!J2:J100000,\"62??\"))+SUM(SUMIFS('Accounting Data'!C2:C100000,'Accounting Data'!E2:E100000,\"227\",'Accounting Data'!H2:H100000,{\"0??\",\"1??\",\"2??\",\"3??\",\"4??\",\"5??\",\"6??\"},'Accounting Data'!I2:I100000,\"21??\",'Accounting Data'!J2:J100000,\"62??\"))+SUM(SUMIFS('Accounting Data'!C2:C100000,'Accounting Data'!E2:E100000,\"227\",'Accounting Data'!H2:H100000,{\"0??\",\"1??\",\"2??\",\"3??\",\"4??\",\"5??\",\"6??\"},'Accounting Data'!I2:I100000,\"22??\",'Accounting Data'!J2:J100000,\"62??\"))+SUM(SUMIFS('Accounting Data'!C2:C100000,'Accounting Data'!E2:E100000,\"228\",'Accounting Data'!H2:H100000,{\"0??\",\"1??\",\"2??\",\"3??\",\"4??\",\"5??\",\"6??\"},'Accounting Data'!I2:I100000,\"21??\",'Accounting Data'!J2:J100000,\"62??\"))+SUM(SUMIFS('Accounting Data'!C2:C100000,'Accounting Data'!E2:E100000,\"228\",'Accounting Data'!H2:H100000,{\"0??\",\"1??\",\"2??\",\"3??\",\"4??\",\"5??\",\"6??\"},'Accounting Data'!I2:I100000,\"22??\",'Accounting Data'!J2:J100000,\"62??\"))","v":{"v":0,"d":"0 "}},{"$f":"AX11+AY11","v":{"v":0,"d":"0 "}},{"$f":"SUM(SUMIFS('Accounting Data'!C2:C100000,'Accounting Data'!E2:E100000,\"COVID\",'Accounting Data'!H2:H100000,{\"0??\",\"1??\",\"2??\",\"3??\",\"4??\",\"5??\",\"6??\"},'Accounting Data'!I2:I100000,\"21??\",'Accounting Data'!J2:J100000,\"66??\"))+SUM(SUMIFS('Accounting Data'!C2:C100000,'Accounting Data'!E2:E100000,\"COVID\",'Accounting Data'!H2:H100000,{\"0??\",\"1??\",\"2??\",\"3??\",\"4??\",\"5??\",\"6??\"},'Accounting Data'!I2:I100000,\"22??\",'Accounting Data'!J2:J100000,\"66??\"))+SUM(SUMIFS('Accounting Data'!C2:C100000,'Accounting Data'!E2:E100000,\"227\",'Accounting Data'!H2:H100000,{\"0??\",\"1??\",\"2??\",\"3??\",\"4??\",\"5??\",\"6??\"},'Accounting Data'!I2:I100000,\"21??\",'Accounting Data'!J2:J100000,\"66??\"))+SUM(SUMIFS('Accounting Data'!C2:C100000,'Accounting Data'!E2:E100000,\"227\",'Accounting Data'!H2:H100000,{\"0??\",\"1??\",\"2??\",\"3??\",\"4??\",\"5??\",\"6??\"},'Accounting Data'!I2:I100000,\"22??\",'Accounting Data'!J2:J100000,\"66??\"))+SUM(SUMIFS('Accounting Data'!C2:C100000,'Accounting Data'!E2:E100000,\"228\",'Accounting Data'!H2:H100000,{\"0??\",\"1??\",\"2??\",\"3??\",\"4??\",\"5??\",\"6??\"},'Accounting Data'!I2:I100000,\"21??\",'Accounting Data'!J2:J100000,\"66??\"))+SUM(SUMIFS('Accounting Data'!C2:C100000,'Accounting Data'!E2:E100000,\"228\",'Accounting Data'!H2:H100000,{\"0??\",\"1??\",\"2??\",\"3??\",\"4??\",\"5??\",\"6??\"},'Accounting Data'!I2:I100000,\"22??\",'Accounting Data'!J2:J100000,\"66??\"))","v":{"v":0,"d":"0 "}},{"$f":"SUM(SUMIFS('Accounting Data'!C2:C100000,'Accounting Data'!E2:E100000,\"COVID\",'Accounting Data'!H2:H100000,{\"0??\",\"1??\",\"2??\",\"3??\",\"4??\",\"5??\",\"6??\"},'Accounting Data'!I2:I100000,\"21??\",'Accounting Data'!J2:J100000,\"67??\"))+SUM(SUMIFS('Accounting Data'!C2:C100000,'Accounting Data'!E2:E100000,\"COVID\",'Accounting Data'!H2:H100000,{\"0??\",\"1??\",\"2??\",\"3??\",\"4??\",\"5??\",\"6??\"},'Accounting Data'!I2:I100000,\"22??\",'Accounting Data'!J2:J100000,\"67??\"))+SUM(SUMIFS('Accounting Data'!C2:C100000,'Accounting Data'!E2:E100000,\"227\",'Accounting Data'!H2:H100000,{\"0??\",\"1??\",\"2??\",\"3??\",\"4??\",\"5??\",\"6??\"},'Accounting Data'!I2:I100000,\"21??\",'Accounting Data'!J2:J100000,\"67??\"))+SUM(SUMIFS('Accounting Data'!C2:C100000,'Accounting Data'!E2:E100000,\"227\",'Accounting Data'!H2:H100000,{\"0??\",\"1??\",\"2??\",\"3??\",\"4??\",\"5??\",\"6??\"},'Accounting Data'!I2:I100000,\"22??\",'Accounting Data'!J2:J100000,\"67??\"))+SUM(SUMIFS('Accounting Data'!C2:C100000,'Accounting Data'!E2:E100000,\"228\",'Accounting Data'!H2:H100000,{\"0??\",\"1??\",\"2??\",\"3??\",\"4??\",\"5??\",\"6??\"},'Accounting Data'!I2:I100000,\"21??\",'Accounting Data'!J2:J100000,\"67??\"))+SUM(SUMIFS('Accounting Data'!C2:C100000,'Accounting Data'!E2:E100000,\"228\",'Accounting Data'!H2:H100000,{\"0??\",\"1??\",\"2??\",\"3??\",\"4??\",\"5??\",\"6??\"},'Accounting Data'!I2:I100000,\"22??\",'Accounting Data'!J2:J100000,\"67??\"))","v":{"v":0,"d":"0 "}},{"$f":"SUM(SUMIFS('Accounting Data'!C2:C100000,'Accounting Data'!E2:E100000,\"COVID\",'Accounting Data'!H2:H100000,{\"0??\",\"1??\",\"2??\",\"3??\",\"4??\",\"5??\",\"6??\"},'Accounting Data'!I2:I100000,\"21??\",'Accounting Data'!J2:J100000,\"681?\"))+SUM(SUMIFS('Accounting Data'!C2:C100000,'Accounting Data'!E2:E100000,\"COVID\",'Accounting Data'!H2:H100000,{\"0??\",\"1??\",\"2??\",\"3??\",\"4??\",\"5??\",\"6??\"},'Accounting Data'!I2:I100000,\"22??\",'Accounting Data'!J2:J100000,\"681?\"))+SUM(SUMIFS('Accounting Data'!C2:C100000,'Accounting Data'!E2:E100000,\"227\",'Accounting Data'!H2:H100000,{\"0??\",\"1??\",\"2??\",\"3??\",\"4??\",\"5??\",\"6??\"},'Accounting Data'!I2:I100000,\"21??\",'Accounting Data'!J2:J100000,\"681?\"))+SUM(SUMIFS('Accounting Data'!C2:C100000,'Accounting Data'!E2:E100000,\"227\",'Accounting Data'!H2:H100000,{\"0??\",\"1??\",\"2??\",\"3??\",\"4??\",\"5??\",\"6??\"},'Accounting Data'!I2:I100000,\"22??\",'Accounting Data'!J2:J100000,\"681?\"))+SUM(SUMIFS('Accounting Data'!C2:C100000,'Accounting Data'!E2:E100000,\"228\",'Accounting Data'!H2:H100000,{\"0??\",\"1??\",\"2??\",\"3??\",\"4??\",\"5??\",\"6??\"},'Accounting Data'!I2:I100000,\"21??\",'Accounting Data'!J2:J100000,\"681?\"))+SUM(SUMIFS('Accounting Data'!C2:C100000,'Accounting Data'!E2:E100000,\"228\",'Accounting Data'!H2:H100000,{\"0??\",\"1??\",\"2??\",\"3??\",\"4??\",\"5??\",\"6??\"},'Accounting Data'!I2:I100000,\"22??\",'Accounting Data'!J2:J100000,\"681?\"))","v":{"v":0,"d":"0 "}},null,null,{"$f":"SUM(SUMIFS('Accounting Data'!C2:C100000,'Accounting Data'!E2:E100000,\"COVID\",'Accounting Data'!H2:H100000,{\"0??\",\"1??\",\"2??\",\"3??\",\"4??\",\"5??\",\"6??\"},'Accounting Data'!I2:I100000,\"21??\",'Accounting Data'!J2:J100000,\"689?\"))+SUM(SUMIFS('Accounting Data'!C2:C100000,'Accounting Data'!E2:E100000,\"COVID\",'Accounting Data'!H2:H100000,{\"0??\",\"1??\",\"2??\",\"3??\",\"4??\",\"5??\",\"6??\"},'Accounting Data'!I2:I100000,\"22??\",'Accounting Data'!J2:J100000,\"689?\"))+SUM(SUMIFS('Accounting Data'!C2:C100000,'Accounting Data'!E2:E100000,\"227\",'Accounting Data'!H2:H100000,{\"0??\",\"1??\",\"2??\",\"3??\",\"4??\",\"5??\",\"6??\"},'Accounting Data'!I2:I100000,\"21??\",'Accounting Data'!J2:J100000,\"689?\"))+SUM(SUMIFS('Accounting Data'!C2:C100000,'Accounting Data'!E2:E100000,\"227\",'Accounting Data'!H2:H100000,{\"0??\",\"1??\",\"2??\",\"3??\",\"4??\",\"5??\",\"6??\"},'Accounting Data'!I2:I100000,\"22??\",'Accounting Data'!J2:J100000,\"689?\"))+SUM(SUMIFS('Accounting Data'!C2:C100000,'Accounting Data'!E2:E100000,\"228\",'Accounting Data'!H2:H100000,{\"0??\",\"1??\",\"2??\",\"3??\",\"4??\",\"5??\",\"6??\"},'Accounting Data'!I2:I100000,\"21??\",'Accounting Data'!J2:J100000,\"689?\"))+SUM(SUMIFS('Accounting Data'!C2:C100000,'Accounting Data'!E2:E100000,\"228\",'Accounting Data'!H2:H100000,{\"0??\",\"1??\",\"2??\",\"3??\",\"4??\",\"5??\",\"6??\"},'Accounting Data'!I2:I100000,\"22??\",'Accounting Data'!J2:J100000,\"689?\"))","v":{"v":0,"d":"0 "}},{"$f":"SUM(SUMIFS('Accounting Data'!C2:C100000,'Accounting Data'!E2:E100000,\"COVID\",'Accounting Data'!H2:H100000,{\"0??\",\"1??\",\"2??\",\"3??\",\"4??\",\"5??\",\"6??\"},'Accounting Data'!I2:I100000,\"21??\",'Accounting Data'!J2:J100000,\"68??\"))+SUM(SUMIFS('Accounting Data'!C2:C100000,'Accounting Data'!E2:E100000,\"COVID\",'Accounting Data'!H2:H100000,{\"0??\",\"1??\",\"2??\",\"3??\",\"4??\",\"5??\",\"6??\"},'Accounting Data'!I2:I100000,\"22??\",'Accounting Data'!J2:J100000,\"68??\"))+SUM(SUMIFS('Accounting Data'!C2:C100000,'Accounting Data'!E2:E100000,\"227\",'Accounting Data'!H2:H100000,{\"0??\",\"1??\",\"2??\",\"3??\",\"4??\",\"5??\",\"6??\"},'Accounting Data'!I2:I100000,\"21??\",'Accounting Data'!J2:J100000,\"68??\"))+SUM(SUMIFS('Accounting Data'!C2:C100000,'Accounting Data'!E2:E100000,\"227\",'Accounting Data'!H2:H100000,{\"0??\",\"1??\",\"2??\",\"3??\",\"4??\",\"5??\",\"6??\"},'Accounting Data'!I2:I100000,\"22??\",'Accounting Data'!J2:J100000,\"68??\"))+SUM(SUMIFS('Accounting Data'!C2:C100000,'Accounting Data'!E2:E100000,\"228\",'Accounting Data'!H2:H100000,{\"0??\",\"1??\",\"2??\",\"3??\",\"4??\",\"5??\",\"6??\"},'Accounting Data'!I2:I100000,\"21??\",'Accounting Data'!J2:J100000,\"68??\"))+SUM(SUMIFS('Accounting Data'!C2:C100000,'Accounting Data'!E2:E100000,\"228\",'Accounting Data'!H2:H100000,{\"0??\",\"1??\",\"2??\",\"3??\",\"4??\",\"5??\",\"6??\"},'Accounting Data'!I2:I100000,\"22??\",'Accounting Data'!J2:J100000,\"68??\"))-H11-K11","v":{"v":0,"d":"0 "}},{"$f":"(SUM(SUMIFS('Accounting Data'!C2:C100000,'Accounting Data'!E2:E100000,\"COVID\",'Accounting Data'!H2:H100000,{\"7??\",\"8??\",\"9??\"},'Accounting Data'!I2:I100000,\"21??\",'Accounting Data'!J2:J100000,\"6???\"))-SUM(SUMIFS('Accounting Data'!C2:C100000,'Accounting Data'!E2:E100000,\"COVID\",'Accounting Data'!H2:H100000,{\"7??\",\"8??\",\"9??\"},'Accounting Data'!I2:I100000,\"21??\",'Accounting Data'!J2:J100000,\"69??\")))+(SUM(SUMIFS('Accounting Data'!C2:C100000,'Accounting Data'!E2:E100000,\"COVID\",'Accounting Data'!H2:H100000,{\"7??\",\"8??\",\"9??\"},'Accounting Data'!I2:I100000,\"22??\",'Accounting Data'!J2:J100000,\"6???\"))-SUM(SUMIFS('Accounting Data'!C2:C100000,'Accounting Data'!E2:E100000,\"COVID\",'Accounting Data'!H2:H100000,{\"7??\",\"8??\",\"9??\"},'Accounting Data'!I2:I100000,\"22??\",'Accounting Data'!J2:J100000,\"69??\")))+(SUM(SUMIFS('Accounting Data'!C2:C100000,'Accounting Data'!E2:E100000,\"227\",'Accounting Data'!H2:H100000,{\"7??\",\"8??\",\"9??\"},'Accounting Data'!I2:I100000,\"21??\",'Accounting Data'!J2:J100000,\"6???\"))-SUM(SUMIFS('Accounting Data'!C2:C100000,'Accounting Data'!E2:E100000,\"227\",'Accounting Data'!H2:H100000,{\"7??\",\"8??\",\"9??\"},'Accounting Data'!I2:I100000,\"21??\",'Accounting Data'!J2:J100000,\"69??\")))+(SUM(SUMIFS('Accounting Data'!C2:C100000,'Accounting Data'!E2:E100000,\"227\",'Accounting Data'!H2:H100000,{\"7??\",\"8??\",\"9??\"},'Accounting Data'!I2:I100000,\"22??\",'Accounting Data'!J2:J100000,\"6???\"))-SUM(SUMIFS('Accounting Data'!C2:C100000,'Accounting Data'!E2:E100000,\"227\",'Accounting Data'!H2:H100000,{\"7??\",\"8??\",\"9??\"},'Accounting Data'!I2:I100000,\"22??\",'Accounting Data'!J2:J100000,\"69??\")))+(SUM(SUMIFS('Accounting Data'!C2:C100000,'Accounting Data'!E2:E100000,\"228\",'Accounting Data'!H2:H100000,{\"7??\",\"8??\",\"9??\"},'Accounting Data'!I2:I100000,\"21??\",'Accounting Data'!J2:J100000,\"6???\"))-SUM(SUMIFS('Accounting Data'!C2:C100000,'Accounting Data'!E2:E100000,\"228\",'Accounting Data'!H2:H100000,{\"7??\",\"8??\",\"9??\"},'Accounting Data'!I2:I100000,\"21??\",'Accounting Data'!J2:J100000,\"69??\")))+(SUM(SUMIFS('Accounting Data'!C2:C100000,'Accounting Data'!E2:E100000,\"228\",'Accounting Data'!H2:H100000,{\"7??\",\"8??\",\"9??\"},'Accounting Data'!I2:I100000,\"22??\",'Accounting Data'!J2:J100000,\"6???\"))-SUM(SUMIFS('Accounting Data'!C2:C100000,'Accounting Data'!E2:E100000,\"228\",'Accounting Data'!H2:H100000,{\"7??\",\"8??\",\"9??\"},'Accounting Data'!I2:I100000,\"22??\",'Accounting Data'!J2:J100000,\"69??\")))","v":{"v":0,"d":"0 "}},{"$f":"ROUND(SUM(C11:M11),0)","v":{"v":0,"d":"0 "}},{"$nulls":35},{"$f":"SUM(SUMIFS('Accounting Data'!C2:C100000,'Accounting Data'!E2:E100000,\"COVID\",'Accounting Data'!H2:H100000,{\"0??\",\"1??\",\"2??\",\"3??\",\"4??\",\"5??\",\"6??\"},'Accounting Data'!I2:I100000,\"21??\",'Accounting Data'!J2:J100000,\"63??\"))+SUM(SUMIFS('Accounting Data'!C2:C100000,'Accounting Data'!E2:E100000,\"COVID\",'Accounting Data'!H2:H100000,{\"0??\",\"1??\",\"2??\",\"3??\",\"4??\",\"5??\",\"6??\"},'Accounting Data'!I2:I100000,\"21??\",'Accounting Data'!J2:J100000,\"64??\"))+SUM(SUMIFS('Accounting Data'!C2:C100000,'Accounting Data'!E2:E100000,\"COVID\",'Accounting Data'!H2:H100000,{\"0??\",\"1??\",\"2??\",\"3??\",\"4??\",\"5??\",\"6??\"},'Accounting Data'!I2:I100000,\"21??\",'Accounting Data'!J2:J100000,\"65??\"))+SUM(SUMIFS('Accounting Data'!C2:C100000,'Accounting Data'!E2:E100000,\"227\",'Accounting Data'!H2:H100000,{\"0??\",\"1??\",\"2??\",\"3??\",\"4??\",\"5??\",\"6??\"},'Accounting Data'!I2:I100000,\"21??\",'Accounting Data'!J2:J100000,\"63??\"))+SUM(SUMIFS('Accounting Data'!C2:C100000,'Accounting Data'!E2:E100000,\"227\",'Accounting Data'!H2:H100000,{\"0??\",\"1??\",\"2??\",\"3??\",\"4??\",\"5??\",\"6??\"},'Accounting Data'!I2:I100000,\"21??\",'Accounting Data'!J2:J100000,\"64??\"))+SUM(SUMIFS('Accounting Data'!C2:C100000,'Accounting Data'!E2:E100000,\"227\",'Accounting Data'!H2:H100000,{\"0??\",\"1??\",\"2??\",\"3??\",\"4??\",\"5??\",\"6??\"},'Accounting Data'!I2:I100000,\"21??\",'Accounting Data'!J2:J100000,\"65??\"))+SUM(SUMIFS('Accounting Data'!C2:C100000,'Accounting Data'!E2:E100000,\"228\",'Accounting Data'!H2:H100000,{\"0??\",\"1??\",\"2??\",\"3??\",\"4??\",\"5??\",\"6??\"},'Accounting Data'!I2:I100000,\"21??\",'Accounting Data'!J2:J100000,\"63??\"))+SUM(SUMIFS('Accounting Data'!C2:C100000,'Accounting Data'!E2:E100000,\"228\",'Accounting Data'!H2:H100000,{\"0??\",\"1??\",\"2??\",\"3??\",\"4??\",\"5??\",\"6??\"},'Accounting Data'!I2:I100000,\"21??\",'Accounting Data'!J2:J100000,\"64??\"))+SUM(SUMIFS('Accounting Data'!C2:C100000,'Accounting Data'!E2:E100000,\"228\",'Accounting Data'!H2:H100000,{\"0??\",\"1??\",\"2??\",\"3??\",\"4??\",\"5??\",\"6??\"},'Accounting Data'!I2:I100000,\"21??\",'Accounting Data'!J2:J100000,\"65??\"))","v":0},{"$f":"SUM(SUMIFS('Accounting Data'!C2:C100000,'Accounting Data'!E2:E100000,\"COVID\",'Accounting Data'!H2:H100000,{\"0??\",\"1??\",\"2??\",\"3??\",\"4??\",\"5??\",\"6??\"},'Accounting Data'!I2:I100000,\"22??\",'Accounting Data'!J2:J100000,\"63??\"))+SUM(SUMIFS('Accounting Data'!C2:C100000,'Accounting Data'!E2:E100000,\"COVID\",'Accounting Data'!H2:H100000,{\"0??\",\"1??\",\"2??\",\"3??\",\"4??\",\"5??\",\"6??\"},'Accounting Data'!I2:I100000,\"22??\",'Accounting Data'!J2:J100000,\"64??\"))+SUM(SUMIFS('Accounting Data'!C2:C100000,'Accounting Data'!E2:E100000,\"COVID\",'Accounting Data'!H2:H100000,{\"0??\",\"1??\",\"2??\",\"3??\",\"4??\",\"5??\",\"6??\"},'Accounting Data'!I2:I100000,\"22??\",'Accounting Data'!J2:J100000,\"65??\"))+SUM(SUMIFS('Accounting Data'!C2:C100000,'Accounting Data'!E2:E100000,\"227\",'Accounting Data'!H2:H100000,{\"0??\",\"1??\",\"2??\",\"3??\",\"4??\",\"5??\",\"6??\"},'Accounting Data'!I2:I100000,\"22??\",'Accounting Data'!J2:J100000,\"63??\"))+SUM(SUMIFS('Accounting Data'!C2:C100000,'Accounting Data'!E2:E100000,\"227\",'Accounting Data'!H2:H100000,{\"0??\",\"1??\",\"2??\",\"3??\",\"4??\",\"5??\",\"6??\"},'Accounting Data'!I2:I100000,\"22??\",'Accounting Data'!J2:J100000,\"64??\"))+SUM(SUMIFS('Accounting Data'!C2:C100000,'Accounting Data'!E2:E100000,\"227\",'Accounting Data'!H2:H100000,{\"0??\",\"1??\",\"2??\",\"3??\",\"4??\",\"5??\",\"6??\"},'Accounting Data'!I2:I100000,\"22??\",'Accounting Data'!J2:J100000,\"65??\"))+SUM(SUMIFS('Accounting Data'!C2:C100000,'Accounting Data'!E2:E100000,\"228\",'Accounting Data'!H2:H100000,{\"0??\",\"1??\",\"2??\",\"3??\",\"4??\",\"5??\",\"6??\"},'Accounting Data'!I2:I100000,\"22??\",'Accounting Data'!J2:J100000,\"63??\"))+SUM(SUMIFS('Accounting Data'!C2:C100000,'Accounting Data'!E2:E100000,\"228\",'Accounting Data'!H2:H100000,{\"0??\",\"1??\",\"2??\",\"3??\",\"4??\",\"5??\",\"6??\"},'Accounting Data'!I2:I100000,\"22??\",'Accounting Data'!J2:J100000,\"64??\"))+SUM(SUMIFS('Accounting Data'!C2:C100000,'Accounting Data'!E2:E100000,\"228\",'Accounting Data'!H2:H100000,{\"0??\",\"1??\",\"2??\",\"3??\",\"4??\",\"5??\",\"6??\"},'Accounting Data'!I2:I100000,\"22??\",'Accounting Data'!J2:J100000,\"65??\"))","v":0}]
["2300, 2500, 2900 Other Support Services","3.",{"$f":"SUM(SUMIFS('Accounting Data'!C2:C100000,'Accounting Data'!E2:E100000,\"COVID\",'Accounting Data'!H2:H100000,{\"0??\",\"1??\",\"2??\",\"3??\",\"4??\",\"5??\",\"6??\"},'Accounting Data'!I2:I100000,\"23??\",'Accounting Data'!J2:J100000,\"61??\"))+SUM(SUMIFS('Accounting Data'!C2:C100000,'Accounting Data'!E2:E100000,\"COVID\",'Accounting Data'!H2:H100000,{\"0??\",\"1??\",\"2??\",\"3??\",\"4??\",\"5??\",\"6??\"},'Accounting Data'!I2:I100000,\"25??\",'Accounting Data'!J2:J100000,\"61??\"))+SUM(SUMIFS('Accounting Data'!C2:C100000,'Accounting Data'!E2:E100000,\"COVID\",'Accounting Data'!H2:H100000,{\"0??\",\"1??\",\"2??\",\"3??\",\"4??\",\"5??\",\"6??\"},'Accounting Data'!I2:I100000,\"29??\",'Accounting Data'!J2:J100000,\"61??\"))+SUM(SUMIFS('Accounting Data'!C2:C100000,'Accounting Data'!E2:E100000,\"227\",'Accounting Data'!H2:H100000,{\"0??\",\"1??\",\"2??\",\"3??\",\"4??\",\"5??\",\"6??\"},'Accounting Data'!I2:I100000,\"23??\",'Accounting Data'!J2:J100000,\"61??\"))+SUM(SUMIFS('Accounting Data'!C2:C100000,'Accounting Data'!E2:E100000,\"227\",'Accounting Data'!H2:H100000,{\"0??\",\"1??\",\"2??\",\"3??\",\"4??\",\"5??\",\"6??\"},'Accounting Data'!I2:I100000,\"25??\",'Accounting Data'!J2:J100000,\"61??\"))+SUM(SUMIFS('Accounting Data'!C2:C100000,'Accounting Data'!E2:E100000,\"227\",'Accounting Data'!H2:H100000,{\"0??\",\"1??\",\"2??\",\"3??\",\"4??\",\"5??\",\"6??\"},'Accounting Data'!I2:I100000,\"29??\",'Accounting Data'!J2:J100000,\"61??\"))+SUM(SUMIFS('Accounting Data'!C2:C100000,'Accounting Data'!E2:E100000,\"228\",'Accounting Data'!H2:H100000,{\"0??\",\"1??\",\"2??\",\"3??\",\"4??\",\"5??\",\"6??\"},'Accounting Data'!I2:I100000,\"23??\",'Accounting Data'!J2:J100000,\"61??\"))+SUM(SUMIFS('Accounting Data'!C2:C100000,'Accounting Data'!E2:E100000,\"228\",'Accounting Data'!H2:H100000,{\"0??\",\"1??\",\"2??\",\"3??\",\"4??\",\"5??\",\"6??\"},'Accounting Data'!I2:I100000,\"25??\",'Accounting Data'!J2:J100000,\"61??\"))+SUM(SUMIFS('Accounting Data'!C2:C100000,'Accounting Data'!E2:E100000,\"228\",'Accounting Data'!H2:H100000,{\"0??\",\"1??\",\"2??\",\"3??\",\"4??\",\"5??\",\"6??\"},'Accounting Data'!I2:I100000,\"29??\",'Accounting Data'!J2:J100000,\"61??\"))","v":{"v":0,"d":"0 "}},{"$f":"SUM(SUMIFS('Accounting Data'!C2:C100000,'Accounting Data'!E2:E100000,\"COVID\",'Accounting Data'!H2:H100000,{\"0??\",\"1??\",\"2??\",\"3??\",\"4??\",\"5??\",\"6??\"},'Accounting Data'!I2:I100000,\"23??\",'Accounting Data'!J2:J100000,\"62??\"))+SUM(SUMIFS('Accounting Data'!C2:C100000,'Accounting Data'!E2:E100000,\"COVID\",'Accounting Data'!H2:H100000,{\"0??\",\"1??\",\"2??\",\"3??\",\"4??\",\"5??\",\"6??\"},'Accounting Data'!I2:I100000,\"25??\",'Accounting Data'!J2:J100000,\"62??\"))+SUM(SUMIFS('Accounting Data'!C2:C100000,'Accounting Data'!E2:E100000,\"COVID\",'Accounting Data'!H2:H100000,{\"0??\",\"1??\",\"2??\",\"3??\",\"4??\",\"5??\",\"6??\"},'Accounting Data'!I2:I100000,\"29??\",'Accounting Data'!J2:J100000,\"62??\"))+SUM(SUMIFS('Accounting Data'!C2:C100000,'Accounting Data'!E2:E100000,\"227\",'Accounting Data'!H2:H100000,{\"0??\",\"1??\",\"2??\",\"3??\",\"4??\",\"5??\",\"6??\"},'Accounting Data'!I2:I100000,\"23??\",'Accounting Data'!J2:J100000,\"62??\"))+SUM(SUMIFS('Accounting Data'!C2:C100000,'Accounting Data'!E2:E100000,\"227\",'Accounting Data'!H2:H100000,{\"0??\",\"1??\",\"2??\",\"3??\",\"4??\",\"5??\",\"6??\"},'Accounting Data'!I2:I100000,\"25??\",'Accounting Data'!J2:J100000,\"62??\"))+SUM(SUMIFS('Accounting Data'!C2:C100000,'Accounting Data'!E2:E100000,\"227\",'Accounting Data'!H2:H100000,{\"0??\",\"1??\",\"2??\",\"3??\",\"4??\",\"5??\",\"6??\"},'Accounting Data'!I2:I100000,\"29??\",'Accounting Data'!J2:J100000,\"62??\"))+SUM(SUMIFS('Accounting Data'!C2:C100000,'Accounting Data'!E2:E100000,\"228\",'Accounting Data'!H2:H100000,{\"0??\",\"1??\",\"2??\",\"3??\",\"4??\",\"5??\",\"6??\"},'Accounting Data'!I2:I100000,\"23??\",'Accounting Data'!J2:J100000,\"62??\"))+SUM(SUMIFS('Accounting Data'!C2:C100000,'Accounting Data'!E2:E100000,\"228\",'Accounting Data'!H2:H100000,{\"0??\",\"1??\",\"2??\",\"3??\",\"4??\",\"5??\",\"6??\"},'Accounting Data'!I2:I100000,\"25??\",'Accounting Data'!J2:J100000,\"62??\"))+SUM(SUMIFS('Accounting Data'!C2:C100000,'Accounting Data'!E2:E100000,\"228\",'Accounting Data'!H2:H100000,{\"0??\",\"1??\",\"2??\",\"3??\",\"4??\",\"5??\",\"6??\"},'Accounting Data'!I2:I100000,\"29??\",'Accounting Data'!J2:J100000,\"62??\"))","v":{"v":0,"d":"0 "}},{"$f":"AX12+AY12+AZ12","v":{"v":0,"d":"0 "}},{"$f":"SUM(SUMIFS('Accounting Data'!C2:C100000,'Accounting Data'!E2:E100000,\"COVID\",'Accounting Data'!H2:H100000,{\"0??\",\"1??\",\"2??\",\"3??\",\"4??\",\"5??\",\"6??\"},'Accounting Data'!I2:I100000,\"23??\",'Accounting Data'!J2:J100000,\"66??\"))+SUM(SUMIFS('Accounting Data'!C2:C100000,'Accounting Data'!E2:E100000,\"COVID\",'Accounting Data'!H2:H100000,{\"0??\",\"1??\",\"2??\",\"3??\",\"4??\",\"5??\",\"6??\"},'Accounting Data'!I2:I100000,\"25??\",'Accounting Data'!J2:J100000,\"66??\"))+SUM(SUMIFS('Accounting Data'!C2:C100000,'Accounting Data'!E2:E100000,\"COVID\",'Accounting Data'!H2:H100000,{\"0??\",\"1??\",\"2??\",\"3??\",\"4??\",\"5??\",\"6??\"},'Accounting Data'!I2:I100000,\"29??\",'Accounting Data'!J2:J100000,\"66??\"))+SUM(SUMIFS('Accounting Data'!C2:C100000,'Accounting Data'!E2:E100000,\"227\",'Accounting Data'!H2:H100000,{\"0??\",\"1??\",\"2??\",\"3??\",\"4??\",\"5??\",\"6??\"},'Accounting Data'!I2:I100000,\"23??\",'Accounting Data'!J2:J100000,\"66??\"))+SUM(SUMIFS('Accounting Data'!C2:C100000,'Accounting Data'!E2:E100000,\"227\",'Accounting Data'!H2:H100000,{\"0??\",\"1??\",\"2??\",\"3??\",\"4??\",\"5??\",\"6??\"},'Accounting Data'!I2:I100000,\"25??\",'Accounting Data'!J2:J100000,\"66??\"))+SUM(SUMIFS('Accounting Data'!C2:C100000,'Accounting Data'!E2:E100000,\"227\",'Accounting Data'!H2:H100000,{\"0??\",\"1??\",\"2??\",\"3??\",\"4??\",\"5??\",\"6??\"},'Accounting Data'!I2:I100000,\"29??\",'Accounting Data'!J2:J100000,\"66??\"))+SUM(SUMIFS('Accounting Data'!C2:C100000,'Accounting Data'!E2:E100000,\"228\",'Accounting Data'!H2:H100000,{\"0??\",\"1??\",\"2??\",\"3??\",\"4??\",\"5??\",\"6??\"},'Accounting Data'!I2:I100000,\"23??\",'Accounting Data'!J2:J100000,\"66??\"))+SUM(SUMIFS('Accounting Data'!C2:C100000,'Accounting Data'!E2:E100000,\"228\",'Accounting Data'!H2:H100000,{\"0??\",\"1??\",\"2??\",\"3??\",\"4??\",\"5??\",\"6??\"},'Accounting Data'!I2:I100000,\"25??\",'Accounting Data'!J2:J100000,\"66??\"))+SUM(SUMIFS('Accounting Data'!C2:C100000,'Accounting Data'!E2:E100000,\"228\",'Accounting Data'!H2:H100000,{\"0??\",\"1??\",\"2??\",\"3??\",\"4??\",\"5??\",\"6??\"},'Accounting Data'!I2:I100000,\"29??\",'Accounting Data'!J2:J100000,\"66??\"))","v":{"v":0,"d":"0 "}},{"$f":"SUM(SUMIFS('Accounting Data'!C2:C100000,'Accounting Data'!E2:E100000,\"COVID\",'Accounting Data'!H2:H100000,{\"0??\",\"1??\",\"2??\",\"3??\",\"4??\",\"5??\",\"6??\"},'Accounting Data'!I2:I100000,\"23??\",'Accounting Data'!J2:J100000,\"67??\"))+SUM(SUMIFS('Accounting Data'!C2:C100000,'Accounting Data'!E2:E100000,\"COVID\",'Accounting Data'!H2:H100000,{\"0??\",\"1??\",\"2??\",\"3??\",\"4??\",\"5??\",\"6??\"},'Accounting Data'!I2:I100000,\"25??\",'Accounting Data'!J2:J100000,\"67??\"))+SUM(SUMIFS('Accounting Data'!C2:C100000,'Accounting Data'!E2:E100000,\"COVID\",'Accounting Data'!H2:H100000,{\"0??\",\"1??\",\"2??\",\"3??\",\"4??\",\"5??\",\"6??\"},'Accounting Data'!I2:I100000,\"29??\",'Accounting Data'!J2:J100000,\"67??\"))+SUM(SUMIFS('Accounting Data'!C2:C100000,'Accounting Data'!E2:E100000,\"227\",'Accounting Data'!H2:H100000,{\"0??\",\"1??\",\"2??\",\"3??\",\"4??\",\"5??\",\"6??\"},'Accounting Data'!I2:I100000,\"23??\",'Accounting Data'!J2:J100000,\"67??\"))+SUM(SUMIFS('Accounting Data'!C2:C100000,'Accounting Data'!E2:E100000,\"227\",'Accounting Data'!H2:H100000,{\"0??\",\"1??\",\"2??\",\"3??\",\"4??\",\"5??\",\"6??\"},'Accounting Data'!I2:I100000,\"25??\",'Accounting Data'!J2:J100000,\"67??\"))+SUM(SUMIFS('Accounting Data'!C2:C100000,'Accounting Data'!E2:E100000,\"227\",'Accounting Data'!H2:H100000,{\"0??\",\"1??\",\"2??\",\"3??\",\"4??\",\"5??\",\"6??\"},'Accounting Data'!I2:I100000,\"29??\",'Accounting Data'!J2:J100000,\"67??\"))+SUM(SUMIFS('Accounting Data'!C2:C100000,'Accounting Data'!E2:E100000,\"228\",'Accounting Data'!H2:H100000,{\"0??\",\"1??\",\"2??\",\"3??\",\"4??\",\"5??\",\"6??\"},'Accounting Data'!I2:I100000,\"23??\",'Accounting Data'!J2:J100000,\"67??\"))+SUM(SUMIFS('Accounting Data'!C2:C100000,'Accounting Data'!E2:E100000,\"228\",'Accounting Data'!H2:H100000,{\"0??\",\"1??\",\"2??\",\"3??\",\"4??\",\"5??\",\"6??\"},'Accounting Data'!I2:I100000,\"25??\",'Accounting Data'!J2:J100000,\"67??\"))+SUM(SUMIFS('Accounting Data'!C2:C100000,'Accounting Data'!E2:E100000,\"228\",'Accounting Data'!H2:H100000,{\"0??\",\"1??\",\"2??\",\"3??\",\"4??\",\"5??\",\"6??\"},'Accounting Data'!I2:I100000,\"29??\",'Accounting Data'!J2:J100000,\"67??\"))","v":{"v":0,"d":"0 "}},{"$f":"SUM(SUMIFS('Accounting Data'!C2:C100000,'Accounting Data'!E2:E100000,\"COVID\",'Accounting Data'!H2:H100000,{\"0??\",\"1??\",\"2??\",\"3??\",\"4??\",\"5??\",\"6??\"},'Accounting Data'!I2:I100000,\"23??\",'Accounting Data'!J2:J100000,\"681?\"))+SUM(SUMIFS('Accounting Data'!C2:C100000,'Accounting Data'!E2:E100000,\"COVID\",'Accounting Data'!H2:H100000,{\"0??\",\"1??\",\"2??\",\"3??\",\"4??\",\"5??\",\"6??\"},'Accounting Data'!I2:I100000,\"25??\",'Accounting Data'!J2:J100000,\"681?\"))+SUM(SUMIFS('Accounting Data'!C2:C100000,'Accounting Data'!E2:E100000,\"COVID\",'Accounting Data'!H2:H100000,{\"0??\",\"1??\",\"2??\",\"3??\",\"4??\",\"5??\",\"6??\"},'Accounting Data'!I2:I100000,\"29??\",'Accounting Data'!J2:J100000,\"681?\"))+SUM(SUMIFS('Accounting Data'!C2:C100000,'Accounting Data'!E2:E100000,\"227\",'Accounting Data'!H2:H100000,{\"0??\",\"1??\",\"2??\",\"3??\",\"4??\",\"5??\",\"6??\"},'Accounting Data'!I2:I100000,\"23??\",'Accounting Data'!J2:J100000,\"681?\"))+SUM(SUMIFS('Accounting Data'!C2:C100000,'Accounting Data'!E2:E100000,\"227\",'Accounting Data'!H2:H100000,{\"0??\",\"1??\",\"2??\",\"3??\",\"4??\",\"5??\",\"6??\"},'Accounting Data'!I2:I100000,\"25??\",'Accounting Data'!J2:J100000,\"681?\"))+SUM(SUMIFS('Accounting Data'!C2:C100000,'Accounting Data'!E2:E100000,\"227\",'Accounting Data'!H2:H100000,{\"0??\",\"1??\",\"2??\",\"3??\",\"4??\",\"5??\",\"6??\"},'Accounting Data'!I2:I100000,\"29??\",'Accounting Data'!J2:J100000,\"681?\"))+SUM(SUMIFS('Accounting Data'!C2:C100000,'Accounting Data'!E2:E100000,\"228\",'Accounting Data'!H2:H100000,{\"0??\",\"1??\",\"2??\",\"3??\",\"4??\",\"5??\",\"6??\"},'Accounting Data'!I2:I100000,\"23??\",'Accounting Data'!J2:J100000,\"681?\"))+SUM(SUMIFS('Accounting Data'!C2:C100000,'Accounting Data'!E2:E100000,\"228\",'Accounting Data'!H2:H100000,{\"0??\",\"1??\",\"2??\",\"3??\",\"4??\",\"5??\",\"6??\"},'Accounting Data'!I2:I100000,\"25??\",'Accounting Data'!J2:J100000,\"681?\"))+SUM(SUMIFS('Accounting Data'!C2:C100000,'Accounting Data'!E2:E100000,\"228\",'Accounting Data'!H2:H100000,{\"0??\",\"1??\",\"2??\",\"3??\",\"4??\",\"5??\",\"6??\"},'Accounting Data'!I2:I100000,\"29??\",'Accounting Data'!J2:J100000,\"681?\"))","v":{"v":0,"d":"0 "}},{"$f":"SUM(SUMIFS('Accounting Data'!C2:C100000,'Accounting Data'!E2:E100000,\"COVID\",'Accounting Data'!H2:H100000,{\"0??\",\"1??\",\"2??\",\"3??\",\"4??\",\"5??\",\"6??\"},'Accounting Data'!I2:I100000,\"23??\",'Accounting Data'!J2:J100000,\"682?\"))+SUM(SUMIFS('Accounting Data'!C2:C100000,'Accounting Data'!E2:E100000,\"COVID\",'Accounting Data'!H2:H100000,{\"0??\",\"1??\",\"2??\",\"3??\",\"4??\",\"5??\",\"6??\"},'Accounting Data'!I2:I100000,\"25??\",'Accounting Data'!J2:J100000,\"682?\"))+SUM(SUMIFS('Accounting Data'!C2:C100000,'Accounting Data'!E2:E100000,\"COVID\",'Accounting Data'!H2:H100000,{\"0??\",\"1??\",\"2??\",\"3??\",\"4??\",\"5??\",\"6??\"},'Accounting Data'!I2:I100000,\"29??\",'Accounting Data'!J2:J100000,\"682?\"))+SUM(SUMIFS('Accounting Data'!C2:C100000,'Accounting Data'!E2:E100000,\"227\",'Accounting Data'!H2:H100000,{\"0??\",\"1??\",\"2??\",\"3??\",\"4??\",\"5??\",\"6??\"},'Accounting Data'!I2:I100000,\"23??\",'Accounting Data'!J2:J100000,\"682?\"))+SUM(SUMIFS('Accounting Data'!C2:C100000,'Accounting Data'!E2:E100000,\"227\",'Accounting Data'!H2:H100000,{\"0??\",\"1??\",\"2??\",\"3??\",\"4??\",\"5??\",\"6??\"},'Accounting Data'!I2:I100000,\"25??\",'Accounting Data'!J2:J100000,\"682?\"))+SUM(SUMIFS('Accounting Data'!C2:C100000,'Accounting Data'!E2:E100000,\"227\",'Accounting Data'!H2:H100000,{\"0??\",\"1??\",\"2??\",\"3??\",\"4??\",\"5??\",\"6??\"},'Accounting Data'!I2:I100000,\"29??\",'Accounting Data'!J2:J100000,\"682?\"))+SUM(SUMIFS('Accounting Data'!C2:C100000,'Accounting Data'!E2:E100000,\"228\",'Accounting Data'!H2:H100000,{\"0??\",\"1??\",\"2??\",\"3??\",\"4??\",\"5??\",\"6??\"},'Accounting Data'!I2:I100000,\"23??\",'Accounting Data'!J2:J100000,\"682?\"))+SUM(SUMIFS('Accounting Data'!C2:C100000,'Accounting Data'!E2:E100000,\"228\",'Accounting Data'!H2:H100000,{\"0??\",\"1??\",\"2??\",\"3??\",\"4??\",\"5??\",\"6??\"},'Accounting Data'!I2:I100000,\"25??\",'Accounting Data'!J2:J100000,\"682?\"))+SUM(SUMIFS('Accounting Data'!C2:C100000,'Accounting Data'!E2:E100000,\"228\",'Accounting Data'!H2:H100000,{\"0??\",\"1??\",\"2??\",\"3??\",\"4??\",\"5??\",\"6??\"},'Accounting Data'!I2:I100000,\"29??\",'Accounting Data'!J2:J100000,\"682?\"))","v":{"v":0,"d":"0 "}},{"$f":"SUM(SUMIFS('Accounting Data'!C2:C100000,'Accounting Data'!E2:E100000,\"COVID\",'Accounting Data'!H2:H100000,{\"0??\",\"1??\",\"2??\",\"3??\",\"4??\",\"5??\",\"6??\"},'Accounting Data'!I2:I100000,\"23??\",'Accounting Data'!J2:J100000,\"685?\"))+SUM(SUMIFS('Accounting Data'!C2:C100000,'Accounting Data'!E2:E100000,\"COVID\",'Accounting Data'!H2:H100000,{\"0??\",\"1??\",\"2??\",\"3??\",\"4??\",\"5??\",\"6??\"},'Accounting Data'!I2:I100000,\"25??\",'Accounting Data'!J2:J100000,\"685?\"))+SUM(SUMIFS('Accounting Data'!C2:C100000,'Accounting Data'!E2:E100000,\"COVID\",'Accounting Data'!H2:H100000,{\"0??\",\"1??\",\"2??\",\"3??\",\"4??\",\"5??\",\"6??\"},'Accounting Data'!I2:I100000,\"29??\",'Accounting Data'!J2:J100000,\"685?\"))+SUM(SUMIFS('Accounting Data'!C2:C100000,'Accounting Data'!E2:E100000,\"227\",'Accounting Data'!H2:H100000,{\"0??\",\"1??\",\"2??\",\"3??\",\"4??\",\"5??\",\"6??\"},'Accounting Data'!I2:I100000,\"23??\",'Accounting Data'!J2:J100000,\"685?\"))+SUM(SUMIFS('Accounting Data'!C2:C100000,'Accounting Data'!E2:E100000,\"227\",'Accounting Data'!H2:H100000,{\"0??\",\"1??\",\"2??\",\"3??\",\"4??\",\"5??\",\"6??\"},'Accounting Data'!I2:I100000,\"25??\",'Accounting Data'!J2:J100000,\"685?\"))+SUM(SUMIFS('Accounting Data'!C2:C100000,'Accounting Data'!E2:E100000,\"227\",'Accounting Data'!H2:H100000,{\"0??\",\"1??\",\"2??\",\"3??\",\"4??\",\"5??\",\"6??\"},'Accounting Data'!I2:I100000,\"29??\",'Accounting Data'!J2:J100000,\"685?\"))+SUM(SUMIFS('Accounting Data'!C2:C100000,'Accounting Data'!E2:E100000,\"228\",'Accounting Data'!H2:H100000,{\"0??\",\"1??\",\"2??\",\"3??\",\"4??\",\"5??\",\"6??\"},'Accounting Data'!I2:I100000,\"23??\",'Accounting Data'!J2:J100000,\"685?\"))+SUM(SUMIFS('Accounting Data'!C2:C100000,'Accounting Data'!E2:E100000,\"228\",'Accounting Data'!H2:H100000,{\"0??\",\"1??\",\"2??\",\"3??\",\"4??\",\"5??\",\"6??\"},'Accounting Data'!I2:I100000,\"25??\",'Accounting Data'!J2:J100000,\"685?\"))+SUM(SUMIFS('Accounting Data'!C2:C100000,'Accounting Data'!E2:E100000,\"228\",'Accounting Data'!H2:H100000,{\"0??\",\"1??\",\"2??\",\"3??\",\"4??\",\"5??\",\"6??\"},'Accounting Data'!I2:I100000,\"29??\",'Accounting Data'!J2:J100000,\"685?\"))","v":{"v":0,"d":"0 "}},{"$f":"SUM(SUMIFS('Accounting Data'!C2:C100000,'Accounting Data'!E2:E100000,\"COVID\",'Accounting Data'!H2:H100000,{\"0??\",\"1??\",\"2??\",\"3??\",\"4??\",\"5??\",\"6??\"},'Accounting Data'!I2:I100000,\"23??\",'Accounting Data'!J2:J100000,\"689?\"))+SUM(SUMIFS('Accounting Data'!C2:C100000,'Accounting Data'!E2:E100000,\"COVID\",'Accounting Data'!H2:H100000,{\"0??\",\"1??\",\"2??\",\"3??\",\"4??\",\"5??\",\"6??\"},'Accounting Data'!I2:I100000,\"25??\",'Accounting Data'!J2:J100000,\"689?\"))+SUM(SUMIFS('Accounting Data'!C2:C100000,'Accounting Data'!E2:E100000,\"COVID\",'Accounting Data'!H2:H100000,{\"0??\",\"1??\",\"2??\",\"3??\",\"4??\",\"5??\",\"6??\"},'Accounting Data'!I2:I100000,\"29??\",'Accounting Data'!J2:J100000,\"689?\"))+SUM(SUMIFS('Accounting Data'!C2:C100000,'Accounting Data'!E2:E100000,\"227\",'Accounting Data'!H2:H100000,{\"0??\",\"1??\",\"2??\",\"3??\",\"4??\",\"5??\",\"6??\"},'Accounting Data'!I2:I100000,\"23??\",'Accounting Data'!J2:J100000,\"689?\"))+SUM(SUMIFS('Accounting Data'!C2:C100000,'Accounting Data'!E2:E100000,\"227\",'Accounting Data'!H2:H100000,{\"0??\",\"1??\",\"2??\",\"3??\",\"4??\",\"5??\",\"6??\"},'Accounting Data'!I2:I100000,\"25??\",'Accounting Data'!J2:J100000,\"689?\"))+SUM(SUMIFS('Accounting Data'!C2:C100000,'Accounting Data'!E2:E100000,\"227\",'Accounting Data'!H2:H100000,{\"0??\",\"1??\",\"2??\",\"3??\",\"4??\",\"5??\",\"6??\"},'Accounting Data'!I2:I100000,\"29??\",'Accounting Data'!J2:J100000,\"689?\"))+SUM(SUMIFS('Accounting Data'!C2:C100000,'Accounting Data'!E2:E100000,\"228\",'Accounting Data'!H2:H100000,{\"0??\",\"1??\",\"2??\",\"3??\",\"4??\",\"5??\",\"6??\"},'Accounting Data'!I2:I100000,\"23??\",'Accounting Data'!J2:J100000,\"689?\"))+SUM(SUMIFS('Accounting Data'!C2:C100000,'Accounting Data'!E2:E100000,\"228\",'Accounting Data'!H2:H100000,{\"0??\",\"1??\",\"2??\",\"3??\",\"4??\",\"5??\",\"6??\"},'Accounting Data'!I2:I100000,\"25??\",'Accounting Data'!J2:J100000,\"689?\"))+SUM(SUMIFS('Accounting Data'!C2:C100000,'Accounting Data'!E2:E100000,\"228\",'Accounting Data'!H2:H100000,{\"0??\",\"1??\",\"2??\",\"3??\",\"4??\",\"5??\",\"6??\"},'Accounting Data'!I2:I100000,\"29??\",'Accounting Data'!J2:J100000,\"689?\"))","v":{"v":0,"d":"0 "}},{"$f":"SUM(SUMIFS('Accounting Data'!C2:C100000,'Accounting Data'!E2:E100000,\"COVID\",'Accounting Data'!H2:H100000,{\"0??\",\"1??\",\"2??\",\"3??\",\"4??\",\"5??\",\"6??\"},'Accounting Data'!I2:I100000,\"23??\",'Accounting Data'!J2:J100000,\"68??\"))+SUM(SUMIFS('Accounting Data'!C2:C100000,'Accounting Data'!E2:E100000,\"COVID\",'Accounting Data'!H2:H100000,{\"0??\",\"1??\",\"2??\",\"3??\",\"4??\",\"5??\",\"6??\"},'Accounting Data'!I2:I100000,\"25??\",'Accounting Data'!J2:J100000,\"68??\"))+SUM(SUMIFS('Accounting Data'!C2:C100000,'Accounting Data'!E2:E100000,\"COVID\",'Accounting Data'!H2:H100000,{\"0??\",\"1??\",\"2??\",\"3??\",\"4??\",\"5??\",\"6??\"},'Accounting Data'!I2:I100000,\"29??\",'Accounting Data'!J2:J100000,\"68??\"))+SUM(SUMIFS('Accounting Data'!C2:C100000,'Accounting Data'!E2:E100000,\"227\",'Accounting Data'!H2:H100000,{\"0??\",\"1??\",\"2??\",\"3??\",\"4??\",\"5??\",\"6??\"},'Accounting Data'!I2:I100000,\"23??\",'Accounting Data'!J2:J100000,\"68??\"))+SUM(SUMIFS('Accounting Data'!C2:C100000,'Accounting Data'!E2:E100000,\"227\",'Accounting Data'!H2:H100000,{\"0??\",\"1??\",\"2??\",\"3??\",\"4??\",\"5??\",\"6??\"},'Accounting Data'!I2:I100000,\"25??\",'Accounting Data'!J2:J100000,\"68??\"))+SUM(SUMIFS('Accounting Data'!C2:C100000,'Accounting Data'!E2:E100000,\"227\",'Accounting Data'!H2:H100000,{\"0??\",\"1??\",\"2??\",\"3??\",\"4??\",\"5??\",\"6??\"},'Accounting Data'!I2:I100000,\"29??\",'Accounting Data'!J2:J100000,\"68??\"))+SUM(SUMIFS('Accounting Data'!C2:C100000,'Accounting Data'!E2:E100000,\"228\",'Accounting Data'!H2:H100000,{\"0??\",\"1??\",\"2??\",\"3??\",\"4??\",\"5??\",\"6??\"},'Accounting Data'!I2:I100000,\"23??\",'Accounting Data'!J2:J100000,\"68??\"))+SUM(SUMIFS('Accounting Data'!C2:C100000,'Accounting Data'!E2:E100000,\"228\",'Accounting Data'!H2:H100000,{\"0??\",\"1??\",\"2??\",\"3??\",\"4??\",\"5??\",\"6??\"},'Accounting Data'!I2:I100000,\"25??\",'Accounting Data'!J2:J100000,\"68??\"))+SUM(SUMIFS('Accounting Data'!C2:C100000,'Accounting Data'!E2:E100000,\"228\",'Accounting Data'!H2:H100000,{\"0??\",\"1??\",\"2??\",\"3??\",\"4??\",\"5??\",\"6??\"},'Accounting Data'!I2:I100000,\"29??\",'Accounting Data'!J2:J100000,\"68??\"))-H12-I12-J12-K12","v":{"v":0,"d":"0 "}},{"$f":"BA12+BB12+BC12","v":{"v":0,"d":"0 "}},{"$f":"ROUND(SUM(C12:M12),0)","v":{"v":0,"d":"0 "}},{"$nulls":35},{"$f":"SUM(SUMIFS('Accounting Data'!C2:C100000,'Accounting Data'!E2:E100000,\"COVID\",'Accounting Data'!H2:H100000,{\"0??\",\"1??\",\"2??\",\"3??\",\"4??\",\"5??\",\"6??\"},'Accounting Data'!I2:I100000,\"23??\",'Accounting Data'!J2:J100000,\"63??\"))+SUM(SUMIFS('Accounting Data'!C2:C100000,'Accounting Data'!E2:E100000,\"COVID\",'Accounting Data'!H2:H100000,{\"0??\",\"1??\",\"2??\",\"3??\",\"4??\",\"5??\",\"6??\"},'Accounting Data'!I2:I100000,\"23??\",'Accounting Data'!J2:J100000,\"64??\"))+SUM(SUMIFS('Accounting Data'!C2:C100000,'Accounting Data'!E2:E100000,\"COVID\",'Accounting Data'!H2:H100000,{\"0??\",\"1??\",\"2??\",\"3??\",\"4??\",\"5??\",\"6??\"},'Accounting Data'!I2:I100000,\"23??\",'Accounting Data'!J2:J100000,\"65??\"))+SUM(SUMIFS('Accounting Data'!C2:C100000,'Accounting Data'!E2:E100000,\"227\",'Accounting Data'!H2:H100000,{\"0??\",\"1??\",\"2??\",\"3??\",\"4??\",\"5??\",\"6??\"},'Accounting Data'!I2:I100000,\"23??\",'Accounting Data'!J2:J100000,\"63??\"))+SUM(SUMIFS('Accounting Data'!C2:C100000,'Accounting Data'!E2:E100000,\"227\",'Accounting Data'!H2:H100000,{\"0??\",\"1??\",\"2??\",\"3??\",\"4??\",\"5??\",\"6??\"},'Accounting Data'!I2:I100000,\"23??\",'Accounting Data'!J2:J100000,\"64??\"))+SUM(SUMIFS('Accounting Data'!C2:C100000,'Accounting Data'!E2:E100000,\"227\",'Accounting Data'!H2:H100000,{\"0??\",\"1??\",\"2??\",\"3??\",\"4??\",\"5??\",\"6??\"},'Accounting Data'!I2:I100000,\"23??\",'Accounting Data'!J2:J100000,\"65??\"))+SUM(SUMIFS('Accounting Data'!C2:C100000,'Accounting Data'!E2:E100000,\"228\",'Accounting Data'!H2:H100000,{\"0??\",\"1??\",\"2??\",\"3??\",\"4??\",\"5??\",\"6??\"},'Accounting Data'!I2:I100000,\"23??\",'Accounting Data'!J2:J100000,\"63??\"))+SUM(SUMIFS('Accounting Data'!C2:C100000,'Accounting Data'!E2:E100000,\"228\",'Accounting Data'!H2:H100000,{\"0??\",\"1??\",\"2??\",\"3??\",\"4??\",\"5??\",\"6??\"},'Accounting Data'!I2:I100000,\"23??\",'Accounting Data'!J2:J100000,\"64??\"))+SUM(SUMIFS('Accounting Data'!C2:C100000,'Accounting Data'!E2:E100000,\"228\",'Accounting Data'!H2:H100000,{\"0??\",\"1??\",\"2??\",\"3??\",\"4??\",\"5??\",\"6??\"},'Accounting Data'!I2:I100000,\"23??\",'Accounting Data'!J2:J100000,\"65??\"))","v":0},{"$f":"SUM(SUMIFS('Accounting Data'!C2:C100000,'Accounting Data'!E2:E100000,\"COVID\",'Accounting Data'!H2:H100000,{\"0??\",\"1??\",\"2??\",\"3??\",\"4??\",\"5??\",\"6??\"},'Accounting Data'!I2:I100000,\"25??\",'Accounting Data'!J2:J100000,\"63??\"))+SUM(SUMIFS('Accounting Data'!C2:C100000,'Accounting Data'!E2:E100000,\"COVID\",'Accounting Data'!H2:H100000,{\"0??\",\"1??\",\"2??\",\"3??\",\"4??\",\"5??\",\"6??\"},'Accounting Data'!I2:I100000,\"25??\",'Accounting Data'!J2:J100000,\"64??\"))+SUM(SUMIFS('Accounting Data'!C2:C100000,'Accounting Data'!E2:E100000,\"COVID\",'Accounting Data'!H2:H100000,{\"0??\",\"1??\",\"2??\",\"3??\",\"4??\",\"5??\",\"6??\"},'Accounting Data'!I2:I100000,\"25??\",'Accounting Data'!J2:J100000,\"65??\"))+SUM(SUMIFS('Accounting Data'!C2:C100000,'Accounting Data'!E2:E100000,\"227\",'Accounting Data'!H2:H100000,{\"0??\",\"1??\",\"2??\",\"3??\",\"4??\",\"5??\",\"6??\"},'Accounting Data'!I2:I100000,\"25??\",'Accounting Data'!J2:J100000,\"63??\"))+SUM(SUMIFS('Accounting Data'!C2:C100000,'Accounting Data'!E2:E100000,\"227\",'Accounting Data'!H2:H100000,{\"0??\",\"1??\",\"2??\",\"3??\",\"4??\",\"5??\",\"6??\"},'Accounting Data'!I2:I100000,\"25??\",'Accounting Data'!J2:J100000,\"64??\"))+SUM(SUMIFS('Accounting Data'!C2:C100000,'Accounting Data'!E2:E100000,\"227\",'Accounting Data'!H2:H100000,{\"0??\",\"1??\",\"2??\",\"3??\",\"4??\",\"5??\",\"6??\"},'Accounting Data'!I2:I100000,\"25??\",'Accounting Data'!J2:J100000,\"65??\"))+SUM(SUMIFS('Accounting Data'!C2:C100000,'Accounting Data'!E2:E100000,\"228\",'Accounting Data'!H2:H100000,{\"0??\",\"1??\",\"2??\",\"3??\",\"4??\",\"5??\",\"6??\"},'Accounting Data'!I2:I100000,\"25??\",'Accounting Data'!J2:J100000,\"63??\"))+SUM(SUMIFS('Accounting Data'!C2:C100000,'Accounting Data'!E2:E100000,\"228\",'Accounting Data'!H2:H100000,{\"0??\",\"1??\",\"2??\",\"3??\",\"4??\",\"5??\",\"6??\"},'Accounting Data'!I2:I100000,\"25??\",'Accounting Data'!J2:J100000,\"64??\"))+SUM(SUMIFS('Accounting Data'!C2:C100000,'Accounting Data'!E2:E100000,\"228\",'Accounting Data'!H2:H100000,{\"0??\",\"1??\",\"2??\",\"3??\",\"4??\",\"5??\",\"6??\"},'Accounting Data'!I2:I100000,\"25??\",'Accounting Data'!J2:J100000,\"65??\"))","v":0},{"$f":"SUM(SUMIFS('Accounting Data'!C2:C100000,'Accounting Data'!E2:E100000,\"COVID\",'Accounting Data'!H2:H100000,{\"0??\",\"1??\",\"2??\",\"3??\",\"4??\",\"5??\",\"6??\"},'Accounting Data'!I2:I100000,\"29??\",'Accounting Data'!J2:J100000,\"63??\"))+SUM(SUMIFS('Accounting Data'!C2:C100000,'Accounting Data'!E2:E100000,\"COVID\",'Accounting Data'!H2:H100000,{\"0??\",\"1??\",\"2??\",\"3??\",\"4??\",\"5??\",\"6??\"},'Accounting Data'!I2:I100000,\"29??\",'Accounting Data'!J2:J100000,\"64??\"))+SUM(SUMIFS('Accounting Data'!C2:C100000,'Accounting Data'!E2:E100000,\"COVID\",'Accounting Data'!H2:H100000,{\"0??\",\"1??\",\"2??\",\"3??\",\"4??\",\"5??\",\"6??\"},'Accounting Data'!I2:I100000,\"29??\",'Accounting Data'!J2:J100000,\"65??\"))+SUM(SUMIFS('Accounting Data'!C2:C100000,'Accounting Data'!E2:E100000,\"227\",'Accounting Data'!H2:H100000,{\"0??\",\"1??\",\"2??\",\"3??\",\"4??\",\"5??\",\"6??\"},'Accounting Data'!I2:I100000,\"29??\",'Accounting Data'!J2:J100000,\"63??\"))+SUM(SUMIFS('Accounting Data'!C2:C100000,'Accounting Data'!E2:E100000,\"227\",'Accounting Data'!H2:H100000,{\"0??\",\"1??\",\"2??\",\"3??\",\"4??\",\"5??\",\"6??\"},'Accounting Data'!I2:I100000,\"29??\",'Accounting Data'!J2:J100000,\"64??\"))+SUM(SUMIFS('Accounting Data'!C2:C100000,'Accounting Data'!E2:E100000,\"227\",'Accounting Data'!H2:H100000,{\"0??\",\"1??\",\"2??\",\"3??\",\"4??\",\"5??\",\"6??\"},'Accounting Data'!I2:I100000,\"29??\",'Accounting Data'!J2:J100000,\"65??\"))+SUM(SUMIFS('Accounting Data'!C2:C100000,'Accounting Data'!E2:E100000,\"228\",'Accounting Data'!H2:H100000,{\"0??\",\"1??\",\"2??\",\"3??\",\"4??\",\"5??\",\"6??\"},'Accounting Data'!I2:I100000,\"29??\",'Accounting Data'!J2:J100000,\"63??\"))+SUM(SUMIFS('Accounting Data'!C2:C100000,'Accounting Data'!E2:E100000,\"228\",'Accounting Data'!H2:H100000,{\"0??\",\"1??\",\"2??\",\"3??\",\"4??\",\"5??\",\"6??\"},'Accounting Data'!I2:I100000,\"29??\",'Accounting Data'!J2:J100000,\"64??\"))+SUM(SUMIFS('Accounting Data'!C2:C100000,'Accounting Data'!E2:E100000,\"228\",'Accounting Data'!H2:H100000,{\"0??\",\"1??\",\"2??\",\"3??\",\"4??\",\"5??\",\"6??\"},'Accounting Data'!I2:I100000,\"29??\",'Accounting Data'!J2:J100000,\"65??\"))","v":0},{"$f":"(SUM(SUMIFS('Accounting Data'!C2:C100000,'Accounting Data'!E2:E100000,\"COVID\",'Accounting Data'!H2:H100000,{\"7??\",\"8??\",\"9??\"},'Accounting Data'!I2:I100000,\"23??\",'Accounting Data'!J2:J100000,\"6???\"))-SUM(SUMIFS('Accounting Data'!C2:C100000,'Accounting Data'!E2:E100000,\"COVID\",'Accounting Data'!H2:H100000,{\"7??\",\"8??\",\"9??\"},'Accounting Data'!I2:I100000,\"23??\",'Accounting Data'!J2:J100000,\"69??\")))+(SUM(SUMIFS('Accounting Data'!C2:C100000,'Accounting Data'!E2:E100000,\"COVID\",'Accounting Data'!H2:H100000,{\"7??\",\"8??\",\"9??\"},'Accounting Data'!I2:I100000,\"25??\",'Accounting Data'!J2:J100000,\"6???\"))-SUM(SUMIFS('Accounting Data'!C2:C100000,'Accounting Data'!E2:E100000,\"COVID\",'Accounting Data'!H2:H100000,{\"7??\",\"8??\",\"9??\"},'Accounting Data'!I2:I100000,\"25??\",'Accounting Data'!J2:J100000,\"69??\")))+(SUM(SUMIFS('Accounting Data'!C2:C100000,'Accounting Data'!E2:E100000,\"COVID\",'Accounting Data'!H2:H100000,{\"7??\",\"8??\",\"9??\"},'Accounting Data'!I2:I100000,\"29??\",'Accounting Data'!J2:J100000,\"6???\"))-SUM(SUMIFS('Accounting Data'!C2:C100000,'Accounting Data'!E2:E100000,\"COVID\",'Accounting Data'!H2:H100000,{\"7??\",\"8??\",\"9??\"},'Accounting Data'!I2:I100000,\"29??\",'Accounting Data'!J2:J100000,\"69??\")))","v":0},{"$f":"(SUM(SUMIFS('Accounting Data'!C2:C100000,'Accounting Data'!E2:E100000,\"227\",'Accounting Data'!H2:H100000,{\"7??\",\"8??\",\"9??\"},'Accounting Data'!I2:I100000,\"23??\",'Accounting Data'!J2:J100000,\"6???\"))-SUM(SUMIFS('Accounting Data'!C2:C100000,'Accounting Data'!E2:E100000,\"227\",'Accounting Data'!H2:H100000,{\"7??\",\"8??\",\"9??\"},'Accounting Data'!I2:I100000,\"23??\",'Accounting Data'!J2:J100000,\"69??\")))+(SUM(SUMIFS('Accounting Data'!C2:C100000,'Accounting Data'!E2:E100000,\"227\",'Accounting Data'!H2:H100000,{\"7??\",\"8??\",\"9??\"},'Accounting Data'!I2:I100000,\"25??\",'Accounting Data'!J2:J100000,\"6???\"))-SUM(SUMIFS('Accounting Data'!C2:C100000,'Accounting Data'!E2:E100000,\"227\",'Accounting Data'!H2:H100000,{\"7??\",\"8??\",\"9??\"},'Accounting Data'!I2:I100000,\"25??\",'Accounting Data'!J2:J100000,\"69??\")))+(SUM(SUMIFS('Accounting Data'!C2:C100000,'Accounting Data'!E2:E100000,\"227\",'Accounting Data'!H2:H100000,{\"7??\",\"8??\",\"9??\"},'Accounting Data'!I2:I100000,\"29??\",'Accounting Data'!J2:J100000,\"6???\"))-SUM(SUMIFS('Accounting Data'!C2:C100000,'Accounting Data'!E2:E100000,\"227\",'Accounting Data'!H2:H100000,{\"7??\",\"8??\",\"9??\"},'Accounting Data'!I2:I100000,\"29??\",'Accounting Data'!J2:J100000,\"69??\")))","v":0},{"$f":"(SUM(SUMIFS('Accounting Data'!C2:C100000,'Accounting Data'!E2:E100000,\"228\",'Accounting Data'!H2:H100000,{\"7??\",\"8??\",\"9??\"},'Accounting Data'!I2:I100000,\"23??\",'Accounting Data'!J2:J100000,\"6???\"))-SUM(SUMIFS('Accounting Data'!C2:C100000,'Accounting Data'!E2:E100000,\"228\",'Accounting Data'!H2:H100000,{\"7??\",\"8??\",\"9??\"},'Accounting Data'!I2:I100000,\"23??\",'Accounting Data'!J2:J100000,\"69??\")))+(SUM(SUMIFS('Accounting Data'!C2:C100000,'Accounting Data'!E2:E100000,\"228\",'Accounting Data'!H2:H100000,{\"7??\",\"8??\",\"9??\"},'Accounting Data'!I2:I100000,\"25??\",'Accounting Data'!J2:J100000,\"6???\"))-SUM(SUMIFS('Accounting Data'!C2:C100000,'Accounting Data'!E2:E100000,\"228\",'Accounting Data'!H2:H100000,{\"7??\",\"8??\",\"9??\"},'Accounting Data'!I2:I100000,\"25??\",'Accounting Data'!J2:J100000,\"69??\")))+(SUM(SUMIFS('Accounting Data'!C2:C100000,'Accounting Data'!E2:E100000,\"228\",'Accounting Data'!H2:H100000,{\"7??\",\"8??\",\"9??\"},'Accounting Data'!I2:I100000,\"29??\",'Accounting Data'!J2:J100000,\"6???\"))-SUM(SUMIFS('Accounting Data'!C2:C100000,'Accounting Data'!E2:E100000,\"228\",'Accounting Data'!H2:H100000,{\"7??\",\"8??\",\"9??\"},'Accounting Data'!I2:I100000,\"29??\",'Accounting Data'!J2:J100000,\"69??\")))","v":0}]
["2400 School Administration","4.",{"$f":"SUM(SUMIFS('Accounting Data'!C2:C100000,'Accounting Data'!E2:E100000,\"COVID\",'Accounting Data'!H2:H100000,{\"0??\",\"1??\",\"2??\",\"3??\",\"4??\",\"5??\",\"6??\"},'Accounting Data'!I2:I100000,\"24??\",'Accounting Data'!J2:J100000,\"61??\"))+SUM(SUMIFS('Accounting Data'!C2:C100000,'Accounting Data'!E2:E100000,\"227\",'Accounting Data'!H2:H100000,{\"0??\",\"1??\",\"2??\",\"3??\",\"4??\",\"5??\",\"6??\"},'Accounting Data'!I2:I100000,\"24??\",'Accounting Data'!J2:J100000,\"61??\"))+SUM(SUMIFS('Accounting Data'!C2:C100000,'Accounting Data'!E2:E100000,\"228\",'Accounting Data'!H2:H100000,{\"0??\",\"1??\",\"2??\",\"3??\",\"4??\",\"5??\",\"6??\"},'Accounting Data'!I2:I100000,\"24??\",'Accounting Data'!J2:J100000,\"61??\"))","v":{"v":0,"d":"0 "}},{"$f":"SUM(SUMIFS('Accounting Data'!C2:C100000,'Accounting Data'!E2:E100000,\"COVID\",'Accounting Data'!H2:H100000,{\"0??\",\"1??\",\"2??\",\"3??\",\"4??\",\"5??\",\"6??\"},'Accounting Data'!I2:I100000,\"24??\",'Accounting Data'!J2:J100000,\"62??\"))+SUM(SUMIFS('Accounting Data'!C2:C100000,'Accounting Data'!E2:E100000,\"227\",'Accounting Data'!H2:H100000,{\"0??\",\"1??\",\"2??\",\"3??\",\"4??\",\"5??\",\"6??\"},'Accounting Data'!I2:I100000,\"24??\",'Accounting Data'!J2:J100000,\"62??\"))+SUM(SUMIFS('Accounting Data'!C2:C100000,'Accounting Data'!E2:E100000,\"227\",'Accounting Data'!H2:H100000,{\"0??\",\"1??\",\"2??\",\"3??\",\"4??\",\"5??\",\"6??\"},'Accounting Data'!I2:I100000,\"24??\",'Accounting Data'!J2:J100000,\"62??\"))","v":{"v":14565,"d":"14,565 "}},{"$f":"SUM(SUMIFS('Accounting Data'!C2:C100000,'Accounting Data'!E2:E100000,\"COVID\",'Accounting Data'!H2:H100000,{\"0??\",\"1??\",\"2??\",\"3??\",\"4??\",\"5??\",\"6??\"},'Accounting Data'!I2:I100000,\"24??\",'Accounting Data'!J2:J100000,\"63??\"))+SUM(SUMIFS('Accounting Data'!C2:C100000,'Accounting Data'!E2:E100000,\"COVID\",'Accounting Data'!H2:H100000,{\"0??\",\"1??\",\"2??\",\"3??\",\"4??\",\"5??\",\"6??\"},'Accounting Data'!I2:I100000,\"24??\",'Accounting Data'!J2:J100000,\"64??\"))+SUM(SUMIFS('Accounting Data'!C2:C100000,'Accounting Data'!E2:E100000,\"COVID\",'Accounting Data'!H2:H100000,{\"0??\",\"1??\",\"2??\",\"3??\",\"4??\",\"5??\",\"6??\"},'Accounting Data'!I2:I100000,\"24??\",'Accounting Data'!J2:J100000,\"65??\"))+SUM(SUMIFS('Accounting Data'!C2:C100000,'Accounting Data'!E2:E100000,\"227\",'Accounting Data'!H2:H100000,{\"0??\",\"1??\",\"2??\",\"3??\",\"4??\",\"5??\",\"6??\"},'Accounting Data'!I2:I100000,\"24??\",'Accounting Data'!J2:J100000,\"63??\"))+SUM(SUMIFS('Accounting Data'!C2:C100000,'Accounting Data'!E2:E100000,\"227\",'Accounting Data'!H2:H100000,{\"0??\",\"1??\",\"2??\",\"3??\",\"4??\",\"5??\",\"6??\"},'Accounting Data'!I2:I100000,\"24??\",'Accounting Data'!J2:J100000,\"64??\"))+SUM(SUMIFS('Accounting Data'!C2:C100000,'Accounting Data'!E2:E100000,\"227\",'Accounting Data'!H2:H100000,{\"0??\",\"1??\",\"2??\",\"3??\",\"4??\",\"5??\",\"6??\"},'Accounting Data'!I2:I100000,\"24??\",'Accounting Data'!J2:J100000,\"65??\"))+SUM(SUMIFS('Accounting Data'!C2:C100000,'Accounting Data'!E2:E100000,\"228\",'Accounting Data'!H2:H100000,{\"0??\",\"1??\",\"2??\",\"3??\",\"4??\",\"5??\",\"6??\"},'Accounting Data'!I2:I100000,\"24??\",'Accounting Data'!J2:J100000,\"63??\"))+SUM(SUMIFS('Accounting Data'!C2:C100000,'Accounting Data'!E2:E100000,\"228\",'Accounting Data'!H2:H100000,{\"0??\",\"1??\",\"2??\",\"3??\",\"4??\",\"5??\",\"6??\"},'Accounting Data'!I2:I100000,\"24??\",'Accounting Data'!J2:J100000,\"64??\"))+SUM(SUMIFS('Accounting Data'!C2:C100000,'Accounting Data'!E2:E100000,\"228\",'Accounting Data'!H2:H100000,{\"0??\",\"1??\",\"2??\",\"3??\",\"4??\",\"5??\",\"6??\"},'Accounting Data'!I2:I100000,\"24??\",'Accounting Data'!J2:J100000,\"65??\"))","v":{"v":0,"d":"0 "}},{"$f":"SUM(SUMIFS('Accounting Data'!C2:C100000,'Accounting Data'!E2:E100000,\"COVID\",'Accounting Data'!H2:H100000,{\"0??\",\"1??\",\"2??\",\"3??\",\"4??\",\"5??\",\"6??\"},'Accounting Data'!I2:I100000,\"24??\",'Accounting Data'!J2:J100000,\"66??\"))+SUM(SUMIFS('Accounting Data'!C2:C100000,'Accounting Data'!E2:E100000,\"227\",'Accounting Data'!H2:H100000,{\"0??\",\"1??\",\"2??\",\"3??\",\"4??\",\"5??\",\"6??\"},'Accounting Data'!I2:I100000,\"24??\",'Accounting Data'!J2:J100000,\"66??\"))+SUM(SUMIFS('Accounting Data'!C2:C100000,'Accounting Data'!E2:E100000,\"228\",'Accounting Data'!H2:H100000,{\"0??\",\"1??\",\"2??\",\"3??\",\"4??\",\"5??\",\"6??\"},'Accounting Data'!I2:I100000,\"24??\",'Accounting Data'!J2:J100000,\"66??\"))","v":{"v":0,"d":"0 "}},{"$f":"SUM(SUMIFS('Accounting Data'!C2:C100000,'Accounting Data'!E2:E100000,\"COVID\",'Accounting Data'!H2:H100000,{\"0??\",\"1??\",\"2??\",\"3??\",\"4??\",\"5??\",\"6??\"},'Accounting Data'!I2:I100000,\"24??\",'Accounting Data'!J2:J100000,\"67??\"))+SUM(SUMIFS('Accounting Data'!C2:C100000,'Accounting Data'!E2:E100000,\"227\",'Accounting Data'!H2:H100000,{\"0??\",\"1??\",\"2??\",\"3??\",\"4??\",\"5??\",\"6??\"},'Accounting Data'!I2:I100000,\"24??\",'Accounting Data'!J2:J100000,\"67??\"))+SUM(SUMIFS('Accounting Data'!C2:C100000,'Accounting Data'!E2:E100000,\"228\",'Accounting Data'!H2:H100000,{\"0??\",\"1??\",\"2??\",\"3??\",\"4??\",\"5??\",\"6??\"},'Accounting Data'!I2:I100000,\"24??\",'Accounting Data'!J2:J100000,\"67??\"))","v":{"v":0,"d":"0 "}},{"$f":"SUM(SUMIFS('Accounting Data'!C2:C100000,'Accounting Data'!E2:E100000,\"COVID\",'Accounting Data'!H2:H100000,{\"0??\",\"1??\",\"2??\",\"3??\",\"4??\",\"5??\",\"6??\"},'Accounting Data'!I2:I100000,\"24??\",'Accounting Data'!J2:J100000,\"681?\"))+SUM(SUMIFS('Accounting Data'!C2:C100000,'Accounting Data'!E2:E100000,\"227\",'Accounting Data'!H2:H100000,{\"0??\",\"1??\",\"2??\",\"3??\",\"4??\",\"5??\",\"6??\"},'Accounting Data'!I2:I100000,\"24??\",'Accounting Data'!J2:J100000,\"681?\"))+SUM(SUMIFS('Accounting Data'!C2:C100000,'Accounting Data'!E2:E100000,\"228\",'Accounting Data'!H2:H100000,{\"0??\",\"1??\",\"2??\",\"3??\",\"4??\",\"5??\",\"6??\"},'Accounting Data'!I2:I100000,\"24??\",'Accounting Data'!J2:J100000,\"681?\"))","v":{"v":0,"d":"0 "}},null,null,{"$f":"SUM(SUMIFS('Accounting Data'!C2:C100000,'Accounting Data'!E2:E100000,\"COVID\",'Accounting Data'!H2:H100000,{\"0??\",\"1??\",\"2??\",\"3??\",\"4??\",\"5??\",\"6??\"},'Accounting Data'!I2:I100000,\"24??\",'Accounting Data'!J2:J100000,\"689?\"))+SUM(SUMIFS('Accounting Data'!C2:C100000,'Accounting Data'!E2:E100000,\"227\",'Accounting Data'!H2:H100000,{\"0??\",\"1??\",\"2??\",\"3??\",\"4??\",\"5??\",\"6??\"},'Accounting Data'!I2:I100000,\"24??\",'Accounting Data'!J2:J100000,\"689?\"))+SUM(SUMIFS('Accounting Data'!C2:C100000,'Accounting Data'!E2:E100000,\"228\",'Accounting Data'!H2:H100000,{\"0??\",\"1??\",\"2??\",\"3??\",\"4??\",\"5??\",\"6??\"},'Accounting Data'!I2:I100000,\"24??\",'Accounting Data'!J2:J100000,\"689?\"))","v":{"v":0,"d":"0 "}},{"$f":"SUM(SUMIFS('Accounting Data'!C2:C100000,'Accounting Data'!E2:E100000,\"COVID\",'Accounting Data'!H2:H100000,{\"0??\",\"1??\",\"2??\",\"3??\",\"4??\",\"5??\",\"6??\"},'Accounting Data'!I2:I100000,\"24??\",'Accounting Data'!J2:J100000,\"68??\"))+SUM(SUMIFS('Accounting Data'!C2:C100000,'Accounting Data'!E2:E100000,\"227\",'Accounting Data'!H2:H100000,{\"0??\",\"1??\",\"2??\",\"3??\",\"4??\",\"5??\",\"6??\"},'Accounting Data'!I2:I100000,\"24??\",'Accounting Data'!J2:J100000,\"68??\"))+SUM(SUMIFS('Accounting Data'!C2:C100000,'Accounting Data'!E2:E100000,\"228\",'Accounting Data'!H2:H100000,{\"0??\",\"1??\",\"2??\",\"3??\",\"4??\",\"5??\",\"6??\"},'Accounting Data'!I2:I100000,\"24??\",'Accounting Data'!J2:J100000,\"68??\"))-H13-K13","v":{"v":0,"d":"0 "}},{"$f":"SUM(SUMIFS('Accounting Data'!C2:C100000,'Accounting Data'!E2:E100000,\"COVID\",'Accounting Data'!H2:H100000,{\"7??\",\"8??\",\"9??\"},'Accounting Data'!I2:I100000,\"24??\",'Accounting Data'!J2:J100000,\"6???\"))-SUM(SUMIFS('Accounting Data'!C2:C100000,'Accounting Data'!E2:E100000,\"COVID\",'Accounting Data'!H2:H100000,{\"7??\",\"8??\",\"9??\"},'Accounting Data'!I2:I100000,\"24??\",'Accounting Data'!J2:J100000,\"69??\"))+SUM(SUMIFS('Accounting Data'!C2:C100000,'Accounting Data'!E2:E100000,\"227\",'Accounting Data'!H2:H100000,{\"7??\",\"8??\",\"9??\"},'Accounting Data'!I2:I100000,\"24??\",'Accounting Data'!J2:J100000,\"6???\"))-SUM(SUMIFS('Accounting Data'!C2:C100000,'Accounting Data'!E2:E100000,\"227\",'Accounting Data'!H2:H100000,{\"7??\",\"8??\",\"9??\"},'Accounting Data'!I2:I100000,\"24??\",'Accounting Data'!J2:J100000,\"69??\"))+SUM(SUMIFS('Accounting Data'!C2:C100000,'Accounting Data'!E2:E100000,\"228\",'Accounting Data'!H2:H100000,{\"7??\",\"8??\",\"9??\"},'Accounting Data'!I2:I100000,\"24??\",'Accounting Data'!J2:J100000,\"6???\"))-SUM(SUMIFS('Accounting Data'!C2:C100000,'Accounting Data'!E2:E100000,\"228\",'Accounting Data'!H2:H100000,{\"7??\",\"8??\",\"9??\"},'Accounting Data'!I2:I100000,\"24??\",'Accounting Data'!J2:J100000,\"69??\"))","v":{"v":0,"d":"0 "}},{"$f":"ROUND(SUM(C13:M13),0)","v":{"v":14565,"d":"14,565 "}}]
["2600 Operation and Maintenance of Plant","5.",{"$f":"SUM(SUMIFS('Accounting Data'!C2:C100000,'Accounting Data'!E2:E100000,\"COVID\",'Accounting Data'!H2:H100000,{\"0??\",\"1??\",\"2??\",\"3??\",\"4??\",\"5??\",\"6??\"},'Accounting Data'!I2:I100000,\"26??\",'Accounting Data'!J2:J100000,\"61??\"))+SUM(SUMIFS('Accounting Data'!C2:C100000,'Accounting Data'!E2:E100000,\"227\",'Accounting Data'!H2:H100000,{\"0??\",\"1??\",\"2??\",\"3??\",\"4??\",\"5??\",\"6??\"},'Accounting Data'!I2:I100000,\"26??\",'Accounting Data'!J2:J100000,\"61??\"))+SUM(SUMIFS('Accounting Data'!C2:C100000,'Accounting Data'!E2:E100000,\"228\",'Accounting Data'!H2:H100000,{\"0??\",\"1??\",\"2??\",\"3??\",\"4??\",\"5??\",\"6??\"},'Accounting Data'!I2:I100000,\"26??\",'Accounting Data'!J2:J100000,\"61??\"))","v":{"v":0,"d":"0 "}},{"$f":"SUM(SUMIFS('Accounting Data'!C2:C100000,'Accounting Data'!E2:E100000,\"COVID\",'Accounting Data'!H2:H100000,{\"0??\",\"1??\",\"2??\",\"3??\",\"4??\",\"5??\",\"6??\"},'Accounting Data'!I2:I100000,\"26??\",'Accounting Data'!J2:J100000,\"62??\"))+SUM(SUMIFS('Accounting Data'!C2:C100000,'Accounting Data'!E2:E100000,\"227\",'Accounting Data'!H2:H100000,{\"0??\",\"1??\",\"2??\",\"3??\",\"4??\",\"5??\",\"6??\"},'Accounting Data'!I2:I100000,\"26??\",'Accounting Data'!J2:J100000,\"62??\"))+SUM(SUMIFS('Accounting Data'!C2:C100000,'Accounting Data'!E2:E100000,\"228\",'Accounting Data'!H2:H100000,{\"0??\",\"1??\",\"2??\",\"3??\",\"4??\",\"5??\",\"6??\"},'Accounting Data'!I2:I100000,\"26??\",'Accounting Data'!J2:J100000,\"62??\"))","v":{"v":7646,"d":"7,646 "}},{"$f":"SUM(SUMIFS('Accounting Data'!C2:C100000,'Accounting Data'!E2:E100000,\"COVID\",'Accounting Data'!H2:H100000,{\"0??\",\"1??\",\"2??\",\"3??\",\"4??\",\"5??\",\"6??\"},'Accounting Data'!I2:I100000,\"26??\",'Accounting Data'!J2:J100000,\"63??\"))+SUM(SUMIFS('Accounting Data'!C2:C100000,'Accounting Data'!E2:E100000,\"COVID\",'Accounting Data'!H2:H100000,{\"0??\",\"1??\",\"2??\",\"3??\",\"4??\",\"5??\",\"6??\"},'Accounting Data'!I2:I100000,\"26??\",'Accounting Data'!J2:J100000,\"64??\"))+SUM(SUMIFS('Accounting Data'!C2:C100000,'Accounting Data'!E2:E100000,\"COVID\",'Accounting Data'!H2:H100000,{\"0??\",\"1??\",\"2??\",\"3??\",\"4??\",\"5??\",\"6??\"},'Accounting Data'!I2:I100000,\"26??\",'Accounting Data'!J2:J100000,\"65??\"))+SUM(SUMIFS('Accounting Data'!C2:C100000,'Accounting Data'!E2:E100000,\"227\",'Accounting Data'!H2:H100000,{\"0??\",\"1??\",\"2??\",\"3??\",\"4??\",\"5??\",\"6??\"},'Accounting Data'!I2:I100000,\"26??\",'Accounting Data'!J2:J100000,\"63??\"))+SUM(SUMIFS('Accounting Data'!C2:C100000,'Accounting Data'!E2:E100000,\"227\",'Accounting Data'!H2:H100000,{\"0??\",\"1??\",\"2??\",\"3??\",\"4??\",\"5??\",\"6??\"},'Accounting Data'!I2:I100000,\"26??\",'Accounting Data'!J2:J100000,\"64??\"))+SUM(SUMIFS('Accounting Data'!C2:C100000,'Accounting Data'!E2:E100000,\"227\",'Accounting Data'!H2:H100000,{\"0??\",\"1??\",\"2??\",\"3??\",\"4??\",\"5??\",\"6??\"},'Accounting Data'!I2:I100000,\"26??\",'Accounting Data'!J2:J100000,\"65??\"))+SUM(SUMIFS('Accounting Data'!C2:C100000,'Accounting Data'!E2:E100000,\"228\",'Accounting Data'!H2:H100000,{\"0??\",\"1??\",\"2??\",\"3??\",\"4??\",\"5??\",\"6??\"},'Accounting Data'!I2:I100000,\"26??\",'Accounting Data'!J2:J100000,\"63??\"))+SUM(SUMIFS('Accounting Data'!C2:C100000,'Accounting Data'!E2:E100000,\"228\",'Accounting Data'!H2:H100000,{\"0??\",\"1??\",\"2??\",\"3??\",\"4??\",\"5??\",\"6??\"},'Accounting Data'!I2:I100000,\"26??\",'Accounting Data'!J2:J100000,\"64??\"))+SUM(SUMIFS('Accounting Data'!C2:C100000,'Accounting Data'!E2:E100000,\"228\",'Accounting Data'!H2:H100000,{\"0??\",\"1??\",\"2??\",\"3??\",\"4??\",\"5??\",\"6??\"},'Accounting Data'!I2:I100000,\"26??\",'Accounting Data'!J2:J100000,\"65??\"))","v":{"v":2215,"d":"2,215 "}},{"$f":"SUM(SUMIFS('Accounting Data'!C2:C100000,'Accounting Data'!E2:E100000,\"COVID\",'Accounting Data'!H2:H100000,{\"0??\",\"1??\",\"2??\",\"3??\",\"4??\",\"5??\",\"6??\"},'Accounting Data'!I2:I100000,\"26??\",'Accounting Data'!J2:J100000,\"66??\"))+SUM(SUMIFS('Accounting Data'!C2:C100000,'Accounting Data'!E2:E100000,\"227\",'Accounting Data'!H2:H100000,{\"0??\",\"1??\",\"2??\",\"3??\",\"4??\",\"5??\",\"6??\"},'Accounting Data'!I2:I100000,\"26??\",'Accounting Data'!J2:J100000,\"66??\"))+SUM(SUMIFS('Accounting Data'!C2:C100000,'Accounting Data'!E2:E100000,\"228\",'Accounting Data'!H2:H100000,{\"0??\",\"1??\",\"2??\",\"3??\",\"4??\",\"5??\",\"6??\"},'Accounting Data'!I2:I100000,\"26??\",'Accounting Data'!J2:J100000,\"66??\"))","v":{"v":5003,"d":"5,003 "}},{"$f":"SUM(SUMIFS('Accounting Data'!C2:C100000,'Accounting Data'!E2:E100000,\"COVID\",'Accounting Data'!H2:H100000,{\"0??\",\"1??\",\"2??\",\"3??\",\"4??\",\"5??\",\"6??\"},'Accounting Data'!I2:I100000,\"26??\",'Accounting Data'!J2:J100000,\"67??\"))+SUM(SUMIFS('Accounting Data'!C2:C100000,'Accounting Data'!E2:E100000,\"227\",'Accounting Data'!H2:H100000,{\"0??\",\"1??\",\"2??\",\"3??\",\"4??\",\"5??\",\"6??\"},'Accounting Data'!I2:I100000,\"26??\",'Accounting Data'!J2:J100000,\"67??\"))+SUM(SUMIFS('Accounting Data'!C2:C100000,'Accounting Data'!E2:E100000,\"228\",'Accounting Data'!H2:H100000,{\"0??\",\"1??\",\"2??\",\"3??\",\"4??\",\"5??\",\"6??\"},'Accounting Data'!I2:I100000,\"26??\",'Accounting Data'!J2:J100000,\"67??\"))","v":{"v":0,"d":"0 "}},{"$f":"SUM(SUMIFS('Accounting Data'!C2:C100000,'Accounting Data'!E2:E100000,\"COVID\",'Accounting Data'!H2:H100000,{\"0??\",\"1??\",\"2??\",\"3??\",\"4??\",\"5??\",\"6??\"},'Accounting Data'!I2:I100000,\"26??\",'Accounting Data'!J2:J100000,\"681?\"))+SUM(SUMIFS('Accounting Data'!C2:C100000,'Accounting Data'!E2:E100000,\"227\",'Accounting Data'!H2:H100000,{\"0??\",\"1??\",\"2??\",\"3??\",\"4??\",\"5??\",\"6??\"},'Accounting Data'!I2:I100000,\"26??\",'Accounting Data'!J2:J100000,\"681?\"))+SUM(SUMIFS('Accounting Data'!C2:C100000,'Accounting Data'!E2:E100000,\"228\",'Accounting Data'!H2:H100000,{\"0??\",\"1??\",\"2??\",\"3??\",\"4??\",\"5??\",\"6??\"},'Accounting Data'!I2:I100000,\"26??\",'Accounting Data'!J2:J100000,\"681?\"))","v":{"v":0,"d":"0 "}},null,null,{"$f":"SUM(SUMIFS('Accounting Data'!C2:C100000,'Accounting Data'!E2:E100000,\"COVID\",'Accounting Data'!H2:H100000,{\"0??\",\"1??\",\"2??\",\"3??\",\"4??\",\"5??\",\"6??\"},'Accounting Data'!I2:I100000,\"26??\",'Accounting Data'!J2:J100000,\"689?\"))+SUM(SUMIFS('Accounting Data'!C2:C100000,'Accounting Data'!E2:E100000,\"227\",'Accounting Data'!H2:H100000,{\"0??\",\"1??\",\"2??\",\"3??\",\"4??\",\"5??\",\"6??\"},'Accounting Data'!I2:I100000,\"26??\",'Accounting Data'!J2:J100000,\"689?\"))+SUM(SUMIFS('Accounting Data'!C2:C100000,'Accounting Data'!E2:E100000,\"228\",'Accounting Data'!H2:H100000,{\"0??\",\"1??\",\"2??\",\"3??\",\"4??\",\"5??\",\"6??\"},'Accounting Data'!I2:I100000,\"26??\",'Accounting Data'!J2:J100000,\"689?\"))","v":{"v":0,"d":"0 "}},{"$f":"SUM(SUMIFS('Accounting Data'!C2:C100000,'Accounting Data'!E2:E100000,\"COVID\",'Accounting Data'!H2:H100000,{\"0??\",\"1??\",\"2??\",\"3??\",\"4??\",\"5??\",\"6??\"},'Accounting Data'!I2:I100000,\"26??\",'Accounting Data'!J2:J100000,\"68??\"))+SUM(SUMIFS('Accounting Data'!C2:C100000,'Accounting Data'!E2:E100000,\"227\",'Accounting Data'!H2:H100000,{\"0??\",\"1??\",\"2??\",\"3??\",\"4??\",\"5??\",\"6??\"},'Accounting Data'!I2:I100000,\"26??\",'Accounting Data'!J2:J100000,\"68??\"))+SUM(SUMIFS('Accounting Data'!C2:C100000,'Accounting Data'!E2:E100000,\"228\",'Accounting Data'!H2:H100000,{\"0??\",\"1??\",\"2??\",\"3??\",\"4??\",\"5??\",\"6??\"},'Accounting Data'!I2:I100000,\"26??\",'Accounting Data'!J2:J100000,\"68??\"))-H14-K14","v":{"v":0,"d":"0 "}},{"$f":"SUM(SUMIFS('Accounting Data'!C2:C100000,'Accounting Data'!E2:E100000,\"COVID\",'Accounting Data'!H2:H100000,{\"7??\",\"8??\",\"9??\"},'Accounting Data'!I2:I100000,\"26??\",'Accounting Data'!J2:J100000,\"6???\"))-SUM(SUMIFS('Accounting Data'!C2:C100000,'Accounting Data'!E2:E100000,\"COVID\",'Accounting Data'!H2:H100000,{\"7??\",\"8??\",\"9??\"},'Accounting Data'!I2:I100000,\"26??\",'Accounting Data'!J2:J100000,\"69??\"))+SUM(SUMIFS('Accounting Data'!C2:C100000,'Accounting Data'!E2:E100000,\"227\",'Accounting Data'!H2:H100000,{\"7??\",\"8??\",\"9??\"},'Accounting Data'!I2:I100000,\"26??\",'Accounting Data'!J2:J100000,\"6???\"))-SUM(SUMIFS('Accounting Data'!C2:C100000,'Accounting Data'!E2:E100000,\"227\",'Accounting Data'!H2:H100000,{\"7??\",\"8??\",\"9??\"},'Accounting Data'!I2:I100000,\"26??\",'Accounting Data'!J2:J100000,\"69??\"))+SUM(SUMIFS('Accounting Data'!C2:C100000,'Accounting Data'!E2:E100000,\"228\",'Accounting Data'!H2:H100000,{\"7??\",\"8??\",\"9??\"},'Accounting Data'!I2:I100000,\"26??\",'Accounting Data'!J2:J100000,\"6???\"))-SUM(SUMIFS('Accounting Data'!C2:C100000,'Accounting Data'!E2:E100000,\"228\",'Accounting Data'!H2:H100000,{\"7??\",\"8??\",\"9??\"},'Accounting Data'!I2:I100000,\"26??\",'Accounting Data'!J2:J100000,\"69??\"))","v":{"v":0,"d":"0 "}},{"v":14864,"d":"14,864 "}]
["2700 Student Transportation","6.",{"$f":"SUM(SUMIFS('Accounting Data'!C2:C100000,'Accounting Data'!E2:E100000,\"COVID\",'Accounting Data'!H2:H100000,{\"0??\",\"1??\",\"2??\",\"3??\",\"4??\",\"5??\",\"6??\"},'Accounting Data'!I2:I100000,\"27??\",'Accounting Data'!J2:J100000,\"61??\"))+SUM(SUMIFS('Accounting Data'!C2:C100000,'Accounting Data'!E2:E100000,\"227\",'Accounting Data'!H2:H100000,{\"0??\",\"1??\",\"2??\",\"3??\",\"4??\",\"5??\",\"6??\"},'Accounting Data'!I2:I100000,\"27??\",'Accounting Data'!J2:J100000,\"61??\"))+SUM(SUMIFS('Accounting Data'!C2:C100000,'Accounting Data'!E2:E100000,\"228\",'Accounting Data'!H2:H100000,{\"0??\",\"1??\",\"2??\",\"3??\",\"4??\",\"5??\",\"6??\"},'Accounting Data'!I2:I100000,\"27??\",'Accounting Data'!J2:J100000,\"61??\"))","v":{"v":0,"d":"0 "}},{"$f":"SUM(SUMIFS('Accounting Data'!C2:C100000,'Accounting Data'!E2:E100000,\"COVID\",'Accounting Data'!H2:H100000,{\"0??\",\"1??\",\"2??\",\"3??\",\"4??\",\"5??\",\"6??\"},'Accounting Data'!I2:I100000,\"27??\",'Accounting Data'!J2:J100000,\"62??\"))+SUM(SUMIFS('Accounting Data'!C2:C100000,'Accounting Data'!E2:E100000,\"227\",'Accounting Data'!H2:H100000,{\"0??\",\"1??\",\"2??\",\"3??\",\"4??\",\"5??\",\"6??\"},'Accounting Data'!I2:I100000,\"27??\",'Accounting Data'!J2:J100000,\"62??\"))+SUM(SUMIFS('Accounting Data'!C2:C100000,'Accounting Data'!E2:E100000,\"228\",'Accounting Data'!H2:H100000,{\"0??\",\"1??\",\"2??\",\"3??\",\"4??\",\"5??\",\"6??\"},'Accounting Data'!I2:I100000,\"27??\",'Accounting Data'!J2:J100000,\"62??\"))","v":{"v":0,"d":"0 "}},{"$f":"SUM(SUMIFS('Accounting Data'!C2:C100000,'Accounting Data'!E2:E100000,\"COVID\",'Accounting Data'!H2:H100000,{\"0??\",\"1??\",\"2??\",\"3??\",\"4??\",\"5??\",\"6??\"},'Accounting Data'!I2:I100000,\"27??\",'Accounting Data'!J2:J100000,\"63??\"))+SUM(SUMIFS('Accounting Data'!C2:C100000,'Accounting Data'!E2:E100000,\"COVID\",'Accounting Data'!H2:H100000,{\"0??\",\"1??\",\"2??\",\"3??\",\"4??\",\"5??\",\"6??\"},'Accounting Data'!I2:I100000,\"27??\",'Accounting Data'!J2:J100000,\"64??\"))+SUM(SUMIFS('Accounting Data'!C2:C100000,'Accounting Data'!E2:E100000,\"COVID\",'Accounting Data'!H2:H100000,{\"0??\",\"1??\",\"2??\",\"3??\",\"4??\",\"5??\",\"6??\"},'Accounting Data'!I2:I100000,\"27??\",'Accounting Data'!J2:J100000,\"65??\"))+SUM(SUMIFS('Accounting Data'!C2:C100000,'Accounting Data'!E2:E100000,\"227\",'Accounting Data'!H2:H100000,{\"0??\",\"1??\",\"2??\",\"3??\",\"4??\",\"5??\",\"6??\"},'Accounting Data'!I2:I100000,\"27??\",'Accounting Data'!J2:J100000,\"63??\"))+SUM(SUMIFS('Accounting Data'!C2:C100000,'Accounting Data'!E2:E100000,\"227\",'Accounting Data'!H2:H100000,{\"0??\",\"1??\",\"2??\",\"3??\",\"4??\",\"5??\",\"6??\"},'Accounting Data'!I2:I100000,\"27??\",'Accounting Data'!J2:J100000,\"64??\"))+SUM(SUMIFS('Accounting Data'!C2:C100000,'Accounting Data'!E2:E100000,\"227\",'Accounting Data'!H2:H100000,{\"0??\",\"1??\",\"2??\",\"3??\",\"4??\",\"5??\",\"6??\"},'Accounting Data'!I2:I100000,\"27??\",'Accounting Data'!J2:J100000,\"65??\"))+SUM(SUMIFS('Accounting Data'!C2:C100000,'Accounting Data'!E2:E100000,\"228\",'Accounting Data'!H2:H100000,{\"0??\",\"1??\",\"2??\",\"3??\",\"4??\",\"5??\",\"6??\"},'Accounting Data'!I2:I100000,\"27??\",'Accounting Data'!J2:J100000,\"63??\"))+SUM(SUMIFS('Accounting Data'!C2:C100000,'Accounting Data'!E2:E100000,\"228\",'Accounting Data'!H2:H100000,{\"0??\",\"1??\",\"2??\",\"3??\",\"4??\",\"5??\",\"6??\"},'Accounting Data'!I2:I100000,\"27??\",'Accounting Data'!J2:J100000,\"64??\"))+SUM(SUMIFS('Accounting Data'!C2:C100000,'Accounting Data'!E2:E100000,\"228\",'Accounting Data'!H2:H100000,{\"0??\",\"1??\",\"2??\",\"3??\",\"4??\",\"5??\",\"6??\"},'Accounting Data'!I2:I100000,\"27??\",'Accounting Data'!J2:J100000,\"65??\"))","v":{"v":0,"d":"0 "}},{"$f":"SUM(SUMIFS('Accounting Data'!C2:C100000,'Accounting Data'!E2:E100000,\"COVID\",'Accounting Data'!H2:H100000,{\"0??\",\"1??\",\"2??\",\"3??\",\"4??\",\"5??\",\"6??\"},'Accounting Data'!I2:I100000,\"27??\",'Accounting Data'!J2:J100000,\"66??\"))+SUM(SUMIFS('Accounting Data'!C2:C100000,'Accounting Data'!E2:E100000,\"227\",'Accounting Data'!H2:H100000,{\"0??\",\"1??\",\"2??\",\"3??\",\"4??\",\"5??\",\"6??\"},'Accounting Data'!I2:I100000,\"26??\",'Accounting Data'!J2:J100000,\"66??\"))+SUM(SUMIFS('Accounting Data'!C2:C100000,'Accounting Data'!E2:E100000,\"228\",'Accounting Data'!H2:H100000,{\"0??\",\"1??\",\"2??\",\"3??\",\"4??\",\"5??\",\"6??\"},'Accounting Data'!I2:I100000,\"26??\",'Accounting Data'!J2:J100000,\"66??\"))","v":{"v":227,"d":"227 "}},{"$f":"SUM(SUMIFS('Accounting Data'!C2:C100000,'Accounting Data'!E2:E100000,\"COVID\",'Accounting Data'!H2:H100000,{\"0??\",\"1??\",\"2??\",\"3??\",\"4??\",\"5??\",\"6??\"},'Accounting Data'!I2:I100000,\"27??\",'Accounting Data'!J2:J100000,\"67??\"))+SUM(SUMIFS('Accounting Data'!C2:C100000,'Accounting Data'!E2:E100000,\"227\",'Accounting Data'!H2:H100000,{\"0??\",\"1??\",\"2??\",\"3??\",\"4??\",\"5??\",\"6??\"},'Accounting Data'!I2:I100000,\"27??\",'Accounting Data'!J2:J100000,\"67??\"))+SUM(SUMIFS('Accounting Data'!C2:C100000,'Accounting Data'!E2:E100000,\"228\",'Accounting Data'!H2:H100000,{\"0??\",\"1??\",\"2??\",\"3??\",\"4??\",\"5??\",\"6??\"},'Accounting Data'!I2:I100000,\"27??\",'Accounting Data'!J2:J100000,\"67??\"))","v":{"v":0,"d":"0 "}},{"$f":"SUM(SUMIFS('Accounting Data'!C2:C100000,'Accounting Data'!E2:E100000,\"COVID\",'Accounting Data'!H2:H100000,{\"0??\",\"1??\",\"2??\",\"3??\",\"4??\",\"5??\",\"6??\"},'Accounting Data'!I2:I100000,\"27??\",'Accounting Data'!J2:J100000,\"681?\"))+SUM(SUMIFS('Accounting Data'!C2:C100000,'Accounting Data'!E2:E100000,\"227\",'Accounting Data'!H2:H100000,{\"0??\",\"1??\",\"2??\",\"3??\",\"4??\",\"5??\",\"6??\"},'Accounting Data'!I2:I100000,\"27??\",'Accounting Data'!J2:J100000,\"681?\"))+SUM(SUMIFS('Accounting Data'!C2:C100000,'Accounting Data'!E2:E100000,\"228\",'Accounting Data'!H2:H100000,{\"0??\",\"1??\",\"2??\",\"3??\",\"4??\",\"5??\",\"6??\"},'Accounting Data'!I2:I100000,\"27??\",'Accounting Data'!J2:J100000,\"681?\"))","v":{"v":0,"d":"0 "}},null,null,{"$f":"SUM(SUMIFS('Accounting Data'!C2:C100000,'Accounting Data'!E2:E100000,\"COVID\",'Accounting Data'!H2:H100000,{\"0??\",\"1??\",\"2??\",\"3??\",\"4??\",\"5??\",\"6??\"},'Accounting Data'!I2:I100000,\"27??\",'Accounting Data'!J2:J100000,\"689?\"))+SUM(SUMIFS('Accounting Data'!C2:C100000,'Accounting Data'!E2:E100000,\"227\",'Accounting Data'!H2:H100000,{\"0??\",\"1??\",\"2??\",\"3??\",\"4??\",\"5??\",\"6??\"},'Accounting Data'!I2:I100000,\"27??\",'Accounting Data'!J2:J100000,\"689?\"))+SUM(SUMIFS('Accounting Data'!C2:C100000,'Accounting Data'!E2:E100000,\"228\",'Accounting Data'!H2:H100000,{\"0??\",\"1??\",\"2??\",\"3??\",\"4??\",\"5??\",\"6??\"},'Accounting Data'!I2:I100000,\"27??\",'Accounting Data'!J2:J100000,\"689?\"))","v":{"v":0,"d":"0 "}},{"$f":"SUM(SUMIFS('Accounting Data'!C2:C100000,'Accounting Data'!E2:E100000,\"COVID\",'Accounting Data'!H2:H100000,{\"0??\",\"1??\",\"2??\",\"3??\",\"4??\",\"5??\",\"6??\"},'Accounting Data'!I2:I100000,\"27??\",'Accounting Data'!J2:J100000,\"68??\"))+SUM(SUMIFS('Accounting Data'!C2:C100000,'Accounting Data'!E2:E100000,\"227\",'Accounting Data'!H2:H100000,{\"0??\",\"1??\",\"2??\",\"3??\",\"4??\",\"5??\",\"6??\"},'Accounting Data'!I2:I100000,\"27??\",'Accounting Data'!J2:J100000,\"68??\"))+SUM(SUMIFS('Accounting Data'!C2:C100000,'Accounting Data'!E2:E100000,\"228\",'Accounting Data'!H2:H100000,{\"0??\",\"1??\",\"2??\",\"3??\",\"4??\",\"5??\",\"6??\"},'Accounting Data'!I2:I100000,\"27??\",'Accounting Data'!J2:J100000,\"68??\"))-H15-K15","v":{"v":0,"d":"0 "}},{"$f":"SUM(SUMIFS('Accounting Data'!C2:C100000,'Accounting Data'!E2:E100000,\"COVID\",'Accounting Data'!H2:H100000,{\"7??\",\"8??\",\"9??\"},'Accounting Data'!I2:I100000,\"27??\",'Accounting Data'!J2:J100000,\"6???\"))-SUM(SUMIFS('Accounting Data'!C2:C100000,'Accounting Data'!E2:E100000,\"COVID\",'Accounting Data'!H2:H100000,{\"7??\",\"8??\",\"9??\"},'Accounting Data'!I2:I100000,\"27??\",'Accounting Data'!J2:J100000,\"69??\"))+SUM(SUMIFS('Accounting Data'!C2:C100000,'Accounting Data'!E2:E100000,\"227\",'Accounting Data'!H2:H100000,{\"7??\",\"8??\",\"9??\"},'Accounting Data'!I2:I100000,\"27??\",'Accounting Data'!J2:J100000,\"6???\"))-SUM(SUMIFS('Accounting Data'!C2:C100000,'Accounting Data'!E2:E100000,\"227\",'Accounting Data'!H2:H100000,{\"7??\",\"8??\",\"9??\"},'Accounting Data'!I2:I100000,\"27??\",'Accounting Data'!J2:J100000,\"69??\"))+SUM(SUMIFS('Accounting Data'!C2:C100000,'Accounting Data'!E2:E100000,\"228\",'Accounting Data'!H2:H100000,{\"7??\",\"8??\",\"9??\"},'Accounting Data'!I2:I100000,\"27??\",'Accounting Data'!J2:J100000,\"6???\"))-SUM(SUMIFS('Accounting Data'!C2:C100000,'Accounting Data'!E2:E100000,\"228\",'Accounting Data'!H2:H100000,{\"7??\",\"8??\",\"9??\"},'Accounting Data'!I2:I100000,\"27??\",'Accounting Data'!J2:J100000,\"69??\"))","v":{"v":0,"d":"0 "}},{"v":227,"d":"227 "}]
["3100 Food Service Operations","7.",{"$f":"SUM(SUMIFS('Accounting Data'!C2:C100000,'Accounting Data'!E2:E100000,\"COVID\",'Accounting Data'!H2:H100000,{\"0??\",\"1??\",\"2??\",\"3??\",\"4??\",\"5??\",\"6??\"},'Accounting Data'!I2:I100000,\"31??\",'Accounting Data'!J2:J100000,\"61??\"))+SUM(SUMIFS('Accounting Data'!C2:C100000,'Accounting Data'!E2:E100000,\"227\",'Accounting Data'!H2:H100000,{\"0??\",\"1??\",\"2??\",\"3??\",\"4??\",\"5??\",\"6??\"},'Accounting Data'!I2:I100000,\"31??\",'Accounting Data'!J2:J100000,\"61??\"))+SUM(SUMIFS('Accounting Data'!C2:C100000,'Accounting Data'!E2:E100000,\"228\",'Accounting Data'!H2:H100000,{\"0??\",\"1??\",\"2??\",\"3??\",\"4??\",\"5??\",\"6??\"},'Accounting Data'!I2:I100000,\"31??\",'Accounting Data'!J2:J100000,\"61??\"))","v":{"v":0,"d":"0 "}},{"$f":"SUM(SUMIFS('Accounting Data'!C2:C100000,'Accounting Data'!E2:E100000,\"COVID\",'Accounting Data'!H2:H100000,{\"0??\",\"1??\",\"2??\",\"3??\",\"4??\",\"5??\",\"6??\"},'Accounting Data'!I2:I100000,\"31??\",'Accounting Data'!J2:J100000,\"62??\"))+SUM(SUMIFS('Accounting Data'!C2:C100000,'Accounting Data'!E2:E100000,\"227\",'Accounting Data'!H2:H100000,{\"0??\",\"1??\",\"2??\",\"3??\",\"4??\",\"5??\",\"6??\"},'Accounting Data'!I2:I100000,\"31??\",'Accounting Data'!J2:J100000,\"62??\"))+SUM(SUMIFS('Accounting Data'!C2:C100000,'Accounting Data'!E2:E100000,\"228\",'Accounting Data'!H2:H100000,{\"0??\",\"1??\",\"2??\",\"3??\",\"4??\",\"5??\",\"6??\"},'Accounting Data'!I2:I100000,\"31??\",'Accounting Data'!J2:J100000,\"62??\"))","v":{"v":0,"d":"0 "}},{"$f":"SUM(SUMIFS('Accounting Data'!C2:C100000,'Accounting Data'!E2:E100000,\"COVID\",'Accounting Data'!H2:H100000,{\"0??\",\"1??\",\"2??\",\"3??\",\"4??\",\"5??\",\"6??\"},'Accounting Data'!I2:I100000,\"31??\",'Accounting Data'!J2:J100000,\"63??\"))+SUM(SUMIFS('Accounting Data'!C2:C100000,'Accounting Data'!E2:E100000,\"COVID\",'Accounting Data'!H2:H100000,{\"0??\",\"1??\",\"2??\",\"3??\",\"4??\",\"5??\",\"6??\"},'Accounting Data'!I2:I100000,\"31??\",'Accounting Data'!J2:J100000,\"64??\"))+SUM(SUMIFS('Accounting Data'!C2:C100000,'Accounting Data'!E2:E100000,\"COVID\",'Accounting Data'!H2:H100000,{\"0??\",\"1??\",\"2??\",\"3??\",\"4??\",\"5??\",\"6??\"},'Accounting Data'!I2:I100000,\"31??\",'Accounting Data'!J2:J100000,\"65??\"))+SUM(SUMIFS('Accounting Data'!C2:C100000,'Accounting Data'!E2:E100000,\"227\",'Accounting Data'!H2:H100000,{\"0??\",\"1??\",\"2??\",\"3??\",\"4??\",\"5??\",\"6??\"},'Accounting Data'!I2:I100000,\"31??\",'Accounting Data'!J2:J100000,\"63??\"))+SUM(SUMIFS('Accounting Data'!C2:C100000,'Accounting Data'!E2:E100000,\"227\",'Accounting Data'!H2:H100000,{\"0??\",\"1??\",\"2??\",\"3??\",\"4??\",\"5??\",\"6??\"},'Accounting Data'!I2:I100000,\"31??\",'Accounting Data'!J2:J100000,\"64??\"))+SUM(SUMIFS('Accounting Data'!C2:C100000,'Accounting Data'!E2:E100000,\"227\",'Accounting Data'!H2:H100000,{\"0??\",\"1??\",\"2??\",\"3??\",\"4??\",\"5??\",\"6??\"},'Accounting Data'!I2:I100000,\"31??\",'Accounting Data'!J2:J100000,\"65??\"))+SUM(SUMIFS('Accounting Data'!C2:C100000,'Accounting Data'!E2:E100000,\"228\",'Accounting Data'!H2:H100000,{\"0??\",\"1??\",\"2??\",\"3??\",\"4??\",\"5??\",\"6??\"},'Accounting Data'!I2:I100000,\"31??\",'Accounting Data'!J2:J100000,\"63??\"))+SUM(SUMIFS('Accounting Data'!C2:C100000,'Accounting Data'!E2:E100000,\"228\",'Accounting Data'!H2:H100000,{\"0??\",\"1??\",\"2??\",\"3??\",\"4??\",\"5??\",\"6??\"},'Accounting Data'!I2:I100000,\"31??\",'Accounting Data'!J2:J100000,\"64??\"))+SUM(SUMIFS('Accounting Data'!C2:C100000,'Accounting Data'!E2:E100000,\"228\",'Accounting Data'!H2:H100000,{\"0??\",\"1??\",\"2??\",\"3??\",\"4??\",\"5??\",\"6??\"},'Accounting Data'!I2:I100000,\"31??\",'Accounting Data'!J2:J100000,\"65??\"))","v":{"v":0,"d":"0 "}},{"$f":"SUM(SUMIFS('Accounting Data'!C2:C100000,'Accounting Data'!E2:E100000,\"COVID\",'Accounting Data'!H2:H100000,{\"0??\",\"1??\",\"2??\",\"3??\",\"4??\",\"5??\",\"6??\"},'Accounting Data'!I2:I100000,\"31??\",'Accounting Data'!J2:J100000,\"66??\"))+SUM(SUMIFS('Accounting Data'!C2:C100000,'Accounting Data'!E2:E100000,\"227\",'Accounting Data'!H2:H100000,{\"0??\",\"1??\",\"2??\",\"3??\",\"4??\",\"5??\",\"6??\"},'Accounting Data'!I2:I100000,\"31??\",'Accounting Data'!J2:J100000,\"66??\"))+SUM(SUMIFS('Accounting Data'!C2:C100000,'Accounting Data'!E2:E100000,\"228\",'Accounting Data'!H2:H100000,{\"0??\",\"1??\",\"2??\",\"3??\",\"4??\",\"5??\",\"6??\"},'Accounting Data'!I2:I100000,\"31??\",'Accounting Data'!J2:J100000,\"66??\"))","v":{"v":0,"d":"0 "}},{"$f":"SUM(SUMIFS('Accounting Data'!C2:C100000,'Accounting Data'!E2:E100000,\"COVID\",'Accounting Data'!H2:H100000,{\"0??\",\"1??\",\"2??\",\"3??\",\"4??\",\"5??\",\"6??\"},'Accounting Data'!I2:I100000,\"31??\",'Accounting Data'!J2:J100000,\"67??\"))+SUM(SUMIFS('Accounting Data'!C2:C100000,'Accounting Data'!E2:E100000,\"227\",'Accounting Data'!H2:H100000,{\"0??\",\"1??\",\"2??\",\"3??\",\"4??\",\"5??\",\"6??\"},'Accounting Data'!I2:I100000,\"31??\",'Accounting Data'!J2:J100000,\"67??\"))+SUM(SUMIFS('Accounting Data'!C2:C100000,'Accounting Data'!E2:E100000,\"228\",'Accounting Data'!H2:H100000,{\"0??\",\"1??\",\"2??\",\"3??\",\"4??\",\"5??\",\"6??\"},'Accounting Data'!I2:I100000,\"31??\",'Accounting Data'!J2:J100000,\"67??\"))","v":{"v":0,"d":"0 "}},{"$f":"SUM(SUMIFS('Accounting Data'!C2:C100000,'Accounting Data'!E2:E100000,\"COVID\",'Accounting Data'!H2:H100000,{\"0??\",\"1??\",\"2??\",\"3??\",\"4??\",\"5??\",\"6??\"},'Accounting Data'!I2:I100000,\"31??\",'Accounting Data'!J2:J100000,\"681?\"))+SUM(SUMIFS('Accounting Data'!C2:C100000,'Accounting Data'!E2:E100000,\"227\",'Accounting Data'!H2:H100000,{\"0??\",\"1??\",\"2??\",\"3??\",\"4??\",\"5??\",\"6??\"},'Accounting Data'!I2:I100000,\"31??\",'Accounting Data'!J2:J100000,\"681?\"))+SUM(SUMIFS('Accounting Data'!C2:C100000,'Accounting Data'!E2:E100000,\"228\",'Accounting Data'!H2:H100000,{\"0??\",\"1??\",\"2??\",\"3??\",\"4??\",\"5??\",\"6??\"},'Accounting Data'!I2:I100000,\"31??\",'Accounting Data'!J2:J100000,\"681?\"))","v":{"v":0,"d":"0 "}},null,null,{"$f":"SUM(SUMIFS('Accounting Data'!C2:C100000,'Accounting Data'!E2:E100000,\"COVID\",'Accounting Data'!H2:H100000,{\"0??\",\"1??\",\"2??\",\"3??\",\"4??\",\"5??\",\"6??\"},'Accounting Data'!I2:I100000,\"31??\",'Accounting Data'!J2:J100000,\"689?\"))+SUM(SUMIFS('Accounting Data'!C2:C100000,'Accounting Data'!E2:E100000,\"227\",'Accounting Data'!H2:H100000,{\"0??\",\"1??\",\"2??\",\"3??\",\"4??\",\"5??\",\"6??\"},'Accounting Data'!I2:I100000,\"31??\",'Accounting Data'!J2:J100000,\"689?\"))+SUM(SUMIFS('Accounting Data'!C2:C100000,'Accounting Data'!E2:E100000,\"228\",'Accounting Data'!H2:H100000,{\"0??\",\"1??\",\"2??\",\"3??\",\"4??\",\"5??\",\"6??\"},'Accounting Data'!I2:I100000,\"31??\",'Accounting Data'!J2:J100000,\"689?\"))","v":{"v":0,"d":"0 "}},{"$f":"SUM(SUMIFS('Accounting Data'!C2:C100000,'Accounting Data'!E2:E100000,\"COVID\",'Accounting Data'!H2:H100000,{\"0??\",\"1??\",\"2??\",\"3??\",\"4??\",\"5??\",\"6??\"},'Accounting Data'!I2:I100000,\"31??\",'Accounting Data'!J2:J100000,\"68??\"))+SUM(SUMIFS('Accounting Data'!C2:C100000,'Accounting Data'!E2:E100000,\"227\",'Accounting Data'!H2:H100000,{\"0??\",\"1??\",\"2??\",\"3??\",\"4??\",\"5??\",\"6??\"},'Accounting Data'!I2:I100000,\"31??\",'Accounting Data'!J2:J100000,\"68??\"))+SUM(SUMIFS('Accounting Data'!C2:C100000,'Accounting Data'!E2:E100000,\"228\",'Accounting Data'!H2:H100000,{\"0??\",\"1??\",\"2??\",\"3??\",\"4??\",\"5??\",\"6??\"},'Accounting Data'!I2:I100000,\"31??\",'Accounting Data'!J2:J100000,\"68??\"))-H16-K16","v":{"v":0,"d":"0 "}},{"$f":"SUM(SUMIFS('Accounting Data'!C2:C100000,'Accounting Data'!E2:E100000,\"COVID\",'Accounting Data'!H2:H100000,{\"7??\",\"8??\",\"9??\"},'Accounting Data'!I2:I100000,\"31??\",'Accounting Data'!J2:J100000,\"6???\"))-SUM(SUMIFS('Accounting Data'!C2:C100000,'Accounting Data'!E2:E100000,\"COVID\",'Accounting Data'!H2:H100000,{\"7??\",\"8??\",\"9??\"},'Accounting Data'!I2:I100000,\"31??\",'Accounting Data'!J2:J100000,\"69??\"))+SUM(SUMIFS('Accounting Data'!C2:C100000,'Accounting Data'!E2:E100000,\"227\",'Accounting Data'!H2:H100000,{\"7??\",\"8??\",\"9??\"},'Accounting Data'!I2:I100000,\"31??\",'Accounting Data'!J2:J100000,\"6???\"))-SUM(SUMIFS('Accounting Data'!C2:C100000,'Accounting Data'!E2:E100000,\"227\",'Accounting Data'!H2:H100000,{\"7??\",\"8??\",\"9??\"},'Accounting Data'!I2:I100000,\"31??\",'Accounting Data'!J2:J100000,\"69??\"))+SUM(SUMIFS('Accounting Data'!C2:C100000,'Accounting Data'!E2:E100000,\"228\",'Accounting Data'!H2:H100000,{\"7??\",\"8??\",\"9??\"},'Accounting Data'!I2:I100000,\"31??\",'Accounting Data'!J2:J100000,\"6???\"))-SUM(SUMIFS('Accounting Data'!C2:C100000,'Accounting Data'!E2:E100000,\"228\",'Accounting Data'!H2:H100000,{\"7??\",\"8??\",\"9??\"},'Accounting Data'!I2:I100000,\"31??\",'Accounting Data'!J2:J100000,\"69??\"))","v":{"v":0,"d":"0 "}},{"v":0,"d":"0 "}]
["3200 Enterprise Operations","8.",{"$f":"SUM(SUMIFS('Accounting Data'!C2:C100000,'Accounting Data'!E2:E100000,\"COVID\",'Accounting Data'!H2:H100000,{\"0??\",\"1??\",\"2??\",\"3??\",\"4??\",\"5??\",\"6??\"},'Accounting Data'!I2:I100000,\"32??\",'Accounting Data'!J2:J100000,\"61??\"))+SUM(SUMIFS('Accounting Data'!C2:C100000,'Accounting Data'!E2:E100000,\"227\",'Accounting Data'!H2:H100000,{\"0??\",\"1??\",\"2??\",\"3??\",\"4??\",\"5??\",\"6??\"},'Accounting Data'!I2:I100000,\"32??\",'Accounting Data'!J2:J100000,\"61??\"))+SUM(SUMIFS('Accounting Data'!C2:C100000,'Accounting Data'!E2:E100000,\"228\",'Accounting Data'!H2:H100000,{\"0??\",\"1??\",\"2??\",\"3??\",\"4??\",\"5??\",\"6??\"},'Accounting Data'!I2:I100000,\"32??\",'Accounting Data'!J2:J100000,\"61??\"))","v":{"v":0,"d":"0 "}},{"$f":"SUM(SUMIFS('Accounting Data'!C2:C100000,'Accounting Data'!E2:E100000,\"COVID\",'Accounting Data'!H2:H100000,{\"0??\",\"1??\",\"2??\",\"3??\",\"4??\",\"5??\",\"6??\"},'Accounting Data'!I2:I100000,\"32??\",'Accounting Data'!J2:J100000,\"62??\"))+SUM(SUMIFS('Accounting Data'!C2:C100000,'Accounting Data'!E2:E100000,\"227\",'Accounting Data'!H2:H100000,{\"0??\",\"1??\",\"2??\",\"3??\",\"4??\",\"5??\",\"6??\"},'Accounting Data'!I2:I100000,\"32??\",'Accounting Data'!J2:J100000,\"62??\"))+SUM(SUMIFS('Accounting Data'!C2:C100000,'Accounting Data'!E2:E100000,\"228\",'Accounting Data'!H2:H100000,{\"0??\",\"1??\",\"2??\",\"3??\",\"4??\",\"5??\",\"6??\"},'Accounting Data'!I2:I100000,\"32??\",'Accounting Data'!J2:J100000,\"62??\"))","v":{"v":0,"d":"0 "}},{"$f":"SUM(SUMIFS('Accounting Data'!C2:C100000,'Accounting Data'!E2:E100000,\"COVID\",'Accounting Data'!H2:H100000,{\"0??\",\"1??\",\"2??\",\"3??\",\"4??\",\"5??\",\"6??\"},'Accounting Data'!I2:I100000,\"32??\",'Accounting Data'!J2:J100000,\"63??\"))+SUM(SUMIFS('Accounting Data'!C2:C100000,'Accounting Data'!E2:E100000,\"COVID\",'Accounting Data'!H2:H100000,{\"0??\",\"1??\",\"2??\",\"3??\",\"4??\",\"5??\",\"6??\"},'Accounting Data'!I2:I100000,\"32??\",'Accounting Data'!J2:J100000,\"64??\"))+SUM(SUMIFS('Accounting Data'!C2:C100000,'Accounting Data'!E2:E100000,\"COVID\",'Accounting Data'!H2:H100000,{\"0??\",\"1??\",\"2??\",\"3??\",\"4??\",\"5??\",\"6??\"},'Accounting Data'!I2:I100000,\"32??\",'Accounting Data'!J2:J100000,\"65??\"))+SUM(SUMIFS('Accounting Data'!C2:C100000,'Accounting Data'!E2:E100000,\"227\",'Accounting Data'!H2:H100000,{\"0??\",\"1??\",\"2??\",\"3??\",\"4??\",\"5??\",\"6??\"},'Accounting Data'!I2:I100000,\"32??\",'Accounting Data'!J2:J100000,\"63??\"))+SUM(SUMIFS('Accounting Data'!C2:C100000,'Accounting Data'!E2:E100000,\"227\",'Accounting Data'!H2:H100000,{\"0??\",\"1??\",\"2??\",\"3??\",\"4??\",\"5??\",\"6??\"},'Accounting Data'!I2:I100000,\"32??\",'Accounting Data'!J2:J100000,\"64??\"))+SUM(SUMIFS('Accounting Data'!C2:C100000,'Accounting Data'!E2:E100000,\"227\",'Accounting Data'!H2:H100000,{\"0??\",\"1??\",\"2??\",\"3??\",\"4??\",\"5??\",\"6??\"},'Accounting Data'!I2:I100000,\"32??\",'Accounting Data'!J2:J100000,\"65??\"))+SUM(SUMIFS('Accounting Data'!C2:C100000,'Accounting Data'!E2:E100000,\"228\",'Accounting Data'!H2:H100000,{\"0??\",\"1??\",\"2??\",\"3??\",\"4??\",\"5??\",\"6??\"},'Accounting Data'!I2:I100000,\"32??\",'Accounting Data'!J2:J100000,\"63??\"))+SUM(SUMIFS('Accounting Data'!C2:C100000,'Accounting Data'!E2:E100000,\"228\",'Accounting Data'!H2:H100000,{\"0??\",\"1??\",\"2??\",\"3??\",\"4??\",\"5??\",\"6??\"},'Accounting Data'!I2:I100000,\"32??\",'Accounting Data'!J2:J100000,\"64??\"))+SUM(SUMIFS('Accounting Data'!C2:C100000,'Accounting Data'!E2:E100000,\"228\",'Accounting Data'!H2:H100000,{\"0??\",\"1??\",\"2??\",\"3??\",\"4??\",\"5??\",\"6??\"},'Accounting Data'!I2:I100000,\"32??\",'Accounting Data'!J2:J100000,\"65??\"))","v":{"v":0,"d":"0 "}},{"$f":"SUM(SUMIFS('Accounting Data'!C2:C100000,'Accounting Data'!E2:E100000,\"COVID\",'Accounting Data'!H2:H100000,{\"0??\",\"1??\",\"2??\",\"3??\",\"4??\",\"5??\",\"6??\"},'Accounting Data'!I2:I100000,\"32??\",'Accounting Data'!J2:J100000,\"66??\"))+SUM(SUMIFS('Accounting Data'!C2:C100000,'Accounting Data'!E2:E100000,\"227\",'Accounting Data'!H2:H100000,{\"0??\",\"1??\",\"2??\",\"3??\",\"4??\",\"5??\",\"6??\"},'Accounting Data'!I2:I100000,\"32??\",'Accounting Data'!J2:J100000,\"66??\"))+SUM(SUMIFS('Accounting Data'!C2:C100000,'Accounting Data'!E2:E100000,\"228\",'Accounting Data'!H2:H100000,{\"0??\",\"1??\",\"2??\",\"3??\",\"4??\",\"5??\",\"6??\"},'Accounting Data'!I2:I100000,\"32??\",'Accounting Data'!J2:J100000,\"66??\"))","v":{"v":0,"d":"0 "}},{"$f":"SUM(SUMIFS('Accounting Data'!C2:C100000,'Accounting Data'!E2:E100000,\"COVID\",'Accounting Data'!H2:H100000,{\"0??\",\"1??\",\"2??\",\"3??\",\"4??\",\"5??\",\"6??\"},'Accounting Data'!I2:I100000,\"32??\",'Accounting Data'!J2:J100000,\"67??\"))+SUM(SUMIFS('Accounting Data'!C2:C100000,'Accounting Data'!E2:E100000,\"227\",'Accounting Data'!H2:H100000,{\"0??\",\"1??\",\"2??\",\"3??\",\"4??\",\"5??\",\"6??\"},'Accounting Data'!I2:I100000,\"32??\",'Accounting Data'!J2:J100000,\"67??\"))+SUM(SUMIFS('Accounting Data'!C2:C100000,'Accounting Data'!E2:E100000,\"228\",'Accounting Data'!H2:H100000,{\"0??\",\"1??\",\"2??\",\"3??\",\"4??\",\"5??\",\"6??\"},'Accounting Data'!I2:I100000,\"32??\",'Accounting Data'!J2:J100000,\"67??\"))","v":{"v":0,"d":"0 "}},{"$f":"SUM(SUMIFS('Accounting Data'!C2:C100000,'Accounting Data'!E2:E100000,\"COVID\",'Accounting Data'!H2:H100000,{\"0??\",\"1??\",\"2??\",\"3??\",\"4??\",\"5??\",\"6??\"},'Accounting Data'!I2:I100000,\"32??\",'Accounting Data'!J2:J100000,\"681?\"))+SUM(SUMIFS('Accounting Data'!C2:C100000,'Accounting Data'!E2:E100000,\"227\",'Accounting Data'!H2:H100000,{\"0??\",\"1??\",\"2??\",\"3??\",\"4??\",\"5??\",\"6??\"},'Accounting Data'!I2:I100000,\"32??\",'Accounting Data'!J2:J100000,\"681?\"))+SUM(SUMIFS('Accounting Data'!C2:C100000,'Accounting Data'!E2:E100000,\"228\",'Accounting Data'!H2:H100000,{\"0??\",\"1??\",\"2??\",\"3??\",\"4??\",\"5??\",\"6??\"},'Accounting Data'!I2:I100000,\"32??\",'Accounting Data'!J2:J100000,\"681?\"))","v":{"v":0,"d":"0 "}},null,null,{"$f":"SUM(SUMIFS('Accounting Data'!C2:C100000,'Accounting Data'!E2:E100000,\"COVID\",'Accounting Data'!H2:H100000,{\"0??\",\"1??\",\"2??\",\"3??\",\"4??\",\"5??\",\"6??\"},'Accounting Data'!I2:I100000,\"32??\",'Accounting Data'!J2:J100000,\"689?\"))+SUM(SUMIFS('Accounting Data'!C2:C100000,'Accounting Data'!E2:E100000,\"227\",'Accounting Data'!H2:H100000,{\"0??\",\"1??\",\"2??\",\"3??\",\"4??\",\"5??\",\"6??\"},'Accounting Data'!I2:I100000,\"32??\",'Accounting Data'!J2:J100000,\"689?\"))+SUM(SUMIFS('Accounting Data'!C2:C100000,'Accounting Data'!E2:E100000,\"228\",'Accounting Data'!H2:H100000,{\"0??\",\"1??\",\"2??\",\"3??\",\"4??\",\"5??\",\"6??\"},'Accounting Data'!I2:I100000,\"32??\",'Accounting Data'!J2:J100000,\"689?\"))","v":{"v":0,"d":"0 "}},{"$f":"SUM(SUMIFS('Accounting Data'!C2:C100000,'Accounting Data'!E2:E100000,\"COVID\",'Accounting Data'!H2:H100000,{\"0??\",\"1??\",\"2??\",\"3??\",\"4??\",\"5??\",\"6??\"},'Accounting Data'!I2:I100000,\"32??\",'Accounting Data'!J2:J100000,\"68??\"))+SUM(SUMIFS('Accounting Data'!C2:C100000,'Accounting Data'!E2:E100000,\"227\",'Accounting Data'!H2:H100000,{\"0??\",\"1??\",\"2??\",\"3??\",\"4??\",\"5??\",\"6??\"},'Accounting Data'!I2:I100000,\"32??\",'Accounting Data'!J2:J100000,\"68??\"))+SUM(SUMIFS('Accounting Data'!C2:C100000,'Accounting Data'!E2:E100000,\"228\",'Accounting Data'!H2:H100000,{\"0??\",\"1??\",\"2??\",\"3??\",\"4??\",\"5??\",\"6??\"},'Accounting Data'!I2:I100000,\"32??\",'Accounting Data'!J2:J100000,\"68??\"))-H17-K17","v":{"v":0,"d":"0 "}},{"$f":"SUM(SUMIFS('Accounting Data'!C2:C100000,'Accounting Data'!E2:E100000,\"COVID\",'Accounting Data'!H2:H100000,{\"7??\",\"8??\",\"9??\"},'Accounting Data'!I2:I100000,\"32??\",'Accounting Data'!J2:J100000,\"6???\"))-SUM(SUMIFS('Accounting Data'!C2:C100000,'Accounting Data'!E2:E100000,\"COVID\",'Accounting Data'!H2:H100000,{\"7??\",\"8??\",\"9??\"},'Accounting Data'!I2:I100000,\"32??\",'Accounting Data'!J2:J100000,\"69??\"))+SUM(SUMIFS('Accounting Data'!C2:C100000,'Accounting Data'!E2:E100000,\"227\",'Accounting Data'!H2:H100000,{\"7??\",\"8??\",\"9??\"},'Accounting Data'!I2:I100000,\"32??\",'Accounting Data'!J2:J100000,\"6???\"))-SUM(SUMIFS('Accounting Data'!C2:C100000,'Accounting Data'!E2:E100000,\"227\",'Accounting Data'!H2:H100000,{\"7??\",\"8??\",\"9??\"},'Accounting Data'!I2:I100000,\"32??\",'Accounting Data'!J2:J100000,\"69??\"))+SUM(SUMIFS('Accounting Data'!C2:C100000,'Accounting Data'!E2:E100000,\"228\",'Accounting Data'!H2:H100000,{\"7??\",\"8??\",\"9??\"},'Accounting Data'!I2:I100000,\"32??\",'Accounting Data'!J2:J100000,\"6???\"))-SUM(SUMIFS('Accounting Data'!C2:C100000,'Accounting Data'!E2:E100000,\"228\",'Accounting Data'!H2:H100000,{\"7??\",\"8??\",\"9??\"},'Accounting Data'!I2:I100000,\"32??\",'Accounting Data'!J2:J100000,\"69??\"))","v":{"v":0,"d":"0 "}},{"v":0,"d":"0 "}]
["3300 Community Services Operations","9.",{"$f":"SUM(SUMIFS('Accounting Data'!C2:C100000,'Accounting Data'!E2:E100000,\"COVID\",'Accounting Data'!H2:H100000,{\"0??\",\"1??\",\"2??\",\"3??\",\"4??\",\"5??\",\"6??\"},'Accounting Data'!I2:I100000,\"33??\",'Accounting Data'!J2:J100000,\"61??\"))+SUM(SUMIFS('Accounting Data'!C2:C100000,'Accounting Data'!E2:E100000,\"227\",'Accounting Data'!H2:H100000,{\"0??\",\"1??\",\"2??\",\"3??\",\"4??\",\"5??\",\"6??\"},'Accounting Data'!I2:I100000,\"33??\",'Accounting Data'!J2:J100000,\"61??\"))+SUM(SUMIFS('Accounting Data'!C2:C100000,'Accounting Data'!E2:E100000,\"228\",'Accounting Data'!H2:H100000,{\"0??\",\"1??\",\"2??\",\"3??\",\"4??\",\"5??\",\"6??\"},'Accounting Data'!I2:I100000,\"33??\",'Accounting Data'!J2:J100000,\"61??\"))","v":{"v":0,"d":"0 "}},{"$f":"SUM(SUMIFS('Accounting Data'!C2:C100000,'Accounting Data'!E2:E100000,\"COVID\",'Accounting Data'!H2:H100000,{\"0??\",\"1??\",\"2??\",\"3??\",\"4??\",\"5??\",\"6??\"},'Accounting Data'!I2:I100000,\"33??\",'Accounting Data'!J2:J100000,\"62??\"))+SUM(SUMIFS('Accounting Data'!C2:C100000,'Accounting Data'!E2:E100000,\"227\",'Accounting Data'!H2:H100000,{\"0??\",\"1??\",\"2??\",\"3??\",\"4??\",\"5??\",\"6??\"},'Accounting Data'!I2:I100000,\"33??\",'Accounting Data'!J2:J100000,\"62??\"))+SUM(SUMIFS('Accounting Data'!C2:C100000,'Accounting Data'!E2:E100000,\"228\",'Accounting Data'!H2:H100000,{\"0??\",\"1??\",\"2??\",\"3??\",\"4??\",\"5??\",\"6??\"},'Accounting Data'!I2:I100000,\"33??\",'Accounting Data'!J2:J100000,\"62??\"))","v":{"v":0,"d":"0 "}},{"$f":"SUM(SUMIFS('Accounting Data'!C2:C100000,'Accounting Data'!E2:E100000,\"COVID\",'Accounting Data'!H2:H100000,{\"0??\",\"1??\",\"2??\",\"3??\",\"4??\",\"5??\",\"6??\"},'Accounting Data'!I2:I100000,\"33??\",'Accounting Data'!J2:J100000,\"63??\"))+SUM(SUMIFS('Accounting Data'!C2:C100000,'Accounting Data'!E2:E100000,\"COVID\",'Accounting Data'!H2:H100000,{\"0??\",\"1??\",\"2??\",\"3??\",\"4??\",\"5??\",\"6??\"},'Accounting Data'!I2:I100000,\"33??\",'Accounting Data'!J2:J100000,\"64??\"))+SUM(SUMIFS('Accounting Data'!C2:C100000,'Accounting Data'!E2:E100000,\"COVID\",'Accounting Data'!H2:H100000,{\"0??\",\"1??\",\"2??\",\"3??\",\"4??\",\"5??\",\"6??\"},'Accounting Data'!I2:I100000,\"33??\",'Accounting Data'!J2:J100000,\"65??\"))+SUM(SUMIFS('Accounting Data'!C2:C100000,'Accounting Data'!E2:E100000,\"227\",'Accounting Data'!H2:H100000,{\"0??\",\"1??\",\"2??\",\"3??\",\"4??\",\"5??\",\"6??\"},'Accounting Data'!I2:I100000,\"33??\",'Accounting Data'!J2:J100000,\"63??\"))+SUM(SUMIFS('Accounting Data'!C2:C100000,'Accounting Data'!E2:E100000,\"227\",'Accounting Data'!H2:H100000,{\"0??\",\"1??\",\"2??\",\"3??\",\"4??\",\"5??\",\"6??\"},'Accounting Data'!I2:I100000,\"33??\",'Accounting Data'!J2:J100000,\"64??\"))+SUM(SUMIFS('Accounting Data'!C2:C100000,'Accounting Data'!E2:E100000,\"227\",'Accounting Data'!H2:H100000,{\"0??\",\"1??\",\"2??\",\"3??\",\"4??\",\"5??\",\"6??\"},'Accounting Data'!I2:I100000,\"33??\",'Accounting Data'!J2:J100000,\"65??\"))+SUM(SUMIFS('Accounting Data'!C2:C100000,'Accounting Data'!E2:E100000,\"228\",'Accounting Data'!H2:H100000,{\"0??\",\"1??\",\"2??\",\"3??\",\"4??\",\"5??\",\"6??\"},'Accounting Data'!I2:I100000,\"33??\",'Accounting Data'!J2:J100000,\"63??\"))+SUM(SUMIFS('Accounting Data'!C2:C100000,'Accounting Data'!E2:E100000,\"228\",'Accounting Data'!H2:H100000,{\"0??\",\"1??\",\"2??\",\"3??\",\"4??\",\"5??\",\"6??\"},'Accounting Data'!I2:I100000,\"33??\",'Accounting Data'!J2:J100000,\"64??\"))+SUM(SUMIFS('Accounting Data'!C2:C100000,'Accounting Data'!E2:E100000,\"228\",'Accounting Data'!H2:H100000,{\"0??\",\"1??\",\"2??\",\"3??\",\"4??\",\"5??\",\"6??\"},'Accounting Data'!I2:I100000,\"33??\",'Accounting Data'!J2:J100000,\"65??\"))","v":{"v":0,"d":"0 "}},{"$f":"SUM(SUMIFS('Accounting Data'!C2:C100000,'Accounting Data'!E2:E100000,\"COVID\",'Accounting Data'!H2:H100000,{\"0??\",\"1??\",\"2??\",\"3??\",\"4??\",\"5??\",\"6??\"},'Accounting Data'!I2:I100000,\"33??\",'Accounting Data'!J2:J100000,\"66??\"))+SUM(SUMIFS('Accounting Data'!C2:C100000,'Accounting Data'!E2:E100000,\"227\",'Accounting Data'!H2:H100000,{\"0??\",\"1??\",\"2??\",\"3??\",\"4??\",\"5??\",\"6??\"},'Accounting Data'!I2:I100000,\"33??\",'Accounting Data'!J2:J100000,\"66??\"))+SUM(SUMIFS('Accounting Data'!C2:C100000,'Accounting Data'!E2:E100000,\"228\",'Accounting Data'!H2:H100000,{\"0??\",\"1??\",\"2??\",\"3??\",\"4??\",\"5??\",\"6??\"},'Accounting Data'!I2:I100000,\"33??\",'Accounting Data'!J2:J100000,\"66??\"))","v":{"v":0,"d":"0 "}},{"$f":"SUM(SUMIFS('Accounting Data'!C2:C100000,'Accounting Data'!E2:E100000,\"COVID\",'Accounting Data'!H2:H100000,{\"0??\",\"1??\",\"2??\",\"3??\",\"4??\",\"5??\",\"6??\"},'Accounting Data'!I2:I100000,\"33??\",'Accounting Data'!J2:J100000,\"67??\"))+SUM(SUMIFS('Accounting Data'!C2:C100000,'Accounting Data'!E2:E100000,\"227\",'Accounting Data'!H2:H100000,{\"0??\",\"1??\",\"2??\",\"3??\",\"4??\",\"5??\",\"6??\"},'Accounting Data'!I2:I100000,\"33??\",'Accounting Data'!J2:J100000,\"67??\"))+SUM(SUMIFS('Accounting Data'!C2:C100000,'Accounting Data'!E2:E100000,\"228\",'Accounting Data'!H2:H100000,{\"0??\",\"1??\",\"2??\",\"3??\",\"4??\",\"5??\",\"6??\"},'Accounting Data'!I2:I100000,\"33??\",'Accounting Data'!J2:J100000,\"67??\"))","v":{"v":0,"d":"0 "}},{"$f":"SUM(SUMIFS('Accounting Data'!C2:C100000,'Accounting Data'!E2:E100000,\"COVID\",'Accounting Data'!H2:H100000,{\"0??\",\"1??\",\"2??\",\"3??\",\"4??\",\"5??\",\"6??\"},'Accounting Data'!I2:I100000,\"33??\",'Accounting Data'!J2:J100000,\"681?\"))+SUM(SUMIFS('Accounting Data'!C2:C100000,'Accounting Data'!E2:E100000,\"227\",'Accounting Data'!H2:H100000,{\"0??\",\"1??\",\"2??\",\"3??\",\"4??\",\"5??\",\"6??\"},'Accounting Data'!I2:I100000,\"33??\",'Accounting Data'!J2:J100000,\"681?\"))+SUM(SUMIFS('Accounting Data'!C2:C100000,'Accounting Data'!E2:E100000,\"228\",'Accounting Data'!H2:H100000,{\"0??\",\"1??\",\"2??\",\"3??\",\"4??\",\"5??\",\"6??\"},'Accounting Data'!I2:I100000,\"33??\",'Accounting Data'!J2:J100000,\"681?\"))","v":{"v":0,"d":"0 "}},{"$nulls":3},{"$f":"SUM(SUMIFS('Accounting Data'!C2:C100000,'Accounting Data'!E2:E100000,\"COVID\",'Accounting Data'!H2:H100000,{\"0??\",\"1??\",\"2??\",\"3??\",\"4??\",\"5??\",\"6??\"},'Accounting Data'!I2:I100000,\"33??\",'Accounting Data'!J2:J100000,\"68??\"))+SUM(SUMIFS('Accounting Data'!C2:C100000,'Accounting Data'!E2:E100000,\"227\",'Accounting Data'!H2:H100000,{\"0??\",\"1??\",\"2??\",\"3??\",\"4??\",\"5??\",\"6??\"},'Accounting Data'!I2:I100000,\"33??\",'Accounting Data'!J2:J100000,\"68??\"))+SUM(SUMIFS('Accounting Data'!C2:C100000,'Accounting Data'!E2:E100000,\"228\",'Accounting Data'!H2:H100000,{\"0??\",\"1??\",\"2??\",\"3??\",\"4??\",\"5??\",\"6??\"},'Accounting Data'!I2:I100000,\"33??\",'Accounting Data'!J2:J100000,\"68??\"))-H18","v":{"v":0,"d":"0 "}},{"$f":"SUM(SUMIFS('Accounting Data'!C2:C100000,'Accounting Data'!E2:E100000,\"COVID\",'Accounting Data'!H2:H100000,{\"7??\",\"8??\",\"9??\"},'Accounting Data'!I2:I100000,\"33??\",'Accounting Data'!J2:J100000,\"6???\"))-SUM(SUMIFS('Accounting Data'!C2:C100000,'Accounting Data'!E2:E100000,\"COVID\",'Accounting Data'!H2:H100000,{\"7??\",\"8??\",\"9??\"},'Accounting Data'!I2:I100000,\"33??\",'Accounting Data'!J2:J100000,\"69??\"))+SUM(SUMIFS('Accounting Data'!C2:C100000,'Accounting Data'!E2:E100000,\"227\",'Accounting Data'!H2:H100000,{\"7??\",\"8??\",\"9??\"},'Accounting Data'!I2:I100000,\"33??\",'Accounting Data'!J2:J100000,\"6???\"))-SUM(SUMIFS('Accounting Data'!C2:C100000,'Accounting Data'!E2:E100000,\"227\",'Accounting Data'!H2:H100000,{\"7??\",\"8??\",\"9??\"},'Accounting Data'!I2:I100000,\"33??\",'Accounting Data'!J2:J100000,\"69??\"))+SUM(SUMIFS('Accounting Data'!C2:C100000,'Accounting Data'!E2:E100000,\"228\",'Accounting Data'!H2:H100000,{\"7??\",\"8??\",\"9??\"},'Accounting Data'!I2:I100000,\"33??\",'Accounting Data'!J2:J100000,\"6???\"))-SUM(SUMIFS('Accounting Data'!C2:C100000,'Accounting Data'!E2:E100000,\"228\",'Accounting Data'!H2:H100000,{\"7??\",\"8??\",\"9??\"},'Accounting Data'!I2:I100000,\"33??\",'Accounting Data'!J2:J100000,\"69??\"))","v":{"v":0,"d":"0 "}},{"v":0,"d":"0 "}]
["3400 Bookstore Operations","10.",{"$f":"SUM(SUMIFS('Accounting Data'!C2:C100000,'Accounting Data'!E2:E100000,\"COVID\",'Accounting Data'!H2:H100000,{\"0??\",\"1??\",\"2??\",\"3??\",\"4??\",\"5??\",\"6??\"},'Accounting Data'!I2:I100000,\"34??\",'Accounting Data'!J2:J100000,\"61??\"))+SUM(SUMIFS('Accounting Data'!C2:C100000,'Accounting Data'!E2:E100000,\"227\",'Accounting Data'!H2:H100000,{\"0??\",\"1??\",\"2??\",\"3??\",\"4??\",\"5??\",\"6??\"},'Accounting Data'!I2:I100000,\"34??\",'Accounting Data'!J2:J100000,\"61??\"))+SUM(SUMIFS('Accounting Data'!C2:C100000,'Accounting Data'!E2:E100000,\"228\",'Accounting Data'!H2:H100000,{\"0??\",\"1??\",\"2??\",\"3??\",\"4??\",\"5??\",\"6??\"},'Accounting Data'!I2:I100000,\"34??\",'Accounting Data'!J2:J100000,\"61??\"))","v":{"v":0,"d":"0 "}},{"$f":"SUM(SUMIFS('Accounting Data'!C2:C100000,'Accounting Data'!E2:E100000,\"COVID\",'Accounting Data'!H2:H100000,{\"0??\",\"1??\",\"2??\",\"3??\",\"4??\",\"5??\",\"6??\"},'Accounting Data'!I2:I100000,\"34??\",'Accounting Data'!J2:J100000,\"62??\"))+SUM(SUMIFS('Accounting Data'!C2:C100000,'Accounting Data'!E2:E100000,\"227\",'Accounting Data'!H2:H100000,{\"0??\",\"1??\",\"2??\",\"3??\",\"4??\",\"5??\",\"6??\"},'Accounting Data'!I2:I100000,\"34??\",'Accounting Data'!J2:J100000,\"62??\"))+SUM(SUMIFS('Accounting Data'!C2:C100000,'Accounting Data'!E2:E100000,\"228\",'Accounting Data'!H2:H100000,{\"0??\",\"1??\",\"2??\",\"3??\",\"4??\",\"5??\",\"6??\"},'Accounting Data'!I2:I100000,\"34??\",'Accounting Data'!J2:J100000,\"62??\"))","v":{"v":0,"d":"0 "}},{"$f":"SUM(SUMIFS('Accounting Data'!C2:C100000,'Accounting Data'!E2:E100000,\"COVID\",'Accounting Data'!H2:H100000,{\"0??\",\"1??\",\"2??\",\"3??\",\"4??\",\"5??\",\"6??\"},'Accounting Data'!I2:I100000,\"34??\",'Accounting Data'!J2:J100000,\"63??\"))+SUM(SUMIFS('Accounting Data'!C2:C100000,'Accounting Data'!E2:E100000,\"COVID\",'Accounting Data'!H2:H100000,{\"0??\",\"1??\",\"2??\",\"3??\",\"4??\",\"5??\",\"6??\"},'Accounting Data'!I2:I100000,\"34??\",'Accounting Data'!J2:J100000,\"64??\"))+SUM(SUMIFS('Accounting Data'!C2:C100000,'Accounting Data'!E2:E100000,\"COVID\",'Accounting Data'!H2:H100000,{\"0??\",\"1??\",\"2??\",\"3??\",\"4??\",\"5??\",\"6??\"},'Accounting Data'!I2:I100000,\"34??\",'Accounting Data'!J2:J100000,\"65??\"))+SUM(SUMIFS('Accounting Data'!C2:C100000,'Accounting Data'!E2:E100000,\"227\",'Accounting Data'!H2:H100000,{\"0??\",\"1??\",\"2??\",\"3??\",\"4??\",\"5??\",\"6??\"},'Accounting Data'!I2:I100000,\"34??\",'Accounting Data'!J2:J100000,\"63??\"))+SUM(SUMIFS('Accounting Data'!C2:C100000,'Accounting Data'!E2:E100000,\"227\",'Accounting Data'!H2:H100000,{\"0??\",\"1??\",\"2??\",\"3??\",\"4??\",\"5??\",\"6??\"},'Accounting Data'!I2:I100000,\"34??\",'Accounting Data'!J2:J100000,\"64??\"))+SUM(SUMIFS('Accounting Data'!C2:C100000,'Accounting Data'!E2:E100000,\"227\",'Accounting Data'!H2:H100000,{\"0??\",\"1??\",\"2??\",\"3??\",\"4??\",\"5??\",\"6??\"},'Accounting Data'!I2:I100000,\"34??\",'Accounting Data'!J2:J100000,\"65??\"))+SUM(SUMIFS('Accounting Data'!C2:C100000,'Accounting Data'!E2:E100000,\"228\",'Accounting Data'!H2:H100000,{\"0??\",\"1??\",\"2??\",\"3??\",\"4??\",\"5??\",\"6??\"},'Accounting Data'!I2:I100000,\"34??\",'Accounting Data'!J2:J100000,\"63??\"))+SUM(SUMIFS('Accounting Data'!C2:C100000,'Accounting Data'!E2:E100000,\"228\",'Accounting Data'!H2:H100000,{\"0??\",\"1??\",\"2??\",\"3??\",\"4??\",\"5??\",\"6??\"},'Accounting Data'!I2:I100000,\"34??\",'Accounting Data'!J2:J100000,\"64??\"))+SUM(SUMIFS('Accounting Data'!C2:C100000,'Accounting Data'!E2:E100000,\"228\",'Accounting Data'!H2:H100000,{\"0??\",\"1??\",\"2??\",\"3??\",\"4??\",\"5??\",\"6??\"},'Accounting Data'!I2:I100000,\"34??\",'Accounting Data'!J2:J100000,\"65??\"))","v":{"v":0,"d":"0 "}},{"$f":"SUM(SUMIFS('Accounting Data'!C2:C100000,'Accounting Data'!E2:E100000,\"COVID\",'Accounting Data'!H2:H100000,{\"0??\",\"1??\",\"2??\",\"3??\",\"4??\",\"5??\",\"6??\"},'Accounting Data'!I2:I100000,\"34??\",'Accounting Data'!J2:J100000,\"66??\"))+SUM(SUMIFS('Accounting Data'!C2:C100000,'Accounting Data'!E2:E100000,\"227\",'Accounting Data'!H2:H100000,{\"0??\",\"1??\",\"2??\",\"3??\",\"4??\",\"5??\",\"6??\"},'Accounting Data'!I2:I100000,\"34??\",'Accounting Data'!J2:J100000,\"66??\"))+SUM(SUMIFS('Accounting Data'!C2:C100000,'Accounting Data'!E2:E100000,\"228\",'Accounting Data'!H2:H100000,{\"0??\",\"1??\",\"2??\",\"3??\",\"4??\",\"5??\",\"6??\"},'Accounting Data'!I2:I100000,\"34??\",'Accounting Data'!J2:J100000,\"66??\"))","v":{"v":0,"d":"0 "}},{"$f":"SUM(SUMIFS('Accounting Data'!C2:C100000,'Accounting Data'!E2:E100000,\"COVID\",'Accounting Data'!H2:H100000,{\"0??\",\"1??\",\"2??\",\"3??\",\"4??\",\"5??\",\"6??\"},'Accounting Data'!I2:I100000,\"34??\",'Accounting Data'!J2:J100000,\"67??\"))+SUM(SUMIFS('Accounting Data'!C2:C100000,'Accounting Data'!E2:E100000,\"227\",'Accounting Data'!H2:H100000,{\"0??\",\"1??\",\"2??\",\"3??\",\"4??\",\"5??\",\"6??\"},'Accounting Data'!I2:I100000,\"34??\",'Accounting Data'!J2:J100000,\"67??\"))+SUM(SUMIFS('Accounting Data'!C2:C100000,'Accounting Data'!E2:E100000,\"228\",'Accounting Data'!H2:H100000,{\"0??\",\"1??\",\"2??\",\"3??\",\"4??\",\"5??\",\"6??\"},'Accounting Data'!I2:I100000,\"34??\",'Accounting Data'!J2:J100000,\"67??\"))","v":{"v":0,"d":"0 "}},{"$f":"SUM(SUMIFS('Accounting Data'!C2:C100000,'Accounting Data'!E2:E100000,\"COVID\",'Accounting Data'!H2:H100000,{\"0??\",\"1??\",\"2??\",\"3??\",\"4??\",\"5??\",\"6??\"},'Accounting Data'!I2:I100000,\"34??\",'Accounting Data'!J2:J100000,\"681?\"))+SUM(SUMIFS('Accounting Data'!C2:C100000,'Accounting Data'!E2:E100000,\"227\",'Accounting Data'!H2:H100000,{\"0??\",\"1??\",\"2??\",\"3??\",\"4??\",\"5??\",\"6??\"},'Accounting Data'!I2:I100000,\"34??\",'Accounting Data'!J2:J100000,\"681?\"))+SUM(SUMIFS('Accounting Data'!C2:C100000,'Accounting Data'!E2:E100000,\"228\",'Accounting Data'!H2:H100000,{\"0??\",\"1??\",\"2??\",\"3??\",\"4??\",\"5??\",\"6??\"},'Accounting Data'!I2:I100000,\"34??\",'Accounting Data'!J2:J100000,\"681?\"))","v":{"v":0,"d":"0 "}},null,null,{"$f":"SUM(SUMIFS('Accounting Data'!C2:C100000,'Accounting Data'!E2:E100000,\"COVID\",'Accounting Data'!H2:H100000,{\"0??\",\"1??\",\"2??\",\"3??\",\"4??\",\"5??\",\"6??\"},'Accounting Data'!I2:I100000,\"34??\",'Accounting Data'!J2:J100000,\"689?\"))+SUM(SUMIFS('Accounting Data'!C2:C100000,'Accounting Data'!E2:E100000,\"227\",'Accounting Data'!H2:H100000,{\"0??\",\"1??\",\"2??\",\"3??\",\"4??\",\"5??\",\"6??\"},'Accounting Data'!I2:I100000,\"34??\",'Accounting Data'!J2:J100000,\"689?\"))+SUM(SUMIFS('Accounting Data'!C2:C100000,'Accounting Data'!E2:E100000,\"228\",'Accounting Data'!H2:H100000,{\"0??\",\"1??\",\"2??\",\"3??\",\"4??\",\"5??\",\"6??\"},'Accounting Data'!I2:I100000,\"34??\",'Accounting Data'!J2:J100000,\"689?\"))","v":{"v":0,"d":"0 "}},{"$f":"SUM(SUMIFS('Accounting Data'!C2:C100000,'Accounting Data'!E2:E100000,\"COVID\",'Accounting Data'!H2:H100000,{\"0??\",\"1??\",\"2??\",\"3??\",\"4??\",\"5??\",\"6??\"},'Accounting Data'!I2:I100000,\"34??\",'Accounting Data'!J2:J100000,\"68??\"))+SUM(SUMIFS('Accounting Data'!C2:C100000,'Accounting Data'!E2:E100000,\"227\",'Accounting Data'!H2:H100000,{\"0??\",\"1??\",\"2??\",\"3??\",\"4??\",\"5??\",\"6??\"},'Accounting Data'!I2:I100000,\"34??\",'Accounting Data'!J2:J100000,\"68??\"))+SUM(SUMIFS('Accounting Data'!C2:C100000,'Accounting Data'!E2:E100000,\"228\",'Accounting Data'!H2:H100000,{\"0??\",\"1??\",\"2??\",\"3??\",\"4??\",\"5??\",\"6??\"},'Accounting Data'!I2:I100000,\"34??\",'Accounting Data'!J2:J100000,\"68??\"))-H19-K19","v":{"v":0,"d":"0 "}},{"$f":"SUM(SUMIFS('Accounting Data'!C2:C100000,'Accounting Data'!E2:E100000,\"COVID\",'Accounting Data'!H2:H100000,{\"7??\",\"8??\",\"9??\"},'Accounting Data'!I2:I100000,\"34??\",'Accounting Data'!J2:J100000,\"6???\"))-SUM(SUMIFS('Accounting Data'!C2:C100000,'Accounting Data'!E2:E100000,\"COVID\",'Accounting Data'!H2:H100000,{\"7??\",\"8??\",\"9??\"},'Accounting Data'!I2:I100000,\"34??\",'Accounting Data'!J2:J100000,\"69??\"))+SUM(SUMIFS('Accounting Data'!C2:C100000,'Accounting Data'!E2:E100000,\"227\",'Accounting Data'!H2:H100000,{\"7??\",\"8??\",\"9??\"},'Accounting Data'!I2:I100000,\"34??\",'Accounting Data'!J2:J100000,\"6???\"))-SUM(SUMIFS('Accounting Data'!C2:C100000,'Accounting Data'!E2:E100000,\"227\",'Accounting Data'!H2:H100000,{\"7??\",\"8??\",\"9??\"},'Accounting Data'!I2:I100000,\"34??\",'Accounting Data'!J2:J100000,\"69??\"))+SUM(SUMIFS('Accounting Data'!C2:C100000,'Accounting Data'!E2:E100000,\"228\",'Accounting Data'!H2:H100000,{\"7??\",\"8??\",\"9??\"},'Accounting Data'!I2:I100000,\"34??\",'Accounting Data'!J2:J100000,\"6???\"))-SUM(SUMIFS('Accounting Data'!C2:C100000,'Accounting Data'!E2:E100000,\"228\",'Accounting Data'!H2:H100000,{\"7??\",\"8??\",\"9??\"},'Accounting Data'!I2:I100000,\"34??\",'Accounting Data'!J2:J100000,\"69??\"))","v":{"v":0,"d":"0 "}},{"v":0,"d":"0 "}]
["Other ","11.",{"$f":"SUM(SUMIFS('Accounting Data'!C2:C100000,'Accounting Data'!E2:E100000,\"COVID\",'Accounting Data'!H2:H100000,{\"0??\",\"1??\",\"2??\",\"3??\",\"4??\",\"5??\",\"6??\"},'Accounting Data'!J2:J100000,\"61??\"))+SUM(SUMIFS('Accounting Data'!C2:C100000,'Accounting Data'!E2:E100000,\"227\",'Accounting Data'!H2:H100000,{\"0??\",\"1??\",\"2??\",\"3??\",\"4??\",\"5??\",\"6??\"},'Accounting Data'!J2:J100000,\"61??\"))+SUM(SUMIFS('Accounting Data'!C2:C100000,'Accounting Data'!E2:E100000,\"228\",'Accounting Data'!H2:H100000,{\"0??\",\"1??\",\"2??\",\"3??\",\"4??\",\"5??\",\"6??\"},'Accounting Data'!J2:J100000,\"61??\"))-(SUM(C10:C19))","v":{"v":0,"d":"0 "}},{"$f":"SUM(SUMIFS('Accounting Data'!C2:C100000,'Accounting Data'!E2:E100000,\"COVID\",'Accounting Data'!H2:H100000,{\"0??\",\"1??\",\"2??\",\"3??\",\"4??\",\"5??\",\"6??\"},'Accounting Data'!J2:J100000,\"62??\"))+SUM(SUMIFS('Accounting Data'!C2:C100000,'Accounting Data'!E2:E100000,\"227\",'Accounting Data'!H2:H100000,{\"0??\",\"1??\",\"2??\",\"3??\",\"4??\",\"5??\",\"6??\"},'Accounting Data'!J2:J100000,\"62??\"))+SUM(SUMIFS('Accounting Data'!C2:C100000,'Accounting Data'!E2:E100000,\"228\",'Accounting Data'!H2:H100000,{\"0??\",\"1??\",\"2??\",\"3??\",\"4??\",\"5??\",\"6??\"},'Accounting Data'!J2:J100000,\"62??\"))-(SUM(D10:D19))","v":{"v":0,"d":"0 "}},{"$f":"SUM(SUMIFS('Accounting Data'!C2:C100000,'Accounting Data'!E2:E100000,\"COVID\",'Accounting Data'!H2:H100000,{\"0??\",\"1??\",\"2??\",\"3??\",\"4??\",\"5??\",\"6??\"},'Accounting Data'!J2:J100000,\"63??\"))+SUM(SUMIFS('Accounting Data'!C2:C100000,'Accounting Data'!E2:E100000,\"227\",'Accounting Data'!H2:H100000,{\"0??\",\"1??\",\"2??\",\"3??\",\"4??\",\"5??\",\"6??\"},'Accounting Data'!J2:J100000,\"63??\"))+SUM(SUMIFS('Accounting Data'!C2:C100000,'Accounting Data'!E2:E100000,\"228\",'Accounting Data'!H2:H100000,{\"0??\",\"1??\",\"2??\",\"3??\",\"4??\",\"5??\",\"6??\"},'Accounting Data'!J2:J100000,\"63??\"))+SUM(SUMIFS('Accounting Data'!C2:C100000,'Accounting Data'!E2:E100000,\"COVID\",'Accounting Data'!H2:H100000,{\"0??\",\"1??\",\"2??\",\"3??\",\"4??\",\"5??\",\"6??\"},'Accounting Data'!J2:J100000,\"64??\"))+SUM(SUMIFS('Accounting Data'!C2:C100000,'Accounting Data'!E2:E100000,\"227\",'Accounting Data'!H2:H100000,{\"0??\",\"1??\",\"2??\",\"3??\",\"4??\",\"5??\",\"6??\"},'Accounting Data'!J2:J100000,\"64??\"))+SUM(SUMIFS('Accounting Data'!C2:C100000,'Accounting Data'!E2:E100000,\"228\",'Accounting Data'!H2:H100000,{\"0??\",\"1??\",\"2??\",\"3??\",\"4??\",\"5??\",\"6??\"},'Accounting Data'!J2:J100000,\"64??\"))+SUM(SUMIFS('Accounting Data'!C2:C100000,'Accounting Data'!E2:E100000,\"COVID\",'Accounting Data'!H2:H100000,{\"0??\",\"1??\",\"2??\",\"3??\",\"4??\",\"5??\",\"6??\"},'Accounting Data'!J2:J100000,\"65??\"))+SUM(SUMIFS('Accounting Data'!C2:C100000,'Accounting Data'!E2:E100000,\"227\",'Accounting Data'!H2:H100000,{\"0??\",\"1??\",\"2??\",\"3??\",\"4??\",\"5??\",\"6??\"},'Accounting Data'!J2:J100000,\"65??\"))+SUM(SUMIFS('Accounting Data'!C2:C100000,'Accounting Data'!E2:E100000,\"228\",'Accounting Data'!H2:H100000,{\"0??\",\"1??\",\"2??\",\"3??\",\"4??\",\"5??\",\"6??\"},'Accounting Data'!J2:J100000,\"65??\"))-(SUM(E10:E19))","v":{"v":0,"d":"0 "}},{"$f":"SUM(SUMIFS('Accounting Data'!C2:C100000,'Accounting Data'!E2:E100000,\"COVID\",'Accounting Data'!H2:H100000,{\"0??\",\"1??\",\"2??\",\"3??\",\"4??\",\"5??\",\"6??\"},'Accounting Data'!J2:J100000,\"66??\"))+SUM(SUMIFS('Accounting Data'!C2:C100000,'Accounting Data'!E2:E100000,\"227\",'Accounting Data'!H2:H100000,{\"0??\",\"1??\",\"2??\",\"3??\",\"4??\",\"5??\",\"6??\"},'Accounting Data'!J2:J100000,\"66??\"))+SUM(SUMIFS('Accounting Data'!C2:C100000,'Accounting Data'!E2:E100000,\"228\",'Accounting Data'!H2:H100000,{\"0??\",\"1??\",\"2??\",\"3??\",\"4??\",\"5??\",\"6??\"},'Accounting Data'!J2:J100000,\"66??\"))-(SUM(F10:F19))","v":{"v":-1,"d":"(1)"}},{"$f":"SUM(SUMIFS('Accounting Data'!C2:C100000,'Accounting Data'!E2:E100000,\"COVID\",'Accounting Data'!H2:H100000,{\"0??\",\"1??\",\"2??\",\"3??\",\"4??\",\"5??\",\"6??\"},'Accounting Data'!J2:J100000,\"67??\"))+SUM(SUMIFS('Accounting Data'!C2:C100000,'Accounting Data'!E2:E100000,\"227\",'Accounting Data'!H2:H100000,{\"0??\",\"1??\",\"2??\",\"3??\",\"4??\",\"5??\",\"6??\"},'Accounting Data'!J2:J100000,\"67??\"))+SUM(SUMIFS('Accounting Data'!C2:C100000,'Accounting Data'!E2:E100000,\"228\",'Accounting Data'!H2:H100000,{\"0??\",\"1??\",\"2??\",\"3??\",\"4??\",\"5??\",\"6??\"},'Accounting Data'!J2:J100000,\"67??\"))-(SUM(G10:G19))","v":{"v":0,"d":"0 "}},{"$f":"SUM(SUMIFS('Accounting Data'!C2:C100000,'Accounting Data'!E2:E100000,\"COVID\",'Accounting Data'!H2:H100000,{\"0??\",\"1??\",\"2??\",\"3??\",\"4??\",\"5??\",\"6??\"},'Accounting Data'!J2:J100000,\"681?\"))+SUM(SUMIFS('Accounting Data'!C2:C100000,'Accounting Data'!E2:E100000,\"227\",'Accounting Data'!H2:H100000,{\"0??\",\"1??\",\"2??\",\"3??\",\"4??\",\"5??\",\"6??\"},'Accounting Data'!J2:J100000,\"681?\"))+SUM(SUMIFS('Accounting Data'!C2:C100000,'Accounting Data'!E2:E100000,\"228\",'Accounting Data'!H2:H100000,{\"0??\",\"1??\",\"2??\",\"3??\",\"4??\",\"5??\",\"6??\"},'Accounting Data'!J2:J100000,\"681?\"))-(SUM(H10:H19))","v":{"v":0,"d":"0 "}},{"$f":"SUM(SUMIFS('Accounting Data'!C2:C100000,'Accounting Data'!E2:E100000,\"COVID\",'Accounting Data'!H2:H100000,{\"0??\",\"1??\",\"2??\",\"3??\",\"4??\",\"5??\",\"6??\"},'Accounting Data'!J2:J100000,\"682?\"))+SUM(SUMIFS('Accounting Data'!C2:C100000,'Accounting Data'!E2:E100000,\"227\",'Accounting Data'!H2:H100000,{\"0??\",\"1??\",\"2??\",\"3??\",\"4??\",\"5??\",\"6??\"},'Accounting Data'!J2:J100000,\"682?\"))+SUM(SUMIFS('Accounting Data'!C2:C100000,'Accounting Data'!E2:E100000,\"228\",'Accounting Data'!H2:H100000,{\"0??\",\"1??\",\"2??\",\"3??\",\"4??\",\"5??\",\"6??\"},'Accounting Data'!J2:J100000,\"682?\"))-(SUM(I10:I19))","v":{"v":0,"d":"0 "}},{"$f":"SUM(SUMIFS('Accounting Data'!C2:C100000,'Accounting Data'!E2:E100000,\"COVID\",'Accounting Data'!H2:H100000,{\"0??\",\"1??\",\"2??\",\"3??\",\"4??\",\"5??\",\"6??\"},'Accounting Data'!J2:J100000,\"685?\"))+SUM(SUMIFS('Accounting Data'!C2:C100000,'Accounting Data'!E2:E100000,\"227\",'Accounting Data'!H2:H100000,{\"0??\",\"1??\",\"2??\",\"3??\",\"4??\",\"5??\",\"6??\"},'Accounting Data'!J2:J100000,\"685?\"))+SUM(SUMIFS('Accounting Data'!C2:C100000,'Accounting Data'!E2:E100000,\"228\",'Accounting Data'!H2:H100000,{\"0??\",\"1??\",\"2??\",\"3??\",\"4??\",\"5??\",\"6??\"},'Accounting Data'!J2:J100000,\"685?\"))-(SUM(J10:J19))","v":{"v":0,"d":"0 "}},{"$f":"SUM(SUMIFS('Accounting Data'!C2:C100000,'Accounting Data'!E2:E100000,\"COVID\",'Accounting Data'!H2:H100000,{\"0??\",\"1??\",\"2??\",\"3??\",\"4??\",\"5??\",\"6??\"},'Accounting Data'!J2:J100000,\"689?\"))+SUM(SUMIFS('Accounting Data'!C2:C100000,'Accounting Data'!E2:E100000,\"227\",'Accounting Data'!H2:H100000,{\"0??\",\"1??\",\"2??\",\"3??\",\"4??\",\"5??\",\"6??\"},'Accounting Data'!J2:J100000,\"689?\"))+SUM(SUMIFS('Accounting Data'!C2:C100000,'Accounting Data'!E2:E100000,\"228\",'Accounting Data'!H2:H100000,{\"0??\",\"1??\",\"2??\",\"3??\",\"4??\",\"5??\",\"6??\"},'Accounting Data'!J2:J100000,\"689?\"))-(SUM(K10:K19))","v":{"v":0,"d":"0 "}},{"$f":"SUM(SUMIFS('Accounting Data'!C2:C100000,'Accounting Data'!E2:E100000,\"COVID\",'Accounting Data'!H2:H100000,{\"0??\",\"1??\",\"2??\",\"3??\",\"4??\",\"5??\",\"6??\"},'Accounting Data'!J2:J100000,\"68??\"))+SUM(SUMIFS('Accounting Data'!C2:C100000,'Accounting Data'!E2:E100000,\"227\",'Accounting Data'!H2:H100000,{\"0??\",\"1??\",\"2??\",\"3??\",\"4??\",\"5??\",\"6??\"},'Accounting Data'!J2:J100000,\"68??\"))+SUM(SUMIFS('Accounting Data'!C2:C100000,'Accounting Data'!E2:E100000,\"228\",'Accounting Data'!H2:H100000,{\"0??\",\"1??\",\"2??\",\"3??\",\"4??\",\"5??\",\"6??\"},'Accounting Data'!J2:J100000,\"68??\"))-(SUM(H21+I21+J21+K21+L10+L11+L12+L13+L14+L15+L16+L17+L18+L19))","v":{"v":0,"d":"0 "}},{"$f":"SUM(SUMIFS('Accounting Data'!C2:C100000,'Accounting Data'!E2:E100000,\"COVID\",'Accounting Data'!H2:H100000,{\"7??\",\"8??\",\"9??\"},'Accounting Data'!J2:J100000,\"6???\"))-SUM(SUMIFS('Accounting Data'!C2:C100000,'Accounting Data'!E2:E100000,\"COVID\",'Accounting Data'!H2:H100000,{\"7??\",\"8??\",\"9??\"},'Accounting Data'!J2:J100000,\"69??\"))+SUM(SUMIFS('Accounting Data'!C2:C100000,'Accounting Data'!E2:E100000,\"227\",'Accounting Data'!H2:H100000,{\"7??\",\"8??\",\"9??\"},'Accounting Data'!J2:J100000,\"6???\"))-SUM(SUMIFS('Accounting Data'!C2:C100000,'Accounting Data'!E2:E100000,\"227\",'Accounting Data'!H2:H100000,{\"7??\",\"8??\",\"9??\"},'Accounting Data'!J2:J100000,\"69??\"))+SUM(SUMIFS('Accounting Data'!C2:C100000,'Accounting Data'!E2:E100000,\"228\",'Accounting Data'!H2:H100000,{\"7??\",\"8??\",\"9??\"},'Accounting Data'!J2:J100000,\"6???\"))-SUM(SUMIFS('Accounting Data'!C2:C100000,'Accounting Data'!E2:E100000,\"228\",'Accounting Data'!H2:H100000,{\"7??\",\"8??\",\"9??\"},'Accounting Data'!J2:J100000,\"69??\"))-(SUM(M10:M19))","v":{"v":0,"d":"0 "}},{"$f":"ROUND(SUM(C20:M20),0)","v":{"v":-1,"d":"(1)"}}]
["Total (lines 1-12)","12.",{"$f":"ROUND(SUM(C10:C20),0)","v":{"v":78721,"d":"78,721 "}},{"$f":"ROUND(SUM(D10:D20),0)","v":{"v":46002,"d":"46,002 "}},{"$f":"ROUND(SUM(E10:E20),0)","v":{"v":2215,"d":"2,215 "}},{"v":5229,"d":"5,229 "},{"v":0,"d":"0 "},{"v":0,"d":"0 "},{"v":0,"d":"0 "},{"v":0,"d":"0 "},{"$f":"ROUND(SUM(K10:K20),0)","v":{"v":0,"d":"0 "}},{"v":0,"d":"0 "},{"$f":"ROUND(SUM(M10:M20),0)","v":{"v":0,"d":"0 "}},{"$f":"ROUND(SUM(N10:N20),0)","v":{"v":132167,"d":"132,167 "}}]
[{"$nulls":3},""]
["Technology Related Expenditures from COVID-19 federal relief funds",null,null,"Total spending detail","Classroom spending detail",null,"Other Financing Uses for federal relief funds"]
["1. 6340 Technical Services",null,null,{"$f":"SUMIFS('Accounting Data'!C2:C100000,'Accounting Data'!E2:E100000,\"COVID\",'Accounting Data'!J2:J100000,\"634?\")+SUMIFS('Accounting Data'!C2:C100000,'Accounting Data'!E2:E100000,\"227\",'Accounting Data'!J2:J100000,\"634?\")+SUMIFS('Accounting Data'!C2:C100000,'Accounting Data'!E2:E100000,\"228\",'Accounting Data'!J2:J100000,\"634?\")","v":{"v":0,"d":"0 "}},{"$f":"SUM(SUMIFS('Accounting Data'!C2:C100000,'Accounting Data'!E2:E100000,\"COVID\",'Accounting Data'!J2:J100000,\"6340\",'Accounting Data'!I2:I100000,{\"1???\",\"21??\",\"22??\"})+SUMIFS('Accounting Data'!C2:C100000,'Accounting Data'!E2:E100000,\"227\",'Accounting Data'!J2:J100000,\"6340\",'Accounting Data'!I2:I100000,{\"1???\",\"21??\",\"22??\"})+SUMIFS('Accounting Data'!C2:C100000,'Accounting Data'!E2:E100000,\"228\",'Accounting Data'!J2:J100000,\"6340\",'Accounting Data'!I2:I100000,{\"1???\",\"21??\",\"22??\"}))","v":{"v":0,"d":"0 "}},null,"1. 6910 Indirect costs transfers-out",null,null,{"$f":"ROUND(SUM(SUMIFS('Accounting Data'!C2:C100000,'Accounting Data'!E2:E100000,\"COVID\",'Accounting Data'!J2:J100000,\"691?\")),0)+ROUND(SUM(SUMIFS('Accounting Data'!C2:C100000,'Accounting Data'!E2:E100000,\"227\",'Accounting Data'!J2:J100000,\"691?\")),0)+ROUND(SUM(SUMIFS('Accounting Data'!C2:C100000,'Accounting Data'!E2:E100000,\"228\",'Accounting Data'!J2:J100000,\"691?\")),0)","v":{"v":0,"d":"0 "}}]
["2. 6432 Technology-Related Repairs and Maintenance",null,null,{"$f":"SUMIFS('Accounting Data'!C2:C100000,'Accounting Data'!E2:E100000,\"COVID\",'Accounting Data'!J2:J100000,\"6432\")+SUMIFS('Accounting Data'!C2:C100000,'Accounting Data'!E2:E100000,\"227\",'Accounting Data'!J2:J100000,\"6432\")+SUMIFS('Accounting Data'!C2:C100000,'Accounting Data'!E2:E100000,\"228\",'Accounting Data'!J2:J100000,\"6432\")","v":{"v":0,"d":"0 "}},{"$f":"SUM(SUMIFS('Accounting Data'!C2:C100000,'Accounting Data'!E2:E100000,\"COVID\",'Accounting Data'!J2:J100000,\"6432\",'Accounting Data'!I2:I100000,{\"1???\",\"21??\",\"22??\"})+SUMIFS('Accounting Data'!C2:C100000,'Accounting Data'!E2:E100000,\"227\",'Accounting Data'!J2:J100000,\"6432\",'Accounting Data'!I2:I100000,{\"1???\",\"21??\",\"22??\"})+SUMIFS('Accounting Data'!C2:C100000,'Accounting Data'!E2:E100000,\"228\",'Accounting Data'!J2:J100000,\"6432\",'Accounting Data'!I2:I100000,{\"1???\",\"21??\",\"22??\"}))","v":{"v":0,"d":"0 "}}]
["3. 6443 Rental of Computers and Related Equipment",null,null,{"$f":"SUMIFS('Accounting Data'!C2:C100000,'Accounting Data'!E2:E100000,\"COVID\",'Accounting Data'!J2:J100000,\"6443\")+SUMIFS('Accounting Data'!C2:C100000,'Accounting Data'!E2:E100000,\"227\",'Accounting Data'!J2:J100000,\"6443\")+SUMIFS('Accounting Data'!C2:C100000,'Accounting Data'!E2:E100000,\"228\",'Accounting Data'!J2:J100000,\"6443\")","v":{"v":0,"d":"0 "}},{"$f":"SUM(SUMIFS('Accounting Data'!C2:C100000,'Accounting Data'!E2:E100000,\"COVID\",'Accounting Data'!J2:J100000,\"6443\",'Accounting Data'!I2:I100000,{\"1???\",\"21??\",\"22??\"})+SUMIFS('Accounting Data'!C2:C100000,'Accounting Data'!E2:E100000,\"227\",'Accounting Data'!J2:J100000,\"6443\",'Accounting Data'!I2:I100000,{\"1???\",\"21??\",\"22??\"})+SUMIFS('Accounting Data'!C2:C100000,'Accounting Data'!E2:E100000,\"228\",'Accounting Data'!J2:J100000,\"6443\",'Accounting Data'!I2:I100000,{\"1???\",\"21??\",\"22??\"}))","v":{"v":0,"d":"0 "}}]
["4. 6531 Telecommunications",null,null,{"$f":"SUMIFS('Accounting Data'!C2:C100000,'Accounting Data'!E2:E100000,\"COVID\",'Accounting Data'!J2:J100000,\"6531\")+SUMIFS('Accounting Data'!C2:C100000,'Accounting Data'!E2:E100000,\"227\",'Accounting Data'!J2:J100000,\"6531\")+SUMIFS('Accounting Data'!C2:C100000,'Accounting Data'!E2:E100000,\"228\",'Accounting Data'!J2:J100000,\"6531\")","v":{"v":0,"d":"0 "}},{"$f":"SUM(SUMIFS('Accounting Data'!C2:C100000,'Accounting Data'!E2:E100000,\"COVID\",'Accounting Data'!J2:J100000,\"6531\",'Accounting Data'!I2:I100000,{\"1???\",\"21??\",\"22??\"})+SUMIFS('Accounting Data'!C2:C100000,'Accounting Data'!E2:E100000,\"227\",'Accounting Data'!J2:J100000,\"6531\",'Accounting Data'!I2:I100000,{\"1???\",\"21??\",\"22??\"})+SUMIFS('Accounting Data'!C2:C100000,'Accounting Data'!E2:E100000,\"228\",'Accounting Data'!J2:J100000,\"6531\",'Accounting Data'!I2:I100000,{\"1???\",\"21??\",\"22??\"}))","v":{"v":0,"d":"0 "}}]
["5. 6650 Supplies–Technology-Related",null,null,{"$f":"SUMIFS('Accounting Data'!C2:C100000,'Accounting Data'!E2:E100000,\"COVID\",'Accounting Data'!J2:J100000,\"665?\")+SUMIFS('Accounting Data'!C2:C100000,'Accounting Data'!E2:E100000,\"227\",'Accounting Data'!J2:J100000,\"665?\")+SUMIFS('Accounting Data'!C2:C100000,'Accounting Data'!E2:E100000,\"228\",'Accounting Data'!J2:J100000,\"665?\")","v":{"v":0,"d":"0 "}},{"$f":"SUM(SUMIFS('Accounting Data'!C2:C100000,'Accounting Data'!E2:E100000,\"COVID\",'Accounting Data'!J2:J100000,\"6650\",'Accounting Data'!I2:I100000,{\"1???\",\"21??\",\"22??\"})+SUMIFS('Accounting Data'!C2:C100000,'Accounting Data'!E2:E100000,\"227\",'Accounting Data'!J2:J100000,\"6650\",'Accounting Data'!I2:I100000,{\"1???\",\"21??\",\"22??\"})+SUMIFS('Accounting Data'!C2:C100000,'Accounting Data'!E2:E100000,\"228\",'Accounting Data'!J2:J100000,\"6650\",'Accounting Data'!I2:I100000,{\"1???\",\"21??\",\"22??\"}))","v":{"v":0,"d":"0 "}}]
["6. 6737-38 Technology-Related Hardware & Software (less than $5,000)",null,null,{"$f":"SUM(SUMIFS('Accounting Data'!C2:C100000,'Accounting Data'!E2:E100000,\"COVID\",'Accounting Data'!J2:J100000,{\"6737\",\"6738\"}))+SUM(SUMIFS('Accounting Data'!C2:C100000,'Accounting Data'!E2:E100000,\"227\",'Accounting Data'!J2:J100000,{\"6737\",\"6738\"}))+SUM(SUMIFS('Accounting Data'!C2:C100000,'Accounting Data'!E2:E100000,\"228\",'Accounting Data'!J2:J100000,{\"6737\",\"6738\"}))","v":{"v":0,"d":"0 "}},{"$f":"SUM(SUMIFS('Accounting Data'!C2:C100000,'Accounting Data'!E2:E100000,\"COVID\",'Accounting Data'!J2:J100000,{\"6737\",\"6738\"},'Accounting Data'!I2:I100000,{\"1???\",\"21??\",\"22??\"})+SUMIFS('Accounting Data'!C2:C100000,'Accounting Data'!E2:E100000,\"227\",'Accounting Data'!J2:J100000,{\"6737\",\"6738\"},'Accounting Data'!I2:I100000,{\"1???\",\"21??\",\"22??\"})+SUMIFS('Accounting Data'!C2:C100000,'Accounting Data'!E2:E100000,\"228\",'Accounting Data'!J2:J100000,{\"6737\",\"6738\"},'Accounting Data'!I2:I100000,{\"1???\",\"21??\",\"22??\"}))","v":{"v":0,"d":"0 "}}]
["7. 6739 Technology-Related Hardware & Software ($5,000 or more)",null,null,{"$f":"SUMIFS('Accounting Data'!C2:C100000,'Accounting Data'!E2:E100000,\"COVID\",'Accounting Data'!J2:J100000,\"6739\")+SUMIFS('Accounting Data'!C2:C100000,'Accounting Data'!E2:E100000,\"227\",'Accounting Data'!J2:J100000,\"6739\")+SUMIFS('Accounting Data'!C2:C100000,'Accounting Data'!E2:E100000,\"228\",'Accounting Data'!J2:J100000,\"6739\")","v":{"v":0,"d":"0 "}},{"$f":"SUM(SUMIFS('Accounting Data'!C2:C100000,'Accounting Data'!E2:E100000,\"COVID\",'Accounting Data'!J2:J100000,\"6739\",'Accounting Data'!I2:I100000,{\"1???\",\"21??\",\"22??\"})+SUMIFS('Accounting Data'!C2:C100000,'Accounting Data'!E2:E100000,\"227\",'Accounting Data'!J2:J100000,\"6739\",'Accounting Data'!I2:I100000,{\"1???\",\"21??\",\"22??\"})+SUMIFS('Accounting Data'!C2:C100000,'Accounting Data'!E2:E100000,\"228\",'Accounting Data'!J2:J100000,\"6739\",'Accounting Data'!I2:I100000,{\"1???\",\"21??\",\"22??\"}))","v":{"v":0,"d":"0 "}}]
["8. 6641-43 Software reported in library books, textbooks, or instructional aids ",null,null,{"v":6794,"d":"6,794 "},{"$f":"D31","v":{"v":6794,"d":"6,794 "}}]
["9. 6832 and 6842  Noninstructional software subscriptions (more than 12 months) Principal and Interest",null,null,{"v":0,"d":"0 "}]
["10. 6833 and 6843 Instructional software subscriptions (more than 12 months) Principal and Interest",null,null,{"$f":"SUMIFS('Accounting Data'!C2:C100000,'Accounting Data'!E2:E100000,\"COVID\",'Accounting Data'!J2:J100000,\"6843\")+SUMIFS('Accounting Data'!C2:C100000,'Accounting Data'!E2:E100000,\"227\",'Accounting Data'!J2:J100000,\"6843\")+SUMIFS('Accounting Data'!C2:C100000,'Accounting Data'!E2:E100000,\"228\",'Accounting Data'!J2:J100000,\"6843\")+SUMIFS('Accounting Data'!C2:C100000,'Accounting Data'!E2:E100000,\"COVID\",'Accounting Data'!J2:J100000,\"6833\")+SUMIFS('Accounting Data'!C2:C100000,'Accounting Data'!E2:E100000,\"227\",'Accounting Data'!J2:J100000,\"6833\")+SUMIFS('Accounting Data'!C2:C100000,'Accounting Data'!E2:E100000,\"228\",'Accounting Data'!J2:J100000,\"6833\")","v":{"v":0,"d":"0 "}},{"$f":"D33","v":{"v":0,"d":"0 "}}]
[]
["Capital Outlay Expenditures detail for COVID-19 federal relief funds"]
["1. Programs 100-630, Function 4000, Objects 6100-6700 and 6890",null,null,{"$f":"(SUM(SUMIFS('Accounting Data'!C2:C100000,'Accounting Data'!E2:E100000,\"COVID\",'Accounting Data'!H2:H100000,{\"0??\",\"1??\",\"2??\",\"3??\",\"4??\",\"5??\",\"6??\"},'Accounting Data'!I2:I100000,\"4???\",'Accounting Data'!J2:J100000,\"6???\")))-(SUM(SUMIFS('Accounting Data'!C2:C100000,'Accounting Data'!E2:E100000,\"COVID\",'Accounting Data'!H2:H100000,{\"0??\",\"1??\",\"2??\",\"3??\",\"4??\",\"5??\",\"6??\"},'Accounting Data'!I2:I100000,\"4???\",'Accounting Data'!J2:J100000,\"68??\")))-(SUM(SUMIFS('Accounting Data'!C2:C100000,'Accounting Data'!E2:E100000,\"COVID\",'Accounting Data'!H2:H100000,{\"0??\",\"1??\",\"2??\",\"3??\",\"4??\",\"5??\",\"6??\"},'Accounting Data'!I2:I100000,\"4???\",'Accounting Data'!J2:J100000,\"69??\")))+(SUM(SUMIFS('Accounting Data'!C2:C100000,'Accounting Data'!E2:E100000,\"COVID\",'Accounting Data'!H2:H100000,{\"0??\",\"1??\",\"2??\",\"3??\",\"4??\",\"5??\",\"6??\"},'Accounting Data'!I2:I100000,\"4???\",'Accounting Data'!J2:J100000,\"689?\")))+(SUM(SUMIFS('Accounting Data'!C2:C100000,'Accounting Data'!E2:E100000,\"227\",'Accounting Data'!H2:H100000,{\"0??\",\"1??\",\"2??\",\"3??\",\"4??\",\"5??\",\"6??\"},'Accounting Data'!I2:I100000,\"4???\",'Accounting Data'!J2:J100000,\"6???\")))-(SUM(SUMIFS('Accounting Data'!C2:C100000,'Accounting Data'!E2:E100000,\"227\",'Accounting Data'!H2:H100000,{\"0??\",\"1??\",\"2??\",\"3??\",\"4??\",\"5??\",\"6??\"},'Accounting Data'!I2:I100000,\"4???\",'Accounting Data'!J2:J100000,\"68??\")))-(SUM(SUMIFS('Accounting Data'!C2:C100000,'Accounting Data'!E2:E100000,\"227\",'Accounting Data'!H2:H100000,{\"0??\",\"1??\",\"2??\",\"3??\",\"4??\",\"5??\",\"6??\"},'Accounting Data'!I2:I100000,\"4???\",'Accounting Data'!J2:J100000,\"69??\")))+(SUM(SUMIFS('Accounting Data'!C2:C100000,'Accounting Data'!E2:E100000,\"227\",'Accounting Data'!H2:H100000,{\"0??\",\"1??\",\"2??\",\"3??\",\"4??\",\"5??\",\"6??\"},'Accounting Data'!I2:I100000,\"4???\",'Accounting Data'!J2:J100000,\"689?\")))+(SUM(SUMIFS('Accounting Data'!C2:C100000,'Accounting Data'!E2:E100000,\"228\",'Accounting Data'!H2:H100000,{\"0??\",\"1??\",\"2??\",\"3??\",\"4??\",\"5??\",\"6??\"},'Accounting Data'!I2:I100000,\"4???\",'Accounting Data'!J2:J100000,\"6???\")))-(SUM(SUMIFS('Accounting Data'!C2:C100000,'Accounting Data'!E2:E100000,\"228\",'Accounting Data'!H2:H100000,{\"0??\",\"1??\",\"2??\",\"3??\",\"4??\",\"5??\",\"6??\"},'Accounting Data'!I2:I100000,\"4???\",'Accounting Data'!J2:J100000,\"68??\")))-(SUM(SUMIFS('Accounting Data'!C2:C100000,'Accounting Data'!E2:E100000,\"228\",'Accounting Data'!H2:H100000,{\"0??\",\"1??\",\"2??\",\"3??\",\"4??\",\"5??\",\"6??\"},'Accounting Data'!I2:I100000,\"4???\",'Accounting Data'!J2:J100000,\"69??\")))+(SUM(SUMIFS('Accounting Data'!C2:C100000,'Accounting Data'!E2:E100000,\"228\",'Accounting Data'!H2:H100000,{\"0??\",\"1??\",\"2??\",\"3??\",\"4??\",\"5??\",\"6??\"},'Accounting Data'!I2:I100000,\"4???\",'Accounting Data'!J2:J100000,\"689?\")))","v":{"v":0,"d":"0 "}}]
["2. Programs 100-630, All functions, Object 67XX",null,null,{"$f":"SUM(SUMIFS('Accounting Data'!C2:C100000,'Accounting Data'!E2:E100000,\"COVID\",'Accounting Data'!H2:H100000,{\"0??\",\"1??\",\"2??\",\"3??\",\"4??\",\"5??\",\"6??\"},'Accounting Data'!J2:J100000,\"67??\"))+SUM(SUMIFS('Accounting Data'!C2:C100000,'Accounting Data'!E2:E100000,\"227\",'Accounting Data'!H2:H100000,{\"0??\",\"1??\",\"2??\",\"3??\",\"4??\",\"5??\",\"6??\"},'Accounting Data'!J2:J100000,\"67??\"))+SUM(SUMIFS('Accounting Data'!C2:C100000,'Accounting Data'!E2:E100000,\"228\",'Accounting Data'!H2:H100000,{\"0??\",\"1??\",\"2??\",\"3??\",\"4??\",\"5??\",\"6??\"},'Accounting Data'!J2:J100000,\"67??\"))","v":{"v":0,"d":"0 "}}]
[]
[{"$nulls":3},"Total Award\n(all fiscal years)","FY 2020 and \nFY 2021\nExpenditures and Other Financing Uses","FY 2022\nExpenditures and Other Financing Uses","FY 2023\nExpenditures and Other Financing Uses","Amount\nremaining to\nspend"]
["COVID-19 federal relief funds"]
["1. Elementary and Secondary School Emergency Relief Funds (ESSER I)",null,null,{"v":50000,"d":"50,000 "},{"v":38452,"d":"38,452 "},{"v":10395,"d":"10,395 "},{"v":1153,"d":"1,153 "},{"$f":"ROUND(D41-E41-F41-G41,0)","v":{"v":0,"d":"0 "}},{"$nulls":18},{"$f":"IF(OR(AA42=\"yes\",AA43=\"yes\"),\"yes\",\"\")","v":""}]
["2. Elementary and Secondary School Emergency Relief Funds (ESSER II)",null,null,{"v":200000,"d":"200,000 "},{"v":56983,"d":"56,983 "},{"v":138679,"d":"138,679 "},{"v":0,"d":"0 "},{"v":4338,"d":"4,338 "},{"$nulls":18},{"$f":"IF(OR(D31=\"\",D32=\"\",D41=\"\",D42=\"\",D43=\"\",D44=\"\",D45=\"\",D46=\"\",E42=\"\",E43=\"\",E44=\"\",E45=\"\",E46=\"\"),\"yes\",\"\")","v":""}]
["3. Elementary and Secondary School Emergency Relief Funds (ESSER III)",null,null,{"v":226798,"d":"226,798 "},{"v":33326,"d":"33,326 "},{"v":33326,"d":"33,326 "},{"v":130903,"d":"130,903 "},{"v":29243,"d":"29,243 "},{"$nulls":18},{"$f":"IF(OR(F41=\"\",F42=\"\",F43=\"\",F44=\"\",F45=\"\",F46=\"\",G42=\"\",G43=\"\",G44=\"\",G45=\"\",G46=\"\"),\"yes\",\"\")","v":""}]
["4. Governor’s Emergency Education Relief Funds (GEER) - includes Acceleration Academies Program",null,null,{"v":0,"d":"0 "},{"v":0,"d":"0 "},{"v":0,"d":"0 "},{"v":0,"d":"0 "},{"v":0,"d":"0 "}]
["5. Coronavirus Relief Fund (CRF)—Enrollment Stability Grant (ESG) Program",null,null,{"v":0,"d":"0 "},{"v":0,"d":"0 "},{"v":0,"d":"0 "},{"v":0,"d":"0 "},{"v":0,"d":"0 "}]
["6. Other COVID-19 Federal Relief Funds",null,null,{"v":0,"d":"0 "},{"v":0,"d":"0 "},{"v":0,"d":"0 "},{"v":0,"d":"0 "},{"v":0,"d":"0 "}]
["7. Total",null,null,{"$f":"ROUND(SUM(D41:D46),0)","v":{"v":476798,"d":"476,798 "}},{"$f":"ROUND(SUM(E41:E46),0)","v":{"v":128761,"d":"128,761 "}},{"$f":"ROUND(SUM(F41:F46),0)","v":{"v":182400,"d":"182,400 "}},{"$f":"ROUND(SUM(G41:G46),0)","v":{"v":132056,"d":"132,056 "}},{"$f":"ROUND(SUM(H41:H46),0)","v":{"v":33581,"d":"33,581 "}}]
[]
[{"$nulls":5},"Total FY 2023 expenditures + other financing uses",{"$f":"ROUND(SUM(N21+J24),0)","v":{"v":132167,"d":"132,167 "}},null,{"$f":"IF(OR(H41<0,H42<0,H43<0,H44<0,H45<0,H46<0),\"Column H should not contain negative amounts. Click the instruction link in cell H39 for more information.\",\"\")","v":""}]
[{"$nulls":6},{"$f":"IF(G47<>G49,\"The amount in cell G47 should agree to the amount in cell G49\",\"\")","v":"The amount in cell G47 should agree to the amount in cell G49"}]

{"sheet":"Summary","index":11,"n_rows":68,"n_cols":13,"rows_kept":68,"merged":[[7,2,9,2],[7,4,9,5],[7,6,9,7],[7,10,9,10],[8,8,8,9],[9,8,9,9],[9,11,10,14],[10,4,10,5],[10,6,10,7],[10,8,10,9],[11,4,11,5],[11,6,11,7],[11,8,11,9],[11,12,13,14],[12,4,12,5],[12,6,12,7],[12,8,12,9],[13,4,13,5],[13,6,13,7],[13,8,13,9],[14,4,14,5],[14,6,14,7],[14,8,14,9],[15,4,15,5],[15,6,15,7],[15,8,15,9],[16,4,16,5],[16,6,16,7],[16,8,16,9],[17,4,17,5],[17,6,17,7],[17,8,17,9],[18,4,18,5],[18,6,18,7],[18,8,18,9],[19,4,19,5],[19,6,19,7],[19,8,19,9],[20,4,20,5],[20,6,20,7],[20,8,20,9],[22,4,22,5],[22,6,22,7],[22,8,22,9],[23,4,23,5],[23,6,23,7],[23,8,23,9],[24,4,24,5],[24,6,24,7],[24,8,24,9],[25,4,25,5],[25,6,25,7],[25,8,25,9],[26,4,26,5],[26,6,26,7],[26,8,26,9],[27,4,27,5],[27,6,27,7],[27,8,27,9],[28,4,28,5],[28,6,28,7],[28,8,28,9],[29,4,29,5],[29,6,29,7],[29,8,29,9],[30,4,30,5],[30,6,30,7],[30,8,30,9],[31,4,31,5],[31,6,31,7],[31,8,31,9],[32,4,32,5],[32,6,32,7],[32,8,32,9],[33,4,33,5],[33,6,33,7],[33,8,33,9],[34,4,34,5],[34,6,34,7],[34,8,34,9],[35,4,35,5],[35,6,35,7],[35,8,35,9],[36,4,36,5],[36,6,36,7],[36,8,36,9],[37,4,37,5],[37,6,37,7],[37,8,37,9],[38,4,38,5],[38,6,38,7],[38,8,38,9],[39,4,39,5],[39,6,39,7],[39,8,39,9],[40,4,40,5],[40,6,40,7],[40,8,40,9],[41,4,41,5],[41,6,41,7],[41,8,41,9],[42,4,42,5],[42,6,42,7],[42,8,42,9],[43,4,43,5],[43,6,43,7],[43,8,43,9],[44,4,44,5],[44,6,44,7],[44,8,44,9],[45,4,45,5],[45,6,45,7],[45,8,45,9],[46,4,46,5],[46,6,46,7],[46,8,46,9],[47,4,47,5],[47,6,47,7],[47,8,47,9],[48,4,48,5],[48,6,48,7],[48,8,48,9],[49,4,49,5],[49,6,49,7],[49,8,49,9],[50,4,50,5],[50,6,50,7],[50,8,50,9],[51,4,51,5],[51,6,51,7],[51,8,51,9],[52,4,52,5],[52,6,52,7],[52,8,52,9],[53,4,53,5],[53,6,53,7],[53,8,53,9],[54,4,54,5],[54,6,54,7],[54,8,54,9],[55,4,55,5],[55,6,55,7],[55,8,55,9],[56,4,56,5],[56,6,56,7],[56,8,56,9],[57,4,57,5],[57,6,57,7],[57,8,57,9],[58,4,58,5],[58,6,58,7],[58,8,58,9],[59,4,59,5],[59,6,59,7],[59,8,59,9],[60,4,60,5],[60,6,60,7],[60,8,60,9],[61,4,61,5],[61,6,61,7],[61,8,61,9],[62,4,62,5],[62,6,62,7],[62,8,62,9],[63,4,63,5],[63,6,63,7],[63,8,63,9],[64,4,64,5],[64,6,64,7],[64,8,64,9],[65,4,65,5],[65,6,65,7],[65,8,65,9],[66,4,66,5],[66,6,66,7],[66,8,66,9],[67,4,67,5],[67,6,67,7],[67,8,67,9]]}
[{"$nulls":6},"CTDS NUMBER",null,{"$f":"Cover!Q1","v":"020345000"},null,null,"Yes"]
["I certify that the Annual Financial Report of   Double Adobe Elem. School    District,  #45 Cochise ",{"$nulls":3},"Avg. Daily Membership",null,"2022",null,"2023",null,null,"No"]
["County, for fiscal year 2023 was approved by the Governing Board on  November 8, 2023,  and that the",{"$nulls":4},"Attending",{"v":35,"d":"35.0000"},null,{"v":39,"d":"39.0000"}]
["complete Annual Financial Report may be reviewed by contacting  Ruth Hoffman  at the District Office,"]
["telephone  520-364-3041 , during normal business hours.",{"$nulls":4},"2023 Tax Rates:","Primary",null,"Secondary"]
[{"$nulls":6},{"$f":"PrimaryTaxRate","v":8.5783},null,{"$f":"SecondaryTaxRate","v":8.5783}]
["Rev. 9/23 Arizona Department of Education and Auditor General",null,"President of the Governing Board"]
[null,null,"Revenues ","Net Other Financing ","Budgeted Expenditures",null,"Actual Expenditures",{"$nulls":3},"General Fund"]
[null,"Beginning",null,"Sources and Uses ",{"$nulls":4},"Ending"]
["Fund/Program","Fund Balance",null,"Including Transfers",{"$nulls":4},"Fund Balance",null,null,"Additional fund balance reserve information \n(See Fund Balance Reserve tab for more detail)"]
["Regular Education",{"$nulls":3},{"$f":"F001P100TotBudgExp","v":{"v":558931,"d":"558,931 "}},null,{"$f":"F001P100TotActExp","v":{"v":372895,"d":"372,895 "}}]
["Special Education",{"$nulls":3},{"$f":"F001P200TotBudgExp","v":{"v":53600,"d":"53,600 "}},null,{"$f":"F001P200TotActExp","v":{"v":55404,"d":"55,404 "}},{"$nulls":4},{"v":-1,"d":"(1)"},{"$f":"\"The District \"&IF('Fund Balance Reserve'!F28=\"Yes\",\"has\",\"does not have\")&\" a process or policy to establish a targeted fund balance reserve for FY 2023.\"","v":"The District does not have a process or policy to establish a targeted fund balance reserve for FY 2023."}]
["Pupil Transportation",{"$nulls":3},{"$f":"F001P400TotBudgExp","v":{"v":30239,"d":"30,239 "}},null,{"$f":"F001P400","v":{"v":21832,"d":"21,832 "}}]
["Desegregation",{"$nulls":3},{"$f":"F001P510TotBudgExp","v":{"v":0,"d":"0 "}},null,{"$f":"F001P510","v":{"v":0,"d":"0 "}}]
["Dropout Prevention Programs",{"$nulls":3},{"$f":"F001P530TotBudgExp","v":{"v":0,"d":"0 "}},null,{"$f":"F001P530TotActExp","v":{"v":0,"d":"0 "}},{"$nulls":4},{"v":-2,"d":"(2)"},"The District's targeted fund balance reserve for FY 2023 was:"]
["Joint Career & Tech. Ed. & Voc. Ed. Center",{"$nulls":3},{"$f":"F001P540TotBudgExp","v":{"v":0,"d":"0 "}},null,{"$f":"F001P540","v":{"v":0,"d":"0 "}},{"$nulls":5},{"$f":"'Fund Balance Reserve'!D43","v":{"v":0,"d":"0 "}}]
["K-3 Reading Program",{"$nulls":3},{"$f":"F001P550TotBudgExp","v":{"v":0,"d":"0 "}},null,{"$f":"F001P550TotActExp","v":{"v":1698,"d":"1,698 "}}]
["Maintenance and Operation Total",{"$f":"F001BegFunBal","v":{"v":212377,"d":"212,377 "}},{"$f":"F001TotRev","v":{"v":603185,"d":"603,185 "}},{"$f":"F001TransIn+F001OtherFinSources-F001OtherFinUses","v":{"v":-753,"d":"(753)"}},{"$f":"F001TOTALBUDGEXP","v":{"v":642770,"d":"642,770 "}},null,{"$f":"F001TOTALEXP","v":{"v":451829,"d":"451,829 "}},null,{"$f":"B18+C18+D18-G18","v":{"v":362980,"d":"362,980 "}},null,"Yes",{"v":-3,"d":"(3)"},"The District's actual fund balance reserve for FY 2023 was:"]
["Classroom Site Funds",{"$f":"'Page 3'!D21","v":{"v":15758,"d":"15,758 "}},{"$f":"'Page 3'!E21","v":{"v":34558,"d":"34,558 "}},null,{"$f":"'Page 3'!L21","v":{"v":89987,"d":"89,987 "}},null,{"$f":"'Page 3'!M21","v":{"v":35855,"d":"35,855 "}},null,{"$f":"B19+C19-G19","v":{"v":14461,"d":"14,461 "}},{"$nulls":3},{"$f":"'Fund Balance Reserve'!E43","v":{"v":0,"d":"0 "}}]
["Instructional Improvement",{"$f":"F020BegFunBal","v":{"v":8206,"d":"8,206 "}},{"$f":"F020ActRev","v":{"v":3123,"d":"3,123 "}},null,{"$f":"F020BudgExp","v":{"v":0,"d":"0 "}},null,{"$f":"F020ActExp","v":{"v":0,"d":"0 "}},null,{"$f":"B20+C20-G20","v":{"v":11329,"d":"11,329 "}}]
["Unrestricted Capital Outlay",{"$f":"F610BegFunBal","v":{"v":28650,"d":"28,650 "}},{"$f":"F610TotRev","v":{"v":7480,"d":"7,480 "}},{"$f":"F610TransIn+F610OtherFinSources-F610OtherFinUses","v":{"v":0,"d":"0 "}},{"$f":"F610TotBudgExp","v":{"v":366344,"d":"366,344 "}},null,{"$f":"F610TotActExp","v":{"v":19178,"d":"19,178 "}},null,{"v":16952,"d":"16,952 "},null,"No",{"$f":"IF(M21=\"\",\"\",-4)","v":""},{"$f":"'Fund Balance Reserve'!F43","v":""}]
[{"$nulls":11},{"$f":"IF(M22=\"\",\"\",-4)","v":""},{"$f":"'Fund Balance Reserve'!F43","v":""}]
["Adjacent Ways",{"$f":"F620BegFunBal","v":{"v":0,"d":"0 "}},{"$f":"F620TotRev","v":{"v":0,"d":"0 "}},{"$f":"F620TransfIn+F620OtherFinSources-F620OtherFinUses","v":{"v":0,"d":"0 "}},{"$f":"F620BudgExp","v":{"v":0,"d":"0 "}},null,{"$f":"F620TotExp","v":{"v":0,"d":"0 "}},null,{"v":0,"d":"0 "}]
["Bond Building",{"$f":"F630BegFunBal","v":{"v":0,"d":"0 "}},{"$f":"F630TotRev","v":{"v":0,"d":"0 "}},{"$f":"F630BondIssuance+F630TransIn+F630OtherFinSources-F630OtherFinUses","v":{"v":0,"d":"0 "}},{"$f":"[1]!F630TotalBudgFY","v":{"v":0,"d":"0 "}},null,{"$f":"F630TotExp","v":{"v":0,"d":"0 "}},null,{"v":0,"d":"0 "}]
["Other Capital Funds ",{"$f":"F660BegFunBal+F665BegFunBal","v":{"v":0,"d":"0 "}},{"$f":"F660ActRev+F665ActRev","v":{"v":0,"d":"0 "}},{"$f":"F660Transf+F665Transf","v":{"v":0,"d":"0 "}},{"$f":"F660BudgExp+F665BudgExp","v":{"v":0,"d":"0 "}},null,{"$f":"F660ActExp+F665ActExp","v":{"v":0,"d":"0 "}},null,{"v":0,"d":"0 "}]
["New School Facilities",{"$f":"F695BegFunBal","v":{"v":0,"d":"0 "}},{"$f":"F695ActRev","v":{"v":0,"d":"0 "}},null,{"$f":"F695BudgExp","v":{"v":0,"d":"0 "}},null,{"$f":"F695ActExp","v":{"v":0,"d":"0 "}},null,{"$f":"B26+C26-G26","v":{"v":0,"d":"0 "}}]
["Federal Projects",{"$f":"FedProjBegFunBal","v":{"v":2160,"d":"2,160 "}},{"$f":"FedProjActRev","v":{"v":46694,"d":"46,694 "}},{"$f":"FedProjTransf","v":{"v":0,"d":"0 "}},{"$f":"FedProjTotBudgExp","v":{"v":22500,"d":"22,500 "}},null,{"$f":"FedProjTotActExp","v":{"v":176535,"d":"176,535 "}},null,{"v":-127681,"d":"(127,681)"}]
["State Projects",{"$f":"StateProjBegFunBal","v":{"v":708,"d":"708 "}},{"$f":"StateProjActRev","v":{"v":7850,"d":"7,850 "}},{"$f":"StateProjOFSOFU","v":{"v":0,"d":"0 "}},{"$f":"StateProjTotBudgExp","v":{"v":0,"d":"0 "}},null,{"$f":"StateProjTotActExp","v":{"v":0,"d":"0 "}},null,{"$f":"B28+C28+D28-G28","v":{"v":8558,"d":"8,558 "}}]
["County, City, and Town Grants",{"$f":"F050BegFunBal","v":{"v":0,"d":"0 "}},{"$f":"F050ActRev","v":{"v":0,"d":"0 "}},{"$f":"F050Transf","v":{"v":0,"d":"0 "}},{"$f":"F050BudgExp","v":{"v":0,"d":"0 "}},null,{"$f":"F050ActExp","v":{"v":0,"d":"0 "}},null,{"v":0,"d":"0 "}]
["English Language Learner",{"$f":"F071BegFunBal","v":{"v":0,"d":"0 "}},{"$f":"F071ActRev","v":{"v":0,"d":"0 "}},{"$f":"F071OFSOFU","v":{"v":0,"d":"0 "}},{"$f":"F071BudgExp","v":{"v":0,"d":"0 "}},null,{"$f":"F071ActExp","v":{"v":0,"d":"0 "}},null,{"$f":"B30+C30+D30-G30","v":{"v":0,"d":"0 "}}]
["Compensatory Instruction",{"$f":"F072BegFunBal","v":{"v":0,"d":"0 "}},{"$f":"F072ActRev","v":{"v":0,"d":"0 "}},{"$f":"F072OFSOFU","v":{"v":0,"d":"0 "}},{"$f":"F072BudgExp","v":{"v":0,"d":"0 "}},null,{"$f":"F072ActExp","v":{"v":0,"d":"0 "}},null,{"$f":"B31+C31+D31-G31","v":{"v":0,"d":"0 "}}]
["School Plant Fund",{"$f":"F500BegFunBal","v":{"v":337,"d":"337 "}},{"$f":"F500ActRev","v":{"v":0,"d":"0 "}},{"$f":"F500Transf","v":{"v":0,"d":"0 "}},{"$f":"F500BudgExp","v":{"v":0,"d":"0 "}},null,{"$f":"F500ActExp","v":{"v":0,"d":"0 "}},null,{"v":337,"d":"337 "},null,"No"]
["Food Service",{"$f":"[4]!FSBegFundBal","v":{"v":0,"d":"0 "}},{"$f":"[4]!FSTotRev","v":{"v":0,"d":"0 "}},{"$f":"[4]!FSTransferIn-[4]!FSTransferOut-[4]!FSIndirectCost","v":{"v":0,"d":"0 "}},{"$f":"[4]!FSBudgetExp","v":{"v":0,"d":"0 "}},null,{"$f":"[4]!FSActExp","v":{"v":0,"d":"0 "}},null,{"v":0,"d":"0 "}]
["Civic Center",{"$f":"F515BegFunBal","v":{"v":0,"d":"0 "}},{"$f":"F515ActRev","v":{"v":0,"d":"0 "}},{"$f":"F515Transf","v":{"v":0,"d":"0 "}},{"$f":"F515BudgExp","v":{"v":0,"d":"0 "}},null,{"$f":"F515ActExp","v":{"v":0,"d":"0 "}},null,{"v":0,"d":"0 "}]
["Community School",{"$f":"F520BegFunBal","v":{"v":0,"d":"0 "}},{"$f":"F520ActRev","v":{"v":0,"d":"0 "}},{"$f":"F520Transf","v":{"v":0,"d":"0 "}},{"$f":"F520BudgExp","v":{"v":0,"d":"0 "}},null,{"$f":"F520ActExp","v":{"v":0,"d":"0 "}},null,{"v":0,"d":"0 "}]
["Auxiliary Operations",{"$f":"F525BegFunBal","v":{"v":0,"d":"0 "}},{"$f":"F525ActRev","v":{"v":0,"d":"0 "}},{"$f":"F525Transf","v":{"v":0,"d":"0 "}},{"$f":"F525BudgExp","v":{"v":0,"d":"0 "}},null,{"$f":"F525ActExp","v":{"v":0,"d":"0 "}},null,{"v":0,"d":"0 "},null,"Yes"]
["Extracurricular Activities Fees",{"$f":"F526BegFunBal","v":{"v":17445,"d":"17,445 "}},{"$f":"F526ActRev","v":{"v":400,"d":"400 "}},{"$f":"F526Transf","v":{"v":0,"d":"0 "}},{"$f":"F526BudgExp","v":{"v":0,"d":"0 "}},null,{"$f":"F526ActExp","v":{"v":961,"d":"961 "}},null,{"v":16884,"d":"16,884 "}]
["Gifts and Donations ",{"$f":"F530BegFunBal+F650BegFunBal","v":{"v":66,"d":"66 "}},{"$f":"F530ActRev+F650ActRev","v":{"v":0,"d":"0 "}},{"$f":"F530Transf+F650Transf","v":{"v":0,"d":"0 "}},{"$f":"F530BudgExp+F650BudgExp","v":{"v":0,"d":"0 "}},null,{"$f":"F530ActExp+F650ActExp","v":{"v":0,"d":"0 "}},null,{"v":66,"d":"66 "},null,"No"]
["Career & Technical Education Projects",{"$f":"F535BegFunBal","v":{"v":0,"d":"0 "}},{"$f":"F535ActRev","v":{"v":0,"d":"0 "}},{"$f":"F535Transf","v":{"v":0,"d":"0 "}},{"$f":"F535BudgExp","v":{"v":0,"d":"0 "}},null,{"$f":"F535ActExp","v":{"v":0,"d":"0 "}},null,{"v":0,"d":"0 "}]
["Fingerprint",{"$f":"F540BegFunBal","v":{"v":0,"d":"0 "}},{"$f":"F540ActRev","v":{"v":0,"d":"0 "}},{"$f":"F540Transf","v":{"v":0,"d":"0 "}},{"$f":"F540BudgExp","v":{"v":0,"d":"0 "}},null,{"$f":"F540ActExp","v":{"v":0,"d":"0 "}},null,{"v":0,"d":"0 "}]
["School Opening",{"$f":"F545BegFunBal","v":{"v":0,"d":"0 "}},{"$f":"F545ActRev","v":{"v":0,"d":"0 "}},{"$f":"F545Transf","v":{"v":0,"d":"0 "}},{"$f":"F545BudgExp","v":{"v":0,"d":"0 "}},null,{"$f":"F545ActExp","v":{"v":0,"d":"0 "}},null,{"v":0,"d":"0 "},null,"Yes"]
["Insurance Proceeds",{"$f":"F550BegFunBal","v":{"v":5548,"d":"5,548 "}},{"$f":"F550ActRev","v":{"v":0,"d":"0 "}},{"$f":"F550Transf","v":{"v":0,"d":"0 "}},{"$f":"F550BudgExp","v":{"v":0,"d":"0 "}},null,{"$f":"F550ActExp","v":{"v":1440,"d":"1,440 "}},null,{"v":4108,"d":"4,108 "},null,"No"]
["Textbooks",{"$f":"F555BegFunBal","v":{"v":871,"d":"871 "}},{"$f":"F555ActRev","v":{"v":0,"d":"0 "}},{"$f":"F555Transf","v":{"v":0,"d":"0 "}},{"$f":"F555BudgExp","v":{"v":0,"d":"0 "}},null,{"$f":"F555ActExp","v":{"v":0,"d":"0 "}},null,{"v":871,"d":"871 "}]
["Litigation Recovery",{"$f":"F565BegFunBal","v":{"v":72,"d":"72 "}},{"$f":"F565ActRev","v":{"v":0,"d":"0 "}},{"$f":"F565Transf","v":{"v":0,"d":"0 "}},{"$f":"F565BudgExp","v":{"v":0,"d":"0 "}},null,{"$f":"F565ActExp","v":{"v":0,"d":"0 "}},null,{"v":72,"d":"72 "},null,"No"]
["Indirect Costs",{"$f":"F570BegFunBal","v":{"v":0,"d":"0 "}},{"$f":"F570ActRev","v":{"v":0,"d":"0 "}},{"$f":"F570Transf","v":{"v":0,"d":"0 "}},{"$f":"F570BudgExp","v":{"v":0,"d":"0 "}},null,{"$f":"F570ActExp","v":{"v":0,"d":"0 "}},null,{"v":0,"d":"0 "},null,"Yes"]
["Unemployment Insurance",{"$f":"F575BegFunBal","v":{"v":0,"d":"0 "}},{"$f":"F575ActRev","v":{"v":0,"d":"0 "}},{"$f":"F575Transf","v":{"v":0,"d":"0 "}},{"$f":"F575BudgExp","v":{"v":0,"d":"0 "}},null,{"$f":"F575ActExp","v":{"v":0,"d":"0 "}},null,{"v":0,"d":"0 "}]
["Teacherage",{"$f":"F580BegFunBal","v":{"v":72,"d":"72 "}},{"$f":"F580ActRev","v":{"v":0,"d":"0 "}},{"$f":"F580Transf","v":{"v":0,"d":"0 "}},{"$f":"F580BudgExp","v":{"v":0,"d":"0 "}},null,{"$f":"F580ActExp","v":{"v":0,"d":"0 "}},null,{"v":72,"d":"72 "},null,"No"]
["Insurance Refund",{"$f":"F585BegFunBal","v":{"v":0,"d":"0 "}},{"$f":"F585ActRev","v":{"v":0,"d":"0 "}},{"$f":"F585Transf","v":{"v":0,"d":"0 "}},{"$f":"F585BudgExp","v":{"v":0,"d":"0 "}},null,{"$f":"F585ActExp","v":{"v":0,"d":"0 "}},null,{"v":0,"d":"0 "}]
["Grants and Gifts to Teachers",{"$f":"F590BegFunBal","v":{"v":0,"d":"0 "}},{"$f":"F590ActRev","v":{"v":0,"d":"0 "}},{"$f":"F590Transf","v":{"v":0,"d":"0 "}},{"$f":"F590BudgExp","v":{"v":0,"d":"0 "}},null,{"$f":"F590ActExp","v":{"v":0,"d":"0 "}},null,{"v":0,"d":"0 "}]
["Advertisement ",{"$f":"F595BegFunBal","v":{"v":0,"d":"0 "}},{"$f":"F595ActRev","v":{"v":0,"d":"0 "}},{"$f":"F595Transf","v":{"v":0,"d":"0 "}},{"$f":"F595BudgExp","v":{"v":0,"d":"0 "}},null,{"$f":"F595ActExp","v":{"v":0,"d":"0 "}},null,{"v":0,"d":"0 "},null,"No"]
["Career Technical Education",{"$f":"F596BegFunBal","v":{"v":0,"d":"0 "}},{"$f":"F596ActRev","v":{"v":0,"d":"0 "}},{"$f":"F596Transf","v":{"v":0,"d":"0 "}},{"$f":"F596BudgExp","v":{"v":0,"d":"0 "}},null,{"$f":"F596ActExp","v":{"v":0,"d":"0 "}},null,{"$f":"B51+C51+D51-G51","v":{"v":0,"d":"0 "}}]
["Arizona Industry Credentials Incentive",{"$f":"F597BegFunBal","v":{"v":0,"d":"0 "}},{"$f":"F597ActRev","v":{"v":0,"d":"0 "}},{"$f":"F597Transf","v":{"v":0,"d":"0 "}},{"$f":"F597BudgExp","v":{"v":0,"d":"0 "}},null,{"$f":"F597ActExp","v":{"v":0,"d":"0 "}},null,{"$f":"B52+C52+D52-G52","v":{"v":0,"d":"0 "}},null,"No"]
["Impact Aid Revenue Bond Building",{"$f":"F639BegFunBal","v":{"v":0,"d":"0 "}},{"$f":"F639ActRev","v":{"v":0,"d":"0 "}},{"$f":"F639Transf","v":{"v":0,"d":"0 "}},{"$f":"F639BudgExp","v":{"v":0,"d":"0 "}},null,{"$f":"F639ActExp","v":{"v":0,"d":"0 "}},null,{"v":0,"d":"0 "}]
["Debt Service",{"$f":"F700BegFunBal","v":{"v":0,"d":"0 "}},{"$f":"F700TotRev","v":{"v":0,"d":"0 "}},{"$f":"F700BondIssuance+F700TransIn+F700OtherFinSources-F700OtherFinUses","v":{"v":0,"d":"0 "}},{"$f":"[1]!F700BudgFY","v":{"v":0,"d":"0 "}},null,{"$f":"F700TotExp","v":{"v":0,"d":"0 "}},null,{"v":0,"d":"0 "}]
["Emergency Deficiencies Correction",{"$f":"F686BegFunBal","v":{"v":0,"d":"0 "}},{"$f":"F686ActRev","v":{"v":0,"d":"0 "}},{"$f":"F686Transf","v":{"v":0,"d":"0 "}},{"$f":"F686BudgExp","v":{"v":0,"d":"0 "}},null,{"$f":"F686ActExp","v":{"v":0,"d":"0 "}},null,{"$f":"B55+C55+D55-G55","v":{"v":0,"d":"0 "}}]
["Building Renewal Grant",{"$f":"F691BegFunBal","v":{"v":72,"d":"72 "}},{"$f":"F691ActRev","v":{"v":0,"d":"0 "}},{"$f":"F691Transf","v":{"v":0,"d":"0 "}},{"$f":"F691BudgExp","v":{"v":0,"d":"0 "}},null,{"$f":"F691ActExp","v":{"v":0,"d":"0 "}},null,{"$f":"B56+C56+D56-G56","v":{"v":72,"d":"72 "}}]
["Impact Aid Rev. Bond Debt Service",{"$f":"F720BegFunBal","v":{"v":0,"d":"0 "}},{"$f":"F720ActRev","v":{"v":0,"d":"0 "}},{"$f":"F720Transf","v":{"v":0,"d":"0 "}},{"$f":"F720BudgExp","v":{"v":0,"d":"0 "}},null,{"$f":"F720ActExp","v":{"v":0,"d":"0 "}},null,{"v":0,"d":"0 "}]
["Student Activities",{"$f":"F850BegFunBal","v":{"v":4255,"d":"4,255 "}},{"$f":"F850ActRev","v":{"v":3525,"d":"3,525 "}},{"$f":"F850Transf","v":{"v":0,"d":"0 "}},{"$f":"F850BudgExp","v":{"v":0,"d":"0 "}},null,{"$f":"F850ActExp","v":{"v":2185,"d":"2,185 "}},null,{"$f":"B58+C58-G58","v":{"v":5595,"d":"5,595 "}}]
["Employee Insurance Program Withholdings",{"$f":"F855BegFunBal","v":{"v":0,"d":"0 "}},{"$f":"F855ActRev","v":{"v":0,"d":"0 "}},{"$f":"F855Transf","v":{"v":0,"d":"0 "}},{"$f":"F855BudgExp","v":{"v":0,"d":"0 "}},null,{"$f":"F855ActExp","v":{"v":0,"d":"0 "}},null,{"$f":"B59+C59+D59-G59","v":{"v":0,"d":"0 "}}]
["State Income Tax Withholdings",{"$f":"F865BegFunBal","v":{"v":0,"d":"0 "}},{"$f":"F865ActRev","v":{"v":0,"d":"0 "}},{"$f":"F865Transf","v":{"v":0,"d":"0 "}},{"$f":"F865BudgExp","v":{"v":0,"d":"0 "}},null,{"$f":"F865ActExp","v":{"v":0,"d":"0 "}},null,{"v":0,"d":"0 "}]
["Other Funds ",{"$f":"OthBegFunBal+F660BegFunBal+F665BegFunBal","v":{"v":0,"d":"0 "}},{"$f":"OthActRev+F660ActRev+F665ActRev","v":{"v":0,"d":"0 "}},{"$f":"OthTransf+F660Transf+F665Transf","v":{"v":0,"d":"0 "}},{"$f":"OthBudgExp+F660BudgExp+F665BudgExp","v":{"v":0,"d":"0 "}},null,{"$f":"OthActExp+F660ActExp+F665ActExp","v":{"v":0,"d":"0 "}},null,{"$f":"B61+C61+D61-G61","v":{"v":0,"d":"0 "}},null,"No"]
["Permanent Fund",{"$f":"F750BegFunBal","v":{"v":0,"d":"0 "}},{"$f":"F750ActRev","v":{"v":0,"d":"0 "}},{"$f":"F750Transf","v":{"v":0,"d":"0 "}},{"$f":"F750BudgExp","v":{"v":0,"d":"0 "}},null,{"$f":"F750ActExp","v":{"v":0,"d":"0 "}},null,{"v":0,"d":"0 "}]
["Trust and Custodial Funds",{"$f":"F800_849BegFunBal","v":{"v":0,"d":"0 "}},{"$f":"F800_849ActRev","v":{"v":0,"d":"0 "}},{"$f":"F800_849Transf","v":{"v":0,"d":"0 "}},{"$f":"F800_849BudgExp","v":{"v":0,"d":"0 "}},null,{"$f":"F800_849ActExp","v":{"v":0,"d":"0 "}},null,{"v":0,"d":"0 "}]
["Enterprise Funds",{"$f":"F900_949BegFunBal","v":{"v":0,"d":"0 "}},{"$f":"F900_949ActRev","v":{"v":0,"d":"0 "}},{"$f":"F900_949Transf","v":{"v":0,"d":"0 "}},{"$f":"F900_949BudgExp","v":{"v":0,"d":"0 "}},null,{"$f":"F900_949ActExp","v":{"v":0,"d":"0 "}},null,{"v":0,"d":"0 "}]
["Self-Insurance",{"$f":"SIBegFunBal","v":{"v":0,"d":"0 "}},{"$f":"SIActRev","v":{"v":0,"d":"0 "}},{"$f":"SITransf","v":{"v":0,"d":"0 "}},{"$f":"SIBudgExp","v":{"v":0,"d":"0 "}},null,{"$f":"SIActExp","v":{"v":0,"d":"0 "}},null,{"v":0,"d":"0 "}]
["Intergovernmental Agreements",{"$f":"F955BegFunBal","v":{"v":0,"d":"0 "}},{"$f":"F955ActRev","v":{"v":0,"d":"0 "}},{"$f":"F955Transf","v":{"v":0,"d":"0 "}},{"$f":"F955BudgExp","v":{"v":0,"d":"0 "}},null,{"$f":"F955ActExp","v":{"v":0,"d":"0 "}},null,{"v":0,"d":"0 "}]
["OPEB",{"$f":"OPEBBegFunBal","v":{"v":0,"d":"0 "}},{"$f":"OPEBActRev","v":{"v":0,"d":"0 "}},{"$f":"OPEBTransf","v":{"v":0,"d":"0 "}},{"$f":"OPEBBudgExp","v":{"v":0,"d":"0 "}},null,{"$f":"OPEBActExp","v":{"v":0,"d":"0 "}},null,{"v":0,"d":"0 "}]
["Other Internal Service Fund",{"$f":"ISFOthBegFunBal","v":{"v":4365,"d":"4,365 "}},{"$f":"ISFOthActRev","v":{"v":0,"d":"0 "}},{"$f":"ISFOthTransf","v":{"v":0,"d":"0 "}},{"$f":"ISFOthBudgExp","v":{"v":0,"d":"0 "}},null,{"$f":"ISFOthActExp","v":{"v":0,"d":"0 "}},null,{"v":4365,"d":"4,365 "}]

{"sheet":"Supplement","index":12,"n_rows":43,"n_cols":15,"rows_kept":43,"merged":[[0,1,0,5],[0,7,0,9],[0,12,0,13],[2,0,2,13],[3,0,3,13],[7,0,7,2],[14,3,15,3],[14,11,15,11],[14,12,15,12],[14,13,15,13],[16,3,17,3],[16,11,17,11],[16,12,17,12],[16,13,17,13],[25,0,25,1],[31,3,32,3],[31,11,32,11],[31,12,32,12],[31,13,32,13],[33,3,34,3],[33,11,34,11],[33,12,34,12],[33,13,34,13],[42,0,42,1]]}
["DISTRICT NAME",{"$f":"CoverDistrictName","v":"Double Adobe Elementary School "},{"$nulls":4},"COUNTY",{"$f":"County","v":"Cochise"},{"$nulls":3},"CTDS NUMBER",{"$f":"Cover!Q1","v":"020345000"}]
[]
["SUPPLEMENT TO SCHOOL DISTRICT ANNUAL FINANCIAL REPORT FOR DISTRICTS THAT INCURRED EXPENDITURES FOR"]
["ENGLISH LANGUAGE LEARNERS (A.R.S. §§15-756.04 and 15-756.11)"]
[]
[{"$nulls":7},"Purchased",{"$nulls":3},"Total Expenditures"]
[{"$nulls":3},"Beginning ",null,null,"Employee","Services",{"$nulls":5},"Ending"]
["Revenue Object Codes/Expenditure Function Codes",null,null,"Fund","Actual ","Salaries","Benefits","6300, 6400,","Supplies","Property","Other","Budget","Actual ","Fund"]
[{"$nulls":3},"Balance","Revenues","6100","6200","6500","6600","6700","6800",null,null,"Balance"]
["English Language Learner Fund 071"]
["Revenues "]
["        3200 Restricted Revenue from State Sources",null,"1.",null,{"$f":"-(SUMIFS('Accounting Data'!C2:C100000,'Accounting Data'!E2:E100000,\"071\",'Accounting Data'!J2:J100000,\"32??\"))","v":{"v":0,"d":"0 "}},{"$nulls":9},"1."]
["        Investment Income and Other Revenues",null,"2.",null,{"$f":"-(SUMIFS('Accounting Data'!C2:C100000,'Accounting Data'!E2:E100000,\"071\",'Accounting Data'!J2:J100000,\"15??\")+SUMIFS('Accounting Data'!C2:C100000,'Accounting Data'!E2:E100000,\"071\",'Accounting Data'!J2:J100000,\"198?\"))","v":{"v":0,"d":"0 "}},{"$nulls":9},"2."]
["Total Revenues (lines 1 and 2)",null,"3.",null,{"$f":"IF(SUM(E12:E13)=F071ActRev,SUM(E12:E13),\"Check Page 6, cell V9\")","v":{"v":0,"d":"0 "}},{"$nulls":9},"3."]
["Expenditures",{"$nulls":10},{"$f":"[1]!F071F1000","v":{"v":0,"d":"0 "}},{"$f":"SUM(F16:K16)","v":{"v":0,"d":"0 "}}]
["   1000 Instruction",null,"4.",null,null,{"$f":"SUMIFS('Accounting Data'!C2:C100000,'Accounting Data'!E2:E100000,\"071\",'Accounting Data'!I2:I100000,\"1???\",'Accounting Data'!J2:J100000,\"61??\")","v":{"v":0,"d":"0 "}},{"$f":"SUMIFS('Accounting Data'!C2:C100000,'Accounting Data'!E2:E100000,\"071\",'Accounting Data'!I2:I100000,\"1???\",'Accounting Data'!J2:J100000,\"62??\")","v":{"v":0,"d":"0 "}},{"$f":"SUMIFS('Accounting Data'!C2:C100000,'Accounting Data'!E2:E100000,\"071\",'Accounting Data'!I2:I100000,\"1???\",'Accounting Data'!J2:J100000,\"63??\")+SUMIFS('Accounting Data'!C2:C100000,'Accounting Data'!E2:E100000,\"071\",'Accounting Data'!I2:I100000,\"1???\",'Accounting Data'!J2:J100000,\"64??\")+SUMIFS('Accounting Data'!C2:C100000,'Accounting Data'!E2:E100000,\"071\",'Accounting Data'!I2:I100000,\"1???\",'Accounting Data'!J2:J100000,\"65??\")","v":{"v":0,"d":"0 "}},{"$f":"SUMIFS('Accounting Data'!C2:C100000,'Accounting Data'!E2:E100000,\"071\",'Accounting Data'!I2:I100000,\"1???\",'Accounting Data'!J2:J100000,\"66??\")","v":{"v":0,"d":"0 "}},{"$f":"SUMIFS('Accounting Data'!C2:C100000,'Accounting Data'!E2:E100000,\"071\",'Accounting Data'!I2:I100000,\"1???\",'Accounting Data'!J2:J100000,\"67??\")","v":{"v":0,"d":"0 "}},{"$f":"SUMIFS('Accounting Data'!C2:C100000,'Accounting Data'!E2:E100000,\"071\",'Accounting Data'!I2:I100000,\"1???\",'Accounting Data'!J2:J100000,\"68??\")","v":{"v":0,"d":"0 "}},{"$nulls":3},"4."]
["   2000 Support Services",{"$nulls":10},{"$f":"[1]!F071F2100","v":{"v":0,"d":"0 "}},{"$f":"SUM(F18:K18)","v":{"v":0,"d":"0 "}},null," "]
["      2100 Students",null,"5.",null,null,{"$f":"SUMIFS('Accounting Data'!C$2:C$100000,'Accounting Data'!E$2:E$100000,\"071\",'Accounting Data'!I$2:I$100000,\"21??\",'Accounting Data'!J$2:J$100000,\"61??\")","v":{"v":0,"d":"0 "}},{"$f":"SUMIFS('Accounting Data'!C$2:C$100000,'Accounting Data'!E$2:E$100000,\"071\",'Accounting Data'!I$2:I$100000,\"21??\",'Accounting Data'!J$2:J$100000,\"62??\")","v":{"v":0,"d":"0 "}},{"$f":"SUMIFS('Accounting Data'!C2:C100000,'Accounting Data'!E2:E100000,\"071\",'Accounting Data'!I2:I100000,\"21??\",'Accounting Data'!J2:J100000,\"63??\")+SUMIFS('Accounting Data'!C2:C100000,'Accounting Data'!E2:E100000,\"071\",'Accounting Data'!I2:I100000,\"21??\",'Accounting Data'!J2:J100000,\"64??\")+SUMIFS('Accounting Data'!C2:C100000,'Accounting Data'!E2:E100000,\"071\",'Accounting Data'!I2:I100000,\"21??\",'Accounting Data'!J2:J100000,\"65??\")","v":{"v":0,"d":"0 "}},{"$f":"SUMIFS('Accounting Data'!C$2:C$100000,'Accounting Data'!E$2:E$100000,\"071\",'Accounting Data'!I$2:I$100000,\"21??\",'Accounting Data'!J$2:J$100000,\"66??\")","v":{"v":0,"d":"0 "}},{"$f":"SUMIFS('Accounting Data'!C$2:C$100000,'Accounting Data'!E$2:E$100000,\"071\",'Accounting Data'!I$2:I$100000,\"21??\",'Accounting Data'!J$2:J$100000,\"67??\")","v":{"v":0,"d":"0 "}},{"$f":"SUMIFS('Accounting Data'!C$2:C$100000,'Accounting Data'!E$2:E$100000,\"071\",'Accounting Data'!I$2:I$100000,\"21??\",'Accounting Data'!J$2:J$100000,\"68??\")","v":{"v":0,"d":"0 "}},{"$nulls":3},"5."]
["      2200 Instructional Staff",null,"6.",null,null,{"$f":"SUMIFS('Accounting Data'!C$2:C$100000,'Accounting Data'!E$2:E$100000,\"071\",'Accounting Data'!I$2:I$100000,\"22??\",'Accounting Data'!J$2:J$100000,\"61??\")","v":{"v":0,"d":"0 "}},{"$f":"SUMIFS('Accounting Data'!C$2:C$100000,'Accounting Data'!E$2:E$100000,\"071\",'Accounting Data'!I$2:I$100000,\"22??\",'Accounting Data'!J$2:J$100000,\"62??\")","v":{"v":0,"d":"0 "}},{"$f":"SUMIFS('Accounting Data'!C2:C100000,'Accounting Data'!E2:E100000,\"071\",'Accounting Data'!I2:I100000,\"22??\",'Accounting Data'!J2:J100000,\"63??\")+SUMIFS('Accounting Data'!C2:C100000,'Accounting Data'!E2:E100000,\"071\",'Accounting Data'!I2:I100000,\"22??\",'Accounting Data'!J2:J100000,\"64??\")+SUMIFS('Accounting Data'!C2:C100000,'Accounting Data'!E2:E100000,\"071\",'Accounting Data'!I2:I100000,\"22??\",'Accounting Data'!J2:J100000,\"65??\")","v":{"v":0,"d":"0 "}},{"$f":"SUMIFS('Accounting Data'!C$2:C$100000,'Accounting Data'!E$2:E$100000,\"071\",'Accounting Data'!I$2:I$100000,\"22??\",'Accounting Data'!J$2:J$100000,\"66??\")","v":{"v":0,"d":"0 "}},{"$f":"SUMIFS('Accounting Data'!C$2:C$100000,'Accounting Data'!E$2:E$100000,\"071\",'Accounting Data'!I$2:I$100000,\"22??\",'Accounting Data'!J$2:J$100000,\"67??\")","v":{"v":0,"d":"0 "}},{"$f":"SUMIFS('Accounting Data'!C$2:C$100000,'Accounting Data'!E$2:E$100000,\"071\",'Accounting Data'!I$2:I$100000,\"22??\",'Accounting Data'!J$2:J$100000,\"68??\")","v":{"v":0,"d":"0 "}},{"$f":"[1]!F071F2200","v":{"v":0,"d":"0 "}},{"$f":"SUM(F19:K19)","v":{"v":0,"d":"0 "}},null,"6."]
["      2300 General Administration",null,"7.",null,null,{"$f":"SUMIFS('Accounting Data'!C$2:C$100000,'Accounting Data'!E$2:E$100000,\"071\",'Accounting Data'!I$2:I$100000,\"23??\",'Accounting Data'!J$2:J$100000,\"61??\")","v":{"v":0,"d":"0 "}},{"$f":"SUMIFS('Accounting Data'!C$2:C$100000,'Accounting Data'!E$2:E$100000,\"071\",'Accounting Data'!I$2:I$100000,\"23??\",'Accounting Data'!J$2:J$100000,\"62??\")","v":{"v":0,"d":"0 "}},{"$f":"SUMIFS('Accounting Data'!C2:C100000,'Accounting Data'!E2:E100000,\"071\",'Accounting Data'!I2:I100000,\"23??\",'Accounting Data'!J2:J100000,\"63??\")+SUMIFS('Accounting Data'!C2:C100000,'Accounting Data'!E2:E100000,\"071\",'Accounting Data'!I2:I100000,\"23??\",'Accounting Data'!J2:J100000,\"64??\")+SUMIFS('Accounting Data'!C2:C100000,'Accounting Data'!E2:E100000,\"071\",'Accounting Data'!I2:I100000,\"23??\",'Accounting Data'!J2:J100000,\"65??\")","v":{"v":0,"d":"0 "}},{"$f":"SUMIFS('Accounting Data'!C$2:C$100000,'Accounting Data'!E$2:E$100000,\"071\",'Accounting Data'!I$2:I$100000,\"23??\",'Accounting Data'!J$2:J$100000,\"66??\")","v":{"v":0,"d":"0 "}},{"$f":"SUMIFS('Accounting Data'!C$2:C$100000,'Accounting Data'!E$2:E$100000,\"071\",'Accounting Data'!I$2:I$100000,\"23??\",'Accounting Data'!J$2:J$100000,\"67??\")","v":{"v":0,"d":"0 "}},{"$f":"SUMIFS('Accounting Data'!C$2:C$100000,'Accounting Data'!E$2:E$100000,\"071\",'Accounting Data'!I$2:I$100000,\"23??\",'Accounting Data'!J$2:J$100000,\"68??\")","v":{"v":0,"d":"0 "}},{"$f":"[1]!F071F2300","v":{"v":0,"d":"0 "}},{"$f":"SUM(F20:K20)","v":{"v":0,"d":"0 "}},null,"7."]
["      2400 School Administration",null,"8.",null,null,{"$f":"SUMIFS('Accounting Data'!C$2:C$100000,'Accounting Data'!E$2:E$100000,\"071\",'Accounting Data'!I$2:I$100000,\"24??\",'Accounting Data'!J$2:J$100000,\"61??\")","v":{"v":0,"d":"0 "}},{"$f":"SUMIFS('Accounting Data'!C$2:C$100000,'Accounting Data'!E$2:E$100000,\"071\",'Accounting Data'!I$2:I$100000,\"24??\",'Accounting Data'!J$2:J$100000,\"62??\")","v":{"v":0,"d":"0 "}},{"$f":"SUMIFS('Accounting Data'!C2:C100000,'Accounting Data'!E2:E100000,\"071\",'Accounting Data'!I2:I100000,\"24??\",'Accounting Data'!J2:J100000,\"63??\")+SUMIFS('Accounting Data'!C2:C100000,'Accounting Data'!E2:E100000,\"071\",'Accounting Data'!I2:I100000,\"24??\",'Accounting Data'!J2:J100000,\"64??\")+SUMIFS('Accounting Data'!C2:C100000,'Accounting Data'!E2:E100000,\"071\",'Accounting Data'!I2:I100000,\"24??\",'Accounting Data'!J2:J100000,\"65??\")","v":{"v":0,"d":"0 "}},{"$f":"SUMIFS('Accounting Data'!C$2:C$100000,'Accounting Data'!E$2:E$100000,\"071\",'Accounting Data'!I$2:I$100000,\"24??\",'Accounting Data'!J$2:J$100000,\"66??\")","v":{"v":0,"d":"0 "}},{"$f":"SUMIFS('Accounting Data'!C$2:C$100000,'Accounting Data'!E$2:E$100000,\"071\",'Accounting Data'!I$2:I$100000,\"24??\",'Accounting Data'!J$2:J$100000,\"67??\")","v":{"v":0,"d":"0 "}},{"$f":"SUMIFS('Accounting Data'!C$2:C$100000,'Accounting Data'!E$2:E$100000,\"071\",'Accounting Data'!I$2:I$100000,\"24??\",'Accounting Data'!J$2:J$100000,\"68??\")","v":{"v":0,"d":"0 "}},{"$f":"[1]!F071F2400","v":{"v":0,"d":"0 "}},{"v":0,"d":"0 "},null,"8."]
["      2500 Central Services",null,"9.",null,null,{"$f":"SUMIFS('Accounting Data'!C$2:C$100000,'Accounting Data'!E$2:E$100000,\"071\",'Accounting Data'!I$2:I$100000,\"25??\",'Accounting Data'!J$2:J$100000,\"61??\")","v":{"v":0,"d":"0 "}},{"$f":"SUMIFS('Accounting Data'!C$2:C$100000,'Accounting Data'!E$2:E$100000,\"071\",'Accounting Data'!I$2:I$100000,\"25??\",'Accounting Data'!J$2:J$100000,\"62??\")","v":{"v":0,"d":"0 "}},{"$f":"SUMIFS('Accounting Data'!C2:C100000,'Accounting Data'!E2:E100000,\"071\",'Accounting Data'!I2:I100000,\"25??\",'Accounting Data'!J2:J100000,\"63??\")+SUMIFS('Accounting Data'!C2:C100000,'Accounting Data'!E2:E100000,\"071\",'Accounting Data'!I2:I100000,\"25??\",'Accounting Data'!J2:J100000,\"64??\")+SUMIFS('Accounting Data'!C2:C100000,'Accounting Data'!E2:E100000,\"071\",'Accounting Data'!I2:I100000,\"25??\",'Accounting Data'!J2:J100000,\"65??\")","v":{"v":0,"d":"0 "}},{"$f":"SUMIFS('Accounting Data'!C$2:C$100000,'Accounting Data'!E$2:E$100000,\"071\",'Accounting Data'!I$2:I$100000,\"25??\",'Accounting Data'!J$2:J$100000,\"66??\")","v":{"v":0,"d":"0 "}},{"$f":"SUMIFS('Accounting Data'!C$2:C$100000,'Accounting Data'!E$2:E$100000,\"071\",'Accounting Data'!I$2:I$100000,\"25??\",'Accounting Data'!J$2:J$100000,\"67??\")","v":{"v":0,"d":"0 "}},{"$f":"SUMIFS('Accounting Data'!C$2:C$100000,'Accounting Data'!E$2:E$100000,\"071\",'Accounting Data'!I$2:I$100000,\"25??\",'Accounting Data'!J$2:J$100000,\"68??\")","v":{"v":0,"d":"0 "}},{"$f":"[1]!F071F2500","v":{"v":0,"d":"0 "}},{"v":0,"d":"0 "},null,"9."]
["      2600 Operation & Maintenance of Plant",null,"10.",null,null,{"$f":"SUMIFS('Accounting Data'!C$2:C$100000,'Accounting Data'!E$2:E$100000,\"071\",'Accounting Data'!I$2:I$100000,\"26??\",'Accounting Data'!J$2:J$100000,\"61??\")","v":{"v":0,"d":"0 "}},{"$f":"SUMIFS('Accounting Data'!C$2:C$100000,'Accounting Data'!E$2:E$100000,\"071\",'Accounting Data'!I$2:I$100000,\"26??\",'Accounting Data'!J$2:J$100000,\"62??\")","v":{"v":0,"d":"0 "}},{"$f":"SUMIFS('Accounting Data'!C2:C100000,'Accounting Data'!E2:E100000,\"071\",'Accounting Data'!I2:I100000,\"26??\",'Accounting Data'!J2:J100000,\"63??\")+SUMIFS('Accounting Data'!C2:C100000,'Accounting Data'!E2:E100000,\"071\",'Accounting Data'!I2:I100000,\"26??\",'Accounting Data'!J2:J100000,\"64??\")+SUMIFS('Accounting Data'!C2:C100000,'Accounting Data'!E2:E100000,\"071\",'Accounting Data'!I2:I100000,\"26??\",'Accounting Data'!J2:J100000,\"65??\")","v":{"v":0,"d":"0 "}},{"$f":"SUMIFS('Accounting Data'!C$2:C$100000,'Accounting Data'!E$2:E$100000,\"071\",'Accounting Data'!I$2:I$100000,\"26??\",'Accounting Data'!J$2:J$100000,\"66??\")","v":{"v":0,"d":"0 "}},{"$f":"SUMIFS('Accounting Data'!C$2:C$100000,'Accounting Data'!E$2:E$100000,\"071\",'Accounting Data'!I$2:I$100000,\"26??\",'Accounting Data'!J$2:J$100000,\"67??\")","v":{"v":0,"d":"0 "}},{"$f":"SUMIFS('Accounting Data'!C$2:C$100000,'Accounting Data'!E$2:E$100000,\"071\",'Accounting Data'!I$2:I$100000,\"26??\",'Accounting Data'!J$2:J$100000,\"68??\")","v":{"v":0,"d":"0 "}},{"$f":"[1]!F071F2600","v":{"v":0,"d":"0 "}},{"v":0,"d":"0 "},null,"10."]
["      2700 Student Transportation ",null,"11.",null,null,{"$f":"SUMIFS('Accounting Data'!C$2:C$100000,'Accounting Data'!E$2:E$100000,\"071\",'Accounting Data'!I$2:I$100000,\"27??\",'Accounting Data'!J$2:J$100000,\"61??\")","v":{"v":0,"d":"0 "}},{"$f":"SUMIFS('Accounting Data'!C$2:C$100000,'Accounting Data'!E$2:E$100000,\"071\",'Accounting Data'!I$2:I$100000,\"27??\",'Accounting Data'!J$2:J$100000,\"62??\")","v":{"v":0,"d":"0 "}},{"$f":"SUMIFS('Accounting Data'!C2:C100000,'Accounting Data'!E2:E100000,\"071\",'Accounting Data'!I2:I100000,\"27??\",'Accounting Data'!J2:J100000,\"63??\")+SUMIFS('Accounting Data'!C2:C100000,'Accounting Data'!E2:E100000,\"071\",'Accounting Data'!I2:I100000,\"27??\",'Accounting Data'!J2:J100000,\"64??\")+SUMIFS('Accounting Data'!C2:C100000,'Accounting Data'!E2:E100000,\"071\",'Accounting Data'!I2:I100000,\"27??\",'Accounting Data'!J2:J100000,\"65??\")","v":{"v":0,"d":"0 "}},{"$f":"SUMIFS('Accounting Data'!C$2:C$100000,'Accounting Data'!E$2:E$100000,\"071\",'Accounting Data'!I$2:I$100000,\"27??\",'Accounting Data'!J$2:J$100000,\"66??\")","v":{"v":0,"d":"0 "}},{"$f":"SUMIFS('Accounting Data'!C$2:C$100000,'Accounting Data'!E$2:E$100000,\"071\",'Accounting Data'!I$2:I$100000,\"27??\",'Accounting Data'!J$2:J$100000,\"67??\")","v":{"v":0,"d":"0 "}},{"$f":"SUMIFS('Accounting Data'!C$2:C$100000,'Accounting Data'!E$2:E$100000,\"071\",'Accounting Data'!I$2:I$100000,\"27??\",'Accounting Data'!J$2:J$100000,\"68??\")","v":{"v":0,"d":"0 "}},{"$f":"[1]!F071F2700","v":{"v":0,"d":"0 "}},{"v":0,"d":"0 "},null,"11."]
["      2900 Other",null,"12.",null,null,{"$f":"SUMIFS('Accounting Data'!C$2:C$100000,'Accounting Data'!E$2:E$100000,\"071\",'Accounting Data'!I$2:I$100000,\"29??\",'Accounting Data'!J$2:J$100000,\"61??\")","v":{"v":0,"d":"0 "}},{"$f":"SUMIFS('Accounting Data'!C$2:C$100000,'Accounting Data'!E$2:E$100000,\"071\",'Accounting Data'!I$2:I$100000,\"29??\",'Accounting Data'!J$2:J$100000,\"62??\")","v":{"v":0,"d":"0 "}},{"$f":"SUMIFS('Accounting Data'!C2:C100000,'Accounting Data'!E2:E100000,\"071\",'Accounting Data'!I2:I100000,\"29??\",'Accounting Data'!J2:J100000,\"63??\")+SUMIFS('Accounting Data'!C2:C100000,'Accounting Data'!E2:E100000,\"071\",'Accounting Data'!I2:I100000,\"29??\",'Accounting Data'!J2:J100000,\"64??\")+SUMIFS('Accounting Data'!C2:C100000,'Accounting Data'!E2:E100000,\"071\",'Accounting Data'!I2:I100000,\"29??\",'Accounting Data'!J2:J100000,\"65??\")","v":{"v":0,"d":"0 "}},{"$f":"SUMIFS('Accounting Data'!C$2:C$100000,'Accounting Data'!E$2:E$100000,\"071\",'Accounting Data'!I$2:I$100000,\"29??\",'Accounting Data'!J$2:J$100000,\"66??\")","v":{"v":0,"d":"0 "}},{"$f":"SUMIFS('Accounting Data'!C$2:C$100000,'Accounting Data'!E$2:E$100000,\"071\",'Accounting Data'!I$2:I$100000,\"29??\",'Accounting Data'!J$2:J$100000,\"67??\")","v":{"v":0,"d":"0 "}},{"$f":"SUMIFS('Accounting Data'!C$2:C$100000,'Accounting Data'!E$2:E$100000,\"071\",'Accounting Data'!I$2:I$100000,\"29??\",'Accounting Data'!J$2:J$100000,\"68??\")","v":{"v":0,"d":"0 "}},{"$f":"[1]!F071F2900","v":{"v":0,"d":"0 "}},{"v":0,"d":"0 "},null,"12."]
["Total (must agree with the AFR page 6, line 3)",null,"13.","BFB071SEI3",{"$f":"E14","v":{"v":0,"d":"0 "}},{"$f":"F16+SUM(F18:F25)","v":{"v":0,"d":"0 "}},{"v":0,"d":"0 "},{"v":0,"d":"0 "},{"v":0,"d":"0 "},{"v":0,"d":"0 "},{"v":0,"d":"0 "},{"$f":"L15+L17+SUM(L19:L25)","v":{"v":0,"d":"0 "}},{"$f":"M15+M17+SUM(M19:M25)","v":{"v":0,"d":"0 "}},"SEIFUNDENDING","13."]
["Compensatory Instruction Fund 072"]
["Revenues "]
["        3200 Restricted Revenue from State Sources",null,"14.",null,{"$f":"-(SUMIFS('Accounting Data'!C2:C100000,'Accounting Data'!E2:E100000,\"072\",'Accounting Data'!J2:J100000,\"32??\"))","v":{"v":0,"d":"0 "}},{"$nulls":9},"14"]
["        Investment Income and Other Revenues",null,"15.",null,{"$f":"-(SUMIFS('Accounting Data'!C2:C100000,'Accounting Data'!E2:E100000,\"072\",'Accounting Data'!J2:J100000,\"15??\")+SUMIFS('Accounting Data'!C2:C100000,'Accounting Data'!E2:E100000,\"072\",'Accounting Data'!J2:J100000,\"198?\"))","v":{"v":0,"d":"0 "}},{"$nulls":9},"15."]
["Total Revenues (lines 14 and 15)",null,"16.",null,{"$f":"IF(SUM(E29:E30)=F072ActRev,SUM(E29:E30),\"Check Page 6, cell V10\")","v":{"v":0,"d":"0 "}},{"$nulls":9},"16."]
["Expenditures",{"$nulls":10},{"$f":"[1]!F072F1000","v":{"v":0,"d":"0 "}},{"$f":"SUM(F33:K33)","v":{"v":0,"d":"0 "}}]
["   1000 Instruction",null,"17.",null,null,{"$f":"SUMIFS('Accounting Data'!C2:C100000,'Accounting Data'!E2:E100000,\"072\",'Accounting Data'!I2:I100000,\"1???\",'Accounting Data'!J2:J100000,\"61??\")","v":{"v":0,"d":"0 "}},{"$f":"SUMIFS('Accounting Data'!C2:C100000,'Accounting Data'!E2:E100000,\"072\",'Accounting Data'!I2:I100000,\"1???\",'Accounting Data'!J2:J100000,\"62??\")","v":{"v":0,"d":"0 "}},{"$f":"SUMIFS('Accounting Data'!C2:C100000,'Accounting Data'!E2:E100000,\"072\",'Accounting Data'!I2:I100000,\"1???\",'Accounting Data'!J2:J100000,\"63??\")+SUMIFS('Accounting Data'!C2:C100000,'Accounting Data'!E2:E100000,\"072\",'Accounting Data'!I2:I100000,\"1???\",'Accounting Data'!J2:J100000,\"64??\")+SUMIFS('Accounting Data'!C2:C100000,'Accounting Data'!E2:E100000,\"072\",'Accounting Data'!I2:I100000,\"1???\",'Accounting Data'!J2:J100000,\"65??\")","v":{"v":0,"d":"0 "}},{"$f":"SUMIFS('Accounting Data'!C2:C100000,'Accounting Data'!E2:E100000,\"072\",'Accounting Data'!I2:I100000,\"1???\",'Accounting Data'!J2:J100000,\"66??\")","v":{"v":0,"d":"0 "}},{"$f":"SUMIFS('Accounting Data'!C2:C100000,'Accounting Data'!E2:E100000,\"072\",'Accounting Data'!I2:I100000,\"1???\",'Accounting Data'!J2:J100000,\"67??\")","v":{"v":0,"d":"0 "}},{"$f":"SUMIFS('Accounting Data'!C2:C100000,'Accounting Data'!E2:E100000,\"072\",'Accounting Data'!I2:I100000,\"1???\",'Accounting Data'!J2:J100000,\"68??\")","v":{"v":0,"d":"0 "}},{"$nulls":3},"17."]
["   2000 Support Services",{"$nulls":10},{"$f":"[1]!F072F2100","v":{"v":0,"d":"0 "}},{"$f":"SUM(F35:K35)","v":{"v":0,"d":"0 "}},null," "]
["      2100 Students",null,"18.",null,null,{"$f":"SUMIFS('Accounting Data'!C$2:C$100000,'Accounting Data'!E$2:E$100000,\"072\",'Accounting Data'!I$2:I$100000,\"21??\",'Accounting Data'!J$2:J$100000,\"61??\")","v":{"v":0,"d":"0 "}},{"$f":"SUMIFS('Accounting Data'!C$2:C$100000,'Accounting Data'!E$2:E$100000,\"072\",'Accounting Data'!I$2:I$100000,\"21??\",'Accounting Data'!J$2:J$100000,\"62??\")","v":{"v":0,"d":"0 "}},{"$f":"SUMIFS('Accounting Data'!C2:C100000,'Accounting Data'!E2:E100000,\"072\",'Accounting Data'!I2:I100000,\"21??\",'Accounting Data'!J2:J100000,\"63??\")+SUMIFS('Accounting Data'!C2:C100000,'Accounting Data'!E2:E100000,\"072\",'Accounting Data'!I2:I100000,\"21??\",'Accounting Data'!J2:J100000,\"64??\")+SUMIFS('Accounting Data'!C2:C100000,'Accounting Data'!E2:E100000,\"072\",'Accounting Data'!I2:I100000,\"21??\",'Accounting Data'!J2:J100000,\"65??\")","v":{"v":0,"d":"0 "}},{"$f":"SUMIFS('Accounting Data'!C2:C100000,'Accounting Data'!E2:E100000,\"072\",'Accounting Data'!I2:I100000,\"21??\",'Accounting Data'!J2:J100000,\"66??\")","v":{"v":0,"d":"0 "}},{"$f":"SUMIFS('Accounting Data'!C2:C100000,'Accounting Data'!E2:E100000,\"072\",'Accounting Data'!I2:I100000,\"21??\",'Accounting Data'!J2:J100000,\"67??\")","v":{"v":0,"d":"0 "}},{"$f":"SUMIFS('Accounting Data'!C2:C100000,'Accounting Data'!E2:E100000,\"072\",'Accounting Data'!I2:I100000,\"21??\",'Accounting Data'!J2:J100000,\"68??\")","v":{"v":0,"d":"0 "}},{"$nulls":3},"18."]
["      2200 Instructional Staff",null,"19.",null,null,{"$f":"SUMIFS('Accounting Data'!C$2:C$100000,'Accounting Data'!E$2:E$100000,\"072\",'Accounting Data'!I$2:I$100000,\"22??\",'Accounting Data'!J$2:J$100000,\"61??\")","v":{"v":0,"d":"0 "}},{"$f":"SUMIFS('Accounting Data'!C$2:C$100000,'Accounting Data'!E$2:E$100000,\"072\",'Accounting Data'!I$2:I$100000,\"22??\",'Accounting Data'!J$2:J$100000,\"62??\")","v":{"v":0,"d":"0 "}},{"$f":"SUMIFS('Accounting Data'!C2:C100000,'Accounting Data'!E2:E100000,\"072\",'Accounting Data'!I2:I100000,\"22??\",'Accounting Data'!J2:J100000,\"63??\")+SUMIFS('Accounting Data'!C2:C100000,'Accounting Data'!E2:E100000,\"072\",'Accounting Data'!I2:I100000,\"22??\",'Accounting Data'!J2:J100000,\"64??\")+SUMIFS('Accounting Data'!C2:C100000,'Accounting Data'!E2:E100000,\"072\",'Accounting Data'!I2:I100000,\"22??\",'Accounting Data'!J2:J100000,\"65??\")","v":{"v":0,"d":"0 "}},{"$f":"SUMIFS('Accounting Data'!C2:C100000,'Accounting Data'!E2:E100000,\"072\",'Accounting Data'!I2:I100000,\"22??\",'Accounting Data'!J2:J100000,\"66??\")","v":{"v":0,"d":"0 "}},{"$f":"SUMIFS('Accounting Data'!C2:C100000,'Accounting Data'!E2:E100000,\"072\",'Accounting Data'!I2:I100000,\"22??\",'Accounting Data'!J2:J100000,\"67??\")","v":{"v":0,"d":"0 "}},{"$f":"SUMIFS('Accounting Data'!C2:C100000,'Accounting Data'!E2:E100000,\"072\",'Accounting Data'!I2:I100000,\"22??\",'Accounting Data'!J2:J100000,\"68??\")","v":{"v":0,"d":"0 "}},{"$f":"[1]!F072F2200","v":{"v":0,"d":"0 "}},{"$f":"SUM(F36:K36)","v":{"v":0,"d":"0 "}},null,"19."]
["      2300 General Administration",null,"20.",null,null,{"$f":"SUMIFS('Accounting Data'!C$2:C$100000,'Accounting Data'!E$2:E$100000,\"072\",'Accounting Data'!I$2:I$100000,\"23??\",'Accounting Data'!J$2:J$100000,\"61??\")","v":{"v":0,"d":"0 "}},{"$f":"SUMIFS('Accounting Data'!C$2:C$100000,'Accounting Data'!E$2:E$100000,\"072\",'Accounting Data'!I$2:I$100000,\"23??\",'Accounting Data'!J$2:J$100000,\"62??\")","v":{"v":0,"d":"0 "}},{"$f":"SUMIFS('Accounting Data'!C2:C100000,'Accounting Data'!E2:E100000,\"072\",'Accounting Data'!I2:I100000,\"23??\",'Accounting Data'!J2:J100000,\"63??\")+SUMIFS('Accounting Data'!C2:C100000,'Accounting Data'!E2:E100000,\"072\",'Accounting Data'!I2:I100000,\"23??\",'Accounting Data'!J2:J100000,\"64??\")+SUMIFS('Accounting Data'!C2:C100000,'Accounting Data'!E2:E100000,\"072\",'Accounting Data'!I2:I100000,\"23??\",'Accounting Data'!J2:J100000,\"65??\")","v":{"v":0,"d":"0 "}},{"$f":"SUMIFS('Accounting Data'!C2:C100000,'Accounting Data'!E2:E100000,\"072\",'Accounting Data'!I2:I100000,\"23??\",'Accounting Data'!J2:J100000,\"66??\")","v":{"v":0,"d":"0 "}},{"$f":"SUMIFS('Accounting Data'!C2:C100000,'Accounting Data'!E2:E100000,\"072\",'Accounting Data'!I2:I100000,\"23??\",'Accounting Data'!J2:J100000,\"67??\")","v":{"v":0,"d":"0 "}},{"$f":"SUMIFS('Accounting Data'!C2:C100000,'Accounting Data'!E2:E100000,\"072\",'Accounting Data'!I2:I100000,\"23??\",'Accounting Data'!J2:J100000,\"68??\")","v":{"v":0,"d":"0 "}},{"$f":"[1]!F072F2300","v":{"v":0,"d":"0 "}},{"$f":"SUM(F37:K37)","v":{"v":0,"d":"0 "}},null,"20."]
["      2400 School Administration",null,"21.",null,null,{"$f":"SUMIFS('Accounting Data'!C$2:C$100000,'Accounting Data'!E$2:E$100000,\"072\",'Accounting Data'!I$2:I$100000,\"24??\",'Accounting Data'!J$2:J$100000,\"61??\")","v":{"v":0,"d":"0 "}},{"$f":"SUMIFS('Accounting Data'!C$2:C$100000,'Accounting Data'!E$2:E$100000,\"072\",'Accounting Data'!I$2:I$100000,\"24??\",'Accounting Data'!J$2:J$100000,\"62??\")","v":{"v":0,"d":"0 "}},{"$f":"SUMIFS('Accounting Data'!C2:C100000,'Accounting Data'!E2:E100000,\"072\",'Accounting Data'!I2:I100000,\"24??\",'Accounting Data'!J2:J100000,\"63??\")+SUMIFS('Accounting Data'!C2:C100000,'Accounting Data'!E2:E100000,\"072\",'Accounting Data'!I2:I100000,\"24??\",'Accounting Data'!J2:J100000,\"64??\")+SUMIFS('Accounting Data'!C2:C100000,'Accounting Data'!E2:E100000,\"072\",'Accounting Data'!I2:I100000,\"24??\",'Accounting Data'!J2:J100000,\"65??\")","v":{"v":0,"d":"0 "}},{"$f":"SUMIFS('Accounting Data'!C2:C100000,'Accounting Data'!E2:E100000,\"072\",'Accounting Data'!I2:I100000,\"24??\",'Accounting Data'!J2:J100000,\"66??\")","v":{"v":0,"d":"0 "}},{"$f":"SUMIFS('Accounting Data'!C2:C100000,'Accounting Data'!E2:E100000,\"072\",'Accounting Data'!I2:I100000,\"24??\",'Accounting Data'!J2:J100000,\"67??\")","v":{"v":0,"d":"0 "}},{"$f":"SUMIFS('Accounting Data'!C2:C100000,'Accounting Data'!E2:E100000,\"072\",'Accounting Data'!I2:I100000,\"24??\",'Accounting Data'!J2:J100000,\"68??\")","v":{"v":0,"d":"0 "}},{"$f":"[1]!F072F2400","v":{"v":0,"d":"0 "}},{"v":0,"d":"0 "},null,"21."]
["      2500 Central Services",null,"22.",null,null,{"$f":"SUMIFS('Accounting Data'!C$2:C$100000,'Accounting Data'!E$2:E$100000,\"072\",'Accounting Data'!I$2:I$100000,\"25??\",'Accounting Data'!J$2:J$100000,\"61??\")","v":{"v":0,"d":"0 "}},{"$f":"SUMIFS('Accounting Data'!C$2:C$100000,'Accounting Data'!E$2:E$100000,\"072\",'Accounting Data'!I$2:I$100000,\"25??\",'Accounting Data'!J$2:J$100000,\"62??\")","v":{"v":0,"d":"0 "}},{"$f":"SUMIFS('Accounting Data'!C2:C100000,'Accounting Data'!E2:E100000,\"072\",'Accounting Data'!I2:I100000,\"25??\",'Accounting Data'!J2:J100000,\"63??\")+SUMIFS('Accounting Data'!C2:C100000,'Accounting Data'!E2:E100000,\"072\",'Accounting Data'!I2:I100000,\"25??\",'Accounting Data'!J2:J100000,\"64??\")+SUMIFS('Accounting Data'!C2:C100000,'Accounting Data'!E2:E100000,\"072\",'Accounting Data'!I2:I100000,\"25??\",'Accounting Data'!J2:J100000,\"65??\")","v":{"v":0,"d":"0 "}},{"$f":"SUMIFS('Accounting Data'!C2:C100000,'Accounting Data'!E2:E100000,\"072\",'Accounting Data'!I2:I100000,\"25??\",'Accounting Data'!J2:J100000,\"66??\")","v":{"v":0,"d":"0 "}},{"$f":"SUMIFS('Accounting Data'!C2:C100000,'Accounting Data'!E2:E100000,\"072\",'Accounting Data'!I2:I100000,\"25??\",'Accounting Data'!J2:J100000,\"67??\")","v":{"v":0,"d":"0 "}},{"$f":"SUMIFS('Accounting Data'!C2:C100000,'Accounting Data'!E2:E100000,\"072\",'Accounting Data'!I2:I100000,\"25??\",'Accounting Data'!J2:J100000,\"68??\")","v":{"v":0,"d":"0 "}},{"$f":"[1]!F072F2500","v":{"v":0,"d":"0 "}},{"v":0,"d":"0 "},null,"22."]
["      2600 Operation & Maintenance of Plant",null,"23.",null,null,{"$f":"SUMIFS('Accounting Data'!C$2:C$100000,'Accounting Data'!E$2:E$100000,\"072\",'Accounting Data'!I$2:I$100000,\"26??\",'Accounting Data'!J$2:J$100000,\"61??\")","v":{"v":0,"d":"0 "}},{"$f":"SUMIFS('Accounting Data'!C$2:C$100000,'Accounting Data'!E$2:E$100000,\"072\",'Accounting Data'!I$2:I$100000,\"26??\",'Accounting Data'!J$2:J$100000,\"62??\")","v":{"v":0,"d":"0 "}},{"$f":"SUMIFS('Accounting Data'!C2:C100000,'Accounting Data'!E2:E100000,\"072\",'Accounting Data'!I2:I100000,\"26??\",'Accounting Data'!J2:J100000,\"63??\")+SUMIFS('Accounting Data'!C2:C100000,'Accounting Data'!E2:E100000,\"072\",'Accounting Data'!I2:I100000,\"26??\",'Accounting Data'!J2:J100000,\"64??\")+SUMIFS('Accounting Data'!C2:C100000,'Accounting Data'!E2:E100000,\"072\",'Accounting Data'!I2:I100000,\"26??\",'Accounting Data'!J2:J100000,\"65??\")","v":{"v":0,"d":"0 "}},{"$f":"SUMIFS('Accounting Data'!C2:C100000,'Accounting Data'!E2:E100000,\"072\",'Accounting Data'!I2:I100000,\"26??\",'Accounting Data'!J2:J100000,\"66??\")","v":{"v":0,"d":"0 "}},{"$f":"SUMIFS('Accounting Data'!C2:C100000,'Accounting Data'!E2:E100000,\"072\",'Accounting Data'!I2:I100000,\"26??\",'Accounting Data'!J2:J100000,\"67??\")","v":{"v":0,"d":"0 "}},{"$f":"SUMIFS('Accounting Data'!C2:C100000,'Accounting Data'!E2:E100000,\"072\",'Accounting Data'!I2:I100000,\"26??\",'Accounting Data'!J2:J100000,\"68??\")","v":{"v":0,"d":"0 "}},{"$f":"[1]!F072F2600","v":{"v":0,"d":"0 "}},{"v":0,"d":"0 "},null,"23."]
["      2700 Student Transportation ",null,"24.",null,null,{"$f":"SUMIFS('Accounting Data'!C$2:C$100000,'Accounting Data'!E$2:E$100000,\"072\",'Accounting Data'!I$2:I$100000,\"27??\",'Accounting Data'!J$2:J$100000,\"61??\")","v":{"v":0,"d":"0 "}},{"$f":"SUMIFS('Accounting Data'!C$2:C$100000,'Accounting Data'!E$2:E$100000,\"072\",'Accounting Data'!I$2:I$100000,\"27??\",'Accounting Data'!J$2:J$100000,\"62??\")","v":{"v":0,"d":"0 "}},{"$f":"SUMIFS('Accounting Data'!C2:C100000,'Accounting Data'!E2:E100000,\"072\",'Accounting Data'!I2:I100000,\"27??\",'Accounting Data'!J2:J100000,\"63??\")+SUMIFS('Accounting Data'!C2:C100000,'Accounting Data'!E2:E100000,\"072\",'Accounting Data'!I2:I100000,\"27??\",'Accounting Data'!J2:J100000,\"64??\")+SUMIFS('Accounting Data'!C2:C100000,'Accounting Data'!E2:E100000,\"072\",'Accounting Data'!I2:I100000,\"27??\",'Accounting Data'!J2:J100000,\"65??\")","v":{"v":0,"d":"0 "}},{"$f":"SUMIFS('Accounting Data'!C2:C100000,'Accounting Data'!E2:E100000,\"072\",'Accounting Data'!I2:I100000,\"27??\",'Accounting Data'!J2:J100000,\"66??\")","v":{"v":0,"d":"0 "}},{"$f":"SUMIFS('Accounting Data'!C2:C100000,'Accounting Data'!E2:E100000,\"072\",'Accounting Data'!I2:I100000,\"27??\",'Accounting Data'!J2:J100000,\"67??\")","v":{"v":0,"d":"0 "}},{"$f":"SUMIFS('Accounting Data'!C2:C100000,'Accounting Data'!E2:E100000,\"072\",'Accounting Data'!I2:I100000,\"27??\",'Accounting Data'!J2:J100000,\"68??\")","v":{"v":0,"d":"0 "}},{"$f":"[1]!F072F2700","v":{"v":0,"d":"0 "}},{"v":0,"d":"0 "},null,"24."]
["      2900 Other",null,"25.",null,null,{"$f":"SUMIFS('Accounting Data'!C$2:C$100000,'Accounting Data'!E$2:E$100000,\"072\",'Accounting Data'!I$2:I$100000,\"29??\",'Accounting Data'!J$2:J$100000,\"61??\")","v":{"v":0,"d":"0 "}},{"$f":"SUMIFS('Accounting Data'!C$2:C$100000,'Accounting Data'!E$2:E$100000,\"072\",'Accounting Data'!I$2:I$100000,\"29??\",'Accounting Data'!J$2:J$100000,\"62??\")","v":{"v":0,"d":"0 "}},{"$f":"SUMIFS('Accounting Data'!C2:C100000,'Accounting Data'!E2:E100000,\"072\",'Accounting Data'!I2:I100000,\"29??\",'Accounting Data'!J2:J100000,\"63??\")+SUMIFS('Accounting Data'!C2:C100000,'Accounting Data'!E2:E100000,\"072\",'Accounting Data'!I2:I100000,\"29??\",'Accounting Data'!J2:J100000,\"64??\")+SUMIFS('Accounting Data'!C2:C100000,'Accounting Data'!E2:E100000,\"072\",'Accounting Data'!I2:I100000,\"29??\",'Accounting Data'!J2:J100000,\"65??\")","v":{"v":0,"d":"0 "}},{"$f":"SUMIFS('Accounting Data'!C2:C100000,'Accounting Data'!E2:E100000,\"072\",'Accounting Data'!I2:I100000,\"29??\",'Accounting Data'!J2:J100000,\"66??\")","v":{"v":0,"d":"0 "}},{"$f":"SUMIFS('Accounting Data'!C2:C100000,'Accounting Data'!E2:E100000,\"072\",'Accounting Data'!I2:I100000,\"29??\",'Accounting Data'!J2:J100000,\"67??\")","v":{"v":0,"d":"0 "}},{"$f":"SUMIFS('Accounting Data'!C2:C100000,'Accounting Data'!E2:E100000,\"072\",'Accounting Data'!I2:I100000,\"29??\",'Accounting Data'!J2:J100000,\"68??\")","v":{"v":0,"d":"0 "}},{"$f":"[1]!F072F2900","v":{"v":0,"d":"0 "}},{"v":0,"d":"0 "},null,"25."]
["Total (must agree with the AFR page 6, line 4)",null,"26.","COMPINSBFB",{"$f":"E31","v":{"v":0,"d":"0 "}},{"$f":"F33+SUM(F35:F42)","v":{"v":0,"d":"0 "}},{"v":0,"d":"0 "},{"v":0,"d":"0 "},{"v":0,"d":"0 "},{"v":0,"d":"0 "},{"v":0,"d":"0 "},{"$f":"L32+L34+SUM(L36:L42)","v":{"v":0,"d":"0 "}},{"$f":"M32+M34+SUM(M36:M42)","v":{"v":0,"d":"0 "}},"COMPINSFUNDENDING","26."]

{"sheet":"Fund Balance Reserve","index":13,"n_rows":47,"n_cols":28,"rows_kept":47,"merged":[[0,7,0,8],[4,0,4,1],[4,2,4,16],[5,1,6,1],[5,2,5,4],[5,5,5,8],[5,9,5,11],[5,12,6,12],[5,13,6,13],[5,14,6,14],[5,15,6,15],[5,16,6,16],[11,0,11,1],[26,0,26,1],[27,1,27,4],[29,0,29,5],[30,1,30,8],[31,1,31,8],[33,2,33,8],[35,0,36,0],[35,1,36,1],[35,2,36,8],[38,4,38,5],[38,6,38,8],[39,4,39,5],[39,6,39,8],[42,1,42,2],[42,5,42,8],[46,1,50,8]]}
[null,"DISTRICT NAME",{"$f":"CoverDistrictName","v":"Double Adobe Elementary School "},{"$nulls":3},"COUNTY",{"$f":"Cover!J1","v":"Cochise"},null,null,"CTDS NUMBER",{"$f":"CoverCTDS","v":"020345000"}]
[]
["This tab presents information on the amount and planned use of the District's fund balance reserves to increase transparency and provide decision-makers, other stakeholders, and the public more complete financial information. It also presents information about policies or guidelines used to establish target fund balance reserve amounts."]
[]
[null,null,"Funds"]
[null,null,"General Fund*",null,null,"Capital Projects Fund",{"$nulls":3},"Special Revenue Funds",null,null,"Debt Service Funds","Permanent Fund","Enterprise funds","Internal Services Funds","Total all funds"]
[null,null,"Maintenance and Operations Fund","Unrestricted Capital Outlay Fund \n(if included in the General Fund)","Other funds reported in the General Fund","Unrestricted Capital Outlay Fund (if not included in the General Fund)","Bond Building Funds","Adjacent Ways Fund","Other capital projects funds","Classroom Site Fund","Federal and State Grants","Other special revenue funds"]
["Prior year ending fund balance",{"$nulls":26},"Yes"]
["1.","Ending fund balance reported in FY 2022 AFR",{"$f":"Summary!B18","v":{"v":212377,"d":"212,377 "}},{"$f":"IF(Summary!K21=\"Yes\",Summary!B21,0)","v":{"v":0,"d":"0 "}},{"$f":"SUMIF(Summary!K19:K68,\"Yes\",Summary!B19:B68)+SUMIF('Page 5'!K9:K28,\"Yes\",'Page 5'!E9:E28)+SUMIF('Page 5'!K36:K46,\"Yes\",'Page 5'!E36:E46)","v":{"v":0,"d":"0 "}},{"$f":"IF(Summary!K21=\"No\",Summary!B21,0)","v":{"v":28650,"d":"28,650 "}},{"$f":"Summary!B24+Summary!B53","v":{"v":0,"d":"0 "}},{"$f":"Summary!B23","v":{"v":0,"d":"0 "}},{"$f":"Summary!B56+Summary!B55+'Page 5'!E28+Summary!B26+IF(Summary!K61=\"No\",Summary!B61,0)+IF(Summary!K32=\"No\",Summary!B32,0)+Summary!B25+IF(Summary!K42=\"No\",Summary!B42,0)","v":{"v":5957,"d":"5,957 "}},{"$f":"Summary!B19","v":{"v":15758,"d":"15,758 "}},{"$f":"SUM('Page 5'!E9:E21,'Page 5'!E25,'Page 5'!E36:E45)+SUMIF('Page 5'!K22:K24,\"No\",'Page 5'!E22:E24)+SUMIF('Page 5'!K26:K27,\"No\",'Page 5'!E26:E27)+IF('Page 5'!K46=\"No\",'Page 5'!E46,0)","v":{"v":2868,"d":"2,868 "}},{"$f":"Summary!B34+Summary!B35+Summary!B31+Summary!B29+Summary!B37+Summary!B40+Summary!B33+Summary!B49+Summary!B20+Summary!B48+Summary!B39+Summary!B30+Summary!B43+IF(Summary!K50=\"No\",Summary!B50,0)+IF(Summary!K36=\"No\",Summary!B36,0)+IF(Summary!K38=\"No\",Summary!B38,0)+IF(Summary!K44=\"No\",Summary!B44,0)+IF(Summary!K47=\"No\",Summary!B47,0)+Summary!B51+Summary!B52+Summary!B58","v":{"v":30987,"d":"30,987 "}},{"$f":"Summary!B54+Summary!B57","v":{"v":0,"d":"0 "}},{"$f":"Summary!B62","v":{"v":0,"d":"0 "}},{"$f":"IF(Summary!K64=\"No\",Summary!B64,0)","v":{"v":0,"d":"0 "}},{"$f":"SUM(Summary!B65:'Summary'!B68)","v":{"v":4365,"d":"4,365 "}},{"$f":"SUM(C9:P9)","v":{"v":300962,"d":"300,962 "}},{"$nulls":10},"No"]
["Current year ending fund balance"]
["2.","Total FY 2023 ending fund balance",{"$f":"Summary!I18","v":{"v":362980,"d":"362,980 "}},{"$f":"IF(Summary!K21=\"Yes\",Summary!I21,0)","v":{"v":0,"d":"0 "}},{"$f":"SUMIF(Summary!K19:K68,\"Yes\",Summary!I19:I68)+SUMIF('Page 5'!K9:K28,\"Yes\",'Page 5'!J9:J28)+SUMIF('Page 5'!K36:K46,\"Yes\",'Page 5'!J36:J46)","v":{"v":0,"d":"0 "}},{"$f":"IF(Summary!K21=\"No\",Summary!I21,0)","v":{"v":16952,"d":"16,952 "}},{"$f":"Summary!I24+Summary!I53","v":{"v":0,"d":"0 "}},{"$f":"Summary!I23","v":{"v":0,"d":"0 "}},{"$f":"Summary!I56+Summary!I55+'Page 5'!J28+Summary!I26+IF(Summary!K61=\"No\",Summary!I61,0)+IF(Summary!K32=\"No\",Summary!I32,0)+Summary!I25+IF(Summary!K42=\"No\",Summary!I42,0)","v":{"v":4517,"d":"4,517 "}},{"$f":"Summary!I19","v":{"v":14461,"d":"14,461 "}},{"$f":"SUM('Page 5'!J9:J21,'Page 5'!J25,'Page 5'!J36:J45)+SUMIF('Page 5'!K22:K24,\"No\",'Page 5'!J22:J24)+SUMIF('Page 5'!K26:K27,\"No\",'Page 5'!J26:J27)+IF('Page 5'!K46=\"No\",'Page 5'!J46,0)","v":{"v":-119123,"d":"(119,123)"}},{"$f":"Summary!I34+Summary!I35+Summary!I31+Summary!I29+Summary!I37+Summary!I40+Summary!I33+Summary!I49+Summary!I20+Summary!I48+Summary!I39+Summary!I30+Summary!I43+IF(Summary!K50=\"No\",Summary!I50,0)+IF(Summary!K36=\"No\",Summary!I36,0)+IF(Summary!K38=\"No\",Summary!I38,0)+IF(Summary!K44=\"No\",Summary!I44,0)+IF(Summary!K47=\"No\",Summary!I47,0)+Summary!I51+Summary!I52+Summary!I58","v":{"v":34889,"d":"34,889 "}},{"$f":"Summary!I54+Summary!I57","v":{"v":0,"d":"0 "}},{"$f":"Summary!I62","v":{"v":0,"d":"0 "}},{"$f":"IF(Summary!K64=\"No\",Summary!I64,0)","v":{"v":0,"d":"0 "}},{"$f":"SUM(Summary!I65:'Summary'!I68)","v":{"v":4365,"d":"4,365 "}},{"$f":"SUM(C11:P11)","v":{"v":319041,"d":"319,041 "}}]
["FY 2023 ending fund balance details:"]
["3.a","Fund deficit",{"v":0,"d":"0 "},{"v":0,"d":"0 "},{"v":0,"d":"0 "},{"v":0,"d":"0 "},{"v":0,"d":"0 "},{"v":0,"d":"0 "},{"v":0,"d":"0 "},{"v":0,"d":"0 "},{"v":0,"d":"0 "},{"v":0,"d":"0 "},{"v":0,"d":"0 "},{"v":0,"d":"0 "},{"v":0,"d":"0 "},{"v":0,"d":"0 "},{"$f":"SUM(C13:P13)","v":{"v":0,"d":"0 "}}]
["3.b","Fund balance exceeding budget capacity in budget-controlled funds",{"v":0,"d":"0 "},{"v":0,"d":"0 "},null,{"v":0,"d":"0 "},null,{"v":0,"d":"0 "},null,{"v":0,"d":"0 "},{"v":0,"d":"0 "},{"$nulls":5},{"v":0,"d":"0 "}]
["3.c","Planned to be spent in FY 2024 to support budgeted spending",{"v":0,"d":"0 "},{"v":0,"d":"0 "},{"v":0,"d":"0 "},{"v":0,"d":"0 "},{"v":0,"d":"0 "},{"v":0,"d":"0 "},{"v":0,"d":"0 "},{"v":0,"d":"0 "},{"v":0,"d":"0 "},{"v":0,"d":"0 "},null,{"v":0,"d":"0 "},{"v":0,"d":"0 "},{"v":0,"d":"0 "},{"v":0,"d":"0 "}]
["3.d","Maintained for debt retirement after FY 2024",{"$nulls":9},{"v":0,"d":"0 "},{"v":0,"d":"0 "},{"v":0,"d":"0 "},{"v":0,"d":"0 "},{"v":0,"d":"0 "},{"v":0,"d":"0 "}]
["3.e","Maintained for capital projects after FY 2024",null,{"v":0,"d":"0 "},{"v":0,"d":"0 "},{"v":0,"d":"0 "},{"v":0,"d":"0 "},{"v":0,"d":"0 "},{"v":0,"d":"0 "},{"v":0,"d":"0 "},{"v":0,"d":"0 "},{"v":0,"d":"0 "},null,{"v":0,"d":"0 "},{"v":0,"d":"0 "},{"v":0,"d":"0 "},{"v":0,"d":"0 "}]
["3.f","Maintained for retirement contributions after FY2024",{"v":0,"d":"0 "},{"v":0,"d":"0 "},{"v":0,"d":"0 "},{"v":0,"d":"0 "},{"v":0,"d":"0 "},{"v":0,"d":"0 "},{"v":0,"d":"0 "},{"v":0,"d":"0 "},{"v":0,"d":"0 "},{"v":0,"d":"0 "},null,{"v":0,"d":"0 "},{"v":0,"d":"0 "},{"v":0,"d":"0 "},{"v":0,"d":"0 "}]
["3.g","Maintained for self-insurance or OPEB after FY 2024",{"$nulls":13},{"v":0,"d":"0 "},{"v":0,"d":"0 "}]
["3.h","Maintained for future financial stability",{"v":362980,"d":"362,980 "},{"v":0,"d":"0 "},{"v":0,"d":"0 "},{"v":16952,"d":"16,952 "},{"v":0,"d":"0 "},{"v":0,"d":"0 "},{"v":4517,"d":"4,517 "},{"v":14461,"d":"14,461 "},{"v":-119123,"d":"(119,123)"},{"v":34889,"d":"34,889 "},null,{"v":0,"d":"0 "},{"v":0,"d":"0 "},{"v":4365,"d":"4,365 "},{"v":319041,"d":"319,041 "}]
["3.i","other purposes (Specify)",{"v":0,"d":"0 "},{"v":0,"d":"0 "},{"v":0,"d":"0 "},{"v":0,"d":"0 "},{"v":0,"d":"0 "},{"v":0,"d":"0 "},{"v":0,"d":"0 "},{"v":0,"d":"0 "},{"v":0,"d":"0 "},{"v":0,"d":"0 "},null,{"v":0,"d":"0 "},{"v":0,"d":"0 "},{"v":0,"d":"0 "},{"v":0,"d":"0 "}]
["3.j","other purposes (Specify)",{"v":0,"d":"0 "},{"v":0,"d":"0 "},{"v":0,"d":"0 "},{"v":0,"d":"0 "},{"v":0,"d":"0 "},{"v":0,"d":"0 "},{"v":0,"d":"0 "},{"v":0,"d":"0 "},{"v":0,"d":"0 "},{"v":0,"d":"0 "},null,{"v":0,"d":"0 "},{"v":0,"d":"0 "},{"v":0,"d":"0 "},{"v":0,"d":"0 "}]
["3.k","Total FY 2023 ending fund balance",{"$f":"IF(ROUND(SUM(C13:C22),0)=ROUND(C11,0),SUM(C13:C22),\"Must equal line 2\")","v":{"v":362980,"d":"362,980 "}},{"$f":"IF(ROUND(SUM(D13:D22),0)=ROUND(D11,0),SUM(D13:D22),\"Must equal line 2\")","v":{"v":0,"d":"0 "}},{"$f":"IF(ROUND(SUM(E13:E22),0)=ROUND(E11,0),SUM(E13:E22),\"Must equal line 2\")","v":{"v":0,"d":"0 "}},{"$f":"IF(ROUND(SUM(F13:F22),0)=ROUND(F11,0),SUM(F13:F22),\"Must equal line 2\")","v":{"v":16952,"d":"16,952 "}},{"$f":"IF(ROUND(SUM(G13:G22),0)=ROUND(G11,0),SUM(G13:G22),\"Must equal line 2\")","v":{"v":0,"d":"0 "}},{"$f":"IF(ROUND(SUM(H14:H22),0)=ROUND(H11,0),SUM(H13:H22),\"Must equal line 2\")","v":{"v":0,"d":"0 "}},{"$f":"IF(ROUND(SUM(I13:I22),0)=ROUND(I11,0),SUM(I13:I22),\"Must equal line 2\")","v":{"v":4517,"d":"4,517 "}},{"v":14461,"d":"14,461 "},{"v":-119123,"d":"(119,123)"},{"v":34889,"d":"34,889 "},{"v":0,"d":"0 "},{"v":0,"d":"0 "},{"v":0,"d":"0 "},{"v":4365,"d":"4,365 "},{"v":319041,"d":"319,041 "}]
[]
["*See the Summary tab, column K, to identify which funds are included in the General Fund for financial statement reporting purposes."]
[]
["B. Fund balance policy",{"$nulls":4},"District establishes a targeted fund balance reserve level? ","Governing Board policy number (indicate \"N/A\" if no policy exists):"]
["1.","Does the District have a process or policy it follows to establish a targeted (goal) fund balance reserve level that the District is working to maintain each year? (Yes or No in cell F28) If the District has an adopted Governing Board policy, enter the policy number in the box provided (cell G28).",{"$nulls":3},"No","no"]
[]
["If question 1 was answered yes, answer questions 2 through 6 below. All Districts should respond to question 7."]
["2.","Describe the guidance the District used in establishing its adopted reserve level policy and/or used in planning for its FY 2023 targeted fund balance reserve levels: "]
[]
[]
["3.","What funds are included in the District's targeted fund balance reserve?"]
[]
["4.","What, if any, Section A, line 3 fund balance purposes are excluded from the District's targeted fund balance reserve?"]
[]
[]
[null,null,"Percentage",null,"Factor",null,"Additional Information"]
["5.","If the targeted fund balance amount was determined by applying a percentage to a set factor, identify that percentage and factor:",null,"of the Districts'"]
[]
[{"$nulls":3},"Targeted fund balance reserve amount","Actual fund balance reserve amount"]
["6.","Indicate the total targeted fund balance reserve and actual fund balance reserve amounts for the end of FY 2023. ",{"$nulls":3},{"$f":"IF(OR(D43=\"\",E43=\"\"),\"\",\"District's fund balance reserve \"&IF(D43<E43,\"exceeds\",IF(D43=E43,\"meets\",\"does not meet\"))&\" its targeted fund balance.\")","v":""}]
[]
["All Districts should respond to question 7."]
["7.","The District plans to take the following actions related to its ending fund balance in FY 2024 and thereafter:"]
[null,"As always, it is the District's plan to maintain good control of the expenditures, allowing for any unforseen emergency spending.   We have had a few situations where we have had unexpected spending. "]

{"sheet":"Coding Errors","index":14,"n_rows":97,"n_cols":30,"rows_kept":97,"merged":[[2,1,3,6],[5,1,6,6],[8,1,9,6],[11,1,12,6],[13,5,13,6],[62,20,68,20],[62,21,68,21],[62,22,68,22],[62,23,68,23],[62,24,68,24],[62,25,68,25]]}
[null,"DISTRICT NAME",{"$f":"CoverDistrictName","v":"Double Adobe Elementary School "},null,"COUNTY",{"$f":"County","v":"Cochise"},null,"CTDS NUMBER",{"$f":"CoverCTDS","v":"020345000"}]
[]
[null,"This page identifies coding errors noted in the district's accounting records. The formulas on pages 1 through 4 and 9 will not include these miscoded amounts. Miscodings are identified in column G by pink or purple highlighting and must be corrected, before submitting the AFR, as described below."]
[]
[]
[null,"Amounts identified in pink highlighted cells will materially misstate the amounts reported on the respective pages. Districts with amounts shown in pink-shaded cells will need to make journal entries in their accounting records to bring total miscoded amounts for the fund or page, as applicable, below the respective threshold amount shown in Column J."]
[]
[]
[null,"Amounts identified in purple highlighted cells should not be coded to the fund or object used, as applicable. Districts with amounts shown in purple-shaded cells will need to make journal entries in their accounting records to correct the fund or object code, as applicable, for each line. "]
[]
[]
[null,"After corrections have been made in the accounting records, districts should upload the corrected version of their accounting records into the Accounting Data tab. Districts may use a new copy of the AFR file or should follow step 18 in the \"Checking and copying your data to the AFR file\" section of the Data Uploading Instructions (linked below). "]
[]
[null,"Data Uploading Instructions",{"$nulls":3},"USFR Chart of Accounts"]
[]
[]
[null,"Revenue object code corrections needed for accurate reporting on Page 1",{"$nulls":4},{"$f":"IF(OR(G20>J20,(G21+G22+G23)>J21,(G24+G25+G26)>J24,G27>J27),\"Material miscoding identified below\",\"\")","v":""}]
[]
[null,"Issue","Fund","Program","Function","Object","Identified Miscoding Amount",null,null,"Page 1 Thresholds"]
["1.","Federal revenues are not allowed in Fund 610","610",null,null,"4000-4999",{"$f":"-(SUMIFS('Accounting Data'!$C$2:$C$100000,'Accounting Data'!$E$2:$E$100000,\"610\",'Accounting Data'!$J$2:$J$100000,\"4???\"))","v":{"v":0,"d":"$0"}},"1.","610",{"$f":"('Page 1'!$F$50)*0.1","v":{"v":748,"d":"$748"}}]
["2.","County revenues are not allowed in Fund 620","620",null,null,"2000-2999",{"$f":"-(SUMIFS('Accounting Data'!$C$2:$C$100000,'Accounting Data'!$E$2:$E$100000,\"620\",'Accounting Data'!$J$2:$J$100000,\"2???\"))","v":{"v":0,"d":"$0"}},"2.","620",{"$f":"('Page 1'!$G$50)*0.1","v":{"v":0,"d":"$0"}}]
["3.","State revenues are not allowed in Fund 620","620",null,null,"3000-3999",{"$f":"-(SUMIFS('Accounting Data'!$C$2:$C$100000,'Accounting Data'!$E$2:$E$100000,\"620\",'Accounting Data'!$J$2:$J$100000,\"3???\"))","v":{"v":0,"d":"$0"}},"3."]
["4.","Federal revenues are not allowed in Fund 620","620",null,null,"4000-4999",{"$f":"-(SUMIFS('Accounting Data'!$C$2:$C$100000,'Accounting Data'!$E$2:$E$100000,\"620\",'Accounting Data'!$J$2:$J$100000,\"4???\"))","v":{"v":0,"d":"$0"}},"4."]
["5.","County revenues are not allowed in Fund 630","630",null,null,"2000-2999",{"$f":"-(SUMIFS('Accounting Data'!$C$2:$C$100000,'Accounting Data'!$E$2:$E$100000,\"630\",'Accounting Data'!$J$2:$J$100000,\"2???\"))","v":{"v":0,"d":"$0"}},"5.","630",{"$f":"('Page 1'!$H$50)*0.1","v":{"v":0,"d":"$0"}}]
["6.","State revenues are not allowed in Fund 630","630",null,null,"3000-3999",{"$f":"-(SUMIFS('Accounting Data'!$C$2:$C$100000,'Accounting Data'!$E$2:$E$100000,\"630\",'Accounting Data'!$J$2:$J$100000,\"3???\"))","v":{"v":0,"d":"$0"}},"6."]
["7.","Federal revenues are not allowed in Fund 630","630",null,null,"4000-4999",{"$f":"-(SUMIFS('Accounting Data'!$C$2:$C$100000,'Accounting Data'!$E$2:$E$100000,\"630\",'Accounting Data'!$J$2:$J$100000,\"4???\"))","v":{"v":0,"d":"$0"}},"7."]
["8.","County revenues are not allowed in Fund 700","700",null,null,"2000-2999",{"$f":"-(SUMIFS('Accounting Data'!$C$2:$C$100000,'Accounting Data'!$E$2:$E$100000,\"700\",'Accounting Data'!$J$2:$J$100000,\"2???\"))","v":{"v":0,"d":"$0"}},"8.","700",{"$f":"('Page 1'!$I$50)*0.1","v":{"v":0,"d":"$0"}}]
[]
[null,"Maintenance and Operations Fund corrections needed for accurate reporting on Page 2",{"$nulls":4},{"$f":"IF(G32+G33+G34+G35+G37+G38+G40>J32,\"Material miscoding identified below\",\"\")","v":""}]
[]
[null,"Issue","Fund","Program","Function","Object","Identified Miscoding Amount",null,null,"Page 2 Threshold"]
["9.","Do not use Program codes 000-099","001","000-099",null,"6100-6899",{"$f":"SUMIFS('Accounting Data'!$C$2:$C$100000,'Accounting Data'!$E$2:$E$100000,\"001\",'Accounting Data'!$H$2:$H$100000,\"0??\",'Accounting Data'!$J$2:$J$100000,\"6???\")-SUMIFS('Accounting Data'!$C$2:$C$100000,'Accounting Data'!$E$2:$E$100000,\"001\",'Accounting Data'!$H$2:$H$100000,\"0??\",'Accounting Data'!$J$2:$J$100000,\"69??\")","v":{"v":0,"d":"$0"}},"9.",null,{"$f":"($G$32+$G$33+$G$34+$G$35+$G$37+$G$38+$G$40+'Page 2'!$J$46)*0.1","v":{"v":45183,"d":"$45,183"}}]
["10.","Expenditures in Function 2700 not coded to Programs 400, 513","001","100-399, 500-512, 514-999","2700-2799","6100-6899",{"$f":"(SUMIFS('Accounting Data'!C2:C65536,'Accounting Data'!E2:E65536,\"001\",'Accounting Data'!I2:I65536,\"27??\",'Accounting Data'!J2:J65536,\"6???\")-SUMIFS('Accounting Data'!C2:C65536,'Accounting Data'!E2:E65536,\"001\",'Accounting Data'!I2:I65536,\"27??\",'Accounting Data'!J2:J65536,\"69??\"))-(SUMIFS('Accounting Data'!C2:C65536,'Accounting Data'!E2:E65536,\"001\",'Accounting Data'!H2:H65536,\"4??\",'Accounting Data'!I2:I65536,\"27??\",'Accounting Data'!J2:J65536,\"6???\")-SUMIFS('Accounting Data'!C2:C65536,'Accounting Data'!E2:E65536,\"001\",'Accounting Data'!H2:H65536,\"4??\",'Accounting Data'!I2:I65536,\"27??\",'Accounting Data'!J2:J65536,\"69??\"))-(SUMIFS('Accounting Data'!C2:C65536,'Accounting Data'!E2:E65536,\"001\",'Accounting Data'!H2:H65536,\"51?\",'Accounting Data'!I2:I65536,\"27??\",'Accounting Data'!J2:J65536,\"6???\")-SUMIFS('Accounting Data'!C2:C65536,'Accounting Data'!E2:E65536,\"001\",'Accounting Data'!H2:H65536,\"51?\",'Accounting Data'!I2:I65536,\"27??\",'Accounting Data'!J2:J65536,\"69??\"))","v":{"v":0,"d":"$0"}},"10."]
["11.","Expenditures coded to unallowable 500 range programs","001","500-510, 520-529, 540-549, 560-599",null,"6100-6899",{"$f":"(SUMIFS('Accounting Data'!C2:C100000,'Accounting Data'!E2:E100000,\"001\",'Accounting Data'!H2:H100000,\"5??\",'Accounting Data'!J2:J100000,\"6???\")-SUMIFS('Accounting Data'!C2:C100000,'Accounting Data'!E2:E100000,\"001\",'Accounting Data'!H2:H100000,\"5??\",'Accounting Data'!J2:J100000,\"69??\"))-(SUMIFS('Accounting Data'!C2:C100000,'Accounting Data'!E2:E100000,\"001\",'Accounting Data'!H2:H100000,\"51?\",'Accounting Data'!J2:J100000,\"6???\")-SUMIFS('Accounting Data'!C2:C100000,'Accounting Data'!E2:E100000,\"001\",'Accounting Data'!H2:H100000,\"51?\",'Accounting Data'!J2:J100000,\"69??\"))-(SUMIFS('Accounting Data'!C2:C100000,'Accounting Data'!E2:E100000,\"001\",'Accounting Data'!H2:H100000,\"53?\",'Accounting Data'!J2:J100000,\"6???\")-SUMIFS('Accounting Data'!C2:C100000,'Accounting Data'!E2:E100000,\"001\",'Accounting Data'!H2:H100000,\"53?\",'Accounting Data'!J2:J100000,\"69??\"))-(SUMIFS('Accounting Data'!C2:C100000,'Accounting Data'!E2:E100000,\"001\",'Accounting Data'!H2:H100000,\"55?\",'Accounting Data'!J2:J100000,\"6???\")-SUMIFS('Accounting Data'!C2:C100000,'Accounting Data'!E2:E100000,\"001\",'Accounting Data'!H2:H100000,\"55?\",'Accounting Data'!J2:J100000,\"69??\"))","v":{"v":0,"d":"$0"}},"11."]
["12.","Expenditures coded to unallowable 600 range programs","001","600-609, 640-699",null,"6100-6899",{"$f":"(SUMIFS('Accounting Data'!C2:C100000,'Accounting Data'!E2:E100000,\"001\",'Accounting Data'!H2:H100000,\"6??\",'Accounting Data'!J2:J100000,\"6???\")-SUMIFS('Accounting Data'!C2:C100000,'Accounting Data'!E2:E100000,\"001\",'Accounting Data'!H2:H100000,\"6??\",'Accounting Data'!J2:J100000,\"69??\"))-(SUMIFS('Accounting Data'!C2:C100000,'Accounting Data'!E2:E100000,\"001\",'Accounting Data'!H2:H100000,\"61?\",'Accounting Data'!J2:J100000,\"6???\")-SUMIFS('Accounting Data'!C2:C100000,'Accounting Data'!E2:E100000,\"001\",'Accounting Data'!H2:H100000,\"61?\",'Accounting Data'!J2:J100000,\"69??\"))-(SUMIFS('Accounting Data'!C2:C100000,'Accounting Data'!E2:E100000,\"001\",'Accounting Data'!H2:H100000,\"62?\",'Accounting Data'!J2:J100000,\"6???\")-SUMIFS('Accounting Data'!C2:C100000,'Accounting Data'!E2:E100000,\"001\",'Accounting Data'!H2:H100000,\"62?\",'Accounting Data'!J2:J100000,\"69??\"))-(SUMIFS('Accounting Data'!C2:C100000,'Accounting Data'!E2:E100000,\"001\",'Accounting Data'!H2:H100000,\"63?\",'Accounting Data'!J2:J100000,\"6???\")-SUMIFS('Accounting Data'!C2:C100000,'Accounting Data'!E2:E100000,\"001\",'Accounting Data'!H2:H100000,\"63?\",'Accounting Data'!J2:J100000,\"69??\"))","v":{"v":0,"d":"$0"}},"12."]
[]
["13.","Function 4000 not allowed in Fund 001","001",null,"4000-4999","6100-6899",{"$f":"SUMIFS('Accounting Data'!C2:C100000,'Accounting Data'!E2:E100000,\"001\",'Accounting Data'!I2:I100000,\"4???\",'Accounting Data'!J2:J100000,\"6???\")-SUMIFS('Accounting Data'!C2:C100000,'Accounting Data'!E2:E100000,\"001\",'Accounting Data'!I2:I100000,\"4???\",'Accounting Data'!J2:J100000,\"69??\")","v":{"v":0,"d":"$0"}},"13."]
["14.","Function 5000 not allowed in Fund 001","001",null,"5000-5999","6100-6899",{"$f":"SUMIFS('Accounting Data'!C2:C100000,'Accounting Data'!E2:E100000,\"001\",'Accounting Data'!I2:I100000,\"5???\",'Accounting Data'!J2:J100000,\"6???\")-SUMIFS('Accounting Data'!C2:C100000,'Accounting Data'!E2:E100000,\"001\",'Accounting Data'!I2:I100000,\"5???\",'Accounting Data'!J2:J100000,\"69??\")","v":{"v":0,"d":"$0"}},"14."]
[]
["15.","Expenditures for Object 6700 are not allowed in Fund 001","001",null,null,"6700-6799",{"$f":"SUMIFS('Accounting Data'!C2:C100000,'Accounting Data'!E2:E100000,\"001\",'Accounting Data'!J2:J100000,\"67??\")","v":{"v":0,"d":"$0"}},"15."]
[]
[null,"Classroom Site Fund corrections needed for accurate reporting on Page 3",{"$nulls":4},{"$f":"IF(OR(G45>J45,G46+G47+G48+G49+G50+G51+G52>J46),\"Material miscoding identified below\",\"\")","v":""}]
[]
[null,"Issue","Fund","Program","Function","Object","Identified Miscoding Amount",null,null,"Page 3 Thresholds"]
["16.","Unallowable revenues coded to Fund 010","010",null,null,"1000-1499, 1600-1979,\n2000-2999, 4000-4999",{"$f":"-(SUM(SUMIFS('Accounting Data'!C2:C100000,'Accounting Data'!E2:E100000,\"010\",'Accounting Data'!J2:J100000,{\"10??\",\"11??\",\"12??\",\"13??\",\"14??\",\"16??\",\"17??\",\"18??\",\"190?\",\"191?\",\"192?\",\"193?\",\"194?\",\"195?\",\"196?\",\"197?\",\"2???\",\"4???\"})))","v":{"v":0,"d":"$0"}},"16.",null,{"$f":"('Page 3'!$E$21)*0.1","v":{"v":3456,"d":"$3,456"}}]
["17.","Function 2300 should only be coded to object 652X","010",null,"2300","6000-6519, 6530-6800",{"$f":"SUMIFS('Accounting Data'!C2:C100000,'Accounting Data'!E2:E100000,\"010\",'Accounting Data'!I2:I100000,\"23??\",'Accounting Data'!J2:J100000,\"6???\")-SUMIFS('Accounting Data'!C2:C100000,'Accounting Data'!E2:E100000,\"010\",'Accounting Data'!I2:I100000,\"23??\",'Accounting Data'!J2:J100000,\"652?\")","v":{"v":0,"d":"$0"}},"17.",null,{"$f":"(G46+G47+G48+G49+G50+G51+G52+'Page 3'!$M$21)*0.1","v":{"v":3586,"d":"$3,586"}}]
["18.","Object 6100 should not be coded to Function codes 2300-3200 and 3400-5000","010",null,"2300-3200, 3400-5000","6100",{"$f":"SUM(SUMIFS('Accounting Data'!C2:C100000,'Accounting Data'!E2:E100000,\"010\",'Accounting Data'!I2:I100000,{\"23??\",\"24??\",\"25??\",\"26??\",\"27??\",\"28??\",\"29??\",\"30??\",\"31??\",\"32??\",\"34??\",\"35??\",\"36??\",\"37??\",\"38??\",\"39??\",\"4???\",\"5???\"},'Accounting Data'!J2:J100000,\"61??\"))","v":{"v":0,"d":"$0"}},"18."]
["19.","Object 6200 should not be coded to Function codes 2300-3200 and 3400-5000","010",null,"2300-3200, 3400-5000","6200",{"$f":"SUM(SUMIFS('Accounting Data'!C2:C100000,'Accounting Data'!E2:E100000,\"010\",'Accounting Data'!I2:I100000,{\"23??\",\"24??\",\"25??\",\"26??\",\"27??\",\"28??\",\"29??\",\"30??\",\"31??\",\"32??\",\"34??\",\"35??\",\"36??\",\"37??\",\"38??\",\"39??\",\"4???\",\"5???\"},'Accounting Data'!J2:J100000,\"62??\"))","v":{"v":0,"d":"$0"}},"19."]
["20.","Object 6300,6400,6500 should not be coded to Function codes 2400-3200 and 3400-5000","010",null,"2400-3200, 3400-5000","6300, 6400, 6500",{"$f":"SUM(SUMIFS('Accounting Data'!C2:C100000,'Accounting Data'!E2:E100000,\"010\",'Accounting Data'!I2:I100000,{\"24??\",\"25??\",\"26??\",\"27??\",\"28??\",\"29??\",\"30??\",\"31??\",\"32??\",\"34??\",\"35??\",\"36??\",\"37??\",\"38??\",\"39??\",\"4???\",\"5???\"},'Accounting Data'!J2:J100000,\"63??\"))+SUM(SUMIFS('Accounting Data'!C2:C100000,'Accounting Data'!E2:E100000,\"010\",'Accounting Data'!I2:I100000,{\"24??\",\"25??\",\"26??\",\"27??\",\"28??\",\"29??\",\"30??\",\"31??\",\"32??\",\"34??\",\"35??\",\"36??\",\"37??\",\"38??\",\"39??\",\"4???\",\"5???\"},'Accounting Data'!J2:J100000,\"64??\"))+SUM(SUMIFS('Accounting Data'!C2:C100000,'Accounting Data'!E2:E100000,\"010\",'Accounting Data'!I2:I100000,{\"24??\",\"25??\",\"26??\",\"27??\",\"28??\",\"29??\",\"30??\",\"31??\",\"32??\",\"34??\",\"35??\",\"36??\",\"37??\",\"38??\",\"39??\",\"4???\",\"5???\"},'Accounting Data'!J2:J100000,\"65??\"))","v":{"v":0,"d":"$0"}},"20.",{"$nulls":18},{"$f":"SUMIFS('Accounting Data'!C2:C100000,'Accounting Data'!E2:E100000,\"010\",'Accounting Data'!I2:I100000,\"25??\",'Accounting Data'!J2:J100000,\"65??\")+SUMIFS('Accounting Data'!C2:C100000,'Accounting Data'!E2:E100000,\"010\",'Accounting Data'!I2:I100000,\"26??\",'Accounting Data'!J2:J100000,\"65??\")+SUMIFS('Accounting Data'!C2:C100000,'Accounting Data'!E2:E100000,\"010\",'Accounting Data'!I2:I100000,\"27??\",'Accounting Data'!J2:J100000,\"65??\")+SUMIFS('Accounting Data'!C2:C100000,'Accounting Data'!E2:E100000,\"010\",'Accounting Data'!I2:I100000,\"28??\",'Accounting Data'!J2:J100000,\"65??\")+SUMIFS('Accounting Data'!C2:C100000,'Accounting Data'!E2:E100000,\"010\",'Accounting Data'!I2:I100000,\"29??\",'Accounting Data'!J2:J100000,\"65??\")+SUMIFS('Accounting Data'!C2:C100000,'Accounting Data'!E2:E100000,\"010\",'Accounting Data'!I2:I100000,\"4???\",'Accounting Data'!J2:J100000,\"65??\")+SUMIFS('Accounting Data'!C2:C100000,'Accounting Data'!E2:E100000,\"010\",'Accounting Data'!I2:I100000,\"5???\",'Accounting Data'!J2:J100000,\"65??\")","v":{"v":0,"d":"$0"}}]
["21.","Object 6600 should not be coded to Function codes 2300-5000","010",null,"2300-5000","6600",{"$f":"SUM(SUMIFS('Accounting Data'!C2:C100000,'Accounting Data'!E2:E100000,\"010\",'Accounting Data'!I2:I100000,{\"23??\",\"24??\",\"25??\",\"26??\",\"27??\",\"28??\",\"29??\",\"3???\",\"4???\",\"5???\"},'Accounting Data'!J2:J100000,\"66??\"))","v":{"v":0,"d":"$0"}},"21."]
["22.","Object 6700 should not be coded to Function codes 2200-3900 and 5000","010",null,"2200-3900, 5000","6700",{"$f":"SUM(SUMIFS('Accounting Data'!C2:C100000,'Accounting Data'!E2:E100000,\"010\",'Accounting Data'!I2:I100000,{\"22??\",\"23??\",\"24??\",\"25??\",\"26??\",\"27??\",\"28??\",\"29??\",\"3???\",\"5???\"},'Accounting Data'!J2:J100000,\"67??\"))","v":{"v":0,"d":"$0"}},"22.",{"$nulls":18},{"$f":"SUMIFS('Accounting Data'!C2:C100000,'Accounting Data'!E2:E100000,\"010\",'Accounting Data'!I2:I100000,\"33??\",'Accounting Data'!J2:J100000,\"67??\")+SUMIFS('Accounting Data'!C2:C100000,'Accounting Data'!E2:E100000,\"010\",'Accounting Data'!I2:I100000,\"34??\",'Accounting Data'!J2:J100000,\"67??\")+SUMIFS('Accounting Data'!C2:C100000,'Accounting Data'!E2:E100000,\"010\",'Accounting Data'!I2:I100000,\"35??\",'Accounting Data'!J2:J100000,\"67??\")+SUMIFS('Accounting Data'!C2:C100000,'Accounting Data'!E2:E100000,\"010\",'Accounting Data'!I2:I100000,\"36??\",'Accounting Data'!J2:J100000,\"67??\")+SUMIFS('Accounting Data'!C2:C100000,'Accounting Data'!E2:E100000,\"010\",'Accounting Data'!I2:I100000,\"37??\",'Accounting Data'!J2:J100000,\"67??\")+SUMIFS('Accounting Data'!C2:C100000,'Accounting Data'!E2:E100000,\"010\",'Accounting Data'!I2:I100000,\"38??\",'Accounting Data'!J2:J100000,\"67??\")+SUMIFS('Accounting Data'!C2:C100000,'Accounting Data'!E2:E100000,\"010\",'Accounting Data'!I2:I100000,\"39??\",'Accounting Data'!J2:J100000,\"67??\")+SUMIFS('Accounting Data'!C2:C100000,'Accounting Data'!E2:E100000,\"010\",'Accounting Data'!I2:I100000,\"5???\",'Accounting Data'!J2:J100000,\"67??\")","v":{"v":0,"d":"$0"}}]
["23.","Object 6800 should not be coded to Function codes 2300-2400 and 2600-4000","010",null,"2300-2400, 2600-4000","6800",{"$f":"SUM(SUMIFS('Accounting Data'!C2:C100000,'Accounting Data'!E2:E100000,\"010\",'Accounting Data'!I2:I100000,{\"23??\",\"24??\",\"26??\",\"27??\",\"28??\",\"29\",\"30??\",\"31??\",\"32??\",\"33??\",\"34??\",\"35??\",\"36??\",\"37??\",\"38??\",\"39??\",\"4???\"},'Accounting Data'!J2:J100000,\"68??\"))","v":{"v":0,"d":"$0"}},"23."]
[]
[]
[]
[null,"Unrestricted Capital Outlay Fund corrections needed for accurate reporting on Page 4",{"$nulls":4},{"$f":"IF(OR(G59>J59,G60>J60,G61>J61,G62>J62),\"Material miscoding identified below\",\"\")","v":""}]
[]
[null,"Issue","Fund","Program","Function","Object","Identified Miscoding Amount",null,null,"Page 4 Thresholds"]
["24.","Object 6730 should be coded to 6731-6739","610",null,null,"6730",{"$f":"SUMIFS('Accounting Data'!$C$2:$C$100000,'Accounting Data'!$E$2:$E$100000,\"610\",'Accounting Data'!$J$2:$J$100000,\"6730\")","v":{"v":0,"d":"$0"}},"24.","610",{"$f":"($G$59+'Page 4'!$E$28)*0.1","v":{"v":1918,"d":"$1,918"}}]
["25.","Object 6730 should be coded to 6731-6739","620",null,null,"6730",{"$f":"SUMIFS('Accounting Data'!$C$2:$C$100000,'Accounting Data'!$E$2:$E$100000,\"620\",'Accounting Data'!$J$2:$J$100000,\"6730\")","v":{"v":0,"d":"$0"}},"25.","620",{"$f":"($G$60+'Page 4'!$K$28)*0.1","v":{"v":0,"d":"$0"}}]
["26.","Object 6730 should be coded to 6731-6739","630",null,null,"6730",{"$f":"SUMIFS('Accounting Data'!$C$2:$C$100000,'Accounting Data'!$E$2:$E$100000,\"630\",'Accounting Data'!$J$2:$J$100000,\"6730\")","v":{"v":0,"d":"$0"}},"26.","630",{"$f":"($G$61+'Page 4'!$G$28)*0.1","v":{"v":0,"d":"$0"}}]
["27.","Object 6730 should be coded to 6731-6739","695",null,null,"6730",{"$f":"SUMIFS('Accounting Data'!$C$2:$C$100000,'Accounting Data'!$E$2:$E$100000,\"695\",'Accounting Data'!$J$2:$J$100000,\"6730\")","v":{"v":0,"d":"$0"}},"27.","695",{"$f":"($G$62+'Page 4'!$I$28)*0.1","v":{"v":0,"d":"$0"}}]
[]
[null,"National Public Education Financial Survey (NPEFS) Reporting corrections needed for accurate reporting on Page 9 (all funds 001-799, except 575)",{"$nulls":4},{"$f":"IF(SUM(G67:G97)>J67,\"Material miscoding identified below\",\"\")","v":""}]
[]
[null,"Issue","Fund","Program","Function","Object","Identified Miscoding Amount",null,null,"Page 9 Threshold"]
["28.","Do not use Program codes 700-900 for Function 2700","001-799 (excl. 575)","700-999","2700-2799","6100-6899",{"$f":"AA67-AB67-AC67-AD67","v":{"v":0,"d":"$0"}},"28.",null,{"$f":"(SUM($G$67:$G$97)+'Page 9'!$N$24+'Page 9'!$N$27+'Page 9'!$N$28)*0.1","v":{"v":68580,"d":"$68,580"}},{"$nulls":16},{"$f":"(SUMIFS('Accounting Data'!C2:C100000,'Accounting Data'!H2:H100000,\"7??\",'Accounting Data'!I2:I100000,\"27??\",'Accounting Data'!J2:J100000,\"6???\")+SUMIFS('Accounting Data'!C2:C100000,'Accounting Data'!H2:H100000,\"8??\",'Accounting Data'!I2:I100000,\"27??\",'Accounting Data'!J2:J100000,\"6???\")+SUMIFS('Accounting Data'!C2:C100000,'Accounting Data'!H2:H100000,\"9??\",'Accounting Data'!I2:I100000,\"27??\",'Accounting Data'!J2:J100000,\"6???\"))-(SUMIFS('Accounting Data'!C2:C100000,'Accounting Data'!H2:H100000,\"7??\",'Accounting Data'!I2:I100000,\"27??\",'Accounting Data'!J2:J100000,\"69??\")+SUMIFS('Accounting Data'!C2:C100000,'Accounting Data'!H2:H100000,\"8??\",'Accounting Data'!I2:I100000,\"27??\",'Accounting Data'!J2:J100000,\"69??\")+SUMIFS('Accounting Data'!C2:C100000,'Accounting Data'!H2:H100000,\"9??\",'Accounting Data'!I2:I100000,\"27??\",'Accounting Data'!J2:J100000,\"69??\"))","v":{"v":0,"d":"$0"}},{"$f":"(SUMIFS('Accounting Data'!C2:C100000,'Accounting Data'!E2:E100000,\"575\",'Accounting Data'!H2:H100000,\"7??\",'Accounting Data'!I2:I100000,\"27??\",'Accounting Data'!J2:J100000,\"6???\")+SUMIFS('Accounting Data'!C2:C100000,'Accounting Data'!E2:E100000,\"575\",'Accounting Data'!H2:H100000,\"8??\",'Accounting Data'!I2:I100000,\"27??\",'Accounting Data'!J2:J100000,\"6???\")+SUMIFS('Accounting Data'!C2:C100000,'Accounting Data'!E2:E100000,\"575\",'Accounting Data'!H2:H100000,\"9??\",'Accounting Data'!I2:I100000,\"27??\",'Accounting Data'!J2:J100000,\"6???\"))-(SUMIFS('Accounting Data'!C2:C100000,'Accounting Data'!E2:E100000,\"575\",'Accounting Data'!H2:H100000,\"7??\",'Accounting Data'!I2:I100000,\"27??\",'Accounting Data'!J2:J100000,\"69??\")+SUMIFS('Accounting Data'!C2:C100000,'Accounting Data'!E2:E100000,\"575\",'Accounting Data'!H2:H100000,\"8??\",'Accounting Data'!I2:I100000,\"27??\",'Accounting Data'!J2:J100000,\"69??\")+SUMIFS('Accounting Data'!C2:C100000,'Accounting Data'!E2:E100000,\"575\",'Accounting Data'!H2:H100000,\"9??\",'Accounting Data'!I2:I100000,\"27??\",'Accounting Data'!J2:J100000,\"69??\"))","v":{"v":0,"d":"$0"}},{"$f":"(SUMIFS('Accounting Data'!C2:C100000,'Accounting Data'!E2:E100000,\"8??\",'Accounting Data'!H2:H100000,\"7??\",'Accounting Data'!I2:I100000,\"27??\",'Accounting Data'!J2:J100000,\"6???\")+SUMIFS('Accounting Data'!C2:C100000,'Accounting Data'!E2:E100000,\"8??\",'Accounting Data'!H2:H100000,\"8??\",'Accounting Data'!I2:I100000,\"27??\",'Accounting Data'!J2:J100000,\"6???\")+SUMIFS('Accounting Data'!C2:C100000,'Accounting Data'!E2:E100000,\"8??\",'Accounting Data'!H2:H100000,\"9??\",'Accounting Data'!I2:I100000,\"27??\",'Accounting Data'!J2:J100000,\"6???\"))-(SUMIFS('Accounting Data'!C2:C100000,'Accounting Data'!E2:E100000,\"8??\",'Accounting Data'!H2:H100000,\"7??\",'Accounting Data'!I2:I100000,\"27??\",'Accounting Data'!J2:J100000,\"69??\")+SUMIFS('Accounting Data'!C2:C100000,'Accounting Data'!E2:E100000,\"8??\",'Accounting Data'!H2:H100000,\"8??\",'Accounting Data'!I2:I100000,\"27??\",'Accounting Data'!J2:J100000,\"69??\")+SUMIFS('Accounting Data'!C2:C100000,'Accounting Data'!E2:E100000,\"8??\",'Accounting Data'!H2:H100000,\"9??\",'Accounting Data'!I2:I100000,\"27??\",'Accounting Data'!J2:J100000,\"69??\"))","v":{"v":0,"d":"$0"}},{"$f":"(SUMIFS('Accounting Data'!C2:C100000,'Accounting Data'!E2:E100000,\"9??\",'Accounting Data'!H2:H100000,\"7??\",'Accounting Data'!I2:I100000,\"27??\",'Accounting Data'!J2:J100000,\"6???\")+SUMIFS('Accounting Data'!C2:C100000,'Accounting Data'!E2:E100000,\"9??\",'Accounting Data'!H2:H100000,\"8??\",'Accounting Data'!I2:I100000,\"27??\",'Accounting Data'!J2:J100000,\"6???\")+SUMIFS('Accounting Data'!C2:C100000,'Accounting Data'!E2:E100000,\"9??\",'Accounting Data'!H2:H100000,\"9??\",'Accounting Data'!I2:I100000,\"27??\",'Accounting Data'!J2:J100000,\"6???\"))-(SUMIFS('Accounting Data'!C2:C100000,'Accounting Data'!E2:E100000,\"9??\",'Accounting Data'!H2:H100000,\"7??\",'Accounting Data'!I2:I100000,\"27??\",'Accounting Data'!J2:J100000,\"69??\")+SUMIFS('Accounting Data'!C2:C100000,'Accounting Data'!E2:E100000,\"9??\",'Accounting Data'!H2:H100000,\"8??\",'Accounting Data'!I2:I100000,\"27??\",'Accounting Data'!J2:J100000,\"69??\")+SUMIFS('Accounting Data'!C2:C100000,'Accounting Data'!E2:E100000,\"9??\",'Accounting Data'!H2:H100000,\"9??\",'Accounting Data'!I2:I100000,\"27??\",'Accounting Data'!J2:J100000,\"69??\"))","v":{"v":0,"d":"$0"}}]
[]
["29.","Do not use Function codes 0000-0999","001-799 (excl. 575)",null,"0000-0999","6100-6899",{"$f":"(SUMIFS('Accounting Data'!C2:C100000,'Accounting Data'!I2:I100000,\"0???\",'Accounting Data'!J2:J100000,\"6???\")-SUMIFS('Accounting Data'!C2:C100000,'Accounting Data'!I2:I100000,\"0???\",'Accounting Data'!J2:J100000,\"69??\"))-((SUMIFS('Accounting Data'!C2:C100000,'Accounting Data'!E2:E100000,\"575\",'Accounting Data'!I2:I100000,\"0???\",'Accounting Data'!J2:J100000,\"6???\")-(SUMIFS('Accounting Data'!C2:C100000,'Accounting Data'!E2:E100000,\"575\",'Accounting Data'!I2:I100000,\"0???\",'Accounting Data'!J2:J100000,\"69??\")-(SUMIFS('Accounting Data'!C2:C100000,'Accounting Data'!E2:E100000,\"8??\",'Accounting Data'!I2:I100000,\"0???\",'Accounting Data'!J2:J100000,\"6???\")-(SUMIFS('Accounting Data'!C2:C100000,'Accounting Data'!E2:E100000,\"8??\",'Accounting Data'!I2:I100000,\"0???\",'Accounting Data'!J2:J100000,\"69??\")-(SUMIFS('Accounting Data'!C2:C100000,'Accounting Data'!E2:E100000,\"9??\",'Accounting Data'!I2:I100000,\"0???\",'Accounting Data'!J2:J100000,\"6???\")-(SUMIFS('Accounting Data'!C2:C100000,'Accounting Data'!E2:E100000,\"9??\",'Accounting Data'!I2:I100000,\"0???\",'Accounting Data'!J2:J100000,\"69??\"))))))))","v":{"v":0,"d":"$0"}},"29."]
["30.","Do not use Function codes 2000-2099","001-799 (excl. 575)",null,"2000-2099","6100-6899",{"$f":"(SUMIFS('Accounting Data'!C2:C100000,'Accounting Data'!I2:I100000,\"20??\",'Accounting Data'!J2:J100000,\"6???\")-SUMIFS('Accounting Data'!C2:C100000,'Accounting Data'!I2:I100000,\"20??\",'Accounting Data'!J2:J100000,\"69??\"))-((SUMIFS('Accounting Data'!C2:C100000,'Accounting Data'!E2:E100000,\"575\",'Accounting Data'!I2:I100000,\"20??\",'Accounting Data'!J2:J100000,\"6???\")-(SUMIFS('Accounting Data'!C2:C100000,'Accounting Data'!E2:E100000,\"575\",'Accounting Data'!I2:I100000,\"20??\",'Accounting Data'!J2:J100000,\"69??\")-(SUMIFS('Accounting Data'!C2:C100000,'Accounting Data'!E2:E100000,\"8??\",'Accounting Data'!I2:I100000,\"20??\",'Accounting Data'!J2:J100000,\"6???\")-(SUMIFS('Accounting Data'!C2:C100000,'Accounting Data'!E2:E100000,\"8??\",'Accounting Data'!I2:I100000,\"20??\",'Accounting Data'!J2:J100000,\"69??\")-(SUMIFS('Accounting Data'!C2:C100000,'Accounting Data'!E2:E100000,\"9??\",'Accounting Data'!I2:I100000,\"20??\",'Accounting Data'!J2:J100000,\"6???\")-(SUMIFS('Accounting Data'!C2:C100000,'Accounting Data'!E2:E100000,\"9??\",'Accounting Data'!I2:I100000,\"20??\",'Accounting Data'!J2:J100000,\"69??\"))))))))","v":{"v":0,"d":"$0"}},"30."]
["31.","Do not use Function codes 2800-2899","001-799 (excl. 575)",null,"2800-2899","6100-6899",{"$f":"(SUMIFS('Accounting Data'!C2:C100000,'Accounting Data'!I2:I100000,\"28??\",'Accounting Data'!J2:J100000,\"6???\")-SUMIFS('Accounting Data'!C2:C100000,'Accounting Data'!I2:I100000,\"28??\",'Accounting Data'!J2:J100000,\"69??\"))-((SUMIFS('Accounting Data'!C2:C100000,'Accounting Data'!E2:E100000,\"575\",'Accounting Data'!I2:I100000,\"28??\",'Accounting Data'!J2:J100000,\"6???\")-(SUMIFS('Accounting Data'!C2:C100000,'Accounting Data'!E2:E100000,\"575\",'Accounting Data'!I2:I100000,\"28??\",'Accounting Data'!J2:J100000,\"69??\")-(SUMIFS('Accounting Data'!C2:C100000,'Accounting Data'!E2:E100000,\"8??\",'Accounting Data'!I2:I100000,\"28??\",'Accounting Data'!J2:J100000,\"6???\")-(SUMIFS('Accounting Data'!C2:C100000,'Accounting Data'!E2:E100000,\"8??\",'Accounting Data'!I2:I100000,\"28??\",'Accounting Data'!J2:J100000,\"69??\")-(SUMIFS('Accounting Data'!C2:C100000,'Accounting Data'!E2:E100000,\"9??\",'Accounting Data'!I2:I100000,\"28??\",'Accounting Data'!J2:J100000,\"6???\")-(SUMIFS('Accounting Data'!C2:C100000,'Accounting Data'!E2:E100000,\"9??\",'Accounting Data'!I2:I100000,\"28??\",'Accounting Data'!J2:J100000,\"69??\"))))))))","v":{"v":0,"d":"$0"}},"31."]
["32.","Do not use Function codes 3000-3099","001-799 (excl. 575)",null,"3000-3099","6100-6899",{"$f":"(SUMIFS('Accounting Data'!C2:C100000,'Accounting Data'!I2:I100000,\"30??\",'Accounting Data'!J2:J100000,\"6???\")-SUMIFS('Accounting Data'!C2:C100000,'Accounting Data'!I2:I100000,\"30??\",'Accounting Data'!J2:J100000,\"69??\"))-((SUMIFS('Accounting Data'!C2:C100000,'Accounting Data'!E2:E100000,\"575\",'Accounting Data'!I2:I100000,\"30??\",'Accounting Data'!J2:J100000,\"6???\")-(SUMIFS('Accounting Data'!C2:C100000,'Accounting Data'!E2:E100000,\"575\",'Accounting Data'!I2:I100000,\"30??\",'Accounting Data'!J2:J100000,\"69??\")-(SUMIFS('Accounting Data'!C2:C100000,'Accounting Data'!E2:E100000,\"8??\",'Accounting Data'!I2:I100000,\"30??\",'Accounting Data'!J2:J100000,\"6???\")-(SUMIFS('Accounting Data'!C2:C100000,'Accounting Data'!E2:E100000,\"8??\",'Accounting Data'!I2:I100000,\"30??\",'Accounting Data'!J2:J100000,\"69??\")-(SUMIFS('Accounting Data'!C2:C100000,'Accounting Data'!E2:E100000,\"9??\",'Accounting Data'!I2:I100000,\"30??\",'Accounting Data'!J2:J100000,\"6???\")-(SUMIFS('Accounting Data'!C2:C100000,'Accounting Data'!E2:E100000,\"9??\",'Accounting Data'!I2:I100000,\"30??\",'Accounting Data'!J2:J100000,\"69??\"))))))))","v":{"v":0,"d":"$0"}},"32."]
["33.","Do not use Function codes 3500-3599","001-799 (excl. 575)",null,"3500-3599","6100-6899",{"$f":"(SUMIFS('Accounting Data'!C2:C100000,'Accounting Data'!I2:I100000,\"35??\",'Accounting Data'!J2:J100000,\"6???\")-SUMIFS('Accounting Data'!C2:C100000,'Accounting Data'!I2:I100000,\"35??\",'Accounting Data'!J2:J100000,\"69??\"))-((SUMIFS('Accounting Data'!C2:C100000,'Accounting Data'!E2:E100000,\"575\",'Accounting Data'!I2:I100000,\"35??\",'Accounting Data'!J2:J100000,\"6???\")-(SUMIFS('Accounting Data'!C2:C100000,'Accounting Data'!E2:E100000,\"575\",'Accounting Data'!I2:I100000,\"35??\",'Accounting Data'!J2:J100000,\"69??\")-(SUMIFS('Accounting Data'!C2:C100000,'Accounting Data'!E2:E100000,\"8??\",'Accounting Data'!I2:I100000,\"35??\",'Accounting Data'!J2:J100000,\"6???\")-(SUMIFS('Accounting Data'!C2:C100000,'Accounting Data'!E2:E100000,\"8??\",'Accounting Data'!I2:I100000,\"35??\",'Accounting Data'!J2:J100000,\"69??\")-(SUMIFS('Accounting Data'!C2:C100000,'Accounting Data'!E2:E100000,\"9??\",'Accounting Data'!I2:I100000,\"35??\",'Accounting Data'!J2:J100000,\"6???\")-(SUMIFS('Accounting Data'!C2:C100000,'Accounting Data'!E2:E100000,\"9??\",'Accounting Data'!I2:I100000,\"35??\",'Accounting Data'!J2:J100000,\"69??\"))))))))","v":{"v":0,"d":"$0"}},"33."]
["34.","Do not use Function codes 3600-3699","001-799 (excl. 575)",null,"3600-3699","6100-6899",{"$f":"(SUMIFS('Accounting Data'!C2:C100000,'Accounting Data'!I2:I100000,\"36??\",'Accounting Data'!J2:J100000,\"6???\")-SUMIFS('Accounting Data'!C2:C100000,'Accounting Data'!I2:I100000,\"36??\",'Accounting Data'!J2:J100000,\"69??\"))-((SUMIFS('Accounting Data'!C2:C100000,'Accounting Data'!E2:E100000,\"575\",'Accounting Data'!I2:I100000,\"36??\",'Accounting Data'!J2:J100000,\"6???\")-(SUMIFS('Accounting Data'!C2:C100000,'Accounting Data'!E2:E100000,\"575\",'Accounting Data'!I2:I100000,\"36??\",'Accounting Data'!J2:J100000,\"69??\")-(SUMIFS('Accounting Data'!C2:C100000,'Accounting Data'!E2:E100000,\"8??\",'Accounting Data'!I2:I100000,\"36??\",'Accounting Data'!J2:J100000,\"6???\")-(SUMIFS('Accounting Data'!C2:C100000,'Accounting Data'!E2:E100000,\"8??\",'Accounting Data'!I2:I100000,\"36??\",'Accounting Data'!J2:J100000,\"69??\")-(SUMIFS('Accounting Data'!C2:C100000,'Accounting Data'!E2:E100000,\"9??\",'Accounting Data'!I2:I100000,\"36??\",'Accounting Data'!J2:J100000,\"6???\")-(SUMIFS('Accounting Data'!C2:C100000,'Accounting Data'!E2:E100000,\"9??\",'Accounting Data'!I2:I100000,\"36??\",'Accounting Data'!J2:J100000,\"69??\"))))))))","v":{"v":0,"d":"$0"}},"34."]
["35.","Do not use Function codes 3700-3799","001-799 (excl. 575)",null,"3700-3799","6100-6899",{"$f":"(SUMIFS('Accounting Data'!C2:C100000,'Accounting Data'!I2:I100000,\"37??\",'Accounting Data'!J2:J100000,\"6???\")-SUMIFS('Accounting Data'!C2:C100000,'Accounting Data'!I2:I100000,\"37??\",'Accounting Data'!J2:J100000,\"69??\"))-((SUMIFS('Accounting Data'!C2:C100000,'Accounting Data'!E2:E100000,\"575\",'Accounting Data'!I2:I100000,\"37??\",'Accounting Data'!J2:J100000,\"6???\")-(SUMIFS('Accounting Data'!C2:C100000,'Accounting Data'!E2:E100000,\"575\",'Accounting Data'!I2:I100000,\"37??\",'Accounting Data'!J2:J100000,\"69??\")-(SUMIFS('Accounting Data'!C2:C100000,'Accounting Data'!E2:E100000,\"8??\",'Accounting Data'!I2:I100000,\"37??\",'Accounting Data'!J2:J100000,\"6???\")-(SUMIFS('Accounting Data'!C2:C100000,'Accounting Data'!E2:E100000,\"8??\",'Accounting Data'!I2:I100000,\"37??\",'Accounting Data'!J2:J100000,\"69??\")-(SUMIFS('Accounting Data'!C2:C100000,'Accounting Data'!E2:E100000,\"9??\",'Accounting Data'!I2:I100000,\"37??\",'Accounting Data'!J2:J100000,\"6???\")-(SUMIFS('Accounting Data'!C2:C100000,'Accounting Data'!E2:E100000,\"9??\",'Accounting Data'!I2:I100000,\"37??\",'Accounting Data'!J2:J100000,\"69??\"))))))))","v":{"v":0,"d":"$0"}},"35."]
["36.","Do not use Function codes 3800-3899","001-799 (excl. 575)",null,"3800-3899","6100-6899",{"$f":"(SUMIFS('Accounting Data'!C2:C100000,'Accounting Data'!I2:I100000,\"38??\",'Accounting Data'!J2:J100000,\"6???\")-SUMIFS('Accounting Data'!C2:C100000,'Accounting Data'!I2:I100000,\"38??\",'Accounting Data'!J2:J100000,\"69??\"))-((SUMIFS('Accounting Data'!C2:C100000,'Accounting Data'!E2:E100000,\"575\",'Accounting Data'!I2:I100000,\"38??\",'Accounting Data'!J2:J100000,\"6???\")-(SUMIFS('Accounting Data'!C2:C100000,'Accounting Data'!E2:E100000,\"575\",'Accounting Data'!I2:I100000,\"38??\",'Accounting Data'!J2:J100000,\"69??\")-(SUMIFS('Accounting Data'!C2:C100000,'Accounting Data'!E2:E100000,\"8??\",'Accounting Data'!I2:I100000,\"38??\",'Accounting Data'!J2:J100000,\"6???\")-(SUMIFS('Accounting Data'!C2:C100000,'Accounting Data'!E2:E100000,\"8??\",'Accounting Data'!I2:I100000,\"38??\",'Accounting Data'!J2:J100000,\"69??\")-(SUMIFS('Accounting Data'!C2:C100000,'Accounting Data'!E2:E100000,\"9??\",'Accounting Data'!I2:I100000,\"38??\",'Accounting Data'!J2:J100000,\"6???\")-(SUMIFS('Accounting Data'!C2:C100000,'Accounting Data'!E2:E100000,\"9??\",'Accounting Data'!I2:I100000,\"38??\",'Accounting Data'!J2:J100000,\"69??\"))))))))","v":{"v":0,"d":"$0"}},"36."]
["37.","Do not use Function codes 3900-3999","001-799 (excl. 575)",null,"3900-3999","6100-6899",{"$f":"(SUMIFS('Accounting Data'!C2:C100000,'Accounting Data'!I2:I100000,\"39??\",'Accounting Data'!J2:J100000,\"6???\")-SUMIFS('Accounting Data'!C2:C100000,'Accounting Data'!I2:I100000,\"39??\",'Accounting Data'!J2:J100000,\"69??\"))-((SUMIFS('Accounting Data'!C2:C100000,'Accounting Data'!E2:E100000,\"575\",'Accounting Data'!I2:I100000,\"39??\",'Accounting Data'!J2:J100000,\"6???\")-(SUMIFS('Accounting Data'!C2:C100000,'Accounting Data'!E2:E100000,\"575\",'Accounting Data'!I2:I100000,\"39??\",'Accounting Data'!J2:J100000,\"69??\")-(SUMIFS('Accounting Data'!C2:C100000,'Accounting Data'!E2:E100000,\"8??\",'Accounting Data'!I2:I100000,\"39??\",'Accounting Data'!J2:J100000,\"6???\")-(SUMIFS('Accounting Data'!C2:C100000,'Accounting Data'!E2:E100000,\"8??\",'Accounting Data'!I2:I100000,\"39??\",'Accounting Data'!J2:J100000,\"69??\")-(SUMIFS('Accounting Data'!C2:C100000,'Accounting Data'!E2:E100000,\"9??\",'Accounting Data'!I2:I100000,\"39??\",'Accounting Data'!J2:J100000,\"6???\")-(SUMIFS('Accounting Data'!C2:C100000,'Accounting Data'!E2:E100000,\"9??\",'Accounting Data'!I2:I100000,\"39??\",'Accounting Data'!J2:J100000,\"69??\"))))))))","v":{"v":0,"d":"$0"}},"37."]
["38.","Function 5000 should only be coded to Object codes 683X, 684X, and 686X.","001-799 (excl. 575)",null,"5000-5999","6100-6829, 6850-6859, \n6870-6999",{"$f":"U82-V82-W82-X82","v":{"v":0,"d":"$0"}},"38."]
["39.","Function 6000 should only be coded to Object codes 6900-6999.","001-799 (excl. 575)",null,"6000-6999","6100-6899",{"$f":"((SUMIFS('Accounting Data'!C2:C100000,'Accounting Data'!I2:I100000,\"6???\",'Accounting Data'!J2:J100000,\"6???\")-SUMIFS('Accounting Data'!C2:C100000,'Accounting Data'!I2:I100000,\"6???\",'Accounting Data'!J2:J100000,\"69??\"))-((SUMIFS('Accounting Data'!C2:C100000,'Accounting Data'!E2:E100000,\"575\",'Accounting Data'!I2:I100000,\"6???\",'Accounting Data'!J2:J100000,\"6???\")-(SUMIFS('Accounting Data'!C2:C100000,'Accounting Data'!E2:E100000,\"575\",'Accounting Data'!I2:I100000,\"6???\",'Accounting Data'!J2:J100000,\"69??\"))-((SUMIFS('Accounting Data'!C2:C100000,'Accounting Data'!E2:E100000,\"8??\",'Accounting Data'!I2:I100000,\"6???\",'Accounting Data'!J2:J100000,\"6???\")-(SUMIFS('Accounting Data'!C2:C100000,'Accounting Data'!E2:E100000,\"8??\",'Accounting Data'!I2:I100000,\"6???\",'Accounting Data'!J2:J100000,\"69??\"))-((SUMIFS('Accounting Data'!C2:C100000,'Accounting Data'!E2:E100000,\"9??\",'Accounting Data'!I2:I100000,\"6???\",'Accounting Data'!J2:J100000,\"6???\")-(SUMIFS('Accounting Data'!C2:C100000,'Accounting Data'!E2:E100000,\"9??\",'Accounting Data'!I2:I100000,\"6???\",'Accounting Data'!J2:J100000,\"69??\")))))))))","v":{"v":0,"d":"$0"}},"39."]
["40.","Do not use Function codes 7000-7999","001-799 (excl. 575)",null,"7000-7999","6100-6899",{"$f":"(SUMIFS('Accounting Data'!C2:C100000,'Accounting Data'!I2:I100000,\"7???\",'Accounting Data'!J2:J100000,\"6???\")-SUMIFS('Accounting Data'!C2:C100000,'Accounting Data'!I2:I100000,\"7???\",'Accounting Data'!J2:J100000,\"69??\"))-((SUMIFS('Accounting Data'!C2:C100000,'Accounting Data'!E2:E100000,\"575\",'Accounting Data'!I2:I100000,\"7???\",'Accounting Data'!J2:J100000,\"6???\")-(SUMIFS('Accounting Data'!C2:C100000,'Accounting Data'!E2:E100000,\"575\",'Accounting Data'!I2:I100000,\"7???\",'Accounting Data'!J2:J100000,\"69??\")-(SUMIFS('Accounting Data'!C2:C100000,'Accounting Data'!E2:E100000,\"8??\",'Accounting Data'!I2:I100000,\"7???\",'Accounting Data'!J2:J100000,\"6???\")-(SUMIFS('Accounting Data'!C2:C100000,'Accounting Data'!E2:E100000,\"8??\",'Accounting Data'!I2:I100000,\"7???\",'Accounting Data'!J2:J100000,\"69??\")-(SUMIFS('Accounting Data'!C2:C100000,'Accounting Data'!E2:E100000,\"9??\",'Accounting Data'!I2:I100000,\"7???\",'Accounting Data'!J2:J100000,\"6???\")-(SUMIFS('Accounting Data'!C2:C100000,'Accounting Data'!E2:E100000,\"9??\",'Accounting Data'!I2:I100000,\"7???\",'Accounting Data'!J2:J100000,\"69??\"))))))))","v":{"v":0,"d":"$0"}},"40."]
["41.","Do not use Function codes 8000-8999","001-799 (excl. 575)",null,"8000-8999","6100-6899",{"$f":"(SUMIFS('Accounting Data'!C2:C100000,'Accounting Data'!I2:I100000,\"8???\",'Accounting Data'!J2:J100000,\"6???\")-SUMIFS('Accounting Data'!C2:C100000,'Accounting Data'!I2:I100000,\"8???\",'Accounting Data'!J2:J100000,\"69??\"))-((SUMIFS('Accounting Data'!C2:C100000,'Accounting Data'!E2:E100000,\"575\",'Accounting Data'!I2:I100000,\"8???\",'Accounting Data'!J2:J100000,\"6???\")-(SUMIFS('Accounting Data'!C2:C100000,'Accounting Data'!E2:E100000,\"575\",'Accounting Data'!I2:I100000,\"8???\",'Accounting Data'!J2:J100000,\"69??\")-(SUMIFS('Accounting Data'!C2:C100000,'Accounting Data'!E2:E100000,\"8??\",'Accounting Data'!I2:I100000,\"8???\",'Accounting Data'!J2:J100000,\"6???\")-(SUMIFS('Accounting Data'!C2:C100000,'Accounting Data'!E2:E100000,\"8??\",'Accounting Data'!I2:I100000,\"8???\",'Accounting Data'!J2:J100000,\"69??\")-(SUMIFS('Accounting Data'!C2:C100000,'Accounting Data'!E2:E100000,\"9??\",'Accounting Data'!I2:I100000,\"8???\",'Accounting Data'!J2:J100000,\"6???\")-(SUMIFS('Accounting Data'!C2:C100000,'Accounting Data'!E2:E100000,\"9??\",'Accounting Data'!I2:I100000,\"8???\",'Accounting Data'!J2:J100000,\"69??\"))))))))","v":{"v":0,"d":"$0"}},"41."]
["42.","Do not use Function codes 9000-9999","001-799 (excl. 575)",null,"9000-9999","6100-6899",{"$f":"(SUMIFS('Accounting Data'!C2:C100000,'Accounting Data'!I2:I100000,\"9???\",'Accounting Data'!J2:J100000,\"6???\")-SUMIFS('Accounting Data'!C2:C100000,'Accounting Data'!I2:I100000,\"9???\",'Accounting Data'!J2:J100000,\"69??\"))-((SUMIFS('Accounting Data'!C2:C100000,'Accounting Data'!E2:E100000,\"575\",'Accounting Data'!I2:I100000,\"9???\",'Accounting Data'!J2:J100000,\"6???\")-(SUMIFS('Accounting Data'!C2:C100000,'Accounting Data'!E2:E100000,\"575\",'Accounting Data'!I2:I100000,\"9???\",'Accounting Data'!J2:J100000,\"69??\")-(SUMIFS('Accounting Data'!C2:C100000,'Accounting Data'!E2:E100000,\"8??\",'Accounting Data'!I2:I100000,\"9???\",'Accounting Data'!J2:J100000,\"6???\")-(SUMIFS('Accounting Data'!C2:C100000,'Accounting Data'!E2:E100000,\"8??\",'Accounting Data'!I2:I100000,\"9???\",'Accounting Data'!J2:J100000,\"69??\")-(SUMIFS('Accounting Data'!C2:C100000,'Accounting Data'!E2:E100000,\"9??\",'Accounting Data'!I2:I100000,\"9???\",'Accounting Data'!J2:J100000,\"6???\")-(SUMIFS('Accounting Data'!C2:C100000,'Accounting Data'!E2:E100000,\"9??\",'Accounting Data'!I2:I100000,\"9???\",'Accounting Data'!J2:J100000,\"69??\"))))))))","v":{"v":0,"d":"$0"}},"42.",{"$nulls":12},{"$f":"((SUMIFS('Accounting Data'!$C$2:$C$100000,'Accounting Data'!$I$2:$I$100000,\"5???\",'Accounting Data'!$J$2:$J$100000,\"6???\")-SUMIFS('Accounting Data'!$C$2:$C$100000,'Accounting Data'!$I$2:$I$100000,\"5???\",'Accounting Data'!$J$2:$J$100000,\"683?\")-SUMIFS('Accounting Data'!$C$2:$C$100000,'Accounting Data'!$I$2:$I$100000,\"5???\",'Accounting Data'!$J$2:$J$100000,\"684?\")-SUMIFS('Accounting Data'!$C$2:$C$100000,'Accounting Data'!$I$2:$I$100000,\"5???\",'Accounting Data'!$J$2:$J$100000,\"686?\")))","v":{"v":0,"d":"$0"}},{"$f":"((SUMIFS('Accounting Data'!$C$2:$C$100000,'Accounting Data'!$E$2:$E$100000,\"575\",'Accounting Data'!$I$2:$I$100000,\"5???\",'Accounting Data'!$J$2:$J$100000,\"6???\")-(SUMIFS('Accounting Data'!$C$2:$C$100000,'Accounting Data'!$E$2:$E$100000,\"575\",'Accounting Data'!$I$2:$I$100000,\"5???\",'Accounting Data'!$J$2:$J$100000,\"683?\")-(SUMIFS('Accounting Data'!$C$2:$C$100000,'Accounting Data'!$E$2:$E$100000,\"575\",'Accounting Data'!$I$2:$I$100000,\"5???\",'Accounting Data'!$J$2:$J$100000,\"684?\")-(SUMIFS('Accounting Data'!$C$2:$C$100000,'Accounting Data'!$E$2:$E$100000,\"575\",'Accounting Data'!$I$2:$I$100000,\"5???\",'Accounting Data'!$J$2:$J$100000,\"686?\"))))))","v":{"v":0,"d":"$0"}},{"$f":"((SUMIFS('Accounting Data'!$C$2:$C$100000,'Accounting Data'!$E$2:$E$100000,\"8??\",'Accounting Data'!$I$2:$I$100000,\"5???\",'Accounting Data'!$J$2:$J$100000,\"6???\")-(SUMIFS('Accounting Data'!$C$2:$C$100000,'Accounting Data'!$E$2:$E$100000,\"8??\",'Accounting Data'!$I$2:$I$100000,\"5???\",'Accounting Data'!$J$2:$J$100000,\"683?\")-(SUMIFS('Accounting Data'!$C$2:$C$100000,'Accounting Data'!$E$2:$E$100000,\"8??\",'Accounting Data'!$I$2:$I$100000,\"5???\",'Accounting Data'!$J$2:$J$100000,\"684?\")-(SUMIFS('Accounting Data'!$C$2:$C$100000,'Accounting Data'!$E$2:$E$100000,\"8??\",'Accounting Data'!$I$2:$I$100000,\"5???\",'Accounting Data'!$J$2:$J$100000,\"686?\"))))))","v":{"v":0,"d":"$0"}},{"$f":"((SUMIFS('Accounting Data'!$C$2:$C$100000,'Accounting Data'!$E$2:$E$100000,\"9??\",'Accounting Data'!$I$2:$I$100000,\"5???\",'Accounting Data'!$J$2:$J$100000,\"6???\")-(SUMIFS('Accounting Data'!$C$2:$C$100000,'Accounting Data'!$E$2:$E$100000,\"9??\",'Accounting Data'!$I$2:$I$100000,\"5???\",'Accounting Data'!$J$2:$J$100000,\"683?\")-(SUMIFS('Accounting Data'!$C$2:$C$100000,'Accounting Data'!$E$2:$E$100000,\"9??\",'Accounting Data'!$I$2:$I$100000,\"5???\",'Accounting Data'!$J$2:$J$100000,\"684?\")-(SUMIFS('Accounting Data'!$C$2:$C$100000,'Accounting Data'!$E$2:$E$100000,\"9??\",'Accounting Data'!$I$2:$I$100000,\"5???\",'Accounting Data'!$J$2:$J$100000,\"686?\"))))))","v":{"v":0,"d":"$0"}}]
[]
["43.","Do not use Object codes 0000-0099","001-799 (excl. 575)",null,null,"0000-0099",{"$f":"SUMIFS('Accounting Data'!C2:C100000,'Accounting Data'!J2:J100000,\"00??\")-SUMIFS('Accounting Data'!C2:C100000,'Accounting Data'!E2:E100000,\"575\",'Accounting Data'!J2:J100000,\"00??\")-SUMIFS('Accounting Data'!C2:C100000,'Accounting Data'!E2:E100000,\"8??\",'Accounting Data'!J2:J100000,\"00??\")-SUMIFS('Accounting Data'!C2:C100000,'Accounting Data'!E2:E100000,\"9??\",'Accounting Data'!J2:J100000,\"00??\")","v":{"v":0,"d":"$0"}},"43."]
["44.","Do not use Object codes 6000-6099","001-799 (excl. 575)",null,null,"6000-6099",{"$f":"SUMIFS('Accounting Data'!C2:C100000,'Accounting Data'!J2:J100000,\"60??\")-SUMIFS('Accounting Data'!C2:C100000,'Accounting Data'!E2:E100000,\"575\",'Accounting Data'!J2:J100000,\"60??\")-SUMIFS('Accounting Data'!C2:C100000,'Accounting Data'!E2:E100000,\"8??\",'Accounting Data'!J2:J100000,\"60??\")-SUMIFS('Accounting Data'!C2:C100000,'Accounting Data'!E2:E100000,\"9??\",'Accounting Data'!J2:J100000,\"60??\")","v":{"v":0,"d":"$0"}},"44."]
["45.","Do not use Object codes 6800-6809","001-799 (excl. 575)",null,null,"6800-6809",{"$f":"SUMIFS('Accounting Data'!C2:C100000,'Accounting Data'!J2:J100000,\"680?\")-SUMIFS('Accounting Data'!C2:C100000,'Accounting Data'!E2:E100000,\"575\",'Accounting Data'!J2:J100000,\"680?\")-SUMIFS('Accounting Data'!C2:C100000,'Accounting Data'!E2:E100000,\"8??\",'Accounting Data'!J2:J100000,\"680?\")-SUMIFS('Accounting Data'!C2:C100000,'Accounting Data'!E2:E100000,\"9??\",'Accounting Data'!J2:J100000,\"680?\")","v":{"v":0,"d":"$0"}},"45."]
["46.","Object 6820 should only be coded to Function 2300","001-799 (excl. 575)",null,"1000-2299, 2400-6999","6820-6829",{"$f":"SUMIFS('Accounting Data'!C2:C100000,'Accounting Data'!J2:J100000,\"682?\")-SUMIFS('Accounting Data'!C2:C100000,'Accounting Data'!E2:E100000,\"575\",'Accounting Data'!J2:J100000,\"682?\")-SUMIFS('Accounting Data'!C2:C100000,'Accounting Data'!E2:E100000,\"8??\",'Accounting Data'!J2:J100000,\"682?\")-SUMIFS('Accounting Data'!C2:C100000,'Accounting Data'!E2:E100000,\"9??\",'Accounting Data'!J2:J100000,\"682?\")-SUMIFS('Accounting Data'!C2:C100000,'Accounting Data'!I2:I100000,\"23??\",'Accounting Data'!J2:J100000,\"682?\")+SUMIFS('Accounting Data'!C2:C100000,'Accounting Data'!E2:E100000,\"575\",'Accounting Data'!I2:I100000,\"23??\",'Accounting Data'!J2:J100000,\"682?\")+SUMIFS('Accounting Data'!C2:C100000,'Accounting Data'!E2:E100000,\"8??\",'Accounting Data'!I2:I100000,\"23??\",'Accounting Data'!J2:J100000,\"682?\")+SUMIFS('Accounting Data'!C2:C100000,'Accounting Data'!E2:E100000,\"9??\",'Accounting Data'!I2:I100000,\"23??\",'Accounting Data'!J2:J100000,\"682?\")","v":{"v":0,"d":"$0"}},"46."]
["47.","Expenditures coded to 6830 and 6834-39 should be coded to 6831, 6832, or 6833","001-799 (excl. 575)",null,null,"6830, 6834-39",{"$f":"SUMIFS('Accounting Data'!C2:C100000,'Accounting Data'!J2:J100000,\"683?\")-SUMIFS('Accounting Data'!C2:C100000,'Accounting Data'!J2:J100000,\"6831\")-SUMIFS('Accounting Data'!C2:C100000,'Accounting Data'!J2:J100000,\"6832\")-SUMIFS('Accounting Data'!C2:C100000,'Accounting Data'!J2:J100000,\"6833\")-SUMIFS('Accounting Data'!C2:C100000,'Accounting Data'!E2:E100000,\"575\",'Accounting Data'!J2:J100000,\"683?\")-SUMIFS('Accounting Data'!C2:C100000,'Accounting Data'!E2:E100000,\"8??\",'Accounting Data'!J2:J100000,\"683?\")-SUMIFS('Accounting Data'!C2:C100000,'Accounting Data'!E2:E100000,\"9??\",'Accounting Data'!J2:J100000,\"683?\")+SUMIFS('Accounting Data'!C2:C100000,'Accounting Data'!E2:E100000,\"575\",'Accounting Data'!J2:J100000,\"6831\")+SUMIFS('Accounting Data'!C2:C100000,'Accounting Data'!E2:E100000,\"8??\",'Accounting Data'!J2:J100000,\"6831\")+SUMIFS('Accounting Data'!C2:C100000,'Accounting Data'!E2:E100000,\"9??\",'Accounting Data'!J2:J100000,\"6831\")+SUMIFS('Accounting Data'!C2:C100000,'Accounting Data'!E2:E100000,\"575\",'Accounting Data'!J2:J100000,\"6832\")+SUMIFS('Accounting Data'!C2:C100000,'Accounting Data'!E2:E100000,\"8??\",'Accounting Data'!J2:J100000,\"6832\")+SUMIFS('Accounting Data'!C2:C100000,'Accounting Data'!E2:E100000,\"9??\",'Accounting Data'!J2:J100000,\"6832\")+SUMIFS('Accounting Data'!C2:C100000,'Accounting Data'!E2:E100000,\"575\",'Accounting Data'!J2:J100000,\"6833\")+SUMIFS('Accounting Data'!C2:C100000,'Accounting Data'!E2:E100000,\"8??\",'Accounting Data'!J2:J100000,\"6833\")+SUMIFS('Accounting Data'!C2:C100000,'Accounting Data'!E2:E100000,\"9??\",'Accounting Data'!J2:J100000,\"6833\")","v":{"v":0,"d":"$0"}},"47."]
["48.","Object 6831 should only be coded to Function 5000","001-799 (excl. 575)",null,"1000-4999, 6000-6999","6831",{"$f":"SUMIFS('Accounting Data'!C2:C100000,'Accounting Data'!J2:J100000,\"6831\")-SUMIFS('Accounting Data'!C2:C100000,'Accounting Data'!E2:E100000,\"575\",'Accounting Data'!J2:J100000,\"6831\")-SUMIFS('Accounting Data'!C2:C100000,'Accounting Data'!E2:E100000,\"8??\",'Accounting Data'!J2:J100000,\"6831\")-SUMIFS('Accounting Data'!C2:C100000,'Accounting Data'!E2:E100000,\"9??\",'Accounting Data'!J2:J100000,\"6831\")-SUMIFS('Accounting Data'!C2:C100000,'Accounting Data'!I2:I100000,\"5???\",'Accounting Data'!J2:J100000,\"6831\")+SUMIFS('Accounting Data'!C2:C100000,'Accounting Data'!E2:E100000,\"575\",'Accounting Data'!I2:I100000,\"5???\",'Accounting Data'!J2:J100000,\"6831\")+SUMIFS('Accounting Data'!C2:C100000,'Accounting Data'!E2:E100000,\"8??\",'Accounting Data'!I2:I100000,\"5???\",'Accounting Data'!J2:J100000,\"6831\")+SUMIFS('Accounting Data'!C2:C100000,'Accounting Data'!E2:E100000,\"9??\",'Accounting Data'!I2:I100000,\"5???\",'Accounting Data'!J2:J100000,\"6831\")","v":{"v":0,"d":"$0"}},"48."]
["49.","Object 6832 should only be coded to Function 5000","001-799 (excl. 575)",null,"1000-4999, 6000-6999","6832",{"$f":"SUMIFS('Accounting Data'!C2:C100000,'Accounting Data'!J2:J100000,\"6832\")-SUMIFS('Accounting Data'!C2:C100000,'Accounting Data'!E2:E100000,\"575\",'Accounting Data'!J2:J100000,\"6832\")-SUMIFS('Accounting Data'!C2:C100000,'Accounting Data'!E2:E100000,\"8??\",'Accounting Data'!J2:J100000,\"6832\")-SUMIFS('Accounting Data'!C2:C100000,'Accounting Data'!E2:E100000,\"9??\",'Accounting Data'!J2:J100000,\"6832\")-SUMIFS('Accounting Data'!C2:C100000,'Accounting Data'!I2:I100000,\"5???\",'Accounting Data'!J2:J100000,\"6832\")+SUMIFS('Accounting Data'!C2:C100000,'Accounting Data'!E2:E100000,\"575\",'Accounting Data'!I2:I100000,\"5???\",'Accounting Data'!J2:J100000,\"6832\")+SUMIFS('Accounting Data'!C2:C100000,'Accounting Data'!E2:E100000,\"8??\",'Accounting Data'!I2:I100000,\"5???\",'Accounting Data'!J2:J100000,\"6832\")+SUMIFS('Accounting Data'!C2:C100000,'Accounting Data'!E2:E100000,\"9??\",'Accounting Data'!I2:I100000,\"5???\",'Accounting Data'!J2:J100000,\"6832\")","v":{"v":0,"d":"$0"}},"49."]
["50.","Expenditures coded to 6840 and 6844-49 should be coded to 6841, 6842, or 6843","001-799 (excl. 575)",null,null,"6840, 6844-49",{"$f":"SUMIFS('Accounting Data'!C2:C100000,'Accounting Data'!J2:J100000,\"684?\")-SUMIFS('Accounting Data'!C2:C100000,'Accounting Data'!J2:J100000,\"6841\")-SUMIFS('Accounting Data'!C2:C100000,'Accounting Data'!J2:J100000,\"6842\")-SUMIFS('Accounting Data'!C2:C100000,'Accounting Data'!J2:J100000,\"6843\")-SUMIFS('Accounting Data'!C2:C100000,'Accounting Data'!E2:E100000,\"575\",'Accounting Data'!J2:J100000,\"684?\")-SUMIFS('Accounting Data'!C2:C100000,'Accounting Data'!E2:E100000,\"8??\",'Accounting Data'!J2:J100000,\"684?\")-SUMIFS('Accounting Data'!C2:C100000,'Accounting Data'!E2:E100000,\"9??\",'Accounting Data'!J2:J100000,\"684?\")+SUMIFS('Accounting Data'!C2:C100000,'Accounting Data'!E2:E100000,\"575\",'Accounting Data'!J2:J100000,\"6841\")+SUMIFS('Accounting Data'!C2:C100000,'Accounting Data'!E2:E100000,\"8??\",'Accounting Data'!J2:J100000,\"6841\")+SUMIFS('Accounting Data'!C2:C100000,'Accounting Data'!E2:E100000,\"9??\",'Accounting Data'!J2:J100000,\"6841\")+SUMIFS('Accounting Data'!C2:C100000,'Accounting Data'!E2:E100000,\"575\",'Accounting Data'!J2:J100000,\"6842\")+SUMIFS('Accounting Data'!C2:C100000,'Accounting Data'!E2:E100000,\"8??\",'Accounting Data'!J2:J100000,\"6842\")+SUMIFS('Accounting Data'!C2:C100000,'Accounting Data'!E2:E100000,\"9??\",'Accounting Data'!J2:J100000,\"6842\")+SUMIFS('Accounting Data'!C2:C100000,'Accounting Data'!E2:E100000,\"575\",'Accounting Data'!J2:J100000,\"6843\")+SUMIFS('Accounting Data'!C2:C100000,'Accounting Data'!E2:E100000,\"8??\",'Accounting Data'!J2:J100000,\"6843\")+SUMIFS('Accounting Data'!C2:C100000,'Accounting Data'!E2:E100000,\"9??\",'Accounting Data'!J2:J100000,\"6843\")","v":{"v":0,"d":"$0"}},"50."]
["51.","Object 6841 should only be coded to Function 5000","001-799 (excl. 575)",null,"1000-4999, 6000-6999","6841",{"$f":"SUMIFS('Accounting Data'!C2:C100000,'Accounting Data'!J2:J100000,\"6841\")-SUMIFS('Accounting Data'!C2:C100000,'Accounting Data'!E2:E100000,\"575\",'Accounting Data'!J2:J100000,\"6841\")-SUMIFS('Accounting Data'!C2:C100000,'Accounting Data'!E2:E100000,\"8??\",'Accounting Data'!J2:J100000,\"6841\")-SUMIFS('Accounting Data'!C2:C100000,'Accounting Data'!E2:E100000,\"9??\",'Accounting Data'!J2:J100000,\"6841\")-SUMIFS('Accounting Data'!C2:C100000,'Accounting Data'!I2:I100000,\"5???\",'Accounting Data'!J2:J100000,\"6841\")+SUMIFS('Accounting Data'!C2:C100000,'Accounting Data'!E2:E100000,\"575\",'Accounting Data'!I2:I100000,\"5???\",'Accounting Data'!J2:J100000,\"6841\")+SUMIFS('Accounting Data'!C2:C100000,'Accounting Data'!E2:E100000,\"8??\",'Accounting Data'!I2:I100000,\"5???\",'Accounting Data'!J2:J100000,\"6841\")+SUMIFS('Accounting Data'!C2:C100000,'Accounting Data'!E2:E100000,\"9??\",'Accounting Data'!I2:I100000,\"5???\",'Accounting Data'!J2:J100000,\"6841\")","v":{"v":0,"d":"$0"}},"51."]
["52.","Object 6842 should only be coded to Function 5000","001-799 (excl. 575)",null,"1000-4999, 6000-6999","6842",{"$f":"SUMIFS('Accounting Data'!C2:C100000,'Accounting Data'!J2:J100000,\"6842\")-SUMIFS('Accounting Data'!C2:C100000,'Accounting Data'!E2:E100000,\"575\",'Accounting Data'!J2:J100000,\"6842\")-SUMIFS('Accounting Data'!C2:C100000,'Accounting Data'!E2:E100000,\"8??\",'Accounting Data'!J2:J100000,\"6842\")-SUMIFS('Accounting Data'!C2:C100000,'Accounting Data'!E2:E100000,\"9??\",'Accounting Data'!J2:J100000,\"6842\")-SUMIFS('Accounting Data'!C2:C100000,'Accounting Data'!I2:I100000,\"5???\",'Accounting Data'!J2:J100000,\"6842\")+SUMIFS('Accounting Data'!C2:C100000,'Accounting Data'!E2:E100000,\"575\",'Accounting Data'!I2:I100000,\"5???\",'Accounting Data'!J2:J100000,\"6842\")+SUMIFS('Accounting Data'!C2:C100000,'Accounting Data'!E2:E100000,\"8??\",'Accounting Data'!I2:I100000,\"5???\",'Accounting Data'!J2:J100000,\"6842\")+SUMIFS('Accounting Data'!C2:C100000,'Accounting Data'!E2:E100000,\"9??\",'Accounting Data'!I2:I100000,\"5???\",'Accounting Data'!J2:J100000,\"6842\")","v":{"v":0,"d":"$0"}},"52."]
["53.","Object 6850 should be coded to Function 2500","001-799 (excl. 575)",null,"1000-2499, 2600-6999","6850-6859",{"$f":"SUMIFS('Accounting Data'!C2:C100000,'Accounting Data'!J2:J100000,\"685?\")-SUMIFS('Accounting Data'!C2:C100000,'Accounting Data'!E2:E100000,\"575\",'Accounting Data'!J2:J100000,\"685?\")-SUMIFS('Accounting Data'!C2:C100000,'Accounting Data'!E2:E100000,\"8??\",'Accounting Data'!J2:J100000,\"685?\")-SUMIFS('Accounting Data'!C2:C100000,'Accounting Data'!E2:E100000,\"9??\",'Accounting Data'!J2:J100000,\"685?\")-SUMIFS('Accounting Data'!C2:C100000,'Accounting Data'!I2:I100000,\"25??\",'Accounting Data'!J2:J100000,\"685?\")+SUMIFS('Accounting Data'!C2:C100000,'Accounting Data'!E2:E100000,\"575\",'Accounting Data'!I2:I100000,\"25??\",'Accounting Data'!J2:J100000,\"685?\")+SUMIFS('Accounting Data'!C2:C100000,'Accounting Data'!E2:E100000,\"8??\",'Accounting Data'!I2:I100000,\"25??\",'Accounting Data'!J2:J100000,\"685?\")+SUMIFS('Accounting Data'!C2:C100000,'Accounting Data'!E2:E100000,\"9??\",'Accounting Data'!I2:I100000,\"25??\",'Accounting Data'!J2:J100000,\"685?\")","v":{"v":0,"d":"$0"}},"53."]
["54.","Do not use Object codes 7000-7999","001-799 (excl. 575)",null,null,"7000-7999",{"$f":"SUMIFS('Accounting Data'!C2:C100000,'Accounting Data'!J2:J100000,\"7???\")-SUMIFS('Accounting Data'!C2:C100000,'Accounting Data'!E2:E100000,\"575\",'Accounting Data'!J2:J100000,\"7???\")-SUMIFS('Accounting Data'!C2:C100000,'Accounting Data'!E2:E100000,\"8??\",'Accounting Data'!J2:J100000,\"7???\")-SUMIFS('Accounting Data'!C2:C100000,'Accounting Data'!E2:E100000,\"9??\",'Accounting Data'!J2:J100000,\"7???\")","v":{"v":0,"d":"$0"}},"54."]
["55.","Do not use Object codes 8000-8999","001-799 (excl. 575)",null,null,"8000-8999",{"$f":"SUMIFS('Accounting Data'!C2:C100000,'Accounting Data'!J2:J100000,\"8???\")-SUMIFS('Accounting Data'!C2:C100000,'Accounting Data'!E2:E100000,\"575\",'Accounting Data'!J2:J100000,\"8???\")-SUMIFS('Accounting Data'!C2:C100000,'Accounting Data'!E2:E100000,\"8??\",'Accounting Data'!J2:J100000,\"8???\")-SUMIFS('Accounting Data'!C2:C100000,'Accounting Data'!E2:E100000,\"9??\",'Accounting Data'!J2:J100000,\"8???\")","v":{"v":0,"d":"$0"}},"55."]
["56.","Do not use Object codes 9000-9999","001-799 (excl. 575)",null,null,"9000-9999",{"$f":"SUMIFS('Accounting Data'!C2:C100000,'Accounting Data'!J2:J100000,\"9???\")-SUMIFS('Accounting Data'!C2:C100000,'Accounting Data'!E2:E100000,\"575\",'Accounting Data'!J2:J100000,\"9???\")-SUMIFS('Accounting Data'!C2:C100000,'Accounting Data'!E2:E100000,\"8??\",'Accounting Data'!J2:J100000,\"9???\")-SUMIFS('Accounting Data'!C2:C100000,'Accounting Data'!E2:E100000,\"9??\",'Accounting Data'!J2:J100000,\"9???\")","v":{"v":0,"d":"$0"}},"56."]

{"sheet":"School listing","index":15,"n_rows":99,"n_cols":12,"rows_kept":99,"merged":[[2,2,2,6]]}
["District Name",{"$f":"CoverDistrictName","v":"Double Adobe Elementary School "}]
["CTDS Number",{"$f":"Cover!Q1","v":"020345000"}]
["County",{"$f":"County","v":"Cochise"}]
[]
[]
["School #","School Name","School CTDS","Unweighted Attending Student Count","Unit Code(s)","Primary Unit Code","Comments"]
["Districtwide","Districtwide","020345000",null,100,100,{"$nulls":5},"School Listing–Districtwide"]
["Private Schools",{"$nulls":10},"School Listing–Private Schools"]
["CTED (Member Districts)",{"$nulls":10},"School Listing–CTED (Member Districts)"]
["School 1","Double Adobe Elementary School District","020345101",null,100,100,{"$nulls":5},"School Listing–School 1"]
["School 2",{"$nulls":10},"School Listing–School 2"]
["School 3",{"$nulls":10},"School Listing–School 3"]
["School 4",{"$nulls":10},"School Listing–School 4"]
["School 5",{"$nulls":10},"School Listing–School 5"]
["School 6",{"$nulls":10},"School Listing–School 6"]
["School 7",{"$nulls":10},"School Listing–School 7"]
["School 8",{"$nulls":10},"School Listing–School 8"]
["School 9",{"$nulls":10},"School Listing–School 9"]
["School 10",{"$nulls":10},"School Listing–School 10"]
["School 11",{"$nulls":10},"School Listing–School 11"]
["School 12",{"$nulls":10},"School Listing–School 12"]
["School 13",{"$nulls":10},"School Listing–School 13"]
["School 14",{"$nulls":10},"School Listing–School 14"]
["School 15",{"$nulls":10},"School Listing–School 15"]
["School 16",{"$nulls":10},"School Listing–School 16"]
["School 17",{"$nulls":10},"School Listing–School 17"]
["School 18",{"$nulls":10},"School Listing–School 18"]
["School 19",{"$nulls":10},"School Listing–School 19"]
["School 20",{"$nulls":10},"School Listing–School 20"]
["School 21",{"$nulls":10},"School Listing–School 21"]
["School 22",{"$nulls":10},"School Listing–School 22"]
["School 23",{"$nulls":10},"School Listing–School 23"]
["School 24",{"$nulls":10},"School Listing–School 24"]
["School 25",{"$nulls":10},"School Listing–School 25"]
["School 26",{"$nulls":10},"School Listing–School 26"]
["School 27",{"$nulls":10},"School Listing–School 27"]
["School 28",{"$nulls":10},"School Listing–School 28"]
["School 29",{"$nulls":10},"School Listing–School 29"]
["School 30",{"$nulls":10},"School Listing–School 30"]
["School 31",{"$nulls":10},"School Listing–School 31"]
["School 32",{"$nulls":10},"School Listing–School 32"]
["School 33",{"$nulls":10},"School Listing–School 33"]
["School 34",{"$nulls":10},"School Listing–School 34"]
["School 35",{"$nulls":10},"School Listing–School 35"]
["School 36",{"$nulls":10},"School Listing–School 36"]
["School 37",{"$nulls":10},"School Listing–School 37"]
["School 38",{"$nulls":10},"School Listing–School 38"]
["School 39",{"$nulls":10},"School Listing–School 39"]
["School 40",{"$nulls":10},"School Listing–School 40"]
["School 41",{"$nulls":10},"School Listing–School 41"]
["School 42",{"$nulls":10},"School Listing–School 42"]
["School 43",{"$nulls":10},"School Listing–School 43"]
["School 44",{"$nulls":10},"School Listing–School 44"]
["School 45",{"$nulls":10},"School Listing–School 45"]
["School 46",{"$nulls":10},"School Listing–School 46"]
["School 47",{"$nulls":10},"School Listing–School 47"]
["School 48",{"$nulls":10},"School Listing–School 48"]
["School 49",{"$nulls":10},"School Listing–School 49"]
["School 50",{"$nulls":10},"School Listing–School 50"]
["School 51",{"$nulls":10},"School Listing–School 51"]
["School 52",{"$nulls":10},"School Listing–School 52"]
["School 53",{"$nulls":10},"School Listing–School 53"]
["School 54",{"$nulls":10},"School Listing–School 54"]
["School 55",{"$nulls":10},"School Listing–School 55"]
["School 56",{"$nulls":10},"School Listing–School 56"]
["School 57",{"$nulls":10},"School Listing–School 57"]
["School 58",{"$nulls":10},"School Listing–School 58"]
["School 59",{"$nulls":10},"School Listing–School 59"]
["School 60",{"$nulls":10},"School Listing–School 60"]
["School 61",{"$nulls":10},"School Listing–School 61"]
["School 62",{"$nulls":10},"School Listing–School 62"]
["School 63",{"$nulls":10},"School Listing–School 63"]
["School 64",{"$nulls":10},"School Listing–School 64"]
["School 65",{"$nulls":10},"School Listing–School 65"]
["School 66",{"$nulls":10},"School Listing–School 66"]
["School 67",{"$nulls":10},"School Listing–School 67"]
["School 68",{"$nulls":10},"School Listing–School 68"]
["School 69",{"$nulls":10},"School Listing–School 69"]
["School 70",{"$nulls":10},"School Listing–School 70"]
["School 71",{"$nulls":10},"School Listing–School 71"]
["School 72",{"$nulls":10},"School Listing–School 72"]
["School 73",{"$nulls":10},"School Listing–School 73"]
["School 74",{"$nulls":10},"School Listing–School 74"]
["School 75",{"$nulls":10},"School Listing–School 75"]
["School 76",{"$nulls":10},"School Listing–School 76"]
["School 77",{"$nulls":10},"School Listing–School 77"]
["School 78",{"$nulls":10},"School Listing–School 78"]
["School 79",{"$nulls":10},"School Listing–School 79"]
["School 80",{"$nulls":10},"School Listing–School 80"]
["School 81",{"$nulls":10},"School Listing–School 81"]
["School 82",{"$nulls":10},"School Listing–School 82"]
["School 83",{"$nulls":10},"School Listing–School 83"]
["School 84",{"$nulls":10},"School Listing–School 84"]
["School 85",{"$nulls":10},"School Listing–School 85"]
["School 86",{"$nulls":10},"School Listing–School 86"]
["School 87",{"$nulls":10},"School Listing–School 87"]
["School 88",{"$nulls":10},"School Listing–School 88"]
["School 89",{"$nulls":10},"School Listing–School 89"]
["School 90",{"$nulls":10},"School Listing–School 90"]

{"sheet":"COA","index":16,"n_rows":531,"n_cols":3,"rows_kept":531}
["Element Name","Element","Description"]
["FUND","001","Maintenance and Operation Fund"]
["FUND","010","PROP 301 REVENUE"]
["FUND","011","CLASSROOM SITE BASE"]
["FUND","012","CLASSROOM SITE  PERFORMANCE PAY"]
["FUND","013","CLASSROOM SITE FUND OTHER"]
["FUND","020","INSTRUCTIONAL IMPROVEMENT"]
["FUND","071","SEI Budget"]
["FUND","080","Student Success Fund"]
["FUND","100","X ESEA, Title I-Helping Disadvantaged Children "]
["FUND","110","TITLE I"]
["FUND","111","Title I"]
["FUND","114","TITLE I SCHOOL IMPROVEMENT WWIS MARZANO"]
["FUND","118","TITLE I SCHOOL IMPROVEMENT YR 1 & 2"]
["FUND","125","ARRA TITLE  I"]
["FUND","134","EMERGENCY IMMIGRANT"]
["FUND","140","ESEA, Title II-Dwight D. Eisenhower "]
["FUND","150","ESEA, Title III-Technology for Education"]
["FUND","154","ENHANCING ED THRU TECHNOLOGY"]
["FUND","160","ESEA, Title IV- Safe and Drug-Free Schools"]
["FUND","170","ESEA, Title V-Promoting Equity"]
["FUND","180","TITLE VI"]
["FUND","184","CLASS SIZE REDUCTION"]
["FUND","200","ESEA, Title IX- Indian Education"]
["FUND","210","ESEA, Title X-Programs of National Significance"]
["FUND","220","IDEA, Part B"]
["FUND","221","IDEA Emergency"]
["FUND","230","Johnson-O'Malley"]
["FUND","233","ARRA  IDEA "]
["FUND","234","IDEA MON SY"]
["FUND","240","Job Training Partnership Act (JTPA)"]
["FUND","241","IDEA COLLABORATIVE COMPLIANCE"]
["FUND","250","AEA-Adult Education"]
["FUND","260","Vocational Education - Basic Grants "]
["FUND","290","Medicaid Reimbursements"]
["FUND","294","IDEA COLL COMP PROG"]
["FUND","295","Goals 2000"]
["FUND","300","Other Federal Projects"]
["FUND","326","ESSER Funds"]
["FUND","336","ESSER II"]
["FUND","340","Solar Projects"]
["FUND","346","ESSER III"]
["FUND","353","Taylor Grazing"]
["FUND","374","E Rate Fund"]
["FUND","375","ARRA Educational Jobs"]
["FUND","397","RURAL EDUCATION ACHIEVEMENT PROJECT"]
["FUND","400","Vocational Education    "]
["FUND","410","At-Risk Preschool Pilot Project "]
["FUND","420","Handicapped Pupils - Ext. School Yr."]
["FUND","425","Adult Basic Education "]
["FUND","430","Chemical Abuse Prevention Programs"]
["FUND","435","Academic Contests"]
["FUND","445","At-Risk Pupil Dropout Prevention Project "]
["FUND","450","Gifted"]
["FUND","455","Family Literacy Pilot Program "]
["FUND","457","Result Based Funding "]
["FUND","460","Environmental Special Plate"]
["FUND","463","ENVIRONMENTAL"]
["FUND","465","Other State Projects"]
["FUND","466","RURAL ASSISTANCE"]
["FUND","470","UNDESIGNATED"]
["FUND","480","SYSTEMATIC PHONICS"]
["FUND","481","SAIS ASSISTANCE"]
["FUND","485","2003 ENGLISH LEARNER CLASSROOM FUND"]
["FUND","487","ELL CLASSROOM BONUS FUND"]
["FUND","500","School Plant (Sale or Lease Over 1 Year)"]
["FUND","505","School Plant (Lease 1 Year or Less)"]
["FUND","506","Sale of fixed Asset"]
["FUND","510","Food Service"]
["FUND","515","Civic Center"]
["FUND","520","Community School "]
["FUND","525","Auxiliary Operations"]
["FUND","526","Extracurricular activities fees tax  credit"]
["FUND","530","Gifts and Donations"]
["FUND","535","Vocational and Technical Education Projects"]
["FUND","540","Fingerprint"]
["FUND","545","School Opening"]
["FUND","550","Insurance Proceeds"]
["FUND","555","Textbooks"]
["FUND","565","Litigation Recovery"]
["FUND","570","Indirect Costs"]
["FUND","575","Unemployment Insurance "]
["FUND","580","Teacherage"]
["FUND","585","Insurance Refund"]
["FUND","590","Grants and Gifts to Teachers"]
["FUND","595","School Bus Advertisement"]
["FUND","600","Capital Projects Funds"]
["FUND","610","Capital Outlay"]
["FUND","620","Adjacent Ways"]
["FUND","625","SOFT CAPITAL"]
["FUND","630","Bond Building"]
["FUND","640","School Plant - Special Construction"]
["FUND","650","Gifts and Donations"]
["FUND","660","Condemnation"]
["FUND","670","Capital Equity "]
["FUND","680","School Building Start-up"]
["FUND","685","DEFICIENCY CORRECTION FUND"]
["FUND","690","BUILDING RENEWAL FUND"]
["FUND","691","Building Renewal Solar"]
["FUND","695","NEW SCHOOL FACILITIES"]
["FUND","700","Debt Service Funds"]
["FUND","800","Fiduciary Funds"]
["FUND","801","Trust Funds"]
["FUND","850","Student Activities"]
["FUND","855","Employee Insurance Program Withholdings "]
["FUND","860","Federal Savings Bond Withholdings"]
["FUND","865","State Income Tax Withholdings"]
["FUND","900","Proprietary Funds"]
["FUND","901","Enterprise Funds "]
["FUND","950","Internal Service Funds "]
["FUND","953","SMALL SCHOOLS PARTICIPATION"]
["FUND","955","Intergovernmental Agreements"]
["FUND","997","PREV YEARS ADJUSTMENT"]
["FUND","998","General Fixed Assets Account Group "]
["FUND","999","General long-term Debt Account Group"]
["PROGRAM","000","UNDESIGNATED"]
["PROGRAM","100","Regular Education"]
["PROGRAM","199","ARRA Regular Education SFSF"]
["PROGRAM","200","Special Education "]
["PROGRAM","201","Autism"]
["PROGRAM","202","Emotional Disability "]
["PROGRAM","203","Hearing Impairment "]
["PROGRAM","204","Other Health Impairments "]
["PROGRAM","205","Specific Learning Disability"]
["PROGRAM","206","Mild, Moderate, or Severe Mental Retardation "]
["PROGRAM","207","Multiple Disabilities "]
["PROGRAM","208","Multiple Disabilities with SSI"]
["PROGRAM","209","Orthopedic Impairment "]
["PROGRAM","210","Preschool Moderate Delay"]
["PROGRAM","211","Preschool Severe Delay"]
["PROGRAM","212","Preschool Speech/Language Delay"]
["PROGRAM","213","Speech/Language Impairment "]
["PROGRAM","214","Traumatic Brain Injury "]
["PROGRAM","215","Visual Impairment "]
["PROGRAM","240","Gifted Education"]
["PROGRAM","250","Remedial Education "]
["PROGRAM","260","Bilingual Education"]
["PROGRAM","270","Vocational and Technological Education"]
["PROGRAM","280","Career Education"]
["PROGRAM","300","Special Education Title 8P.L. 103-382 Add-on "]
["PROGRAM","301","Autism"]
["PROGRAM","302","Emotional Disability "]
["PROGRAM","303","Hearing Impairment "]
["PROGRAM","304","Other Health Impairment"]
["PROGRAM","305","Specific Learning Disability"]
["PROGRAM","306","Mild, Moderate, or Severe Mental Retardation "]
["PROGRAM","307","Multiple Disabilities "]
["PROGRAM","308","Multiple Disabilities with SSI"]
["PROGRAM","309","Orthopedic Impairment "]
["PROGRAM","310","Preschool Moderate Delay"]
["PROGRAM","311","Preschool Severe Delay"]
["PROGRAM","312","Preschool Speech/Language Delay"]
["PROGRAM","313","Speech/Language Impairment "]
["PROGRAM","314","Traumatic Brain Injury "]
["PROGRAM","315","Visual Impairment "]
["PROGRAM","400","Pupil Transportation "]
["PROGRAM","410","Regular Education"]
["PROGRAM","420","Special Education"]
["PROGRAM","500","Programs Requiring Separate Budgets "]
["PROGRAM","510","Desegregation "]
["PROGRAM","511","Regular Education"]
["PROGRAM","512","Special Education"]
["PROGRAM","513","Pupil Transportation "]
["PROGRAM","520","Special K-3 Program Override "]
["PROGRAM","530","Dropout Prevention Programs "]
["PROGRAM","540","Joint Vocational and Technical Center "]
["PROGRAM","550","K-3 Reading"]
["PROGRAM","600","Other Instructional Programs "]
["PROGRAM","610","School-Sponsored Cocuricular Activities "]
["PROGRAM","620","School-Sponsored Athletics"]
["PROGRAM","630","Other"]
["PROGRAM","700","Adult/Continuing Education Programs "]
["PROGRAM","800","Community College Education Programs "]
["PROGRAM","900","Community Services Programs "]
["PROGRAM","999","UNDESIGNATED"]
["FUNCTION","0000","UNDESIGNATED"]
["FUNCTION","1000","Instruction "]
["FUNCTION","1020","FURNITURE AND EQUIPMENT"]
["FUNCTION","1900","Aides"]
["FUNCTION","2000","Support Services "]
["FUNCTION","2100","Support Services - Students  "]
["FUNCTION","2110","Attendance and Social Work Services "]
["FUNCTION","2120","Guidance Services "]
["FUNCTION","2130","Health Services "]
["FUNCTION","2140","Psychological Services "]
["FUNCTION","2150","Speech Pathology and Audiology Services  "]
["FUNCTION","2190","Other Support Services - Students "]
["FUNCTION","2200","Support Services - Instructional Staff "]
["FUNCTION","2210","Improvement of Instruction Services "]
["FUNCTION","2213","Training"]
["FUNCTION","2220","Educational Media Services "]
["FUNCTION","2290","Other Support Services - Instructional Staff"]
["FUNCTION","2300","Support Services - General Administration "]
["FUNCTION","2310","Governing Board Services"]
["FUNCTION","2320","Executive Administration Services "]
["FUNCTION","2330","Lobbying "]
["FUNCTION","2400","Support Services - School Administration "]
["FUNCTION","2410","Office of the Principal Services "]
["FUNCTION","2490","Other Support Services - School Administration"]
["FUNCTION","2500","Support Services - Business "]
["FUNCTION","2510","Fiscal Services "]
["FUNCTION","2520","Purchasing Services "]
["FUNCTION","2530","Warehousing and Distributing Services "]
["FUNCTION","2540","Printing, Publishing, and Duplicating Services "]
["FUNCTION","2590","Other Support Services - Business"]
["FUNCTION","2600","Operation and Maintenance of Plant Services "]
["FUNCTION","2620","Operating Buildings Services "]
["FUNCTION","2630","Care and Upkeep of Grounds Services "]
["FUNCTION","2640","Care and Upkeep of Equipment Services "]
["FUNCTION","2650","Vehicle Operation and Maintenance Services "]
["FUNCTION","2660","Security Services "]
["FUNCTION","2670","safety"]
["FUNCTION","2690","Other Operation and Maintenance of Plant Services "]
["FUNCTION","2700","Student Transportation Services "]
["FUNCTION","2710","Supervision of Student Transportation Services"]
["FUNCTION","2720","Vehicle Operation Services "]
["FUNCTION","2730","Monitoring Services "]
["FUNCTION","2740","Vehicle Servicing and Maintenance Services "]
["FUNCTION","2790","Other Student Transportation Services "]
["FUNCTION","2800","Support Services - Central "]
["FUNCTION","2820","Information Services "]
["FUNCTION","2830","Staff Services "]
["FUNCTION","2840","Data Processing Services "]
["FUNCTION","2900","Other Support Services "]
["FUNCTION","3000","Operation of noninstructional Services "]
["FUNCTION","3100","Food Service Operations"]
["FUNCTION","3200","Enterprise Operations "]
["FUNCTION","3300","Community Services Operations "]
["FUNCTION","3400","Bookstore Operations "]
["FUNCTION","4000","Facilities Acquisition and Construction Services "]
["FUNCTION","4100","Site Acquisition Services"]
["FUNCTION","4200","Site Improvement Services "]
["FUNCTION","4300","Architecture and Engineering Services "]
["FUNCTION","4400","Educational Specifications Development Services "]
["FUNCTION","4500","Building Acquisition and Construction Services "]
["FUNCTION","4600","Building Improvements Services "]
["FUNCTION","4900","Other Facilities Acquisition & Construction"]
["FUNCTION","5000","Debt Service "]
["FUNCTION","6000","Other Financing Uses "]
["FUNCTION","9000","REVOLVING FUND"]
["OBJECT","0100","Cash"]
["OBJECT","0101","Cash on Hand"]
["OBJECT","0102","Cash in Bank"]
["OBJECT","0103","Cash on Deposit with County Treasurer "]
["OBJECT","0105","Cash with Fiscal Agent"]
["OBJECT","0110","Investments"]
["OBJECT","0111","Unamortized Premiums"]
["OBJECT","0112","Unamortized Discounts (Credit)"]
["OBJECT","0120","Taxes Receivable"]
["OBJECT","0121","Personal Property Taxes - Current Year"]
["OBJECT","0122","Personal Property Taxes - Back (prior year)"]
["OBJECT","0123","Real Property Taxes - Current Year"]
["OBJECT","0124","Real Property Taxes - Back (prior year)"]
["OBJECT","0130","Other Receivables"]
["OBJECT","0131","Revenue in Lieu of Taxes"]
["OBJECT","0132","Accounts Receivable "]
["OBJECT","0133","Bond Proceeds Receivable"]
["OBJECT","0134","Interest Receivable"]
["OBJECT","0135","Refundable Deposits"]
["OBJECT","0136","Notes Receivable"]
["OBJECT","0140","Due from other Funds and Governmental Entities"]
["OBJECT","0141","Other Funds"]
["OBJECT","0142","Other Districts"]
["OBJECT","0143","County"]
["OBJECT","0144","State"]
["OBJECT","0145","Federal"]
["OBJECT","0150","Prepaid Items"]
["OBJECT","0151","Insurance"]
["OBJECT","0160","Inventory of Supplies for Consumption"]
["OBJECT","0161","Supplies"]
["OBJECT","0162","Gas and Oil"]
["OBJECT","0170","Inventory of Supplies for Sale or Rental"]
["OBJECT","0171","Bookstore"]
["OBJECT","0172","Food and Milk"]
["OBJECT","0180","General Fixed Assets "]
["OBJECT","0181","Land and Improvements"]
["OBJECT","0182","Buildings and Improvements "]
["OBJECT","0183","Equipment"]
["OBJECT","0184","Construction in Progress"]
["OBJECT","0190","Other Debits"]
["OBJECT","0191","Amount Available in Debt Service Fund"]
["OBJECT","0201","Accounts Payable"]
["OBJECT","0202","Refundable Deposits"]
["OBJECT","0203","Bank Revolving Line of Credit Payable"]
["OBJECT","0204","Overdraft of Cash on Deposit with County Treasurer"]
["OBJECT","0205","Tax Anticipation Notes Payable"]
["OBJECT","0206","Loans Payable"]
["OBJECT","0211","Other Funds"]
["OBJECT","0212","Other Districts"]
["OBJECT","0213","County"]
["OBJECT","0214","State"]
["OBJECT","0215","Federal"]
["OBJECT","0216","Student Groups"]
["OBJECT","0220","Accrued Payroll and Related Benefits"]
["OBJECT","0221","Salaries and Wages "]
["OBJECT","0222","Social Security - OASDI"]
["OBJECT","0223","Medicare"]
["OBJECT","0224","State Retirement System Contributions "]
["OBJECT","0225","Employee Insurance"]
["OBJECT","0226","Unemployment Insurance"]
["OBJECT","0227","Workers' Compensation"]
["OBJECT","0228","Self-Insurance Employee Claims Payable"]
["OBJECT","0229","Compensated Absences"]
["OBJECT","0230","Other Accrued Items"]
["OBJECT","0231","Interest (Other than Bond Interest )"]
["OBJECT","0232","Bond Interest Payable"]
["OBJECT","0233","Self-Insurance Claims Payable"]
["OBJECT","0240","Payroll Deductions and Withholdings (Employees)"]
["OBJECT","0241","Federal Income Taxes"]
["OBJECT","0242","State Income Taxes"]
["OBJECT","0243","Social Security - OASDI"]
["OBJECT","0244","Medicare - Hospital Insurance"]
["OBJECT","0245","State Retirement Contributions"]
["OBJECT","0246","Long-Term Disability"]
["OBJECT","0247","Voluntary Deductions"]
["OBJECT","0248","Court-Ordered Assignments"]
["OBJECT","0250","Deferred Revenues"]
["OBJECT","0260","Contracts Payable "]
["OBJECT","0261","Capital Leases "]
["OBJECT","0262","Construction    "]
["OBJECT","0270","Bonds Payable"]
["OBJECT","0271","Current "]
["OBJECT","0272","Long-Term   "]
["OBJECT","0290","Tax Anticipation Notes Payable"]
["OBJECT","0300","Reserves"]
["OBJECT","0301","Prepaid Items"]
["OBJECT","0302","Inventory of Supplies for Consumption"]
["OBJECT","0303","Inventory of Supplies for Sale or Rental"]
["OBJECT","0310","Investment in General Fixed Assets"]
["OBJECT","0320","Designated for Capital Outlay"]
["OBJECT","0330","Unreserved Fund Balance"]
["OBJECT","0340","Reserved Retained Earnings"]
["OBJECT","0350","Unreserved Retained Earnings"]
["OBJECT","0360","Accumulated Depreciation on Land Improvements "]
["OBJECT","0380","Accumulated Depreciation on Equipment "]
["OBJECT","1000","Revenue from Local Sources"]
["OBJECT","1100","Taxes Levied/Assessed on Behalf of the District"]
["OBJECT","1110","Property Taxes"]
["OBJECT","1111","PERSONAL PROPERTY TAXES"]
["OBJECT","1112","Real"]
["OBJECT","1115","REAL PROPERTY TAXES"]
["OBJECT","1140","Penalties and Interest on Taxes "]
["OBJECT","1280","Revenue in Lieu of Taxes"]
["OBJECT","1300","Tuition"]
["OBJECT","1310","Tuition from Individuals"]
["OBJECT","1320","Tuition from Other Arizona Districts "]
["OBJECT","1330","Tuition from Out-of-State Districts "]
["OBJECT","1340","Tuition from Other Sources "]
["OBJECT","1400","Transportation Fees "]
["OBJECT","1410","Transportation Fees from Individuals"]
["OBJECT","1420","Transportation Fees from Other Arizona Districts "]
["OBJECT","1430","Transportation Fees from Out-of-State Districts"]
["OBJECT","1440","Transportation Fees from Other Sources"]
["OBJECT","1500","Earnings on Investments"]
["OBJECT","1510","Interest on Investments "]
["OBJECT","1511","NCFE INVESTMENT INTEREST"]
["OBJECT","1512","STATE DEFERRED INTEREST"]
["OBJECT","1540","Earnings on Investments in Real Property"]
["OBJECT","1600","Food Service"]
["OBJECT","1610","Daily Sales - Reimbursable Programs"]
["OBJECT","1611","Daily Sales - School Lunch Program"]
["OBJECT","1612","Daily Sales - School Breakfast Program"]
["OBJECT","1613","Daily Sales - Special Milk Program "]
["OBJECT","1620","Daily Sales - Nonreimbursable Programs"]
["OBJECT","1630","Special Functions"]
["OBJECT","1700","Activities"]
["OBJECT","1750","ACTIVITES"]
["OBJECT","1790","Extracurricular Activities Fees Tax Credit"]
["OBJECT","1800","Revenue from Community Services Activities "]
["OBJECT","1900","Other Revenue from Local Sources"]
["OBJECT","1910","Rentals "]
["OBJECT","1920","Contributions and Donations from Private Sources "]
["OBJECT","1930","Gain on Sale of Fixed Assets"]
["OBJECT","1950","Services Provided Other Districts "]
["OBJECT","1960","Services Provided Other Local Governmental Units "]
["OBJECT","1970","Services Provided Other Funds "]
["OBJECT","1980","Refund of Prior Year's Expenditures "]
["OBJECT","1981","PRV YR ADJ - BL W/ TR"]
["OBJECT","1990","Miscellaneous"]
["OBJECT","2000","Revenue from Intermediate Sources "]
["OBJECT","2100","Unrestricted Grants-in-Aid"]
["OBJECT","2110","County School Fund "]
["OBJECT","2120","County Equalization Assistance"]
["OBJECT","2121","ASSISTANCE FOR EDUCATION FUND"]
["OBJECT","2122","PRIOR YEAR REVENUE"]
["OBJECT","2200","Restricted Grants-in-Aid"]
["OBJECT","2210","Special County School Reserve Fund"]
["OBJECT","2500","Central Services"]
["OBJECT","2900","Revenue for/on Behalf of the District"]
["OBJECT","3000","Revenue from State Sources"]
["OBJECT","3100","Unrestricted Grants-in-Aid"]
["OBJECT","3110","State Equalization Assistance"]
["OBJECT","3120","Additional State Aid "]
["OBJECT","3125","Assistance for Education"]
["OBJECT","3130","Certificates of Educational Convenience"]
["OBJECT","3140","Institutional Vouchers"]
["OBJECT","3150","State Impact Assistance"]
["OBJECT","3160","Student Success Rev."]
["OBJECT","3200","Restricted Grants-in-Aid"]
["OBJECT","3201","PRIOR YEAR STATE"]
["OBJECT","3900","Revenue for/on Behalf of the District"]
["OBJECT","4000","Revenue from Federal Sources"]
["OBJECT","4100","FEDERAL UNRESTRICTED"]
["OBJECT","4300","Federal Money"]
["OBJECT","4500","RESTRICTED GRANT FEDERAL"]
["OBJECT","4501","(OLD)PRIOR YR  REV DUE FROM STATE"]
["OBJECT","4700","Taylor Grazing"]
["OBJECT","4800","Revenue in Lieu of Taxes"]
["OBJECT","4900","Revenue for/on Behalf of the District"]
["OBJECT","5000","Other Financing Sources "]
["OBJECT","5100","Sale of Bonds "]
["OBJECT","5110","Bond Principal "]
["OBJECT","5120","Premium "]
["OBJECT","5130","Accrued Interest "]
["OBJECT","5200","Interfund Transfers In "]
["OBJECT","5300","Sale or Compensation for Loss of Fixed Assets "]
["OBJECT","5500","Capital Lease "]
["OBJECT","5700","Special Items"]
["OBJECT","5800","Extraordinary Items"]
["OBJECT","6100","Personal Services - Salaries "]
["OBJECT","6110","Certified Salaries "]
["OBJECT","6111","Administrators"]
["OBJECT","6112","Teachers"]
["OBJECT","6113","Substitute"]
["OBJECT","6114","Other"]
["OBJECT","6150","Classified Salaries "]
["OBJECT","6200","Personal Services - Employee Benefits "]
["OBJECT","6210","Employee Insurance"]
["OBJECT","6220","Social Security Contributions "]
["OBJECT","6221","Social Security - OASDI"]
["OBJECT","6222","Medicare - Hospital Insurance "]
["OBJECT","6230","State Retirement System Contributions "]
["OBJECT","6231","State Retirement "]
["OBJECT","6232","Long-Term Disability"]
["OBJECT","6250","Unemployment Insurance "]
["OBJECT","6260","Worker's Compensation "]
["OBJECT","6270","Health Benefits "]
["OBJECT","6290","Other Employee Benefits "]
["OBJECT","6300","Purchased Professional and Technical Services "]
["OBJECT","6310","Official/Administrative Services "]
["OBJECT","6320","Professional - Educational Services "]
["OBJECT","6330","Other Professional Services "]
["OBJECT","6340","Technical Services "]
["OBJECT","6350","Audit Services "]
["OBJECT","6360","Employee Training"]
["OBJECT","6400","Purchased Property Services "]
["OBJECT","6410","Utility Services "]
["OBJECT","6411","Water/Sewage"]
["OBJECT","6420","Cleaning Services "]
["OBJECT","6421","Disposal Services "]
["OBJECT","6422","Snow Plowing Services "]
["OBJECT","6423","Custodial Services "]
["OBJECT","6424","Lawn Care "]
["OBJECT","6430","Repair and Maintenance Services "]
["OBJECT","6432","Head Phones"]
["OBJECT","6440","Rentals "]
["OBJECT","6441","Renting Land and Buildings "]
["OBJECT","6442","Rental of Equipment "]
["OBJECT","6450","Construction Services "]
["OBJECT","6490","Other Purchased Property Services "]
["OBJECT","6500","Other Purchased Services "]
["OBJECT","6510","Student Transportation Services "]
["OBJECT","6520","Insurance (Other than Employee Benefits)"]
["OBJECT","6521","Excess Insurance (other than Employee Benefits)"]
["OBJECT","6530","Communications "]
["OBJECT","6531","Telephone"]
["OBJECT","6532","Other Communications Services "]
["OBJECT","6540","Advertising "]
["OBJECT","6550","Printing and Binding "]
["OBJECT","6560","Tuition"]
["OBJECT","6561","Tuition to Other Arizona Districts "]
["OBJECT","6562","Tuition to Out-of-State Districts "]
["OBJECT","6563","Tuition to Private Sources "]
["OBJECT","6565","Tuition Out Debt Service"]
["OBJECT","6569","Tuition - Other"]
["OBJECT","6570","Food Service Management "]
["OBJECT","6580","Travel"]
["OBJECT","6590","Miscellaneous Purchased Services "]
["OBJECT","6591","Services Purchased from Non-Districts "]
["OBJECT","6592","Services Purchased from Other Arizona Districts "]
["OBJECT","6593","Services Purchased from Out-of-State Districts "]
["OBJECT","6600","Supplies "]
["OBJECT","6610","General Supplies "]
["OBJECT","6611","DISTRICT SUPPLIES"]
["OBJECT","6620","Energy"]
["OBJECT","6621","Natural Gas "]
["OBJECT","6622","Electricity "]
["OBJECT","6623","Bottled Gas "]
["OBJECT","6624","Oil"]
["OBJECT","6625","Coal"]
["OBJECT","6626","Gasoline "]
["OBJECT","6627","Diesel Fuel "]
["OBJECT","6629","Other"]
["OBJECT","6630","Food "]
["OBJECT","6631","USDA Commodities "]
["OBJECT","6632","Other Food"]
["OBJECT","6640","Books and Periodicals "]
["OBJECT","6641","Library Books"]
["OBJECT","6642","Textbooks "]
["OBJECT","6643","Instructional Aids "]
["OBJECT","6644","Other Books "]
["OBJECT","6650","Para Pro"]
["OBJECT","6700","Property"]
["OBJECT","6710","Land and Improvements "]
["OBJECT","6720","Buildings"]
["OBJECT","6730","Equipment "]
["OBJECT","6731","Furniture and Equipment "]
["OBJECT","6732","Vehicles "]
["OBJECT","6733","Bleachers (risers)"]
["OBJECT","6734","Vehicles"]
["OBJECT","6737","Technology Related Hardware"]
["OBJECT","6740","Depreciation "]
["OBJECT","6800","Other Objects"]
["OBJECT","6810","Dues and Fees "]
["OBJECT","6820","Judgments Against the District "]
["OBJECT","6830","Interest "]
["OBJECT","6840","Other Interest "]
["OBJECT","6850","Redemption of Principal "]
["OBJECT","6880","Loss on Sale of Fixed Assets "]
["OBJECT","6890","Miscellaneous Expenditures  "]
["OBJECT","6900","Other Financing Uses"]
["OBJECT","6910","Indirect Costs "]
["OBJECT","6930","Interfund Transfers Out "]
["OBJECT","6940","Payment to Bond Escrow Agent "]
["OBJECT","6950","RETURN TO STATE"]
["OBJECT","6960","Title II - return"]
["OBJECT","6999","REVOLVING FUND"]
["UNIT","000","UNDESIGNATED"]
["UNIT","001","UNDESIGNATED"]
["UNIT","100","ELEMENTARY"]
["UNIT","200","High School"]

{"sheet":"Accounting Data","index":17,"n_rows":100000,"n_cols":27,"rows_kept":4500,"cut":true,"merged":[[1,3,12,3]],"bounds":{"rows_first":2000,"rows_last":500,"rows_between":2000,"halvings":0}}
["Account ","Description","YTD Transactions",null,"Final Fund","Rollup Fund","Fund","Program","Function","Object","Unit","Primary Unit Code","Final Unit Code",null,"Bold Funds","PY Ending Fund Balance","Calculated CY Beginning Fund Balance","Final CY Beginning Fund Balance",{"$nulls":8},{"$f":"SUM(AA2:AA100000)","v":{"v":0,"d":"0.00"}}]
["001.000.0000.0100.000","Cash",{"v":0,"d":"$0.00"},"Vision users should press the Parse Account button above, which will populate the Fund, Program, Function, Object, and Unit columns (G, H, I, J, and K). Some districts may need to work with their information technology (IT) departments to make this a trusted file and enable macros.",{"$f":"IF(AND(F2<>\"\",F2=G2),\"ERROR\",IF(AND(F2<>\"\",F2<>G2),F2,G2))","v":"001"},null,"001","000","0000","0100","000",null,{"$f":"IF(L2<>\"\",L2,K2)","v":"000"},null,"001",{"$f":"'[2]Page 1'!$E$58","v":{"v":34567,"d":"34,567 "}},{"v":212377,"d":"212,377 "},{"$f":"IF(Q2=\"\",P2,Q2)","v":{"v":212377,"d":"212,377 "}},{"$nulls":7},{"$f":"'School listing'!F7","v":100},{"$f":"IF(OR(SUMPRODUCT(--(E2=$O$1:$O$542))>0,E2=0),0,1)","v":0}]
["001.000.0000.0102.000","Cash in Bank",{"v":476.05,"d":"$476.05"},null,"001",null,"001","000","0000","0102","000",null,"000",null,"010",{"$f":"'[2]Page 3'!$P$21","v":{"v":12170,"d":"12,170 "}},{"v":15758,"d":"15,758 "},{"v":15758,"d":"15,758 "},{"$nulls":7},{"$f":"'School listing'!F8","v":0},{"$f":"IF(OR(SUMPRODUCT(--(E3=$O$1:$O$542))>0,E3=0),0,1)","v":0}]
["001.000.0000.0103.000","Maintenance & Operations",{"v":362980.72,"d":"$362,980.72"},null,"001",null,"001","000","0000","0103","000",null,"000",null,"020",{"$f":"[2]!F020EndFundBal","v":{"v":8332,"d":"8,332 "}},{"$f":"8203.9+2.22","v":{"v":8206,"d":"8,206 "}},{"v":8206,"d":"8,206 "},{"$nulls":7},{"$f":"'School listing'!F9","v":0},{"$f":"IF(OR(SUMPRODUCT(--(E4=$O$1:$O$542))>0,E4=0),0,1)","v":0}]
["001.000.0000.0201.000","Accounts Payable",{"v":138.13,"d":"$138.13"},null,"001",null,"001","000","0000","0201","000",null,"000",null,"050",{"$f":"[2]!F050EndFundBal","v":{"v":0,"d":"0 "}},null,{"v":0,"d":"0 "},{"$nulls":7},{"$f":"'School listing'!F10","v":100},{"$f":"IF(OR(SUMPRODUCT(--(E5=$O$1:$O$542))>0,E5=0),0,1)","v":0}]
["001.000.0000.0220.000","OASI/MEDICARE (EMPLOYER)",{"v":0,"d":"$0.00"},null,"001",null,"001","000","0000","0220","000",null,"000",null,"071",{"$f":"[2]!F071EndFundBal","v":{"v":0,"d":"0 "}},null,{"v":0,"d":"0 "},{"$nulls":7},{"$f":"'School listing'!F11","v":0},{"$f":"IF(OR(SUMPRODUCT(--(E6=$O$1:$O$542))>0,E6=0),0,1)","v":0}]
["001.000.0000.0221.000","Salaries and Wages ",{"v":1061.48,"d":"$1,061.48"},null,{"$f":"IF(AND(F7<>\"\",F7=G7),\"ERROR\",IF(AND(F7<>\"\",F7<>G7),F7,G7))","v":"001"},null,"001","000","0000","0221","000",null,"000",null,"072",{"$f":"[2]!F072EndFundBal","v":{"v":0,"d":"0 "}},null,{"v":0,"d":"0 "},{"$nulls":7},{"$f":"'School listing'!F12","v":0},{"$f":"IF(OR(SUMPRODUCT(--(E7=$O$1:$O$542))>0,E7=0),0,1)","v":0}]
["001.000.0000.0222.000","OASI - SOCIAL SECURITY",{"v":0,"d":"$0.00"},null,"001",null,"001","000","0000","0222","000",null,"000",null,"100",{"$f":"[2]!F100_130EndFundBal","v":{"v":-2423,"d":"(2,423)"}},{"$f":"430.03","v":{"v":430,"d":"430 "}},{"v":430,"d":"430 "},{"$nulls":7},{"$f":"'School listing'!F13","v":0},{"$f":"IF(OR(SUMPRODUCT(--(E8=$O$1:$O$542))>0,E8=0),0,1)","v":0}]
["001.000.0000.0222.100","Social Security - OASDI",{"v":684.09,"d":"$684.09"},null,{"$f":"IF(AND(F9<>\"\",F9=G9),\"ERROR\",IF(AND(F9<>\"\",F9<>G9),F9,G9))","v":"001"},null,"001","000","0000","0222","100",null,"100",null,"101",{"$nulls":10},{"$f":"'School listing'!F14","v":0},{"$f":"IF(OR(SUMPRODUCT(--(E9=$O$1:$O$542))>0,E9=0),0,1)","v":0}]
["001.000.0000.0223.000","OASI - MEDICARE",{"v":0,"d":"$0.00"},null,"001",null,"001","000","0000","0223","000",null,"000",null,"102",{"$nulls":10},{"$f":"'School listing'!F15","v":0},{"$f":"IF(OR(SUMPRODUCT(--(E10=$O$1:$O$542))>0,E10=0),0,1)","v":0}]
["001.000.0000.0223.100","Medicare",{"v":159.98,"d":"$159.98"},null,"001",null,"001","000","0000","0223","100",null,"100",null,"103",{"$nulls":10},{"$f":"'School listing'!F16","v":0},{"$f":"IF(OR(SUMPRODUCT(--(E11=$O$1:$O$542))>0,E11=0),0,1)","v":0}]
["001.000.0000.0224.000","STATE RETIRE CONTRIB (EM",{"v":0,"d":"$0.00"},null,"001",null,"001","000","0000","0224","000",null,"000",null,"104",{"$nulls":10},{"$f":"'School listing'!F17","v":0},{"$f":"IF(OR(SUMPRODUCT(--(E12=$O$1:$O$542))>0,E12=0),0,1)","v":0}]
["001.000.0000.0224.100","State Retirement System Contributio",{"v":737.61,"d":"$737.61"},null,"001",null,"001","000","0000","0224","100",null,"100",null,"105",{"$nulls":10},{"$f":"'School listing'!F18","v":0},{"$f":"IF(OR(SUMPRODUCT(--(E13=$O$1:$O$542))>0,E13=0),0,1)","v":0}]
["001.000.0000.0225.000","EMPLOYEE INSURANCE (EMPL",{"v":0,"d":"$0.00"},null,"001",null,"001","000","0000","0225","000",null,"000",null,"106",{"$nulls":10},{"$f":"'School listing'!F19","v":0},{"$f":"IF(OR(SUMPRODUCT(--(E14=$O$1:$O$542))>0,E14=0),0,1)","v":0}]
["001.000.0000.0226.000","UNEMPLOYMENT INS. (EMPLO",{"v":0,"d":"$0.00"},null,"001",null,"001","000","0000","0226","000",null,"000",null,"107",{"$nulls":10},{"$f":"'School listing'!F20","v":0},{"$f":"IF(OR(SUMPRODUCT(--(E15=$O$1:$O$542))>0,E15=0),0,1)","v":0}]
["001.000.0000.0227.000","WORKER'S COMP. (EMPLOYER",{"v":-370.84,"d":"-($370.84)"},null,"001",null,"001","000","0000","0227","000",null,"000",null,"108",{"$nulls":10},{"$f":"'School listing'!F21","v":0},{"$f":"IF(OR(SUMPRODUCT(--(E16=$O$1:$O$542))>0,E16=0),0,1)","v":0}]
["001.000.0000.0241.000","FEDERAL INCOME TAXES",{"v":0,"d":"$0.00"},null,"001",null,"001","000","0000","0241","000",null,"000",null,"109",{"$nulls":10},{"$f":"'School listing'!F22","v":0},{"$f":"IF(OR(SUMPRODUCT(--(E17=$O$1:$O$542))>0,E17=0),0,1)","v":0}]
["001.000.0000.0241.100","Federal Income Taxes",{"v":750.16,"d":"$750.16"},null,"001",null,"001","000","0000","0241","100",null,"100",null,"110",{"$nulls":10},{"$f":"'School listing'!F23","v":0},{"$f":"IF(OR(SUMPRODUCT(--(E18=$O$1:$O$542))>0,E18=0),0,1)","v":0}]
["001.000.0000.0242.000","STATE INCOME TAXES",{"v":-751.17,"d":"-($751.17)"},null,"001",null,"001","000","0000","0242","000",null,"000",null,"111",{"$nulls":10},{"$f":"'School listing'!F24","v":0},{"$f":"IF(OR(SUMPRODUCT(--(E19=$O$1:$O$542))>0,E19=0),0,1)","v":0}]
["001.000.0000.0242.100","State Income Taxes",{"v":205.24,"d":"$205.24"},null,"001",null,"001","000","0000","0242","100",null,"100",null,"112",{"$nulls":10},{"$f":"'School listing'!F25","v":0},{"$f":"IF(OR(SUMPRODUCT(--(E20=$O$1:$O$542))>0,E20=0),0,1)","v":0}]
["001.000.0000.0243.000","OASI/MEDICARE (EMPLOYEE)",{"v":0,"d":"$0.00"},null,"001",null,"001","000","0000","0243","000",null,"000",null,"113",{"$nulls":10},{"$f":"'School listing'!F26","v":0},{"$f":"IF(OR(SUMPRODUCT(--(E21=$O$1:$O$542))>0,E21=0),0,1)","v":0}]
["001.000.0000.0243.100","Social Security - OASDI",{"v":463.41,"d":"$463.41"},null,"001",null,"001","000","0000","0243","100",null,"100",null,"114",{"$nulls":10},{"$f":"'School listing'!F27","v":0},{"$f":"IF(OR(SUMPRODUCT(--(E22=$O$1:$O$542))>0,E22=0),0,1)","v":0}]
["001.000.0000.0244.000","OASI - MEDICARE",{"v":0,"d":"$0.00"},null,"001",null,"001","000","0000","0244","000",null,"000",null,"115",{"$nulls":10},{"$f":"'School listing'!F28","v":0},{"$f":"IF(OR(SUMPRODUCT(--(E23=$O$1:$O$542))>0,E23=0),0,1)","v":0}]
["001.000.0000.0244.100","Medicare - Hospital Insurance",{"v":159.98,"d":"$159.98"},null,"001",null,"001","000","0000","0244","100",null,"100",null,"116",{"$nulls":10},{"$f":"'School listing'!F29","v":0},{"$f":"IF(OR(SUMPRODUCT(--(E24=$O$1:$O$542))>0,E24=0),0,1)","v":0}]
["001.000.0000.0245.000","STATE RETIREMENT (EMPLOY",{"v":0,"d":"$0.00"},null,"001",null,"001","000","0000","0245","000",null,"000",null,"117",{"$nulls":10},{"$f":"'School listing'!F30","v":0},{"$f":"IF(OR(SUMPRODUCT(--(E25=$O$1:$O$542))>0,E25=0),0,1)","v":0}]
["001.000.0000.0245.100","State Retirement Contributions",{"v":812.82,"d":"$812.82"},null,"001",null,"001","000","0000","0245","100",null,"100",null,"118",{"$nulls":10},{"$f":"'School listing'!F31","v":0},{"$f":"IF(OR(SUMPRODUCT(--(E26=$O$1:$O$542))>0,E26=0),0,1)","v":0}]
["001.000.0000.0246.000","Long Term Disability",{"v":0,"d":"$0.00"},null,"001",null,"001","000","0000","0246","000",null,"000",null,"119",{"$nulls":10},{"$f":"'School listing'!F32","v":0},{"$f":"IF(OR(SUMPRODUCT(--(E27=$O$1:$O$542))>0,E27=0),0,1)","v":0}]
["001.000.0000.0246.100","Long Term Disability",{"v":19,"d":"$19.00"},null,"001",null,"001","000","0000","0246","100",null,"100",null,"120",{"$nulls":10},{"$f":"'School listing'!F33","v":0},{"$f":"IF(OR(SUMPRODUCT(--(E28=$O$1:$O$542))>0,E28=0),0,1)","v":0}]
["001.000.0000.0247.000","VOLUNTARY DEDUCTION",{"v":0,"d":"$0.00"},null,"001",null,"001","000","0000","0247","000",null,"000",null,"121",{"$nulls":10},{"$f":"'School listing'!F34","v":0},{"$f":"IF(OR(SUMPRODUCT(--(E29=$O$1:$O$542))>0,E29=0),0,1)","v":0}]
["001.000.0000.0247.100","Voluntary Deductions",{"v":8004.39,"d":"$8,004.39"},null,"001",null,"001","000","0000","0247","100",null,"100",null,"122",{"$nulls":10},{"$f":"'School listing'!F35","v":0},{"$f":"IF(OR(SUMPRODUCT(--(E30=$O$1:$O$542))>0,E30=0),0,1)","v":0}]
["001.000.0000.0248.000","COURT ORDERED ASSIGNMENT",{"v":0,"d":"$0.00"},null,"001",null,"001","000","0000","0248","000",null,"000",null,"123",{"$nulls":10},{"$f":"'School listing'!F36","v":0},{"$f":"IF(OR(SUMPRODUCT(--(E31=$O$1:$O$542))>0,E31=0),0,1)","v":0}]
["001.000.0000.0300.000","Undesignated",{"v":-221000,"d":"-($221,000.00)"},null,"001",null,"001","000","0000","0300","000",null,"000",null,"124",{"$nulls":10},{"$f":"'School listing'!F37","v":0},{"$f":"IF(OR(SUMPRODUCT(--(E32=$O$1:$O$542))>0,E32=0),0,1)","v":0}]
["001.000.0000.0330.000","Unreserved Fund Balance",{"v":-3927.11,"d":"-($3,927.11)"},null,"001",null,"001","000","0000","0330","000",null,"000",null,"125",{"$nulls":10},{"$f":"'School listing'!F38","v":0},{"$f":"IF(OR(SUMPRODUCT(--(E33=$O$1:$O$542))>0,E33=0),0,1)","v":0}]
["001.000.0000.1111.000","PERSONAL PROPERTY TAXES",{"v":-25939.68,"d":"-($25,939.68)"},null,"001",null,"001","000","0000","1111","000",null,"000",null,"126",{"$nulls":10},{"$f":"'School listing'!F39","v":0},{"$f":"IF(OR(SUMPRODUCT(--(E34=$O$1:$O$542))>0,E34=0),0,1)","v":0}]
["001.000.0000.1112.000","REAL PROPERTY TAXES",{"v":0,"d":"$0.00"},null,"001",null,"001","000","0000","1112","000",null,"000",null,"127",{"$nulls":10},{"$f":"'School listing'!F40","v":0},{"$f":"IF(OR(SUMPRODUCT(--(E35=$O$1:$O$542))>0,E35=0),0,1)","v":0}]
["001.000.0000.1115.000","REAL PROPERTY TAXES",{"v":-205217.83,"d":"-($205,217.83)"},null,"001",null,"001","000","0000","1115","000",null,"000",null,"128",{"$nulls":10},{"$f":"'School listing'!F41","v":0},{"$f":"IF(OR(SUMPRODUCT(--(E36=$O$1:$O$542))>0,E36=0),0,1)","v":0}]
["001.000.0000.1280.000","Revenue in Lieu of Taxes",{"v":-2777.58,"d":"-($2,777.58)"},null,"001",null,"001","000","0000","1280","000",null,"000",null,"129",{"$nulls":10},{"$f":"'School listing'!F42","v":0},{"$f":"IF(OR(SUMPRODUCT(--(E37=$O$1:$O$542))>0,E37=0),0,1)","v":0}]
["001.000.0000.1320.000","Tuition from Other Arizo",{"v":0,"d":"$0.00"},null,"001",null,"001","000","0000","1320","000",null,"000",null,"130",{"$nulls":10},{"$f":"'School listing'!F43","v":0},{"$f":"IF(OR(SUMPRODUCT(--(E38=$O$1:$O$542))>0,E38=0),0,1)","v":0}]
["001.000.0000.1510.000","INTEREST ON INVESTMENTS",{"v":-2393.63,"d":"-($2,393.63)"},null,"001",null,"001","000","0000","1510","000",null,"000",null,"131",{"$nulls":10},{"$f":"'School listing'!F44","v":0},{"$f":"IF(OR(SUMPRODUCT(--(E39=$O$1:$O$542))>0,E39=0),0,1)","v":0}]
["001.000.0000.1511.000","LGIP  LOSS",{"v":0,"d":"$0.00"},null,"001",null,"001","000","0000","1511","000",null,"000",null,"132",{"$nulls":10},{"$f":"'School listing'!F45","v":0},{"$f":"IF(OR(SUMPRODUCT(--(E40=$O$1:$O$542))>0,E40=0),0,1)","v":0}]
["001.000.0000.1512.000","STATE DEFERRED INTEREST",{"v":0,"d":"$0.00"},null,"001",null,"001","000","0000","1512","000",null,"000",null,"133",{"$nulls":10},{"$f":"'School listing'!F46","v":0},{"$f":"IF(OR(SUMPRODUCT(--(E41=$O$1:$O$542))>0,E41=0),0,1)","v":0}]
["001.000.0000.1900.000","OTHER RECEIPTS",{"v":0,"d":"$0.00"},null,"001",null,"001","000","0000","1900","000",null,"000",null,"134",{"$nulls":10},{"$f":"'School listing'!F47","v":0},{"$f":"IF(OR(SUMPRODUCT(--(E42=$O$1:$O$542))>0,E42=0),0,1)","v":0}]
["001.000.0000.1980.000","Refund of Prior Year's E",{"v":-341.35,"d":"-($341.35)"},null,"001",null,"001","000","0000","1980","000",null,"000",null,"135",{"$nulls":10},{"$f":"'School listing'!F48","v":0},{"$f":"IF(OR(SUMPRODUCT(--(E43=$O$1:$O$542))>0,E43=0),0,1)","v":0}]
["001.000.0000.1981.000","Undesignated",{"v":0,"d":"$0.00"},null,"001",null,"001","000","0000","1981","000",null,"000",null,"136",{"$nulls":10},{"$f":"'School listing'!F49","v":0},{"$f":"IF(OR(SUMPRODUCT(--(E44=$O$1:$O$542))>0,E44=0),0,1)","v":0}]
["001.000.0000.1990.000","Miscellaneous",{"v":0,"d":"$0.00"},null,"001",null,"001","000","0000","1990","000",null,"000",null,"137",{"$nulls":10},{"$f":"'School listing'!F50","v":0},{"$f":"IF(OR(SUMPRODUCT(--(E45=$O$1:$O$542))>0,E45=0),0,1)","v":0}]
["001.000.0000.2120.000","COUNTY EQUALIZATION ASSI",{"v":-529.79,"d":"-($529.79)"},null,"001",null,"001","000","0000","2120","000",null,"000",null,"138",{"$nulls":10},{"$f":"'School listing'!F51","v":0},{"$f":"IF(OR(SUMPRODUCT(--(E46=$O$1:$O$542))>0,E46=0),0,1)","v":0}]
["001.000.0000.2121.000","ASSISTANCE FOR EDUCATION",{"v":0,"d":"$0.00"},null,"001",null,"001","000","0000","2121","000",null,"000",null,"139",{"$nulls":10},{"$f":"'School listing'!F52","v":0},{"$f":"IF(OR(SUMPRODUCT(--(E47=$O$1:$O$542))>0,E47=0),0,1)","v":0}]
["001.000.0000.2122.000","PRIOR YEAR REVENUE",{"v":0,"d":"$0.00"},null,"001",null,"001","000","0000","2122","000",null,"000",null,"140",{"$f":"[2]!F140_150EndFundBal","v":{"v":0,"d":"0 "}},null,{"$f":"IF(Q48=\"\",P48,Q48)","v":{"v":0,"d":"0 "}},{"$nulls":7},{"$f":"'School listing'!F53","v":0},{"$f":"IF(OR(SUMPRODUCT(--(E48=$O$1:$O$542))>0,E48=0),0,1)","v":0}]
["001.000.0000.3110.000","STATE EQUALIZATION ASSIS",{"v":-328994.14,"d":"-($328,994.14)"},null,"001",null,"001","000","0000","3110","000",null,"000",null,"141",{"$nulls":10},{"$f":"'School listing'!F54","v":0},{"$f":"IF(OR(SUMPRODUCT(--(E49=$O$1:$O$542))>0,E49=0),0,1)","v":0}]
["001.000.0000.3120.000","ADDITIONAL STATE AID",{"v":-34299.25,"d":"-($34,299.25)"},null,"001",null,"001","000","0000","3120","000",null,"000",null,"142",{"$nulls":10},{"$f":"'School listing'!F55","v":0},{"$f":"IF(OR(SUMPRODUCT(--(E50=$O$1:$O$542))>0,E50=0),0,1)","v":0}]
["001.000.0000.3125.000","Assistance for Education",{"v":-2691.3,"d":"-($2,691.30)"},null,"001",null,"001","000","0000","3125","000",null,"000",null,"143",{"$nulls":10},{"$f":"'School listing'!F56","v":0},{"$f":"IF(OR(SUMPRODUCT(--(E51=$O$1:$O$542))>0,E51=0),0,1)","v":0}]
["001.000.0000.4100.000","FEDERAL UNRESTRICTED",{"v":0,"d":"$0.00"},null,"001",null,"001","000","0000","4100","000",null,"000",null,"144",{"$nulls":10},{"$f":"'School listing'!F57","v":0},{"$f":"IF(OR(SUMPRODUCT(--(E52=$O$1:$O$542))>0,E52=0),0,1)","v":0}]
["001.000.0000.4500.000","RESTRICTED GRANT FEDERAL",{"v":0,"d":"$0.00"},null,"001",null,"001","000","0000","4500","000",null,"000",null,"145",{"$nulls":10},{"$f":"'School listing'!F58","v":0},{"$f":"IF(OR(SUMPRODUCT(--(E53=$O$1:$O$542))>0,E53=0),0,1)","v":0}]
["001.000.0000.5200.000","Interfund Transfers In ",{"v":0,"d":"$0.00"},null,"001",null,"001","000","0000","5200","000",null,"000",null,"146",{"$nulls":10},{"$f":"'School listing'!F59","v":0},{"$f":"IF(OR(SUMPRODUCT(--(E54=$O$1:$O$542))>0,E54=0),0,1)","v":0}]
["001.000.0000.5700.000","Undesignated",{"v":0,"d":"$0.00"},null,"001",null,"001","000","0000","5700","000",null,"000",null,"147",{"$nulls":10},{"$f":"'School listing'!F60","v":0},{"$f":"IF(OR(SUMPRODUCT(--(E55=$O$1:$O$542))>0,E55=0),0,1)","v":0}]
["001.000.0000.6221.000","Social Security - OASDI",{"v":0,"d":"$0.00"},null,"001",null,"001","000","0000","6221","000",null,"000",null,"148",{"$nulls":10},{"$f":"'School listing'!F61","v":0},{"$f":"IF(OR(SUMPRODUCT(--(E56=$O$1:$O$542))>0,E56=0),0,1)","v":0}]
["001.000.0000.6222.000","Medicare - Hospital Insurance ",{"v":0,"d":"$0.00"},null,"001",null,"001","000","0000","6222","000",null,"000",null,"149",{"$nulls":10},{"$f":"'School listing'!F62","v":0},{"$f":"IF(OR(SUMPRODUCT(--(E57=$O$1:$O$542))>0,E57=0),0,1)","v":0}]
["001.000.0000.6231.000","State Retirement ",{"v":0,"d":"$0.00"},null,"001",null,"001","000","0000","6231","000",null,"000",null,"150",{"$nulls":10},{"$f":"'School listing'!F63","v":0},{"$f":"IF(OR(SUMPRODUCT(--(E58=$O$1:$O$542))>0,E58=0),0,1)","v":0}]
["001.000.0000.6232.000","Long Term Disability",{"v":0,"d":"$0.00"},null,"001",null,"001","000","0000","6232","000",null,"000",null,"151",{"$nulls":10},{"$f":"'School listing'!F64","v":0},{"$f":"IF(OR(SUMPRODUCT(--(E59=$O$1:$O$542))>0,E59=0),0,1)","v":0}]
["001.000.0000.6999.100","REVOLVING FUND",{"v":0,"d":"$0.00"},null,"001",null,"001","000","0000","6999","100",null,"100",null,"152",{"$nulls":10},{"$f":"'School listing'!F65","v":0},{"$f":"IF(OR(SUMPRODUCT(--(E60=$O$1:$O$542))>0,E60=0),0,1)","v":0}]
["001.000.5000.6820.100","Judgments Against the Di",{"v":0,"d":"$0.00"},null,"001",null,"001","000","5000","6820","100",null,"100",null,"153",{"$nulls":10},{"$f":"'School listing'!F66","v":0},{"$f":"IF(OR(SUMPRODUCT(--(E61=$O$1:$O$542))>0,E61=0),0,1)","v":0}]
["001.100.1000.0103.100","Cash on Deposit with County Treasurer ",{"v":0,"d":"$0.00"},null,"001",null,"001","100","1000","0103","100",null,"100",null,"154",{"$nulls":10},{"$f":"'School listing'!F67","v":0},{"$f":"IF(OR(SUMPRODUCT(--(E62=$O$1:$O$542))>0,E62=0),0,1)","v":0}]
["001.100.1000.6100.100","Undesignated",{"v":0,"d":"$0.00"},null,"001",null,"001","100","1000","6100","100",null,"100",null,"155",{"$nulls":10},{"$f":"'School listing'!F68","v":0},{"$f":"IF(OR(SUMPRODUCT(--(E63=$O$1:$O$542))>0,E63=0),0,1)","v":0}]
["001.100.1000.6111.100","SALARIES - CERTIFIED",{"v":0,"d":"$0.00"},null,"001",null,"001","100","1000","6111","100",null,"100",null,"156",{"$nulls":10},{"$f":"'School listing'!F69","v":0},{"$f":"IF(OR(SUMPRODUCT(--(E64=$O$1:$O$542))>0,E64=0),0,1)","v":0}]
["001.100.1000.6112.100","Teachers",{"v":58630.65,"d":"$58,630.65"},null,"001",null,"001","100","1000","6112","100",null,"100",null,"157",{"$nulls":10},{"$f":"'School listing'!F70","v":0},{"$f":"IF(OR(SUMPRODUCT(--(E65=$O$1:$O$542))>0,E65=0),0,1)","v":0}]
["001.100.1000.6113.100","Substitute",{"v":1700,"d":"$1,700.00"},null,"001",null,"001","100","1000","6113","100",null,"100",null,"158",{"$nulls":10},{"$f":"'School listing'!F71","v":0},{"$f":"IF(OR(SUMPRODUCT(--(E66=$O$1:$O$542))>0,E66=0),0,1)","v":0}]
["001.100.1000.6114.100","Title II - return",{"v":0,"d":"$0.00"},null,{"$f":"IF(AND(F67<>\"\",F67=G67),\"ERROR\",IF(AND(F67<>\"\",F67<>G67),F67,G67))","v":"001"},null,"001","100","1000","6114","100",null,{"$f":"IF(L67<>\"\",L67,K67)","v":"100"},null,"159",{"$nulls":10},{"$f":"'School listing'!F72","v":0},{"$f":"IF(OR(SUMPRODUCT(--(E67=$O$1:$O$542))>0,E67=0),0,1)","v":0}]
["001.100.1000.6150.100","SALARIES - CLASSIFIED",{"v":500,"d":"$500.00"},null,"001",null,"001","100","1000","6150","100",null,"100",null,"160",{"$f":"[2]!F160EndFundBal","v":{"v":0,"d":"0 "}},null,{"$f":"IF(Q68=\"\",P68,Q68)","v":{"v":0,"d":"0 "}},{"$nulls":7},{"$f":"'School listing'!F73","v":0},{"$f":"IF(OR(SUMPRODUCT(--(E68=$O$1:$O$542))>0,E68=0),0,1)","v":0}]
["001.100.1000.6200.100","EMPLOYEE BENEFITS",{"v":0,"d":"$0.00"},null,"001",null,"001","100","1000","6200","100",null,"100",null,"161",{"$nulls":10},{"$f":"'School listing'!F74","v":0},{"$f":"IF(OR(SUMPRODUCT(--(E69=$O$1:$O$542))>0,E69=0),0,1)","v":0}]
["001.100.1000.6210.100","INSURANCE",{"v":0,"d":"$0.00"},null,"001",null,"001","100","1000","6210","100",null,"100",null,"162",{"$nulls":10},{"$f":"'School listing'!F75","v":0},{"$f":"IF(OR(SUMPRODUCT(--(E70=$O$1:$O$542))>0,E70=0),0,1)","v":0}]
["001.100.1000.6220.100","OASI / MEDICARE",{"v":0,"d":"$0.00"},null,"001",null,"001","100","1000","6220","100",null,"100",null,"163",{"$nulls":10},{"$f":"'School listing'!F76","v":0},{"$f":"IF(OR(SUMPRODUCT(--(E71=$O$1:$O$542))>0,E71=0),0,1)","v":0}]
["001.100.1000.6221.100","OASI - SOCIAL SECURITY",{"v":8112.92,"d":"$8,112.92"},null,"001",null,"001","100","1000","6221","100",null,"100",null,"164",{"$nulls":10},{"$f":"'School listing'!F77","v":0},{"$f":"IF(OR(SUMPRODUCT(--(E72=$O$1:$O$542))>0,E72=0),0,1)","v":0}]
["001.100.1000.6222.100","OASI - MEDICARE",{"v":1897.4,"d":"$1,897.40"},null,"001",null,"001","100","1000","6222","100",null,"100",null,"165",{"$nulls":10},{"$f":"'School listing'!F78","v":0},{"$f":"IF(OR(SUMPRODUCT(--(E73=$O$1:$O$542))>0,E73=0),0,1)","v":0}]
["001.100.1000.6230.100","STATE RETIREMENT CONTRIB",{"v":0,"d":"$0.00"},null,"001",null,"001","100","1000","6230","100",null,"100",null,"166",{"$nulls":10},{"$f":"'School listing'!F79","v":0},{"$f":"IF(OR(SUMPRODUCT(--(E74=$O$1:$O$542))>0,E74=0),0,1)","v":0}]
["001.100.1000.6231.100","State Retirement ",{"v":15476.74,"d":"$15,476.74"},null,"001",null,"001","100","1000","6231","100",null,"100",null,"167",{"$nulls":10},{"$f":"'School listing'!F80","v":0},{"$f":"IF(OR(SUMPRODUCT(--(E75=$O$1:$O$542))>0,E75=0),0,1)","v":0}]
["001.100.1000.6232.100","Long Term Disability",{"v":180.18,"d":"$180.18"},null,"001",null,"001","100","1000","6232","100",null,"100",null,"168",{"$nulls":10},{"$f":"'School listing'!F81","v":0},{"$f":"IF(OR(SUMPRODUCT(--(E76=$O$1:$O$542))>0,E76=0),0,1)","v":0}]
["001.100.1000.6260.100","WORKER'S COMPENSATION",{"v":1053,"d":"$1,053.00"},null,"001",null,"001","100","1000","6260","100",null,"100",null,"169",{"$nulls":10},{"$f":"'School listing'!F82","v":0},{"$f":"IF(OR(SUMPRODUCT(--(E77=$O$1:$O$542))>0,E77=0),0,1)","v":0}]
["001.100.1000.6290.100","Undesignated",{"v":0,"d":"$0.00"},null,"001",null,"001","100","1000","6290","100",null,"100",null,"170",{"$f":"[2]!F170_180EndFundBal","v":{"v":0,"d":"0 "}},null,{"$f":"IF(Q78=\"\",P78,Q78)","v":{"v":0,"d":"0 "}},{"$nulls":7},{"$f":"'School listing'!F83","v":0},{"$f":"IF(OR(SUMPRODUCT(--(E78=$O$1:$O$542))>0,E78=0),0,1)","v":0}]
["001.100.1000.6300.100","Teacher Contract",{"v":145,"d":"$145.00"},null,"001",null,"001","100","1000","6300","100",null,"100",null,"171",{"$nulls":10},{"$f":"'School listing'!F84","v":0},{"$f":"IF(OR(SUMPRODUCT(--(E79=$O$1:$O$542))>0,E79=0),0,1)","v":0}]
["001.100.1000.6310.100","Official/Administrative ",{"v":0,"d":"$0.00"},null,"001",null,"001","100","1000","6310","100",null,"100",null,"172",{"$nulls":10},{"$f":"'School listing'!F85","v":0},{"$f":"IF(OR(SUMPRODUCT(--(E80=$O$1:$O$542))>0,E80=0),0,1)","v":0}]
["001.100.1000.6320.100","Professional - Educational Services",{"v":0,"d":"$0.00"},null,"001",null,"001","100","1000","6320","100",null,"100",null,"173",{"$nulls":10},{"$f":"'School listing'!F86","v":0},{"$f":"IF(OR(SUMPRODUCT(--(E81=$O$1:$O$542))>0,E81=0),0,1)","v":0}]
["001.100.1000.6330.100","Other Professional Services",{"v":171.64,"d":"$171.64"},null,"001",null,"001","100","1000","6330","100",null,"100",null,"174",{"$nulls":10},{"$f":"'School listing'!F87","v":0},{"$f":"IF(OR(SUMPRODUCT(--(E82=$O$1:$O$542))>0,E82=0),0,1)","v":0}]
["001.100.1000.6432.100","Head Phones",{"v":0,"d":"$0.00"},null,"001",null,"001","100","1000","6432","100",null,"100",null,"175",{"$nulls":10},{"$f":"'School listing'!F88","v":0},{"$f":"IF(OR(SUMPRODUCT(--(E83=$O$1:$O$542))>0,E83=0),0,1)","v":0}]
["001.100.1000.6530.100","Communications ",{"v":0,"d":"$0.00"},null,"001",null,"001","100","1000","6530","100",null,"100",null,"176",{"$nulls":10},{"$f":"'School listing'!F89","v":0},{"$f":"IF(OR(SUMPRODUCT(--(E84=$O$1:$O$542))>0,E84=0),0,1)","v":0}]
["001.100.1000.6531.100","Telephone",{"v":0,"d":"$0.00"},null,"001",null,"001","100","1000","6531","100",null,"100",null,"177",{"$nulls":10},{"$f":"'School listing'!F90","v":0},{"$f":"IF(OR(SUMPRODUCT(--(E85=$O$1:$O$542))>0,E85=0),0,1)","v":0}]
["001.100.1000.6560.100","TUITION",{"v":0,"d":"$0.00"},null,"001",null,"001","100","1000","6560","100",null,"100",null,"178",{"$nulls":10},{"$f":"'School listing'!F91","v":0},{"$f":"IF(OR(SUMPRODUCT(--(E86=$O$1:$O$542))>0,E86=0),0,1)","v":0}]
["001.100.1000.6561.100","Tuition",{"v":153530,"d":"$153,530.00"},null,"001",null,"001","100","1000","6561","100",null,"100",null,"179",{"$nulls":10},{"$f":"'School listing'!F92","v":0},{"$f":"IF(OR(SUMPRODUCT(--(E87=$O$1:$O$542))>0,E87=0),0,1)","v":0}]
["001.100.1000.6600.100","SUPPLIES & MATERIALS",{"v":119.7,"d":"$119.70"},null,"001",null,"001","100","1000","6600","100",null,"100",null,"180",{"$nulls":10},{"$f":"'School listing'!F93","v":0},{"$f":"IF(OR(SUMPRODUCT(--(E88=$O$1:$O$542))>0,E88=0),0,1)","v":0}]
["001.100.1000.6610.100","General Supplies ",{"v":532.38,"d":"$532.38"},null,"001",null,"001","100","1000","6610","100",null,"100",null,"181",{"$nulls":10},{"$f":"'School listing'!F94","v":0},{"$f":"IF(OR(SUMPRODUCT(--(E89=$O$1:$O$542))>0,E89=0),0,1)","v":0}]
["001.100.1000.6611.100","DISTRICT SUPPLIES",{"v":218.14,"d":"$218.14"},null,"001",null,"001","100","1000","6611","100",null,"100",null,"182",{"$nulls":10},{"$f":"'School listing'!F95","v":0},{"$f":"IF(OR(SUMPRODUCT(--(E90=$O$1:$O$542))>0,E90=0),0,1)","v":0}]
["001.100.1000.6640.100","Weekly Studies",{"v":0,"d":"$0.00"},null,"001",null,"001","100","1000","6640","100",null,"100",null,"183",{"$nulls":10},{"$f":"'School listing'!F96","v":0},{"$f":"IF(OR(SUMPRODUCT(--(E91=$O$1:$O$542))>0,E91=0),0,1)","v":0}]
["001.100.1000.6642.100","Excel Math Editions",{"v":0,"d":"$0.00"},null,"001",null,"001","100","1000","6642","100",null,"100",null,"184",{"$nulls":10},{"$f":"'School listing'!F97","v":0},{"$f":"IF(OR(SUMPRODUCT(--(E92=$O$1:$O$542))>0,E92=0),0,1)","v":0}]
["001.100.1000.6643.100","Instruction Supplies",{"v":339.52,"d":"$339.52"},null,"001",null,"001","100","1000","6643","100",null,"100",null,"185",{"$nulls":10},{"$f":"'School listing'!F98","v":0},{"$f":"IF(OR(SUMPRODUCT(--(E93=$O$1:$O$542))>0,E93=0),0,1)","v":0}]
["001.100.1000.6650.100","Undesignated",{"v":0,"d":"$0.00"},null,"001",null,"001","100","1000","6650","100",null,"100",null,"186",{"$nulls":10},{"$f":"'School listing'!F99","v":0},{"$f":"IF(OR(SUMPRODUCT(--(E94=$O$1:$O$542))>0,E94=0),0,1)","v":0}]
["001.100.1000.6737.100","Charging Cord - Kindle",{"v":0,"d":"$0.00"},null,"001",null,"001","100","1000","6737","100",null,"100",null,"187",{"$nulls":11},{"$f":"IF(OR(SUMPRODUCT(--(E95=$O$1:$O$542))>0,E95=0),0,1)","v":0}]
["001.100.1000.6910.100","Indirect Cost",{"v":753.27,"d":"$753.27"},null,"001",null,"001","100","1000","6910","100",null,"100",null,"188",{"$nulls":11},{"$f":"IF(OR(SUMPRODUCT(--(E96=$O$1:$O$542))>0,E96=0),0,1)","v":0}]
["001.100.1000.6960.100","Title II - return",{"v":0,"d":"$0.00"},null,"001",null,"001","100","1000","6960","100",null,"100",null,"189",{"$nulls":11},{"$f":"IF(OR(SUMPRODUCT(--(E97=$O$1:$O$542))>0,E97=0),0,1)","v":0}]
["001.100.1900.0103.100","Cash on Deposit with County Treasurer ",{"v":0,"d":"$0.00"},null,"001",null,"001","100","1900","0103","100",null,"100",null,"190",{"$f":"[2]!F190EndFundBal","v":{"v":0,"d":"0 "}},null,{"$f":"IF(Q98=\"\",P98,Q98)","v":{"v":0,"d":"0 "}},{"$nulls":8},{"$f":"IF(OR(SUMPRODUCT(--(E98=$O$1:$O$542))>0,E98=0),0,1)","v":0}]
["001.100.1900.6150.100","Aide",{"v":500,"d":"$500.00"},null,"001",null,"001","100","1900","6150","100",null,"100",null,"191",{"$nulls":11},{"$f":"IF(OR(SUMPRODUCT(--(E99=$O$1:$O$542))>0,E99=0),0,1)","v":0}]
["001.100.1900.6221.100","Social Security - OASDI",{"v":31,"d":"$31.00"},null,"001",null,"001","100","1900","6221","100",null,"100",null,"192",{"$nulls":11},{"$f":"IF(OR(SUMPRODUCT(--(E100=$O$1:$O$542))>0,E100=0),0,1)","v":0}]
["001.100.1900.6222.100","Medicare - Hospital Insurance ",{"v":7.25,"d":"$7.25"},null,"001",null,"001","100","1900","6222","100",null,"100",null,"193",{"$nulls":11},{"$f":"IF(OR(SUMPRODUCT(--(E101=$O$1:$O$542))>0,E101=0),0,1)","v":0}]
["001.100.1900.6231.100","State Retirement ",{"v":0,"d":"$0.00"},null,"001",null,"001","100","1900","6231","100",null,"100",null,"194",{"$nulls":11},{"$f":"IF(OR(SUMPRODUCT(--(E102=$O$1:$O$542))>0,E102=0),0,1)","v":0}]
["001.100.1900.6232.100","Long-Term Disability",{"v":0,"d":"$0.00"},null,"001",null,"001","100","1900","6232","100",null,"100",null,"195",{"$nulls":11},{"$f":"IF(OR(SUMPRODUCT(--(E103=$O$1:$O$542))>0,E103=0),0,1)","v":0}]
["001.100.2100.0103.100","Cash on Deposit with County Treasurer ",{"v":0,"d":"$0.00"},null,"001",null,"001","100","2100","0103","100",null,"100",null,"196",{"$nulls":11},{"$f":"IF(OR(SUMPRODUCT(--(E104=$O$1:$O$542))>0,E104=0),0,1)","v":0}]
["001.100.2100.6300.100","Emergency Medical Care",{"v":0,"d":"$0.00"},null,"001",null,"001","100","2100","6300","100",null,"100",null,"197",{"$nulls":11},{"$f":"IF(OR(SUMPRODUCT(--(E105=$O$1:$O$542))>0,E105=0),0,1)","v":0}]
["001.100.2100.6530.000","Communications ",{"v":0,"d":"$0.00"},null,"001",null,"001","100","2100","6530","000",null,"000",null,"198",{"$nulls":11},{"$f":"IF(OR(SUMPRODUCT(--(E106=$O$1:$O$542))>0,E106=0),0,1)","v":0}]
["001.100.2100.6560.100","Tuition",{"v":0,"d":"$0.00"},null,"001",null,"001","100","2100","6560","100",null,"100",null,"199",{"$nulls":11},{"$f":"IF(OR(SUMPRODUCT(--(E107=$O$1:$O$542))>0,E107=0),0,1)","v":0}]
["001.100.2100.6600.100","SUPPLIES",{"v":0,"d":"$0.00"},null,"001",null,"001","100","2100","6600","100",null,"100",null,"200",{"$f":"[2]!F200EndFundBal","v":{"v":0,"d":"0 "}},null,{"$f":"IF(Q108=\"\",P108,Q108)","v":{"v":0,"d":"0 "}},{"$nulls":8},{"$f":"IF(OR(SUMPRODUCT(--(E108=$O$1:$O$542))>0,E108=0),0,1)","v":0}]
["001.100.2100.6800.100","Other Objects",{"v":0,"d":"$0.00"},null,"001",null,"001","100","2100","6800","100",null,"100",null,"201",{"$nulls":11},{"$f":"IF(OR(SUMPRODUCT(--(E109=$O$1:$O$542))>0,E109=0),0,1)","v":0}]
["001.100.2200.0103.100","Cash on Deposit with County Treasurer ",{"v":0,"d":"$0.00"},null,"001",null,"001","100","2200","0103","100",null,"100",null,"202",{"$nulls":11},{"$f":"IF(OR(SUMPRODUCT(--(E110=$O$1:$O$542))>0,E110=0),0,1)","v":0}]
["001.100.2200.1980.100","Refund of Prior Year's E",{"v":0,"d":"$0.00"},null,"001",null,"001","100","2200","1980","100",null,"100",null,"203",{"$nulls":11},{"$f":"IF(OR(SUMPRODUCT(--(E111=$O$1:$O$542))>0,E111=0),0,1)","v":0}]
["001.100.2200.6111.100","SALARIES - CERTIFIED",{"v":0,"d":"$0.00"},null,"001",null,"001","100","2200","6111","100",null,"100",null,"204",{"$nulls":11},{"$f":"IF(OR(SUMPRODUCT(--(E112=$O$1:$O$542))>0,E112=0),0,1)","v":0}]
["001.100.2200.6150.100","Classified Salaries ",{"v":0,"d":"$0.00"},null,"001",null,"001","100","2200","6150","100",null,"100",null,"205",{"$nulls":11},{"$f":"IF(OR(SUMPRODUCT(--(E113=$O$1:$O$542))>0,E113=0),0,1)","v":0}]
["001.100.2200.6300.100","Purchased Professional a",{"v":0,"d":"$0.00"},null,"001",null,"001","100","2200","6300","100",null,"100",null,"206",{"$nulls":11},{"$f":"IF(OR(SUMPRODUCT(--(E114=$O$1:$O$542))>0,E114=0),0,1)","v":0}]
["001.100.2200.6310.100","Instructional Training",{"v":0,"d":"$0.00"},null,"001",null,"001","100","2200","6310","100",null,"100",null,"207",{"$nulls":11},{"$f":"IF(OR(SUMPRODUCT(--(E115=$O$1:$O$542))>0,E115=0),0,1)","v":0}]
["001.100.2200.6320.100","Professional - Educational Services",{"v":0,"d":"$0.00"},null,"001",null,"001","100","2200","6320","100",null,"100",null,"208",{"$nulls":11},{"$f":"IF(OR(SUMPRODUCT(--(E116=$O$1:$O$542))>0,E116=0),0,1)","v":0}]
["001.100.2200.6330.100","Other Professional Services ",{"v":0,"d":"$0.00"},null,"001",null,"001","100","2200","6330","100",null,"100",null,"209",{"$nulls":11},{"$f":"IF(OR(SUMPRODUCT(--(E117=$O$1:$O$542))>0,E117=0),0,1)","v":0}]
["001.100.2200.6430.100","Copier Maintenance",{"v":0,"d":"$0.00"},null,"001",null,"001","100","2200","6430","100",null,"100",null,"210",{"$f":"[2]!F210EndFundBal","v":{"v":0,"d":"0 "}},null,{"$f":"IF(Q118=\"\",P118,Q118)","v":{"v":0,"d":"0 "}},{"$nulls":8},{"$f":"IF(OR(SUMPRODUCT(--(E118=$O$1:$O$542))>0,E118=0),0,1)","v":0}]
["001.100.2200.6600.100","Prof. Services - Domain Web",{"v":0,"d":"$0.00"},null,"001",null,"001","100","2200","6600","100",null,"100",null,"211",{"$nulls":11},{"$f":"IF(OR(SUMPRODUCT(--(E119=$O$1:$O$542))>0,E119=0),0,1)","v":0}]
["001.100.2200.6610.100","GENERAL SUPPLIES",{"v":0,"d":"$0.00"},null,"001",null,"001","100","2200","6610","100",null,"100",null,"212",{"$nulls":11},{"$f":"IF(OR(SUMPRODUCT(--(E120=$O$1:$O$542))>0,E120=0),0,1)","v":0}]
["001.100.2210.6320.100","Professional - Educational Services",{"v":0,"d":"$0.00"},null,"001",null,"001","100","2210","6320","100",null,"100",null,"213",{"$nulls":11},{"$f":"IF(OR(SUMPRODUCT(--(E121=$O$1:$O$542))>0,E121=0),0,1)","v":0}]
["001.100.2213.0103.100","Cash on Deposit with County Treasurer ",{"v":0,"d":"$0.00"},null,"001",null,"001","100","2213","0103","100",null,"100",null,"214",{"$nulls":11},{"$f":"IF(OR(SUMPRODUCT(--(E122=$O$1:$O$542))>0,E122=0),0,1)","v":0}]
["001.100.2213.6360.100","Employee Training",{"v":0,"d":"$0.00"},null,"001",null,"001","100","2213","6360","100",null,"100",null,"215",{"$nulls":11},{"$f":"IF(OR(SUMPRODUCT(--(E123=$O$1:$O$542))>0,E123=0),0,1)","v":0}]
["001.100.2300.0103.100","Cash on Deposit with County Treasurer ",{"v":0,"d":"$0.00"},null,"001",null,"001","100","2300","0103","100",null,"100",null,"216",{"$nulls":11},{"$f":"IF(OR(SUMPRODUCT(--(E124=$O$1:$O$542))>0,E124=0),0,1)","v":0}]
["001.100.2300.6111.100","Administrators",{"v":0,"d":"$0.00"},null,"001",null,"001","100","2300","6111","100",null,"100",null,"217",{"$nulls":11},{"$f":"IF(OR(SUMPRODUCT(--(E125=$O$1:$O$542))>0,E125=0),0,1)","v":0}]
["001.100.2300.6200.100","Undesignated",{"v":0,"d":"$0.00"},null,"001",null,"001","100","2300","6200","100",null,"100",null,"218",{"$nulls":11},{"$f":"IF(OR(SUMPRODUCT(--(E126=$O$1:$O$542))>0,E126=0),0,1)","v":0}]
["001.100.2300.6231.100","Undesignated",{"v":0,"d":"$0.00"},null,"001",null,"001","100","2300","6231","100",null,"100",null,"219",{"$nulls":11},{"$f":"IF(OR(SUMPRODUCT(--(E127=$O$1:$O$542))>0,E127=0),0,1)","v":0}]
["001.100.2300.6300.100","Undesignated",{"v":0,"d":"$0.00"},null,"001",null,"001","100","2300","6300","100",null,"100",null,"220",{"$f":"[2]!F220EndFundBal","v":{"v":-8331,"d":"(8,331)"}},null,{"$f":"IF(Q128=\"\",P128,Q128)","v":{"v":-8331,"d":"(8,331)"}},{"$nulls":8},{"$f":"IF(OR(SUMPRODUCT(--(E128=$O$1:$O$542))>0,E128=0),0,1)","v":0}]
["001.100.2300.6310.100","Official/Admin. Services",{"v":3622,"d":"$3,622.00"},null,"001",null,"001","100","2300","6310","100",null,"100",null,"221",{"$nulls":11},{"$f":"IF(OR(SUMPRODUCT(--(E129=$O$1:$O$542))>0,E129=0),0,1)","v":0}]
["001.100.2300.6350.100","Audit Services",{"v":0,"d":"$0.00"},null,"001",null,"001","100","2300","6350","100",null,"100",null,"222",{"$nulls":11},{"$f":"IF(OR(SUMPRODUCT(--(E130=$O$1:$O$542))>0,E130=0),0,1)","v":0}]
["001.100.2300.6600.100","Supplies",{"v":0,"d":"$0.00"},null,{"$f":"IF(AND(F131<>\"\",F131=G131),\"ERROR\",IF(AND(F131<>\"\",F131<>G131),F131,G131))","v":"001"},null,"001","100","2300","6600","100",null,{"$f":"IF(L131<>\"\",L131,K131)","v":"100"},null,"223",{"$nulls":11},{"$f":"IF(OR(SUMPRODUCT(--(E131=$O$1:$O$542))>0,E131=0),0,1)","v":0}]
["001.100.2400.0103.100","Cash on Deposit with County Treasurer ",{"v":5483.16,"d":"$5,483.16"},null,"001",null,"001","100","2400","0103","100",null,"100",null,"224",{"$nulls":11},{"$f":"IF(OR(SUMPRODUCT(--(E132=$O$1:$O$542))>0,E132=0),0,1)","v":0}]
["001.100.2400.1980.100","Refund of Prior Year's Expenditures",{"v":0,"d":"$0.00"},null,"001",null,"001","100","2400","1980","100",null,"100",null,"225",{"$nulls":11},{"$f":"IF(OR(SUMPRODUCT(--(E133=$O$1:$O$542))>0,E133=0),0,1)","v":0}]
["001.100.2400.6111.100","Administrators",{"v":10000,"d":"$10,000.00"},null,"001",null,"001","100","2400","6111","100",null,"100",null,"226",{"$nulls":11},{"$f":"IF(OR(SUMPRODUCT(--(E134=$O$1:$O$542))>0,E134=0),0,1)","v":0}]
["001.100.2400.6150.100","Classified Salaries ",{"v":21756.52,"d":"$21,756.52"},null,"001",null,"001","100","2400","6150","100",null,"100",null,"227",{"$nulls":11},{"$f":"IF(OR(SUMPRODUCT(--(E135=$O$1:$O$542))>0,E135=0),0,1)","v":0}]
["001.100.2400.6200.100","Personal Services - Employee Benefi",{"v":0,"d":"$0.00"},null,"001",null,"001","100","2400","6200","100",null,"100",null,"228",{"$nulls":11},{"$f":"IF(OR(SUMPRODUCT(--(E136=$O$1:$O$542))>0,E136=0),0,1)","v":0}]
["001.100.2400.6210.100","Employee Insurance",{"v":0,"d":"$0.00"},null,"001",null,"001","100","2400","6210","100",null,"100",null,"229",{"$nulls":11},{"$f":"IF(OR(SUMPRODUCT(--(E137=$O$1:$O$542))>0,E137=0),0,1)","v":0}]
["001.100.2400.6221.100","Social Security - OASDI",{"v":1968.99,"d":"$1,968.99"},null,"001",null,"001","100","2400","6221","100",null,"100",null,"230",{"$f":"[2]!F230EndFundBal","v":{"v":0,"d":"0 "}},null,{"$f":"IF(Q138=\"\",P138,Q138)","v":{"v":0,"d":"0 "}},{"$nulls":8},{"$f":"IF(OR(SUMPRODUCT(--(E138=$O$1:$O$542))>0,E138=0),0,1)","v":0}]
["001.100.2400.6222.100","Medicare - Hospital Insurance ",{"v":460.49,"d":"$460.49"},null,"001",null,"001","100","2400","6222","100",null,"100",null,"231",{"$nulls":11},{"$f":"IF(OR(SUMPRODUCT(--(E139=$O$1:$O$542))>0,E139=0),0,1)","v":0}]
["001.100.2400.6231.100","State Retirement ",{"v":3820.27,"d":"$3,820.27"},null,"001",null,"001","100","2400","6231","100",null,"100",null,"232",{"$nulls":11},{"$f":"IF(OR(SUMPRODUCT(--(E140=$O$1:$O$542))>0,E140=0),0,1)","v":0}]
["001.100.2400.6232.100","Long Term Disability",{"v":44.52,"d":"$44.52"},null,"001",null,"001","100","2400","6232","100",null,"100",null,"233",{"$nulls":11},{"$f":"IF(OR(SUMPRODUCT(--(E141=$O$1:$O$542))>0,E141=0),0,1)","v":0}]
["001.100.2400.6260.100","Worker's Compensation ",{"v":0,"d":"$0.00"},null,"001",null,"001","100","2400","6260","100",null,"100",null,"234",{"$nulls":11},{"$f":"IF(OR(SUMPRODUCT(--(E142=$O$1:$O$542))>0,E142=0),0,1)","v":0}]
["001.100.2400.6300.000","Purchased Professional and Technical Services",{"v":0,"d":"$0.00"},null,"001",null,"001","100","2400","6300","000",null,"000",null,"235",{"$nulls":11},{"$f":"IF(OR(SUMPRODUCT(--(E143=$O$1:$O$542))>0,E143=0),0,1)","v":0}]
["001.100.2400.6300.100","It Management",{"v":0,"d":"$0.00"},null,"001",null,"001","100","2400","6300","100",null,"100",null,"236",{"$nulls":11},{"$f":"IF(OR(SUMPRODUCT(--(E144=$O$1:$O$542))>0,E144=0),0,1)","v":0}]
["001.100.2400.6310.100","Official/Administrative Services ",{"v":100,"d":"$100.00"},null,"001",null,"001","100","2400","6310","100",null,"100",null,"237",{"$nulls":11},{"$f":"IF(OR(SUMPRODUCT(--(E145=$O$1:$O$542))>0,E145=0),0,1)","v":0}]
["001.100.2400.6330.100","Other Professional Servi",{"v":0,"d":"$0.00"},null,"001",null,"001","100","2400","6330","100",null,"100",null,"238",{"$nulls":11},{"$f":"IF(OR(SUMPRODUCT(--(E146=$O$1:$O$542))>0,E146=0),0,1)","v":0}]
["001.100.2400.6420.100","Cleaning Services",{"v":0,"d":"$0.00"},null,"001",null,"001","100","2400","6420","100",null,"100",null,"239",{"$nulls":11},{"$f":"IF(OR(SUMPRODUCT(--(E147=$O$1:$O$542))>0,E147=0),0,1)","v":0}]
["001.100.2400.6430.100","Repair and Maintenance Services ",{"v":0,"d":"$0.00"},null,"001",null,"001","100","2400","6430","100",null,"100",null,"240",{"$f":"[2]!F240EndFundBal","v":{"v":0,"d":"0 "}},null,{"$f":"IF(Q148=\"\",P148,Q148)","v":{"v":0,"d":"0 "}},{"$nulls":8},{"$f":"IF(OR(SUMPRODUCT(--(E148=$O$1:$O$542))>0,E148=0),0,1)","v":0}]
["001.100.2400.6450.100","Advertising",{"v":0,"d":"$0.00"},null,"001",null,"001","100","2400","6450","100",null,"100",null,"241",{"$nulls":11},{"$f":"IF(OR(SUMPRODUCT(--(E149=$O$1:$O$542))>0,E149=0),0,1)","v":0}]
["001.100.2400.6490.100","Other Purchased Property Services ",{"v":1260.46,"d":"$1,260.46"},null,"001",null,"001","100","2400","6490","100",null,"100",null,"242",{"$nulls":11},{"$f":"IF(OR(SUMPRODUCT(--(E150=$O$1:$O$542))>0,E150=0),0,1)","v":0}]
["001.100.2400.6520.100","Insurance Other than Employee Bene",{"v":17180,"d":"$17,180.00"},null,"001",null,"001","100","2400","6520","100",null,"100",null,"243",{"$nulls":11},{"$f":"IF(OR(SUMPRODUCT(--(E151=$O$1:$O$542))>0,E151=0),0,1)","v":0}]
["001.100.2400.6531.100","UTILITIES & COMMUNICATIO",{"v":5537.29,"d":"$5,537.29"},null,"001",null,"001","100","2400","6531","100",null,"100",null,"244",{"$nulls":11},{"$f":"IF(OR(SUMPRODUCT(--(E152=$O$1:$O$542))>0,E152=0),0,1)","v":0}]
["001.100.2400.6532.100","Other Communications Ser",{"v":385.63,"d":"$385.63"},null,"001",null,"001","100","2400","6532","100",null,"100",null,"245",{"$nulls":11},{"$f":"IF(OR(SUMPRODUCT(--(E153=$O$1:$O$542))>0,E153=0),0,1)","v":0}]
["001.100.2400.6540.100","Advertising ",{"v":0,"d":"$0.00"},null,"001",null,"001","100","2400","6540","100",null,"100",null,"246",{"$nulls":11},{"$f":"IF(OR(SUMPRODUCT(--(E154=$O$1:$O$542))>0,E154=0),0,1)","v":0}]
["001.100.2400.6550.100","Printing and Binding ",{"v":0,"d":"$0.00"},null,"001",null,"001","100","2400","6550","100",null,"100",null,"247",{"$nulls":11},{"$f":"IF(OR(SUMPRODUCT(--(E155=$O$1:$O$542))>0,E155=0),0,1)","v":0}]
["001.100.2400.6580.100","Travel",{"v":0,"d":"$0.00"},null,"001",null,"001","100","2400","6580","100",null,"100",null,"248",{"$nulls":11},{"$f":"IF(OR(SUMPRODUCT(--(E156=$O$1:$O$542))>0,E156=0),0,1)","v":0}]
["001.100.2400.6590.100","Miscellaneous Purchased Services ",{"v":0,"d":"$0.00"},null,"001",null,"001","100","2400","6590","100",null,"100",null,"249",{"$nulls":11},{"$f":"IF(OR(SUMPRODUCT(--(E157=$O$1:$O$542))>0,E157=0),0,1)","v":0}]
["001.100.2400.6600.100","Supplies ",{"v":459.36,"d":"$459.36"},null,"001",null,"001","100","2400","6600","100",null,"100",null,"250",{"$f":"[2]!F250EndFundBal","v":{"v":0,"d":"0 "}},null,{"$f":"IF(Q158=\"\",P158,Q158)","v":{"v":0,"d":"0 "}},{"$nulls":8},{"$f":"IF(OR(SUMPRODUCT(--(E158=$O$1:$O$542))>0,E158=0),0,1)","v":0}]
["001.100.2400.6610.100","General Supplies ",{"v":0,"d":"$0.00"},null,"001",null,"001","100","2400","6610","100",null,"100",null,"251",{"$nulls":11},{"$f":"IF(OR(SUMPRODUCT(--(E159=$O$1:$O$542))>0,E159=0),0,1)","v":0}]
["001.100.2400.6622.100","Electricity ",{"v":0,"d":"$0.00"},null,"001",null,"001","100","2400","6622","100",null,"100",null,"252",{"$nulls":11},{"$f":"IF(OR(SUMPRODUCT(--(E160=$O$1:$O$542))>0,E160=0),0,1)","v":0}]
["001.100.2410.6531.100","UTILITIES & COMMUNICATIO",{"v":0,"d":"$0.00"},null,"001",null,"001","100","2410","6531","100",null,"100",null,"253",{"$nulls":11},{"$f":"IF(OR(SUMPRODUCT(--(E161=$O$1:$O$542))>0,E161=0),0,1)","v":0}]
["001.100.2490.6550.100","Retirement Plaque",{"v":72.38,"d":"$72.38"},null,"001",null,"001","100","2490","6550","100",null,"100",null,"254",{"$nulls":11},{"$f":"IF(OR(SUMPRODUCT(--(E162=$O$1:$O$542))>0,E162=0),0,1)","v":0}]
["001.100.2500.0103.100","Cash on Deposit with County Treasurer ",{"v":-5483.16,"d":"-($5,483.16)"},null,"001",null,"001","100","2500","0103","100",null,"100",null,"255",{"$nulls":11},{"$f":"IF(OR(SUMPRODUCT(--(E163=$O$1:$O$542))>0,E163=0),0,1)","v":0}]
["001.100.2500.6110.100","Certified Salaries ",{"v":0,"d":"$0.00"},null,"001",null,"001","100","2500","6110","100",null,"100",null,"256",{"$nulls":11},{"$f":"IF(OR(SUMPRODUCT(--(E164=$O$1:$O$542))>0,E164=0),0,1)","v":0}]
["001.100.2500.6150.100","SALARIES - CLASSIFIED",{"v":7252.04,"d":"$7,252.04"},null,"001",null,"001","100","2500","6150","100",null,"100",null,"257",{"$nulls":11},{"$f":"IF(OR(SUMPRODUCT(--(E165=$O$1:$O$542))>0,E165=0),0,1)","v":0}]
["001.100.2500.6210.100","INSURANCE",{"v":0,"d":"$0.00"},null,"001",null,"001","100","2500","6210","100",null,"100",null,"258",{"$nulls":11},{"$f":"IF(OR(SUMPRODUCT(--(E166=$O$1:$O$542))>0,E166=0),0,1)","v":0}]
["001.100.2500.6220.100","OASI / MEDICARE",{"v":0,"d":"$0.00"},null,"001",null,"001","100","2500","6220","100",null,"100",null,"259",{"$nulls":11},{"$f":"IF(OR(SUMPRODUCT(--(E167=$O$1:$O$542))>0,E167=0),0,1)","v":0}]
["001.100.2500.6221.100","OASI - SOCIAL SECURITY",{"v":449.54,"d":"$449.54"},null,"001",null,"001","100","2500","6221","100",null,"100",null,"260",{"$f":"[2]!F260_270EndFundBal","v":{"v":0,"d":"0 "}},null,{"$f":"IF(Q168=\"\",P168,Q168)","v":{"v":0,"d":"0 "}},{"$nulls":8},{"$f":"IF(OR(SUMPRODUCT(--(E168=$O$1:$O$542))>0,E168=0),0,1)","v":0}]
["001.100.2500.6222.100","Medicare - Hospital Insu",{"v":105.17,"d":"$105.17"},null,"001",null,"001","100","2500","6222","100",null,"100",null,"261",{"$nulls":11},{"$f":"IF(OR(SUMPRODUCT(--(E169=$O$1:$O$542))>0,E169=0),0,1)","v":0}]
["001.100.2500.6230.100","STATE RETIREMENT CONTRIB",{"v":0,"d":"$0.00"},null,"001",null,"001","100","2500","6230","100",null,"100",null,"262",{"$nulls":11},{"$f":"IF(OR(SUMPRODUCT(--(E170=$O$1:$O$542))>0,E170=0),0,1)","v":0}]
["001.100.2500.6231.100","State Retirement ",{"v":872.43,"d":"$872.43"},null,"001",null,"001","100","2500","6231","100",null,"100",null,"263",{"$nulls":11},{"$f":"IF(OR(SUMPRODUCT(--(E171=$O$1:$O$542))>0,E171=0),0,1)","v":0}]
["001.100.2500.6232.100","Long-Term Disability",{"v":10.05,"d":"$10.05"},null,"001",null,"001","100","2500","6232","100",null,"100",null,"264",{"$nulls":11},{"$f":"IF(OR(SUMPRODUCT(--(E172=$O$1:$O$542))>0,E172=0),0,1)","v":0}]
["001.100.2500.6260.100","WORKER'S COMPENSATION",{"v":0,"d":"$0.00"},null,"001",null,"001","100","2500","6260","100",null,"100",null,"265",{"$nulls":11},{"$f":"IF(OR(SUMPRODUCT(--(E173=$O$1:$O$542))>0,E173=0),0,1)","v":0}]
["001.100.2500.6300.000","Professional Services",{"v":0,"d":"$0.00"},null,"001",null,"001","100","2500","6300","000",null,"000",null,"266",{"$nulls":11},{"$f":"IF(OR(SUMPRODUCT(--(E174=$O$1:$O$542))>0,E174=0),0,1)","v":0}]
["001.100.2500.6300.100","Other Prof. Services - IT",{"v":0,"d":"$0.00"},null,"001",null,"001","100","2500","6300","100",null,"100",null,"267",{"$nulls":11},{"$f":"IF(OR(SUMPRODUCT(--(E175=$O$1:$O$542))>0,E175=0),0,1)","v":0}]
["001.100.2500.6340.100","Technical Services-",{"v":1122.5,"d":"$1,122.50"},null,"001",null,"001","100","2500","6340","100",null,"100",null,"268",{"$nulls":11},{"$f":"IF(OR(SUMPRODUCT(--(E176=$O$1:$O$542))>0,E176=0),0,1)","v":0}]
["001.100.2500.6360.000","Employee Training",{"v":0,"d":"$0.00"},null,"001",null,"001","100","2500","6360","000",null,"000",null,"269",{"$nulls":11},{"$f":"IF(OR(SUMPRODUCT(--(E177=$O$1:$O$542))>0,E177=0),0,1)","v":0}]
["001.100.2500.6360.100","Employee Training",{"v":0,"d":"$0.00"},null,"001",null,"001","100","2500","6360","100",null,"100",null,"270",{"$nulls":11},{"$f":"IF(OR(SUMPRODUCT(--(E178=$O$1:$O$542))>0,E178=0),0,1)","v":0}]
["001.100.2500.6430.100","OTHER EXPENDITURES",{"v":0,"d":"$0.00"},null,"001",null,"001","100","2500","6430","100",null,"100",null,"271",{"$nulls":11},{"$f":"IF(OR(SUMPRODUCT(--(E179=$O$1:$O$542))>0,E179=0),0,1)","v":0}]
["001.100.2500.6490.100","Copier Maintenance",{"v":0,"d":"$0.00"},null,"001",null,"001","100","2500","6490","100",null,"100",null,"272",{"$nulls":11},{"$f":"IF(OR(SUMPRODUCT(--(E180=$O$1:$O$542))>0,E180=0),0,1)","v":0}]
["001.100.2500.6540.100","Advertising",{"v":236.14,"d":"$236.14"},null,"001",null,"001","100","2500","6540","100",null,"100",null,"273",{"$nulls":11},{"$f":"IF(OR(SUMPRODUCT(--(E181=$O$1:$O$542))>0,E181=0),0,1)","v":0}]
["001.100.2500.6590.100","OTHER EXPENDITURES",{"v":0,"d":"$0.00"},null,"001",null,"001","100","2500","6590","100",null,"100",null,"274",{"$nulls":11},{"$f":"IF(OR(SUMPRODUCT(--(E182=$O$1:$O$542))>0,E182=0),0,1)","v":0}]
["001.100.2500.6600.100","SUPPLIES & MATERIALS",{"v":0,"d":"$0.00"},null,"001",null,"001","100","2500","6600","100",null,"100",null,"275",{"$nulls":11},{"$f":"IF(OR(SUMPRODUCT(--(E183=$O$1:$O$542))>0,E183=0),0,1)","v":0}]
["001.100.2500.6650.100","Relay License",{"v":0,"d":"$0.00"},null,"001",null,"001","100","2500","6650","100",null,"100",null,"276",{"$nulls":11},{"$f":"IF(OR(SUMPRODUCT(--(E184=$O$1:$O$542))>0,E184=0),0,1)","v":0}]
["001.100.2500.6840.100","INTEREST AND FISCAL CHAR",{"v":0,"d":"$0.00"},null,"001",null,"001","100","2500","6840","100",null,"100",null,"277",{"$nulls":11},{"$f":"IF(OR(SUMPRODUCT(--(E185=$O$1:$O$542))>0,E185=0),0,1)","v":0}]
["001.100.2510.0103.100","Cash on Deposit with County Treasurer ",{"v":0,"d":"$0.00"},null,"001",null,"001","100","2510","0103","100",null,"100",null,"278",{"$nulls":11},{"$f":"IF(OR(SUMPRODUCT(--(E186=$O$1:$O$542))>0,E186=0),0,1)","v":0}]
["001.100.2510.6810.100","Fee",{"v":0,"d":"$0.00"},null,"001",null,"001","100","2510","6810","100",null,"100",null,"279",{"$nulls":11},{"$f":"IF(OR(SUMPRODUCT(--(E187=$O$1:$O$542))>0,E187=0),0,1)","v":0}]
["001.100.2520.6590.100","Miscellaneous Purchased ",{"v":0,"d":"$0.00"},null,"001",null,"001","100","2520","6590","100",null,"100",null,"280",{"$f":"[2]!F280EndFundBal","v":{"v":0,"d":"0 "}},null,{"$f":"IF(Q188=\"\",P188,Q188)","v":{"v":0,"d":"0 "}},{"$nulls":8},{"$f":"IF(OR(SUMPRODUCT(--(E188=$O$1:$O$542))>0,E188=0),0,1)","v":0}]
["001.100.2520.6610.100","router cord",{"v":0,"d":"$0.00"},null,"001",null,"001","100","2520","6610","100",null,"100",null,"281",{"$nulls":11},{"$f":"IF(OR(SUMPRODUCT(--(E189=$O$1:$O$542))>0,E189=0),0,1)","v":0}]
["001.100.2540.6540.100","Advertising ",{"v":0,"d":"$0.00"},null,"001",null,"001","100","2540","6540","100",null,"100",null,"282",{"$nulls":11},{"$f":"IF(OR(SUMPRODUCT(--(E190=$O$1:$O$542))>0,E190=0),0,1)","v":0}]
["001.100.2600.0103.000","Cash on Deposit with County Treasurer ",{"v":0,"d":"$0.00"},null,"001",null,"001","100","2600","0103","000",null,"000",null,"283",{"$nulls":11},{"$f":"IF(OR(SUMPRODUCT(--(E191=$O$1:$O$542))>0,E191=0),0,1)","v":0}]
["001.100.2600.0103.100","Cash on Deposit with County Treasurer ",{"v":0,"d":"$0.00"},null,"001",null,"001","100","2600","0103","100",null,"100",null,"284",{"$nulls":11},{"$f":"IF(OR(SUMPRODUCT(--(E192=$O$1:$O$542))>0,E192=0),0,1)","v":0}]
["001.100.2600.6150.100","SALARIES - CLASSIFIED",{"v":29014.57,"d":"$29,014.57"},null,"001",null,"001","100","2600","6150","100",null,"100",null,"285",{"$nulls":11},{"$f":"IF(OR(SUMPRODUCT(--(E193=$O$1:$O$542))>0,E193=0),0,1)","v":0}]
["001.100.2600.6200.100","Personal Services - Employee Benefi",{"v":0,"d":"$0.00"},null,"001",null,"001","100","2600","6200","100",null,"100",null,"286",{"$nulls":11},{"$f":"IF(OR(SUMPRODUCT(--(E194=$O$1:$O$542))>0,E194=0),0,1)","v":0}]
["001.100.2600.6210.100","INSURANCE",{"v":0,"d":"$0.00"},null,{"$f":"IF(AND(F195<>\"\",F195=G195),\"ERROR\",IF(AND(F195<>\"\",F195<>G195),F195,G195))","v":"001"},null,"001","100","2600","6210","100",null,{"$f":"IF(L195<>\"\",L195,K195)","v":"100"},null,"287",{"$nulls":11},{"$f":"IF(OR(SUMPRODUCT(--(E195=$O$1:$O$542))>0,E195=0),0,1)","v":0}]
["001.100.2600.6220.100","OASI / MEDICARE",{"v":0,"d":"$0.00"},null,"001",null,"001","100","2600","6220","100",null,"100",null,"288",{"$nulls":11},{"$f":"IF(OR(SUMPRODUCT(--(E196=$O$1:$O$542))>0,E196=0),0,1)","v":0}]
["001.100.2600.6221.100","OASI - SOCIAL SECURITY",{"v":1798.89,"d":"$1,798.89"},null,"001",null,"001","100","2600","6221","100",null,"100",null,"289",{"$nulls":11},{"$f":"IF(OR(SUMPRODUCT(--(E197=$O$1:$O$542))>0,E197=0),0,1)","v":0}]
["001.100.2600.6222.100","OASI - MEDICARE",{"v":420.65,"d":"$420.65"},null,"001",null,"001","100","2600","6222","100",null,"100",null,"290",{"$f":"[2]!F290EndFundBal","v":{"v":0,"d":"0 "}},null,{"$f":"IF(Q198=\"\",P198,Q198)","v":{"v":0,"d":"0 "}},{"$nulls":8},{"$f":"IF(OR(SUMPRODUCT(--(E198=$O$1:$O$542))>0,E198=0),0,1)","v":0}]
["001.100.2600.6230.100","STATE RETIREMENT CONTRIB",{"v":0,"d":"$0.00"},null,"001",null,"001","100","2600","6230","100",null,"100",null,"291",{"$nulls":11},{"$f":"IF(OR(SUMPRODUCT(--(E199=$O$1:$O$542))>0,E199=0),0,1)","v":0}]
["001.100.2600.6231.100","State Retirement ",{"v":3490.47,"d":"$3,490.47"},null,"001",null,"001","100","2600","6231","100",null,"100",null,"292",{"$nulls":11},{"$f":"IF(OR(SUMPRODUCT(--(E200=$O$1:$O$542))>0,E200=0),0,1)","v":0}]
["001.100.2600.6232.100","Long Term Disability",{"v":40.64,"d":"$40.64"},null,"001",null,"001","100","2600","6232","100",null,"100",null,"293",{"$nulls":11},{"$f":"IF(OR(SUMPRODUCT(--(E201=$O$1:$O$542))>0,E201=0),0,1)","v":0}]
["001.100.2600.6260.100","WORKER'S COMPENSATION",{"v":0,"d":"$0.00"},null,"001",null,"001","100","2600","6260","100",null,"100",null,"294",{"$nulls":11},{"$f":"IF(OR(SUMPRODUCT(--(E202=$O$1:$O$542))>0,E202=0),0,1)","v":0}]
["001.100.2600.6400.100","Pest Conrtol",{"v":0,"d":"$0.00"},null,"001",null,"001","100","2600","6400","100",null,"100",null,"295",{"$nulls":11},{"$f":"IF(OR(SUMPRODUCT(--(E203=$O$1:$O$542))>0,E203=0),0,1)","v":0}]
["001.100.2600.6410.100","Utilities Services",{"v":0,"d":"$0.00"},null,"001",null,"001","100","2600","6410","100",null,"100",null,"296",{"$nulls":11},{"$f":"IF(OR(SUMPRODUCT(--(E204=$O$1:$O$542))>0,E204=0),0,1)","v":0}]
["001.100.2600.6411.000","Water/Sewage",{"v":0,"d":"$0.00"},null,"001",null,"001","100","2600","6411","000",null,"000",null,"297",{"$nulls":11},{"$f":"IF(OR(SUMPRODUCT(--(E205=$O$1:$O$542))>0,E205=0),0,1)","v":0}]
["001.100.2600.6411.100","Water/Sewage",{"v":3987.57,"d":"$3,987.57"},null,"001",null,"001","100","2600","6411","100",null,"100",null,"298",{"$nulls":11},{"$f":"IF(OR(SUMPRODUCT(--(E206=$O$1:$O$542))>0,E206=0),0,1)","v":0}]
["001.100.2600.6421.100","Disposal Services ",{"v":1523.86,"d":"$1,523.86"},null,"001",null,"001","100","2600","6421","100",null,"100",null,"299",{"$nulls":11},{"$f":"IF(OR(SUMPRODUCT(--(E207=$O$1:$O$542))>0,E207=0),0,1)","v":0}]
["001.100.2600.6430.100","Repair and Maintenance Services ",{"v":2426.23,"d":"$2,426.23"},null,"001",null,"001","100","2600","6430","100",null,"100",null,"300",{"$nulls":11},{"$f":"IF(OR(SUMPRODUCT(--(E208=$O$1:$O$542))>0,E208=0),0,1)","v":0}]
["001.100.2600.6440.100","Euipment Rental",{"v":0,"d":"$0.00"},null,"001",null,"001","100","2600","6440","100",null,"100",null,"301",{"$nulls":11},{"$f":"IF(OR(SUMPRODUCT(--(E209=$O$1:$O$542))>0,E209=0),0,1)","v":0}]
["001.100.2600.6442.100","Equip. Rentral",{"v":0,"d":"$0.00"},null,"001",null,"001","100","2600","6442","100",null,"100",null,"302",{"$nulls":11},{"$f":"IF(OR(SUMPRODUCT(--(E210=$O$1:$O$542))>0,E210=0),0,1)","v":0}]
["001.100.2600.6490.100","Repairs",{"v":0,"d":"$0.00"},null,"001",null,"001","100","2600","6490","100",null,"100",null,"303",{"$nulls":11},{"$f":"IF(OR(SUMPRODUCT(--(E211=$O$1:$O$542))>0,E211=0),0,1)","v":0}]
["001.100.2600.6500.100","Inmate Labor",{"v":0,"d":"$0.00"},null,"001",null,"001","100","2600","6500","100",null,"100",null,"304",{"$nulls":11},{"$f":"IF(OR(SUMPRODUCT(--(E212=$O$1:$O$542))>0,E212=0),0,1)","v":0}]
["001.100.2600.6531.100","Telephone",{"v":0,"d":"$0.00"},null,"001",null,"001","100","2600","6531","100",null,"100",null,"305",{"$nulls":11},{"$f":"IF(OR(SUMPRODUCT(--(E213=$O$1:$O$542))>0,E213=0),0,1)","v":0}]
["001.100.2600.6540.100","Advertising",{"v":0,"d":"$0.00"},null,"001",null,"001","100","2600","6540","100",null,"100",null,"306",{"$nulls":11},{"$f":"IF(OR(SUMPRODUCT(--(E214=$O$1:$O$542))>0,E214=0),0,1)","v":0}]
["001.100.2600.6590.100","Miscellaneous Purchased Services ",{"v":0,"d":"$0.00"},null,"001",null,"001","100","2600","6590","100",null,"100",null,"307",{"$nulls":11},{"$f":"IF(OR(SUMPRODUCT(--(E215=$O$1:$O$542))>0,E215=0),0,1)","v":0}]
["001.100.2600.6600.100","SUPPLIES & MATERIALS",{"v":0,"d":"$0.00"},null,"001",null,"001","100","2600","6600","100",null,"100",null,"308",{"$nulls":11},{"$f":"IF(OR(SUMPRODUCT(--(E216=$O$1:$O$542))>0,E216=0),0,1)","v":0}]
["001.100.2600.6610.100","General Supplies ",{"v":310.58,"d":"$310.58"},null,"001",null,"001","100","2600","6610","100",null,"100",null,"309",{"$nulls":11},{"$f":"IF(OR(SUMPRODUCT(--(E217=$O$1:$O$542))>0,E217=0),0,1)","v":0}]
["001.100.2600.6620.100","Energy",{"v":0,"d":"$0.00"},null,"001",null,"001","100","2600","6620","100",null,"100",null,"310",{"$nulls":11},{"$f":"IF(OR(SUMPRODUCT(--(E218=$O$1:$O$542))>0,E218=0),0,1)","v":0}]
["001.100.2600.6622.001","Electricity ",{"v":-176.44,"d":"-($176.44)"},null,"001",null,"001","100","2600","6622","100",null,"100",null,"311",{"$nulls":11},{"$f":"IF(OR(SUMPRODUCT(--(E219=$O$1:$O$542))>0,E219=0),0,1)","v":0}]
["001.100.2600.6622.100","Electricity ",{"v":5468.88,"d":"$5,468.88"},null,"001",null,"001","100","2600","6622","100",null,"100",null,"312",{"$nulls":11},{"$f":"IF(OR(SUMPRODUCT(--(E220=$O$1:$O$542))>0,E220=0),0,1)","v":0}]
["001.100.2600.6623.000","Propane",{"v":0,"d":"$0.00"},null,"001",null,"001","100","2600","6623","000",null,"000",null,"313",{"$nulls":11},{"$f":"IF(OR(SUMPRODUCT(--(E221=$O$1:$O$542))>0,E221=0),0,1)","v":0}]
["001.100.2600.6623.100","Energy-Propane",{"v":4726.16,"d":"$4,726.16"},null,"001",null,"001","100","2600","6623","100",null,"100",null,"314",{"$nulls":11},{"$f":"IF(OR(SUMPRODUCT(--(E222=$O$1:$O$542))>0,E222=0),0,1)","v":0}]
["001.100.2620.6622.100","Electricity ",{"v":0,"d":"$0.00"},null,"001",null,"001","100","2620","6622","100",null,"100",null,"315",{"$nulls":11},{"$f":"IF(OR(SUMPRODUCT(--(E223=$O$1:$O$542))>0,E223=0),0,1)","v":0}]
["001.100.2630.6430.100","Sand for Playground Area",{"v":0,"d":"$0.00"},null,"001",null,"001","100","2630","6430","100",null,"100",null,"316",{"$nulls":11},{"$f":"IF(OR(SUMPRODUCT(--(E224=$O$1:$O$542))>0,E224=0),0,1)","v":0}]
["001.100.2640.0103.100","Cash on Deposit with County Treasurer ",{"v":0,"d":"$0.00"},null,"001",null,"001","100","2640","0103","100",null,"100",null,"317",{"$nulls":11},{"$f":"IF(OR(SUMPRODUCT(--(E225=$O$1:$O$542))>0,E225=0),0,1)","v":0}]
["001.100.2640.6430.100","water heater repair",{"v":0,"d":"$0.00"},null,"001",null,"001","100","2640","6430","100",null,"100",null,"318",{"$nulls":11},{"$f":"IF(OR(SUMPRODUCT(--(E226=$O$1:$O$542))>0,E226=0),0,1)","v":0}]
["001.100.2650.0103.100","Cash on Deposit with County Treasurer ",{"v":0,"d":"$0.00"},null,"001",null,"001","100","2650","0103","100",null,"100",null,"319",{"$nulls":11},{"$f":"IF(OR(SUMPRODUCT(--(E227=$O$1:$O$542))>0,E227=0),0,1)","v":0}]
["001.100.2650.6430.100","Van Repair",{"v":0,"d":"$0.00"},null,"001",null,"001","100","2650","6430","100",null,"100",null,"320",{"$nulls":11},{"$f":"IF(OR(SUMPRODUCT(--(E228=$O$1:$O$542))>0,E228=0),0,1)","v":0}]
["001.100.2660.0103.100","Cash on Deposit with County Treasurer ",{"v":0,"d":"$0.00"},null,"001",null,"001","100","2660","0103","100",null,"100",null,"321",{"$nulls":11},{"$f":"IF(OR(SUMPRODUCT(--(E229=$O$1:$O$542))>0,E229=0),0,1)","v":0}]
["001.100.2660.6430.100","Repair and Maintenance S",{"v":0,"d":"$0.00"},null,"001",null,"001","100","2660","6430","100",null,"100",null,"322",{"$nulls":11},{"$f":"IF(OR(SUMPRODUCT(--(E230=$O$1:$O$542))>0,E230=0),0,1)","v":0}]
["001.100.2660.6610.100","Radios - Security",{"v":0,"d":"$0.00"},null,"001",null,"001","100","2660","6610","100",null,"100",null,"323",{"$nulls":11},{"$f":"IF(OR(SUMPRODUCT(--(E231=$O$1:$O$542))>0,E231=0),0,1)","v":0}]
["001.100.2670.6730.100","Stretcher (medical)",{"v":0,"d":"$0.00"},null,"001",null,"001","100","2670","6730","100",null,"100",null,"324",{"$nulls":11},{"$f":"IF(OR(SUMPRODUCT(--(E232=$O$1:$O$542))>0,E232=0),0,1)","v":0}]
["001.100.5000.6820.100","Judgments Against the Di",{"v":0,"d":"$0.00"},null,"001",null,"001","100","5000","6820","100",null,"100",null,"325",{"$nulls":11},{"$f":"IF(OR(SUMPRODUCT(--(E233=$O$1:$O$542))>0,E233=0),0,1)","v":0}]
["001.100.6000.6930.000","Transfer Out",{"v":0,"d":"$0.00"},null,"001",null,"001","100","6000","6930","000",null,"000",null,"326",{"$nulls":11},{"$f":"IF(OR(SUMPRODUCT(--(E234=$O$1:$O$542))>0,E234=0),0,1)","v":0}]
["001.199.1000.6112.100","Teachers",{"v":0,"d":"$0.00"},null,"001",null,"001","199","1000","6112","100",null,"100",null,"327",{"$nulls":11},{"$f":"IF(OR(SUMPRODUCT(--(E235=$O$1:$O$542))>0,E235=0),0,1)","v":0}]
["001.199.1000.6113.100","Substitute",{"v":0,"d":"$0.00"},null,"001",null,"001","199","1000","6113","100",null,"100",null,"328",{"$nulls":11},{"$f":"IF(OR(SUMPRODUCT(--(E236=$O$1:$O$542))>0,E236=0),0,1)","v":0}]
["001.199.1000.6150.100","Classified Salaries ",{"v":0,"d":"$0.00"},null,"001",null,"001","199","1000","6150","100",null,"100",null,"329",{"$nulls":11},{"$f":"IF(OR(SUMPRODUCT(--(E237=$O$1:$O$542))>0,E237=0),0,1)","v":0}]
["001.199.1000.6200.100","Personal Services - Employee Benefits",{"v":0,"d":"$0.00"},null,"001",null,"001","199","1000","6200","100",null,"100",null,"330",{"$nulls":11},{"$f":"IF(OR(SUMPRODUCT(--(E238=$O$1:$O$542))>0,E238=0),0,1)","v":0}]
["001.199.1000.6221.100","Social Security - OASDI",{"v":0,"d":"$0.00"},null,"001",null,"001","199","1000","6221","100",null,"100",null,"331",{"$nulls":11},{"$f":"IF(OR(SUMPRODUCT(--(E239=$O$1:$O$542))>0,E239=0),0,1)","v":0}]
["001.199.1000.6222.100","Medicare - Hospital Insurance",{"v":0,"d":"$0.00"},null,"001",null,"001","199","1000","6222","100",null,"100",null,"332",{"$nulls":11},{"$f":"IF(OR(SUMPRODUCT(--(E240=$O$1:$O$542))>0,E240=0),0,1)","v":0}]
["001.199.1000.6231.100","State Retirement",{"v":0,"d":"$0.00"},null,"001",null,"001","199","1000","6231","100",null,"100",null,"333",{"$nulls":11},{"$f":"IF(OR(SUMPRODUCT(--(E241=$O$1:$O$542))>0,E241=0),0,1)","v":0}]
["001.199.1000.6232.100","Long-Term Disability",{"v":0,"d":"$0.00"},null,"001",null,"001","199","1000","6232","100",null,"100",null,"334",{"$nulls":11},{"$f":"IF(OR(SUMPRODUCT(--(E242=$O$1:$O$542))>0,E242=0),0,1)","v":0}]
["001.199.1000.6260.100","Worker's Compensation",{"v":0,"d":"$0.00"},null,"001",null,"001","199","1000","6260","100",null,"100",null,"335",{"$nulls":11},{"$f":"IF(OR(SUMPRODUCT(--(E243=$O$1:$O$542))>0,E243=0),0,1)","v":0}]
["001.199.1000.6310.100","Official/Administrative Services",{"v":0,"d":"$0.00"},null,"001",null,"001","199","1000","6310","100",null,"100",null,"336",{"$nulls":11},{"$f":"IF(OR(SUMPRODUCT(--(E244=$O$1:$O$542))>0,E244=0),0,1)","v":0}]
["001.199.1000.6500.000","Other Purchased Services",{"v":0,"d":"$0.00"},null,"001",null,"001","199","1000","6500","000",null,"000",null,"337",{"$nulls":11},{"$f":"IF(OR(SUMPRODUCT(--(E245=$O$1:$O$542))>0,E245=0),0,1)","v":0}]
["001.199.1000.6560.100","Tuition",{"v":0,"d":"$0.00"},null,"001",null,"001","199","1000","6560","100",null,"100",null,"338",{"$nulls":11},{"$f":"IF(OR(SUMPRODUCT(--(E246=$O$1:$O$542))>0,E246=0),0,1)","v":0}]
["001.199.1000.6600.100","Supplies",{"v":0,"d":"$0.00"},null,"001",null,"001","199","1000","6600","100",null,"100",null,"339",{"$nulls":11},{"$f":"IF(OR(SUMPRODUCT(--(E247=$O$1:$O$542))>0,E247=0),0,1)","v":0}]
["001.199.1000.6610.100","Undesignated",{"v":0,"d":"$0.00"},null,"001",null,"001","199","1000","6610","100",null,"100",null,"340",{"$nulls":11},{"$f":"IF(OR(SUMPRODUCT(--(E248=$O$1:$O$542))>0,E248=0),0,1)","v":0}]
["001.199.1000.6700.100","Property",{"v":0,"d":"$0.00"},null,"001",null,"001","199","1000","6700","100",null,"100",null,"341",{"$nulls":11},{"$f":"IF(OR(SUMPRODUCT(--(E249=$O$1:$O$542))>0,E249=0),0,1)","v":0}]
["001.199.2100.6600.100","Undesignated",{"v":0,"d":"$0.00"},null,"001",null,"001","199","2100","6600","100",null,"100",null,"342",{"$nulls":11},{"$f":"IF(OR(SUMPRODUCT(--(E250=$O$1:$O$542))>0,E250=0),0,1)","v":0}]
["001.199.2300.6890.100","Undesignated",{"v":0,"d":"$0.00"},null,"001",null,"001","199","2300","6890","100",null,"100",null,"343",{"$nulls":11},{"$f":"IF(OR(SUMPRODUCT(--(E251=$O$1:$O$542))>0,E251=0),0,1)","v":0}]
["001.199.2400.6150.100","Classified Salaries",{"v":0,"d":"$0.00"},null,"001",null,"001","199","2400","6150","100",null,"100",null,"344",{"$nulls":11},{"$f":"IF(OR(SUMPRODUCT(--(E252=$O$1:$O$542))>0,E252=0),0,1)","v":0}]
["001.199.2400.6221.100","Social Security - OASDI",{"v":0,"d":"$0.00"},null,"001",null,"001","199","2400","6221","100",null,"100",null,"345",{"$nulls":11},{"$f":"IF(OR(SUMPRODUCT(--(E253=$O$1:$O$542))>0,E253=0),0,1)","v":0}]
["001.199.2400.6222.100","Medicare - Hospital Insurance",{"v":0,"d":"$0.00"},null,"001",null,"001","199","2400","6222","100",null,"100",null,"346",{"$nulls":11},{"$f":"IF(OR(SUMPRODUCT(--(E254=$O$1:$O$542))>0,E254=0),0,1)","v":0}]
["001.199.2400.6231.100","State Retirement",{"v":0,"d":"$0.00"},null,"001",null,"001","199","2400","6231","100",null,"100",null,"347",{"$nulls":11},{"$f":"IF(OR(SUMPRODUCT(--(E255=$O$1:$O$542))>0,E255=0),0,1)","v":0}]
["001.199.2400.6232.100","Long-Term Disability",{"v":0,"d":"$0.00"},null,"001",null,"001","199","2400","6232","100",null,"100",null,"348",{"$nulls":11},{"$f":"IF(OR(SUMPRODUCT(--(E256=$O$1:$O$542))>0,E256=0),0,1)","v":0}]
["001.199.2400.6250.100","Unemployment Insurance",{"v":0,"d":"$0.00"},null,"001",null,"001","199","2400","6250","100",null,"100",null,"349",{"$nulls":11},{"$f":"IF(OR(SUMPRODUCT(--(E257=$O$1:$O$542))>0,E257=0),0,1)","v":0}]
["001.199.2400.6260.100","Worker's Compensation",{"v":0,"d":"$0.00"},null,"001",null,"001","199","2400","6260","100",null,"100",null,"350",{"$nulls":11},{"$f":"IF(OR(SUMPRODUCT(--(E258=$O$1:$O$542))>0,E258=0),0,1)","v":0}]
["001.199.2400.6300.100","Purchased Professional and Technical Services",{"v":0,"d":"$0.00"},null,{"$f":"IF(AND(F259<>\"\",F259=G259),\"ERROR\",IF(AND(F259<>\"\",F259<>G259),F259,G259))","v":"001"},null,"001","199","2400","6300","100",null,{"$f":"IF(L259<>\"\",L259,K259)","v":"100"},null,"351",{"$nulls":11},{"$f":"IF(OR(SUMPRODUCT(--(E259=$O$1:$O$542))>0,E259=0),0,1)","v":0}]
["001.199.2600.6150.100","Classified Salaries",{"v":0,"d":"$0.00"},null,"001",null,"001","199","2600","6150","100",null,"100",null,"352",{"$nulls":11},{"$f":"IF(OR(SUMPRODUCT(--(E260=$O$1:$O$542))>0,E260=0),0,1)","v":0}]
["001.199.2600.6221.100","Social Security - OASDI",{"v":0,"d":"$0.00"},null,"001",null,"001","199","2600","6221","100",null,"100",null,"353",{"$nulls":11},{"$f":"IF(OR(SUMPRODUCT(--(E261=$O$1:$O$542))>0,E261=0),0,1)","v":0}]
["001.199.2600.6222.100","Medicare - Hospital Insurance",{"v":0,"d":"$0.00"},null,"001",null,"001","199","2600","6222","100",null,"100",null,"354",{"$nulls":11},{"$f":"IF(OR(SUMPRODUCT(--(E262=$O$1:$O$542))>0,E262=0),0,1)","v":0}]
["001.199.2600.6231.100","State Retirement",{"v":0,"d":"$0.00"},null,"001",null,"001","199","2600","6231","100",null,"100",null,"355",{"$nulls":11},{"$f":"IF(OR(SUMPRODUCT(--(E263=$O$1:$O$542))>0,E263=0),0,1)","v":0}]
["001.199.2600.6232.100","Long-Term Disability",{"v":0,"d":"$0.00"},null,"001",null,"001","199","2600","6232","100",null,"100",null,"356",{"$nulls":11},{"$f":"IF(OR(SUMPRODUCT(--(E264=$O$1:$O$542))>0,E264=0),0,1)","v":0}]
["001.199.2600.6260.100","Worker's Compensation",{"v":0,"d":"$0.00"},null,"001",null,"001","199","2600","6260","100",null,"100",null,"357",{"$nulls":11},{"$f":"IF(OR(SUMPRODUCT(--(E265=$O$1:$O$542))>0,E265=0),0,1)","v":0}]
["001.199.2600.6600.100","Supplies",{"v":0,"d":"$0.00"},null,"001",null,"001","199","2600","6600","100",null,"100",null,"358",{"$nulls":11},{"$f":"IF(OR(SUMPRODUCT(--(E266=$O$1:$O$542))>0,E266=0),0,1)","v":0}]
["001.199.2600.6622.100","Electricity",{"v":0,"d":"$0.00"},null,"001",null,"001","199","2600","6622","100",null,"100",null,"359",{"$nulls":11},{"$f":"IF(OR(SUMPRODUCT(--(E267=$O$1:$O$542))>0,E267=0),0,1)","v":0}]
["001.200.1000.0103.100","Cash on Deposit with County Treasurer ",{"v":0,"d":"$0.00"},null,"001",null,"001","200","1000","0103","100",null,"100",null,"360",{"$nulls":11},{"$f":"IF(OR(SUMPRODUCT(--(E268=$O$1:$O$542))>0,E268=0),0,1)","v":0}]
["001.200.1000.6100.100","Undesignated",{"v":0,"d":"$0.00"},null,"001",null,"001","200","1000","6100","100",null,"100",null,"361",{"$nulls":11},{"$f":"IF(OR(SUMPRODUCT(--(E269=$O$1:$O$542))>0,E269=0),0,1)","v":0}]
["001.200.1000.6110.100","Certified Salaries ",{"v":0,"d":"$0.00"},null,"001",null,"001","200","1000","6110","100",null,"100",null,"362",{"$nulls":11},{"$f":"IF(OR(SUMPRODUCT(--(E270=$O$1:$O$542))>0,E270=0),0,1)","v":0}]
["001.200.1000.6112.100","SALARIES - CERTIFIED",{"v":0,"d":"$0.00"},null,"001",null,"001","200","1000","6112","100",null,"100",null,"363",{"$nulls":11},{"$f":"IF(OR(SUMPRODUCT(--(E271=$O$1:$O$542))>0,E271=0),0,1)","v":0}]
["001.200.1000.6113.100","Substitute",{"v":0,"d":"$0.00"},null,"001",null,"001","200","1000","6113","100",null,"100",null,"364",{"$nulls":11},{"$f":"IF(OR(SUMPRODUCT(--(E272=$O$1:$O$542))>0,E272=0),0,1)","v":0}]
["001.200.1000.6150.100","Classified Salaries ",{"v":0,"d":"$0.00"},null,"001",null,"001","200","1000","6150","100",null,"100",null,"365",{"$nulls":11},{"$f":"IF(OR(SUMPRODUCT(--(E273=$O$1:$O$542))>0,E273=0),0,1)","v":0}]
["001.200.1000.6200.100","Personal Services - Empl",{"v":0,"d":"$0.00"},null,"001",null,"001","200","1000","6200","100",null,"100",null,"366",{"$nulls":11},{"$f":"IF(OR(SUMPRODUCT(--(E274=$O$1:$O$542))>0,E274=0),0,1)","v":0}]
["001.200.1000.6210.100","INSURANCE",{"v":0,"d":"$0.00"},null,"001",null,"001","200","1000","6210","100",null,"100",null,"367",{"$nulls":11},{"$f":"IF(OR(SUMPRODUCT(--(E275=$O$1:$O$542))>0,E275=0),0,1)","v":0}]
["001.200.1000.6220.100","OASI / MEDICARE",{"v":0,"d":"$0.00"},null,"001",null,"001","200","1000","6220","100",null,"100",null,"368",{"$nulls":11},{"$f":"IF(OR(SUMPRODUCT(--(E276=$O$1:$O$542))>0,E276=0),0,1)","v":0}]
["001.200.1000.6221.100","OASI - SOCIAL SECURITY",{"v":0,"d":"$0.00"},null,"001",null,"001","200","1000","6221","100",null,"100",null,"369",{"$nulls":11},{"$f":"IF(OR(SUMPRODUCT(--(E277=$O$1:$O$542))>0,E277=0),0,1)","v":0}]
["001.200.1000.6222.100","OASI - MEDICARE",{"v":0,"d":"$0.00"},null,"001",null,"001","200","1000","6222","100",null,"100",null,"370",{"$nulls":11},{"$f":"IF(OR(SUMPRODUCT(--(E278=$O$1:$O$542))>0,E278=0),0,1)","v":0}]
["001.200.1000.6230.100","STATE RETIREMENT CONTRIB",{"v":0,"d":"$0.00"},null,"001",null,"001","200","1000","6230","100",null,"100",null,"371",{"$nulls":11},{"$f":"IF(OR(SUMPRODUCT(--(E279=$O$1:$O$542))>0,E279=0),0,1)","v":0}]
["001.200.1000.6231.100","State Retirement ",{"v":0,"d":"$0.00"},null,"001",null,"001","200","1000","6231","100",null,"100",null,"372",{"$nulls":11},{"$f":"IF(OR(SUMPRODUCT(--(E280=$O$1:$O$542))>0,E280=0),0,1)","v":0}]
["001.200.1000.6232.100","Long Term Disability",{"v":0,"d":"$0.00"},null,"001",null,"001","200","1000","6232","100",null,"100",null,"373",{"$nulls":11},{"$f":"IF(OR(SUMPRODUCT(--(E281=$O$1:$O$542))>0,E281=0),0,1)","v":0}]
["001.200.1000.6260.100","WORKER'S COMPENSATION",{"v":0,"d":"$0.00"},null,"001",null,"001","200","1000","6260","100",null,"100",null,"374",{"$nulls":11},{"$f":"IF(OR(SUMPRODUCT(--(E282=$O$1:$O$542))>0,E282=0),0,1)","v":0}]
["001.200.1000.6300.000","Purchased Professional and Technical Services",{"v":0,"d":"$0.00"},null,"001",null,"001","200","1000","6300","000",null,"000",null,"375",{"$nulls":11},{"$f":"IF(OR(SUMPRODUCT(--(E283=$O$1:$O$542))>0,E283=0),0,1)","v":0}]
["001.200.1000.6330.100","Other Professional Services",{"v":0,"d":"$0.00"},null,"001",null,"001","200","1000","6330","100",null,"100",null,"376",{"$nulls":11},{"$f":"IF(OR(SUMPRODUCT(--(E284=$O$1:$O$542))>0,E284=0),0,1)","v":0}]
["001.200.1000.6560.100","TUITION",{"v":0,"d":"$0.00"},null,"001",null,"001","200","1000","6560","100",null,"100",null,"377",{"$nulls":11},{"$f":"IF(OR(SUMPRODUCT(--(E285=$O$1:$O$542))>0,E285=0),0,1)","v":0}]
["001.200.1000.6600.100","SUPPLIES & MATERIALS",{"v":0,"d":"$0.00"},null,"001",null,"001","200","1000","6600","100",null,"100",null,"378",{"$nulls":11},{"$f":"IF(OR(SUMPRODUCT(--(E286=$O$1:$O$542))>0,E286=0),0,1)","v":0}]
["001.200.1900.0103.100","Cash on Deposit with County Treasurer ",{"v":0,"d":"$0.00"},null,"001",null,"001","200","1900","0103","100",null,"100",null,"379",{"$nulls":11},{"$f":"IF(OR(SUMPRODUCT(--(E287=$O$1:$O$542))>0,E287=0),0,1)","v":0}]
["001.200.1900.6150.100","Aide",{"v":16330.76,"d":"$16,330.76"},null,"001",null,"001","200","1900","6150","100",null,"100",null,"380",{"$nulls":11},{"$f":"IF(OR(SUMPRODUCT(--(E288=$O$1:$O$542))>0,E288=0),0,1)","v":0}]
["001.200.1900.6221.100","Social Security - OASDI",{"v":1012.52,"d":"$1,012.52"},null,"001",null,"001","200","1900","6221","100",null,"100",null,"381",{"$nulls":11},{"$f":"IF(OR(SUMPRODUCT(--(E289=$O$1:$O$542))>0,E289=0),0,1)","v":0}]
["001.200.1900.6222.100","Medicare - Hospital Insurance ",{"v":236.8,"d":"$236.80"},null,"001",null,"001","200","1900","6222","100",null,"100",null,"382",{"$nulls":11},{"$f":"IF(OR(SUMPRODUCT(--(E290=$O$1:$O$542))>0,E290=0),0,1)","v":0}]
["001.200.1900.6231.100","State Retirement ",{"v":1964.59,"d":"$1,964.59"},null,"001",null,"001","200","1900","6231","100",null,"100",null,"383",{"$nulls":11},{"$f":"IF(OR(SUMPRODUCT(--(E291=$O$1:$O$542))>0,E291=0),0,1)","v":0}]
["001.200.1900.6232.100","Long-Term Disability",{"v":22.86,"d":"$22.86"},null,"001",null,"001","200","1900","6232","100",null,"100",null,"384",{"$nulls":11},{"$f":"IF(OR(SUMPRODUCT(--(E292=$O$1:$O$542))>0,E292=0),0,1)","v":0}]
["001.200.2100.0103.100","Cash on Deposit with County Treasurer ",{"v":0,"d":"$0.00"},null,"001",null,"001","200","2100","0103","100",null,"100",null,"385",{"$nulls":11},{"$f":"IF(OR(SUMPRODUCT(--(E293=$O$1:$O$542))>0,E293=0),0,1)","v":0}]
["001.200.2100.6330.100","Other Professional Services ",{"v":2300,"d":"$2,300.00"},null,"001",null,"001","200","2100","6330","100",null,"100",null,"386",{"$nulls":11},{"$f":"IF(OR(SUMPRODUCT(--(E294=$O$1:$O$542))>0,E294=0),0,1)","v":0}]
["001.200.2100.6560.100","Tuition",{"v":0,"d":"$0.00"},null,"001",null,"001","200","2100","6560","100",null,"100",null,"387",{"$nulls":11},{"$f":"IF(OR(SUMPRODUCT(--(E295=$O$1:$O$542))>0,E295=0),0,1)","v":0}]
["001.200.2100.6591.100","Other Professional Services",{"v":33536.2,"d":"$33,536.20"},null,"001",null,"001","200","2100","6591","100",null,"100",null,"388",{"$nulls":11},{"$f":"IF(OR(SUMPRODUCT(--(E296=$O$1:$O$542))>0,E296=0),0,1)","v":0}]
["001.200.2100.6600.100","Supplies ",{"v":0,"d":"$0.00"},null,"001",null,"001","200","2100","6600","100",null,"100",null,"389",{"$nulls":11},{"$f":"IF(OR(SUMPRODUCT(--(E297=$O$1:$O$542))>0,E297=0),0,1)","v":0}]
["001.200.2100.6950.100","RETURN TO STATE",{"v":0,"d":"$0.00"},null,"001",null,"001","200","2100","6950","100",null,"100",null,"390",{"$nulls":11},{"$f":"IF(OR(SUMPRODUCT(--(E298=$O$1:$O$542))>0,E298=0),0,1)","v":0}]
["001.400.0000.0103.000","Cash on Deposit with County Treasurer ",{"v":0,"d":"$0.00"},null,"001",null,"001","400","0000","0103","000",null,"000",null,"391",{"$nulls":11},{"$f":"IF(OR(SUMPRODUCT(--(E299=$O$1:$O$542))>0,E299=0),0,1)","v":0}]
["001.400.2100.6150.100","Classified Salaries ",{"v":0,"d":"$0.00"},null,"001",null,"001","400","2100","6150","100",null,"100",null,"392",{"$nulls":11},{"$f":"IF(OR(SUMPRODUCT(--(E300=$O$1:$O$542))>0,E300=0),0,1)","v":0}]
["001.400.2100.6221.100","Social Security - OASDI",{"v":0,"d":"$0.00"},null,"001",null,"001","400","2100","6221","100",null,"100",null,"393",{"$nulls":11},{"$f":"IF(OR(SUMPRODUCT(--(E301=$O$1:$O$542))>0,E301=0),0,1)","v":0}]
["001.400.2100.6222.100","Medicare - Hospital Insurance ",{"v":0,"d":"$0.00"},null,"001",null,"001","400","2100","6222","100",null,"100",null,"394",{"$nulls":11},{"$f":"IF(OR(SUMPRODUCT(--(E302=$O$1:$O$542))>0,E302=0),0,1)","v":0}]
["001.400.2100.6231.100","State Retirement ",{"v":0,"d":"$0.00"},null,"001",null,"001","400","2100","6231","100",null,"100",null,"395",{"$nulls":11},{"$f":"IF(OR(SUMPRODUCT(--(E303=$O$1:$O$542))>0,E303=0),0,1)","v":0}]
["001.400.2100.6232.100","Long Term Disability",{"v":0,"d":"$0.00"},null,"001",null,"001","400","2100","6232","100",null,"100",null,"396",{"$nulls":11},{"$f":"IF(OR(SUMPRODUCT(--(E304=$O$1:$O$542))>0,E304=0),0,1)","v":0}]
["001.400.2100.6260.100","Worker's Compensation ",{"v":0,"d":"$0.00"},null,"001",null,"001","400","2100","6260","100",null,"100",null,"397",{"$nulls":11},{"$f":"IF(OR(SUMPRODUCT(--(E305=$O$1:$O$542))>0,E305=0),0,1)","v":0}]
["001.400.2600.6610.100","Bus Supplies",{"v":0,"d":"$0.00"},null,"001",null,"001","400","2600","6610","100",null,"100",null,"398",{"$nulls":11},{"$f":"IF(OR(SUMPRODUCT(--(E306=$O$1:$O$542))>0,E306=0),0,1)","v":0}]
["001.400.2700.0103.100","Cash on Deposit with County Treasurer ",{"v":0,"d":"$0.00"},null,"001",null,"001","400","2700","0103","100",null,"100",null,"399",{"$nulls":11},{"$f":"IF(OR(SUMPRODUCT(--(E307=$O$1:$O$542))>0,E307=0),0,1)","v":0}]
["001.400.2700.6150.100","SALARIES - CLASSIFIED",{"v":10102.65,"d":"$10,102.65"},null,"001",null,"001","400","2700","6150","100",null,"100",null,"400",{"$f":"[2]!F400EndFundBal","v":{"v":0,"d":"0 "}},null,{"$f":"IF(Q308=\"\",P308,Q308)","v":{"v":0,"d":"0 "}},{"$nulls":8},{"$f":"IF(OR(SUMPRODUCT(--(E308=$O$1:$O$542))>0,E308=0),0,1)","v":0}]
["001.400.2700.6200.000","Benefits",{"v":0,"d":"$0.00"},null,"001",null,"001","400","2700","6200","000",null,"000",null,"410",{"$f":"[2]!F410EndFundBal","v":{"v":0,"d":"0 "}},null,{"v":0,"d":"0 "},{"$nulls":8},{"$f":"IF(OR(SUMPRODUCT(--(E309=$O$1:$O$542))>0,E309=0),0,1)","v":0}]
["001.400.2700.6220.100","OASI / MEDICARE",{"v":0,"d":"$0.00"},null,"001",null,"001","400","2700","6220","100",null,"100",null,"420",{"$f":"[2]!F420EndFundBal","v":{"v":0,"d":"0 "}},null,{"v":0,"d":"0 "},{"$nulls":8},{"$f":"IF(OR(SUMPRODUCT(--(E310=$O$1:$O$542))>0,E310=0),0,1)","v":0}]
["001.400.2700.6221.100","OASI - SOCIAL SECURITY",{"v":626.39,"d":"$626.39"},null,"001",null,"001","400","2700","6221","100",null,"100",null,"425",{"$f":"[2]!F425EndFundBal","v":{"v":0,"d":"0 "}},null,{"v":0,"d":"0 "},{"$nulls":8},{"$f":"IF(OR(SUMPRODUCT(--(E311=$O$1:$O$542))>0,E311=0),0,1)","v":0}]
["001.400.2700.6222.100","OASI - MEDICARE",{"v":146.5,"d":"$146.50"},null,"001",null,"001","400","2700","6222","100",null,"100",null,"430",{"$f":"[2]!F430EndFundBal","v":{"v":0,"d":"0 "}},null,{"v":0,"d":"0 "},{"$nulls":8},{"$f":"IF(OR(SUMPRODUCT(--(E312=$O$1:$O$542))>0,E312=0),0,1)","v":0}]
["001.400.2700.6230.100","STATE RETIREMENT CONTRIB",{"v":0,"d":"$0.00"},null,"001",null,"001","400","2700","6230","100",null,"100",null,"435",{"$f":"[2]!F435EndFundBal","v":{"v":0,"d":"0 "}},null,{"v":0,"d":"0 "},{"$nulls":8},{"$f":"IF(OR(SUMPRODUCT(--(E313=$O$1:$O$542))>0,E313=0),0,1)","v":0}]
["001.400.2700.6231.100","State Retirement ",{"v":118.22,"d":"$118.22"},null,"001",null,"001","400","2700","6231","100",null,"100",null,"450",{"$f":"[2]!F450EndFundBal","v":{"v":0,"d":"0 "}},null,{"v":0,"d":"0 "},{"$nulls":8},{"$f":"IF(OR(SUMPRODUCT(--(E314=$O$1:$O$542))>0,E314=0),0,1)","v":0}]
["001.400.2700.6232.100","Long Term Disability",{"v":1.36,"d":"$1.36"},null,"001",null,"001","400","2700","6232","100",null,"100",null,"456",{"$f":"[2]!F456EndFundBal","v":{"v":0,"d":"0 "}},null,{"v":0,"d":"0 "},{"$nulls":8},{"$f":"IF(OR(SUMPRODUCT(--(E315=$O$1:$O$542))>0,E315=0),0,1)","v":0}]
["001.400.2700.6260.100","WORKER'S COMPENSATION",{"v":0,"d":"$0.00"},null,"001",null,"001","400","2700","6260","100",null,"100",null,"457",{"$f":"[2]!F457EndFundBal","v":{"v":0,"d":"0 "}},null,{"v":0,"d":"0 "},{"$nulls":8},{"$f":"IF(OR(SUMPRODUCT(--(E316=$O$1:$O$542))>0,E316=0),0,1)","v":0}]
["001.400.2700.6330.100","Other Professional Services ",{"v":0,"d":"$0.00"},null,"001",null,"001","400","2700","6330","100",null,"100",null,"460",{"$f":"[2]!F460EndFundBal","v":{"v":0,"d":"0 "}},null,{"v":0,"d":"0 "},{"$nulls":8},{"$f":"IF(OR(SUMPRODUCT(--(E317=$O$1:$O$542))>0,E317=0),0,1)","v":0}]
["001.400.2700.6340.100","Technical Services ",{"v":0,"d":"$0.00"},null,"001",null,"001","400","2700","6340","100",null,"100",null,"465",null,{"v":708,"d":"708 "},{"v":708,"d":"708 "},{"$nulls":8},{"$f":"IF(OR(SUMPRODUCT(--(E318=$O$1:$O$542))>0,E318=0),0,1)","v":0}]
["001.400.2700.6360.100","Bus Training",{"v":1693.12,"d":"$1,693.12"},null,"001",null,"001","400","2700","6360","100",null,"100",null,"466",{"$nulls":11},{"$f":"IF(OR(SUMPRODUCT(--(E319=$O$1:$O$542))>0,E319=0),0,1)","v":0}]
["001.400.2700.6430.100","Repair and Maintenance Services ",{"v":0,"d":"$0.00"},null,"001",null,"001","400","2700","6430","100",null,"100",null,"467",{"$nulls":11},{"$f":"IF(OR(SUMPRODUCT(--(E320=$O$1:$O$542))>0,E320=0),0,1)","v":0}]
["001.400.2700.6490.100","Other Purchased Property Services ",{"v":0,"d":"$0.00"},null,"001",null,"001","400","2700","6490","100",null,"100",null,"468",{"$nulls":11},{"$f":"IF(OR(SUMPRODUCT(--(E321=$O$1:$O$542))>0,E321=0),0,1)","v":0}]
["001.400.2700.6500.100","Substitute Bus Driver",{"v":0,"d":"$0.00"},null,"001",null,"001","400","2700","6500","100",null,"100",null,"469",{"$nulls":11},{"$f":"IF(OR(SUMPRODUCT(--(E322=$O$1:$O$542))>0,E322=0),0,1)","v":0}]
["001.400.2700.6520.100","Insurance Other than Em",{"v":0,"d":"$0.00"},null,{"$f":"IF(AND(F323<>\"\",F323=G323),\"ERROR\",IF(AND(F323<>\"\",F323<>G323),F323,G323))","v":"001"},null,"001","400","2700","6520","100",null,{"$f":"IF(L323<>\"\",L323,K323)","v":"100"},null,"470",{"$nulls":11},{"$f":"IF(OR(SUMPRODUCT(--(E323=$O$1:$O$542))>0,E323=0),0,1)","v":0}]
["001.400.2700.6590.100","OTHER EXPENDITURES",{"v":0,"d":"$0.00"},null,"001",null,"001","400","2700","6590","100",null,"100",null,"471",{"$nulls":11},{"$f":"IF(OR(SUMPRODUCT(--(E324=$O$1:$O$542))>0,E324=0),0,1)","v":0}]
["001.400.2700.6600.100","SUPPLIES & MATERIALS",{"v":0,"d":"$0.00"},null,"001",null,"001","400","2700","6600","100",null,"100",null,"472",{"$nulls":11},{"$f":"IF(OR(SUMPRODUCT(--(E325=$O$1:$O$542))>0,E325=0),0,1)","v":0}]
["001.400.2700.6610.100","General Supplies",{"v":107.16,"d":"$107.16"},null,"001",null,"001","400","2700","6610","100",null,"100",null,"473",{"$nulls":11},{"$f":"IF(OR(SUMPRODUCT(--(E326=$O$1:$O$542))>0,E326=0),0,1)","v":0}]
["001.400.2700.6620.100","Energy",{"v":0,"d":"$0.00"},null,"001",null,"001","400","2700","6620","100",null,"100",null,"474",{"$nulls":11},{"$f":"IF(OR(SUMPRODUCT(--(E327=$O$1:$O$542))>0,E327=0),0,1)","v":0}]
["001.400.2700.6626.000","Unleaded Fuel",{"v":0,"d":"$0.00"},null,"001",null,"001","400","2700","6626","000",null,"000",null,"475",{"$nulls":11},{"$f":"IF(OR(SUMPRODUCT(--(E328=$O$1:$O$542))>0,E328=0),0,1)","v":0}]
["001.400.2700.6626.100","Unleaded Fuel",{"v":0,"d":"$0.00"},null,"001",null,"001","400","2700","6626","100",null,"100",null,"476",{"$nulls":11},{"$f":"IF(OR(SUMPRODUCT(--(E329=$O$1:$O$542))>0,E329=0),0,1)","v":0}]
["001.400.2700.6930.100","TRANSFERS OUT - TO M & O",{"v":0,"d":"$0.00"},null,"001",null,"001","400","2700","6930","100",null,"100",null,"477",{"$nulls":11},{"$f":"IF(OR(SUMPRODUCT(--(E330=$O$1:$O$542))>0,E330=0),0,1)","v":0}]
["001.400.2710.0103.100","Cash on Deposit with County Treasurer ",{"v":0,"d":"$0.00"},null,"001",null,"001","400","2710","0103","100",null,"100",null,"478",{"$nulls":11},{"$f":"IF(OR(SUMPRODUCT(--(E331=$O$1:$O$542))>0,E331=0),0,1)","v":0}]
["001.400.2710.6626.100","Unleaded Fuel",{"v":2704.13,"d":"$2,704.13"},null,"001",null,"001","400","2710","6626","100",null,"100",null,"479",{"$nulls":11},{"$f":"IF(OR(SUMPRODUCT(--(E332=$O$1:$O$542))>0,E332=0),0,1)","v":0}]
["001.400.2710.6627.100","Diesel Fuel",{"v":4668.92,"d":"$4,668.92"},null,"001",null,"001","400","2710","6627","100",null,"100",null,"480",{"$nulls":11},{"$f":"IF(OR(SUMPRODUCT(--(E333=$O$1:$O$542))>0,E333=0),0,1)","v":0}]
["001.400.2730.0103.100","Cash on Deposit with County Treasurer ",{"v":0,"d":"$0.00"},null,"001",null,"001","400","2730","0103","100",null,"100",null,"481",{"$nulls":11},{"$f":"IF(OR(SUMPRODUCT(--(E334=$O$1:$O$542))>0,E334=0),0,1)","v":0}]
["001.400.2730.6430.000","Repair & Main.",{"v":0,"d":"$0.00"},null,"001",null,"001","400","2730","6430","000",null,"000",null,"482",{"$nulls":11},{"$f":"IF(OR(SUMPRODUCT(--(E335=$O$1:$O$542))>0,E335=0),0,1)","v":0}]
["001.400.2730.6430.001","Repair and Maintenance Services ",{"v":-900,"d":"-($900.00)"},null,"001",null,"001","400","2730","6430","100",null,"100",null,"483",{"$nulls":11},{"$f":"IF(OR(SUMPRODUCT(--(E336=$O$1:$O$542))>0,E336=0),0,1)","v":0}]
["001.400.2730.6430.100","Repair/Service",{"v":2564.2,"d":"$2,564.20"},null,"001",null,"001","400","2730","6430","100",null,"100",null,"484",{"$nulls":11},{"$f":"IF(OR(SUMPRODUCT(--(E337=$O$1:$O$542))>0,E337=0),0,1)","v":0}]
["001.400.2730.6510.100","Van Signs",{"v":0,"d":"$0.00"},null,"001",null,"001","400","2730","6510","100",null,"100",null,"485",{"$nulls":11},{"$f":"IF(OR(SUMPRODUCT(--(E338=$O$1:$O$542))>0,E338=0),0,1)","v":0}]
["001.400.2730.6610.100","Supplies for Bus Repair",{"v":0,"d":"$0.00"},null,"001",null,"001","400","2730","6610","100",null,"100",null,"486",{"$nulls":11},{"$f":"IF(OR(SUMPRODUCT(--(E339=$O$1:$O$542))>0,E339=0),0,1)","v":0}]
["001.400.2730.6734.100","Bus Sensor Repair",{"v":0,"d":"$0.00"},null,"001",null,"001","400","2730","6734","100",null,"100",null,"487",{"$nulls":11},{"$f":"IF(OR(SUMPRODUCT(--(E340=$O$1:$O$542))>0,E340=0),0,1)","v":0}]
["001.400.2790.6590.100","Miscellaneous Purchased ",{"v":0,"d":"$0.00"},null,"001",null,"001","400","2790","6590","100",null,"100",null,"488",{"$nulls":11},{"$f":"IF(OR(SUMPRODUCT(--(E341=$O$1:$O$542))>0,E341=0),0,1)","v":0}]
["001.550.1000.0103.100","Cash on Deposit with County Treasurer ",{"v":0,"d":"$0.00"},null,"001",null,"001","550","1000","0103","100",null,"100",null,"489",{"$nulls":11},{"$f":"IF(OR(SUMPRODUCT(--(E342=$O$1:$O$542))>0,E342=0),0,1)","v":0}]
["001.550.1000.6600.100","Star Reading",{"v":0,"d":"$0.00"},null,"001",null,"001","550","1000","6600","100",null,"100",null,"490",{"$nulls":11},{"$f":"IF(OR(SUMPRODUCT(--(E343=$O$1:$O$542))>0,E343=0),0,1)","v":0}]
["001.550.1000.6643.100","Star Reading",{"v":1697.6,"d":"$1,697.60"},null,"001",null,"001","550","1000","6643","100",null,"100",null,"491",{"$nulls":11},{"$f":"IF(OR(SUMPRODUCT(--(E344=$O$1:$O$542))>0,E344=0),0,1)","v":0}]
["001.999.9000.6930.000","Interfund Transfers Out ",{"v":0,"d":"$0.00"},null,"001",null,"001","999","9000","6930","000",null,"000",null,"492",{"$nulls":11},{"$f":"IF(OR(SUMPRODUCT(--(E345=$O$1:$O$542))>0,E345=0),0,1)","v":0}]
["010.000.0000.0103.000","Undesignated",{"v":14461.76,"d":"$14,461.76"},null,"010",null,"010","000","0000","0103","000",null,"000",null,"493",{"$nulls":11},{"$f":"IF(OR(SUMPRODUCT(--(E346=$O$1:$O$542))>0,E346=0),0,1)","v":0}]
["010.000.0000.0221.000","Salaries and Wages ",{"v":0,"d":"$0.00"},null,"010",null,"010","000","0000","0221","000",null,"000",null,"494",{"$nulls":11},{"$f":"IF(OR(SUMPRODUCT(--(E347=$O$1:$O$542))>0,E347=0),0,1)","v":0}]
["010.000.0000.0222.100","Social Security - OASDI",{"v":0,"d":"$0.00"},null,"010",null,"010","000","0000","0222","100",null,"100",null,"495",{"$nulls":11},{"$f":"IF(OR(SUMPRODUCT(--(E348=$O$1:$O$542))>0,E348=0),0,1)","v":0}]
["010.000.0000.0223.100","Medicare",{"v":0,"d":"$0.00"},null,"010",null,"010","000","0000","0223","100",null,"100",null,"496",{"$nulls":11},{"$f":"IF(OR(SUMPRODUCT(--(E349=$O$1:$O$542))>0,E349=0),0,1)","v":0}]
["010.000.0000.0224.100","State Retirement System Contributions ",{"v":0,"d":"$0.00"},null,"010",null,"010","000","0000","0224","100",null,"100",null,"497",{"$nulls":11},{"$f":"IF(OR(SUMPRODUCT(--(E350=$O$1:$O$542))>0,E350=0),0,1)","v":0}]
["010.000.0000.0241.100","Federal Income Taxes",{"v":0,"d":"$0.00"},null,"010",null,"010","000","0000","0241","100",null,"100",null,"498",{"$nulls":11},{"$f":"IF(OR(SUMPRODUCT(--(E351=$O$1:$O$542))>0,E351=0),0,1)","v":0}]
["010.000.0000.0242.100","State Income Taxes",{"v":0,"d":"$0.00"},null,"010",null,"010","000","0000","0242","100",null,"100",null,"499",{"$nulls":11},{"$f":"IF(OR(SUMPRODUCT(--(E352=$O$1:$O$542))>0,E352=0),0,1)","v":0}]
["010.000.0000.0243.100","Social Security - OASDI",{"v":0,"d":"$0.00"},null,"010",null,"010","000","0000","0243","100",null,"100",null,"500",{"$f":"[2]!F500EndFundBal","v":{"v":0,"d":"0 "}},{"v":337,"d":"337 "},{"$f":"IF(Q353=\"\",P353,Q353)","v":{"v":337,"d":"337 "}},{"$nulls":8},{"$f":"IF(OR(SUMPRODUCT(--(E353=$O$1:$O$542))>0,E353=0),0,1)","v":0}]
["010.000.0000.0244.100","Medicare - Hospital Insurance",{"v":0,"d":"$0.00"},null,"010",null,"010","000","0000","0244","100",null,"100",null,"510",{"$f":"[2]Summary!$I$33","v":{"v":0,"d":"0 "}},null,{"v":0,"d":"0 "},{"$nulls":8},{"$f":"IF(OR(SUMPRODUCT(--(E354=$O$1:$O$542))>0,E354=0),0,1)","v":0}]
["010.000.0000.0245.100","State Retirement Contributions",{"v":0,"d":"$0.00"},null,"010",null,"010","000","0000","0245","100",null,"100",null,"515",{"$f":"[2]!F515EndFundBal","v":{"v":0,"d":"0 "}},null,{"v":0,"d":"0 "},{"$nulls":8},{"$f":"IF(OR(SUMPRODUCT(--(E355=$O$1:$O$542))>0,E355=0),0,1)","v":0}]
["010.000.0000.0246.100","Long-Term Disability",{"v":0,"d":"$0.00"},null,"010",null,"010","000","0000","0246","100",null,"100",null,"520",{"$f":"[2]!F520EndFundBal","v":{"v":0,"d":"0 "}},null,{"v":0,"d":"0 "},{"$nulls":8},{"$f":"IF(OR(SUMPRODUCT(--(E356=$O$1:$O$542))>0,E356=0),0,1)","v":0}]
["010.000.0000.0247.100","Voluntary Deductions",{"v":0,"d":"$0.00"},null,"010",null,"010","000","0000","0247","100",null,"100",null,"525",{"$f":"[2]!F525EndFundBal","v":{"v":0,"d":"0 "}},null,{"v":0,"d":"0 "},{"$nulls":8},{"$f":"IF(OR(SUMPRODUCT(--(E357=$O$1:$O$542))>0,E357=0),0,1)","v":0}]
["010.000.0000.0330.000","Unreserved Fund Balance",{"v":-15758.27,"d":"-($15,758.27)"},null,"010",null,"010","000","0000","0330","000",null,"000",null,"526",{"$f":"[2]!F526EndFundBal","v":{"v":17445,"d":"17,445 "}},null,{"v":17445,"d":"17,445 "},{"$nulls":8},{"$f":"IF(OR(SUMPRODUCT(--(E358=$O$1:$O$542))>0,E358=0),0,1)","v":0}]
["010.000.0000.1510.000","Interest on Investments ",{"v":0,"d":"$0.00"},null,"010",null,"010","000","0000","1510","000",null,"000",null,"530",{"$f":"[2]!F530EndFundBal","v":{"v":98,"d":"98 "}},{"v":66,"d":"66 "},{"v":66,"d":"66 "},{"$nulls":8},{"$f":"IF(OR(SUMPRODUCT(--(E359=$O$1:$O$542))>0,E359=0),0,1)","v":0}]
["010.000.0000.3200.000","Restricted Grants-in-Aid",{"v":-34558.26,"d":"-($34,558.26)"},null,"010",null,"010","000","0000","3200","000",null,"000",null,"535",{"$f":"[2]!F535EndFundBal","v":{"v":0,"d":"0 "}},null,{"v":0,"d":"0 "},{"$nulls":8},{"$f":"IF(OR(SUMPRODUCT(--(E360=$O$1:$O$542))>0,E360=0),0,1)","v":0}]
["010.000.0000.3900.000","Revenue for/on Behalf of",{"v":0,"d":"$0.00"},null,"010",null,"010","000","0000","3900","000",null,"000",null,"540",{"$f":"[2]!F540EndFundBal","v":{"v":0,"d":"0 "}},null,{"v":0,"d":"0 "},{"$nulls":8},{"$f":"IF(OR(SUMPRODUCT(--(E361=$O$1:$O$542))>0,E361=0),0,1)","v":0}]
["010.000.0000.6930.000","Interfund Transfers Out ",{"v":0,"d":"$0.00"},null,"010",null,"010","000","0000","6930","000",null,"000",null,"545",{"$f":"[2]!F545EndFundBal","v":{"v":0,"d":"0 "}},null,{"v":0,"d":"0 "},{"$nulls":8},{"$f":"IF(OR(SUMPRODUCT(--(E362=$O$1:$O$542))>0,E362=0),0,1)","v":0}]
["010.100.1000.6100.100","Personal Services - Salaries ",{"v":11519.4,"d":"$11,519.40"},null,"010",null,"010","100","1000","6100","100",null,"100",null,"550",{"$f":"[2]!F550EndFundBal","v":{"v":5548,"d":"5,548 "}},null,{"v":5548,"d":"5,548 "},{"$nulls":8},{"$f":"IF(OR(SUMPRODUCT(--(E363=$O$1:$O$542))>0,E363=0),0,1)","v":0}]
["010.100.1000.6112.100","Teachers",{"v":18411.66,"d":"$18,411.66"},null,"010",null,"010","100","1000","6112","100",null,"100",null,"555",{"$f":"[2]!F555EndFundBal","v":{"v":871,"d":"871 "}},null,{"v":871,"d":"871 "},{"$nulls":8},{"$f":"IF(OR(SUMPRODUCT(--(E364=$O$1:$O$542))>0,E364=0),0,1)","v":0}]
["010.100.1000.6221.100","Social Security - OASDI",{"v":1855.72,"d":"$1,855.72"},null,"010",null,"010","100","1000","6221","100",null,"100",null,"565",{"$f":"[2]!F565EndFundBal","v":{"v":72,"d":"72 "}},null,{"v":72,"d":"72 "},{"$nulls":8},{"$f":"IF(OR(SUMPRODUCT(--(E365=$O$1:$O$542))>0,E365=0),0,1)","v":0}]
["010.100.1000.6222.100","Medicare - Hospital Insurance ",{"v":433.99,"d":"$433.99"},null,"010",null,"010","100","1000","6222","100",null,"100",null,"570",{"$f":"[2]!F570EndFundBal","v":{"v":0,"d":"0 "}},null,{"v":0,"d":"0 "},{"$nulls":8},{"$f":"IF(OR(SUMPRODUCT(--(E366=$O$1:$O$542))>0,E366=0),0,1)","v":0}]
["010.100.1000.6231.100","State Retirement ",{"v":3600.7,"d":"$3,600.70"},null,"010",null,"010","100","1000","6231","100",null,"100",null,"575",{"$f":"[2]!F575EndFundBal","v":{"v":0,"d":"0 "}},null,{"v":0,"d":"0 "},{"$nulls":8},{"$f":"IF(OR(SUMPRODUCT(--(E367=$O$1:$O$542))>0,E367=0),0,1)","v":0}]
["010.100.1000.6232.100","Long-Term Disability",{"v":33.3,"d":"$33.30"},null,"010",null,"010","100","1000","6232","100",null,"100",null,"580",{"$f":"[2]!F580EndFundBal","v":{"v":72,"d":"72 "}},null,{"v":72,"d":"72 "},{"$nulls":8},{"$f":"IF(OR(SUMPRODUCT(--(E368=$O$1:$O$542))>0,E368=0),0,1)","v":0}]
["011.000.0000.0103.000","CSF - Base Salary",{"v":0,"d":"$0.00"},null,"010","010","011","000","0000","0103","000",null,"000",null,"585",{"$f":"[2]!F585EndFundBal","v":{"v":0,"d":"0 "}},null,{"v":0,"d":"0 "},{"$nulls":8},{"$f":"IF(OR(SUMPRODUCT(--(E369=$O$1:$O$542))>0,E369=0),0,1)","v":0}]
["011.000.0000.0221.000","Salaries and Wages ",{"v":0,"d":"$0.00"},null,"010","010","011","000","0000","0221","000",null,"000",null,"590",{"$f":"[2]!F590EndFundBal","v":{"v":0,"d":"0 "}},null,{"v":0,"d":"0 "},{"$nulls":8},{"$f":"IF(OR(SUMPRODUCT(--(E370=$O$1:$O$542))>0,E370=0),0,1)","v":0}]
["011.000.0000.0222.000","Social Security - OASDI",{"v":0,"d":"$0.00"},null,"010","010","011","000","0000","0222","000",null,"000",null,"595",{"$f":"[2]!F595EndFundBal","v":{"v":0,"d":"0 "}},null,{"v":0,"d":"0 "},{"$nulls":8},{"$f":"IF(OR(SUMPRODUCT(--(E371=$O$1:$O$542))>0,E371=0),0,1)","v":0}]
["011.000.0000.0222.100","Social Security - OASDI",{"v":0,"d":"$0.00"},null,"010","010","011","000","0000","0222","100",null,"100",null,"596",{"$f":"[2]!F596EndFundBal","v":{"v":0,"d":"0 "}},null,{"v":0,"d":"0 "},{"$nulls":8},{"$f":"IF(OR(SUMPRODUCT(--(E372=$O$1:$O$542))>0,E372=0),0,1)","v":0}]
["011.000.0000.0223.000","Medicare",{"v":0,"d":"$0.00"},null,"010","010","011","000","0000","0223","000",null,"000",null,"597",{"$f":"[2]!F597EndFundBal","v":{"v":0,"d":"0 "}},null,{"v":0,"d":"0 "},{"$nulls":8},{"$f":"IF(OR(SUMPRODUCT(--(E373=$O$1:$O$542))>0,E373=0),0,1)","v":0}]
["011.000.0000.0223.100","Medicare",{"v":0,"d":"$0.00"},null,"010","010","011","000","0000","0223","100",null,"100",null,"610",{"$f":"'[2]Page 1'!$F$58","v":{"v":256480,"d":"256,480 "}},{"v":28650,"d":"28,650 "},{"v":28650,"d":"28,650 "},{"$nulls":8},{"$f":"IF(OR(SUMPRODUCT(--(E374=$O$1:$O$542))>0,E374=0),0,1)","v":0}]
["011.000.0000.0224.000","State Retirement System Contributio",{"v":0,"d":"$0.00"},null,"010","010","011","000","0000","0224","000",null,"000",null,"620",{"$f":"'[2]Page 1'!$G$58","v":{"v":0,"d":"0 "}},null,{"v":0,"d":"0 "},{"$nulls":8},{"$f":"IF(OR(SUMPRODUCT(--(E375=$O$1:$O$542))>0,E375=0),0,1)","v":0}]
["011.000.0000.0224.100","State Retirement System Contributio",{"v":0,"d":"$0.00"},null,"010","010","011","000","0000","0224","100",null,"100",null,"630",{"$f":"'[2]Page 1'!$H$58","v":{"v":0,"d":"0 "}},null,{"v":0,"d":"0 "},{"$nulls":8},{"$f":"IF(OR(SUMPRODUCT(--(E376=$O$1:$O$542))>0,E376=0),0,1)","v":0}]
["011.000.0000.0227.000","Workers' Compensation",{"v":0,"d":"$0.00"},null,"010","010","011","000","0000","0227","000",null,"000",null,"639",{"$f":"[2]!F639EndFundBal","v":{"v":0,"d":"0 "}},null,{"v":0,"d":"0 "},{"$nulls":8},{"$f":"IF(OR(SUMPRODUCT(--(E377=$O$1:$O$542))>0,E377=0),0,1)","v":0}]
["011.000.0000.0241.000","Federal Income Taxes",{"v":0,"d":"$0.00"},null,"010","010","011","000","0000","0241","000",null,"000",null,"650",{"$f":"[2]!F650EndFundBal","v":{"v":0,"d":"0 "}},null,{"v":0,"d":"0 "},{"$nulls":8},{"$f":"IF(OR(SUMPRODUCT(--(E378=$O$1:$O$542))>0,E378=0),0,1)","v":0}]
["011.000.0000.0241.100","Federal Income Taxes",{"v":0,"d":"$0.00"},null,"010","010","011","000","0000","0241","100",null,"100",null,"660",{"$f":"[2]!F660EndFundBal","v":{"v":0,"d":"0 "}},null,{"v":0,"d":"0 "},{"$nulls":8},{"$f":"IF(OR(SUMPRODUCT(--(E379=$O$1:$O$542))>0,E379=0),0,1)","v":0}]
["011.000.0000.0242.000","State Income Taxes",{"v":0,"d":"$0.00"},null,"010","010","011","000","0000","0242","000",null,"000",null,"665",{"$f":"[2]!F665EndFundBal","v":{"v":0,"d":"0 "}},null,{"v":0,"d":"0 "},{"$nulls":8},{"$f":"IF(OR(SUMPRODUCT(--(E380=$O$1:$O$542))>0,E380=0),0,1)","v":0}]
["011.000.0000.0242.100","State Income Taxes",{"v":0,"d":"$0.00"},null,"010","010","011","000","0000","0242","100",null,"100",null,"686",{"$f":"[2]!F686EndFundBal","v":{"v":0,"d":"0 "}},null,{"v":0,"d":"0 "},{"$nulls":8},{"$f":"IF(OR(SUMPRODUCT(--(E381=$O$1:$O$542))>0,E381=0),0,1)","v":0}]
["011.000.0000.0243.000","Social Security - OASDI",{"v":0,"d":"$0.00"},null,"010","010","011","000","0000","0243","000",null,"000",null,"691",{"$f":"[2]!F691EndFundBal","v":{"v":72,"d":"72 "}},null,{"v":72,"d":"72 "},{"$nulls":8},{"$f":"IF(OR(SUMPRODUCT(--(E382=$O$1:$O$542))>0,E382=0),0,1)","v":0}]
["011.000.0000.0243.100","Social Security - OASDI",{"v":0,"d":"$0.00"},null,"010","010","011","000","0000","0243","100",null,"100",null,"695",{"$f":"[2]!F695EndFundBal","v":{"v":0,"d":"0 "}},null,{"v":0,"d":"0 "},{"$nulls":8},{"$f":"IF(OR(SUMPRODUCT(--(E383=$O$1:$O$542))>0,E383=0),0,1)","v":0}]
["011.000.0000.0244.000","Medicare - Hospital Insurance",{"v":0,"d":"$0.00"},null,"010","010","011","000","0000","0244","000",null,"000",null,"699",null,null,{"$f":"IF(Q384=\"\",P384,Q384)","v":{"v":0,"d":"0 "}},{"$nulls":8},{"$f":"IF(OR(SUMPRODUCT(--(E384=$O$1:$O$542))>0,E384=0),0,1)","v":0}]
["011.000.0000.0244.100","Medicare - Hospital Insurance",{"v":0,"d":"$0.00"},null,"010","010","011","000","0000","0244","100",null,"100",null,"700",{"$f":"'[2]Page 1'!$I$58","v":{"v":0,"d":"0 "}},null,{"v":0,"d":"0 "},{"$nulls":8},{"$f":"IF(OR(SUMPRODUCT(--(E385=$O$1:$O$542))>0,E385=0),0,1)","v":0}]
["011.000.0000.0245.000","State Retirement Contributions",{"v":0,"d":"$0.00"},null,"010","010","011","000","0000","0245","000",null,"000",null,"720",{"$f":"[2]!F720EndFundBal","v":{"v":0,"d":"0 "}},null,{"v":0,"d":"0 "},{"$nulls":8},{"$f":"IF(OR(SUMPRODUCT(--(E386=$O$1:$O$542))>0,E386=0),0,1)","v":0}]
["011.000.0000.0245.100","State Retirement Contributions",{"v":0,"d":"$0.00"},null,{"$f":"IF(AND(F387<>\"\",F387=G387),\"ERROR\",IF(AND(F387<>\"\",F387<>G387),F387,G387))","v":"010"},"010","011","000","0000","0245","100",null,{"$f":"IF(L387<>\"\",L387,K387)","v":"100"},null,"750",null,null,{"$f":"IF(Q387=\"\",P387,Q387)","v":{"v":0,"d":"0 "}},{"$nulls":8},{"$f":"IF(OR(SUMPRODUCT(--(E387=$O$1:$O$542))>0,E387=0),0,1)","v":0}]
["011.000.0000.0246.000","Long Term Disability",{"v":0,"d":"$0.00"},null,"010","010","011","000","0000","0246","000",null,"000",null,"800",null,null,{"$f":"IF(Q388=\"\",P388,Q388)","v":{"v":0,"d":"0 "}},{"$nulls":8},{"$f":"IF(OR(SUMPRODUCT(--(E388=$O$1:$O$542))>0,E388=0),0,1)","v":0}]
["011.000.0000.0246.100","Long Term Disability",{"v":0,"d":"$0.00"},null,"010","010","011","000","0000","0246","100",null,"100",null,"801",{"$nulls":11},{"$f":"IF(OR(SUMPRODUCT(--(E389=$O$1:$O$542))>0,E389=0),0,1)","v":0}]
["011.000.0000.0247.000","Voluntary Deductions",{"v":0,"d":"$0.00"},null,"010","010","011","000","0000","0247","000",null,"000",null,"802",{"$nulls":11},{"$f":"IF(OR(SUMPRODUCT(--(E390=$O$1:$O$542))>0,E390=0),0,1)","v":0}]
["011.000.0000.0247.100","Voluntary Deductions",{"v":0,"d":"$0.00"},null,"010","010","011","000","0000","0247","100",null,"100",null,"803",{"$nulls":11},{"$f":"IF(OR(SUMPRODUCT(--(E391=$O$1:$O$542))>0,E391=0),0,1)","v":0}]
["011.000.0000.0330.000","Unreserved Fund Balance",{"v":0,"d":"$0.00"},null,"010","010","011","000","0000","0330","000",null,"000",null,"804",{"$nulls":11},{"$f":"IF(OR(SUMPRODUCT(--(E392=$O$1:$O$542))>0,E392=0),0,1)","v":0}]
["011.000.0000.1510.000","Interest on Investments ",{"v":0,"d":"$0.00"},null,"010","010","011","000","0000","1510","000",null,"000",null,"805",{"$nulls":11},{"$f":"IF(OR(SUMPRODUCT(--(E393=$O$1:$O$542))>0,E393=0),0,1)","v":0}]
["011.000.0000.3200.000","Restricted Grants-in-Aid",{"v":0,"d":"$0.00"},null,"010","010","011","000","0000","3200","000",null,"000",null,"806",{"$nulls":11},{"$f":"IF(OR(SUMPRODUCT(--(E394=$O$1:$O$542))>0,E394=0),0,1)","v":0}]
["011.000.0000.3201.000","PRIOR YEAR STATE",{"v":0,"d":"$0.00"},null,"010","010","011","000","0000","3201","000",null,"000",null,"807",{"$nulls":11},{"$f":"IF(OR(SUMPRODUCT(--(E395=$O$1:$O$542))>0,E395=0),0,1)","v":0}]
["011.000.0000.3900.000","Revenue for/on Behalf of",{"v":0,"d":"$0.00"},null,"010","010","011","000","0000","3900","000",null,"000",null,"808",{"$nulls":11},{"$f":"IF(OR(SUMPRODUCT(--(E396=$O$1:$O$542))>0,E396=0),0,1)","v":0}]
["011.000.0000.5200.000","Interfund Transfers In ",{"v":0,"d":"$0.00"},null,"010","010","011","000","0000","5200","000",null,"000",null,"809",{"$nulls":11},{"$f":"IF(OR(SUMPRODUCT(--(E397=$O$1:$O$542))>0,E397=0),0,1)","v":0}]
["011.000.0000.6221.000","Social Security - OASDI",{"v":0,"d":"$0.00"},null,"010","010","011","000","0000","6221","000",null,"000",null,"810",{"$nulls":11},{"$f":"IF(OR(SUMPRODUCT(--(E398=$O$1:$O$542))>0,E398=0),0,1)","v":0}]
["011.000.0000.6222.000","Medicare - Hospital Insurance ",{"v":0,"d":"$0.00"},null,"010","010","011","000","0000","6222","000",null,"000",null,"811",{"$nulls":11},{"$f":"IF(OR(SUMPRODUCT(--(E399=$O$1:$O$542))>0,E399=0),0,1)","v":0}]
["011.000.0000.6231.000","State Retirement ",{"v":0,"d":"$0.00"},null,"010","010","011","000","0000","6231","000",null,"000",null,"812",{"$nulls":11},{"$f":"IF(OR(SUMPRODUCT(--(E400=$O$1:$O$542))>0,E400=0),0,1)","v":0}]
["011.000.0000.6232.000","Long Term Disability",{"v":0,"d":"$0.00"},null,"010","010","011","000","0000","6232","000",null,"000",null,"813",{"$nulls":11},{"$f":"IF(OR(SUMPRODUCT(--(E401=$O$1:$O$542))>0,E401=0),0,1)","v":0}]
["011.100.1000.0103.100","Cash on Deposit with County Treasurer ",{"v":0,"d":"$0.00"},null,"010","010","011","100","1000","0103","100",null,"100",null,"814",{"$nulls":11},{"$f":"IF(OR(SUMPRODUCT(--(E402=$O$1:$O$542))>0,E402=0),0,1)","v":0}]
["011.100.1000.6100.100","Personal Services - Salaries ",{"v":0,"d":"$0.00"},null,"010","010","011","100","1000","6100","100",null,"100",null,"815",{"$nulls":11},{"$f":"IF(OR(SUMPRODUCT(--(E403=$O$1:$O$542))>0,E403=0),0,1)","v":0}]
["011.100.1000.6110.100","Certified Salaries ",{"v":0,"d":"$0.00"},null,"010","010","011","100","1000","6110","100",null,"100",null,"816",{"$nulls":11},{"$f":"IF(OR(SUMPRODUCT(--(E404=$O$1:$O$542))>0,E404=0),0,1)","v":0}]
["011.100.1000.6112.100","Teachers",{"v":0,"d":"$0.00"},null,"010","010","011","100","1000","6112","100",null,"100",null,"817",{"$nulls":11},{"$f":"IF(OR(SUMPRODUCT(--(E405=$O$1:$O$542))>0,E405=0),0,1)","v":0}]
["011.100.1000.6200.100","Personal Services - Employee Benefi",{"v":0,"d":"$0.00"},null,"010","010","011","100","1000","6200","100",null,"100",null,"818",{"$nulls":11},{"$f":"IF(OR(SUMPRODUCT(--(E406=$O$1:$O$542))>0,E406=0),0,1)","v":0}]
["011.100.1000.6221.100","Social Security - OASDI",{"v":0,"d":"$0.00"},null,"010","010","011","100","1000","6221","100",null,"100",null,"819",{"$nulls":11},{"$f":"IF(OR(SUMPRODUCT(--(E407=$O$1:$O$542))>0,E407=0),0,1)","v":0}]
["011.100.1000.6222.100","Medicare - Hospital Insurance ",{"v":0,"d":"$0.00"},null,"010","010","011","100","1000","6222","100",null,"100",null,"820",{"$nulls":11},{"$f":"IF(OR(SUMPRODUCT(--(E408=$O$1:$O$542))>0,E408=0),0,1)","v":0}]
["011.100.1000.6231.100","State Retirement ",{"v":0,"d":"$0.00"},null,"010","010","011","100","1000","6231","100",null,"100",null,"821",{"$nulls":11},{"$f":"IF(OR(SUMPRODUCT(--(E409=$O$1:$O$542))>0,E409=0),0,1)","v":0}]
["011.100.1000.6232.100","Long Term Disability",{"v":0,"d":"$0.00"},null,"010","010","011","100","1000","6232","100",null,"100",null,"822",{"$nulls":11},{"$f":"IF(OR(SUMPRODUCT(--(E410=$O$1:$O$542))>0,E410=0),0,1)","v":0}]
["011.100.1000.6260.100","Worker's Compensation",{"v":0,"d":"$0.00"},null,"010","010","011","100","1000","6260","100",null,"100",null,"823",{"$nulls":11},{"$f":"IF(OR(SUMPRODUCT(--(E411=$O$1:$O$542))>0,E411=0),0,1)","v":0}]
["011.200.1000.6112.100","Teachers",{"v":0,"d":"$0.00"},null,"010","010","011","200","1000","6112","100",null,"100",null,"824",{"$nulls":11},{"$f":"IF(OR(SUMPRODUCT(--(E412=$O$1:$O$542))>0,E412=0),0,1)","v":0}]
["011.200.1000.6221.100","Social Security - OASDI",{"v":0,"d":"$0.00"},null,"010","010","011","200","1000","6221","100",null,"100",null,"825",{"$nulls":11},{"$f":"IF(OR(SUMPRODUCT(--(E413=$O$1:$O$542))>0,E413=0),0,1)","v":0}]
["011.200.1000.6222.100","Medicare - Hospital Insurance ",{"v":0,"d":"$0.00"},null,"010","010","011","200","1000","6222","100",null,"100",null,"826",{"$nulls":11},{"$f":"IF(OR(SUMPRODUCT(--(E414=$O$1:$O$542))>0,E414=0),0,1)","v":0}]
["011.200.1000.6231.100","State Retirement ",{"v":0,"d":"$0.00"},null,"010","010","011","200","1000","6231","100",null,"100",null,"827",{"$nulls":11},{"$f":"IF(OR(SUMPRODUCT(--(E415=$O$1:$O$542))>0,E415=0),0,1)","v":0}]
["011.200.1000.6232.100","Long Term Disability",{"v":0,"d":"$0.00"},null,"010","010","011","200","1000","6232","100",null,"100",null,"828",{"$nulls":11},{"$f":"IF(OR(SUMPRODUCT(--(E416=$O$1:$O$542))>0,E416=0),0,1)","v":0}]
["012.000.0000.0103.000","CSF - Perform Pay",{"v":0,"d":"$0.00"},null,"010","010","012","000","0000","0103","000",null,"000",null,"829",{"$nulls":11},{"$f":"IF(OR(SUMPRODUCT(--(E417=$O$1:$O$542))>0,E417=0),0,1)","v":0}]
["012.000.0000.0221.000","Salaries and Wages ",{"v":0,"d":"$0.00"},null,"010","010","012","000","0000","0221","000",null,"000",null,"830",{"$nulls":11},{"$f":"IF(OR(SUMPRODUCT(--(E418=$O$1:$O$542))>0,E418=0),0,1)","v":0}]
["012.000.0000.0222.000","Social Security - OASDI",{"v":0,"d":"$0.00"},null,"010","010","012","000","0000","0222","000",null,"000",null,"831",{"$nulls":11},{"$f":"IF(OR(SUMPRODUCT(--(E419=$O$1:$O$542))>0,E419=0),0,1)","v":0}]
["012.000.0000.0222.100","Social Security - OASDI",{"v":0,"d":"$0.00"},null,"010","010","012","000","0000","0222","100",null,"100",null,"832",{"$nulls":11},{"$f":"IF(OR(SUMPRODUCT(--(E420=$O$1:$O$542))>0,E420=0),0,1)","v":0}]
["012.000.0000.0223.000","Medicare",{"v":0,"d":"$0.00"},null,"010","010","012","000","0000","0223","000",null,"000",null,"833",{"$nulls":11},{"$f":"IF(OR(SUMPRODUCT(--(E421=$O$1:$O$542))>0,E421=0),0,1)","v":0}]
["012.000.0000.0223.100","Medicare",{"v":0,"d":"$0.00"},null,"010","010","012","000","0000","0223","100",null,"100",null,"834",{"$nulls":11},{"$f":"IF(OR(SUMPRODUCT(--(E422=$O$1:$O$542))>0,E422=0),0,1)","v":0}]
["012.000.0000.0224.000","State Retirement System Contributio",{"v":0,"d":"$0.00"},null,"010","010","012","000","0000","0224","000",null,"000",null,"835",{"$nulls":11},{"$f":"IF(OR(SUMPRODUCT(--(E423=$O$1:$O$542))>0,E423=0),0,1)","v":0}]
["012.000.0000.0224.100","State Retirement System Contributio",{"v":0,"d":"$0.00"},null,"010","010","012","000","0000","0224","100",null,"100",null,"836",{"$nulls":11},{"$f":"IF(OR(SUMPRODUCT(--(E424=$O$1:$O$542))>0,E424=0),0,1)","v":0}]
["012.000.0000.0227.000","Workers' Compensation",{"v":0,"d":"$0.00"},null,"010","010","012","000","0000","0227","000",null,"000",null,"837",{"$nulls":11},{"$f":"IF(OR(SUMPRODUCT(--(E425=$O$1:$O$542))>0,E425=0),0,1)","v":0}]
["012.000.0000.0241.000","Federal Income Taxes",{"v":0,"d":"$0.00"},null,"010","010","012","000","0000","0241","000",null,"000",null,"838",{"$nulls":11},{"$f":"IF(OR(SUMPRODUCT(--(E426=$O$1:$O$542))>0,E426=0),0,1)","v":0}]
["012.000.0000.0241.100","Federal Income Taxes",{"v":0,"d":"$0.00"},null,"010","010","012","000","0000","0241","100",null,"100",null,"839",{"$nulls":11},{"$f":"IF(OR(SUMPRODUCT(--(E427=$O$1:$O$542))>0,E427=0),0,1)","v":0}]
["012.000.0000.0242.000","State Income Taxes",{"v":0,"d":"$0.00"},null,"010","010","012","000","0000","0242","000",null,"000",null,"840",{"$nulls":11},{"$f":"IF(OR(SUMPRODUCT(--(E428=$O$1:$O$542))>0,E428=0),0,1)","v":0}]
["012.000.0000.0242.100","State Income Taxes",{"v":0,"d":"$0.00"},null,"010","010","012","000","0000","0242","100",null,"100",null,"841",{"$nulls":11},{"$f":"IF(OR(SUMPRODUCT(--(E429=$O$1:$O$542))>0,E429=0),0,1)","v":0}]
["012.000.0000.0243.000","Social Security - OASDI",{"v":0,"d":"$0.00"},null,"010","010","012","000","0000","0243","000",null,"000",null,"842",{"$nulls":11},{"$f":"IF(OR(SUMPRODUCT(--(E430=$O$1:$O$542))>0,E430=0),0,1)","v":0}]
["012.000.0000.0243.100","Social Security - OASDI",{"v":0,"d":"$0.00"},null,"010","010","012","000","0000","0243","100",null,"100",null,"843",{"$nulls":11},{"$f":"IF(OR(SUMPRODUCT(--(E431=$O$1:$O$542))>0,E431=0),0,1)","v":0}]
["012.000.0000.0244.000","Medicare - Hospital Insurance",{"v":0,"d":"$0.00"},null,"010","010","012","000","0000","0244","000",null,"000",null,"844",{"$nulls":11},{"$f":"IF(OR(SUMPRODUCT(--(E432=$O$1:$O$542))>0,E432=0),0,1)","v":0}]
["012.000.0000.0244.100","Medicare - Hospital Insurance",{"v":0,"d":"$0.00"},null,"010","010","012","000","0000","0244","100",null,"100",null,"845",{"$nulls":11},{"$f":"IF(OR(SUMPRODUCT(--(E433=$O$1:$O$542))>0,E433=0),0,1)","v":0}]
["012.000.0000.0245.000","State Retirement Contributions",{"v":0,"d":"$0.00"},null,"010","010","012","000","0000","0245","000",null,"000",null,"846",{"$nulls":11},{"$f":"IF(OR(SUMPRODUCT(--(E434=$O$1:$O$542))>0,E434=0),0,1)","v":0}]
["012.000.0000.0245.100","State Retirement Contributions",{"v":0,"d":"$0.00"},null,"010","010","012","000","0000","0245","100",null,"100",null,"847",{"$nulls":11},{"$f":"IF(OR(SUMPRODUCT(--(E435=$O$1:$O$542))>0,E435=0),0,1)","v":0}]
["012.000.0000.0246.000","Long Term Disability",{"v":0,"d":"$0.00"},null,"010","010","012","000","0000","0246","000",null,"000",null,"848",{"$nulls":11},{"$f":"IF(OR(SUMPRODUCT(--(E436=$O$1:$O$542))>0,E436=0),0,1)","v":0}]
["012.000.0000.0246.100","Long Term Disability",{"v":0,"d":"$0.00"},null,"010","010","012","000","0000","0246","100",null,"100",null,"849",{"$nulls":11},{"$f":"IF(OR(SUMPRODUCT(--(E437=$O$1:$O$542))>0,E437=0),0,1)","v":0}]
["012.000.0000.0247.000","Voluntary Deductions",{"v":0,"d":"$0.00"},null,"010","010","012","000","0000","0247","000",null,"000",null,"850",{"$f":"[2]!F850EndFundBal","v":{"v":4255,"d":"4,255 "}},null,{"$f":"IF(Q438=\"\",P438,Q438)","v":{"v":4255,"d":"4,255 "}},{"$nulls":8},{"$f":"IF(OR(SUMPRODUCT(--(E438=$O$1:$O$542))>0,E438=0),0,1)","v":0}]
["012.000.0000.0247.100","Voluntary Deductions",{"v":0,"d":"$0.00"},null,"010","010","012","000","0000","0247","100",null,"100",null,"855",null,null,{"$f":"IF(Q439=\"\",P439,Q439)","v":{"v":0,"d":"0 "}},{"$nulls":8},{"$f":"IF(OR(SUMPRODUCT(--(E439=$O$1:$O$542))>0,E439=0),0,1)","v":0}]
["012.000.0000.0330.000","Unreserved Fund Balance",{"v":0,"d":"$0.00"},null,"010","010","012","000","0000","0330","000",null,"000",null,"865",null,null,{"$f":"IF(Q440=\"\",P440,Q440)","v":{"v":0,"d":"0 "}},{"$nulls":8},{"$f":"IF(OR(SUMPRODUCT(--(E440=$O$1:$O$542))>0,E440=0),0,1)","v":0}]
["012.000.0000.1510.000","Interest on Investments ",{"v":0,"d":"$0.00"},null,"010","010","012","000","0000","1510","000",null,"000",null,"900",null,null,{"$f":"IF(Q441=\"\",P441,Q441)","v":{"v":0,"d":"0 "}},{"$nulls":8},{"$f":"IF(OR(SUMPRODUCT(--(E441=$O$1:$O$542))>0,E441=0),0,1)","v":0}]
["012.000.0000.3200.000","Restricted Grants-in-Aid",{"v":0,"d":"$0.00"},null,"010","010","012","000","0000","3200","000",null,"000",null,"901",{"$nulls":11},{"$f":"IF(OR(SUMPRODUCT(--(E442=$O$1:$O$542))>0,E442=0),0,1)","v":0}]
["012.000.0000.3201.000","PRIOR YEAR STATE",{"v":0,"d":"$0.00"},null,"010","010","012","000","0000","3201","000",null,"000",null,"902",{"$nulls":11},{"$f":"IF(OR(SUMPRODUCT(--(E443=$O$1:$O$542))>0,E443=0),0,1)","v":0}]
["012.000.0000.3900.000","Revenue for/on Behalf of",{"v":0,"d":"$0.00"},null,"010","010","012","000","0000","3900","000",null,"000",null,"903",{"$nulls":11},{"$f":"IF(OR(SUMPRODUCT(--(E444=$O$1:$O$542))>0,E444=0),0,1)","v":0}]
["012.000.0000.5200.000","Interfund Transfers In ",{"v":0,"d":"$0.00"},null,"010","010","012","000","0000","5200","000",null,"000",null,"904",{"$nulls":11},{"$f":"IF(OR(SUMPRODUCT(--(E445=$O$1:$O$542))>0,E445=0),0,1)","v":0}]
["012.100.1000.0103.100","Cash on Deposit with County Treasurer ",{"v":0,"d":"$0.00"},null,"010","010","012","100","1000","0103","100",null,"100",null,"905",{"$nulls":11},{"$f":"IF(OR(SUMPRODUCT(--(E446=$O$1:$O$542))>0,E446=0),0,1)","v":0}]
["012.100.1000.6100.100","Personal Services - Salaries ",{"v":0,"d":"$0.00"},null,"010","010","012","100","1000","6100","100",null,"100",null,"906",{"$nulls":11},{"$f":"IF(OR(SUMPRODUCT(--(E447=$O$1:$O$542))>0,E447=0),0,1)","v":0}]
["012.100.1000.6112.100","Teachers",{"v":0,"d":"$0.00"},null,"010","010","012","100","1000","6112","100",null,"100",null,"907",{"$nulls":11},{"$f":"IF(OR(SUMPRODUCT(--(E448=$O$1:$O$542))>0,E448=0),0,1)","v":0}]
["012.100.1000.6200.100","Personal Services - Employee Benefi",{"v":0,"d":"$0.00"},null,"010","010","012","100","1000","6200","100",null,"100",null,"908",{"$nulls":11},{"$f":"IF(OR(SUMPRODUCT(--(E449=$O$1:$O$542))>0,E449=0),0,1)","v":0}]
["012.100.1000.6221.100","Social Security - OASDI",{"v":0,"d":"$0.00"},null,"010","010","012","100","1000","6221","100",null,"100",null,"909",{"$nulls":11},{"$f":"IF(OR(SUMPRODUCT(--(E450=$O$1:$O$542))>0,E450=0),0,1)","v":0}]
["012.100.1000.6222.100","Medicare - Hospital Insurance ",{"v":0,"d":"$0.00"},null,{"$f":"IF(AND(F451<>\"\",F451=G451),\"ERROR\",IF(AND(F451<>\"\",F451<>G451),F451,G451))","v":"010"},"010","012","100","1000","6222","100",null,{"$f":"IF(L451<>\"\",L451,K451)","v":"100"},null,"910",{"$nulls":11},{"$f":"IF(OR(SUMPRODUCT(--(E451=$O$1:$O$542))>0,E451=0),0,1)","v":0}]
["012.100.1000.6231.100","State Retirement ",{"v":0,"d":"$0.00"},null,"010","010","012","100","1000","6231","100",null,"100",null,"911",{"$nulls":11},{"$f":"IF(OR(SUMPRODUCT(--(E452=$O$1:$O$542))>0,E452=0),0,1)","v":0}]
["012.100.1000.6232.100","Long Term Disability",{"v":0,"d":"$0.00"},null,"010","010","012","100","1000","6232","100",null,"100",null,"912",{"$nulls":11},{"$f":"IF(OR(SUMPRODUCT(--(E453=$O$1:$O$542))>0,E453=0),0,1)","v":0}]
["012.100.1000.6260.100","Worker's Compensation ",{"v":0,"d":"$0.00"},null,"010","010","012","100","1000","6260","100",null,"100",null,"913",{"$nulls":11},{"$f":"IF(OR(SUMPRODUCT(--(E454=$O$1:$O$542))>0,E454=0),0,1)","v":0}]
["012.100.1000.6300.100","Undesignated",{"v":0,"d":"$0.00"},null,"010","010","012","100","1000","6300","100",null,"100",null,"914",{"$nulls":11},{"$f":"IF(OR(SUMPRODUCT(--(E455=$O$1:$O$542))>0,E455=0),0,1)","v":0}]
["012.200.1000.6112.100","Teachers",{"v":0,"d":"$0.00"},null,"010","010","012","200","1000","6112","100",null,"100",null,"915",{"$nulls":11},{"$f":"IF(OR(SUMPRODUCT(--(E456=$O$1:$O$542))>0,E456=0),0,1)","v":0}]
["012.200.1000.6221.100","Social Security - OASDI",{"v":0,"d":"$0.00"},null,"010","010","012","200","1000","6221","100",null,"100",null,"916",{"$nulls":11},{"$f":"IF(OR(SUMPRODUCT(--(E457=$O$1:$O$542))>0,E457=0),0,1)","v":0}]
["012.200.1000.6222.100","Medicare - Hospital Insurance ",{"v":0,"d":"$0.00"},null,"010","010","012","200","1000","6222","100",null,"100",null,"917",{"$nulls":11},{"$f":"IF(OR(SUMPRODUCT(--(E458=$O$1:$O$542))>0,E458=0),0,1)","v":0}]
["012.200.1000.6231.100","State Retirement ",{"v":0,"d":"$0.00"},null,"010","010","012","200","1000","6231","100",null,"100",null,"918",{"$nulls":11},{"$f":"IF(OR(SUMPRODUCT(--(E459=$O$1:$O$542))>0,E459=0),0,1)","v":0}]
["012.200.1000.6232.100","Long Term Disability",{"v":0,"d":"$0.00"},null,"010","010","012","200","1000","6232","100",null,"100",null,"919",{"$nulls":11},{"$f":"IF(OR(SUMPRODUCT(--(E460=$O$1:$O$542))>0,E460=0),0,1)","v":0}]
["013.000.0000.0103.000","CSF - Other",{"v":0,"d":"$0.00"},null,"010","010","013","000","0000","0103","000",null,"000",null,"920",{"$nulls":11},{"$f":"IF(OR(SUMPRODUCT(--(E461=$O$1:$O$542))>0,E461=0),0,1)","v":0}]
["013.000.0000.0201.000","Accounts Payable",{"v":0,"d":"$0.00"},null,"010","010","013","000","0000","0201","000",null,"000",null,"921",{"$nulls":11},{"$f":"IF(OR(SUMPRODUCT(--(E462=$O$1:$O$542))>0,E462=0),0,1)","v":0}]
["013.000.0000.0221.000","Salaries and Wages ",{"v":0,"d":"$0.00"},null,"010","010","013","000","0000","0221","000",null,"000",null,"922",{"$nulls":11},{"$f":"IF(OR(SUMPRODUCT(--(E463=$O$1:$O$542))>0,E463=0),0,1)","v":0}]
["013.000.0000.0222.000","Social Security - OASDI",{"v":0,"d":"$0.00"},null,"010","010","013","000","0000","0222","000",null,"000",null,"923",{"$nulls":11},{"$f":"IF(OR(SUMPRODUCT(--(E464=$O$1:$O$542))>0,E464=0),0,1)","v":0}]
["013.000.0000.0222.100","Social Security - OASDI",{"v":0,"d":"$0.00"},null,"010","010","013","000","0000","0222","100",null,"100",null,"924",{"$nulls":11},{"$f":"IF(OR(SUMPRODUCT(--(E465=$O$1:$O$542))>0,E465=0),0,1)","v":0}]
["013.000.0000.0223.000","Medicare",{"v":0,"d":"$0.00"},null,"010","010","013","000","0000","0223","000",null,"000",null,"925",{"$nulls":11},{"$f":"IF(OR(SUMPRODUCT(--(E466=$O$1:$O$542))>0,E466=0),0,1)","v":0}]
["013.000.0000.0223.100","Medicare",{"v":0,"d":"$0.00"},null,"010","010","013","000","0000","0223","100",null,"100",null,"926",{"$nulls":11},{"$f":"IF(OR(SUMPRODUCT(--(E467=$O$1:$O$542))>0,E467=0),0,1)","v":0}]
["013.000.0000.0224.000","State Retirement System Contributio",{"v":0,"d":"$0.00"},null,"010","010","013","000","0000","0224","000",null,"000",null,"927",{"$nulls":11},{"$f":"IF(OR(SUMPRODUCT(--(E468=$O$1:$O$542))>0,E468=0),0,1)","v":0}]
["013.000.0000.0224.100","State Retirement System Contributio",{"v":0,"d":"$0.00"},null,"010","010","013","000","0000","0224","100",null,"100",null,"928",{"$nulls":11},{"$f":"IF(OR(SUMPRODUCT(--(E469=$O$1:$O$542))>0,E469=0),0,1)","v":0}]
["013.000.0000.0227.000","Workers' Compensation",{"v":0,"d":"$0.00"},null,"010","010","013","000","0000","0227","000",null,"000",null,"929",{"$nulls":11},{"$f":"IF(OR(SUMPRODUCT(--(E470=$O$1:$O$542))>0,E470=0),0,1)","v":0}]
["013.000.0000.0241.000","Federal Income Taxes",{"v":0,"d":"$0.00"},null,"010","010","013","000","0000","0241","000",null,"000",null,"930",{"$nulls":11},{"$f":"IF(OR(SUMPRODUCT(--(E471=$O$1:$O$542))>0,E471=0),0,1)","v":0}]
["013.000.0000.0241.100","Federal Income Taxes",{"v":0,"d":"$0.00"},null,"010","010","013","000","0000","0241","100",null,"100",null,"931",{"$nulls":11},{"$f":"IF(OR(SUMPRODUCT(--(E472=$O$1:$O$542))>0,E472=0),0,1)","v":0}]
["013.000.0000.0242.000","State Income Taxes",{"v":0,"d":"$0.00"},null,"010","010","013","000","0000","0242","000",null,"000",null,"932",{"$nulls":11},{"$f":"IF(OR(SUMPRODUCT(--(E473=$O$1:$O$542))>0,E473=0),0,1)","v":0}]
["013.000.0000.0242.100","State Income Taxes",{"v":0,"d":"$0.00"},null,"010","010","013","000","0000","0242","100",null,"100",null,"933",{"$nulls":11},{"$f":"IF(OR(SUMPRODUCT(--(E474=$O$1:$O$542))>0,E474=0),0,1)","v":0}]
["013.000.0000.0243.000","Social Security - OASDI",{"v":0,"d":"$0.00"},null,"010","010","013","000","0000","0243","000",null,"000",null,"934",{"$nulls":11},{"$f":"IF(OR(SUMPRODUCT(--(E475=$O$1:$O$542))>0,E475=0),0,1)","v":0}]
["013.000.0000.0243.100","Social Security - OASDI",{"v":0,"d":"$0.00"},null,"010","010","013","000","0000","0243","100",null,"100",null,"935",{"$nulls":11},{"$f":"IF(OR(SUMPRODUCT(--(E476=$O$1:$O$542))>0,E476=0),0,1)","v":0}]
["013.000.0000.0244.000","Medicare - Hospital Insurance",{"v":0,"d":"$0.00"},null,"010","010","013","000","0000","0244","000",null,"000",null,"936",{"$nulls":11},{"$f":"IF(OR(SUMPRODUCT(--(E477=$O$1:$O$542))>0,E477=0),0,1)","v":0}]
["013.000.0000.0244.100","Medicare - Hospital Insurance",{"v":0,"d":"$0.00"},null,"010","010","013","000","0000","0244","100",null,"100",null,"937",{"$nulls":11},{"$f":"IF(OR(SUMPRODUCT(--(E478=$O$1:$O$542))>0,E478=0),0,1)","v":0}]
["013.000.0000.0245.000","State Retirement Contributions",{"v":0,"d":"$0.00"},null,"010","010","013","000","0000","0245","000",null,"000",null,"938",{"$nulls":11},{"$f":"IF(OR(SUMPRODUCT(--(E479=$O$1:$O$542))>0,E479=0),0,1)","v":0}]
["013.000.0000.0245.100","State Retirement Contributions",{"v":0,"d":"$0.00"},null,"010","010","013","000","0000","0245","100",null,"100",null,"939",{"$nulls":11},{"$f":"IF(OR(SUMPRODUCT(--(E480=$O$1:$O$542))>0,E480=0),0,1)","v":0}]
["013.000.0000.0246.000","Long Term Disability",{"v":0,"d":"$0.00"},null,"010","010","013","000","0000","0246","000",null,"000",null,"940",{"$nulls":11},{"$f":"IF(OR(SUMPRODUCT(--(E481=$O$1:$O$542))>0,E481=0),0,1)","v":0}]
["013.000.0000.0246.100","Long Term Disability",{"v":0,"d":"$0.00"},null,"010","010","013","000","0000","0246","100",null,"100",null,"941",{"$nulls":11},{"$f":"IF(OR(SUMPRODUCT(--(E482=$O$1:$O$542))>0,E482=0),0,1)","v":0}]
["013.000.0000.0247.000","Voluntary Deductions",{"v":0,"d":"$0.00"},null,"010","010","013","000","0000","0247","000",null,"000",null,"942",{"$nulls":11},{"$f":"IF(OR(SUMPRODUCT(--(E483=$O$1:$O$542))>0,E483=0),0,1)","v":0}]
["013.000.0000.0247.100","Voluntary Deductions",{"v":0,"d":"$0.00"},null,"010","010","013","000","0000","0247","100",null,"100",null,"943",{"$nulls":11},{"$f":"IF(OR(SUMPRODUCT(--(E484=$O$1:$O$542))>0,E484=0),0,1)","v":0}]
["013.000.0000.0330.000","Unreserved Fund Balance",{"v":0,"d":"$0.00"},null,"010","010","013","000","0000","0330","000",null,"000",null,"944",{"$nulls":11},{"$f":"IF(OR(SUMPRODUCT(--(E485=$O$1:$O$542))>0,E485=0),0,1)","v":0}]
["013.000.0000.1510.000","Interest on Investments ",{"v":0,"d":"$0.00"},null,"010","010","013","000","0000","1510","000",null,"000",null,"945",{"$nulls":11},{"$f":"IF(OR(SUMPRODUCT(--(E486=$O$1:$O$542))>0,E486=0),0,1)","v":0}]
["013.000.0000.3200.000","Restricted Grants-in-Aid",{"v":0,"d":"$0.00"},null,"010","010","013","000","0000","3200","000",null,"000",null,"946",{"$nulls":11},{"$f":"IF(OR(SUMPRODUCT(--(E487=$O$1:$O$542))>0,E487=0),0,1)","v":0}]
["013.000.0000.3201.000","PRIOR YEAR STATE",{"v":0,"d":"$0.00"},null,"010","010","013","000","0000","3201","000",null,"000",null,"947",{"$nulls":11},{"$f":"IF(OR(SUMPRODUCT(--(E488=$O$1:$O$542))>0,E488=0),0,1)","v":0}]
["013.000.0000.3900.000","Revenue for/on Behalf of",{"v":0,"d":"$0.00"},null,"010","010","013","000","0000","3900","000",null,"000",null,"948",{"$nulls":11},{"$f":"IF(OR(SUMPRODUCT(--(E489=$O$1:$O$542))>0,E489=0),0,1)","v":0}]
["013.000.0000.5200.000","Interfund Transfers In ",{"v":0,"d":"$0.00"},null,"010","010","013","000","0000","5200","000",null,"000",null,"949",{"$nulls":11},{"$f":"IF(OR(SUMPRODUCT(--(E490=$O$1:$O$542))>0,E490=0),0,1)","v":0}]
["013.000.0000.6930.000","Transfer In",{"v":0,"d":"$0.00"},null,"010","010","013","000","0000","6930","000",null,"000",null,"950",{"$nulls":11},{"$f":"IF(OR(SUMPRODUCT(--(E491=$O$1:$O$542))>0,E491=0),0,1)","v":0}]
["013.100.1000.0103.100","Cash on Deposit with County Treasurer ",{"v":0,"d":"$0.00"},null,"010","010","013","100","1000","0103","100",null,"100",null,"951",{"$nulls":11},{"$f":"IF(OR(SUMPRODUCT(--(E492=$O$1:$O$542))>0,E492=0),0,1)","v":0}]
["013.100.1000.6100.100","Personal Services - Salaries ",{"v":0,"d":"$0.00"},null,"010","010","013","100","1000","6100","100",null,"100",null,"952",{"$nulls":11},{"$f":"IF(OR(SUMPRODUCT(--(E493=$O$1:$O$542))>0,E493=0),0,1)","v":0}]
["013.100.1000.6112.100","Teachers",{"v":0,"d":"$0.00"},null,"010","010","013","100","1000","6112","100",null,"100",null,"953",{"$nulls":11},{"$f":"IF(OR(SUMPRODUCT(--(E494=$O$1:$O$542))>0,E494=0),0,1)","v":0}]
["013.100.1000.6200.100","Personal Services - Employee Benefi",{"v":0,"d":"$0.00"},null,"010","010","013","100","1000","6200","100",null,"100",null,"954",{"$nulls":11},{"$f":"IF(OR(SUMPRODUCT(--(E495=$O$1:$O$542))>0,E495=0),0,1)","v":0}]
["013.100.1000.6221.100","Social Security - OASDI",{"v":0,"d":"$0.00"},null,"010","010","013","100","1000","6221","100",null,"100",null,"955",{"$nulls":11},{"$f":"IF(OR(SUMPRODUCT(--(E496=$O$1:$O$542))>0,E496=0),0,1)","v":0}]
["013.100.1000.6222.100","Medicare - Hospital Insurance ",{"v":0,"d":"$0.00"},null,"010","010","013","100","1000","6222","100",null,"100",null,"956",{"$nulls":11},{"$f":"IF(OR(SUMPRODUCT(--(E497=$O$1:$O$542))>0,E497=0),0,1)","v":0}]
["013.100.1000.6231.100","State Retirement ",{"v":0,"d":"$0.00"},null,"010","010","013","100","1000","6231","100",null,"100",null,"957",{"$nulls":11},{"$f":"IF(OR(SUMPRODUCT(--(E498=$O$1:$O$542))>0,E498=0),0,1)","v":0}]
["013.100.1000.6232.100","Long Term Disability",{"v":0,"d":"$0.00"},null,"010","010","013","100","1000","6232","100",null,"100",null,"958",{"$nulls":11},{"$f":"IF(OR(SUMPRODUCT(--(E499=$O$1:$O$542))>0,E499=0),0,1)","v":0}]
["013.100.1000.6260.100","Worker's Compensation ",{"v":0,"d":"$0.00"},null,"010","010","013","100","1000","6260","100",null,"100",null,"959",{"$nulls":11},{"$f":"IF(OR(SUMPRODUCT(--(E500=$O$1:$O$542))>0,E500=0),0,1)","v":0}]
["013.100.1000.6300.100","Purchased Professional and Technica",{"v":0,"d":"$0.00"},null,"010","010","013","100","1000","6300","100",null,"100",null,"960",{"$nulls":11},{"$f":"IF(OR(SUMPRODUCT(--(E501=$O$1:$O$542))>0,E501=0),0,1)","v":0}]
["013.100.2100.6630.100","Food ",{"v":0,"d":"$0.00"},null,"010","010","013","100","2100","6630","100",null,"100",null,"961",{"$nulls":11},{"$f":"IF(OR(SUMPRODUCT(--(E502=$O$1:$O$542))>0,E502=0),0,1)","v":0}]
["013.100.2200.6100.100","Personal Services - Salaries ",{"v":0,"d":"$0.00"},null,"010","010","013","100","2200","6100","100",null,"100",null,"962",{"$nulls":11},{"$f":"IF(OR(SUMPRODUCT(--(E503=$O$1:$O$542))>0,E503=0),0,1)","v":0}]
["013.200.1000.6112.100","Teachers",{"v":0,"d":"$0.00"},null,"010","010","013","200","1000","6112","100",null,"100",null,"963",{"$nulls":11},{"$f":"IF(OR(SUMPRODUCT(--(E504=$O$1:$O$542))>0,E504=0),0,1)","v":0}]
["013.200.1000.6221.100","Social Security - OASDI",{"v":0,"d":"$0.00"},null,"010","010","013","200","1000","6221","100",null,"100",null,"964",{"$nulls":11},{"$f":"IF(OR(SUMPRODUCT(--(E505=$O$1:$O$542))>0,E505=0),0,1)","v":0}]
["013.200.1000.6222.100","Medicare - Hospital Insurance ",{"v":0,"d":"$0.00"},null,"010","010","013","200","1000","6222","100",null,"100",null,"965",{"$nulls":11},{"$f":"IF(OR(SUMPRODUCT(--(E506=$O$1:$O$542))>0,E506=0),0,1)","v":0}]
["013.200.1000.6231.100","State Retirement ",{"v":0,"d":"$0.00"},null,"010","010","013","200","1000","6231","100",null,"100",null,"966",{"$nulls":11},{"$f":"IF(OR(SUMPRODUCT(--(E507=$O$1:$O$542))>0,E507=0),0,1)","v":0}]
["013.200.1000.6232.100","Long Term Disability",{"v":0,"d":"$0.00"},null,"010","010","013","200","1000","6232","100",null,"100",null,"967",{"$nulls":11},{"$f":"IF(OR(SUMPRODUCT(--(E508=$O$1:$O$542))>0,E508=0),0,1)","v":0}]
["020.000.0000.0103.000","Instructional Improvement",{"v":11327.31,"d":"$11,327.31"},null,"020",null,"020","000","0000","0103","000",null,"000",null,"968",{"$nulls":11},{"$f":"IF(OR(SUMPRODUCT(--(E509=$O$1:$O$542))>0,E509=0),0,1)","v":0}]
["020.000.0000.0201.000","Accounts Payable",{"v":0,"d":"$0.00"},null,"020",null,"020","000","0000","0201","000",null,"000",null,"969",{"$nulls":11},{"$f":"IF(OR(SUMPRODUCT(--(E510=$O$1:$O$542))>0,E510=0),0,1)","v":0}]
["020.000.0000.0221.000","Salaries and Wages ",{"v":0,"d":"$0.00"},null,"020",null,"020","000","0000","0221","000",null,"000",null,"970",{"$nulls":11},{"$f":"IF(OR(SUMPRODUCT(--(E511=$O$1:$O$542))>0,E511=0),0,1)","v":0}]
["020.000.0000.0222.000","Social Security - OASDI",{"v":0,"d":"$0.00"},null,"020",null,"020","000","0000","0222","000",null,"000",null,"971",{"$nulls":11},{"$f":"IF(OR(SUMPRODUCT(--(E512=$O$1:$O$542))>0,E512=0),0,1)","v":0}]
["020.000.0000.0222.100","Social Security - OASDI",{"v":0,"d":"$0.00"},null,"020",null,"020","000","0000","0222","100",null,"100",null,"972",{"$nulls":11},{"$f":"IF(OR(SUMPRODUCT(--(E513=$O$1:$O$542))>0,E513=0),0,1)","v":0}]
["020.000.0000.0223.000","Medicare",{"v":0,"d":"$0.00"},null,"020",null,"020","000","0000","0223","000",null,"000",null,"973",{"$nulls":11},{"$f":"IF(OR(SUMPRODUCT(--(E514=$O$1:$O$542))>0,E514=0),0,1)","v":0}]
["020.000.0000.0223.100","Medicare",{"v":0,"d":"$0.00"},null,{"$f":"IF(AND(F515<>\"\",F515=G515),\"ERROR\",IF(AND(F515<>\"\",F515<>G515),F515,G515))","v":"020"},null,"020","000","0000","0223","100",null,{"$f":"IF(L515<>\"\",L515,K515)","v":"100"},null,"974",{"$nulls":11},{"$f":"IF(OR(SUMPRODUCT(--(E515=$O$1:$O$542))>0,E515=0),0,1)","v":0}]
["020.000.0000.0224.000","State Retirement System Contributio",{"v":0,"d":"$0.00"},null,"020",null,"020","000","0000","0224","000",null,"000",null,"975",{"$nulls":11},{"$f":"IF(OR(SUMPRODUCT(--(E516=$O$1:$O$542))>0,E516=0),0,1)","v":0}]
["020.000.0000.0224.100","State Retirement System Contributio",{"v":0,"d":"$0.00"},null,"020",null,"020","000","0000","0224","100",null,"100",null,"976",{"$nulls":11},{"$f":"IF(OR(SUMPRODUCT(--(E517=$O$1:$O$542))>0,E517=0),0,1)","v":0}]
["020.000.0000.0227.000","Workers' Compensation",{"v":0,"d":"$0.00"},null,"020",null,"020","000","0000","0227","000",null,"000",null,"977",{"$nulls":11},{"$f":"IF(OR(SUMPRODUCT(--(E518=$O$1:$O$542))>0,E518=0),0,1)","v":0}]
["020.000.0000.0241.000","Federal Income Taxes",{"v":0,"d":"$0.00"},null,"020",null,"020","000","0000","0241","000",null,"000",null,"978",{"$nulls":11},{"$f":"IF(OR(SUMPRODUCT(--(E519=$O$1:$O$542))>0,E519=0),0,1)","v":0}]
["020.000.0000.0241.100","Federal Income Taxes",{"v":0,"d":"$0.00"},null,"020",null,"020","000","0000","0241","100",null,"100",null,"979",{"$nulls":11},{"$f":"IF(OR(SUMPRODUCT(--(E520=$O$1:$O$542))>0,E520=0),0,1)","v":0}]
["020.000.0000.0242.000","State Income Taxes",{"v":0,"d":"$0.00"},null,"020",null,"020","000","0000","0242","000",null,"000",null,"980",{"$nulls":11},{"$f":"IF(OR(SUMPRODUCT(--(E521=$O$1:$O$542))>0,E521=0),0,1)","v":0}]
["020.000.0000.0242.100","State Income Taxes",{"v":0,"d":"$0.00"},null,"020",null,"020","000","0000","0242","100",null,"100",null,"981",{"$nulls":11},{"$f":"IF(OR(SUMPRODUCT(--(E522=$O$1:$O$542))>0,E522=0),0,1)","v":0}]
["020.000.0000.0243.000","Social Security - OASDI",{"v":0,"d":"$0.00"},null,"020",null,"020","000","0000","0243","000",null,"000",null,"982",{"$nulls":11},{"$f":"IF(OR(SUMPRODUCT(--(E523=$O$1:$O$542))>0,E523=0),0,1)","v":0}]
["020.000.0000.0243.100","Social Security - OASDI",{"v":0,"d":"$0.00"},null,"020",null,"020","000","0000","0243","100",null,"100",null,"983",{"$nulls":11},{"$f":"IF(OR(SUMPRODUCT(--(E524=$O$1:$O$542))>0,E524=0),0,1)","v":0}]
["020.000.0000.0244.000","Medicare - Hospital Insurance",{"v":0,"d":"$0.00"},null,"020",null,"020","000","0000","0244","000",null,"000",null,"984",{"$nulls":11},{"$f":"IF(OR(SUMPRODUCT(--(E525=$O$1:$O$542))>0,E525=0),0,1)","v":0}]
["020.000.0000.0244.100","Medicare - Hospital Insurance",{"v":0,"d":"$0.00"},null,"020",null,"020","000","0000","0244","100",null,"100",null,"985",{"$nulls":11},{"$f":"IF(OR(SUMPRODUCT(--(E526=$O$1:$O$542))>0,E526=0),0,1)","v":0}]
["020.000.0000.0245.000","State Retirement Contributions",{"v":0,"d":"$0.00"},null,"020",null,"020","000","0000","0245","000",null,"000",null,"986",{"$nulls":11},{"$f":"IF(OR(SUMPRODUCT(--(E527=$O$1:$O$542))>0,E527=0),0,1)","v":0}]
["020.000.0000.0245.100","State Retirement Contributions",{"v":0,"d":"$0.00"},null,"020",null,"020","000","0000","0245","100",null,"100",null,"987",{"$nulls":11},{"$f":"IF(OR(SUMPRODUCT(--(E528=$O$1:$O$542))>0,E528=0),0,1)","v":0}]
["020.000.0000.0246.000","Long Term Disability",{"v":0,"d":"$0.00"},null,"020",null,"020","000","0000","0246","000",null,"000",null,"988",{"$nulls":11},{"$f":"IF(OR(SUMPRODUCT(--(E529=$O$1:$O$542))>0,E529=0),0,1)","v":0}]
["020.000.0000.0246.100","Long Term Disability",{"v":0,"d":"$0.00"},null,"020",null,"020","000","0000","0246","100",null,"100",null,"989",{"$nulls":11},{"$f":"IF(OR(SUMPRODUCT(--(E530=$O$1:$O$542))>0,E530=0),0,1)","v":0}]
["020.000.0000.0247.000","Voluntary Deductions",{"v":0,"d":"$0.00"},null,"020",null,"020","000","0000","0247","000",null,"000",null,"990",{"$nulls":11},{"$f":"IF(OR(SUMPRODUCT(--(E531=$O$1:$O$542))>0,E531=0),0,1)","v":0}]
["020.000.0000.0247.100","Voluntary Deductions",{"v":0,"d":"$0.00"},null,"020",null,"020","000","0000","0247","100",null,"100",null,"991",{"$nulls":11},{"$f":"IF(OR(SUMPRODUCT(--(E532=$O$1:$O$542))>0,E532=0),0,1)","v":0}]
["020.000.0000.0330.000","Unreserved Fund Balance",{"v":-8203.9,"d":"-($8,203.90)"},null,"020",null,"020","000","0000","0330","000",null,"000",null,"992",{"$nulls":11},{"$f":"IF(OR(SUMPRODUCT(--(E533=$O$1:$O$542))>0,E533=0),0,1)","v":0}]
["020.000.0000.1510.000","Interest on Investments ",{"v":0,"d":"$0.00"},null,"020",null,"020","000","0000","1510","000",null,"000",null,"993",{"$nulls":11},{"$f":"IF(OR(SUMPRODUCT(--(E534=$O$1:$O$542))>0,E534=0),0,1)","v":0}]
["020.000.0000.3200.000","Restricted Grants-in-Aid",{"v":-3123.41,"d":"-($3,123.41)"},null,"020",null,"020","000","0000","3200","000",null,"000",null,"994",{"$nulls":11},{"$f":"IF(OR(SUMPRODUCT(--(E535=$O$1:$O$542))>0,E535=0),0,1)","v":0}]
["020.100.1000.0103.100","Cash on Deposit with County Treasurer ",{"v":0,"d":"$0.00"},null,"020",null,"020","100","1000","0103","100",null,"100",null,"995",{"$nulls":11},{"$f":"IF(OR(SUMPRODUCT(--(E536=$O$1:$O$542))>0,E536=0),0,1)","v":0}]
["020.100.1000.6100.000","Personal Services - Salaries ",{"v":0,"d":"$0.00"},null,"020",null,"020","100","1000","6100","000",null,"000",null,"996",{"$nulls":11},{"$f":"IF(OR(SUMPRODUCT(--(E537=$O$1:$O$542))>0,E537=0),0,1)","v":0}]
["020.100.1000.6100.100","Personal Services - Sala",{"v":0,"d":"$0.00"},null,"020",null,"020","100","1000","6100","100",null,"100",null,"997",{"$nulls":11},{"$f":"IF(OR(SUMPRODUCT(--(E538=$O$1:$O$542))>0,E538=0),0,1)","v":0}]
["020.100.1000.6112.100","Teachers",{"v":0,"d":"$0.00"},null,"020",null,"020","100","1000","6112","100",null,"100",null,"998",{"$nulls":11},{"$f":"IF(OR(SUMPRODUCT(--(E539=$O$1:$O$542))>0,E539=0),0,1)","v":0}]
["020.100.1000.6200.000","Personal Services - Employee Benefi",{"v":0,"d":"$0.00"},null,"020",null,"020","100","1000","6200","000",null,"000",null,"999",{"$nulls":11},{"$f":"IF(OR(SUMPRODUCT(--(E540=$O$1:$O$542))>0,E540=0),0,1)","v":0}]
["020.100.1000.6221.000","Social Security - OASDI",{"v":0,"d":"$0.00"},null,"020",null,"020","100","1000","6221","000",null,"000",null,"Other",null,null,{"$f":"IF(Q541=\"\",P541,Q541)","v":{"v":0,"d":"0 "}},{"$nulls":8},{"$f":"IF(OR(SUMPRODUCT(--(E541=$O$1:$O$542))>0,E541=0),0,1)","v":0}]
["020.100.1000.6221.100","Social Security - OASDI",{"v":0,"d":"$0.00"},null,"020",null,"020","100","1000","6221","100",null,"100",null,"COVID",{"$f":"'[2]Page 5'!$J$28","v":{"v":-61622,"d":"(61,622)"}},{"$f":"398.6-63630.65","v":{"v":-63232,"d":"(63,232)"}},{"$f":"IF(Q542=\"\",P542,Q542)","v":{"v":-63232,"d":"(63,232)"}},{"$nulls":8},{"$f":"IF(OR(SUMPRODUCT(--(E542=$O$1:$O$542))>0,E542=0),0,1)","v":0}]
["020.100.1000.6222.000","Medicare - Hospital Insurance ",{"v":0,"d":"$0.00"},null,"020",null,"020","100","1000","6222","000",null,"000",{"$nulls":13},{"$f":"IF(OR(SUMPRODUCT(--(E543=$O$1:$O$542))>0,E543=0),0,1)","v":0}]
["020.100.1000.6222.100","Medicare - Hospital Insurance ",{"v":0,"d":"$0.00"},null,"020",null,"020","100","1000","6222","100",null,"100",{"$nulls":13},{"$f":"IF(OR(SUMPRODUCT(--(E544=$O$1:$O$542))>0,E544=0),0,1)","v":0}]
["020.100.1000.6231.000","State Retirement ",{"v":0,"d":"$0.00"},null,"020",null,"020","100","1000","6231","000",null,"000",{"$nulls":13},{"$f":"IF(OR(SUMPRODUCT(--(E545=$O$1:$O$542))>0,E545=0),0,1)","v":0}]
["020.100.1000.6231.100","State Retirement ",{"v":0,"d":"$0.00"},null,"020",null,"020","100","1000","6231","100",null,"100",{"$nulls":13},{"$f":"IF(OR(SUMPRODUCT(--(E546=$O$1:$O$542))>0,E546=0),0,1)","v":0}]
["020.100.1000.6232.000","Long Term Disability",{"v":0,"d":"$0.00"},null,"020",null,"020","100","1000","6232","000",null,"000",{"$nulls":13},{"$f":"IF(OR(SUMPRODUCT(--(E547=$O$1:$O$542))>0,E547=0),0,1)","v":0}]
["020.100.1000.6232.100","Long Term Disability",{"v":0,"d":"$0.00"},null,"020",null,"020","100","1000","6232","100",null,"100",{"$nulls":13},{"$f":"IF(OR(SUMPRODUCT(--(E548=$O$1:$O$542))>0,E548=0),0,1)","v":0}]
["020.100.1000.6260.100","Worker's Compensation ",{"v":0,"d":"$0.00"},null,"020",null,"020","100","1000","6260","100",null,"100",{"$nulls":13},{"$f":"IF(OR(SUMPRODUCT(--(E549=$O$1:$O$542))>0,E549=0),0,1)","v":0}]
["020.100.1000.6600.000","Supplies ",{"v":0,"d":"$0.00"},null,"020",null,"020","100","1000","6600","000",null,"000",{"$nulls":13},{"$f":"IF(OR(SUMPRODUCT(--(E550=$O$1:$O$542))>0,E550=0),0,1)","v":0}]
["020.100.1000.6600.100","Supplies ",{"v":0,"d":"$0.00"},null,"020",null,"020","100","1000","6600","100",null,"100",{"$nulls":13},{"$f":"IF(OR(SUMPRODUCT(--(E551=$O$1:$O$542))>0,E551=0),0,1)","v":0}]
["071.100.1000.6113.200","Substitute",{"v":0,"d":"$0.00"},null,"071",null,"071","100","1000","6113","100",null,"100",{"$nulls":13},{"$f":"IF(OR(SUMPRODUCT(--(E552=$O$1:$O$542))>0,E552=0),0,1)","v":0}]
["071.100.1000.6220.200","Social Security Contributions",{"v":0,"d":"$0.00"},null,"071",null,"071","100","1000","6220","100",null,"100",{"$nulls":13},{"$f":"IF(OR(SUMPRODUCT(--(E553=$O$1:$O$542))>0,E553=0),0,1)","v":0}]
["071.100.1000.6221.200","Social Security - OASDI",{"v":0,"d":"$0.00"},null,"071",null,"071","100","1000","6221","100",null,"100",{"$nulls":13},{"$f":"IF(OR(SUMPRODUCT(--(E554=$O$1:$O$542))>0,E554=0),0,1)","v":0}]
["071.100.1000.6231.200","State Retirement",{"v":0,"d":"$0.00"},null,"071",null,"071","100","1000","6231","100",null,"100",{"$nulls":13},{"$f":"IF(OR(SUMPRODUCT(--(E555=$O$1:$O$542))>0,E555=0),0,1)","v":0}]
["071.100.1000.6232.200","Long-Term Disability",{"v":0,"d":"$0.00"},null,"071",null,"071","100","1000","6232","100",null,"100",{"$nulls":13},{"$f":"IF(OR(SUMPRODUCT(--(E556=$O$1:$O$542))>0,E556=0),0,1)","v":0}]
["071.100.1000.6260.200","Worker's Compensation",{"v":0,"d":"$0.00"},null,"071",null,"071","100","1000","6260","100",null,"100",{"$nulls":13},{"$f":"IF(OR(SUMPRODUCT(--(E557=$O$1:$O$542))>0,E557=0),0,1)","v":0}]
["071.100.1000.6600.200","Supplies",{"v":0,"d":"$0.00"},null,"071",null,"071","100","1000","6600","100",null,"100",{"$nulls":13},{"$f":"IF(OR(SUMPRODUCT(--(E558=$O$1:$O$542))>0,E558=0),0,1)","v":0}]
["071.100.2100.6300.200","Purchased Professional and Technical Services",{"v":0,"d":"$0.00"},null,"071",null,"071","100","2100","6300","100",null,"100",{"$nulls":13},{"$f":"IF(OR(SUMPRODUCT(--(E559=$O$1:$O$542))>0,E559=0),0,1)","v":0}]
["071.100.2100.6500.200","Other Purchased Services",{"v":0,"d":"$0.00"},null,"071",null,"071","100","2100","6500","100",null,"100",{"$nulls":13},{"$f":"IF(OR(SUMPRODUCT(--(E560=$O$1:$O$542))>0,E560=0),0,1)","v":0}]
["080.000.0000.0103.000","Student Success Fund",{"v":2.22,"d":"$2.22"},null,"071","071","080","000","0000","0103","000",null,"000",{"$nulls":13},{"$f":"IF(OR(SUMPRODUCT(--(E561=$O$1:$O$542))>0,E561=0),0,1)","v":0}]
["080.000.0000.0201.000","Accounts Payable",{"v":0,"d":"$0.00"},null,"071","071","080","000","0000","0201","000",null,"000",{"$nulls":13},{"$f":"IF(OR(SUMPRODUCT(--(E562=$O$1:$O$542))>0,E562=0),0,1)","v":0}]
["080.000.0000.0330.000","Unreserved Fund Balance",{"v":-2.22,"d":"-($2.22)"},null,"071","071","080","000","0000","0330","000",null,"000",{"$nulls":13},{"$f":"IF(OR(SUMPRODUCT(--(E563=$O$1:$O$542))>0,E563=0),0,1)","v":0}]
["080.000.0000.1510.000","Interest on Investments ",{"v":0,"d":"$0.00"},null,"071","071","080","000","0000","1510","000",null,"000",{"$nulls":13},{"$f":"IF(OR(SUMPRODUCT(--(E564=$O$1:$O$542))>0,E564=0),0,1)","v":0}]
["080.000.0000.3160.000","Student Success Fund",{"v":0,"d":"$0.00"},null,"071","071","080","000","0000","3160","000",null,"000",{"$nulls":13},{"$f":"IF(OR(SUMPRODUCT(--(E565=$O$1:$O$542))>0,E565=0),0,1)","v":0}]
["080.100.1000.0103.100","Cash on Deposit with County Treasurer ",{"v":0,"d":"$0.00"},null,"071","071","080","100","1000","0103","100",null,"100",{"$nulls":13},{"$f":"IF(OR(SUMPRODUCT(--(E566=$O$1:$O$542))>0,E566=0),0,1)","v":0}]
["080.100.1000.6600.100","Common Core Excel Math",{"v":0,"d":"$0.00"},null,"071","071","080","100","1000","6600","100",null,"100",{"$nulls":13},{"$f":"IF(OR(SUMPRODUCT(--(E567=$O$1:$O$542))>0,E567=0),0,1)","v":0}]
["080.100.1000.6642.100","Common Core Excel Math",{"v":0,"d":"$0.00"},null,"071","071","080","100","1000","6642","100",null,"100",{"$nulls":13},{"$f":"IF(OR(SUMPRODUCT(--(E568=$O$1:$O$542))>0,E568=0),0,1)","v":0}]
["100.000.0000.0103.000","Cash on Deposit with Cou",{"v":435.26,"d":"$435.26"},null,"100",null,"100","000","0000","0103","000",null,"000",{"$nulls":13},{"$f":"IF(OR(SUMPRODUCT(--(E569=$O$1:$O$542))>0,E569=0),0,1)","v":0}]
["100.000.0000.0201.000","Accounts Payable",{"v":0,"d":"$0.00"},null,"100",null,"100","000","0000","0201","000",null,"000",{"$nulls":13},{"$f":"IF(OR(SUMPRODUCT(--(E570=$O$1:$O$542))>0,E570=0),0,1)","v":0}]
["100.000.0000.0222.000","Social Security - OASDI",{"v":0,"d":"$0.00"},null,"100",null,"100","000","0000","0222","000",null,"000",{"$nulls":13},{"$f":"IF(OR(SUMPRODUCT(--(E571=$O$1:$O$542))>0,E571=0),0,1)","v":0}]
["100.000.0000.0222.100","Social Security - OASDI",{"v":0,"d":"$0.00"},null,"100",null,"100","000","0000","0222","100",null,"100",{"$nulls":13},{"$f":"IF(OR(SUMPRODUCT(--(E572=$O$1:$O$542))>0,E572=0),0,1)","v":0}]
["100.000.0000.0223.000","Medicare",{"v":0,"d":"$0.00"},null,"100",null,"100","000","0000","0223","000",null,"000",{"$nulls":13},{"$f":"IF(OR(SUMPRODUCT(--(E573=$O$1:$O$542))>0,E573=0),0,1)","v":0}]
["100.000.0000.0223.100","Medicare",{"v":0,"d":"$0.00"},null,"100",null,"100","000","0000","0223","100",null,"100",{"$nulls":13},{"$f":"IF(OR(SUMPRODUCT(--(E574=$O$1:$O$542))>0,E574=0),0,1)","v":0}]
["100.000.0000.0224.000","State Retirement System Contributio",{"v":0,"d":"$0.00"},null,"100",null,"100","000","0000","0224","000",null,"000",{"$nulls":13},{"$f":"IF(OR(SUMPRODUCT(--(E575=$O$1:$O$542))>0,E575=0),0,1)","v":0}]
["100.000.0000.0241.000","Federal Income Taxes",{"v":0,"d":"$0.00"},null,"100",null,"100","000","0000","0241","000",null,"000",{"$nulls":13},{"$f":"IF(OR(SUMPRODUCT(--(E576=$O$1:$O$542))>0,E576=0),0,1)","v":0}]
["100.000.0000.0241.100","Federal Income Taxes",{"v":0,"d":"$0.00"},null,"100",null,"100","000","0000","0241","100",null,"100",{"$nulls":13},{"$f":"IF(OR(SUMPRODUCT(--(E577=$O$1:$O$542))>0,E577=0),0,1)","v":0}]
["100.000.0000.0242.000","State Income Taxes",{"v":0,"d":"$0.00"},null,"100",null,"100","000","0000","0242","000",null,"000",{"$nulls":13},{"$f":"IF(OR(SUMPRODUCT(--(E578=$O$1:$O$542))>0,E578=0),0,1)","v":0}]
["100.000.0000.0242.100","State Income Taxes",{"v":0,"d":"$0.00"},null,{"$f":"IF(AND(F579<>\"\",F579=G579),\"ERROR\",IF(AND(F579<>\"\",F579<>G579),F579,G579))","v":"100"},null,"100","000","0000","0242","100",null,{"$f":"IF(L579<>\"\",L579,K579)","v":"100"},{"$nulls":13},{"$f":"IF(OR(SUMPRODUCT(--(E579=$O$1:$O$542))>0,E579=0),0,1)","v":0}]
["100.000.0000.0243.000","Social Security - OASDI",{"v":0,"d":"$0.00"},null,"100",null,"100","000","0000","0243","000",null,"000",{"$nulls":13},{"$f":"IF(OR(SUMPRODUCT(--(E580=$O$1:$O$542))>0,E580=0),0,1)","v":0}]
["100.000.0000.0243.100","Social Security - OASDI",{"v":0,"d":"$0.00"},null,"100",null,"100","000","0000","0243","100",null,"100",{"$nulls":13},{"$f":"IF(OR(SUMPRODUCT(--(E581=$O$1:$O$542))>0,E581=0),0,1)","v":0}]
["100.000.0000.0244.000","Medicare - Hospital Insurance",{"v":0,"d":"$0.00"},null,"100",null,"100","000","0000","0244","000",null,"000",{"$nulls":13},{"$f":"IF(OR(SUMPRODUCT(--(E582=$O$1:$O$542))>0,E582=0),0,1)","v":0}]
["100.000.0000.0244.100","Medicare - Hospital Insurance",{"v":0,"d":"$0.00"},null,"100",null,"100","000","0000","0244","100",null,"100",{"$nulls":13},{"$f":"IF(OR(SUMPRODUCT(--(E583=$O$1:$O$542))>0,E583=0),0,1)","v":0}]
["100.000.0000.0245.000","State Retirement Contributions",{"v":0,"d":"$0.00"},null,"100",null,"100","000","0000","0245","000",null,"000",{"$nulls":13},{"$f":"IF(OR(SUMPRODUCT(--(E584=$O$1:$O$542))>0,E584=0),0,1)","v":0}]
["100.000.0000.0246.000","Long Term Disability",{"v":0,"d":"$0.00"},null,"100",null,"100","000","0000","0246","000",null,"000",{"$nulls":13},{"$f":"IF(OR(SUMPRODUCT(--(E585=$O$1:$O$542))>0,E585=0),0,1)","v":0}]
["100.000.0000.0247.100","Voluntary Deductions",{"v":0,"d":"$0.00"},null,"100",null,"100","000","0000","0247","100",null,"100",{"$nulls":13},{"$f":"IF(OR(SUMPRODUCT(--(E586=$O$1:$O$542))>0,E586=0),0,1)","v":0}]
["100.000.0000.0330.000","Unreserved Fund Balance",{"v":-430.03,"d":"-($430.03)"},null,"100",null,"100","000","0000","0330","000",null,"000",{"$nulls":13},{"$f":"IF(OR(SUMPRODUCT(--(E587=$O$1:$O$542))>0,E587=0),0,1)","v":0}]
["100.000.0000.1280.000","Revenue in Lieu of Taxes",{"v":0,"d":"$0.00"},null,"100",null,"100","000","0000","1280","000",null,"000",{"$nulls":13},{"$f":"IF(OR(SUMPRODUCT(--(E588=$O$1:$O$542))>0,E588=0),0,1)","v":0}]
["100.000.0000.1510.000","Interest on Investments ",{"v":-5.23,"d":"-($5.23)"},null,"100",null,"100","000","0000","1510","000",null,"000",{"$nulls":13},{"$f":"IF(OR(SUMPRODUCT(--(E589=$O$1:$O$542))>0,E589=0),0,1)","v":0}]
["100.000.0000.6221.000","Social Security - OASDI",{"v":0,"d":"$0.00"},null,"100",null,"100","000","0000","6221","000",null,"000",{"$nulls":13},{"$f":"IF(OR(SUMPRODUCT(--(E590=$O$1:$O$542))>0,E590=0),0,1)","v":0}]
["100.000.0000.6222.000","Medicare - Hospital Insurance ",{"v":0,"d":"$0.00"},null,"100",null,"100","000","0000","6222","000",null,"000",{"$nulls":13},{"$f":"IF(OR(SUMPRODUCT(--(E591=$O$1:$O$542))>0,E591=0),0,1)","v":0}]
["100.000.0000.6231.000","State Retirement ",{"v":0,"d":"$0.00"},null,"100",null,"100","000","0000","6231","000",null,"000",{"$nulls":13},{"$f":"IF(OR(SUMPRODUCT(--(E592=$O$1:$O$542))>0,E592=0),0,1)","v":0}]
["100.000.0000.6232.000","Long Term Disability",{"v":0,"d":"$0.00"},null,"100",null,"100","000","0000","6232","000",null,"000",{"$nulls":13},{"$f":"IF(OR(SUMPRODUCT(--(E593=$O$1:$O$542))>0,E593=0),0,1)","v":0}]
["100.100.1000.6100.100","Personal Services - Salaries ",{"v":0,"d":"$0.00"},null,"100",null,"100","100","1000","6100","100",null,"100",{"$nulls":13},{"$f":"IF(OR(SUMPRODUCT(--(E594=$O$1:$O$542))>0,E594=0),0,1)","v":0}]
["100.100.1000.6150.100","Classified Salaries ",{"v":0,"d":"$0.00"},null,"100",null,"100","100","1000","6150","100",null,"100",{"$nulls":13},{"$f":"IF(OR(SUMPRODUCT(--(E595=$O$1:$O$542))>0,E595=0),0,1)","v":0}]
["100.100.1000.6200.100","Personal Services - Employee Benefi",{"v":0,"d":"$0.00"},null,"100",null,"100","100","1000","6200","100",null,"100",{"$nulls":13},{"$f":"IF(OR(SUMPRODUCT(--(E596=$O$1:$O$542))>0,E596=0),0,1)","v":0}]
["100.100.1000.6221.100","Social Security - OASDI",{"v":0,"d":"$0.00"},null,"100",null,"100","100","1000","6221","100",null,"100",{"$nulls":13},{"$f":"IF(OR(SUMPRODUCT(--(E597=$O$1:$O$542))>0,E597=0),0,1)","v":0}]
["100.100.1000.6222.100","Medicare - Hospital Insurance ",{"v":0,"d":"$0.00"},null,"100",null,"100","100","1000","6222","100",null,"100",{"$nulls":13},{"$f":"IF(OR(SUMPRODUCT(--(E598=$O$1:$O$542))>0,E598=0),0,1)","v":0}]
["100.200.2100.6591.100","Services purchase from non-district",{"v":0,"d":"$0.00"},null,"100",null,"100","200","2100","6591","100",null,"100",{"$nulls":13},{"$f":"IF(OR(SUMPRODUCT(--(E599=$O$1:$O$542))>0,E599=0),0,1)","v":0}]
["110.000.0000.0103.000","Title I",{"v":2964.26,"d":"$2,964.26"},null,"110",null,"110","000","0000","0103","000",null,"000",{"$nulls":13},{"$f":"IF(OR(SUMPRODUCT(--(E600=$O$1:$O$542))>0,E600=0),0,1)","v":0}]
["110.000.0000.0201.000","Accounts Payable",{"v":0,"d":"$0.00"},null,"110",null,"110","000","0000","0201","000",null,"000",{"$nulls":13},{"$f":"IF(OR(SUMPRODUCT(--(E601=$O$1:$O$542))>0,E601=0),0,1)","v":0}]
["110.000.0000.0215.000","Federal",{"v":0,"d":"$0.00"},null,"110",null,"110","000","0000","0215","000",null,"000",{"$nulls":13},{"$f":"IF(OR(SUMPRODUCT(--(E602=$O$1:$O$542))>0,E602=0),0,1)","v":0}]
["110.000.0000.0220.000","OASI/MEDICARE (EMPLOYER)",{"v":0,"d":"$0.00"},null,"110",null,"110","000","0000","0220","000",null,"000",{"$nulls":13},{"$f":"IF(OR(SUMPRODUCT(--(E603=$O$1:$O$542))>0,E603=0),0,1)","v":0}]
["110.000.0000.0221.000","Salaries and Wages ",{"v":0,"d":"$0.00"},null,"110",null,"110","000","0000","0221","000",null,"000",{"$nulls":13},{"$f":"IF(OR(SUMPRODUCT(--(E604=$O$1:$O$542))>0,E604=0),0,1)","v":0}]
["110.000.0000.0222.000","OASI - SOCIAL SECURITY",{"v":0,"d":"$0.00"},null,"110",null,"110","000","0000","0222","000",null,"000",{"$nulls":13},{"$f":"IF(OR(SUMPRODUCT(--(E605=$O$1:$O$542))>0,E605=0),0,1)","v":0}]
["110.000.0000.0222.100","Social Security - OASDI",{"v":0,"d":"$0.00"},null,"110",null,"110","000","0000","0222","100",null,"100",{"$nulls":13},{"$f":"IF(OR(SUMPRODUCT(--(E606=$O$1:$O$542))>0,E606=0),0,1)","v":0}]
["110.000.0000.0223.000","OASI - MEDICARE",{"v":0,"d":"$0.00"},null,"110",null,"110","000","0000","0223","000",null,"000",{"$nulls":13},{"$f":"IF(OR(SUMPRODUCT(--(E607=$O$1:$O$542))>0,E607=0),0,1)","v":0}]
["110.000.0000.0223.100","Medicare",{"v":0,"d":"$0.00"},null,"110",null,"110","000","0000","0223","100",null,"100",{"$nulls":13},{"$f":"IF(OR(SUMPRODUCT(--(E608=$O$1:$O$542))>0,E608=0),0,1)","v":0}]
["110.000.0000.0224.000","STATE RETIRE CONTRIB (EM",{"v":0,"d":"$0.00"},null,"110",null,"110","000","0000","0224","000",null,"000",{"$nulls":13},{"$f":"IF(OR(SUMPRODUCT(--(E609=$O$1:$O$542))>0,E609=0),0,1)","v":0}]
["110.000.0000.0224.100","State Retirement System Contributio",{"v":0,"d":"$0.00"},null,"110",null,"110","000","0000","0224","100",null,"100",{"$nulls":13},{"$f":"IF(OR(SUMPRODUCT(--(E610=$O$1:$O$542))>0,E610=0),0,1)","v":0}]
["110.000.0000.0225.000","EMPLOYEE INSURANCE (EMPL",{"v":0,"d":"$0.00"},null,"110",null,"110","000","0000","0225","000",null,"000",{"$nulls":13},{"$f":"IF(OR(SUMPRODUCT(--(E611=$O$1:$O$542))>0,E611=0),0,1)","v":0}]
["110.000.0000.0226.000","UNEMPLOYMENT INS. (EMPLO",{"v":0,"d":"$0.00"},null,"110",null,"110","000","0000","0226","000",null,"000",{"$nulls":13},{"$f":"IF(OR(SUMPRODUCT(--(E612=$O$1:$O$542))>0,E612=0),0,1)","v":0}]
["110.000.0000.0227.000","WORKER'S COMP. (EMPLOYER",{"v":0,"d":"$0.00"},null,"110",null,"110","000","0000","0227","000",null,"000",{"$nulls":13},{"$f":"IF(OR(SUMPRODUCT(--(E613=$O$1:$O$542))>0,E613=0),0,1)","v":0}]
["110.000.0000.0241.000","FEDERAL INCOME TAXES",{"v":0,"d":"$0.00"},null,"110",null,"110","000","0000","0241","000",null,"000",{"$nulls":13},{"$f":"IF(OR(SUMPRODUCT(--(E614=$O$1:$O$542))>0,E614=0),0,1)","v":0}]
["110.000.0000.0241.100","Federal Income Taxes",{"v":0,"d":"$0.00"},null,"110",null,"110","000","0000","0241","100",null,"100",{"$nulls":13},{"$f":"IF(OR(SUMPRODUCT(--(E615=$O$1:$O$542))>0,E615=0),0,1)","v":0}]
["110.000.0000.0242.000","STATE INCOME TAXES",{"v":0,"d":"$0.00"},null,"110",null,"110","000","0000","0242","000",null,"000",{"$nulls":13},{"$f":"IF(OR(SUMPRODUCT(--(E616=$O$1:$O$542))>0,E616=0),0,1)","v":0}]
["110.000.0000.0242.100","State Income Taxes",{"v":0,"d":"$0.00"},null,"110",null,"110","000","0000","0242","100",null,"100",{"$nulls":13},{"$f":"IF(OR(SUMPRODUCT(--(E617=$O$1:$O$542))>0,E617=0),0,1)","v":0}]
["110.000.0000.0243.000","OASI/MEDICARE (EMPLOYEE)",{"v":0,"d":"$0.00"},null,"110",null,"110","000","0000","0243","000",null,"000",{"$nulls":13},{"$f":"IF(OR(SUMPRODUCT(--(E618=$O$1:$O$542))>0,E618=0),0,1)","v":0}]
["110.000.0000.0243.100","Social Security - OASDI",{"v":0,"d":"$0.00"},null,"110",null,"110","000","0000","0243","100",null,"100",{"$nulls":13},{"$f":"IF(OR(SUMPRODUCT(--(E619=$O$1:$O$542))>0,E619=0),0,1)","v":0}]
["110.000.0000.0244.000","OASI - MEDICARE",{"v":0,"d":"$0.00"},null,"110",null,"110","000","0000","0244","000",null,"000",{"$nulls":13},{"$f":"IF(OR(SUMPRODUCT(--(E620=$O$1:$O$542))>0,E620=0),0,1)","v":0}]
["110.000.0000.0244.100","Medicare - Hospital Insurance",{"v":0,"d":"$0.00"},null,"110",null,"110","000","0000","0244","100",null,"100",{"$nulls":13},{"$f":"IF(OR(SUMPRODUCT(--(E621=$O$1:$O$542))>0,E621=0),0,1)","v":0}]
["110.000.0000.0245.000","STATE RETIREMENT (EMPLOY",{"v":0,"d":"$0.00"},null,"110",null,"110","000","0000","0245","000",null,"000",{"$nulls":13},{"$f":"IF(OR(SUMPRODUCT(--(E622=$O$1:$O$542))>0,E622=0),0,1)","v":0}]
["110.000.0000.0245.100","State Retirement Contributions",{"v":0,"d":"$0.00"},null,"110",null,"110","000","0000","0245","100",null,"100",{"$nulls":13},{"$f":"IF(OR(SUMPRODUCT(--(E623=$O$1:$O$542))>0,E623=0),0,1)","v":0}]
["110.000.0000.0246.000","Long Term Disability",{"v":0,"d":"$0.00"},null,"110",null,"110","000","0000","0246","000",null,"000",{"$nulls":13},{"$f":"IF(OR(SUMPRODUCT(--(E624=$O$1:$O$542))>0,E624=0),0,1)","v":0}]
["110.000.0000.0246.100","Long Term Disability",{"v":0,"d":"$0.00"},null,"110",null,"110","000","0000","0246","100",null,"100",{"$nulls":13},{"$f":"IF(OR(SUMPRODUCT(--(E625=$O$1:$O$542))>0,E625=0),0,1)","v":0}]
["110.000.0000.0247.000","VOLUNTARY DEDUCTION",{"v":0,"d":"$0.00"},null,"110",null,"110","000","0000","0247","000",null,"000",{"$nulls":13},{"$f":"IF(OR(SUMPRODUCT(--(E626=$O$1:$O$542))>0,E626=0),0,1)","v":0}]
["110.000.0000.0247.100","Voluntary Deductions",{"v":0,"d":"$0.00"},null,"110",null,"110","000","0000","0247","100",null,"100",{"$nulls":13},{"$f":"IF(OR(SUMPRODUCT(--(E627=$O$1:$O$542))>0,E627=0),0,1)","v":0}]
["110.000.0000.0248.000","COURT ORDERED ASSIGNMENT",{"v":0,"d":"$0.00"},null,"110",null,"110","000","0000","0248","000",null,"000",{"$nulls":13},{"$f":"IF(OR(SUMPRODUCT(--(E628=$O$1:$O$542))>0,E628=0),0,1)","v":0}]
["110.000.0000.0250.000","Deferred Revenues",{"v":0,"d":"$0.00"},null,"110",null,"110","000","0000","0250","000",null,"000",{"$nulls":13},{"$f":"IF(OR(SUMPRODUCT(--(E629=$O$1:$O$542))>0,E629=0),0,1)","v":0}]
["110.000.0000.0330.000","Unreserved Fund Balance",{"v":0,"d":"$0.00"},null,"110",null,"110","000","0000","0330","000",null,"000",{"$nulls":13},{"$f":"IF(OR(SUMPRODUCT(--(E630=$O$1:$O$542))>0,E630=0),0,1)","v":0}]
["110.000.0000.1510.000","Interest on Investments ",{"v":0,"d":"$0.00"},null,"110",null,"110","000","0000","1510","000",null,"000",{"$nulls":13},{"$f":"IF(OR(SUMPRODUCT(--(E631=$O$1:$O$542))>0,E631=0),0,1)","v":0}]
["110.000.0000.4500.000","RESTRICTED GRANT FEDERAL",{"v":-2964.26,"d":"-($2,964.26)"},null,"110",null,"110","000","0000","4500","000",null,"000",{"$nulls":13},{"$f":"IF(OR(SUMPRODUCT(--(E632=$O$1:$O$542))>0,E632=0),0,1)","v":0}]
["110.000.0000.4501.000","PRIOR YEAR REVENUE DUE F",{"v":0,"d":"$0.00"},null,"110",null,"110","000","0000","4501","000",null,"000",{"$nulls":13},{"$f":"IF(OR(SUMPRODUCT(--(E633=$O$1:$O$542))>0,E633=0),0,1)","v":0}]
["110.000.0000.6221.000","Social Security - OASDI",{"v":0,"d":"$0.00"},null,"110",null,"110","000","0000","6221","000",null,"000",{"$nulls":13},{"$f":"IF(OR(SUMPRODUCT(--(E634=$O$1:$O$542))>0,E634=0),0,1)","v":0}]
["110.000.0000.6222.000","Medicare - Hospital Insurance ",{"v":0,"d":"$0.00"},null,"110",null,"110","000","0000","6222","000",null,"000",{"$nulls":13},{"$f":"IF(OR(SUMPRODUCT(--(E635=$O$1:$O$542))>0,E635=0),0,1)","v":0}]
["110.000.0000.6231.000","State Retirement ",{"v":0,"d":"$0.00"},null,"110",null,"110","000","0000","6231","000",null,"000",{"$nulls":13},{"$f":"IF(OR(SUMPRODUCT(--(E636=$O$1:$O$542))>0,E636=0),0,1)","v":0}]
["110.000.0000.6232.000","Long Term Disability",{"v":0,"d":"$0.00"},null,"110",null,"110","000","0000","6232","000",null,"000",{"$nulls":13},{"$f":"IF(OR(SUMPRODUCT(--(E637=$O$1:$O$542))>0,E637=0),0,1)","v":0}]
["110.000.0000.6910.100","Indirect Costs ",{"v":0,"d":"$0.00"},null,"110",null,"110","000","0000","6910","100",null,"100",{"$nulls":13},{"$f":"IF(OR(SUMPRODUCT(--(E638=$O$1:$O$542))>0,E638=0),0,1)","v":0}]
["110.100.0000.1510.000","INTEREST ON INVESTMENTS",{"v":0,"d":"$0.00"},null,"110",null,"110","100","0000","1510","000",null,"000",{"$nulls":13},{"$f":"IF(OR(SUMPRODUCT(--(E639=$O$1:$O$542))>0,E639=0),0,1)","v":0}]
["110.100.0000.4500.000","FEDERAL REVENUE",{"v":0,"d":"$0.00"},null,"110",null,"110","100","0000","4500","000",null,"000",{"$nulls":13},{"$f":"IF(OR(SUMPRODUCT(--(E640=$O$1:$O$542))>0,E640=0),0,1)","v":0}]
["110.100.0000.6221.000","Social Security - OASDI",{"v":0,"d":"$0.00"},null,"110",null,"110","100","0000","6221","000",null,"000",{"$nulls":13},{"$f":"IF(OR(SUMPRODUCT(--(E641=$O$1:$O$542))>0,E641=0),0,1)","v":0}]
["110.100.0000.6222.000","Medicare - Hospital Insurance ",{"v":0,"d":"$0.00"},null,"110",null,"110","100","0000","6222","000",null,"000",{"$nulls":13},{"$f":"IF(OR(SUMPRODUCT(--(E642=$O$1:$O$542))>0,E642=0),0,1)","v":0}]
["110.100.0000.6231.000","State Retirement ",{"v":0,"d":"$0.00"},null,{"$f":"IF(AND(F643<>\"\",F643=G643),\"ERROR\",IF(AND(F643<>\"\",F643<>G643),F643,G643))","v":"110"},null,"110","100","0000","6231","000",null,{"$f":"IF(L643<>\"\",L643,K643)","v":"000"},{"$nulls":13},{"$f":"IF(OR(SUMPRODUCT(--(E643=$O$1:$O$542))>0,E643=0),0,1)","v":0}]
["110.100.0000.6232.000","Long Term Disability",{"v":0,"d":"$0.00"},null,"110",null,"110","100","0000","6232","000",null,"000",{"$nulls":13},{"$f":"IF(OR(SUMPRODUCT(--(E644=$O$1:$O$542))>0,E644=0),0,1)","v":0}]
["110.100.0000.6700.100","CAPITAL EXPENDITURES",{"v":0,"d":"$0.00"},null,"110",null,"110","100","0000","6700","100",null,"100",{"$nulls":13},{"$f":"IF(OR(SUMPRODUCT(--(E645=$O$1:$O$542))>0,E645=0),0,1)","v":0}]
["110.100.1000.0103.100","Cash on Deposit with County Treasurer ",{"v":0,"d":"$0.00"},null,"110",null,"110","100","1000","0103","100",null,"100",{"$nulls":13},{"$f":"IF(OR(SUMPRODUCT(--(E646=$O$1:$O$542))>0,E646=0),0,1)","v":0}]
["110.100.1000.6100.100","Personal Services - Salaries ",{"v":0,"d":"$0.00"},null,"110",null,"110","100","1000","6100","100",null,"100",{"$nulls":13},{"$f":"IF(OR(SUMPRODUCT(--(E647=$O$1:$O$542))>0,E647=0),0,1)","v":0}]
["110.100.1000.6112.100","Teachers",{"v":0,"d":"$0.00"},null,"110",null,"110","100","1000","6112","100",null,"100",{"$nulls":13},{"$f":"IF(OR(SUMPRODUCT(--(E648=$O$1:$O$542))>0,E648=0),0,1)","v":0}]
["110.100.1000.6113.100","Substitute",{"v":0,"d":"$0.00"},null,"110",null,"110","100","1000","6113","100",null,"100",{"$nulls":13},{"$f":"IF(OR(SUMPRODUCT(--(E649=$O$1:$O$542))>0,E649=0),0,1)","v":0}]
["110.100.1000.6150.100","Classified Salaries ",{"v":0,"d":"$0.00"},null,"110",null,"110","100","1000","6150","100",null,"100",{"$nulls":13},{"$f":"IF(OR(SUMPRODUCT(--(E650=$O$1:$O$542))>0,E650=0),0,1)","v":0}]
["110.100.1000.6200.100","EMPLOYEE BENEFITS",{"v":0,"d":"$0.00"},null,"110",null,"110","100","1000","6200","100",null,"100",{"$nulls":13},{"$f":"IF(OR(SUMPRODUCT(--(E651=$O$1:$O$542))>0,E651=0),0,1)","v":0}]
["110.100.1000.6210.100","INSURANCE",{"v":0,"d":"$0.00"},null,"110",null,"110","100","1000","6210","100",null,"100",{"$nulls":13},{"$f":"IF(OR(SUMPRODUCT(--(E652=$O$1:$O$542))>0,E652=0),0,1)","v":0}]
["110.100.1000.6220.100","OASI / MEDICARE",{"v":0,"d":"$0.00"},null,"110",null,"110","100","1000","6220","100",null,"100",{"$nulls":13},{"$f":"IF(OR(SUMPRODUCT(--(E653=$O$1:$O$542))>0,E653=0),0,1)","v":0}]
["110.100.1000.6221.100","OASI - SOCIAL SECURITY",{"v":0,"d":"$0.00"},null,"110",null,"110","100","1000","6221","100",null,"100",{"$nulls":13},{"$f":"IF(OR(SUMPRODUCT(--(E654=$O$1:$O$542))>0,E654=0),0,1)","v":0}]
["110.100.1000.6222.100","OASI - MEDICARE",{"v":0,"d":"$0.00"},null,"110",null,"110","100","1000","6222","100",null,"100",{"$nulls":13},{"$f":"IF(OR(SUMPRODUCT(--(E655=$O$1:$O$542))>0,E655=0),0,1)","v":0}]
["110.100.1000.6230.100","STATE RETIREMENT CONTRIB",{"v":0,"d":"$0.00"},null,"110",null,"110","100","1000","6230","100",null,"100",{"$nulls":13},{"$f":"IF(OR(SUMPRODUCT(--(E656=$O$1:$O$542))>0,E656=0),0,1)","v":0}]
["110.100.1000.6231.100","State Retirement ",{"v":0,"d":"$0.00"},null,"110",null,"110","100","1000","6231","100",null,"100",{"$nulls":13},{"$f":"IF(OR(SUMPRODUCT(--(E657=$O$1:$O$542))>0,E657=0),0,1)","v":0}]
["110.100.1000.6232.100","Long Term Disability",{"v":0,"d":"$0.00"},null,"110",null,"110","100","1000","6232","100",null,"100",{"$nulls":13},{"$f":"IF(OR(SUMPRODUCT(--(E658=$O$1:$O$542))>0,E658=0),0,1)","v":0}]
["110.100.1000.6260.100","Worker's Compensation ",{"v":0,"d":"$0.00"},null,"110",null,"110","100","1000","6260","100",null,"100",{"$nulls":13},{"$f":"IF(OR(SUMPRODUCT(--(E659=$O$1:$O$542))>0,E659=0),0,1)","v":0}]
["110.100.1000.6300.100","Purchased Professional and Technica",{"v":0,"d":"$0.00"},null,"110",null,"110","100","1000","6300","100",null,"100",{"$nulls":13},{"$f":"IF(OR(SUMPRODUCT(--(E660=$O$1:$O$542))>0,E660=0),0,1)","v":0}]
["110.100.1000.6600.100","Supplies ",{"v":0,"d":"$0.00"},null,"110",null,"110","100","1000","6600","100",null,"100",{"$nulls":13},{"$f":"IF(OR(SUMPRODUCT(--(E661=$O$1:$O$542))>0,E661=0),0,1)","v":0}]
["110.100.1000.6800.100","Other Objects",{"v":0,"d":"$0.00"},null,"110",null,"110","100","1000","6800","100",null,"100",{"$nulls":13},{"$f":"IF(OR(SUMPRODUCT(--(E662=$O$1:$O$542))>0,E662=0),0,1)","v":0}]
["110.100.1000.6910.100","Indirect Costs ",{"v":0,"d":"$0.00"},null,"110",null,"110","100","1000","6910","100",null,"100",{"$nulls":13},{"$f":"IF(OR(SUMPRODUCT(--(E663=$O$1:$O$542))>0,E663=0),0,1)","v":0}]
["110.100.1900.0103.100","Cash on Deposit with County Treasurer ",{"v":0,"d":"$0.00"},null,"110",null,"110","100","1900","0103","100",null,"100",{"$nulls":13},{"$f":"IF(OR(SUMPRODUCT(--(E664=$O$1:$O$542))>0,E664=0),0,1)","v":0}]
["110.100.1900.6150.100","Classified Salaries ",{"v":0,"d":"$0.00"},null,"110",null,"110","100","1900","6150","100",null,"100",{"$nulls":13},{"$f":"IF(OR(SUMPRODUCT(--(E665=$O$1:$O$542))>0,E665=0),0,1)","v":0}]
["110.100.1900.6221.100","Social Security - OASDI",{"v":0,"d":"$0.00"},null,"110",null,"110","100","1900","6221","100",null,"100",{"$nulls":13},{"$f":"IF(OR(SUMPRODUCT(--(E666=$O$1:$O$542))>0,E666=0),0,1)","v":0}]
["110.100.1900.6222.100","Medicare - Hospital Insurance ",{"v":0,"d":"$0.00"},null,"110",null,"110","100","1900","6222","100",null,"100",{"$nulls":13},{"$f":"IF(OR(SUMPRODUCT(--(E667=$O$1:$O$542))>0,E667=0),0,1)","v":0}]
["110.100.1900.6231.100","State Retirement ",{"v":0,"d":"$0.00"},null,"110",null,"110","100","1900","6231","100",null,"100",{"$nulls":13},{"$f":"IF(OR(SUMPRODUCT(--(E668=$O$1:$O$542))>0,E668=0),0,1)","v":0}]
["110.100.1900.6232.100","Long-Term Disability",{"v":0,"d":"$0.00"},null,"110",null,"110","100","1900","6232","100",null,"100",{"$nulls":13},{"$f":"IF(OR(SUMPRODUCT(--(E669=$O$1:$O$542))>0,E669=0),0,1)","v":0}]
["110.100.2100.0103.100","Cash on Deposit with County Treasurer ",{"v":0,"d":"$0.00"},null,"110",null,"110","100","2100","0103","100",null,"100",{"$nulls":13},{"$f":"IF(OR(SUMPRODUCT(--(E670=$O$1:$O$542))>0,E670=0),0,1)","v":0}]
["110.100.2100.6100.100","Personal Services - Salaries ",{"v":0,"d":"$0.00"},null,"110",null,"110","100","2100","6100","100",null,"100",{"$nulls":13},{"$f":"IF(OR(SUMPRODUCT(--(E671=$O$1:$O$542))>0,E671=0),0,1)","v":0}]
["110.100.2100.6200.100","Personal Services - Employee Benefi",{"v":0,"d":"$0.00"},null,"110",null,"110","100","2100","6200","100",null,"100",{"$nulls":13},{"$f":"IF(OR(SUMPRODUCT(--(E672=$O$1:$O$542))>0,E672=0),0,1)","v":0}]
["110.100.2100.6300.100","Purchased Professional and Technica",{"v":0,"d":"$0.00"},null,"110",null,"110","100","2100","6300","100",null,"100",{"$nulls":13},{"$f":"IF(OR(SUMPRODUCT(--(E673=$O$1:$O$542))>0,E673=0),0,1)","v":0}]
["110.100.2100.6500.100","Other Purchased Services ",{"v":0,"d":"$0.00"},null,"110",null,"110","100","2100","6500","100",null,"100",{"$nulls":13},{"$f":"IF(OR(SUMPRODUCT(--(E674=$O$1:$O$542))>0,E674=0),0,1)","v":0}]
["110.100.2100.6600.100","Supplies ",{"v":0,"d":"$0.00"},null,"110",null,"110","100","2100","6600","100",null,"100",{"$nulls":13},{"$f":"IF(OR(SUMPRODUCT(--(E675=$O$1:$O$542))>0,E675=0),0,1)","v":0}]
["110.100.2100.6800.100","Other Objects",{"v":0,"d":"$0.00"},null,"110",null,"110","100","2100","6800","100",null,"100",{"$nulls":13},{"$f":"IF(OR(SUMPRODUCT(--(E676=$O$1:$O$542))>0,E676=0),0,1)","v":0}]
["110.100.2200.6500.100","Other Purchased Services",{"v":0,"d":"$0.00"},null,"110",null,"110","100","2200","6500","100",null,"100",{"$nulls":13},{"$f":"IF(OR(SUMPRODUCT(--(E677=$O$1:$O$542))>0,E677=0),0,1)","v":0}]
["110.100.2210.0103.100","Cash on Deposit with County Treasurer ",{"v":0,"d":"$0.00"},null,"110",null,"110","100","2210","0103","100",null,"100",{"$nulls":13},{"$f":"IF(OR(SUMPRODUCT(--(E678=$O$1:$O$542))>0,E678=0),0,1)","v":0}]
["110.100.2210.6600.100","AIMSWeb Reading",{"v":0,"d":"$0.00"},null,"110",null,"110","100","2210","6600","100",null,"100",{"$nulls":13},{"$f":"IF(OR(SUMPRODUCT(--(E679=$O$1:$O$542))>0,E679=0),0,1)","v":0}]
["110.100.2210.6610.100","Undesignated",{"v":0,"d":"$0.00"},null,"110",null,"110","100","2210","6610","100",null,"100",{"$nulls":13},{"$f":"IF(OR(SUMPRODUCT(--(E680=$O$1:$O$542))>0,E680=0),0,1)","v":0}]
["110.100.2300.6300.100","Undesignated",{"v":0,"d":"$0.00"},null,"110",null,"110","100","2300","6300","100",null,"100",{"$nulls":13},{"$f":"IF(OR(SUMPRODUCT(--(E681=$O$1:$O$542))>0,E681=0),0,1)","v":0}]
["110.100.2300.6600.100","supplies",{"v":0,"d":"$0.00"},null,"110",null,"110","100","2300","6600","100",null,"100",{"$nulls":13},{"$f":"IF(OR(SUMPRODUCT(--(E682=$O$1:$O$542))>0,E682=0),0,1)","v":0}]
["110.100.2300.6800.100","Undesignated",{"v":0,"d":"$0.00"},null,"110",null,"110","100","2300","6800","100",null,"100",{"$nulls":13},{"$f":"IF(OR(SUMPRODUCT(--(E683=$O$1:$O$542))>0,E683=0),0,1)","v":0}]
["110.100.2600.6150.100","Classified Salaries ",{"v":0,"d":"$0.00"},null,"110",null,"110","100","2600","6150","100",null,"100",{"$nulls":13},{"$f":"IF(OR(SUMPRODUCT(--(E684=$O$1:$O$542))>0,E684=0),0,1)","v":0}]
["110.100.2600.6221.100","Social Security - OASDI",{"v":0,"d":"$0.00"},null,"110",null,"110","100","2600","6221","100",null,"100",{"$nulls":13},{"$f":"IF(OR(SUMPRODUCT(--(E685=$O$1:$O$542))>0,E685=0),0,1)","v":0}]
["110.100.2600.6222.100","Medicare - Hospital Insurance ",{"v":0,"d":"$0.00"},null,"110",null,"110","100","2600","6222","100",null,"100",{"$nulls":13},{"$f":"IF(OR(SUMPRODUCT(--(E686=$O$1:$O$542))>0,E686=0),0,1)","v":0}]
["110.100.2600.6231.100","State Retirement ",{"v":0,"d":"$0.00"},null,"110",null,"110","100","2600","6231","100",null,"100",{"$nulls":13},{"$f":"IF(OR(SUMPRODUCT(--(E687=$O$1:$O$542))>0,E687=0),0,1)","v":0}]
["110.100.2600.6232.100","Long Term Disability",{"v":0,"d":"$0.00"},null,"110",null,"110","100","2600","6232","100",null,"100",{"$nulls":13},{"$f":"IF(OR(SUMPRODUCT(--(E688=$O$1:$O$542))>0,E688=0),0,1)","v":0}]
["110.100.2600.6260.100","Worker's Compensation ",{"v":0,"d":"$0.00"},null,"110",null,"110","100","2600","6260","100",null,"100",{"$nulls":13},{"$f":"IF(OR(SUMPRODUCT(--(E689=$O$1:$O$542))>0,E689=0),0,1)","v":0}]
["110.100.2700.6150.100","Classified Salaries",{"v":0,"d":"$0.00"},null,"110",null,"110","100","2700","6150","100",null,"100",{"$nulls":13},{"$f":"IF(OR(SUMPRODUCT(--(E690=$O$1:$O$542))>0,E690=0),0,1)","v":0}]
["110.100.2700.6221.100","Social Security - OASDI",{"v":0,"d":"$0.00"},null,"110",null,"110","100","2700","6221","100",null,"100",{"$nulls":13},{"$f":"IF(OR(SUMPRODUCT(--(E691=$O$1:$O$542))>0,E691=0),0,1)","v":0}]
["110.100.2700.6222.100","Medicare - Hospital Insurance ",{"v":0,"d":"$0.00"},null,"110",null,"110","100","2700","6222","100",null,"100",{"$nulls":13},{"$f":"IF(OR(SUMPRODUCT(--(E692=$O$1:$O$542))>0,E692=0),0,1)","v":0}]
["110.100.2700.6231.100","State Retirement ",{"v":0,"d":"$0.00"},null,"110",null,"110","100","2700","6231","100",null,"100",{"$nulls":13},{"$f":"IF(OR(SUMPRODUCT(--(E693=$O$1:$O$542))>0,E693=0),0,1)","v":0}]
["110.100.2700.6232.100","Long Term Disability",{"v":0,"d":"$0.00"},null,"110",null,"110","100","2700","6232","100",null,"100",{"$nulls":13},{"$f":"IF(OR(SUMPRODUCT(--(E694=$O$1:$O$542))>0,E694=0),0,1)","v":0}]
["110.100.2700.6260.100","Worker's Compensation",{"v":0,"d":"$0.00"},null,"110",null,"110","100","2700","6260","100",null,"100",{"$nulls":13},{"$f":"IF(OR(SUMPRODUCT(--(E695=$O$1:$O$542))>0,E695=0),0,1)","v":0}]
["110.100.2700.6500.100","Other Purchased Services",{"v":0,"d":"$0.00"},null,"110",null,"110","100","2700","6500","100",null,"100",{"$nulls":13},{"$f":"IF(OR(SUMPRODUCT(--(E696=$O$1:$O$542))>0,E696=0),0,1)","v":0}]
["110.100.3000.6400.100","Purchased Property Services ",{"v":0,"d":"$0.00"},null,"110",null,"110","100","3000","6400","100",null,"100",{"$nulls":13},{"$f":"IF(OR(SUMPRODUCT(--(E697=$O$1:$O$542))>0,E697=0),0,1)","v":0}]
["110.100.3000.6500.100","Undesignated",{"v":0,"d":"$0.00"},null,"110",null,"110","100","3000","6500","100",null,"100",{"$nulls":13},{"$f":"IF(OR(SUMPRODUCT(--(E698=$O$1:$O$542))>0,E698=0),0,1)","v":0}]
["110.100.5000.6910.100","Indirect Costs ",{"v":0,"d":"$0.00"},null,"110",null,"110","100","5000","6910","100",null,"100",{"$nulls":13},{"$f":"IF(OR(SUMPRODUCT(--(E699=$O$1:$O$542))>0,E699=0),0,1)","v":0}]
["110.400.2700.0103.100","Cash on Deposit with County Treasurer ",{"v":0,"d":"$0.00"},null,"110",null,"110","400","2700","0103","100",null,"100",{"$nulls":13},{"$f":"IF(OR(SUMPRODUCT(--(E700=$O$1:$O$542))>0,E700=0),0,1)","v":0}]
["110.400.2700.6626.100","Summer School Fuel",{"v":0,"d":"$0.00"},null,"110",null,"110","400","2700","6626","100",null,"100",{"$nulls":13},{"$f":"IF(OR(SUMPRODUCT(--(E701=$O$1:$O$542))>0,E701=0),0,1)","v":0}]
["110.400.2710.0103.100","Cash on Deposit with County Treasurer ",{"v":0,"d":"$0.00"},null,"110",null,"110","400","2710","0103","100",null,"100",{"$nulls":13},{"$f":"IF(OR(SUMPRODUCT(--(E702=$O$1:$O$542))>0,E702=0),0,1)","v":0}]
["110.400.2710.6626.100","Fuel for Summer School",{"v":0,"d":"$0.00"},null,"110",null,"110","400","2710","6626","100",null,"100",{"$nulls":13},{"$f":"IF(OR(SUMPRODUCT(--(E703=$O$1:$O$542))>0,E703=0),0,1)","v":0}]
["111.000.0000.0103.000","Cash on Deposit with County Treasurer ",{"v":-4341.28,"d":"-($4,341.28)"},null,"111",null,"111","000","0000","0103","000",null,"000",{"$nulls":13},{"$f":"IF(OR(SUMPRODUCT(--(E704=$O$1:$O$542))>0,E704=0),0,1)","v":0}]
["111.000.0000.0201.000","Accounts Payable",{"v":0,"d":"$0.00"},null,"111",null,"111","000","0000","0201","000",null,"000",{"$nulls":13},{"$f":"IF(OR(SUMPRODUCT(--(E705=$O$1:$O$542))>0,E705=0),0,1)","v":0}]
["111.000.0000.0221.000","Salaries and Wages ",{"v":0,"d":"$0.00"},null,"111",null,"111","000","0000","0221","000",null,"000",{"$nulls":13},{"$f":"IF(OR(SUMPRODUCT(--(E706=$O$1:$O$542))>0,E706=0),0,1)","v":0}]
["111.000.0000.0222.100","Social Security - OASDI",{"v":0,"d":"$0.00"},null,{"$f":"IF(AND(F707<>\"\",F707=G707),\"ERROR\",IF(AND(F707<>\"\",F707<>G707),F707,G707))","v":"111"},null,"111","000","0000","0222","100",null,{"$f":"IF(L707<>\"\",L707,K707)","v":"100"},{"$nulls":13},{"$f":"IF(OR(SUMPRODUCT(--(E707=$O$1:$O$542))>0,E707=0),0,1)","v":0}]
["111.000.0000.0223.100","Medicare",{"v":0,"d":"$0.00"},null,"111",null,"111","000","0000","0223","100",null,"100",{"$nulls":13},{"$f":"IF(OR(SUMPRODUCT(--(E708=$O$1:$O$542))>0,E708=0),0,1)","v":0}]
["111.000.0000.0224.100","State Retirement System Contributions ",{"v":0,"d":"$0.00"},null,"111",null,"111","000","0000","0224","100",null,"100",{"$nulls":13},{"$f":"IF(OR(SUMPRODUCT(--(E709=$O$1:$O$542))>0,E709=0),0,1)","v":0}]
["111.000.0000.0241.100","Federal Income Taxes",{"v":0,"d":"$0.00"},null,"111",null,"111","000","0000","0241","100",null,"100",{"$nulls":13},{"$f":"IF(OR(SUMPRODUCT(--(E710=$O$1:$O$542))>0,E710=0),0,1)","v":0}]
["111.000.0000.0242.100","State Income Taxes",{"v":0,"d":"$0.00"},null,"111",null,"111","000","0000","0242","100",null,"100",{"$nulls":13},{"$f":"IF(OR(SUMPRODUCT(--(E711=$O$1:$O$542))>0,E711=0),0,1)","v":0}]
["111.000.0000.0243.100","Social Security - OASDI",{"v":0,"d":"$0.00"},null,"111",null,"111","000","0000","0243","100",null,"100",{"$nulls":13},{"$f":"IF(OR(SUMPRODUCT(--(E712=$O$1:$O$542))>0,E712=0),0,1)","v":0}]
["111.000.0000.0244.100","Medicare - Hospital Insurance",{"v":0,"d":"$0.00"},null,"111",null,"111","000","0000","0244","100",null,"100",{"$nulls":13},{"$f":"IF(OR(SUMPRODUCT(--(E713=$O$1:$O$542))>0,E713=0),0,1)","v":0}]
["111.000.0000.0245.100","State Retirement Contributions",{"v":0,"d":"$0.00"},null,"111",null,"111","000","0000","0245","100",null,"100",{"$nulls":13},{"$f":"IF(OR(SUMPRODUCT(--(E714=$O$1:$O$542))>0,E714=0),0,1)","v":0}]
["111.000.0000.0246.100","Long-Term Disability",{"v":0,"d":"$0.00"},null,"111",null,"111","000","0000","0246","100",null,"100",{"$nulls":13},{"$f":"IF(OR(SUMPRODUCT(--(E715=$O$1:$O$542))>0,E715=0),0,1)","v":0}]
["111.000.0000.0247.100","Voluntary Deductions",{"v":0,"d":"$0.00"},null,"111",null,"111","000","0000","0247","100",null,"100",{"$nulls":13},{"$f":"IF(OR(SUMPRODUCT(--(E716=$O$1:$O$542))>0,E716=0),0,1)","v":0}]
["111.000.0000.4500.000","RESTRICTED GRANT FEDERAL",{"v":-16560.28,"d":"-($16,560.28)"},null,"111",null,"111","000","0000","4500","000",null,"000",{"$nulls":13},{"$f":"IF(OR(SUMPRODUCT(--(E717=$O$1:$O$542))>0,E717=0),0,1)","v":0}]
["111.100.1000.6100.100","Personal Services - Salaries ",{"v":0,"d":"$0.00"},null,"111",null,"111","100","1000","6100","100",null,"100",{"$nulls":13},{"$f":"IF(OR(SUMPRODUCT(--(E718=$O$1:$O$542))>0,E718=0),0,1)","v":0}]
["111.100.1000.6112.000","Undesignated",{"v":0,"d":"$0.00"},null,"111",null,"111","100","1000","6112","000",null,"000",{"$nulls":13},{"$f":"IF(OR(SUMPRODUCT(--(E719=$O$1:$O$542))>0,E719=0),0,1)","v":0}]
["111.100.1000.6150.100","Classified Salaries ",{"v":0,"d":"$0.00"},null,"111",null,"111","100","1000","6150","100",null,"100",{"$nulls":13},{"$f":"IF(OR(SUMPRODUCT(--(E720=$O$1:$O$542))>0,E720=0),0,1)","v":0}]
["111.100.1000.6221.100","Social Security - OASDI",{"v":0,"d":"$0.00"},null,"111",null,"111","100","1000","6221","100",null,"100",{"$nulls":13},{"$f":"IF(OR(SUMPRODUCT(--(E721=$O$1:$O$542))>0,E721=0),0,1)","v":0}]
["111.100.1000.6222.100","Medicare - Hospital Insurance ",{"v":0,"d":"$0.00"},null,"111",null,"111","100","1000","6222","100",null,"100",{"$nulls":13},{"$f":"IF(OR(SUMPRODUCT(--(E722=$O$1:$O$542))>0,E722=0),0,1)","v":0}]
["111.100.1000.6600.100","School Supplies",{"v":722.52,"d":"$722.52"},null,"111",null,"111","100","1000","6600","100",null,"100",{"$nulls":13},{"$f":"IF(OR(SUMPRODUCT(--(E723=$O$1:$O$542))>0,E723=0),0,1)","v":0}]
["111.100.1000.6640.100","School Supplies",{"v":654.5,"d":"$654.50"},null,"111",null,"111","100","1000","6640","100",null,"100",{"$nulls":13},{"$f":"IF(OR(SUMPRODUCT(--(E724=$O$1:$O$542))>0,E724=0),0,1)","v":0}]
["111.100.1900.6150.100","Aid",{"v":16294.88,"d":"$16,294.88"},null,"111",null,"111","100","1900","6150","100",null,"100",{"$nulls":13},{"$f":"IF(OR(SUMPRODUCT(--(E725=$O$1:$O$542))>0,E725=0),0,1)","v":0}]
["111.100.1900.6221.100","Social Security - OASDI",{"v":1010.27,"d":"$1,010.27"},null,"111",null,"111","100","1900","6221","100",null,"100",{"$nulls":13},{"$f":"IF(OR(SUMPRODUCT(--(E726=$O$1:$O$542))>0,E726=0),0,1)","v":0}]
["111.100.1900.6222.100","Medicare - Hospital Insurance ",{"v":236.29,"d":"$236.29"},null,"111",null,"111","100","1900","6222","100",null,"100",{"$nulls":13},{"$f":"IF(OR(SUMPRODUCT(--(E727=$O$1:$O$542))>0,E727=0),0,1)","v":0}]
["111.100.1900.6231.100","State Retirement ",{"v":1960.27,"d":"$1,960.27"},null,"111",null,"111","100","1900","6231","100",null,"100",{"$nulls":13},{"$f":"IF(OR(SUMPRODUCT(--(E728=$O$1:$O$542))>0,E728=0),0,1)","v":0}]
["111.100.1900.6232.100","Long-Term Disability",{"v":22.83,"d":"$22.83"},null,"111",null,"111","100","1900","6232","100",null,"100",{"$nulls":13},{"$f":"IF(OR(SUMPRODUCT(--(E729=$O$1:$O$542))>0,E729=0),0,1)","v":0}]
["114.000.0000.0103.000","Cash on Deposit with Cou",{"v":0,"d":"$0.00"},null,"114",null,"114","000","0000","0103","000",null,"000",{"$nulls":13},{"$f":"IF(OR(SUMPRODUCT(--(E730=$O$1:$O$542))>0,E730=0),0,1)","v":0}]
["118.000.0000.0103.000","Cash on Deposit with Cou",{"v":0,"d":"$0.00"},null,"118",null,"118","000","0000","0103","000",null,"000",{"$nulls":13},{"$f":"IF(OR(SUMPRODUCT(--(E731=$O$1:$O$542))>0,E731=0),0,1)","v":0}]
["125.000.0000.0103.000","ARRA Title 1",{"v":0,"d":"$0.00"},null,"125",null,"125","000","0000","0103","000",null,"000",{"$nulls":13},{"$f":"IF(OR(SUMPRODUCT(--(E732=$O$1:$O$542))>0,E732=0),0,1)","v":0}]
["125.000.0000.0201.000","Accounts Payable",{"v":0,"d":"$0.00"},null,"125",null,"125","000","0000","0201","000",null,"000",{"$nulls":13},{"$f":"IF(OR(SUMPRODUCT(--(E733=$O$1:$O$542))>0,E733=0),0,1)","v":0}]
["125.000.0000.0221.000","Salaries and Wages",{"v":0,"d":"$0.00"},null,"125",null,"125","000","0000","0221","000",null,"000",{"$nulls":13},{"$f":"IF(OR(SUMPRODUCT(--(E734=$O$1:$O$542))>0,E734=0),0,1)","v":0}]
["125.000.0000.0222.100","Social Security - OASDI",{"v":0,"d":"$0.00"},null,"125",null,"125","000","0000","0222","100",null,"100",{"$nulls":13},{"$f":"IF(OR(SUMPRODUCT(--(E735=$O$1:$O$542))>0,E735=0),0,1)","v":0}]
["125.000.0000.0223.100","Medicare",{"v":0,"d":"$0.00"},null,"125",null,"125","000","0000","0223","100",null,"100",{"$nulls":13},{"$f":"IF(OR(SUMPRODUCT(--(E736=$O$1:$O$542))>0,E736=0),0,1)","v":0}]
["125.000.0000.0224.100","State Retirement System Contributions",{"v":0,"d":"$0.00"},null,"125",null,"125","000","0000","0224","100",null,"100",{"$nulls":13},{"$f":"IF(OR(SUMPRODUCT(--(E737=$O$1:$O$542))>0,E737=0),0,1)","v":0}]
["125.000.0000.0227.000","Workers' Compensation",{"v":0,"d":"$0.00"},null,"125",null,"125","000","0000","0227","000",null,"000",{"$nulls":13},{"$f":"IF(OR(SUMPRODUCT(--(E738=$O$1:$O$542))>0,E738=0),0,1)","v":0}]
["125.000.0000.0241.100","Federal Income Taxes",{"v":0,"d":"$0.00"},null,"125",null,"125","000","0000","0241","100",null,"100",{"$nulls":13},{"$f":"IF(OR(SUMPRODUCT(--(E739=$O$1:$O$542))>0,E739=0),0,1)","v":0}]
["125.000.0000.0242.100","State Income Taxes",{"v":0,"d":"$0.00"},null,"125",null,"125","000","0000","0242","100",null,"100",{"$nulls":13},{"$f":"IF(OR(SUMPRODUCT(--(E740=$O$1:$O$542))>0,E740=0),0,1)","v":0}]
["125.000.0000.0243.100","Social Security - OASDI",{"v":0,"d":"$0.00"},null,"125",null,"125","000","0000","0243","100",null,"100",{"$nulls":13},{"$f":"IF(OR(SUMPRODUCT(--(E741=$O$1:$O$542))>0,E741=0),0,1)","v":0}]
["125.000.0000.0244.100","Medicare - Hospital Insurance",{"v":0,"d":"$0.00"},null,"125",null,"125","000","0000","0244","100",null,"100",{"$nulls":13},{"$f":"IF(OR(SUMPRODUCT(--(E742=$O$1:$O$542))>0,E742=0),0,1)","v":0}]
["125.000.0000.0245.100","State Retirement Contributions",{"v":0,"d":"$0.00"},null,"125",null,"125","000","0000","0245","100",null,"100",{"$nulls":13},{"$f":"IF(OR(SUMPRODUCT(--(E743=$O$1:$O$542))>0,E743=0),0,1)","v":0}]
["125.000.0000.0246.100","Long-Term Disability",{"v":0,"d":"$0.00"},null,"125",null,"125","000","0000","0246","100",null,"100",{"$nulls":13},{"$f":"IF(OR(SUMPRODUCT(--(E744=$O$1:$O$542))>0,E744=0),0,1)","v":0}]
["125.000.0000.0247.100","Voluntary Deductions",{"v":0,"d":"$0.00"},null,"125",null,"125","000","0000","0247","100",null,"100",{"$nulls":13},{"$f":"IF(OR(SUMPRODUCT(--(E745=$O$1:$O$542))>0,E745=0),0,1)","v":0}]
["125.000.0000.0330.000","Unreserved Fund Balance",{"v":0,"d":"$0.00"},null,"125",null,"125","000","0000","0330","000",null,"000",{"$nulls":13},{"$f":"IF(OR(SUMPRODUCT(--(E746=$O$1:$O$542))>0,E746=0),0,1)","v":0}]
["125.000.0000.4500.000","RESTRICTED GRANT FEDERAL",{"v":0,"d":"$0.00"},null,"125",null,"125","000","0000","4500","000",null,"000",{"$nulls":13},{"$f":"IF(OR(SUMPRODUCT(--(E747=$O$1:$O$542))>0,E747=0),0,1)","v":0}]
["125.000.0000.4501.000","(OLD)PRIOR YR  REV DUE FROM STATE",{"v":0,"d":"$0.00"},null,"125",null,"125","000","0000","4501","000",null,"000",{"$nulls":13},{"$f":"IF(OR(SUMPRODUCT(--(E748=$O$1:$O$542))>0,E748=0),0,1)","v":0}]
["125.000.0000.5200.000","Transfer In",{"v":0,"d":"$0.00"},null,"125",null,"125","000","0000","5200","000",null,"000",{"$nulls":13},{"$f":"IF(OR(SUMPRODUCT(--(E749=$O$1:$O$542))>0,E749=0),0,1)","v":0}]
["125.100.1000.6112.100","Teachers",{"v":0,"d":"$0.00"},null,"125",null,"125","100","1000","6112","100",null,"100",{"$nulls":13},{"$f":"IF(OR(SUMPRODUCT(--(E750=$O$1:$O$542))>0,E750=0),0,1)","v":0}]
["125.100.1000.6150.100","Classified Salaries",{"v":0,"d":"$0.00"},null,"125",null,"125","100","1000","6150","100",null,"100",{"$nulls":13},{"$f":"IF(OR(SUMPRODUCT(--(E751=$O$1:$O$542))>0,E751=0),0,1)","v":0}]
["125.100.1000.6221.100","Social Security - OASDI",{"v":0,"d":"$0.00"},null,"125",null,"125","100","1000","6221","100",null,"100",{"$nulls":13},{"$f":"IF(OR(SUMPRODUCT(--(E752=$O$1:$O$542))>0,E752=0),0,1)","v":0}]
["125.100.1000.6222.100","Medicare - Hospital Insurance",{"v":0,"d":"$0.00"},null,"125",null,"125","100","1000","6222","100",null,"100",{"$nulls":13},{"$f":"IF(OR(SUMPRODUCT(--(E753=$O$1:$O$542))>0,E753=0),0,1)","v":0}]
["125.100.1000.6231.100","State Retirement",{"v":0,"d":"$0.00"},null,"125",null,"125","100","1000","6231","100",null,"100",{"$nulls":13},{"$f":"IF(OR(SUMPRODUCT(--(E754=$O$1:$O$542))>0,E754=0),0,1)","v":0}]
["125.100.1000.6232.100","Long-Term Disability",{"v":0,"d":"$0.00"},null,"125",null,"125","100","1000","6232","100",null,"100",{"$nulls":13},{"$f":"IF(OR(SUMPRODUCT(--(E755=$O$1:$O$542))>0,E755=0),0,1)","v":0}]
["125.100.1000.6260.100","Worker's Compensation",{"v":0,"d":"$0.00"},null,"125",null,"125","100","1000","6260","100",null,"100",{"$nulls":13},{"$f":"IF(OR(SUMPRODUCT(--(E756=$O$1:$O$542))>0,E756=0),0,1)","v":0}]
["125.100.1000.6300.100","Purchased Professional and Technical Services",{"v":0,"d":"$0.00"},null,"125",null,"125","100","1000","6300","100",null,"100",{"$nulls":13},{"$f":"IF(OR(SUMPRODUCT(--(E757=$O$1:$O$542))>0,E757=0),0,1)","v":0}]
["125.100.1000.6400.100","Purchased Property Services",{"v":0,"d":"$0.00"},null,"125",null,"125","100","1000","6400","100",null,"100",{"$nulls":13},{"$f":"IF(OR(SUMPRODUCT(--(E758=$O$1:$O$542))>0,E758=0),0,1)","v":0}]
["125.100.1000.6600.100","Cash",{"v":0,"d":"$0.00"},null,"125",null,"125","100","1000","6600","100",null,"100",{"$nulls":13},{"$f":"IF(OR(SUMPRODUCT(--(E759=$O$1:$O$542))>0,E759=0),0,1)","v":0}]
["125.400.2700.6150.100","Classified Salaries",{"v":0,"d":"$0.00"},null,"125",null,"125","400","2700","6150","100",null,"100",{"$nulls":13},{"$f":"IF(OR(SUMPRODUCT(--(E760=$O$1:$O$542))>0,E760=0),0,1)","v":0}]
["125.400.2700.6221.100","Social Security - OASDI",{"v":0,"d":"$0.00"},null,"125",null,"125","400","2700","6221","100",null,"100",{"$nulls":13},{"$f":"IF(OR(SUMPRODUCT(--(E761=$O$1:$O$542))>0,E761=0),0,1)","v":0}]
["125.400.2700.6222.100","Medicare - Hospital Insurance",{"v":0,"d":"$0.00"},null,"125",null,"125","400","2700","6222","100",null,"100",{"$nulls":13},{"$f":"IF(OR(SUMPRODUCT(--(E762=$O$1:$O$542))>0,E762=0),0,1)","v":0}]
["125.400.2700.6231.100","State Retirement",{"v":0,"d":"$0.00"},null,"125",null,"125","400","2700","6231","100",null,"100",{"$nulls":13},{"$f":"IF(OR(SUMPRODUCT(--(E763=$O$1:$O$542))>0,E763=0),0,1)","v":0}]
["125.400.2700.6232.100","Long-Term Disability",{"v":0,"d":"$0.00"},null,"125",null,"125","400","2700","6232","100",null,"100",{"$nulls":13},{"$f":"IF(OR(SUMPRODUCT(--(E764=$O$1:$O$542))>0,E764=0),0,1)","v":0}]
["125.400.2700.6260.100","Worker's Compensation",{"v":0,"d":"$0.00"},null,"125",null,"125","400","2700","6260","100",null,"100",{"$nulls":13},{"$f":"IF(OR(SUMPRODUCT(--(E765=$O$1:$O$542))>0,E765=0),0,1)","v":0}]
["134.000.0000.0103.000","Cash on Deposit with Cou",{"v":0,"d":"$0.00"},null,"134",null,"134","000","0000","0103","000",null,"000",{"$nulls":13},{"$f":"IF(OR(SUMPRODUCT(--(E766=$O$1:$O$542))>0,E766=0),0,1)","v":0}]
["134.100.1000.6500.100","Other Purchased Services ",{"v":0,"d":"$0.00"},null,"134",null,"134","100","1000","6500","100",null,"100",{"$nulls":13},{"$f":"IF(OR(SUMPRODUCT(--(E767=$O$1:$O$542))>0,E767=0),0,1)","v":0}]
["134.100.1000.6600.100","Supplies ",{"v":0,"d":"$0.00"},null,"134",null,"134","100","1000","6600","100",null,"100",{"$nulls":13},{"$f":"IF(OR(SUMPRODUCT(--(E768=$O$1:$O$542))>0,E768=0),0,1)","v":0}]
["140.000.0000.0103.000","Title II Improving Teacher Quality",{"v":-795,"d":"-($795.00)"},null,"140",null,"140","000","0000","0103","000",null,"000",{"$nulls":13},{"$f":"IF(OR(SUMPRODUCT(--(E769=$O$1:$O$542))>0,E769=0),0,1)","v":0}]
["140.000.0000.0201.000","Accounts Payable",{"v":0,"d":"$0.00"},null,"140",null,"140","000","0000","0201","000",null,"000",{"$nulls":13},{"$f":"IF(OR(SUMPRODUCT(--(E770=$O$1:$O$542))>0,E770=0),0,1)","v":0}]
["140.000.0000.0221.000","Salaries and Wages ",{"v":0,"d":"$0.00"},null,{"$f":"IF(AND(F771<>\"\",F771=G771),\"ERROR\",IF(AND(F771<>\"\",F771<>G771),F771,G771))","v":"140"},null,"140","000","0000","0221","000",null,{"$f":"IF(L771<>\"\",L771,K771)","v":"000"},{"$nulls":13},{"$f":"IF(OR(SUMPRODUCT(--(E771=$O$1:$O$542))>0,E771=0),0,1)","v":0}]
["140.000.0000.0222.000","Social Security - OASDI",{"v":0,"d":"$0.00"},null,"140",null,"140","000","0000","0222","000",null,"000",{"$nulls":13},{"$f":"IF(OR(SUMPRODUCT(--(E772=$O$1:$O$542))>0,E772=0),0,1)","v":0}]
["140.000.0000.0222.100","Social Security - OASDI",{"v":0,"d":"$0.00"},null,"140",null,"140","000","0000","0222","100",null,"100",{"$nulls":13},{"$f":"IF(OR(SUMPRODUCT(--(E773=$O$1:$O$542))>0,E773=0),0,1)","v":0}]
["140.000.0000.0223.000","Medicare",{"v":0,"d":"$0.00"},null,"140",null,"140","000","0000","0223","000",null,"000",{"$nulls":13},{"$f":"IF(OR(SUMPRODUCT(--(E774=$O$1:$O$542))>0,E774=0),0,1)","v":0}]
["140.000.0000.0223.100","Medicare",{"v":0,"d":"$0.00"},null,"140",null,"140","000","0000","0223","100",null,"100",{"$nulls":13},{"$f":"IF(OR(SUMPRODUCT(--(E775=$O$1:$O$542))>0,E775=0),0,1)","v":0}]
["140.000.0000.0224.000","State Retirement System Contributio",{"v":0,"d":"$0.00"},null,"140",null,"140","000","0000","0224","000",null,"000",{"$nulls":13},{"$f":"IF(OR(SUMPRODUCT(--(E776=$O$1:$O$542))>0,E776=0),0,1)","v":0}]
["140.000.0000.0241.000","Federal Income Taxes",{"v":0,"d":"$0.00"},null,"140",null,"140","000","0000","0241","000",null,"000",{"$nulls":13},{"$f":"IF(OR(SUMPRODUCT(--(E777=$O$1:$O$542))>0,E777=0),0,1)","v":0}]
["140.000.0000.0241.100","Federal Income Taxes",{"v":0,"d":"$0.00"},null,"140",null,"140","000","0000","0241","100",null,"100",{"$nulls":13},{"$f":"IF(OR(SUMPRODUCT(--(E778=$O$1:$O$542))>0,E778=0),0,1)","v":0}]
["140.000.0000.0242.000","State Income Taxes",{"v":0,"d":"$0.00"},null,"140",null,"140","000","0000","0242","000",null,"000",{"$nulls":13},{"$f":"IF(OR(SUMPRODUCT(--(E779=$O$1:$O$542))>0,E779=0),0,1)","v":0}]
["140.000.0000.0242.100","State Income Taxes",{"v":0,"d":"$0.00"},null,"140",null,"140","000","0000","0242","100",null,"100",{"$nulls":13},{"$f":"IF(OR(SUMPRODUCT(--(E780=$O$1:$O$542))>0,E780=0),0,1)","v":0}]
["140.000.0000.0243.000","Social Security - OASDI",{"v":0,"d":"$0.00"},null,"140",null,"140","000","0000","0243","000",null,"000",{"$nulls":13},{"$f":"IF(OR(SUMPRODUCT(--(E781=$O$1:$O$542))>0,E781=0),0,1)","v":0}]
["140.000.0000.0243.100","Social Security - OASDI",{"v":0,"d":"$0.00"},null,"140",null,"140","000","0000","0243","100",null,"100",{"$nulls":13},{"$f":"IF(OR(SUMPRODUCT(--(E782=$O$1:$O$542))>0,E782=0),0,1)","v":0}]
["140.000.0000.0244.000","Medicare - Hospital Insurance",{"v":0,"d":"$0.00"},null,"140",null,"140","000","0000","0244","000",null,"000",{"$nulls":13},{"$f":"IF(OR(SUMPRODUCT(--(E783=$O$1:$O$542))>0,E783=0),0,1)","v":0}]
["140.000.0000.0244.100","Medicare - Hospital Insurance",{"v":0,"d":"$0.00"},null,"140",null,"140","000","0000","0244","100",null,"100",{"$nulls":13},{"$f":"IF(OR(SUMPRODUCT(--(E784=$O$1:$O$542))>0,E784=0),0,1)","v":0}]
["140.000.0000.0245.000","State Retirement Contributions",{"v":0,"d":"$0.00"},null,"140",null,"140","000","0000","0245","000",null,"000",{"$nulls":13},{"$f":"IF(OR(SUMPRODUCT(--(E785=$O$1:$O$542))>0,E785=0),0,1)","v":0}]
["140.000.0000.0246.000","Long Term Disability",{"v":0,"d":"$0.00"},null,"140",null,"140","000","0000","0246","000",null,"000",{"$nulls":13},{"$f":"IF(OR(SUMPRODUCT(--(E786=$O$1:$O$542))>0,E786=0),0,1)","v":0}]
["140.000.0000.0247.000","Voluntary Deductions",{"v":0,"d":"$0.00"},null,"140",null,"140","000","0000","0247","000",null,"000",{"$nulls":13},{"$f":"IF(OR(SUMPRODUCT(--(E787=$O$1:$O$542))>0,E787=0),0,1)","v":0}]
["140.000.0000.0250.000","Deferred Revenues",{"v":0,"d":"$0.00"},null,"140",null,"140","000","0000","0250","000",null,"000",{"$nulls":13},{"$f":"IF(OR(SUMPRODUCT(--(E788=$O$1:$O$542))>0,E788=0),0,1)","v":0}]
["140.000.0000.0330.000","Unreserved Fund Balance",{"v":0,"d":"$0.00"},null,"140",null,"140","000","0000","0330","000",null,"000",{"$nulls":13},{"$f":"IF(OR(SUMPRODUCT(--(E789=$O$1:$O$542))>0,E789=0),0,1)","v":0}]
["140.000.0000.1510.000","Interest on Investments ",{"v":0,"d":"$0.00"},null,"140",null,"140","000","0000","1510","000",null,"000",{"$nulls":13},{"$f":"IF(OR(SUMPRODUCT(--(E790=$O$1:$O$542))>0,E790=0),0,1)","v":0}]
["140.000.0000.1980.000","Refund of Prior Year's Expenditures",{"v":0,"d":"$0.00"},null,"140",null,"140","000","0000","1980","000",null,"000",{"$nulls":13},{"$f":"IF(OR(SUMPRODUCT(--(E791=$O$1:$O$542))>0,E791=0),0,1)","v":0}]
["140.000.0000.2500.100","Central Services",{"v":0,"d":"$0.00"},null,"140",null,"140","000","0000","2500","100",null,"100",{"$nulls":13},{"$f":"IF(OR(SUMPRODUCT(--(E792=$O$1:$O$542))>0,E792=0),0,1)","v":0}]
["140.000.0000.4500.000","UNDESIGNATED",{"v":-2259.6,"d":"-($2,259.60)"},null,"140",null,"140","000","0000","4500","000",null,"000",{"$nulls":13},{"$f":"IF(OR(SUMPRODUCT(--(E793=$O$1:$O$542))>0,E793=0),0,1)","v":0}]
["140.000.0000.4501.000","PRIOR YEAR REVENUE DUE F",{"v":0,"d":"$0.00"},null,"140",null,"140","000","0000","4501","000",null,"000",{"$nulls":13},{"$f":"IF(OR(SUMPRODUCT(--(E794=$O$1:$O$542))>0,E794=0),0,1)","v":0}]
["140.000.0000.6910.000","Indirect Costs ",{"v":0,"d":"$0.00"},null,"140",null,"140","000","0000","6910","000",null,"000",{"$nulls":13},{"$f":"IF(OR(SUMPRODUCT(--(E795=$O$1:$O$542))>0,E795=0),0,1)","v":0}]
["140.000.0000.6950.100","RETURN TO STATE",{"v":0,"d":"$0.00"},null,"140",null,"140","000","0000","6950","100",null,"100",{"$nulls":13},{"$f":"IF(OR(SUMPRODUCT(--(E796=$O$1:$O$542))>0,E796=0),0,1)","v":0}]
["140.100.0000.1510.000","INTEREST ON INVESTMENTS",{"v":0,"d":"$0.00"},null,"140",null,"140","100","0000","1510","000",null,"000",{"$nulls":13},{"$f":"IF(OR(SUMPRODUCT(--(E797=$O$1:$O$542))>0,E797=0),0,1)","v":0}]
["140.100.0000.4500.000","FEDERAL REVENUE",{"v":0,"d":"$0.00"},null,"140",null,"140","100","0000","4500","000",null,"000",{"$nulls":13},{"$f":"IF(OR(SUMPRODUCT(--(E798=$O$1:$O$542))>0,E798=0),0,1)","v":0}]
["140.100.0000.6910.100","INDIRECT COSTS",{"v":0,"d":"$0.00"},null,"140",null,"140","100","0000","6910","100",null,"100",{"$nulls":13},{"$f":"IF(OR(SUMPRODUCT(--(E799=$O$1:$O$542))>0,E799=0),0,1)","v":0}]
["140.100.1000.0103.100","Undesignated",{"v":0,"d":"$0.00"},null,"140",null,"140","100","1000","0103","100",null,"100",{"$nulls":13},{"$f":"IF(OR(SUMPRODUCT(--(E800=$O$1:$O$542))>0,E800=0),0,1)","v":0}]
["140.100.1000.6100.000","Personal Services - Sala",{"v":0,"d":"$0.00"},null,"140",null,"140","100","1000","6100","000",null,"000",{"$nulls":13},{"$f":"IF(OR(SUMPRODUCT(--(E801=$O$1:$O$542))>0,E801=0),0,1)","v":0}]
["140.100.1000.6100.100","Personal Services - Salaries ",{"v":0,"d":"$0.00"},null,"140",null,"140","100","1000","6100","100",null,"100",{"$nulls":13},{"$f":"IF(OR(SUMPRODUCT(--(E802=$O$1:$O$542))>0,E802=0),0,1)","v":0}]
["140.100.1000.6112.100","Teachers",{"v":0,"d":"$0.00"},null,"140",null,"140","100","1000","6112","100",null,"100",{"$nulls":13},{"$f":"IF(OR(SUMPRODUCT(--(E803=$O$1:$O$542))>0,E803=0),0,1)","v":0}]
["140.100.1000.6113.100","Substitute",{"v":0,"d":"$0.00"},null,"140",null,"140","100","1000","6113","100",null,"100",{"$nulls":13},{"$f":"IF(OR(SUMPRODUCT(--(E804=$O$1:$O$542))>0,E804=0),0,1)","v":0}]
["140.100.1000.6150.100","Classified Salaries ",{"v":0,"d":"$0.00"},null,"140",null,"140","100","1000","6150","100",null,"100",{"$nulls":13},{"$f":"IF(OR(SUMPRODUCT(--(E805=$O$1:$O$542))>0,E805=0),0,1)","v":0}]
["140.100.1000.6200.100","Personal Services - Employee Benefi",{"v":0,"d":"$0.00"},null,"140",null,"140","100","1000","6200","100",null,"100",{"$nulls":13},{"$f":"IF(OR(SUMPRODUCT(--(E806=$O$1:$O$542))>0,E806=0),0,1)","v":0}]
["140.100.1000.6221.000","Social Security - OASDI",{"v":0,"d":"$0.00"},null,"140",null,"140","100","1000","6221","000",null,"000",{"$nulls":13},{"$f":"IF(OR(SUMPRODUCT(--(E807=$O$1:$O$542))>0,E807=0),0,1)","v":0}]
["140.100.1000.6221.100","Social Security - OASDI",{"v":0,"d":"$0.00"},null,"140",null,"140","100","1000","6221","100",null,"100",{"$nulls":13},{"$f":"IF(OR(SUMPRODUCT(--(E808=$O$1:$O$542))>0,E808=0),0,1)","v":0}]
["140.100.1000.6222.000","Medicare - Hospital Insurance ",{"v":0,"d":"$0.00"},null,"140",null,"140","100","1000","6222","000",null,"000",{"$nulls":13},{"$f":"IF(OR(SUMPRODUCT(--(E809=$O$1:$O$542))>0,E809=0),0,1)","v":0}]
["140.100.1000.6222.100","Medicare - Hospital Insurance ",{"v":0,"d":"$0.00"},null,"140",null,"140","100","1000","6222","100",null,"100",{"$nulls":13},{"$f":"IF(OR(SUMPRODUCT(--(E810=$O$1:$O$542))>0,E810=0),0,1)","v":0}]
["140.100.1000.6231.000","State Retirement ",{"v":0,"d":"$0.00"},null,"140",null,"140","100","1000","6231","000",null,"000",{"$nulls":13},{"$f":"IF(OR(SUMPRODUCT(--(E811=$O$1:$O$542))>0,E811=0),0,1)","v":0}]
["140.100.1000.6231.100","State Retirement ",{"v":0,"d":"$0.00"},null,"140",null,"140","100","1000","6231","100",null,"100",{"$nulls":13},{"$f":"IF(OR(SUMPRODUCT(--(E812=$O$1:$O$542))>0,E812=0),0,1)","v":0}]
["140.100.1000.6232.000","Long Term Disability",{"v":0,"d":"$0.00"},null,"140",null,"140","100","1000","6232","000",null,"000",{"$nulls":13},{"$f":"IF(OR(SUMPRODUCT(--(E813=$O$1:$O$542))>0,E813=0),0,1)","v":0}]
["140.100.1000.6232.100","Long Term Disability",{"v":0,"d":"$0.00"},null,"140",null,"140","100","1000","6232","100",null,"100",{"$nulls":13},{"$f":"IF(OR(SUMPRODUCT(--(E814=$O$1:$O$542))>0,E814=0),0,1)","v":0}]
["140.100.1000.6300.100","Purchased Professional and Technica",{"v":0,"d":"$0.00"},null,"140",null,"140","100","1000","6300","100",null,"100",{"$nulls":13},{"$f":"IF(OR(SUMPRODUCT(--(E815=$O$1:$O$542))>0,E815=0),0,1)","v":0}]
["140.100.1000.6500.100","Other Purchased Services",{"v":0,"d":"$0.00"},null,"140",null,"140","100","1000","6500","100",null,"100",{"$nulls":13},{"$f":"IF(OR(SUMPRODUCT(--(E816=$O$1:$O$542))>0,E816=0),0,1)","v":0}]
["140.100.1000.6530.100","Webinar",{"v":0,"d":"$0.00"},null,"140",null,"140","100","1000","6530","100",null,"100",{"$nulls":13},{"$f":"IF(OR(SUMPRODUCT(--(E817=$O$1:$O$542))>0,E817=0),0,1)","v":0}]
["140.100.2100.6100.100","Personal Services - Sala",{"v":0,"d":"$0.00"},null,"140",null,"140","100","2100","6100","100",null,"100",{"$nulls":13},{"$f":"IF(OR(SUMPRODUCT(--(E818=$O$1:$O$542))>0,E818=0),0,1)","v":0}]
["140.100.2100.6500.100","Other Purchased Services",{"v":0,"d":"$0.00"},null,"140",null,"140","100","2100","6500","100",null,"100",{"$nulls":13},{"$f":"IF(OR(SUMPRODUCT(--(E819=$O$1:$O$542))>0,E819=0),0,1)","v":0}]
["140.100.2130.6320.100","Membership",{"v":200,"d":"$200.00"},null,"140",null,"140","100","2130","6320","100",null,"100",{"$nulls":13},{"$f":"IF(OR(SUMPRODUCT(--(E820=$O$1:$O$542))>0,E820=0),0,1)","v":0}]
["140.100.2200.0103.100","Cash on Deposit with County Treasurer ",{"v":0,"d":"$0.00"},null,"140",null,"140","100","2200","0103","100",null,"100",{"$nulls":13},{"$f":"IF(OR(SUMPRODUCT(--(E821=$O$1:$O$542))>0,E821=0),0,1)","v":0}]
["140.100.2200.6300.100","Purchased Professional and Technica",{"v":0,"d":"$0.00"},null,"140",null,"140","100","2200","6300","100",null,"100",{"$nulls":13},{"$f":"IF(OR(SUMPRODUCT(--(E822=$O$1:$O$542))>0,E822=0),0,1)","v":0}]
["140.100.2200.6400.100","Purchased Property Services ",{"v":0,"d":"$0.00"},null,"140",null,"140","100","2200","6400","100",null,"100",{"$nulls":13},{"$f":"IF(OR(SUMPRODUCT(--(E823=$O$1:$O$542))>0,E823=0),0,1)","v":0}]
["140.100.2200.6500.100","Other Purchased Services ",{"v":0,"d":"$0.00"},null,"140",null,"140","100","2200","6500","100",null,"100",{"$nulls":13},{"$f":"IF(OR(SUMPRODUCT(--(E824=$O$1:$O$542))>0,E824=0),0,1)","v":0}]
["140.100.2213.0103.100","Undesignated",{"v":0,"d":"$0.00"},null,"140",null,"140","100","2213","0103","100",null,"100",{"$nulls":13},{"$f":"IF(OR(SUMPRODUCT(--(E825=$O$1:$O$542))>0,E825=0),0,1)","v":0}]
["140.100.2213.6300.100","Teacher Training",{"v":0,"d":"$0.00"},null,"140",null,"140","100","2213","6300","100",null,"100",{"$nulls":13},{"$f":"IF(OR(SUMPRODUCT(--(E826=$O$1:$O$542))>0,E826=0),0,1)","v":0}]
["140.100.2213.6330.100","NCI Renewal Blednded Class",{"v":1549,"d":"$1,549.00"},null,"140",null,"140","100","2213","6330","100",null,"100",{"$nulls":13},{"$f":"IF(OR(SUMPRODUCT(--(E827=$O$1:$O$542))>0,E827=0),0,1)","v":0}]
["140.100.2213.6360.100","Training",{"v":1095,"d":"$1,095.00"},null,"140",null,"140","100","2213","6360","100",null,"100",{"$nulls":13},{"$f":"IF(OR(SUMPRODUCT(--(E828=$O$1:$O$542))>0,E828=0),0,1)","v":0}]
["140.100.2213.6580.100","Mileage",{"v":0,"d":"$0.00"},null,"140",null,"140","100","2213","6580","100",null,"100",{"$nulls":13},{"$f":"IF(OR(SUMPRODUCT(--(E829=$O$1:$O$542))>0,E829=0),0,1)","v":0}]
["140.100.2213.6610.100","Handbooks for training",{"v":210.6,"d":"$210.60"},null,"140",null,"140","100","2213","6610","100",null,"100",{"$nulls":13},{"$f":"IF(OR(SUMPRODUCT(--(E830=$O$1:$O$542))>0,E830=0),0,1)","v":0}]
["140.100.2400.6360.100","Employee Training",{"v":0,"d":"$0.00"},null,"140",null,"140","100","2400","6360","100",null,"100",{"$nulls":13},{"$f":"IF(OR(SUMPRODUCT(--(E831=$O$1:$O$542))>0,E831=0),0,1)","v":0}]
["140.100.2410.6580.100","Reimb/travel/conf",{"v":0,"d":"$0.00"},null,"140",null,"140","100","2410","6580","100",null,"100",{"$nulls":13},{"$f":"IF(OR(SUMPRODUCT(--(E832=$O$1:$O$542))>0,E832=0),0,1)","v":0}]
["140.200.1000.6300.100","Teaching Aid",{"v":0,"d":"$0.00"},null,"140",null,"140","200","1000","6300","100",null,"100",{"$nulls":13},{"$f":"IF(OR(SUMPRODUCT(--(E833=$O$1:$O$542))>0,E833=0),0,1)","v":0}]
["150.000.0000.0103.000","Cash on Deposit with Cou",{"v":0,"d":"$0.00"},null,"150",null,"150","000","0000","0103","000",null,"000",{"$nulls":13},{"$f":"IF(OR(SUMPRODUCT(--(E834=$O$1:$O$542))>0,E834=0),0,1)","v":0}]
["150.000.0000.0215.000","Federal",{"v":0,"d":"$0.00"},null,{"$f":"IF(AND(F835<>\"\",F835=G835),\"ERROR\",IF(AND(F835<>\"\",F835<>G835),F835,G835))","v":"150"},null,"150","000","0000","0215","000",null,{"$f":"IF(L835<>\"\",L835,K835)","v":"000"},{"$nulls":13},{"$f":"IF(OR(SUMPRODUCT(--(E835=$O$1:$O$542))>0,E835=0),0,1)","v":0}]
["150.000.0000.0250.000","Deferred Revenues",{"v":0,"d":"$0.00"},null,"150",null,"150","000","0000","0250","000",null,"000",{"$nulls":13},{"$f":"IF(OR(SUMPRODUCT(--(E836=$O$1:$O$542))>0,E836=0),0,1)","v":0}]
["150.000.0000.0330.000","Unreserved Fund Balance",{"v":0,"d":"$0.00"},null,"150",null,"150","000","0000","0330","000",null,"000",{"$nulls":13},{"$f":"IF(OR(SUMPRODUCT(--(E837=$O$1:$O$542))>0,E837=0),0,1)","v":0}]
["150.000.0000.1510.000","Interest on Investments ",{"v":0,"d":"$0.00"},null,"150",null,"150","000","0000","1510","000",null,"000",{"$nulls":13},{"$f":"IF(OR(SUMPRODUCT(--(E838=$O$1:$O$542))>0,E838=0),0,1)","v":0}]
["150.000.0000.4500.000","RESTRICTED GRANT FEDERAL",{"v":0,"d":"$0.00"},null,"150",null,"150","000","0000","4500","000",null,"000",{"$nulls":13},{"$f":"IF(OR(SUMPRODUCT(--(E839=$O$1:$O$542))>0,E839=0),0,1)","v":0}]
["150.100.0000.6700.100","Property",{"v":0,"d":"$0.00"},null,"150",null,"150","100","0000","6700","100",null,"100",{"$nulls":13},{"$f":"IF(OR(SUMPRODUCT(--(E840=$O$1:$O$542))>0,E840=0),0,1)","v":0}]
["150.100.2200.6300.100","Purchased Professional and Technica",{"v":0,"d":"$0.00"},null,"150",null,"150","100","2200","6300","100",null,"100",{"$nulls":13},{"$f":"IF(OR(SUMPRODUCT(--(E841=$O$1:$O$542))>0,E841=0),0,1)","v":0}]
["150.100.2300.6400.100","Purchased Property Services ",{"v":0,"d":"$0.00"},null,"150",null,"150","100","2300","6400","100",null,"100",{"$nulls":13},{"$f":"IF(OR(SUMPRODUCT(--(E842=$O$1:$O$542))>0,E842=0),0,1)","v":0}]
["150.100.6000.6930.000","Transfer out",{"v":0,"d":"$0.00"},null,"150",null,"150","100","6000","6930","000",null,"000",{"$nulls":13},{"$f":"IF(OR(SUMPRODUCT(--(E843=$O$1:$O$542))>0,E843=0),0,1)","v":0}]
["154.000.0000.0103.000","Cash on Deposit with Cou",{"v":0,"d":"$0.00"},null,"154",null,"154","000","0000","0103","000",null,"000",{"$nulls":13},{"$f":"IF(OR(SUMPRODUCT(--(E844=$O$1:$O$542))>0,E844=0),0,1)","v":0}]
["154.000.0000.0201.000","Accounts Payable",{"v":0,"d":"$0.00"},null,"154",null,"154","000","0000","0201","000",null,"000",{"$nulls":13},{"$f":"IF(OR(SUMPRODUCT(--(E845=$O$1:$O$542))>0,E845=0),0,1)","v":0}]
["154.000.0000.0250.000","Deferred Revenues",{"v":0,"d":"$0.00"},null,"154",null,"154","000","0000","0250","000",null,"000",{"$nulls":13},{"$f":"IF(OR(SUMPRODUCT(--(E846=$O$1:$O$542))>0,E846=0),0,1)","v":0}]
["154.000.0000.0330.000","Unreserved Fund Balance",{"v":0,"d":"$0.00"},null,"154",null,"154","000","0000","0330","000",null,"000",{"$nulls":13},{"$f":"IF(OR(SUMPRODUCT(--(E847=$O$1:$O$542))>0,E847=0),0,1)","v":0}]
["154.000.0000.1510.000","Interest on Investments ",{"v":0,"d":"$0.00"},null,"154",null,"154","000","0000","1510","000",null,"000",{"$nulls":13},{"$f":"IF(OR(SUMPRODUCT(--(E848=$O$1:$O$542))>0,E848=0),0,1)","v":0}]
["154.000.0000.4500.000","RESTRICTED GRANT FEDERAL",{"v":0,"d":"$0.00"},null,"154",null,"154","000","0000","4500","000",null,"000",{"$nulls":13},{"$f":"IF(OR(SUMPRODUCT(--(E849=$O$1:$O$542))>0,E849=0),0,1)","v":0}]
["154.000.0000.4501.000","PRIOR YEAR REVENUE DUE F",{"v":0,"d":"$0.00"},null,"154",null,"154","000","0000","4501","000",null,"000",{"$nulls":13},{"$f":"IF(OR(SUMPRODUCT(--(E850=$O$1:$O$542))>0,E850=0),0,1)","v":0}]
["154.100.0000.6910.100","Indirect Costs ",{"v":0,"d":"$0.00"},null,"154",null,"154","100","0000","6910","100",null,"100",{"$nulls":13},{"$f":"IF(OR(SUMPRODUCT(--(E851=$O$1:$O$542))>0,E851=0),0,1)","v":0}]
["154.100.1000.6300.100","Purchased Professional and Technica",{"v":0,"d":"$0.00"},null,"154",null,"154","100","1000","6300","100",null,"100",{"$nulls":13},{"$f":"IF(OR(SUMPRODUCT(--(E852=$O$1:$O$542))>0,E852=0),0,1)","v":0}]
["154.100.1000.6800.100","Other Objects",{"v":0,"d":"$0.00"},null,"154",null,"154","100","1000","6800","100",null,"100",{"$nulls":13},{"$f":"IF(OR(SUMPRODUCT(--(E853=$O$1:$O$542))>0,E853=0),0,1)","v":0}]
["154.100.2100.6300.100","Purchased Professional and Technica",{"v":0,"d":"$0.00"},null,"154",null,"154","100","2100","6300","100",null,"100",{"$nulls":13},{"$f":"IF(OR(SUMPRODUCT(--(E854=$O$1:$O$542))>0,E854=0),0,1)","v":0}]
["154.100.6000.6930.000","Transfer out",{"v":0,"d":"$0.00"},null,"154",null,"154","100","6000","6930","000",null,"000",{"$nulls":13},{"$f":"IF(OR(SUMPRODUCT(--(E855=$O$1:$O$542))>0,E855=0),0,1)","v":0}]
["160.000.0000.0103.000","CASH ON DEPOSIT WITH TREAS",{"v":0,"d":"$0.00"},null,"160",null,"160","000","0000","0103","000",null,"000",{"$nulls":13},{"$f":"IF(OR(SUMPRODUCT(--(E856=$O$1:$O$542))>0,E856=0),0,1)","v":0}]
["160.000.0000.0201.000","Accounts Payable",{"v":0,"d":"$0.00"},null,"160",null,"160","000","0000","0201","000",null,"000",{"$nulls":13},{"$f":"IF(OR(SUMPRODUCT(--(E857=$O$1:$O$542))>0,E857=0),0,1)","v":0}]
["160.000.0000.0221.000","Salaries and Wages ",{"v":0,"d":"$0.00"},null,"160",null,"160","000","0000","0221","000",null,"000",{"$nulls":13},{"$f":"IF(OR(SUMPRODUCT(--(E858=$O$1:$O$542))>0,E858=0),0,1)","v":0}]
["160.000.0000.0222.100","Social Security - OASDI",{"v":0,"d":"$0.00"},null,"160",null,"160","000","0000","0222","100",null,"100",{"$nulls":13},{"$f":"IF(OR(SUMPRODUCT(--(E859=$O$1:$O$542))>0,E859=0),0,1)","v":0}]
["160.000.0000.0223.100","Medicare",{"v":0,"d":"$0.00"},null,"160",null,"160","000","0000","0223","100",null,"100",{"$nulls":13},{"$f":"IF(OR(SUMPRODUCT(--(E860=$O$1:$O$542))>0,E860=0),0,1)","v":0}]
["160.000.0000.0241.100","Federal Income Taxes",{"v":0,"d":"$0.00"},null,"160",null,"160","000","0000","0241","100",null,"100",{"$nulls":13},{"$f":"IF(OR(SUMPRODUCT(--(E861=$O$1:$O$542))>0,E861=0),0,1)","v":0}]
["160.000.0000.0242.100","State Income Taxes",{"v":0,"d":"$0.00"},null,"160",null,"160","000","0000","0242","100",null,"100",{"$nulls":13},{"$f":"IF(OR(SUMPRODUCT(--(E862=$O$1:$O$542))>0,E862=0),0,1)","v":0}]
["160.000.0000.0243.100","Social Security - OASDI",{"v":0,"d":"$0.00"},null,"160",null,"160","000","0000","0243","100",null,"100",{"$nulls":13},{"$f":"IF(OR(SUMPRODUCT(--(E863=$O$1:$O$542))>0,E863=0),0,1)","v":0}]
["160.000.0000.0244.100","Medicare - Hospital Insurance",{"v":0,"d":"$0.00"},null,"160",null,"160","000","0000","0244","100",null,"100",{"$nulls":13},{"$f":"IF(OR(SUMPRODUCT(--(E864=$O$1:$O$542))>0,E864=0),0,1)","v":0}]
["160.000.0000.0247.100","Voluntary Deductions",{"v":0,"d":"$0.00"},null,"160",null,"160","000","0000","0247","100",null,"100",{"$nulls":13},{"$f":"IF(OR(SUMPRODUCT(--(E865=$O$1:$O$542))>0,E865=0),0,1)","v":0}]
["160.000.0000.0250.000","Deferred Revenues",{"v":0,"d":"$0.00"},null,"160",null,"160","000","0000","0250","000",null,"000",{"$nulls":13},{"$f":"IF(OR(SUMPRODUCT(--(E866=$O$1:$O$542))>0,E866=0),0,1)","v":0}]
["160.000.0000.0330.000","Unreserved Fund Balance",{"v":0,"d":"$0.00"},null,"160",null,"160","000","0000","0330","000",null,"000",{"$nulls":13},{"$f":"IF(OR(SUMPRODUCT(--(E867=$O$1:$O$542))>0,E867=0),0,1)","v":0}]
["160.000.0000.1510.000","Interest on Investments ",{"v":0,"d":"$0.00"},null,"160",null,"160","000","0000","1510","000",null,"000",{"$nulls":13},{"$f":"IF(OR(SUMPRODUCT(--(E868=$O$1:$O$542))>0,E868=0),0,1)","v":0}]
["160.000.0000.4500.000","RESTRICTED GRANT FEDERAL",{"v":-6426.13,"d":"-($6,426.13)"},null,"160",null,"160","000","0000","4500","000",null,"000",{"$nulls":13},{"$f":"IF(OR(SUMPRODUCT(--(E869=$O$1:$O$542))>0,E869=0),0,1)","v":0}]
["160.000.0000.4501.000","PRIOR YEAR REVENUE DUE F",{"v":0,"d":"$0.00"},null,"160",null,"160","000","0000","4501","000",null,"000",{"$nulls":13},{"$f":"IF(OR(SUMPRODUCT(--(E870=$O$1:$O$542))>0,E870=0),0,1)","v":0}]
["160.100.0000.1510.000","INTEREST ON INVESTMENTS",{"v":0,"d":"$0.00"},null,"160",null,"160","100","0000","1510","000",null,"000",{"$nulls":13},{"$f":"IF(OR(SUMPRODUCT(--(E871=$O$1:$O$542))>0,E871=0),0,1)","v":0}]
["160.100.0000.4500.000","FEDERAL REVENUE",{"v":0,"d":"$0.00"},null,"160",null,"160","100","0000","4500","000",null,"000",{"$nulls":13},{"$f":"IF(OR(SUMPRODUCT(--(E872=$O$1:$O$542))>0,E872=0),0,1)","v":0}]
["160.100.0000.6910.100","INDIRECT COSTS",{"v":0,"d":"$0.00"},null,"160",null,"160","100","0000","6910","100",null,"100",{"$nulls":13},{"$f":"IF(OR(SUMPRODUCT(--(E873=$O$1:$O$542))>0,E873=0),0,1)","v":0}]
["160.100.1000.6150.100","PE Instruction",{"v":841.82,"d":"$841.82"},null,"160",null,"160","100","1000","6150","100",null,"100",{"$nulls":13},{"$f":"IF(OR(SUMPRODUCT(--(E874=$O$1:$O$542))>0,E874=0),0,1)","v":0}]
["160.100.1000.6221.100","Social Security - OASDI",{"v":52.18,"d":"$52.18"},null,"160",null,"160","100","1000","6221","100",null,"100",{"$nulls":13},{"$f":"IF(OR(SUMPRODUCT(--(E875=$O$1:$O$542))>0,E875=0),0,1)","v":0}]
["160.100.1000.6222.100","Medicare - Hospital Insurance ",{"v":12.16,"d":"$12.16"},null,"160",null,"160","100","1000","6222","100",null,"100",{"$nulls":13},{"$f":"IF(OR(SUMPRODUCT(--(E876=$O$1:$O$542))>0,E876=0),0,1)","v":0}]
["160.100.1000.6300.100","Purchased Professional and Technica",{"v":1119.97,"d":"$1,119.97"},null,"160",null,"160","100","1000","6300","100",null,"100",{"$nulls":13},{"$f":"IF(OR(SUMPRODUCT(--(E877=$O$1:$O$542))>0,E877=0),0,1)","v":0}]
["160.100.1000.6600.100","SUPPLIES & MATERIALS",{"v":0,"d":"$0.00"},null,"160",null,"160","100","1000","6600","100",null,"100",{"$nulls":13},{"$f":"IF(OR(SUMPRODUCT(--(E878=$O$1:$O$542))>0,E878=0),0,1)","v":0}]
["160.100.2100.5800.100","Extraordinary Items",{"v":0,"d":"$0.00"},null,"160",null,"160","100","2100","5800","100",null,"100",{"$nulls":13},{"$f":"IF(OR(SUMPRODUCT(--(E879=$O$1:$O$542))>0,E879=0),0,1)","v":0}]
["160.100.2100.6300.100","Purchased Professional and Technica",{"v":4400,"d":"$4,400.00"},null,"160",null,"160","100","2100","6300","100",null,"100",{"$nulls":13},{"$f":"IF(OR(SUMPRODUCT(--(E880=$O$1:$O$542))>0,E880=0),0,1)","v":0}]
["160.100.2100.6600.100","Supplies ",{"v":0,"d":"$0.00"},null,"160",null,"160","100","2100","6600","100",null,"100",{"$nulls":13},{"$f":"IF(OR(SUMPRODUCT(--(E881=$O$1:$O$542))>0,E881=0),0,1)","v":0}]
["170.000.0000.0103.000","Cash on Deposit with Cou",{"v":0,"d":"$0.00"},null,"170",null,"170","000","0000","0103","000",null,"000",{"$nulls":13},{"$f":"IF(OR(SUMPRODUCT(--(E882=$O$1:$O$542))>0,E882=0),0,1)","v":0}]
["170.000.0000.0330.000","Unreserved Fund Balance",{"v":0,"d":"$0.00"},null,"170",null,"170","000","0000","0330","000",null,"000",{"$nulls":13},{"$f":"IF(OR(SUMPRODUCT(--(E883=$O$1:$O$542))>0,E883=0),0,1)","v":0}]
["170.000.0000.1510.000","Interest on Investments ",{"v":0,"d":"$0.00"},null,"170",null,"170","000","0000","1510","000",null,"000",{"$nulls":13},{"$f":"IF(OR(SUMPRODUCT(--(E884=$O$1:$O$542))>0,E884=0),0,1)","v":0}]
["170.000.0000.4500.000","RESTRICTED GRANT FEDERAL",{"v":0,"d":"$0.00"},null,"170",null,"170","000","0000","4500","000",null,"000",{"$nulls":13},{"$f":"IF(OR(SUMPRODUCT(--(E885=$O$1:$O$542))>0,E885=0),0,1)","v":0}]
["170.000.0000.4501.000","Prior Year Revenue",{"v":0,"d":"$0.00"},null,"170",null,"170","000","0000","4501","000",null,"000",{"$nulls":13},{"$f":"IF(OR(SUMPRODUCT(--(E886=$O$1:$O$542))>0,E886=0),0,1)","v":0}]
["170.100.1000.6600.100","Supplies ",{"v":0,"d":"$0.00"},null,"170",null,"170","100","1000","6600","100",null,"100",{"$nulls":13},{"$f":"IF(OR(SUMPRODUCT(--(E887=$O$1:$O$542))>0,E887=0),0,1)","v":0}]
["170.100.6000.6930.000","Transfer out",{"v":0,"d":"$0.00"},null,"170",null,"170","100","6000","6930","000",null,"000",{"$nulls":13},{"$f":"IF(OR(SUMPRODUCT(--(E888=$O$1:$O$542))>0,E888=0),0,1)","v":0}]
["180.000.0000.0103.000","Title VI",{"v":0,"d":"$0.00"},null,"180",null,"180","000","0000","0103","000",null,"000",{"$nulls":13},{"$f":"IF(OR(SUMPRODUCT(--(E889=$O$1:$O$542))>0,E889=0),0,1)","v":0}]
["180.000.0000.0250.000","Deferred Revenues",{"v":0,"d":"$0.00"},null,"180",null,"180","000","0000","0250","000",null,"000",{"$nulls":13},{"$f":"IF(OR(SUMPRODUCT(--(E890=$O$1:$O$542))>0,E890=0),0,1)","v":0}]
["180.000.0000.0330.000","Unreserved Fund Balance",{"v":0,"d":"$0.00"},null,"180",null,"180","000","0000","0330","000",null,"000",{"$nulls":13},{"$f":"IF(OR(SUMPRODUCT(--(E891=$O$1:$O$542))>0,E891=0),0,1)","v":0}]
["180.000.0000.1510.000","Interest on Investments ",{"v":0,"d":"$0.00"},null,"180",null,"180","000","0000","1510","000",null,"000",{"$nulls":13},{"$f":"IF(OR(SUMPRODUCT(--(E892=$O$1:$O$542))>0,E892=0),0,1)","v":0}]
["180.000.0000.4500.000","UNDESIGNATED",{"v":0,"d":"$0.00"},null,"180",null,"180","000","0000","4500","000",null,"000",{"$nulls":13},{"$f":"IF(OR(SUMPRODUCT(--(E893=$O$1:$O$542))>0,E893=0),0,1)","v":0}]
["180.100.0000.1510.000","INTEREST ON INVESTMENTS",{"v":0,"d":"$0.00"},null,"180",null,"180","100","0000","1510","000",null,"000",{"$nulls":13},{"$f":"IF(OR(SUMPRODUCT(--(E894=$O$1:$O$542))>0,E894=0),0,1)","v":0}]
["180.100.0000.1900.000","OTHER RECEIPTS",{"v":0,"d":"$0.00"},null,"180",null,"180","100","0000","1900","000",null,"000",{"$nulls":13},{"$f":"IF(OR(SUMPRODUCT(--(E895=$O$1:$O$542))>0,E895=0),0,1)","v":0}]
["180.100.0000.4500.000","FEDERAL REVENUE",{"v":0,"d":"$0.00"},null,"180",null,"180","100","0000","4500","000",null,"000",{"$nulls":13},{"$f":"IF(OR(SUMPRODUCT(--(E896=$O$1:$O$542))>0,E896=0),0,1)","v":0}]
["180.100.0000.6910.100","INDIRECT COSTS",{"v":0,"d":"$0.00"},null,"180",null,"180","100","0000","6910","100",null,"100",{"$nulls":13},{"$f":"IF(OR(SUMPRODUCT(--(E897=$O$1:$O$542))>0,E897=0),0,1)","v":0}]
["180.100.2200.6600.100","Supplies ",{"v":0,"d":"$0.00"},null,"180",null,"180","100","2200","6600","100",null,"100",{"$nulls":13},{"$f":"IF(OR(SUMPRODUCT(--(E898=$O$1:$O$542))>0,E898=0),0,1)","v":0}]
["180.100.6000.6930.000","Transfer out",{"v":0,"d":"$0.00"},null,{"$f":"IF(AND(F899<>\"\",F899=G899),\"ERROR\",IF(AND(F899<>\"\",F899<>G899),F899,G899))","v":"180"},null,"180","100","6000","6930","000",null,{"$f":"IF(L899<>\"\",L899,K899)","v":"000"},{"$nulls":13},{"$f":"IF(OR(SUMPRODUCT(--(E899=$O$1:$O$542))>0,E899=0),0,1)","v":0}]
["184.000.0000.0103.000","Class Size Reduction",{"v":0,"d":"$0.00"},null,"184",null,"184","000","0000","0103","000",null,"000",{"$nulls":13},{"$f":"IF(OR(SUMPRODUCT(--(E900=$O$1:$O$542))>0,E900=0),0,1)","v":0}]
["184.000.0000.0222.000","Social Security - OASDI",{"v":0,"d":"$0.00"},null,"184",null,"184","000","0000","0222","000",null,"000",{"$nulls":13},{"$f":"IF(OR(SUMPRODUCT(--(E901=$O$1:$O$542))>0,E901=0),0,1)","v":0}]
["184.000.0000.0223.000","Medicare",{"v":0,"d":"$0.00"},null,"184",null,"184","000","0000","0223","000",null,"000",{"$nulls":13},{"$f":"IF(OR(SUMPRODUCT(--(E902=$O$1:$O$542))>0,E902=0),0,1)","v":0}]
["184.000.0000.0224.000","State Retirement System Contributio",{"v":0,"d":"$0.00"},null,"184",null,"184","000","0000","0224","000",null,"000",{"$nulls":13},{"$f":"IF(OR(SUMPRODUCT(--(E903=$O$1:$O$542))>0,E903=0),0,1)","v":0}]
["184.000.0000.0241.000","Federal Income Taxes",{"v":0,"d":"$0.00"},null,"184",null,"184","000","0000","0241","000",null,"000",{"$nulls":13},{"$f":"IF(OR(SUMPRODUCT(--(E904=$O$1:$O$542))>0,E904=0),0,1)","v":0}]
["184.000.0000.0242.000","State Income Taxes",{"v":0,"d":"$0.00"},null,"184",null,"184","000","0000","0242","000",null,"000",{"$nulls":13},{"$f":"IF(OR(SUMPRODUCT(--(E905=$O$1:$O$542))>0,E905=0),0,1)","v":0}]
["184.000.0000.0243.000","Social Security - OASDI",{"v":0,"d":"$0.00"},null,"184",null,"184","000","0000","0243","000",null,"000",{"$nulls":13},{"$f":"IF(OR(SUMPRODUCT(--(E906=$O$1:$O$542))>0,E906=0),0,1)","v":0}]
["184.000.0000.0244.000","Medicare - Hospital Insurance",{"v":0,"d":"$0.00"},null,"184",null,"184","000","0000","0244","000",null,"000",{"$nulls":13},{"$f":"IF(OR(SUMPRODUCT(--(E907=$O$1:$O$542))>0,E907=0),0,1)","v":0}]
["184.000.0000.0245.000","State Retirement Contributions",{"v":0,"d":"$0.00"},null,"184",null,"184","000","0000","0245","000",null,"000",{"$nulls":13},{"$f":"IF(OR(SUMPRODUCT(--(E908=$O$1:$O$542))>0,E908=0),0,1)","v":0}]
["184.000.0000.0246.000","Long Term Disability",{"v":0,"d":"$0.00"},null,"184",null,"184","000","0000","0246","000",null,"000",{"$nulls":13},{"$f":"IF(OR(SUMPRODUCT(--(E909=$O$1:$O$542))>0,E909=0),0,1)","v":0}]
["184.000.0000.0330.000","Unreserved Fund Balance",{"v":0,"d":"$0.00"},null,"184",null,"184","000","0000","0330","000",null,"000",{"$nulls":13},{"$f":"IF(OR(SUMPRODUCT(--(E910=$O$1:$O$542))>0,E910=0),0,1)","v":0}]
["184.000.0000.1510.000","Interest on Investments ",{"v":0,"d":"$0.00"},null,"184",null,"184","000","0000","1510","000",null,"000",{"$nulls":13},{"$f":"IF(OR(SUMPRODUCT(--(E911=$O$1:$O$542))>0,E911=0),0,1)","v":0}]
["184.000.0000.4500.000","RESTRICTED GRANT FEDERAL",{"v":0,"d":"$0.00"},null,"184",null,"184","000","0000","4500","000",null,"000",{"$nulls":13},{"$f":"IF(OR(SUMPRODUCT(--(E912=$O$1:$O$542))>0,E912=0),0,1)","v":0}]
["184.000.0000.4501.000","PRIOR YEAR REVENUE DUE F",{"v":0,"d":"$0.00"},null,"184",null,"184","000","0000","4501","000",null,"000",{"$nulls":13},{"$f":"IF(OR(SUMPRODUCT(--(E913=$O$1:$O$542))>0,E913=0),0,1)","v":0}]
["184.100.2100.6100.100","Personal Services - Salaries ",{"v":0,"d":"$0.00"},null,"184",null,"184","100","2100","6100","100",null,"100",{"$nulls":13},{"$f":"IF(OR(SUMPRODUCT(--(E914=$O$1:$O$542))>0,E914=0),0,1)","v":0}]
["184.100.2100.6113.100","Substitute",{"v":0,"d":"$0.00"},null,"184",null,"184","100","2100","6113","100",null,"100",{"$nulls":13},{"$f":"IF(OR(SUMPRODUCT(--(E915=$O$1:$O$542))>0,E915=0),0,1)","v":0}]
["184.100.2100.6200.100","Personal Services - Employee Benefi",{"v":0,"d":"$0.00"},null,"184",null,"184","100","2100","6200","100",null,"100",{"$nulls":13},{"$f":"IF(OR(SUMPRODUCT(--(E916=$O$1:$O$542))>0,E916=0),0,1)","v":0}]
["184.100.2100.6221.100","Social Security - OASDI",{"v":0,"d":"$0.00"},null,"184",null,"184","100","2100","6221","100",null,"100",{"$nulls":13},{"$f":"IF(OR(SUMPRODUCT(--(E917=$O$1:$O$542))>0,E917=0),0,1)","v":0}]
["184.100.2100.6222.100","Medicare - Hospital Insurance ",{"v":0,"d":"$0.00"},null,"184",null,"184","100","2100","6222","100",null,"100",{"$nulls":13},{"$f":"IF(OR(SUMPRODUCT(--(E918=$O$1:$O$542))>0,E918=0),0,1)","v":0}]
["184.100.2100.6231.100","State Retirement ",{"v":0,"d":"$0.00"},null,"184",null,"184","100","2100","6231","100",null,"100",{"$nulls":13},{"$f":"IF(OR(SUMPRODUCT(--(E919=$O$1:$O$542))>0,E919=0),0,1)","v":0}]
["184.100.2100.6232.100","Long Term Disability",{"v":0,"d":"$0.00"},null,"184",null,"184","100","2100","6232","100",null,"100",{"$nulls":13},{"$f":"IF(OR(SUMPRODUCT(--(E920=$O$1:$O$542))>0,E920=0),0,1)","v":0}]
["184.100.2100.6300.100","Purchased Professional and Technica",{"v":0,"d":"$0.00"},null,"184",null,"184","100","2100","6300","100",null,"100",{"$nulls":13},{"$f":"IF(OR(SUMPRODUCT(--(E921=$O$1:$O$542))>0,E921=0),0,1)","v":0}]
["184.100.6000.6930.000","Transfer out",{"v":0,"d":"$0.00"},null,"184",null,"184","100","6000","6930","000",null,"000",{"$nulls":13},{"$f":"IF(OR(SUMPRODUCT(--(E922=$O$1:$O$542))>0,E922=0),0,1)","v":0}]
["220.000.0000.0103.000","Cash on Deposit with County Treasurer ",{"v":1002.19,"d":"$1,002.19"},null,"220",null,"220","000","0000","0103","000",null,"000",{"$nulls":13},{"$f":"IF(OR(SUMPRODUCT(--(E923=$O$1:$O$542))>0,E923=0),0,1)","v":0}]
["220.000.0000.0201.000","Accounts Payable",{"v":0,"d":"$0.00"},null,"220",null,"220","000","0000","0201","000",null,"000",{"$nulls":13},{"$f":"IF(OR(SUMPRODUCT(--(E924=$O$1:$O$542))>0,E924=0),0,1)","v":0}]
["220.000.0000.0221.000","Salaries and Wages ",{"v":0,"d":"$0.00"},null,"220",null,"220","000","0000","0221","000",null,"000",{"$nulls":13},{"$f":"IF(OR(SUMPRODUCT(--(E925=$O$1:$O$542))>0,E925=0),0,1)","v":0}]
["220.000.0000.0222.100","Social Security - OASDI",{"v":0,"d":"$0.00"},null,"220",null,"220","000","0000","0222","100",null,"100",{"$nulls":13},{"$f":"IF(OR(SUMPRODUCT(--(E926=$O$1:$O$542))>0,E926=0),0,1)","v":0}]
["220.000.0000.0223.100","Medicare",{"v":0,"d":"$0.00"},null,"220",null,"220","000","0000","0223","100",null,"100",{"$nulls":13},{"$f":"IF(OR(SUMPRODUCT(--(E927=$O$1:$O$542))>0,E927=0),0,1)","v":0}]
["220.000.0000.0241.100","Federal Income Taxes",{"v":0,"d":"$0.00"},null,"220",null,"220","000","0000","0241","100",null,"100",{"$nulls":13},{"$f":"IF(OR(SUMPRODUCT(--(E928=$O$1:$O$542))>0,E928=0),0,1)","v":0}]
["220.000.0000.0242.100","State Income Taxes",{"v":0,"d":"$0.00"},null,"220",null,"220","000","0000","0242","100",null,"100",{"$nulls":13},{"$f":"IF(OR(SUMPRODUCT(--(E929=$O$1:$O$542))>0,E929=0),0,1)","v":0}]
["220.000.0000.0243.100","Social Security - OASDI",{"v":0,"d":"$0.00"},null,"220",null,"220","000","0000","0243","100",null,"100",{"$nulls":13},{"$f":"IF(OR(SUMPRODUCT(--(E930=$O$1:$O$542))>0,E930=0),0,1)","v":0}]
["220.000.0000.0244.100","Medicare - Hospital Insurance",{"v":0,"d":"$0.00"},null,"220",null,"220","000","0000","0244","100",null,"100",{"$nulls":13},{"$f":"IF(OR(SUMPRODUCT(--(E931=$O$1:$O$542))>0,E931=0),0,1)","v":0}]
["220.000.0000.0247.100","Voluntary Deductions",{"v":0,"d":"$0.00"},null,"220",null,"220","000","0000","0247","100",null,"100",{"$nulls":13},{"$f":"IF(OR(SUMPRODUCT(--(E932=$O$1:$O$542))>0,E932=0),0,1)","v":0}]
["220.000.0000.0330.000","Unreserved Fund Balance",{"v":8328.51,"d":"$8,328.51"},null,"220",null,"220","000","0000","0330","000",null,"000",{"$nulls":13},{"$f":"IF(OR(SUMPRODUCT(--(E933=$O$1:$O$542))>0,E933=0),0,1)","v":0}]
["220.000.0000.4500.000","RESTRICTED GRANT FEDERAL",{"v":0,"d":"$0.00"},null,"220",null,"220","000","0000","4500","000",null,"000",{"$nulls":13},{"$f":"IF(OR(SUMPRODUCT(--(E934=$O$1:$O$542))>0,E934=0),0,1)","v":0}]
["220.000.0000.4501.000","(OLD)PRIOR YR  REV DUE FROM STATE",{"v":-9330.7,"d":"-($9,330.70)"},null,"220",null,"220","000","0000","4501","000",null,"000",{"$nulls":13},{"$f":"IF(OR(SUMPRODUCT(--(E935=$O$1:$O$542))>0,E935=0),0,1)","v":0}]
["220.100.1000.6100.100","Personal Services - Salaries",{"v":0,"d":"$0.00"},null,"220",null,"220","100","1000","6100","100",null,"100",{"$nulls":13},{"$f":"IF(OR(SUMPRODUCT(--(E936=$O$1:$O$542))>0,E936=0),0,1)","v":0}]
["220.100.2200.0103.100","Cash on Deposit with County Treasurer ",{"v":0,"d":"$0.00"},null,"220",null,"220","100","2200","0103","100",null,"100",{"$nulls":13},{"$f":"IF(OR(SUMPRODUCT(--(E937=$O$1:$O$542))>0,E937=0),0,1)","v":0}]
["220.100.2200.6150.100","Classified Salaries ",{"v":0,"d":"$0.00"},null,"220",null,"220","100","2200","6150","100",null,"100",{"$nulls":13},{"$f":"IF(OR(SUMPRODUCT(--(E938=$O$1:$O$542))>0,E938=0),0,1)","v":0}]
["220.100.2200.6221.100","Social Security - OASDI",{"v":0,"d":"$0.00"},null,"220",null,"220","100","2200","6221","100",null,"100",{"$nulls":13},{"$f":"IF(OR(SUMPRODUCT(--(E939=$O$1:$O$542))>0,E939=0),0,1)","v":0}]
["220.100.2200.6222.100","Medicare - Hospital Insurance ",{"v":0,"d":"$0.00"},null,"220",null,"220","100","2200","6222","100",null,"100",{"$nulls":13},{"$f":"IF(OR(SUMPRODUCT(--(E940=$O$1:$O$542))>0,E940=0),0,1)","v":0}]
["220.200.1000.0103.100","Cash on Deposit with County Treasurer ",{"v":0,"d":"$0.00"},null,"220",null,"220","200","1000","0103","100",null,"100",{"$nulls":13},{"$f":"IF(OR(SUMPRODUCT(--(E941=$O$1:$O$542))>0,E941=0),0,1)","v":0}]
["220.200.1000.6112.000","Sped Supplemental Pay",{"v":0,"d":"$0.00"},null,"220",null,"220","200","1000","6112","000",null,"000",{"$nulls":13},{"$f":"IF(OR(SUMPRODUCT(--(E942=$O$1:$O$542))>0,E942=0),0,1)","v":0}]
["220.200.1000.6112.100","Teachers",{"v":0,"d":"$0.00"},null,"220",null,"220","200","1000","6112","100",null,"100",{"$nulls":13},{"$f":"IF(OR(SUMPRODUCT(--(E943=$O$1:$O$542))>0,E943=0),0,1)","v":0}]
["220.200.1000.6221.100","Social Security - OASDI",{"v":0,"d":"$0.00"},null,"220",null,"220","200","1000","6221","100",null,"100",{"$nulls":13},{"$f":"IF(OR(SUMPRODUCT(--(E944=$O$1:$O$542))>0,E944=0),0,1)","v":0}]
["220.200.1000.6222.100","Medicare - Hospital Insurance ",{"v":0,"d":"$0.00"},null,"220",null,"220","200","1000","6222","100",null,"100",{"$nulls":13},{"$f":"IF(OR(SUMPRODUCT(--(E945=$O$1:$O$542))>0,E945=0),0,1)","v":0}]
["220.200.2100.0103.000","Undesignated",{"v":0,"d":"$0.00"},null,"220",null,"220","200","2100","0103","000",null,"000",{"$nulls":13},{"$f":"IF(OR(SUMPRODUCT(--(E946=$O$1:$O$542))>0,E946=0),0,1)","v":0}]
["220.200.2100.0103.100","IDEA",{"v":0,"d":"$0.00"},null,"220",null,"220","200","2100","0103","100",null,"100",{"$nulls":13},{"$f":"IF(OR(SUMPRODUCT(--(E947=$O$1:$O$542))>0,E947=0),0,1)","v":0}]
["220.200.2100.6330.100","Other Professional Services",{"v":0,"d":"$0.00"},null,"220",null,"220","200","2100","6330","100",null,"100",{"$nulls":13},{"$f":"IF(OR(SUMPRODUCT(--(E948=$O$1:$O$542))>0,E948=0),0,1)","v":0}]
["220.200.2100.6591.100","Undesignated",{"v":0,"d":"$0.00"},null,"220",null,"220","200","2100","6591","100",null,"100",{"$nulls":13},{"$f":"IF(OR(SUMPRODUCT(--(E949=$O$1:$O$542))>0,E949=0),0,1)","v":0}]
["221.000.0000.0103.000","IDEA Emergency",{"v":0,"d":"$0.00"},null,"221",null,"221","000","0000","0103","000",null,"000",{"$nulls":13},{"$f":"IF(OR(SUMPRODUCT(--(E950=$O$1:$O$542))>0,E950=0),0,1)","v":0}]
["221.000.0000.0221.000","Salaries and Wages ",{"v":0,"d":"$0.00"},null,"221",null,"221","000","0000","0221","000",null,"000",{"$nulls":13},{"$f":"IF(OR(SUMPRODUCT(--(E951=$O$1:$O$542))>0,E951=0),0,1)","v":0}]
["221.000.0000.0222.100","Social Security - OASDI",{"v":0,"d":"$0.00"},null,"221",null,"221","000","0000","0222","100",null,"100",{"$nulls":13},{"$f":"IF(OR(SUMPRODUCT(--(E952=$O$1:$O$542))>0,E952=0),0,1)","v":0}]
["221.000.0000.0223.100","Medicare",{"v":0,"d":"$0.00"},null,"221",null,"221","000","0000","0223","100",null,"100",{"$nulls":13},{"$f":"IF(OR(SUMPRODUCT(--(E953=$O$1:$O$542))>0,E953=0),0,1)","v":0}]
["221.000.0000.0224.100","State Retirement System Contributions ",{"v":0,"d":"$0.00"},null,"221",null,"221","000","0000","0224","100",null,"100",{"$nulls":13},{"$f":"IF(OR(SUMPRODUCT(--(E954=$O$1:$O$542))>0,E954=0),0,1)","v":0}]
["221.000.0000.0227.000","Workers' Compensation",{"v":0,"d":"$0.00"},null,"221",null,"221","000","0000","0227","000",null,"000",{"$nulls":13},{"$f":"IF(OR(SUMPRODUCT(--(E955=$O$1:$O$542))>0,E955=0),0,1)","v":0}]
["221.000.0000.0241.100","Federal Income Taxes",{"v":0,"d":"$0.00"},null,"221",null,"221","000","0000","0241","100",null,"100",{"$nulls":13},{"$f":"IF(OR(SUMPRODUCT(--(E956=$O$1:$O$542))>0,E956=0),0,1)","v":0}]
["221.000.0000.0242.100","State Income Taxes",{"v":0,"d":"$0.00"},null,"221",null,"221","000","0000","0242","100",null,"100",{"$nulls":13},{"$f":"IF(OR(SUMPRODUCT(--(E957=$O$1:$O$542))>0,E957=0),0,1)","v":0}]
["221.000.0000.0243.100","Social Security - OASDI",{"v":0,"d":"$0.00"},null,"221",null,"221","000","0000","0243","100",null,"100",{"$nulls":13},{"$f":"IF(OR(SUMPRODUCT(--(E958=$O$1:$O$542))>0,E958=0),0,1)","v":0}]
["221.000.0000.0244.100","Medicare - Hospital Insurance",{"v":0,"d":"$0.00"},null,"221",null,"221","000","0000","0244","100",null,"100",{"$nulls":13},{"$f":"IF(OR(SUMPRODUCT(--(E959=$O$1:$O$542))>0,E959=0),0,1)","v":0}]
["221.000.0000.0245.100","State Retirement Contributions",{"v":0,"d":"$0.00"},null,"221",null,"221","000","0000","0245","100",null,"100",{"$nulls":13},{"$f":"IF(OR(SUMPRODUCT(--(E960=$O$1:$O$542))>0,E960=0),0,1)","v":0}]
["221.000.0000.0246.100","Long-Term Disability",{"v":0,"d":"$0.00"},null,"221",null,"221","000","0000","0246","100",null,"100",{"$nulls":13},{"$f":"IF(OR(SUMPRODUCT(--(E961=$O$1:$O$542))>0,E961=0),0,1)","v":0}]
["221.000.0000.0247.100","Voluntary Deductions",{"v":0,"d":"$0.00"},null,"221",null,"221","000","0000","0247","100",null,"100",{"$nulls":13},{"$f":"IF(OR(SUMPRODUCT(--(E962=$O$1:$O$542))>0,E962=0),0,1)","v":0}]
["221.000.0000.0330.000","Unreserved Fund Balance",{"v":0,"d":"$0.00"},null,{"$f":"IF(AND(F963<>\"\",F963=G963),\"ERROR\",IF(AND(F963<>\"\",F963<>G963),F963,G963))","v":"221"},null,"221","000","0000","0330","000",null,{"$f":"IF(L963<>\"\",L963,K963)","v":"000"},{"$nulls":13},{"$f":"IF(OR(SUMPRODUCT(--(E963=$O$1:$O$542))>0,E963=0),0,1)","v":0}]
["221.000.0000.4500.000","Undesignated",{"v":0,"d":"$0.00"},null,"221",null,"221","000","0000","4500","000",null,"000",{"$nulls":13},{"$f":"IF(OR(SUMPRODUCT(--(E964=$O$1:$O$542))>0,E964=0),0,1)","v":0}]
["221.000.0000.4501.000","Undesignated",{"v":0,"d":"$0.00"},null,"221",null,"221","000","0000","4501","000",null,"000",{"$nulls":13},{"$f":"IF(OR(SUMPRODUCT(--(E965=$O$1:$O$542))>0,E965=0),0,1)","v":0}]
["221.000.0000.5200.000","Transfer In",{"v":0,"d":"$0.00"},null,"221",null,"221","000","0000","5200","000",null,"000",{"$nulls":13},{"$f":"IF(OR(SUMPRODUCT(--(E966=$O$1:$O$542))>0,E966=0),0,1)","v":0}]
["221.100.1000.0103.100","Cash on Deposit with County Treasurer ",{"v":0,"d":"$0.00"},null,"221",null,"221","100","1000","0103","100",null,"100",{"$nulls":13},{"$f":"IF(OR(SUMPRODUCT(--(E967=$O$1:$O$542))>0,E967=0),0,1)","v":0}]
["221.100.1000.6100.100","Undesignated",{"v":0,"d":"$0.00"},null,"221",null,"221","100","1000","6100","100",null,"100",{"$nulls":13},{"$f":"IF(OR(SUMPRODUCT(--(E968=$O$1:$O$542))>0,E968=0),0,1)","v":0}]
["221.100.1000.6221.100","Social Security - OASDI",{"v":0,"d":"$0.00"},null,"221",null,"221","100","1000","6221","100",null,"100",{"$nulls":13},{"$f":"IF(OR(SUMPRODUCT(--(E969=$O$1:$O$542))>0,E969=0),0,1)","v":0}]
["221.100.1000.6222.100","Medicare - Hospital Insurance ",{"v":0,"d":"$0.00"},null,"221",null,"221","100","1000","6222","100",null,"100",{"$nulls":13},{"$f":"IF(OR(SUMPRODUCT(--(E970=$O$1:$O$542))>0,E970=0),0,1)","v":0}]
["221.100.1000.6231.100","State Retirement ",{"v":0,"d":"$0.00"},null,"221",null,"221","100","1000","6231","100",null,"100",{"$nulls":13},{"$f":"IF(OR(SUMPRODUCT(--(E971=$O$1:$O$542))>0,E971=0),0,1)","v":0}]
["221.100.1000.6232.100","Long-Term Disability",{"v":0,"d":"$0.00"},null,"221",null,"221","100","1000","6232","100",null,"100",{"$nulls":13},{"$f":"IF(OR(SUMPRODUCT(--(E972=$O$1:$O$542))>0,E972=0),0,1)","v":0}]
["221.100.1000.6260.100","Worker's Compensation ",{"v":0,"d":"$0.00"},null,"221",null,"221","100","1000","6260","100",null,"100",{"$nulls":13},{"$f":"IF(OR(SUMPRODUCT(--(E973=$O$1:$O$542))>0,E973=0),0,1)","v":0}]
["221.100.1000.6300.100","Undesignated",{"v":0,"d":"$0.00"},null,"221",null,"221","100","1000","6300","100",null,"100",{"$nulls":13},{"$f":"IF(OR(SUMPRODUCT(--(E974=$O$1:$O$542))>0,E974=0),0,1)","v":0}]
["221.200.1000.6100.100","Undesignated",{"v":0,"d":"$0.00"},null,"221",null,"221","200","1000","6100","100",null,"100",{"$nulls":13},{"$f":"IF(OR(SUMPRODUCT(--(E975=$O$1:$O$542))>0,E975=0),0,1)","v":0}]
["221.200.1000.6221.100","Undesignated",{"v":0,"d":"$0.00"},null,"221",null,"221","200","1000","6221","100",null,"100",{"$nulls":13},{"$f":"IF(OR(SUMPRODUCT(--(E976=$O$1:$O$542))>0,E976=0),0,1)","v":0}]
["221.200.1000.6222.100","Undesignated",{"v":0,"d":"$0.00"},null,"221",null,"221","200","1000","6222","100",null,"100",{"$nulls":13},{"$f":"IF(OR(SUMPRODUCT(--(E977=$O$1:$O$542))>0,E977=0),0,1)","v":0}]
["221.200.1000.6231.100","Undesignated",{"v":0,"d":"$0.00"},null,"221",null,"221","200","1000","6231","100",null,"100",{"$nulls":13},{"$f":"IF(OR(SUMPRODUCT(--(E978=$O$1:$O$542))>0,E978=0),0,1)","v":0}]
["221.200.1000.6232.100","Undesignated",{"v":0,"d":"$0.00"},null,"221",null,"221","200","1000","6232","100",null,"100",{"$nulls":13},{"$f":"IF(OR(SUMPRODUCT(--(E979=$O$1:$O$542))>0,E979=0),0,1)","v":0}]
["221.200.1000.6260.100","Undesignated",{"v":0,"d":"$0.00"},null,"221",null,"221","200","1000","6260","100",null,"100",{"$nulls":13},{"$f":"IF(OR(SUMPRODUCT(--(E980=$O$1:$O$542))>0,E980=0),0,1)","v":0}]
["221.200.1000.6300.100","Undesignated",{"v":0,"d":"$0.00"},null,"221",null,"221","200","1000","6300","100",null,"100",{"$nulls":13},{"$f":"IF(OR(SUMPRODUCT(--(E981=$O$1:$O$542))>0,E981=0),0,1)","v":0}]
["221.200.2200.6100.100","Undesignated",{"v":0,"d":"$0.00"},null,"221",null,"221","200","2200","6100","100",null,"100",{"$nulls":13},{"$f":"IF(OR(SUMPRODUCT(--(E982=$O$1:$O$542))>0,E982=0),0,1)","v":0}]
["221.200.2200.6221.100","Undesignated",{"v":0,"d":"$0.00"},null,"221",null,"221","200","2200","6221","100",null,"100",{"$nulls":13},{"$f":"IF(OR(SUMPRODUCT(--(E983=$O$1:$O$542))>0,E983=0),0,1)","v":0}]
["221.200.2200.6222.100","Undesignated",{"v":0,"d":"$0.00"},null,"221",null,"221","200","2200","6222","100",null,"100",{"$nulls":13},{"$f":"IF(OR(SUMPRODUCT(--(E984=$O$1:$O$542))>0,E984=0),0,1)","v":0}]
["221.200.2200.6231.100","Undesignated",{"v":0,"d":"$0.00"},null,"221",null,"221","200","2200","6231","100",null,"100",{"$nulls":13},{"$f":"IF(OR(SUMPRODUCT(--(E985=$O$1:$O$542))>0,E985=0),0,1)","v":0}]
["221.200.2200.6232.100","Undesignated",{"v":0,"d":"$0.00"},null,"221",null,"221","200","2200","6232","100",null,"100",{"$nulls":13},{"$f":"IF(OR(SUMPRODUCT(--(E986=$O$1:$O$542))>0,E986=0),0,1)","v":0}]
["221.200.2200.6300.100","Undesignated",{"v":0,"d":"$0.00"},null,"221",null,"221","200","2200","6300","100",null,"100",{"$nulls":13},{"$f":"IF(OR(SUMPRODUCT(--(E987=$O$1:$O$542))>0,E987=0),0,1)","v":0}]
["233.000.0000.0103.000","Cash on Deposit with County Treasurer",{"v":0,"d":"$0.00"},null,"233",null,"233","000","0000","0103","000",null,"000",{"$nulls":13},{"$f":"IF(OR(SUMPRODUCT(--(E988=$O$1:$O$542))>0,E988=0),0,1)","v":0}]
["233.000.0000.0201.000","Accounts Payable",{"v":0,"d":"$0.00"},null,"233",null,"233","000","0000","0201","000",null,"000",{"$nulls":13},{"$f":"IF(OR(SUMPRODUCT(--(E989=$O$1:$O$542))>0,E989=0),0,1)","v":0}]
["233.000.0000.0330.000","Unreserved Fund Balance",{"v":0,"d":"$0.00"},null,"233",null,"233","000","0000","0330","000",null,"000",{"$nulls":13},{"$f":"IF(OR(SUMPRODUCT(--(E990=$O$1:$O$542))>0,E990=0),0,1)","v":0}]
["233.000.0000.4500.000","RESTRICTED GRANT FEDERAL",{"v":0,"d":"$0.00"},null,"233",null,"233","000","0000","4500","000",null,"000",{"$nulls":13},{"$f":"IF(OR(SUMPRODUCT(--(E991=$O$1:$O$542))>0,E991=0),0,1)","v":0}]
["233.000.0000.4501.000","(OLD)PRIOR YR  REV DUE FROM STATE",{"v":0,"d":"$0.00"},null,"233",null,"233","000","0000","4501","000",null,"000",{"$nulls":13},{"$f":"IF(OR(SUMPRODUCT(--(E992=$O$1:$O$542))>0,E992=0),0,1)","v":0}]
["233.100.1000.6100.100","Personal Services - Salaries",{"v":0,"d":"$0.00"},null,"233",null,"233","100","1000","6100","100",null,"100",{"$nulls":13},{"$f":"IF(OR(SUMPRODUCT(--(E993=$O$1:$O$542))>0,E993=0),0,1)","v":0}]
["233.100.1000.6200.100","Personal Services - Employee Benefits",{"v":0,"d":"$0.00"},null,"233",null,"233","100","1000","6200","100",null,"100",{"$nulls":13},{"$f":"IF(OR(SUMPRODUCT(--(E994=$O$1:$O$542))>0,E994=0),0,1)","v":0}]
["233.100.1000.6330.100","Cash",{"v":0,"d":"$0.00"},null,"233",null,"233","100","1000","6330","100",null,"100",{"$nulls":13},{"$f":"IF(OR(SUMPRODUCT(--(E995=$O$1:$O$542))>0,E995=0),0,1)","v":0}]
["233.100.2100.6330.100","Other Professional Services",{"v":0,"d":"$0.00"},null,"233",null,"233","100","2100","6330","100",null,"100",{"$nulls":13},{"$f":"IF(OR(SUMPRODUCT(--(E996=$O$1:$O$542))>0,E996=0),0,1)","v":0}]
["233.100.2600.6622.100","Electricity",{"v":0,"d":"$0.00"},null,"233",null,"233","100","2600","6622","100",null,"100",{"$nulls":13},{"$f":"IF(OR(SUMPRODUCT(--(E997=$O$1:$O$542))>0,E997=0),0,1)","v":0}]
["233.100.2700.6330.100","Other Professional Services",{"v":0,"d":"$0.00"},null,"233",null,"233","100","2700","6330","100",null,"100",{"$nulls":13},{"$f":"IF(OR(SUMPRODUCT(--(E998=$O$1:$O$542))>0,E998=0),0,1)","v":0}]
["233.100.2700.6600.100","Cash",{"v":0,"d":"$0.00"},null,"233",null,"233","100","2700","6600","100",null,"100",{"$nulls":13},{"$f":"IF(OR(SUMPRODUCT(--(E999=$O$1:$O$542))>0,E999=0),0,1)","v":0}]
["233.100.6000.6930.000","Transfer out",{"v":0,"d":"$0.00"},null,"233",null,"233","100","6000","6930","000",null,"000",{"$nulls":13},{"$f":"IF(OR(SUMPRODUCT(--(E1000=$O$1:$O$542))>0,E1000=0),0,1)","v":0}]
["234.000.0000.0103.000","Cash on Deposit with County Treasurer ",{"v":0,"d":"$0.00"},null,"234",null,"234","000","0000","0103","000",null,"000",{"$nulls":13},{"$f":"IF(OR(SUMPRODUCT(--(E1001=$O$1:$O$542))>0,E1001=0),0,1)","v":0}]
["234.000.0000.0221.000","Salaries and Wages ",{"v":0,"d":"$0.00"},null,"234",null,"234","000","0000","0221","000",null,"000",{"$nulls":13},{"$f":"IF(OR(SUMPRODUCT(--(E1002=$O$1:$O$542))>0,E1002=0),0,1)","v":0}]
["234.000.0000.0222.100","Social Security - OASDI",{"v":0,"d":"$0.00"},null,"234",null,"234","000","0000","0222","100",null,"100",{"$nulls":13},{"$f":"IF(OR(SUMPRODUCT(--(E1003=$O$1:$O$542))>0,E1003=0),0,1)","v":0}]
["234.000.0000.0223.100","Medicare",{"v":0,"d":"$0.00"},null,"234",null,"234","000","0000","0223","100",null,"100",{"$nulls":13},{"$f":"IF(OR(SUMPRODUCT(--(E1004=$O$1:$O$542))>0,E1004=0),0,1)","v":0}]
["234.000.0000.0241.100","Federal Income Taxes",{"v":0,"d":"$0.00"},null,"234",null,"234","000","0000","0241","100",null,"100",{"$nulls":13},{"$f":"IF(OR(SUMPRODUCT(--(E1005=$O$1:$O$542))>0,E1005=0),0,1)","v":0}]
["234.000.0000.0242.100","State Income Taxes",{"v":0,"d":"$0.00"},null,"234",null,"234","000","0000","0242","100",null,"100",{"$nulls":13},{"$f":"IF(OR(SUMPRODUCT(--(E1006=$O$1:$O$542))>0,E1006=0),0,1)","v":0}]
["234.000.0000.0243.100","Social Security - OASDI",{"v":0,"d":"$0.00"},null,"234",null,"234","000","0000","0243","100",null,"100",{"$nulls":13},{"$f":"IF(OR(SUMPRODUCT(--(E1007=$O$1:$O$542))>0,E1007=0),0,1)","v":0}]
["234.000.0000.0244.100","Medicare - Hospital Insurance",{"v":0,"d":"$0.00"},null,"234",null,"234","000","0000","0244","100",null,"100",{"$nulls":13},{"$f":"IF(OR(SUMPRODUCT(--(E1008=$O$1:$O$542))>0,E1008=0),0,1)","v":0}]
["234.000.0000.0247.100","Voluntary Deductions",{"v":0,"d":"$0.00"},null,"234",null,"234","000","0000","0247","100",null,"100",{"$nulls":13},{"$f":"IF(OR(SUMPRODUCT(--(E1009=$O$1:$O$542))>0,E1009=0),0,1)","v":0}]
["234.000.0000.0330.000","Unreserved Fund Balance",{"v":0,"d":"$0.00"},null,"234",null,"234","000","0000","0330","000",null,"000",{"$nulls":13},{"$f":"IF(OR(SUMPRODUCT(--(E1010=$O$1:$O$542))>0,E1010=0),0,1)","v":0}]
["234.000.0000.4500.000","Undesignated",{"v":0,"d":"$0.00"},null,"234",null,"234","000","0000","4500","000",null,"000",{"$nulls":13},{"$f":"IF(OR(SUMPRODUCT(--(E1011=$O$1:$O$542))>0,E1011=0),0,1)","v":0}]
["234.100.1000.6100.100","Undesignated",{"v":0,"d":"$0.00"},null,"234",null,"234","100","1000","6100","100",null,"100",{"$nulls":13},{"$f":"IF(OR(SUMPRODUCT(--(E1012=$O$1:$O$542))>0,E1012=0),0,1)","v":0}]
["234.100.1000.6221.100","Undesignated",{"v":0,"d":"$0.00"},null,"234",null,"234","100","1000","6221","100",null,"100",{"$nulls":13},{"$f":"IF(OR(SUMPRODUCT(--(E1013=$O$1:$O$542))>0,E1013=0),0,1)","v":0}]
["234.100.1000.6222.100","Undesignated",{"v":0,"d":"$0.00"},null,"234",null,"234","100","1000","6222","100",null,"100",{"$nulls":13},{"$f":"IF(OR(SUMPRODUCT(--(E1014=$O$1:$O$542))>0,E1014=0),0,1)","v":0}]
["234.100.1000.6231.100","Undesignated",{"v":0,"d":"$0.00"},null,"234",null,"234","100","1000","6231","100",null,"100",{"$nulls":13},{"$f":"IF(OR(SUMPRODUCT(--(E1015=$O$1:$O$542))>0,E1015=0),0,1)","v":0}]
["234.100.1000.6232.100","Undesignated",{"v":0,"d":"$0.00"},null,"234",null,"234","100","1000","6232","100",null,"100",{"$nulls":13},{"$f":"IF(OR(SUMPRODUCT(--(E1016=$O$1:$O$542))>0,E1016=0),0,1)","v":0}]
["234.100.2100.6100.100","Undesignated",{"v":0,"d":"$0.00"},null,"234",null,"234","100","2100","6100","100",null,"100",{"$nulls":13},{"$f":"IF(OR(SUMPRODUCT(--(E1017=$O$1:$O$542))>0,E1017=0),0,1)","v":0}]
["234.100.2100.6221.100","Undesignated",{"v":0,"d":"$0.00"},null,"234",null,"234","100","2100","6221","100",null,"100",{"$nulls":13},{"$f":"IF(OR(SUMPRODUCT(--(E1018=$O$1:$O$542))>0,E1018=0),0,1)","v":0}]
["234.100.2100.6222.100","Undesignated",{"v":0,"d":"$0.00"},null,"234",null,"234","100","2100","6222","100",null,"100",{"$nulls":13},{"$f":"IF(OR(SUMPRODUCT(--(E1019=$O$1:$O$542))>0,E1019=0),0,1)","v":0}]
["234.100.2100.6231.100","Undesignated",{"v":0,"d":"$0.00"},null,"234",null,"234","100","2100","6231","100",null,"100",{"$nulls":13},{"$f":"IF(OR(SUMPRODUCT(--(E1020=$O$1:$O$542))>0,E1020=0),0,1)","v":0}]
["234.100.2100.6232.100","Undesignated",{"v":0,"d":"$0.00"},null,"234",null,"234","100","2100","6232","100",null,"100",{"$nulls":13},{"$f":"IF(OR(SUMPRODUCT(--(E1021=$O$1:$O$542))>0,E1021=0),0,1)","v":0}]
["241.000.0000.0103.000","IDEA Collaborative Compliance",{"v":0,"d":"$0.00"},null,"241",null,"241","000","0000","0103","000",null,"000",{"$nulls":13},{"$f":"IF(OR(SUMPRODUCT(--(E1022=$O$1:$O$542))>0,E1022=0),0,1)","v":0}]
["241.000.0000.0222.000","Social Security - OASDI",{"v":0,"d":"$0.00"},null,"241",null,"241","000","0000","0222","000",null,"000",{"$nulls":13},{"$f":"IF(OR(SUMPRODUCT(--(E1023=$O$1:$O$542))>0,E1023=0),0,1)","v":0}]
["241.000.0000.0223.000","Medicare",{"v":0,"d":"$0.00"},null,"241",null,"241","000","0000","0223","000",null,"000",{"$nulls":13},{"$f":"IF(OR(SUMPRODUCT(--(E1024=$O$1:$O$542))>0,E1024=0),0,1)","v":0}]
["241.000.0000.0224.000","State Retirement System Contributio",{"v":0,"d":"$0.00"},null,"241",null,"241","000","0000","0224","000",null,"000",{"$nulls":13},{"$f":"IF(OR(SUMPRODUCT(--(E1025=$O$1:$O$542))>0,E1025=0),0,1)","v":0}]
["241.000.0000.0241.000","Federal Income Taxes",{"v":0,"d":"$0.00"},null,"241",null,"241","000","0000","0241","000",null,"000",{"$nulls":13},{"$f":"IF(OR(SUMPRODUCT(--(E1026=$O$1:$O$542))>0,E1026=0),0,1)","v":0}]
["241.000.0000.0242.000","State Income Taxes",{"v":0,"d":"$0.00"},null,{"$f":"IF(AND(F1027<>\"\",F1027=G1027),\"ERROR\",IF(AND(F1027<>\"\",F1027<>G1027),F1027,G1027))","v":"241"},null,"241","000","0000","0242","000",null,{"$f":"IF(L1027<>\"\",L1027,K1027)","v":"000"},{"$nulls":13},{"$f":"IF(OR(SUMPRODUCT(--(E1027=$O$1:$O$542))>0,E1027=0),0,1)","v":0}]
["241.000.0000.0243.000","Social Security - OASDI",{"v":0,"d":"$0.00"},null,"241",null,"241","000","0000","0243","000",null,"000",{"$nulls":13},{"$f":"IF(OR(SUMPRODUCT(--(E1028=$O$1:$O$542))>0,E1028=0),0,1)","v":0}]
["241.000.0000.0244.000","Medicare - Hospital Insurance",{"v":0,"d":"$0.00"},null,"241",null,"241","000","0000","0244","000",null,"000",{"$nulls":13},{"$f":"IF(OR(SUMPRODUCT(--(E1029=$O$1:$O$542))>0,E1029=0),0,1)","v":0}]
["241.000.0000.0245.000","State Retirement Contributions",{"v":0,"d":"$0.00"},null,"241",null,"241","000","0000","0245","000",null,"000",{"$nulls":13},{"$f":"IF(OR(SUMPRODUCT(--(E1030=$O$1:$O$542))>0,E1030=0),0,1)","v":0}]
["241.000.0000.0246.000","Long Term Disability",{"v":0,"d":"$0.00"},null,"241",null,"241","000","0000","0246","000",null,"000",{"$nulls":13},{"$f":"IF(OR(SUMPRODUCT(--(E1031=$O$1:$O$542))>0,E1031=0),0,1)","v":0}]
["241.000.0000.0247.000","Voluntary Deductions",{"v":0,"d":"$0.00"},null,"241",null,"241","000","0000","0247","000",null,"000",{"$nulls":13},{"$f":"IF(OR(SUMPRODUCT(--(E1032=$O$1:$O$542))>0,E1032=0),0,1)","v":0}]
["241.000.0000.0250.000","Deferred Revenues",{"v":0,"d":"$0.00"},null,"241",null,"241","000","0000","0250","000",null,"000",{"$nulls":13},{"$f":"IF(OR(SUMPRODUCT(--(E1033=$O$1:$O$542))>0,E1033=0),0,1)","v":0}]
["241.000.0000.0330.000","Unreserved Fund Balance",{"v":0,"d":"$0.00"},null,"241",null,"241","000","0000","0330","000",null,"000",{"$nulls":13},{"$f":"IF(OR(SUMPRODUCT(--(E1034=$O$1:$O$542))>0,E1034=0),0,1)","v":0}]
["241.000.0000.1510.000","Interest on Investments ",{"v":0,"d":"$0.00"},null,"241",null,"241","000","0000","1510","000",null,"000",{"$nulls":13},{"$f":"IF(OR(SUMPRODUCT(--(E1035=$O$1:$O$542))>0,E1035=0),0,1)","v":0}]
["241.000.0000.4500.000","RESTRICTED GRANT FEDERAL",{"v":0,"d":"$0.00"},null,"241",null,"241","000","0000","4500","000",null,"000",{"$nulls":13},{"$f":"IF(OR(SUMPRODUCT(--(E1036=$O$1:$O$542))>0,E1036=0),0,1)","v":0}]
["241.100.1000.6100.100","Personal Services - Salaries ",{"v":0,"d":"$0.00"},null,"241",null,"241","100","1000","6100","100",null,"100",{"$nulls":13},{"$f":"IF(OR(SUMPRODUCT(--(E1037=$O$1:$O$542))>0,E1037=0),0,1)","v":0}]
["241.100.1000.6113.100","Substitute",{"v":0,"d":"$0.00"},null,"241",null,"241","100","1000","6113","100",null,"100",{"$nulls":13},{"$f":"IF(OR(SUMPRODUCT(--(E1038=$O$1:$O$542))>0,E1038=0),0,1)","v":0}]
["241.100.1000.6200.100","Personal Services - Employee Benefi",{"v":0,"d":"$0.00"},null,"241",null,"241","100","1000","6200","100",null,"100",{"$nulls":13},{"$f":"IF(OR(SUMPRODUCT(--(E1039=$O$1:$O$542))>0,E1039=0),0,1)","v":0}]
["241.100.1000.6221.100","Social Security - OASDI",{"v":0,"d":"$0.00"},null,"241",null,"241","100","1000","6221","100",null,"100",{"$nulls":13},{"$f":"IF(OR(SUMPRODUCT(--(E1040=$O$1:$O$542))>0,E1040=0),0,1)","v":0}]
["241.100.1000.6222.100","Medicare - Hospital Insurance ",{"v":0,"d":"$0.00"},null,"241",null,"241","100","1000","6222","100",null,"100",{"$nulls":13},{"$f":"IF(OR(SUMPRODUCT(--(E1041=$O$1:$O$542))>0,E1041=0),0,1)","v":0}]
["241.100.1000.6231.100","State Retirement ",{"v":0,"d":"$0.00"},null,"241",null,"241","100","1000","6231","100",null,"100",{"$nulls":13},{"$f":"IF(OR(SUMPRODUCT(--(E1042=$O$1:$O$542))>0,E1042=0),0,1)","v":0}]
["241.100.1000.6232.100","Long Term Disability",{"v":0,"d":"$0.00"},null,"241",null,"241","100","1000","6232","100",null,"100",{"$nulls":13},{"$f":"IF(OR(SUMPRODUCT(--(E1043=$O$1:$O$542))>0,E1043=0),0,1)","v":0}]
["241.100.1000.6260.100","Worker's Compensation ",{"v":0,"d":"$0.00"},null,"241",null,"241","100","1000","6260","100",null,"100",{"$nulls":13},{"$f":"IF(OR(SUMPRODUCT(--(E1044=$O$1:$O$542))>0,E1044=0),0,1)","v":0}]
["241.100.1000.6300.100","Purchased Professional and Technica",{"v":0,"d":"$0.00"},null,"241",null,"241","100","1000","6300","100",null,"100",{"$nulls":13},{"$f":"IF(OR(SUMPRODUCT(--(E1045=$O$1:$O$542))>0,E1045=0),0,1)","v":0}]
["241.100.6000.6930.000","Transfer out",{"v":0,"d":"$0.00"},null,"241",null,"241","100","6000","6930","000",null,"000",{"$nulls":13},{"$f":"IF(OR(SUMPRODUCT(--(E1046=$O$1:$O$542))>0,E1046=0),0,1)","v":0}]
["260.000.0000.0330.000","Unreserved Fund Balance",{"v":0,"d":"$0.00"},null,"260",null,"260","000","0000","0330","000",null,"000",{"$nulls":13},{"$f":"IF(OR(SUMPRODUCT(--(E1047=$O$1:$O$542))>0,E1047=0),0,1)","v":0}]
["290.000.0000.0103.000","IDEA Coll Comp Prog",{"v":0,"d":"$0.00"},null,"290",null,"290","000","0000","0103","000",null,"000",{"$nulls":13},{"$f":"IF(OR(SUMPRODUCT(--(E1048=$O$1:$O$542))>0,E1048=0),0,1)","v":0}]
["290.000.0000.1511.000","NCFE INVESTMENT INTEREST",{"v":0,"d":"$0.00"},null,"290",null,"290","000","0000","1511","000",null,"000",{"$nulls":13},{"$f":"IF(OR(SUMPRODUCT(--(E1049=$O$1:$O$542))>0,E1049=0),0,1)","v":0}]
["294.000.0000.0103.000","Cash on Deposit with Cou",{"v":0,"d":"$0.00"},null,"294",null,"294","000","0000","0103","000",null,"000",{"$nulls":13},{"$f":"IF(OR(SUMPRODUCT(--(E1050=$O$1:$O$542))>0,E1050=0),0,1)","v":0}]
["294.000.0000.0222.000","Social Security - OASDI",{"v":0,"d":"$0.00"},null,"294",null,"294","000","0000","0222","000",null,"000",{"$nulls":13},{"$f":"IF(OR(SUMPRODUCT(--(E1051=$O$1:$O$542))>0,E1051=0),0,1)","v":0}]
["294.000.0000.0222.100","Social Security - OASDI",{"v":0,"d":"$0.00"},null,"294",null,"294","000","0000","0222","100",null,"100",{"$nulls":13},{"$f":"IF(OR(SUMPRODUCT(--(E1052=$O$1:$O$542))>0,E1052=0),0,1)","v":0}]
["294.000.0000.0223.000","Medicare",{"v":0,"d":"$0.00"},null,"294",null,"294","000","0000","0223","000",null,"000",{"$nulls":13},{"$f":"IF(OR(SUMPRODUCT(--(E1053=$O$1:$O$542))>0,E1053=0),0,1)","v":0}]
["294.000.0000.0223.100","Medicare",{"v":0,"d":"$0.00"},null,"294",null,"294","000","0000","0223","100",null,"100",{"$nulls":13},{"$f":"IF(OR(SUMPRODUCT(--(E1054=$O$1:$O$542))>0,E1054=0),0,1)","v":0}]
["294.000.0000.0224.000","State Retirement System Contributio",{"v":0,"d":"$0.00"},null,"294",null,"294","000","0000","0224","000",null,"000",{"$nulls":13},{"$f":"IF(OR(SUMPRODUCT(--(E1055=$O$1:$O$542))>0,E1055=0),0,1)","v":0}]
["294.000.0000.0224.100","State Retirement System ",{"v":0,"d":"$0.00"},null,"294",null,"294","000","0000","0224","100",null,"100",{"$nulls":13},{"$f":"IF(OR(SUMPRODUCT(--(E1056=$O$1:$O$542))>0,E1056=0),0,1)","v":0}]
["294.000.0000.0225.100","Employee Insurance",{"v":0,"d":"$0.00"},null,"294",null,"294","000","0000","0225","100",null,"100",{"$nulls":13},{"$f":"IF(OR(SUMPRODUCT(--(E1057=$O$1:$O$542))>0,E1057=0),0,1)","v":0}]
["294.000.0000.0226.100","Unemployment Insurance",{"v":0,"d":"$0.00"},null,"294",null,"294","000","0000","0226","100",null,"100",{"$nulls":13},{"$f":"IF(OR(SUMPRODUCT(--(E1058=$O$1:$O$542))>0,E1058=0),0,1)","v":0}]
["294.000.0000.0241.000","Federal Income Taxes",{"v":0,"d":"$0.00"},null,"294",null,"294","000","0000","0241","000",null,"000",{"$nulls":13},{"$f":"IF(OR(SUMPRODUCT(--(E1059=$O$1:$O$542))>0,E1059=0),0,1)","v":0}]
["294.000.0000.0242.000","State Income Taxes",{"v":0,"d":"$0.00"},null,"294",null,"294","000","0000","0242","000",null,"000",{"$nulls":13},{"$f":"IF(OR(SUMPRODUCT(--(E1060=$O$1:$O$542))>0,E1060=0),0,1)","v":0}]
["294.000.0000.0243.000","Social Security - OASDI",{"v":0,"d":"$0.00"},null,"294",null,"294","000","0000","0243","000",null,"000",{"$nulls":13},{"$f":"IF(OR(SUMPRODUCT(--(E1061=$O$1:$O$542))>0,E1061=0),0,1)","v":0}]
["294.000.0000.0244.000","Medicare - Hospital Insurance",{"v":0,"d":"$0.00"},null,"294",null,"294","000","0000","0244","000",null,"000",{"$nulls":13},{"$f":"IF(OR(SUMPRODUCT(--(E1062=$O$1:$O$542))>0,E1062=0),0,1)","v":0}]
["294.000.0000.0245.000","State Retirement Contributions",{"v":0,"d":"$0.00"},null,"294",null,"294","000","0000","0245","000",null,"000",{"$nulls":13},{"$f":"IF(OR(SUMPRODUCT(--(E1063=$O$1:$O$542))>0,E1063=0),0,1)","v":0}]
["294.000.0000.0246.000","Long Term Disability",{"v":0,"d":"$0.00"},null,"294",null,"294","000","0000","0246","000",null,"000",{"$nulls":13},{"$f":"IF(OR(SUMPRODUCT(--(E1064=$O$1:$O$542))>0,E1064=0),0,1)","v":0}]
["294.000.0000.0250.000","Deferred Revenues",{"v":0,"d":"$0.00"},null,"294",null,"294","000","0000","0250","000",null,"000",{"$nulls":13},{"$f":"IF(OR(SUMPRODUCT(--(E1065=$O$1:$O$542))>0,E1065=0),0,1)","v":0}]
["294.000.0000.0330.000","Unreserved Fund Balance",{"v":0,"d":"$0.00"},null,"294",null,"294","000","0000","0330","000",null,"000",{"$nulls":13},{"$f":"IF(OR(SUMPRODUCT(--(E1066=$O$1:$O$542))>0,E1066=0),0,1)","v":0}]
["294.000.0000.1510.000","Interest on Investments ",{"v":0,"d":"$0.00"},null,"294",null,"294","000","0000","1510","000",null,"000",{"$nulls":13},{"$f":"IF(OR(SUMPRODUCT(--(E1067=$O$1:$O$542))>0,E1067=0),0,1)","v":0}]
["294.000.0000.4500.000","RESTRICTED GRANT FEDERAL",{"v":0,"d":"$0.00"},null,"294",null,"294","000","0000","4500","000",null,"000",{"$nulls":13},{"$f":"IF(OR(SUMPRODUCT(--(E1068=$O$1:$O$542))>0,E1068=0),0,1)","v":0}]
["294.100.1000.6100.100","Personal Services - Salaries ",{"v":0,"d":"$0.00"},null,"294",null,"294","100","1000","6100","100",null,"100",{"$nulls":13},{"$f":"IF(OR(SUMPRODUCT(--(E1069=$O$1:$O$542))>0,E1069=0),0,1)","v":0}]
["294.100.1000.6113.100","Substitute",{"v":0,"d":"$0.00"},null,"294",null,"294","100","1000","6113","100",null,"100",{"$nulls":13},{"$f":"IF(OR(SUMPRODUCT(--(E1070=$O$1:$O$542))>0,E1070=0),0,1)","v":0}]
["294.100.1000.6200.100","Personal Services - Employee Benefi",{"v":0,"d":"$0.00"},null,"294",null,"294","100","1000","6200","100",null,"100",{"$nulls":13},{"$f":"IF(OR(SUMPRODUCT(--(E1071=$O$1:$O$542))>0,E1071=0),0,1)","v":0}]
["294.100.1000.6221.100","Social Security - OASDI",{"v":0,"d":"$0.00"},null,"294",null,"294","100","1000","6221","100",null,"100",{"$nulls":13},{"$f":"IF(OR(SUMPRODUCT(--(E1072=$O$1:$O$542))>0,E1072=0),0,1)","v":0}]
["294.100.1000.6222.100","Medicare - Hospital Insurance ",{"v":0,"d":"$0.00"},null,"294",null,"294","100","1000","6222","100",null,"100",{"$nulls":13},{"$f":"IF(OR(SUMPRODUCT(--(E1073=$O$1:$O$542))>0,E1073=0),0,1)","v":0}]
["294.100.1000.6231.100","State Retirement ",{"v":0,"d":"$0.00"},null,"294",null,"294","100","1000","6231","100",null,"100",{"$nulls":13},{"$f":"IF(OR(SUMPRODUCT(--(E1074=$O$1:$O$542))>0,E1074=0),0,1)","v":0}]
["294.100.1000.6232.100","Long Term Disability",{"v":0,"d":"$0.00"},null,"294",null,"294","100","1000","6232","100",null,"100",{"$nulls":13},{"$f":"IF(OR(SUMPRODUCT(--(E1075=$O$1:$O$542))>0,E1075=0),0,1)","v":0}]
["294.100.2200.6500.100","Other Purchased Services ",{"v":0,"d":"$0.00"},null,"294",null,"294","100","2200","6500","100",null,"100",{"$nulls":13},{"$f":"IF(OR(SUMPRODUCT(--(E1076=$O$1:$O$542))>0,E1076=0),0,1)","v":0}]
["294.100.6000.6930.000","Transfer out",{"v":0,"d":"$0.00"},null,"294",null,"294","100","6000","6930","000",null,"000",{"$nulls":13},{"$f":"IF(OR(SUMPRODUCT(--(E1077=$O$1:$O$542))>0,E1077=0),0,1)","v":0}]
["326.000.0000.0103.000","Cash on Deposit with County Treasurer ",{"v":-866.4,"d":"-($866.40)"},null,"COVID","COVID","326","000","0000","0103","000",null,"000",{"$nulls":13},{"$f":"IF(OR(SUMPRODUCT(--(E1078=$O$1:$O$542))>0,E1078=0),0,1)","v":0}]
["326.000.0000.0201.000","Accounts Payable",{"v":0,"d":"$0.00"},null,"COVID","COVID","326","000","0000","0201","000",null,"000",{"$nulls":13},{"$f":"IF(OR(SUMPRODUCT(--(E1079=$O$1:$O$542))>0,E1079=0),0,1)","v":0}]
["326.000.0000.0330.000","Unreserved Fund Balance",{"v":-398.6,"d":"-($398.60)"},null,"COVID","COVID","326","000","0000","0330","000",null,"000",{"$nulls":13},{"$f":"IF(OR(SUMPRODUCT(--(E1080=$O$1:$O$542))>0,E1080=0),0,1)","v":0}]
["326.000.0000.4501.000","(OLD)PRIOR YR  REV DUE FROM STATE",{"v":0,"d":"$0.00"},null,"COVID","COVID","326","000","0000","4501","000",null,"000",{"$nulls":13},{"$f":"IF(OR(SUMPRODUCT(--(E1081=$O$1:$O$542))>0,E1081=0),0,1)","v":0}]
["326.100.1000.0103.100","Cash on Deposit with County Treasurer ",{"v":0,"d":"$0.00"},null,"COVID","COVID","326","100","1000","0103","100",null,"100",{"$nulls":13},{"$f":"IF(OR(SUMPRODUCT(--(E1082=$O$1:$O$542))>0,E1082=0),0,1)","v":0}]
["326.100.1000.6737.100","Surface PPO7",{"v":0,"d":"$0.00"},null,"COVID","COVID","326","100","1000","6737","100",null,"100",{"$nulls":13},{"$f":"IF(OR(SUMPRODUCT(--(E1083=$O$1:$O$542))>0,E1083=0),0,1)","v":0}]
["326.100.2400.0103.100","Cash on Deposit with County Treasurer ",{"v":0,"d":"$0.00"},null,"COVID","COVID","326","100","2400","0103","100",null,"100",{"$nulls":13},{"$f":"IF(OR(SUMPRODUCT(--(E1084=$O$1:$O$542))>0,E1084=0),0,1)","v":0}]
["326.100.2400.6340.100","Technical Services",{"v":0,"d":"$0.00"},null,"COVID","COVID","326","100","2400","6340","100",null,"100",{"$nulls":13},{"$f":"IF(OR(SUMPRODUCT(--(E1085=$O$1:$O$542))>0,E1085=0),0,1)","v":0}]
["326.100.2400.6520.100","COVID Liablity Insurance",{"v":0,"d":"$0.00"},null,"COVID","COVID","326","100","2400","6520","100",null,"100",{"$nulls":13},{"$f":"IF(OR(SUMPRODUCT(--(E1086=$O$1:$O$542))>0,E1086=0),0,1)","v":0}]
["326.100.2500.0103.100","Cash on Deposit with County Treasurer ",{"v":0,"d":"$0.00"},null,"COVID","COVID","326","100","2500","0103","100",null,"100",{"$nulls":13},{"$f":"IF(OR(SUMPRODUCT(--(E1087=$O$1:$O$542))>0,E1087=0),0,1)","v":0}]
["326.100.2500.6340.100","IT Services",{"v":0,"d":"$0.00"},null,"COVID","COVID","326","100","2500","6340","100",null,"100",{"$nulls":13},{"$f":"IF(OR(SUMPRODUCT(--(E1088=$O$1:$O$542))>0,E1088=0),0,1)","v":0}]
["326.100.2600.0103.100","Cash on Deposit with County Treasurer ",{"v":0,"d":"$0.00"},null,"COVID","COVID","326","100","2600","0103","100",null,"100",{"$nulls":13},{"$f":"IF(OR(SUMPRODUCT(--(E1089=$O$1:$O$542))>0,E1089=0),0,1)","v":0}]
["326.100.2600.6340.100","Undesignated",{"v":0,"d":"$0.00"},null,"COVID","COVID","326","100","2600","6340","100",null,"100",{"$nulls":13},{"$f":"IF(OR(SUMPRODUCT(--(E1090=$O$1:$O$542))>0,E1090=0),0,1)","v":0}]
["326.100.2600.6430.100","Paint Repair",{"v":1265,"d":"$1,265.00"},null,{"$f":"IF(AND(F1091<>\"\",F1091=G1091),\"ERROR\",IF(AND(F1091<>\"\",F1091<>G1091),F1091,G1091))","v":"COVID"},"COVID","326","100","2600","6430","100",null,{"$f":"IF(L1091<>\"\",L1091,K1091)","v":"100"},{"$nulls":13},{"$f":"IF(OR(SUMPRODUCT(--(E1091=$O$1:$O$542))>0,E1091=0),0,1)","v":0}]
["326.100.2600.6600.100","Supplies",{"v":0,"d":"$0.00"},null,"COVID","COVID","326","100","2600","6600","100",null,"100",{"$nulls":13},{"$f":"IF(OR(SUMPRODUCT(--(E1092=$O$1:$O$542))>0,E1092=0),0,1)","v":0}]
["326.100.2600.6610.100","COVID Supplies",{"v":0,"d":"$0.00"},null,"COVID","COVID","326","100","2600","6610","100",null,"100",{"$nulls":13},{"$f":"IF(OR(SUMPRODUCT(--(E1093=$O$1:$O$542))>0,E1093=0),0,1)","v":0}]
["336.000.0000.0103.000","ESSERII",{"v":-54556.04,"d":"-($54,556.04)"},null,"COVID","COVID","336","000","0000","0103","000",null,"000",{"$nulls":13},{"$f":"IF(OR(SUMPRODUCT(--(E1094=$O$1:$O$542))>0,E1094=0),0,1)","v":0}]
["336.000.0000.0201.000","Accounts Payable",{"v":0,"d":"$0.00"},null,"COVID","COVID","336","000","0000","0201","000",null,"000",{"$nulls":13},{"$f":"IF(OR(SUMPRODUCT(--(E1095=$O$1:$O$542))>0,E1095=0),0,1)","v":0}]
["336.000.0000.0221.000","Salaries and Wages ",{"v":0,"d":"$0.00"},null,"COVID","COVID","336","000","0000","0221","000",null,"000",{"$nulls":13},{"$f":"IF(OR(SUMPRODUCT(--(E1096=$O$1:$O$542))>0,E1096=0),0,1)","v":0}]
["336.000.0000.0222.100","Social Security - OASDI",{"v":0,"d":"$0.00"},null,"COVID","COVID","336","000","0000","0222","100",null,"100",{"$nulls":13},{"$f":"IF(OR(SUMPRODUCT(--(E1097=$O$1:$O$542))>0,E1097=0),0,1)","v":0}]
["336.000.0000.0223.100","Medicare",{"v":0,"d":"$0.00"},null,"COVID","COVID","336","000","0000","0223","100",null,"100",{"$nulls":13},{"$f":"IF(OR(SUMPRODUCT(--(E1098=$O$1:$O$542))>0,E1098=0),0,1)","v":0}]
["336.000.0000.0224.100","State Retirement System Contributions ",{"v":0,"d":"$0.00"},null,"COVID","COVID","336","000","0000","0224","100",null,"100",{"$nulls":13},{"$f":"IF(OR(SUMPRODUCT(--(E1099=$O$1:$O$542))>0,E1099=0),0,1)","v":0}]
["336.000.0000.0241.100","Federal Income Taxes",{"v":0,"d":"$0.00"},null,"COVID","COVID","336","000","0000","0241","100",null,"100",{"$nulls":13},{"$f":"IF(OR(SUMPRODUCT(--(E1100=$O$1:$O$542))>0,E1100=0),0,1)","v":0}]
["336.000.0000.0242.100","State Income Taxes",{"v":0,"d":"$0.00"},null,"COVID","COVID","336","000","0000","0242","100",null,"100",{"$nulls":13},{"$f":"IF(OR(SUMPRODUCT(--(E1101=$O$1:$O$542))>0,E1101=0),0,1)","v":0}]
["336.000.0000.0243.100","Social Security - OASDI",{"v":0,"d":"$0.00"},null,"COVID","COVID","336","000","0000","0243","100",null,"100",{"$nulls":13},{"$f":"IF(OR(SUMPRODUCT(--(E1102=$O$1:$O$542))>0,E1102=0),0,1)","v":0}]
["336.000.0000.0244.100","Medicare - Hospital Insurance",{"v":0,"d":"$0.00"},null,"COVID","COVID","336","000","0000","0244","100",null,"100",{"$nulls":13},{"$f":"IF(OR(SUMPRODUCT(--(E1103=$O$1:$O$542))>0,E1103=0),0,1)","v":0}]
["336.000.0000.0245.100","State Retirement Contributions",{"v":0,"d":"$0.00"},null,"COVID","COVID","336","000","0000","0245","100",null,"100",{"$nulls":13},{"$f":"IF(OR(SUMPRODUCT(--(E1104=$O$1:$O$542))>0,E1104=0),0,1)","v":0}]
["336.000.0000.0247.100","Voluntary Deductions",{"v":0,"d":"$0.00"},null,"COVID","COVID","336","000","0000","0247","100",null,"100",{"$nulls":13},{"$f":"IF(OR(SUMPRODUCT(--(E1105=$O$1:$O$542))>0,E1105=0),0,1)","v":0}]
["336.000.0000.0330.000","Unreserved Fund Balance",{"v":63630.65,"d":"$63,630.65"},null,"COVID","COVID","336","000","0000","0330","000",null,"000",{"$nulls":13},{"$f":"IF(OR(SUMPRODUCT(--(E1106=$O$1:$O$542))>0,E1106=0),0,1)","v":0}]
["336.000.0000.4501.000","(OLD)PRIOR YR  REV DUE FROM STATE",{"v":-9074.61,"d":"-($9,074.61)"},null,"COVID","COVID","336","000","0000","4501","000",null,"000",{"$nulls":13},{"$f":"IF(OR(SUMPRODUCT(--(E1107=$O$1:$O$542))>0,E1107=0),0,1)","v":0}]
["336.100.1000.6100.100","Personal Services - Salaries ",{"v":0,"d":"$0.00"},null,"COVID","COVID","336","100","1000","6100","100",null,"100",{"$nulls":13},{"$f":"IF(OR(SUMPRODUCT(--(E1108=$O$1:$O$542))>0,E1108=0),0,1)","v":0}]
["336.100.1000.6112.100","Teachers",{"v":0,"d":"$0.00"},null,"COVID","COVID","336","100","1000","6112","100",null,"100",{"$nulls":13},{"$f":"IF(OR(SUMPRODUCT(--(E1109=$O$1:$O$542))>0,E1109=0),0,1)","v":0}]
["336.100.1000.6150.100","Classified Salaries ",{"v":0,"d":"$0.00"},null,"COVID","COVID","336","100","1000","6150","100",null,"100",{"$nulls":13},{"$f":"IF(OR(SUMPRODUCT(--(E1110=$O$1:$O$542))>0,E1110=0),0,1)","v":0}]
["336.100.1000.6200.100","Undesignated",{"v":0,"d":"$0.00"},null,"COVID","COVID","336","100","1000","6200","100",null,"100",{"$nulls":13},{"$f":"IF(OR(SUMPRODUCT(--(E1111=$O$1:$O$542))>0,E1111=0),0,1)","v":0}]
["336.100.1000.6210.100","Employee Insurance",{"v":0,"d":"$0.00"},null,"COVID","COVID","336","100","1000","6210","100",null,"100",{"$nulls":13},{"$f":"IF(OR(SUMPRODUCT(--(E1112=$O$1:$O$542))>0,E1112=0),0,1)","v":0}]
["336.100.1000.6221.100","Social Security - OASDI",{"v":0,"d":"$0.00"},null,"COVID","COVID","336","100","1000","6221","100",null,"100",{"$nulls":13},{"$f":"IF(OR(SUMPRODUCT(--(E1113=$O$1:$O$542))>0,E1113=0),0,1)","v":0}]
["336.100.1000.6222.100","Medicare - Hospital Insurance ",{"v":0,"d":"$0.00"},null,"COVID","COVID","336","100","1000","6222","100",null,"100",{"$nulls":13},{"$f":"IF(OR(SUMPRODUCT(--(E1114=$O$1:$O$542))>0,E1114=0),0,1)","v":0}]
["336.100.1000.6231.100","State Retirement ",{"v":0,"d":"$0.00"},null,"COVID","COVID","336","100","1000","6231","100",null,"100",{"$nulls":13},{"$f":"IF(OR(SUMPRODUCT(--(E1115=$O$1:$O$542))>0,E1115=0),0,1)","v":0}]
["336.100.1000.6300.100","Teacher Contract",{"v":0,"d":"$0.00"},null,"COVID","COVID","336","100","1000","6300","100",null,"100",{"$nulls":13},{"$f":"IF(OR(SUMPRODUCT(--(E1116=$O$1:$O$542))>0,E1116=0),0,1)","v":0}]
["336.100.1000.6600.100","School Supplies",{"v":0,"d":"$0.00"},null,"COVID","COVID","336","100","1000","6600","100",null,"100",{"$nulls":13},{"$f":"IF(OR(SUMPRODUCT(--(E1117=$O$1:$O$542))>0,E1117=0),0,1)","v":0}]
["336.100.2100.6100.100","Personal Services - Salaries ",{"v":0,"d":"$0.00"},null,"COVID","COVID","336","100","2100","6100","100",null,"100",{"$nulls":13},{"$f":"IF(OR(SUMPRODUCT(--(E1118=$O$1:$O$542))>0,E1118=0),0,1)","v":0}]
["336.100.2100.6221.100","Social Security - OASDI",{"v":0,"d":"$0.00"},null,"COVID","COVID","336","100","2100","6221","100",null,"100",{"$nulls":13},{"$f":"IF(OR(SUMPRODUCT(--(E1119=$O$1:$O$542))>0,E1119=0),0,1)","v":0}]
["336.100.2100.6222.100","Medicare - Hospital Insurance ",{"v":0,"d":"$0.00"},null,"COVID","COVID","336","100","2100","6222","100",null,"100",{"$nulls":13},{"$f":"IF(OR(SUMPRODUCT(--(E1120=$O$1:$O$542))>0,E1120=0),0,1)","v":0}]
["336.100.2400.6210.100","Employee Insurance",{"v":0,"d":"$0.00"},null,"COVID","COVID","336","100","2400","6210","100",null,"100",{"$nulls":13},{"$f":"IF(OR(SUMPRODUCT(--(E1121=$O$1:$O$542))>0,E1121=0),0,1)","v":0}]
["336.100.2500.6340.100","IT Services",{"v":0,"d":"$0.00"},null,"COVID","COVID","336","100","2500","6340","100",null,"100",{"$nulls":13},{"$f":"IF(OR(SUMPRODUCT(--(E1122=$O$1:$O$542))>0,E1122=0),0,1)","v":0}]
["336.100.2600.6210.100","Employee Insurance",{"v":0,"d":"$0.00"},null,"COVID","COVID","336","100","2600","6210","100",null,"100",{"$nulls":13},{"$f":"IF(OR(SUMPRODUCT(--(E1123=$O$1:$O$542))>0,E1123=0),0,1)","v":0}]
["336.100.2600.6430.100","Repair and Maintenance",{"v":0,"d":"$0.00"},null,"COVID","COVID","336","100","2600","6430","100",null,"100",{"$nulls":13},{"$f":"IF(OR(SUMPRODUCT(--(E1124=$O$1:$O$542))>0,E1124=0),0,1)","v":0}]
["336.200.1000.6210.100","Employee Insurance",{"v":0,"d":"$0.00"},null,"COVID","COVID","336","200","1000","6210","100",null,"100",{"$nulls":13},{"$f":"IF(OR(SUMPRODUCT(--(E1125=$O$1:$O$542))>0,E1125=0),0,1)","v":0}]
["340.000.0000.0103.000","Undesignated",{"v":0,"d":"$0.00"},null,"COVID","COVID","340","000","0000","0103","000",null,"000",{"$nulls":13},{"$f":"IF(OR(SUMPRODUCT(--(E1126=$O$1:$O$542))>0,E1126=0),0,1)","v":0}]
["340.000.0000.0330.000","Unreserved Fund Balance",{"v":0,"d":"$0.00"},null,"COVID","COVID","340","000","0000","0330","000",null,"000",{"$nulls":13},{"$f":"IF(OR(SUMPRODUCT(--(E1127=$O$1:$O$542))>0,E1127=0),0,1)","v":0}]
["340.000.0000.4500.000","Undesignated",{"v":0,"d":"$0.00"},null,"COVID","COVID","340","000","0000","4500","000",null,"000",{"$nulls":13},{"$f":"IF(OR(SUMPRODUCT(--(E1128=$O$1:$O$542))>0,E1128=0),0,1)","v":0}]
["340.100.1000.6710.100","Undesignated",{"v":0,"d":"$0.00"},null,"COVID","COVID","340","100","1000","6710","100",null,"100",{"$nulls":13},{"$f":"IF(OR(SUMPRODUCT(--(E1129=$O$1:$O$542))>0,E1129=0),0,1)","v":0}]
["346.000.0000.0103.000","Cash on Deposit with County Treasurer ",{"v":-130902.79,"d":"-($130,902.79)"},null,"COVID","COVID","346","000","0000","0103","000",null,"000",{"$nulls":13},{"$f":"IF(OR(SUMPRODUCT(--(E1130=$O$1:$O$542))>0,E1130=0),0,1)","v":0}]
["346.000.0000.0201.000","Accounts Payable",{"v":0,"d":"$0.00"},null,"COVID","COVID","346","000","0000","0201","000",null,"000",{"$nulls":13},{"$f":"IF(OR(SUMPRODUCT(--(E1131=$O$1:$O$542))>0,E1131=0),0,1)","v":0}]
["346.000.0000.0221.000","Salaries and Wages ",{"v":0,"d":"$0.00"},null,"COVID","COVID","346","000","0000","0221","000",null,"000",{"$nulls":13},{"$f":"IF(OR(SUMPRODUCT(--(E1132=$O$1:$O$542))>0,E1132=0),0,1)","v":0}]
["346.000.0000.0222.100","Social Security - OASDI",{"v":0,"d":"$0.00"},null,"COVID","COVID","346","000","0000","0222","100",null,"100",{"$nulls":13},{"$f":"IF(OR(SUMPRODUCT(--(E1133=$O$1:$O$542))>0,E1133=0),0,1)","v":0}]
["346.000.0000.0223.100","Medicare",{"v":0,"d":"$0.00"},null,"COVID","COVID","346","000","0000","0223","100",null,"100",{"$nulls":13},{"$f":"IF(OR(SUMPRODUCT(--(E1134=$O$1:$O$542))>0,E1134=0),0,1)","v":0}]
["346.000.0000.0224.100","State Retirement System Contributions ",{"v":0,"d":"$0.00"},null,"COVID","COVID","346","000","0000","0224","100",null,"100",{"$nulls":13},{"$f":"IF(OR(SUMPRODUCT(--(E1135=$O$1:$O$542))>0,E1135=0),0,1)","v":0}]
["346.000.0000.0241.100","Federal Income Taxes",{"v":0,"d":"$0.00"},null,"COVID","COVID","346","000","0000","0241","100",null,"100",{"$nulls":13},{"$f":"IF(OR(SUMPRODUCT(--(E1136=$O$1:$O$542))>0,E1136=0),0,1)","v":0}]
["346.000.0000.0242.100","State Income Taxes",{"v":0,"d":"$0.00"},null,"COVID","COVID","346","000","0000","0242","100",null,"100",{"$nulls":13},{"$f":"IF(OR(SUMPRODUCT(--(E1137=$O$1:$O$542))>0,E1137=0),0,1)","v":0}]
["346.000.0000.0243.100","Social Security - OASDI",{"v":0,"d":"$0.00"},null,"COVID","COVID","346","000","0000","0243","100",null,"100",{"$nulls":13},{"$f":"IF(OR(SUMPRODUCT(--(E1138=$O$1:$O$542))>0,E1138=0),0,1)","v":0}]
["346.000.0000.0244.100","Medicare - Hospital Insurance",{"v":0,"d":"$0.00"},null,"COVID","COVID","346","000","0000","0244","100",null,"100",{"$nulls":13},{"$f":"IF(OR(SUMPRODUCT(--(E1139=$O$1:$O$542))>0,E1139=0),0,1)","v":0}]
["346.000.0000.0245.100","State Retirement Contributions",{"v":0,"d":"$0.00"},null,"COVID","COVID","346","000","0000","0245","100",null,"100",{"$nulls":13},{"$f":"IF(OR(SUMPRODUCT(--(E1140=$O$1:$O$542))>0,E1140=0),0,1)","v":0}]
["346.000.0000.0246.100","Long-Term Disability",{"v":0,"d":"$0.00"},null,"COVID","COVID","346","000","0000","0246","100",null,"100",{"$nulls":13},{"$f":"IF(OR(SUMPRODUCT(--(E1141=$O$1:$O$542))>0,E1141=0),0,1)","v":0}]
["346.000.0000.0247.100","Voluntary Deductions",{"v":0,"d":"$0.00"},null,"COVID","COVID","346","000","0000","0247","100",null,"100",{"$nulls":13},{"$f":"IF(OR(SUMPRODUCT(--(E1142=$O$1:$O$542))>0,E1142=0),0,1)","v":0}]
["346.100.1000.6112.100","Teachers",{"v":70020.79,"d":"$70,020.79"},null,"COVID","COVID","346","100","1000","6112","100",null,"100",{"$nulls":13},{"$f":"IF(OR(SUMPRODUCT(--(E1143=$O$1:$O$542))>0,E1143=0),0,1)","v":0}]
["346.100.1000.6150.100","Classified Salaries ",{"v":8700,"d":"$8,700.00"},null,"COVID","COVID","346","100","1000","6150","100",null,"100",{"$nulls":13},{"$f":"IF(OR(SUMPRODUCT(--(E1144=$O$1:$O$542))>0,E1144=0),0,1)","v":0}]
["346.100.1000.6210.100","Insurance",{"v":15342.51,"d":"$15,342.51"},null,"COVID","COVID","346","100","1000","6210","100",null,"100",{"$nulls":13},{"$f":"IF(OR(SUMPRODUCT(--(E1145=$O$1:$O$542))>0,E1145=0),0,1)","v":0}]
["346.100.1000.6221.100","Social Security - OASDI",{"v":539.4,"d":"$539.40"},null,"COVID","COVID","346","100","1000","6221","100",null,"100",{"$nulls":13},{"$f":"IF(OR(SUMPRODUCT(--(E1146=$O$1:$O$542))>0,E1146=0),0,1)","v":0}]
["346.100.1000.6222.100","Medicare - Hospital Insurance ",{"v":126.15,"d":"$126.15"},null,"COVID","COVID","346","100","1000","6222","100",null,"100",{"$nulls":13},{"$f":"IF(OR(SUMPRODUCT(--(E1147=$O$1:$O$542))>0,E1147=0),0,1)","v":0}]
["346.100.1000.6231.100","State Retirement ",{"v":775.94,"d":"$775.94"},null,"COVID","COVID","346","100","1000","6231","100",null,"100",{"$nulls":13},{"$f":"IF(OR(SUMPRODUCT(--(E1148=$O$1:$O$542))>0,E1148=0),0,1)","v":0}]
["346.100.1000.6232.100","Long-Term Disability",{"v":9.04,"d":"$9.04"},null,"COVID","COVID","346","100","1000","6232","100",null,"100",{"$nulls":13},{"$f":"IF(OR(SUMPRODUCT(--(E1149=$O$1:$O$542))>0,E1149=0),0,1)","v":0}]
["346.100.2400.6210.100","Insurance",{"v":14565.34,"d":"$14,565.34"},null,"COVID","COVID","346","100","2400","6210","100",null,"100",{"$nulls":13},{"$f":"IF(OR(SUMPRODUCT(--(E1150=$O$1:$O$542))>0,E1150=0),0,1)","v":0}]
["346.100.2600.6210.100","Insurance",{"v":7646.37,"d":"$7,646.37"},null,"COVID","COVID","346","100","2600","6210","100",null,"100",{"$nulls":13},{"$f":"IF(OR(SUMPRODUCT(--(E1151=$O$1:$O$542))>0,E1151=0),0,1)","v":0}]
["346.100.2600.6430.100","Storage Bldg. Repair",{"v":950.19,"d":"$950.19"},null,"COVID","COVID","346","100","2600","6430","100",null,"100",{"$nulls":13},{"$f":"IF(OR(SUMPRODUCT(--(E1152=$O$1:$O$542))>0,E1152=0),0,1)","v":0}]
["346.100.2600.6610.100","Bldg. Repair",{"v":5002.53,"d":"$5,002.53"},null,"COVID","COVID","346","100","2600","6610","100",null,"100",{"$nulls":13},{"$f":"IF(OR(SUMPRODUCT(--(E1153=$O$1:$O$542))>0,E1153=0),0,1)","v":0}]
["346.200.1000.6210.100","Insurance",{"v":6997.59,"d":"$6,997.59"},null,"COVID","COVID","346","200","1000","6210","100",null,"100",{"$nulls":13},{"$f":"IF(OR(SUMPRODUCT(--(E1154=$O$1:$O$542))>0,E1154=0),0,1)","v":0}]
["346.400.2710.6626.100","Summer School",{"v":226.94,"d":"$226.94"},null,{"$f":"IF(AND(F1155<>\"\",F1155=G1155),\"ERROR\",IF(AND(F1155<>\"\",F1155<>G1155),F1155,G1155))","v":"COVID"},"COVID","346","400","2710","6626","100",null,{"$f":"IF(L1155<>\"\",L1155,K1155)","v":"100"},{"$nulls":13},{"$f":"IF(OR(SUMPRODUCT(--(E1155=$O$1:$O$542))>0,E1155=0),0,1)","v":0}]
["353.000.0000.0103.000","Taylor Grazing",{"v":357.47,"d":"$357.47"},null,"353",null,"353","000","0000","0103","000",null,"000",{"$nulls":13},{"$f":"IF(OR(SUMPRODUCT(--(E1156=$O$1:$O$542))>0,E1156=0),0,1)","v":0}]
["353.000.0000.0103.100","Cash on Deposit with County Treasurer ",{"v":0,"d":"$0.00"},null,"353",null,"353","000","0000","0103","100",null,"100",{"$nulls":13},{"$f":"IF(OR(SUMPRODUCT(--(E1157=$O$1:$O$542))>0,E1157=0),0,1)","v":0}]
["353.000.0000.0201.000","Accounts Payable",{"v":0,"d":"$0.00"},null,"353",null,"353","000","0000","0201","000",null,"000",{"$nulls":13},{"$f":"IF(OR(SUMPRODUCT(--(E1158=$O$1:$O$542))>0,E1158=0),0,1)","v":0}]
["353.000.0000.0330.000","Unreserved Fund Balance",{"v":-284.63,"d":"-($284.63)"},null,"353",null,"353","000","0000","0330","000",null,"000",{"$nulls":13},{"$f":"IF(OR(SUMPRODUCT(--(E1159=$O$1:$O$542))>0,E1159=0),0,1)","v":0}]
["353.000.0000.1510.000","Interest on Investments ",{"v":0,"d":"$0.00"},null,"353",null,"353","000","0000","1510","000",null,"000",{"$nulls":13},{"$f":"IF(OR(SUMPRODUCT(--(E1160=$O$1:$O$542))>0,E1160=0),0,1)","v":0}]
["353.000.0000.4100.100","FEDERAL UNRESTRICTED",{"v":0,"d":"$0.00"},null,"353",null,"353","000","0000","4100","100",null,"100",{"$nulls":13},{"$f":"IF(OR(SUMPRODUCT(--(E1161=$O$1:$O$542))>0,E1161=0),0,1)","v":0}]
["353.000.0000.4700.100","Taylor Grazing",{"v":-72.84,"d":"-($72.84)"},null,"353",null,"353","000","0000","4700","100",null,"100",{"$nulls":13},{"$f":"IF(OR(SUMPRODUCT(--(E1162=$O$1:$O$542))>0,E1162=0),0,1)","v":0}]
["353.000.0000.4800.000","Undesignated",{"v":0,"d":"$0.00"},null,"353",null,"353","000","0000","4800","000",null,"000",{"$nulls":13},{"$f":"IF(OR(SUMPRODUCT(--(E1163=$O$1:$O$542))>0,E1163=0),0,1)","v":0}]
["353.100.1000.0103.100","Taylor Grazing",{"v":0,"d":"$0.00"},null,"353",null,"353","100","1000","0103","100",null,"100",{"$nulls":13},{"$f":"IF(OR(SUMPRODUCT(--(E1164=$O$1:$O$542))>0,E1164=0),0,1)","v":0}]
["353.100.1000.6643.100","Reading Books",{"v":0,"d":"$0.00"},null,"353",null,"353","100","1000","6643","100",null,"100",{"$nulls":13},{"$f":"IF(OR(SUMPRODUCT(--(E1165=$O$1:$O$542))>0,E1165=0),0,1)","v":0}]
["374.000.0000.0103.000","E Rate",{"v":-2044.21,"d":"-($2,044.21)"},null,"374",null,"374","000","0000","0103","000",null,"000",{"$nulls":13},{"$f":"IF(OR(SUMPRODUCT(--(E1166=$O$1:$O$542))>0,E1166=0),0,1)","v":0}]
["374.000.0000.0201.000","Accounts Payable",{"v":0,"d":"$0.00"},null,"374",null,"374","000","0000","0201","000",null,"000",{"$nulls":13},{"$f":"IF(OR(SUMPRODUCT(--(E1167=$O$1:$O$542))>0,E1167=0),0,1)","v":0}]
["374.000.0000.0330.000","Unreserved Fund Balance",{"v":944.21,"d":"$944.21"},null,"374",null,"374","000","0000","0330","000",null,"000",{"$nulls":13},{"$f":"IF(OR(SUMPRODUCT(--(E1168=$O$1:$O$542))>0,E1168=0),0,1)","v":0}]
["374.000.0000.1510.000","Interest on Investments ",{"v":0,"d":"$0.00"},null,"374",null,"374","000","0000","1510","000",null,"000",{"$nulls":13},{"$f":"IF(OR(SUMPRODUCT(--(E1169=$O$1:$O$542))>0,E1169=0),0,1)","v":0}]
["374.000.0000.4900.000","E Rate",{"v":0,"d":"$0.00"},null,"374",null,"374","000","0000","4900","000",null,"000",{"$nulls":13},{"$f":"IF(OR(SUMPRODUCT(--(E1170=$O$1:$O$542))>0,E1170=0),0,1)","v":0}]
["374.100.2400.0103.100","Cash on Deposit with County Treasurer ",{"v":0,"d":"$0.00"},null,"374",null,"374","100","2400","0103","100",null,"100",{"$nulls":13},{"$f":"IF(OR(SUMPRODUCT(--(E1171=$O$1:$O$542))>0,E1171=0),0,1)","v":0}]
["374.100.2400.6531.100","E Rate",{"v":1100,"d":"$1,100.00"},null,"374",null,"374","100","2400","6531","100",null,"100",{"$nulls":13},{"$f":"IF(OR(SUMPRODUCT(--(E1172=$O$1:$O$542))>0,E1172=0),0,1)","v":0}]
["375.000.0000.0100.000","Cash",{"v":0,"d":"$0.00"},null,"375",null,"375","000","0000","0100","000",null,"000",{"$nulls":13},{"$f":"IF(OR(SUMPRODUCT(--(E1173=$O$1:$O$542))>0,E1173=0),0,1)","v":0}]
["375.000.0000.0102.000","Cash in Bank",{"v":0,"d":"$0.00"},null,"375",null,"375","000","0000","0102","000",null,"000",{"$nulls":13},{"$f":"IF(OR(SUMPRODUCT(--(E1174=$O$1:$O$542))>0,E1174=0),0,1)","v":0}]
["375.000.0000.0103.000","CASH ON DEPOSIT WITH TREAS",{"v":0,"d":"$0.00"},null,"375",null,"375","000","0000","0103","000",null,"000",{"$nulls":13},{"$f":"IF(OR(SUMPRODUCT(--(E1175=$O$1:$O$542))>0,E1175=0),0,1)","v":0}]
["375.000.0000.0201.000","Accounts Payable",{"v":0,"d":"$0.00"},null,"375",null,"375","000","0000","0201","000",null,"000",{"$nulls":13},{"$f":"IF(OR(SUMPRODUCT(--(E1176=$O$1:$O$542))>0,E1176=0),0,1)","v":0}]
["375.000.0000.0215.000","Federal",{"v":0,"d":"$0.00"},null,"375",null,"375","000","0000","0215","000",null,"000",{"$nulls":13},{"$f":"IF(OR(SUMPRODUCT(--(E1177=$O$1:$O$542))>0,E1177=0),0,1)","v":0}]
["375.000.0000.0220.000","OASI/MEDICARE (EMPLOYER)",{"v":0,"d":"$0.00"},null,"375",null,"375","000","0000","0220","000",null,"000",{"$nulls":13},{"$f":"IF(OR(SUMPRODUCT(--(E1178=$O$1:$O$542))>0,E1178=0),0,1)","v":0}]
["375.000.0000.0221.000","Salaries and Wages ",{"v":0,"d":"$0.00"},null,"375",null,"375","000","0000","0221","000",null,"000",{"$nulls":13},{"$f":"IF(OR(SUMPRODUCT(--(E1179=$O$1:$O$542))>0,E1179=0),0,1)","v":0}]
["375.000.0000.0222.000","OASI - SOCIAL SECURITY",{"v":0,"d":"$0.00"},null,"375",null,"375","000","0000","0222","000",null,"000",{"$nulls":13},{"$f":"IF(OR(SUMPRODUCT(--(E1180=$O$1:$O$542))>0,E1180=0),0,1)","v":0}]
["375.000.0000.0222.100","Social Security - OASDI",{"v":0,"d":"$0.00"},null,"375",null,"375","000","0000","0222","100",null,"100",{"$nulls":13},{"$f":"IF(OR(SUMPRODUCT(--(E1181=$O$1:$O$542))>0,E1181=0),0,1)","v":0}]
["375.000.0000.0223.000","OASI - MEDICARE",{"v":0,"d":"$0.00"},null,"375",null,"375","000","0000","0223","000",null,"000",{"$nulls":13},{"$f":"IF(OR(SUMPRODUCT(--(E1182=$O$1:$O$542))>0,E1182=0),0,1)","v":0}]
["375.000.0000.0223.100","Medicare",{"v":0,"d":"$0.00"},null,"375",null,"375","000","0000","0223","100",null,"100",{"$nulls":13},{"$f":"IF(OR(SUMPRODUCT(--(E1183=$O$1:$O$542))>0,E1183=0),0,1)","v":0}]
["375.000.0000.0224.000","STATE RETIRE CONTRIB (EM",{"v":0,"d":"$0.00"},null,"375",null,"375","000","0000","0224","000",null,"000",{"$nulls":13},{"$f":"IF(OR(SUMPRODUCT(--(E1184=$O$1:$O$542))>0,E1184=0),0,1)","v":0}]
["375.000.0000.0224.100","State Retirement System Contributio",{"v":0,"d":"$0.00"},null,"375",null,"375","000","0000","0224","100",null,"100",{"$nulls":13},{"$f":"IF(OR(SUMPRODUCT(--(E1185=$O$1:$O$542))>0,E1185=0),0,1)","v":0}]
["375.000.0000.0225.000","EMPLOYEE INSURANCE (EMPL",{"v":0,"d":"$0.00"},null,"375",null,"375","000","0000","0225","000",null,"000",{"$nulls":13},{"$f":"IF(OR(SUMPRODUCT(--(E1186=$O$1:$O$542))>0,E1186=0),0,1)","v":0}]
["375.000.0000.0225.100","Employee Insurance",{"v":0,"d":"$0.00"},null,"375",null,"375","000","0000","0225","100",null,"100",{"$nulls":13},{"$f":"IF(OR(SUMPRODUCT(--(E1187=$O$1:$O$542))>0,E1187=0),0,1)","v":0}]
["375.000.0000.0226.000","UNEMPLOYMENT INS. (EMPLO",{"v":0,"d":"$0.00"},null,"375",null,"375","000","0000","0226","000",null,"000",{"$nulls":13},{"$f":"IF(OR(SUMPRODUCT(--(E1188=$O$1:$O$542))>0,E1188=0),0,1)","v":0}]
["375.000.0000.0226.100","Unemployment Insurance",{"v":0,"d":"$0.00"},null,"375",null,"375","000","0000","0226","100",null,"100",{"$nulls":13},{"$f":"IF(OR(SUMPRODUCT(--(E1189=$O$1:$O$542))>0,E1189=0),0,1)","v":0}]
["375.000.0000.0227.000","WORKER'S COMP. (EMPLOYER",{"v":0,"d":"$0.00"},null,"375",null,"375","000","0000","0227","000",null,"000",{"$nulls":13},{"$f":"IF(OR(SUMPRODUCT(--(E1190=$O$1:$O$542))>0,E1190=0),0,1)","v":0}]
["375.000.0000.0241.000","FEDERAL INCOME TAXES",{"v":0,"d":"$0.00"},null,"375",null,"375","000","0000","0241","000",null,"000",{"$nulls":13},{"$f":"IF(OR(SUMPRODUCT(--(E1191=$O$1:$O$542))>0,E1191=0),0,1)","v":0}]
["375.000.0000.0241.100","Federal Income Taxes",{"v":0,"d":"$0.00"},null,"375",null,"375","000","0000","0241","100",null,"100",{"$nulls":13},{"$f":"IF(OR(SUMPRODUCT(--(E1192=$O$1:$O$542))>0,E1192=0),0,1)","v":0}]
["375.000.0000.0242.000","STATE INCOME TAXES",{"v":0,"d":"$0.00"},null,"375",null,"375","000","0000","0242","000",null,"000",{"$nulls":13},{"$f":"IF(OR(SUMPRODUCT(--(E1193=$O$1:$O$542))>0,E1193=0),0,1)","v":0}]
["375.000.0000.0242.100","State Income Taxes",{"v":0,"d":"$0.00"},null,"375",null,"375","000","0000","0242","100",null,"100",{"$nulls":13},{"$f":"IF(OR(SUMPRODUCT(--(E1194=$O$1:$O$542))>0,E1194=0),0,1)","v":0}]
["375.000.0000.0243.000","OASI/MEDICARE (EMPLOYEE)",{"v":0,"d":"$0.00"},null,"375",null,"375","000","0000","0243","000",null,"000",{"$nulls":13},{"$f":"IF(OR(SUMPRODUCT(--(E1195=$O$1:$O$542))>0,E1195=0),0,1)","v":0}]
["375.000.0000.0243.100","Social Security - OASDI",{"v":0,"d":"$0.00"},null,"375",null,"375","000","0000","0243","100",null,"100",{"$nulls":13},{"$f":"IF(OR(SUMPRODUCT(--(E1196=$O$1:$O$542))>0,E1196=0),0,1)","v":0}]
["375.000.0000.0244.000","OASI - MEDICARE",{"v":0,"d":"$0.00"},null,"375",null,"375","000","0000","0244","000",null,"000",{"$nulls":13},{"$f":"IF(OR(SUMPRODUCT(--(E1197=$O$1:$O$542))>0,E1197=0),0,1)","v":0}]
["375.000.0000.0244.100","Medicare - Hospital Insurance",{"v":0,"d":"$0.00"},null,"375",null,"375","000","0000","0244","100",null,"100",{"$nulls":13},{"$f":"IF(OR(SUMPRODUCT(--(E1198=$O$1:$O$542))>0,E1198=0),0,1)","v":0}]
["375.000.0000.0245.000","STATE RETIREMENT (EMPLOY",{"v":0,"d":"$0.00"},null,"375",null,"375","000","0000","0245","000",null,"000",{"$nulls":13},{"$f":"IF(OR(SUMPRODUCT(--(E1199=$O$1:$O$542))>0,E1199=0),0,1)","v":0}]
["375.000.0000.0245.100","State Retirement Contributions",{"v":0,"d":"$0.00"},null,"375",null,"375","000","0000","0245","100",null,"100",{"$nulls":13},{"$f":"IF(OR(SUMPRODUCT(--(E1200=$O$1:$O$542))>0,E1200=0),0,1)","v":0}]
["375.000.0000.0246.000","Long Term Disability",{"v":0,"d":"$0.00"},null,"375",null,"375","000","0000","0246","000",null,"000",{"$nulls":13},{"$f":"IF(OR(SUMPRODUCT(--(E1201=$O$1:$O$542))>0,E1201=0),0,1)","v":0}]
["375.000.0000.0246.100","Long Term Disability",{"v":0,"d":"$0.00"},null,"375",null,"375","000","0000","0246","100",null,"100",{"$nulls":13},{"$f":"IF(OR(SUMPRODUCT(--(E1202=$O$1:$O$542))>0,E1202=0),0,1)","v":0}]
["375.000.0000.0247.000","VOLUNTARY DEDUCTION",{"v":0,"d":"$0.00"},null,"375",null,"375","000","0000","0247","000",null,"000",{"$nulls":13},{"$f":"IF(OR(SUMPRODUCT(--(E1203=$O$1:$O$542))>0,E1203=0),0,1)","v":0}]
["375.000.0000.0247.100","Voluntary Deductions",{"v":0,"d":"$0.00"},null,"375",null,"375","000","0000","0247","100",null,"100",{"$nulls":13},{"$f":"IF(OR(SUMPRODUCT(--(E1204=$O$1:$O$542))>0,E1204=0),0,1)","v":0}]
["375.000.0000.0248.000","COURT ORDERED ASSIGNMENT",{"v":0,"d":"$0.00"},null,"375",null,"375","000","0000","0248","000",null,"000",{"$nulls":13},{"$f":"IF(OR(SUMPRODUCT(--(E1205=$O$1:$O$542))>0,E1205=0),0,1)","v":0}]
["375.000.0000.0250.000","Deferred Revenues",{"v":0,"d":"$0.00"},null,"375",null,"375","000","0000","0250","000",null,"000",{"$nulls":13},{"$f":"IF(OR(SUMPRODUCT(--(E1206=$O$1:$O$542))>0,E1206=0),0,1)","v":0}]
["375.000.0000.0250.100","Deferred Revenues",{"v":0,"d":"$0.00"},null,"375",null,"375","000","0000","0250","100",null,"100",{"$nulls":13},{"$f":"IF(OR(SUMPRODUCT(--(E1207=$O$1:$O$542))>0,E1207=0),0,1)","v":0}]
["375.000.0000.0330.000","Unreserved Fund Balance",{"v":0,"d":"$0.00"},null,"375",null,"375","000","0000","0330","000",null,"000",{"$nulls":13},{"$f":"IF(OR(SUMPRODUCT(--(E1208=$O$1:$O$542))>0,E1208=0),0,1)","v":0}]
["375.000.0000.1111.000","PERSONAL PROPERTY TAXES",{"v":0,"d":"$0.00"},null,"375",null,"375","000","0000","1111","000",null,"000",{"$nulls":13},{"$f":"IF(OR(SUMPRODUCT(--(E1209=$O$1:$O$542))>0,E1209=0),0,1)","v":0}]
["375.000.0000.1112.000","REAL PROPERTY TAXES",{"v":0,"d":"$0.00"},null,"375",null,"375","000","0000","1112","000",null,"000",{"$nulls":13},{"$f":"IF(OR(SUMPRODUCT(--(E1210=$O$1:$O$542))>0,E1210=0),0,1)","v":0}]
["375.000.0000.1115.000","REAL PROPERTY TAXES",{"v":0,"d":"$0.00"},null,"375",null,"375","000","0000","1115","000",null,"000",{"$nulls":13},{"$f":"IF(OR(SUMPRODUCT(--(E1211=$O$1:$O$542))>0,E1211=0),0,1)","v":0}]
["375.000.0000.1320.000","Tuition from Other Arizo",{"v":0,"d":"$0.00"},null,"375",null,"375","000","0000","1320","000",null,"000",{"$nulls":13},{"$f":"IF(OR(SUMPRODUCT(--(E1212=$O$1:$O$542))>0,E1212=0),0,1)","v":0}]
["375.000.0000.1330.000","Tuition from Out-of-Stat",{"v":0,"d":"$0.00"},null,"375",null,"375","000","0000","1330","000",null,"000",{"$nulls":13},{"$f":"IF(OR(SUMPRODUCT(--(E1213=$O$1:$O$542))>0,E1213=0),0,1)","v":0}]
["375.000.0000.1510.000","INTEREST ON INVESTMENTS",{"v":0,"d":"$0.00"},null,"375",null,"375","000","0000","1510","000",null,"000",{"$nulls":13},{"$f":"IF(OR(SUMPRODUCT(--(E1214=$O$1:$O$542))>0,E1214=0),0,1)","v":0}]
["375.000.0000.1511.000","LGIP  LOSS",{"v":0,"d":"$0.00"},null,"375",null,"375","000","0000","1511","000",null,"000",{"$nulls":13},{"$f":"IF(OR(SUMPRODUCT(--(E1215=$O$1:$O$542))>0,E1215=0),0,1)","v":0}]
["375.000.0000.1512.000","STATE DEFERRED INTEREST",{"v":0,"d":"$0.00"},null,"375",null,"375","000","0000","1512","000",null,"000",{"$nulls":13},{"$f":"IF(OR(SUMPRODUCT(--(E1216=$O$1:$O$542))>0,E1216=0),0,1)","v":0}]
["375.000.0000.1900.000","OTHER RECEIPTS",{"v":0,"d":"$0.00"},null,"375",null,"375","000","0000","1900","000",null,"000",{"$nulls":13},{"$f":"IF(OR(SUMPRODUCT(--(E1217=$O$1:$O$542))>0,E1217=0),0,1)","v":0}]
["375.000.0000.1900.100","Other Revenue from Local Sources",{"v":0,"d":"$0.00"},null,"375",null,"375","000","0000","1900","100",null,"100",{"$nulls":13},{"$f":"IF(OR(SUMPRODUCT(--(E1218=$O$1:$O$542))>0,E1218=0),0,1)","v":0}]
["375.000.0000.1910.100","Rentals ",{"v":0,"d":"$0.00"},null,{"$f":"IF(AND(F1219<>\"\",F1219=G1219),\"ERROR\",IF(AND(F1219<>\"\",F1219<>G1219),F1219,G1219))","v":"375"},null,"375","000","0000","1910","100",null,{"$f":"IF(L1219<>\"\",L1219,K1219)","v":"100"},{"$nulls":13},{"$f":"IF(OR(SUMPRODUCT(--(E1219=$O$1:$O$542))>0,E1219=0),0,1)","v":0}]
["375.000.0000.1980.000","Refund of Prior Year's E",{"v":0,"d":"$0.00"},null,"375",null,"375","000","0000","1980","000",null,"000",{"$nulls":13},{"$f":"IF(OR(SUMPRODUCT(--(E1220=$O$1:$O$542))>0,E1220=0),0,1)","v":0}]
["375.000.0000.1990.000","Miscellaneous",{"v":0,"d":"$0.00"},null,"375",null,"375","000","0000","1990","000",null,"000",{"$nulls":13},{"$f":"IF(OR(SUMPRODUCT(--(E1221=$O$1:$O$542))>0,E1221=0),0,1)","v":0}]
["375.000.0000.2110.000","County School Fund ",{"v":0,"d":"$0.00"},null,"375",null,"375","000","0000","2110","000",null,"000",{"$nulls":13},{"$f":"IF(OR(SUMPRODUCT(--(E1222=$O$1:$O$542))>0,E1222=0),0,1)","v":0}]
["375.000.0000.2120.000","COUNTY EQUALIZATION ASSI",{"v":0,"d":"$0.00"},null,"375",null,"375","000","0000","2120","000",null,"000",{"$nulls":13},{"$f":"IF(OR(SUMPRODUCT(--(E1223=$O$1:$O$542))>0,E1223=0),0,1)","v":0}]
["375.000.0000.2121.000","ASSISTANCE FOR EDUCATION",{"v":0,"d":"$0.00"},null,"375",null,"375","000","0000","2121","000",null,"000",{"$nulls":13},{"$f":"IF(OR(SUMPRODUCT(--(E1224=$O$1:$O$542))>0,E1224=0),0,1)","v":0}]
["375.000.0000.2122.000","PRIOR YEAR REVENUE",{"v":0,"d":"$0.00"},null,"375",null,"375","000","0000","2122","000",null,"000",{"$nulls":13},{"$f":"IF(OR(SUMPRODUCT(--(E1225=$O$1:$O$542))>0,E1225=0),0,1)","v":0}]
["375.000.0000.2500.100","Central Services",{"v":0,"d":"$0.00"},null,"375",null,"375","000","0000","2500","100",null,"100",{"$nulls":13},{"$f":"IF(OR(SUMPRODUCT(--(E1226=$O$1:$O$542))>0,E1226=0),0,1)","v":0}]
["375.000.0000.3110.000","STATE EQUALIZATION ASSIS",{"v":0,"d":"$0.00"},null,"375",null,"375","000","0000","3110","000",null,"000",{"$nulls":13},{"$f":"IF(OR(SUMPRODUCT(--(E1227=$O$1:$O$542))>0,E1227=0),0,1)","v":0}]
["375.000.0000.3120.000","ADDITIONAL STATE AID",{"v":0,"d":"$0.00"},null,"375",null,"375","000","0000","3120","000",null,"000",{"$nulls":13},{"$f":"IF(OR(SUMPRODUCT(--(E1228=$O$1:$O$542))>0,E1228=0),0,1)","v":0}]
["375.000.0000.3200.000","Restricted Grants-in-Aid",{"v":0,"d":"$0.00"},null,"375",null,"375","000","0000","3200","000",null,"000",{"$nulls":13},{"$f":"IF(OR(SUMPRODUCT(--(E1229=$O$1:$O$542))>0,E1229=0),0,1)","v":0}]
["375.000.0000.3201.000","PRIOR YEAR STATE",{"v":0,"d":"$0.00"},null,"375",null,"375","000","0000","3201","000",null,"000",{"$nulls":13},{"$f":"IF(OR(SUMPRODUCT(--(E1230=$O$1:$O$542))>0,E1230=0),0,1)","v":0}]
["375.000.0000.3900.000","Revenue for/on Behalf of",{"v":0,"d":"$0.00"},null,"375",null,"375","000","0000","3900","000",null,"000",{"$nulls":13},{"$f":"IF(OR(SUMPRODUCT(--(E1231=$O$1:$O$542))>0,E1231=0),0,1)","v":0}]
["375.000.0000.4100.000","FEDERAL UNRESTRICTED",{"v":0,"d":"$0.00"},null,"375",null,"375","000","0000","4100","000",null,"000",{"$nulls":13},{"$f":"IF(OR(SUMPRODUCT(--(E1232=$O$1:$O$542))>0,E1232=0),0,1)","v":0}]
["375.000.0000.4500.000","RESTRICTED GRANT FEDERAL",{"v":0,"d":"$0.00"},null,"375",null,"375","000","0000","4500","000",null,"000",{"$nulls":13},{"$f":"IF(OR(SUMPRODUCT(--(E1233=$O$1:$O$542))>0,E1233=0),0,1)","v":0}]
["375.000.0000.4501.000","PRIOR YEAR REVENUE DUE F",{"v":0,"d":"$0.00"},null,"375",null,"375","000","0000","4501","000",null,"000",{"$nulls":13},{"$f":"IF(OR(SUMPRODUCT(--(E1234=$O$1:$O$542))>0,E1234=0),0,1)","v":0}]
["375.000.0000.5200.000","Interfund Transfers In ",{"v":0,"d":"$0.00"},null,"375",null,"375","000","0000","5200","000",null,"000",{"$nulls":13},{"$f":"IF(OR(SUMPRODUCT(--(E1235=$O$1:$O$542))>0,E1235=0),0,1)","v":0}]
["375.000.0000.5300.000","Sale or Compensation for",{"v":0,"d":"$0.00"},null,"375",null,"375","000","0000","5300","000",null,"000",{"$nulls":13},{"$f":"IF(OR(SUMPRODUCT(--(E1236=$O$1:$O$542))>0,E1236=0),0,1)","v":0}]
["375.000.0000.6221.000","Social Security - OASDI",{"v":0,"d":"$0.00"},null,"375",null,"375","000","0000","6221","000",null,"000",{"$nulls":13},{"$f":"IF(OR(SUMPRODUCT(--(E1237=$O$1:$O$542))>0,E1237=0),0,1)","v":0}]
["375.000.0000.6222.000","Medicare - Hospital Insurance ",{"v":0,"d":"$0.00"},null,"375",null,"375","000","0000","6222","000",null,"000",{"$nulls":13},{"$f":"IF(OR(SUMPRODUCT(--(E1238=$O$1:$O$542))>0,E1238=0),0,1)","v":0}]
["375.000.0000.6231.000","State Retirement ",{"v":0,"d":"$0.00"},null,"375",null,"375","000","0000","6231","000",null,"000",{"$nulls":13},{"$f":"IF(OR(SUMPRODUCT(--(E1239=$O$1:$O$542))>0,E1239=0),0,1)","v":0}]
["375.000.0000.6232.000","Long Term Disability",{"v":0,"d":"$0.00"},null,"375",null,"375","000","0000","6232","000",null,"000",{"$nulls":13},{"$f":"IF(OR(SUMPRODUCT(--(E1240=$O$1:$O$542))>0,E1240=0),0,1)","v":0}]
["375.000.0000.6910.000","Indirect Costs ",{"v":0,"d":"$0.00"},null,"375",null,"375","000","0000","6910","000",null,"000",{"$nulls":13},{"$f":"IF(OR(SUMPRODUCT(--(E1241=$O$1:$O$542))>0,E1241=0),0,1)","v":0}]
["375.000.0000.6910.100","Indirect Costs ",{"v":0,"d":"$0.00"},null,"375",null,"375","000","0000","6910","100",null,"100",{"$nulls":13},{"$f":"IF(OR(SUMPRODUCT(--(E1242=$O$1:$O$542))>0,E1242=0),0,1)","v":0}]
["375.000.0000.6930.000","Interfund Transfers Out ",{"v":0,"d":"$0.00"},null,"375",null,"375","000","0000","6930","000",null,"000",{"$nulls":13},{"$f":"IF(OR(SUMPRODUCT(--(E1243=$O$1:$O$542))>0,E1243=0),0,1)","v":0}]
["375.000.0000.6950.100","RETURN TO STATE",{"v":0,"d":"$0.00"},null,"375",null,"375","000","0000","6950","100",null,"100",{"$nulls":13},{"$f":"IF(OR(SUMPRODUCT(--(E1244=$O$1:$O$542))>0,E1244=0),0,1)","v":0}]
["375.000.0000.6999.100","REVOLVING FUND",{"v":0,"d":"$0.00"},null,"375",null,"375","000","0000","6999","100",null,"100",{"$nulls":13},{"$f":"IF(OR(SUMPRODUCT(--(E1245=$O$1:$O$542))>0,E1245=0),0,1)","v":0}]
["375.000.5000.6820.100","Judgments Against the Di",{"v":0,"d":"$0.00"},null,"375",null,"375","000","5000","6820","100",null,"100",{"$nulls":13},{"$f":"IF(OR(SUMPRODUCT(--(E1246=$O$1:$O$542))>0,E1246=0),0,1)","v":0}]
["375.100.0000.1510.000","INTEREST ON INVESTMENTS",{"v":0,"d":"$0.00"},null,"375",null,"375","100","0000","1510","000",null,"000",{"$nulls":13},{"$f":"IF(OR(SUMPRODUCT(--(E1247=$O$1:$O$542))>0,E1247=0),0,1)","v":0}]
["375.100.0000.1900.000","OTHER RECEIPTS",{"v":0,"d":"$0.00"},null,"375",null,"375","100","0000","1900","000",null,"000",{"$nulls":13},{"$f":"IF(OR(SUMPRODUCT(--(E1248=$O$1:$O$542))>0,E1248=0),0,1)","v":0}]
["375.100.0000.4500.000","FEDERAL REVENUE",{"v":0,"d":"$0.00"},null,"375",null,"375","100","0000","4500","000",null,"000",{"$nulls":13},{"$f":"IF(OR(SUMPRODUCT(--(E1249=$O$1:$O$542))>0,E1249=0),0,1)","v":0}]
["375.100.0000.6221.000","Social Security - OASDI",{"v":0,"d":"$0.00"},null,"375",null,"375","100","0000","6221","000",null,"000",{"$nulls":13},{"$f":"IF(OR(SUMPRODUCT(--(E1250=$O$1:$O$542))>0,E1250=0),0,1)","v":0}]
["375.100.0000.6222.000","Medicare - Hospital Insurance ",{"v":0,"d":"$0.00"},null,"375",null,"375","100","0000","6222","000",null,"000",{"$nulls":13},{"$f":"IF(OR(SUMPRODUCT(--(E1251=$O$1:$O$542))>0,E1251=0),0,1)","v":0}]
["375.100.0000.6231.000","State Retirement ",{"v":0,"d":"$0.00"},null,"375",null,"375","100","0000","6231","000",null,"000",{"$nulls":13},{"$f":"IF(OR(SUMPRODUCT(--(E1252=$O$1:$O$542))>0,E1252=0),0,1)","v":0}]
["375.100.0000.6232.000","Long Term Disability",{"v":0,"d":"$0.00"},null,"375",null,"375","100","0000","6232","000",null,"000",{"$nulls":13},{"$f":"IF(OR(SUMPRODUCT(--(E1253=$O$1:$O$542))>0,E1253=0),0,1)","v":0}]
["375.100.0000.6641.100","LIBRARY BOOKS",{"v":0,"d":"$0.00"},null,"375",null,"375","100","0000","6641","100",null,"100",{"$nulls":13},{"$f":"IF(OR(SUMPRODUCT(--(E1254=$O$1:$O$542))>0,E1254=0),0,1)","v":0}]
["375.100.0000.6642.100","Textbooks ",{"v":0,"d":"$0.00"},null,"375",null,"375","100","0000","6642","100",null,"100",{"$nulls":13},{"$f":"IF(OR(SUMPRODUCT(--(E1255=$O$1:$O$542))>0,E1255=0),0,1)","v":0}]
["375.100.0000.6643.100","Instructional Aids ",{"v":0,"d":"$0.00"},null,"375",null,"375","100","0000","6643","100",null,"100",{"$nulls":13},{"$f":"IF(OR(SUMPRODUCT(--(E1256=$O$1:$O$542))>0,E1256=0),0,1)","v":0}]
["375.100.0000.6700.100","CAPITAL EXPENDITURES",{"v":0,"d":"$0.00"},null,"375",null,"375","100","0000","6700","100",null,"100",{"$nulls":13},{"$f":"IF(OR(SUMPRODUCT(--(E1257=$O$1:$O$542))>0,E1257=0),0,1)","v":0}]
["375.100.0000.6710.100","LAND AND IMPROVEMENTS",{"v":0,"d":"$0.00"},null,"375",null,"375","100","0000","6710","100",null,"100",{"$nulls":13},{"$f":"IF(OR(SUMPRODUCT(--(E1258=$O$1:$O$542))>0,E1258=0),0,1)","v":0}]
["375.100.0000.6720.100","BUILDINGS AND IMPROVEMEN",{"v":0,"d":"$0.00"},null,"375",null,"375","100","0000","6720","100",null,"100",{"$nulls":13},{"$f":"IF(OR(SUMPRODUCT(--(E1259=$O$1:$O$542))>0,E1259=0),0,1)","v":0}]
["375.100.0000.6731.100","FURNITURE AND EQUIPMENT",{"v":0,"d":"$0.00"},null,"375",null,"375","100","0000","6731","100",null,"100",{"$nulls":13},{"$f":"IF(OR(SUMPRODUCT(--(E1260=$O$1:$O$542))>0,E1260=0),0,1)","v":0}]
["375.100.0000.6910.100","INDIRECT COSTS",{"v":0,"d":"$0.00"},null,"375",null,"375","100","0000","6910","100",null,"100",{"$nulls":13},{"$f":"IF(OR(SUMPRODUCT(--(E1261=$O$1:$O$542))>0,E1261=0),0,1)","v":0}]
["375.100.1000.6100.000","Personal Services - Salaries ",{"v":0,"d":"$0.00"},null,"375",null,"375","100","1000","6100","000",null,"000",{"$nulls":13},{"$f":"IF(OR(SUMPRODUCT(--(E1262=$O$1:$O$542))>0,E1262=0),0,1)","v":0}]
["375.100.1000.6100.100","Personal Services - Salaries ",{"v":0,"d":"$0.00"},null,"375",null,"375","100","1000","6100","100",null,"100",{"$nulls":13},{"$f":"IF(OR(SUMPRODUCT(--(E1263=$O$1:$O$542))>0,E1263=0),0,1)","v":0}]
["375.100.1000.6110.100","Certified Salaries ",{"v":0,"d":"$0.00"},null,"375",null,"375","100","1000","6110","100",null,"100",{"$nulls":13},{"$f":"IF(OR(SUMPRODUCT(--(E1264=$O$1:$O$542))>0,E1264=0),0,1)","v":0}]
["375.100.1000.6111.100","SALARIES - CERTIFIED",{"v":0,"d":"$0.00"},null,"375",null,"375","100","1000","6111","100",null,"100",{"$nulls":13},{"$f":"IF(OR(SUMPRODUCT(--(E1265=$O$1:$O$542))>0,E1265=0),0,1)","v":0}]
["375.100.1000.6112.100","ARRA Educational Job Fund",{"v":0,"d":"$0.00"},null,"375",null,"375","100","1000","6112","100",null,"100",{"$nulls":13},{"$f":"IF(OR(SUMPRODUCT(--(E1266=$O$1:$O$542))>0,E1266=0),0,1)","v":0}]
["375.100.1000.6113.100","Substitute",{"v":0,"d":"$0.00"},null,"375",null,"375","100","1000","6113","100",null,"100",{"$nulls":13},{"$f":"IF(OR(SUMPRODUCT(--(E1267=$O$1:$O$542))>0,E1267=0),0,1)","v":0}]
["375.100.1000.6113.200","Substitute",{"v":0,"d":"$0.00"},null,"375",null,"375","100","1000","6113","100",null,"100",{"$nulls":13},{"$f":"IF(OR(SUMPRODUCT(--(E1268=$O$1:$O$542))>0,E1268=0),0,1)","v":0}]
["375.100.1000.6150.100","ARRA Education Job Fund",{"v":0,"d":"$0.00"},null,"375",null,"375","100","1000","6150","100",null,"100",{"$nulls":13},{"$f":"IF(OR(SUMPRODUCT(--(E1269=$O$1:$O$542))>0,E1269=0),0,1)","v":0}]
["375.100.1000.6200.000","Personal Services - Employee Benefi",{"v":0,"d":"$0.00"},null,"375",null,"375","100","1000","6200","000",null,"000",{"$nulls":13},{"$f":"IF(OR(SUMPRODUCT(--(E1270=$O$1:$O$542))>0,E1270=0),0,1)","v":0}]
["375.100.1000.6200.100","EMPLOYEE BENEFITS",{"v":0,"d":"$0.00"},null,"375",null,"375","100","1000","6200","100",null,"100",{"$nulls":13},{"$f":"IF(OR(SUMPRODUCT(--(E1271=$O$1:$O$542))>0,E1271=0),0,1)","v":0}]
["375.100.1000.6210.100","INSURANCE",{"v":0,"d":"$0.00"},null,"375",null,"375","100","1000","6210","100",null,"100",{"$nulls":13},{"$f":"IF(OR(SUMPRODUCT(--(E1272=$O$1:$O$542))>0,E1272=0),0,1)","v":0}]
["375.100.1000.6220.100","OASI / MEDICARE",{"v":0,"d":"$0.00"},null,"375",null,"375","100","1000","6220","100",null,"100",{"$nulls":13},{"$f":"IF(OR(SUMPRODUCT(--(E1273=$O$1:$O$542))>0,E1273=0),0,1)","v":0}]
["375.100.1000.6220.200","Social Security Contributions",{"v":0,"d":"$0.00"},null,"375",null,"375","100","1000","6220","100",null,"100",{"$nulls":13},{"$f":"IF(OR(SUMPRODUCT(--(E1274=$O$1:$O$542))>0,E1274=0),0,1)","v":0}]
["375.100.1000.6221.000","Social Security - OASDI",{"v":0,"d":"$0.00"},null,"375",null,"375","100","1000","6221","000",null,"000",{"$nulls":13},{"$f":"IF(OR(SUMPRODUCT(--(E1275=$O$1:$O$542))>0,E1275=0),0,1)","v":0}]
["375.100.1000.6221.100","OASI - SOCIAL SECURITY",{"v":0,"d":"$0.00"},null,"375",null,"375","100","1000","6221","100",null,"100",{"$nulls":13},{"$f":"IF(OR(SUMPRODUCT(--(E1276=$O$1:$O$542))>0,E1276=0),0,1)","v":0}]
["375.100.1000.6221.200","Social Security - OASDI",{"v":0,"d":"$0.00"},null,"375",null,"375","100","1000","6221","100",null,"100",{"$nulls":13},{"$f":"IF(OR(SUMPRODUCT(--(E1277=$O$1:$O$542))>0,E1277=0),0,1)","v":0}]
["375.100.1000.6222.000","Medicare - Hospital Insurance ",{"v":0,"d":"$0.00"},null,"375",null,"375","100","1000","6222","000",null,"000",{"$nulls":13},{"$f":"IF(OR(SUMPRODUCT(--(E1278=$O$1:$O$542))>0,E1278=0),0,1)","v":0}]
["375.100.1000.6222.100","OASI - MEDICARE",{"v":0,"d":"$0.00"},null,"375",null,"375","100","1000","6222","100",null,"100",{"$nulls":13},{"$f":"IF(OR(SUMPRODUCT(--(E1279=$O$1:$O$542))>0,E1279=0),0,1)","v":0}]
["375.100.1000.6230.100","STATE RETIREMENT CONTRIB",{"v":0,"d":"$0.00"},null,"375",null,"375","100","1000","6230","100",null,"100",{"$nulls":13},{"$f":"IF(OR(SUMPRODUCT(--(E1280=$O$1:$O$542))>0,E1280=0),0,1)","v":0}]
["375.100.1000.6231.000","State Retirement ",{"v":0,"d":"$0.00"},null,"375",null,"375","100","1000","6231","000",null,"000",{"$nulls":13},{"$f":"IF(OR(SUMPRODUCT(--(E1281=$O$1:$O$542))>0,E1281=0),0,1)","v":0}]
["375.100.1000.6231.100","State Retirement ",{"v":0,"d":"$0.00"},null,"375",null,"375","100","1000","6231","100",null,"100",{"$nulls":13},{"$f":"IF(OR(SUMPRODUCT(--(E1282=$O$1:$O$542))>0,E1282=0),0,1)","v":0}]
["375.100.1000.6231.200","State Retirement",{"v":0,"d":"$0.00"},null,{"$f":"IF(AND(F1283<>\"\",F1283=G1283),\"ERROR\",IF(AND(F1283<>\"\",F1283<>G1283),F1283,G1283))","v":"375"},null,"375","100","1000","6231","100",null,{"$f":"IF(L1283<>\"\",L1283,K1283)","v":"100"},{"$nulls":13},{"$f":"IF(OR(SUMPRODUCT(--(E1283=$O$1:$O$542))>0,E1283=0),0,1)","v":0}]
["375.100.1000.6232.000","Long Term Disability",{"v":0,"d":"$0.00"},null,"375",null,"375","100","1000","6232","000",null,"000",{"$nulls":13},{"$f":"IF(OR(SUMPRODUCT(--(E1284=$O$1:$O$542))>0,E1284=0),0,1)","v":0}]
["375.100.1000.6232.100","Long Term Disability",{"v":0,"d":"$0.00"},null,"375",null,"375","100","1000","6232","100",null,"100",{"$nulls":13},{"$f":"IF(OR(SUMPRODUCT(--(E1285=$O$1:$O$542))>0,E1285=0),0,1)","v":0}]
["375.100.1000.6232.200","Long-Term Disability",{"v":0,"d":"$0.00"},null,"375",null,"375","100","1000","6232","100",null,"100",{"$nulls":13},{"$f":"IF(OR(SUMPRODUCT(--(E1286=$O$1:$O$542))>0,E1286=0),0,1)","v":0}]
["375.100.1000.6260.100","WORKER'S COMPENSATION",{"v":0,"d":"$0.00"},null,"375",null,"375","100","1000","6260","100",null,"100",{"$nulls":13},{"$f":"IF(OR(SUMPRODUCT(--(E1287=$O$1:$O$542))>0,E1287=0),0,1)","v":0}]
["375.100.1000.6260.200","Worker's Compensation",{"v":0,"d":"$0.00"},null,"375",null,"375","100","1000","6260","100",null,"100",{"$nulls":13},{"$f":"IF(OR(SUMPRODUCT(--(E1288=$O$1:$O$542))>0,E1288=0),0,1)","v":0}]
["375.100.1000.6300.100","Purchased Professional and Technica",{"v":0,"d":"$0.00"},null,"375",null,"375","100","1000","6300","100",null,"100",{"$nulls":13},{"$f":"IF(OR(SUMPRODUCT(--(E1289=$O$1:$O$542))>0,E1289=0),0,1)","v":0}]
["375.100.1000.6310.100","Official/Administrative ",{"v":0,"d":"$0.00"},null,"375",null,"375","100","1000","6310","100",null,"100",{"$nulls":13},{"$f":"IF(OR(SUMPRODUCT(--(E1290=$O$1:$O$542))>0,E1290=0),0,1)","v":0}]
["375.100.1000.6320.100","Professional - Educational Services",{"v":0,"d":"$0.00"},null,"375",null,"375","100","1000","6320","100",null,"100",{"$nulls":13},{"$f":"IF(OR(SUMPRODUCT(--(E1291=$O$1:$O$542))>0,E1291=0),0,1)","v":0}]
["375.100.1000.6330.100","Other Professional Services",{"v":0,"d":"$0.00"},null,"375",null,"375","100","1000","6330","100",null,"100",{"$nulls":13},{"$f":"IF(OR(SUMPRODUCT(--(E1292=$O$1:$O$542))>0,E1292=0),0,1)","v":0}]
["375.100.1000.6400.100","Purchased Property Services",{"v":0,"d":"$0.00"},null,"375",null,"375","100","1000","6400","100",null,"100",{"$nulls":13},{"$f":"IF(OR(SUMPRODUCT(--(E1293=$O$1:$O$542))>0,E1293=0),0,1)","v":0}]
["375.100.1000.6500.100","Other Purchased Services ",{"v":0,"d":"$0.00"},null,"375",null,"375","100","1000","6500","100",null,"100",{"$nulls":13},{"$f":"IF(OR(SUMPRODUCT(--(E1294=$O$1:$O$542))>0,E1294=0),0,1)","v":0}]
["375.100.1000.6530.100","Communications ",{"v":0,"d":"$0.00"},null,"375",null,"375","100","1000","6530","100",null,"100",{"$nulls":13},{"$f":"IF(OR(SUMPRODUCT(--(E1295=$O$1:$O$542))>0,E1295=0),0,1)","v":0}]
["375.100.1000.6531.100","Telephone",{"v":0,"d":"$0.00"},null,"375",null,"375","100","1000","6531","100",null,"100",{"$nulls":13},{"$f":"IF(OR(SUMPRODUCT(--(E1296=$O$1:$O$542))>0,E1296=0),0,1)","v":0}]
["375.100.1000.6560.100","TUITION",{"v":0,"d":"$0.00"},null,"375",null,"375","100","1000","6560","100",null,"100",{"$nulls":13},{"$f":"IF(OR(SUMPRODUCT(--(E1297=$O$1:$O$542))>0,E1297=0),0,1)","v":0}]
["375.100.1000.6600.000","Supplies ",{"v":0,"d":"$0.00"},null,"375",null,"375","100","1000","6600","000",null,"000",{"$nulls":13},{"$f":"IF(OR(SUMPRODUCT(--(E1298=$O$1:$O$542))>0,E1298=0),0,1)","v":0}]
["375.100.1000.6600.100","SUPPLIES & MATERIALS",{"v":0,"d":"$0.00"},null,"375",null,"375","100","1000","6600","100",null,"100",{"$nulls":13},{"$f":"IF(OR(SUMPRODUCT(--(E1299=$O$1:$O$542))>0,E1299=0),0,1)","v":0}]
["375.100.1000.6600.200","Supplies",{"v":0,"d":"$0.00"},null,"375",null,"375","100","1000","6600","100",null,"100",{"$nulls":13},{"$f":"IF(OR(SUMPRODUCT(--(E1300=$O$1:$O$542))>0,E1300=0),0,1)","v":0}]
["375.100.1000.6610.100","General Supplies ",{"v":0,"d":"$0.00"},null,"375",null,"375","100","1000","6610","100",null,"100",{"$nulls":13},{"$f":"IF(OR(SUMPRODUCT(--(E1301=$O$1:$O$542))>0,E1301=0),0,1)","v":0}]
["375.100.1000.6611.100","DISTRICT SUPPLIES",{"v":0,"d":"$0.00"},null,"375",null,"375","100","1000","6611","100",null,"100",{"$nulls":13},{"$f":"IF(OR(SUMPRODUCT(--(E1302=$O$1:$O$542))>0,E1302=0),0,1)","v":0}]
["375.100.1000.6622.100","Electricity ",{"v":0,"d":"$0.00"},null,"375",null,"375","100","1000","6622","100",null,"100",{"$nulls":13},{"$f":"IF(OR(SUMPRODUCT(--(E1303=$O$1:$O$542))>0,E1303=0),0,1)","v":0}]
["375.100.1000.6641.100","Library Books",{"v":0,"d":"$0.00"},null,"375",null,"375","100","1000","6641","100",null,"100",{"$nulls":13},{"$f":"IF(OR(SUMPRODUCT(--(E1304=$O$1:$O$542))>0,E1304=0),0,1)","v":0}]
["375.100.1000.6642.100","Textbooks ",{"v":0,"d":"$0.00"},null,"375",null,"375","100","1000","6642","100",null,"100",{"$nulls":13},{"$f":"IF(OR(SUMPRODUCT(--(E1305=$O$1:$O$542))>0,E1305=0),0,1)","v":0}]
["375.100.1000.6643.100","Instructional Aids ",{"v":0,"d":"$0.00"},null,"375",null,"375","100","1000","6643","100",null,"100",{"$nulls":13},{"$f":"IF(OR(SUMPRODUCT(--(E1306=$O$1:$O$542))>0,E1306=0),0,1)","v":0}]
["375.100.1000.6700.100","Property",{"v":0,"d":"$0.00"},null,"375",null,"375","100","1000","6700","100",null,"100",{"$nulls":13},{"$f":"IF(OR(SUMPRODUCT(--(E1307=$O$1:$O$542))>0,E1307=0),0,1)","v":0}]
["375.100.1000.6710.100","Land and Improvements ",{"v":0,"d":"$0.00"},null,"375",null,"375","100","1000","6710","100",null,"100",{"$nulls":13},{"$f":"IF(OR(SUMPRODUCT(--(E1308=$O$1:$O$542))>0,E1308=0),0,1)","v":0}]
["375.100.1000.6720.100","Buildings",{"v":0,"d":"$0.00"},null,"375",null,"375","100","1000","6720","100",null,"100",{"$nulls":13},{"$f":"IF(OR(SUMPRODUCT(--(E1309=$O$1:$O$542))>0,E1309=0),0,1)","v":0}]
["375.100.1000.6731.100","Furniture & equipment",{"v":0,"d":"$0.00"},null,"375",null,"375","100","1000","6731","100",null,"100",{"$nulls":13},{"$f":"IF(OR(SUMPRODUCT(--(E1310=$O$1:$O$542))>0,E1310=0),0,1)","v":0}]
["375.100.1000.6732.100","Vehicles ",{"v":0,"d":"$0.00"},null,"375",null,"375","100","1000","6732","100",null,"100",{"$nulls":13},{"$f":"IF(OR(SUMPRODUCT(--(E1311=$O$1:$O$542))>0,E1311=0),0,1)","v":0}]
["375.100.1000.6800.100","Other Objects",{"v":0,"d":"$0.00"},null,"375",null,"375","100","1000","6800","100",null,"100",{"$nulls":13},{"$f":"IF(OR(SUMPRODUCT(--(E1312=$O$1:$O$542))>0,E1312=0),0,1)","v":0}]
["375.100.1000.6910.100","Indirect Costs ",{"v":0,"d":"$0.00"},null,"375",null,"375","100","1000","6910","100",null,"100",{"$nulls":13},{"$f":"IF(OR(SUMPRODUCT(--(E1313=$O$1:$O$542))>0,E1313=0),0,1)","v":0}]
["375.100.1020.6731.100","Furniture and Equipment",{"v":0,"d":"$0.00"},null,"375",null,"375","100","1020","6731","100",null,"100",{"$nulls":13},{"$f":"IF(OR(SUMPRODUCT(--(E1314=$O$1:$O$542))>0,E1314=0),0,1)","v":0}]
["375.100.2100.5800.100","Extraordinary Items",{"v":0,"d":"$0.00"},null,"375",null,"375","100","2100","5800","100",null,"100",{"$nulls":13},{"$f":"IF(OR(SUMPRODUCT(--(E1315=$O$1:$O$542))>0,E1315=0),0,1)","v":0}]
["375.100.2100.6100.100","Personal Services - Salaries ",{"v":0,"d":"$0.00"},null,"375",null,"375","100","2100","6100","100",null,"100",{"$nulls":13},{"$f":"IF(OR(SUMPRODUCT(--(E1316=$O$1:$O$542))>0,E1316=0),0,1)","v":0}]
["375.100.2100.6113.100","Substitute",{"v":0,"d":"$0.00"},null,"375",null,"375","100","2100","6113","100",null,"100",{"$nulls":13},{"$f":"IF(OR(SUMPRODUCT(--(E1317=$O$1:$O$542))>0,E1317=0),0,1)","v":0}]
["375.100.2100.6200.100","Personal Services - Employee Benefi",{"v":0,"d":"$0.00"},null,"375",null,"375","100","2100","6200","100",null,"100",{"$nulls":13},{"$f":"IF(OR(SUMPRODUCT(--(E1318=$O$1:$O$542))>0,E1318=0),0,1)","v":0}]
["375.100.2100.6221.100","Social Security - OASDI",{"v":0,"d":"$0.00"},null,"375",null,"375","100","2100","6221","100",null,"100",{"$nulls":13},{"$f":"IF(OR(SUMPRODUCT(--(E1319=$O$1:$O$542))>0,E1319=0),0,1)","v":0}]
["375.100.2100.6222.100","Medicare - Hospital Insurance ",{"v":0,"d":"$0.00"},null,"375",null,"375","100","2100","6222","100",null,"100",{"$nulls":13},{"$f":"IF(OR(SUMPRODUCT(--(E1320=$O$1:$O$542))>0,E1320=0),0,1)","v":0}]
["375.100.2100.6231.100","State Retirement ",{"v":0,"d":"$0.00"},null,"375",null,"375","100","2100","6231","100",null,"100",{"$nulls":13},{"$f":"IF(OR(SUMPRODUCT(--(E1321=$O$1:$O$542))>0,E1321=0),0,1)","v":0}]
["375.100.2100.6232.100","Long Term Disability",{"v":0,"d":"$0.00"},null,"375",null,"375","100","2100","6232","100",null,"100",{"$nulls":13},{"$f":"IF(OR(SUMPRODUCT(--(E1322=$O$1:$O$542))>0,E1322=0),0,1)","v":0}]
["375.100.2100.6300.100","Purchased Professional and Technica",{"v":0,"d":"$0.00"},null,"375",null,"375","100","2100","6300","100",null,"100",{"$nulls":13},{"$f":"IF(OR(SUMPRODUCT(--(E1323=$O$1:$O$542))>0,E1323=0),0,1)","v":0}]
["375.100.2100.6300.200","Purchased Professional and Technical Services",{"v":0,"d":"$0.00"},null,"375",null,"375","100","2100","6300","100",null,"100",{"$nulls":13},{"$f":"IF(OR(SUMPRODUCT(--(E1324=$O$1:$O$542))>0,E1324=0),0,1)","v":0}]
["375.100.2100.6330.100","Other Professional Services",{"v":0,"d":"$0.00"},null,"375",null,"375","100","2100","6330","100",null,"100",{"$nulls":13},{"$f":"IF(OR(SUMPRODUCT(--(E1325=$O$1:$O$542))>0,E1325=0),0,1)","v":0}]
["375.100.2100.6400.100","Purchased Property Services ",{"v":0,"d":"$0.00"},null,"375",null,"375","100","2100","6400","100",null,"100",{"$nulls":13},{"$f":"IF(OR(SUMPRODUCT(--(E1326=$O$1:$O$542))>0,E1326=0),0,1)","v":0}]
["375.100.2100.6500.100","Other Purchased Services ",{"v":0,"d":"$0.00"},null,"375",null,"375","100","2100","6500","100",null,"100",{"$nulls":13},{"$f":"IF(OR(SUMPRODUCT(--(E1327=$O$1:$O$542))>0,E1327=0),0,1)","v":0}]
["375.100.2100.6500.200","Other Purchased Services",{"v":0,"d":"$0.00"},null,"375",null,"375","100","2100","6500","100",null,"100",{"$nulls":13},{"$f":"IF(OR(SUMPRODUCT(--(E1328=$O$1:$O$542))>0,E1328=0),0,1)","v":0}]
["375.100.2100.6530.000","Communications ",{"v":0,"d":"$0.00"},null,"375",null,"375","100","2100","6530","000",null,"000",{"$nulls":13},{"$f":"IF(OR(SUMPRODUCT(--(E1329=$O$1:$O$542))>0,E1329=0),0,1)","v":0}]
["375.100.2100.6560.100","Tuition",{"v":0,"d":"$0.00"},null,"375",null,"375","100","2100","6560","100",null,"100",{"$nulls":13},{"$f":"IF(OR(SUMPRODUCT(--(E1330=$O$1:$O$542))>0,E1330=0),0,1)","v":0}]
["375.100.2100.6600.100","Supplies ",{"v":0,"d":"$0.00"},null,"375",null,"375","100","2100","6600","100",null,"100",{"$nulls":13},{"$f":"IF(OR(SUMPRODUCT(--(E1331=$O$1:$O$542))>0,E1331=0),0,1)","v":0}]
["375.100.2100.6610.100","General Supplies ",{"v":0,"d":"$0.00"},null,"375",null,"375","100","2100","6610","100",null,"100",{"$nulls":13},{"$f":"IF(OR(SUMPRODUCT(--(E1332=$O$1:$O$542))>0,E1332=0),0,1)","v":0}]
["375.100.2100.6630.100","Food ",{"v":0,"d":"$0.00"},null,"375",null,"375","100","2100","6630","100",null,"100",{"$nulls":13},{"$f":"IF(OR(SUMPRODUCT(--(E1333=$O$1:$O$542))>0,E1333=0),0,1)","v":0}]
["375.100.2100.6643.100","Instructional Aids ",{"v":0,"d":"$0.00"},null,"375",null,"375","100","2100","6643","100",null,"100",{"$nulls":13},{"$f":"IF(OR(SUMPRODUCT(--(E1334=$O$1:$O$542))>0,E1334=0),0,1)","v":0}]
["375.100.2100.6800.100","Other Objects",{"v":0,"d":"$0.00"},null,"375",null,"375","100","2100","6800","100",null,"100",{"$nulls":13},{"$f":"IF(OR(SUMPRODUCT(--(E1335=$O$1:$O$542))>0,E1335=0),0,1)","v":0}]
["375.100.2200.1980.100","Refund of Prior Year's E",{"v":0,"d":"$0.00"},null,"375",null,"375","100","2200","1980","100",null,"100",{"$nulls":13},{"$f":"IF(OR(SUMPRODUCT(--(E1336=$O$1:$O$542))>0,E1336=0),0,1)","v":0}]
["375.100.2200.6100.100","Personal Services - Salaries ",{"v":0,"d":"$0.00"},null,"375",null,"375","100","2200","6100","100",null,"100",{"$nulls":13},{"$f":"IF(OR(SUMPRODUCT(--(E1337=$O$1:$O$542))>0,E1337=0),0,1)","v":0}]
["375.100.2200.6111.100","SALARIES - CERTIFIED",{"v":0,"d":"$0.00"},null,"375",null,"375","100","2200","6111","100",null,"100",{"$nulls":13},{"$f":"IF(OR(SUMPRODUCT(--(E1338=$O$1:$O$542))>0,E1338=0),0,1)","v":0}]
["375.100.2200.6300.100","Purchased Professional a",{"v":0,"d":"$0.00"},null,"375",null,"375","100","2200","6300","100",null,"100",{"$nulls":13},{"$f":"IF(OR(SUMPRODUCT(--(E1339=$O$1:$O$542))>0,E1339=0),0,1)","v":0}]
["375.100.2200.6320.100","Professional - Educational Services",{"v":0,"d":"$0.00"},null,"375",null,"375","100","2200","6320","100",null,"100",{"$nulls":13},{"$f":"IF(OR(SUMPRODUCT(--(E1340=$O$1:$O$542))>0,E1340=0),0,1)","v":0}]
["375.100.2200.6330.100","Other Professional Services ",{"v":0,"d":"$0.00"},null,"375",null,"375","100","2200","6330","100",null,"100",{"$nulls":13},{"$f":"IF(OR(SUMPRODUCT(--(E1341=$O$1:$O$542))>0,E1341=0),0,1)","v":0}]
["375.100.2200.6400.100","Purchased Property Services ",{"v":0,"d":"$0.00"},null,"375",null,"375","100","2200","6400","100",null,"100",{"$nulls":13},{"$f":"IF(OR(SUMPRODUCT(--(E1342=$O$1:$O$542))>0,E1342=0),0,1)","v":0}]
["375.100.2200.6500.100","Other Purchased Services",{"v":0,"d":"$0.00"},null,"375",null,"375","100","2200","6500","100",null,"100",{"$nulls":13},{"$f":"IF(OR(SUMPRODUCT(--(E1343=$O$1:$O$542))>0,E1343=0),0,1)","v":0}]
["375.100.2200.6600.100","Supplies ",{"v":0,"d":"$0.00"},null,"375",null,"375","100","2200","6600","100",null,"100",{"$nulls":13},{"$f":"IF(OR(SUMPRODUCT(--(E1344=$O$1:$O$542))>0,E1344=0),0,1)","v":0}]
["375.100.2200.6610.100","GENERAL SUPPLIES",{"v":0,"d":"$0.00"},null,"375",null,"375","100","2200","6610","100",null,"100",{"$nulls":13},{"$f":"IF(OR(SUMPRODUCT(--(E1345=$O$1:$O$542))>0,E1345=0),0,1)","v":0}]
["375.100.2210.6320.100","Professional - Educational Services",{"v":0,"d":"$0.00"},null,"375",null,"375","100","2210","6320","100",null,"100",{"$nulls":13},{"$f":"IF(OR(SUMPRODUCT(--(E1346=$O$1:$O$542))>0,E1346=0),0,1)","v":0}]
["375.100.2300.6111.100","Administrators",{"v":0,"d":"$0.00"},null,{"$f":"IF(AND(F1347<>\"\",F1347=G1347),\"ERROR\",IF(AND(F1347<>\"\",F1347<>G1347),F1347,G1347))","v":"375"},null,"375","100","2300","6111","100",null,{"$f":"IF(L1347<>\"\",L1347,K1347)","v":"100"},{"$nulls":13},{"$f":"IF(OR(SUMPRODUCT(--(E1347=$O$1:$O$542))>0,E1347=0),0,1)","v":0}]
["375.100.2300.6400.100","Purchased Property Services ",{"v":0,"d":"$0.00"},null,"375",null,"375","100","2300","6400","100",null,"100",{"$nulls":13},{"$f":"IF(OR(SUMPRODUCT(--(E1348=$O$1:$O$542))>0,E1348=0),0,1)","v":0}]
["375.100.2400.6111.100","Administrators",{"v":0,"d":"$0.00"},null,"375",null,"375","100","2400","6111","100",null,"100",{"$nulls":13},{"$f":"IF(OR(SUMPRODUCT(--(E1349=$O$1:$O$542))>0,E1349=0),0,1)","v":0}]
["375.100.2400.6150.100","Classified Salaries ",{"v":0,"d":"$0.00"},null,"375",null,"375","100","2400","6150","100",null,"100",{"$nulls":13},{"$f":"IF(OR(SUMPRODUCT(--(E1350=$O$1:$O$542))>0,E1350=0),0,1)","v":0}]
["375.100.2400.6200.100","Personal Services - Employee Benefi",{"v":0,"d":"$0.00"},null,"375",null,"375","100","2400","6200","100",null,"100",{"$nulls":13},{"$f":"IF(OR(SUMPRODUCT(--(E1351=$O$1:$O$542))>0,E1351=0),0,1)","v":0}]
["375.100.2400.6210.100","Employee Insurance",{"v":0,"d":"$0.00"},null,"375",null,"375","100","2400","6210","100",null,"100",{"$nulls":13},{"$f":"IF(OR(SUMPRODUCT(--(E1352=$O$1:$O$542))>0,E1352=0),0,1)","v":0}]
["375.100.2400.6221.100","Social Security - OASDI",{"v":0,"d":"$0.00"},null,"375",null,"375","100","2400","6221","100",null,"100",{"$nulls":13},{"$f":"IF(OR(SUMPRODUCT(--(E1353=$O$1:$O$542))>0,E1353=0),0,1)","v":0}]
["375.100.2400.6222.100","Medicare - Hospital Insurance ",{"v":0,"d":"$0.00"},null,"375",null,"375","100","2400","6222","100",null,"100",{"$nulls":13},{"$f":"IF(OR(SUMPRODUCT(--(E1354=$O$1:$O$542))>0,E1354=0),0,1)","v":0}]
["375.100.2400.6231.100","State Retirement ",{"v":0,"d":"$0.00"},null,"375",null,"375","100","2400","6231","100",null,"100",{"$nulls":13},{"$f":"IF(OR(SUMPRODUCT(--(E1355=$O$1:$O$542))>0,E1355=0),0,1)","v":0}]
["375.100.2400.6232.100","Long Term Disability",{"v":0,"d":"$0.00"},null,"375",null,"375","100","2400","6232","100",null,"100",{"$nulls":13},{"$f":"IF(OR(SUMPRODUCT(--(E1356=$O$1:$O$542))>0,E1356=0),0,1)","v":0}]
["375.100.2400.6260.100","Worker's Compensation ",{"v":0,"d":"$0.00"},null,"375",null,"375","100","2400","6260","100",null,"100",{"$nulls":13},{"$f":"IF(OR(SUMPRODUCT(--(E1357=$O$1:$O$542))>0,E1357=0),0,1)","v":0}]
["375.100.2400.6300.000","Purchased Professional and Technical Services",{"v":0,"d":"$0.00"},null,"375",null,"375","100","2400","6300","000",null,"000",{"$nulls":13},{"$f":"IF(OR(SUMPRODUCT(--(E1358=$O$1:$O$542))>0,E1358=0),0,1)","v":0}]
["375.100.2400.6310.100","Official/Administrative Services ",{"v":0,"d":"$0.00"},null,"375",null,"375","100","2400","6310","100",null,"100",{"$nulls":13},{"$f":"IF(OR(SUMPRODUCT(--(E1359=$O$1:$O$542))>0,E1359=0),0,1)","v":0}]
["375.100.2400.6330.100","Other Professional Servi",{"v":0,"d":"$0.00"},null,"375",null,"375","100","2400","6330","100",null,"100",{"$nulls":13},{"$f":"IF(OR(SUMPRODUCT(--(E1360=$O$1:$O$542))>0,E1360=0),0,1)","v":0}]
["375.100.2400.6420.100","Cleaning Services",{"v":0,"d":"$0.00"},null,"375",null,"375","100","2400","6420","100",null,"100",{"$nulls":13},{"$f":"IF(OR(SUMPRODUCT(--(E1361=$O$1:$O$542))>0,E1361=0),0,1)","v":0}]
["375.100.2400.6430.100","Repair and Maintenance Services ",{"v":0,"d":"$0.00"},null,"375",null,"375","100","2400","6430","100",null,"100",{"$nulls":13},{"$f":"IF(OR(SUMPRODUCT(--(E1362=$O$1:$O$542))>0,E1362=0),0,1)","v":0}]
["375.100.2400.6490.100","Other Purchased Property Services ",{"v":0,"d":"$0.00"},null,"375",null,"375","100","2400","6490","100",null,"100",{"$nulls":13},{"$f":"IF(OR(SUMPRODUCT(--(E1363=$O$1:$O$542))>0,E1363=0),0,1)","v":0}]
["375.100.2400.6520.100","Insurance Other than Employee Bene",{"v":0,"d":"$0.00"},null,"375",null,"375","100","2400","6520","100",null,"100",{"$nulls":13},{"$f":"IF(OR(SUMPRODUCT(--(E1364=$O$1:$O$542))>0,E1364=0),0,1)","v":0}]
["375.100.2400.6531.100","UTILITIES & COMMUNICATIO",{"v":0,"d":"$0.00"},null,"375",null,"375","100","2400","6531","100",null,"100",{"$nulls":13},{"$f":"IF(OR(SUMPRODUCT(--(E1365=$O$1:$O$542))>0,E1365=0),0,1)","v":0}]
["375.100.2400.6532.100","Other Communications Ser",{"v":0,"d":"$0.00"},null,"375",null,"375","100","2400","6532","100",null,"100",{"$nulls":13},{"$f":"IF(OR(SUMPRODUCT(--(E1366=$O$1:$O$542))>0,E1366=0),0,1)","v":0}]
["375.100.2400.6540.100","Advertising ",{"v":0,"d":"$0.00"},null,"375",null,"375","100","2400","6540","100",null,"100",{"$nulls":13},{"$f":"IF(OR(SUMPRODUCT(--(E1367=$O$1:$O$542))>0,E1367=0),0,1)","v":0}]
["375.100.2400.6550.100","Printing and Binding ",{"v":0,"d":"$0.00"},null,"375",null,"375","100","2400","6550","100",null,"100",{"$nulls":13},{"$f":"IF(OR(SUMPRODUCT(--(E1368=$O$1:$O$542))>0,E1368=0),0,1)","v":0}]
["375.100.2400.6580.100","Travel",{"v":0,"d":"$0.00"},null,"375",null,"375","100","2400","6580","100",null,"100",{"$nulls":13},{"$f":"IF(OR(SUMPRODUCT(--(E1369=$O$1:$O$542))>0,E1369=0),0,1)","v":0}]
["375.100.2400.6590.100","Miscellaneous Purchased Services ",{"v":0,"d":"$0.00"},null,"375",null,"375","100","2400","6590","100",null,"100",{"$nulls":13},{"$f":"IF(OR(SUMPRODUCT(--(E1370=$O$1:$O$542))>0,E1370=0),0,1)","v":0}]
["375.100.2400.6600.100","Supplies ",{"v":0,"d":"$0.00"},null,"375",null,"375","100","2400","6600","100",null,"100",{"$nulls":13},{"$f":"IF(OR(SUMPRODUCT(--(E1371=$O$1:$O$542))>0,E1371=0),0,1)","v":0}]
["375.100.2400.6610.100","General Supplies ",{"v":0,"d":"$0.00"},null,"375",null,"375","100","2400","6610","100",null,"100",{"$nulls":13},{"$f":"IF(OR(SUMPRODUCT(--(E1372=$O$1:$O$542))>0,E1372=0),0,1)","v":0}]
["375.100.2400.6622.100","Electricity ",{"v":0,"d":"$0.00"},null,"375",null,"375","100","2400","6622","100",null,"100",{"$nulls":13},{"$f":"IF(OR(SUMPRODUCT(--(E1373=$O$1:$O$542))>0,E1373=0),0,1)","v":0}]
["375.100.2410.6531.100","UTILITIES & COMMUNICATIO",{"v":0,"d":"$0.00"},null,"375",null,"375","100","2410","6531","100",null,"100",{"$nulls":13},{"$f":"IF(OR(SUMPRODUCT(--(E1374=$O$1:$O$542))>0,E1374=0),0,1)","v":0}]
["375.100.2500.6150.100","SALARIES - CLASSIFIED",{"v":0,"d":"$0.00"},null,"375",null,"375","100","2500","6150","100",null,"100",{"$nulls":13},{"$f":"IF(OR(SUMPRODUCT(--(E1375=$O$1:$O$542))>0,E1375=0),0,1)","v":0}]
["375.100.2500.6210.100","INSURANCE",{"v":0,"d":"$0.00"},null,"375",null,"375","100","2500","6210","100",null,"100",{"$nulls":13},{"$f":"IF(OR(SUMPRODUCT(--(E1376=$O$1:$O$542))>0,E1376=0),0,1)","v":0}]
["375.100.2500.6220.100","OASI / MEDICARE",{"v":0,"d":"$0.00"},null,"375",null,"375","100","2500","6220","100",null,"100",{"$nulls":13},{"$f":"IF(OR(SUMPRODUCT(--(E1377=$O$1:$O$542))>0,E1377=0),0,1)","v":0}]
["375.100.2500.6221.100","OASI - SOCIAL SECURITY",{"v":0,"d":"$0.00"},null,"375",null,"375","100","2500","6221","100",null,"100",{"$nulls":13},{"$f":"IF(OR(SUMPRODUCT(--(E1378=$O$1:$O$542))>0,E1378=0),0,1)","v":0}]
["375.100.2500.6222.100","Medicare - Hospital Insu",{"v":0,"d":"$0.00"},null,"375",null,"375","100","2500","6222","100",null,"100",{"$nulls":13},{"$f":"IF(OR(SUMPRODUCT(--(E1379=$O$1:$O$542))>0,E1379=0),0,1)","v":0}]
["375.100.2500.6230.100","STATE RETIREMENT CONTRIB",{"v":0,"d":"$0.00"},null,"375",null,"375","100","2500","6230","100",null,"100",{"$nulls":13},{"$f":"IF(OR(SUMPRODUCT(--(E1380=$O$1:$O$542))>0,E1380=0),0,1)","v":0}]
["375.100.2500.6260.100","WORKER'S COMPENSATION",{"v":0,"d":"$0.00"},null,"375",null,"375","100","2500","6260","100",null,"100",{"$nulls":13},{"$f":"IF(OR(SUMPRODUCT(--(E1381=$O$1:$O$542))>0,E1381=0),0,1)","v":0}]
["375.100.2500.6430.100","OTHER EXPENDITURES",{"v":0,"d":"$0.00"},null,"375",null,"375","100","2500","6430","100",null,"100",{"$nulls":13},{"$f":"IF(OR(SUMPRODUCT(--(E1382=$O$1:$O$542))>0,E1382=0),0,1)","v":0}]
["375.100.2500.6590.100","OTHER EXPENDITURES",{"v":0,"d":"$0.00"},null,"375",null,"375","100","2500","6590","100",null,"100",{"$nulls":13},{"$f":"IF(OR(SUMPRODUCT(--(E1383=$O$1:$O$542))>0,E1383=0),0,1)","v":0}]
["375.100.2500.6600.100","SUPPLIES & MATERIALS",{"v":0,"d":"$0.00"},null,"375",null,"375","100","2500","6600","100",null,"100",{"$nulls":13},{"$f":"IF(OR(SUMPRODUCT(--(E1384=$O$1:$O$542))>0,E1384=0),0,1)","v":0}]
["375.100.2500.6840.100","INTEREST AND FISCAL CHAR",{"v":0,"d":"$0.00"},null,"375",null,"375","100","2500","6840","100",null,"100",{"$nulls":13},{"$f":"IF(OR(SUMPRODUCT(--(E1385=$O$1:$O$542))>0,E1385=0),0,1)","v":0}]
["375.100.2520.6590.100","Miscellaneous Purchased ",{"v":0,"d":"$0.00"},null,"375",null,"375","100","2520","6590","100",null,"100",{"$nulls":13},{"$f":"IF(OR(SUMPRODUCT(--(E1386=$O$1:$O$542))>0,E1386=0),0,1)","v":0}]
["375.100.2540.6540.100","Advertising ",{"v":0,"d":"$0.00"},null,"375",null,"375","100","2540","6540","100",null,"100",{"$nulls":13},{"$f":"IF(OR(SUMPRODUCT(--(E1387=$O$1:$O$542))>0,E1387=0),0,1)","v":0}]
["375.100.2600.6150.100","ARRA Educational Job Fund",{"v":0,"d":"$0.00"},null,"375",null,"375","100","2600","6150","100",null,"100",{"$nulls":13},{"$f":"IF(OR(SUMPRODUCT(--(E1388=$O$1:$O$542))>0,E1388=0),0,1)","v":0}]
["375.100.2600.6200.100","Personal Services - Employee Benefi",{"v":0,"d":"$0.00"},null,"375",null,"375","100","2600","6200","100",null,"100",{"$nulls":13},{"$f":"IF(OR(SUMPRODUCT(--(E1389=$O$1:$O$542))>0,E1389=0),0,1)","v":0}]
["375.100.2600.6210.100","INSURANCE",{"v":0,"d":"$0.00"},null,"375",null,"375","100","2600","6210","100",null,"100",{"$nulls":13},{"$f":"IF(OR(SUMPRODUCT(--(E1390=$O$1:$O$542))>0,E1390=0),0,1)","v":0}]
["375.100.2600.6220.100","OASI / MEDICARE",{"v":0,"d":"$0.00"},null,"375",null,"375","100","2600","6220","100",null,"100",{"$nulls":13},{"$f":"IF(OR(SUMPRODUCT(--(E1391=$O$1:$O$542))>0,E1391=0),0,1)","v":0}]
["375.100.2600.6221.100","OASI - SOCIAL SECURITY",{"v":0,"d":"$0.00"},null,"375",null,"375","100","2600","6221","100",null,"100",{"$nulls":13},{"$f":"IF(OR(SUMPRODUCT(--(E1392=$O$1:$O$542))>0,E1392=0),0,1)","v":0}]
["375.100.2600.6222.100","OASI - MEDICARE",{"v":0,"d":"$0.00"},null,"375",null,"375","100","2600","6222","100",null,"100",{"$nulls":13},{"$f":"IF(OR(SUMPRODUCT(--(E1393=$O$1:$O$542))>0,E1393=0),0,1)","v":0}]
["375.100.2600.6230.100","STATE RETIREMENT CONTRIB",{"v":0,"d":"$0.00"},null,"375",null,"375","100","2600","6230","100",null,"100",{"$nulls":13},{"$f":"IF(OR(SUMPRODUCT(--(E1394=$O$1:$O$542))>0,E1394=0),0,1)","v":0}]
["375.100.2600.6231.100","State Retirement ",{"v":0,"d":"$0.00"},null,"375",null,"375","100","2600","6231","100",null,"100",{"$nulls":13},{"$f":"IF(OR(SUMPRODUCT(--(E1395=$O$1:$O$542))>0,E1395=0),0,1)","v":0}]
["375.100.2600.6232.100","Long Term Disability",{"v":0,"d":"$0.00"},null,"375",null,"375","100","2600","6232","100",null,"100",{"$nulls":13},{"$f":"IF(OR(SUMPRODUCT(--(E1396=$O$1:$O$542))>0,E1396=0),0,1)","v":0}]
["375.100.2600.6260.100","WORKER'S COMPENSATION",{"v":0,"d":"$0.00"},null,"375",null,"375","100","2600","6260","100",null,"100",{"$nulls":13},{"$f":"IF(OR(SUMPRODUCT(--(E1397=$O$1:$O$542))>0,E1397=0),0,1)","v":0}]
["375.100.2600.6411.100","Water/Sewage",{"v":0,"d":"$0.00"},null,"375",null,"375","100","2600","6411","100",null,"100",{"$nulls":13},{"$f":"IF(OR(SUMPRODUCT(--(E1398=$O$1:$O$542))>0,E1398=0),0,1)","v":0}]
["375.100.2600.6421.100","Disposal Services ",{"v":0,"d":"$0.00"},null,"375",null,"375","100","2600","6421","100",null,"100",{"$nulls":13},{"$f":"IF(OR(SUMPRODUCT(--(E1399=$O$1:$O$542))>0,E1399=0),0,1)","v":0}]
["375.100.2600.6430.100","Repair and Maintenance Services ",{"v":0,"d":"$0.00"},null,"375",null,"375","100","2600","6430","100",null,"100",{"$nulls":13},{"$f":"IF(OR(SUMPRODUCT(--(E1400=$O$1:$O$542))>0,E1400=0),0,1)","v":0}]
["375.100.2600.6531.100","Telephone",{"v":0,"d":"$0.00"},null,"375",null,"375","100","2600","6531","100",null,"100",{"$nulls":13},{"$f":"IF(OR(SUMPRODUCT(--(E1401=$O$1:$O$542))>0,E1401=0),0,1)","v":0}]
["375.100.2600.6540.100","Advertising",{"v":0,"d":"$0.00"},null,"375",null,"375","100","2600","6540","100",null,"100",{"$nulls":13},{"$f":"IF(OR(SUMPRODUCT(--(E1402=$O$1:$O$542))>0,E1402=0),0,1)","v":0}]
["375.100.2600.6590.100","Miscellaneous Purchased Services ",{"v":0,"d":"$0.00"},null,"375",null,"375","100","2600","6590","100",null,"100",{"$nulls":13},{"$f":"IF(OR(SUMPRODUCT(--(E1403=$O$1:$O$542))>0,E1403=0),0,1)","v":0}]
["375.100.2600.6600.100","SUPPLIES & MATERIALS",{"v":0,"d":"$0.00"},null,"375",null,"375","100","2600","6600","100",null,"100",{"$nulls":13},{"$f":"IF(OR(SUMPRODUCT(--(E1404=$O$1:$O$542))>0,E1404=0),0,1)","v":0}]
["375.100.2600.6610.100","General Supplies ",{"v":0,"d":"$0.00"},null,"375",null,"375","100","2600","6610","100",null,"100",{"$nulls":13},{"$f":"IF(OR(SUMPRODUCT(--(E1405=$O$1:$O$542))>0,E1405=0),0,1)","v":0}]
["375.100.2600.6620.100","Energy",{"v":0,"d":"$0.00"},null,"375",null,"375","100","2600","6620","100",null,"100",{"$nulls":13},{"$f":"IF(OR(SUMPRODUCT(--(E1406=$O$1:$O$542))>0,E1406=0),0,1)","v":0}]
["375.100.2600.6622.100","Electricity ",{"v":0,"d":"$0.00"},null,"375",null,"375","100","2600","6622","100",null,"100",{"$nulls":13},{"$f":"IF(OR(SUMPRODUCT(--(E1407=$O$1:$O$542))>0,E1407=0),0,1)","v":0}]
["375.100.2600.6720.100","Buildings",{"v":0,"d":"$0.00"},null,"375",null,"375","100","2600","6720","100",null,"100",{"$nulls":13},{"$f":"IF(OR(SUMPRODUCT(--(E1408=$O$1:$O$542))>0,E1408=0),0,1)","v":0}]
["375.100.2620.6622.100","Electricity ",{"v":0,"d":"$0.00"},null,"375",null,"375","100","2620","6622","100",null,"100",{"$nulls":13},{"$f":"IF(OR(SUMPRODUCT(--(E1409=$O$1:$O$542))>0,E1409=0),0,1)","v":0}]
["375.100.2660.6430.100","Repair and Maintenance S",{"v":0,"d":"$0.00"},null,"375",null,"375","100","2660","6430","100",null,"100",{"$nulls":13},{"$f":"IF(OR(SUMPRODUCT(--(E1410=$O$1:$O$542))>0,E1410=0),0,1)","v":0}]
["375.100.2700.6150.100","Classified Salaries",{"v":0,"d":"$0.00"},null,{"$f":"IF(AND(F1411<>\"\",F1411=G1411),\"ERROR\",IF(AND(F1411<>\"\",F1411<>G1411),F1411,G1411))","v":"375"},null,"375","100","2700","6150","100",null,{"$f":"IF(L1411<>\"\",L1411,K1411)","v":"100"},{"$nulls":13},{"$f":"IF(OR(SUMPRODUCT(--(E1411=$O$1:$O$542))>0,E1411=0),0,1)","v":0}]
["375.100.2700.6221.100","Social Security - OASDI",{"v":0,"d":"$0.00"},null,"375",null,"375","100","2700","6221","100",null,"100",{"$nulls":13},{"$f":"IF(OR(SUMPRODUCT(--(E1412=$O$1:$O$542))>0,E1412=0),0,1)","v":0}]
["375.100.2700.6222.100","Medicare - Hospital Insurance ",{"v":0,"d":"$0.00"},null,"375",null,"375","100","2700","6222","100",null,"100",{"$nulls":13},{"$f":"IF(OR(SUMPRODUCT(--(E1413=$O$1:$O$542))>0,E1413=0),0,1)","v":0}]
["375.100.2700.6231.100","State Retirement ",{"v":0,"d":"$0.00"},null,"375",null,"375","100","2700","6231","100",null,"100",{"$nulls":13},{"$f":"IF(OR(SUMPRODUCT(--(E1414=$O$1:$O$542))>0,E1414=0),0,1)","v":0}]
["375.100.2700.6232.100","Long Term Disability",{"v":0,"d":"$0.00"},null,"375",null,"375","100","2700","6232","100",null,"100",{"$nulls":13},{"$f":"IF(OR(SUMPRODUCT(--(E1415=$O$1:$O$542))>0,E1415=0),0,1)","v":0}]
["375.100.2700.6260.100","Worker's Compensation",{"v":0,"d":"$0.00"},null,"375",null,"375","100","2700","6260","100",null,"100",{"$nulls":13},{"$f":"IF(OR(SUMPRODUCT(--(E1416=$O$1:$O$542))>0,E1416=0),0,1)","v":0}]
["375.100.2700.6330.100","Other Professional Services",{"v":0,"d":"$0.00"},null,"375",null,"375","100","2700","6330","100",null,"100",{"$nulls":13},{"$f":"IF(OR(SUMPRODUCT(--(E1417=$O$1:$O$542))>0,E1417=0),0,1)","v":0}]
["375.100.2700.6500.100","Other Purchased Services",{"v":0,"d":"$0.00"},null,"375",null,"375","100","2700","6500","100",null,"100",{"$nulls":13},{"$f":"IF(OR(SUMPRODUCT(--(E1418=$O$1:$O$542))>0,E1418=0),0,1)","v":0}]
["375.100.2700.6600.100","Cash",{"v":0,"d":"$0.00"},null,"375",null,"375","100","2700","6600","100",null,"100",{"$nulls":13},{"$f":"IF(OR(SUMPRODUCT(--(E1419=$O$1:$O$542))>0,E1419=0),0,1)","v":0}]
["375.100.2700.6700.100","Property",{"v":0,"d":"$0.00"},null,"375",null,"375","100","2700","6700","100",null,"100",{"$nulls":13},{"$f":"IF(OR(SUMPRODUCT(--(E1420=$O$1:$O$542))>0,E1420=0),0,1)","v":0}]
["375.100.2700.6732.100","Vehicles ",{"v":0,"d":"$0.00"},null,"375",null,"375","100","2700","6732","100",null,"100",{"$nulls":13},{"$f":"IF(OR(SUMPRODUCT(--(E1421=$O$1:$O$542))>0,E1421=0),0,1)","v":0}]
["375.100.3000.6400.100","Purchased Property Services ",{"v":0,"d":"$0.00"},null,"375",null,"375","100","3000","6400","100",null,"100",{"$nulls":13},{"$f":"IF(OR(SUMPRODUCT(--(E1422=$O$1:$O$542))>0,E1422=0),0,1)","v":0}]
["375.100.4000.6643.100","Instructional Aids ",{"v":0,"d":"$0.00"},null,"375",null,"375","100","4000","6643","100",null,"100",{"$nulls":13},{"$f":"IF(OR(SUMPRODUCT(--(E1423=$O$1:$O$542))>0,E1423=0),0,1)","v":0}]
["375.100.5000.6910.100","Indirect Costs ",{"v":0,"d":"$0.00"},null,"375",null,"375","100","5000","6910","100",null,"100",{"$nulls":13},{"$f":"IF(OR(SUMPRODUCT(--(E1424=$O$1:$O$542))>0,E1424=0),0,1)","v":0}]
["375.199.1000.6112.100","Teachers",{"v":0,"d":"$0.00"},null,"375",null,"375","199","1000","6112","100",null,"100",{"$nulls":13},{"$f":"IF(OR(SUMPRODUCT(--(E1425=$O$1:$O$542))>0,E1425=0),0,1)","v":0}]
["375.199.1000.6113.100","Substitute",{"v":0,"d":"$0.00"},null,"375",null,"375","199","1000","6113","100",null,"100",{"$nulls":13},{"$f":"IF(OR(SUMPRODUCT(--(E1426=$O$1:$O$542))>0,E1426=0),0,1)","v":0}]
["375.199.1000.6150.100","Classified Salaries ",{"v":0,"d":"$0.00"},null,"375",null,"375","199","1000","6150","100",null,"100",{"$nulls":13},{"$f":"IF(OR(SUMPRODUCT(--(E1427=$O$1:$O$542))>0,E1427=0),0,1)","v":0}]
["375.199.1000.6200.100","Personal Services - Employee Benefits",{"v":0,"d":"$0.00"},null,"375",null,"375","199","1000","6200","100",null,"100",{"$nulls":13},{"$f":"IF(OR(SUMPRODUCT(--(E1428=$O$1:$O$542))>0,E1428=0),0,1)","v":0}]
["375.199.1000.6221.100","Social Security - OASDI",{"v":0,"d":"$0.00"},null,"375",null,"375","199","1000","6221","100",null,"100",{"$nulls":13},{"$f":"IF(OR(SUMPRODUCT(--(E1429=$O$1:$O$542))>0,E1429=0),0,1)","v":0}]
["375.199.1000.6222.100","Medicare - Hospital Insurance",{"v":0,"d":"$0.00"},null,"375",null,"375","199","1000","6222","100",null,"100",{"$nulls":13},{"$f":"IF(OR(SUMPRODUCT(--(E1430=$O$1:$O$542))>0,E1430=0),0,1)","v":0}]
["375.199.1000.6231.100","State Retirement",{"v":0,"d":"$0.00"},null,"375",null,"375","199","1000","6231","100",null,"100",{"$nulls":13},{"$f":"IF(OR(SUMPRODUCT(--(E1431=$O$1:$O$542))>0,E1431=0),0,1)","v":0}]
["375.199.1000.6232.100","Long-Term Disability",{"v":0,"d":"$0.00"},null,"375",null,"375","199","1000","6232","100",null,"100",{"$nulls":13},{"$f":"IF(OR(SUMPRODUCT(--(E1432=$O$1:$O$542))>0,E1432=0),0,1)","v":0}]
["375.199.1000.6260.100","Worker's Compensation",{"v":0,"d":"$0.00"},null,"375",null,"375","199","1000","6260","100",null,"100",{"$nulls":13},{"$f":"IF(OR(SUMPRODUCT(--(E1433=$O$1:$O$542))>0,E1433=0),0,1)","v":0}]
["375.199.1000.6310.100","Official/Administrative Services",{"v":0,"d":"$0.00"},null,"375",null,"375","199","1000","6310","100",null,"100",{"$nulls":13},{"$f":"IF(OR(SUMPRODUCT(--(E1434=$O$1:$O$542))>0,E1434=0),0,1)","v":0}]
["375.199.1000.6500.000","Other Purchased Services",{"v":0,"d":"$0.00"},null,"375",null,"375","199","1000","6500","000",null,"000",{"$nulls":13},{"$f":"IF(OR(SUMPRODUCT(--(E1435=$O$1:$O$542))>0,E1435=0),0,1)","v":0}]
["375.199.1000.6560.100","Tuition",{"v":0,"d":"$0.00"},null,"375",null,"375","199","1000","6560","100",null,"100",{"$nulls":13},{"$f":"IF(OR(SUMPRODUCT(--(E1436=$O$1:$O$542))>0,E1436=0),0,1)","v":0}]
["375.199.1000.6600.100","Supplies",{"v":0,"d":"$0.00"},null,"375",null,"375","199","1000","6600","100",null,"100",{"$nulls":13},{"$f":"IF(OR(SUMPRODUCT(--(E1437=$O$1:$O$542))>0,E1437=0),0,1)","v":0}]
["375.199.1000.6700.100","Property",{"v":0,"d":"$0.00"},null,"375",null,"375","199","1000","6700","100",null,"100",{"$nulls":13},{"$f":"IF(OR(SUMPRODUCT(--(E1438=$O$1:$O$542))>0,E1438=0),0,1)","v":0}]
["375.199.2400.6150.100","Classified Salaries",{"v":0,"d":"$0.00"},null,"375",null,"375","199","2400","6150","100",null,"100",{"$nulls":13},{"$f":"IF(OR(SUMPRODUCT(--(E1439=$O$1:$O$542))>0,E1439=0),0,1)","v":0}]
["375.199.2400.6221.100","Social Security - OASDI",{"v":0,"d":"$0.00"},null,"375",null,"375","199","2400","6221","100",null,"100",{"$nulls":13},{"$f":"IF(OR(SUMPRODUCT(--(E1440=$O$1:$O$542))>0,E1440=0),0,1)","v":0}]
["375.199.2400.6222.100","Medicare - Hospital Insurance",{"v":0,"d":"$0.00"},null,"375",null,"375","199","2400","6222","100",null,"100",{"$nulls":13},{"$f":"IF(OR(SUMPRODUCT(--(E1441=$O$1:$O$542))>0,E1441=0),0,1)","v":0}]
["375.199.2400.6231.100","State Retirement",{"v":0,"d":"$0.00"},null,"375",null,"375","199","2400","6231","100",null,"100",{"$nulls":13},{"$f":"IF(OR(SUMPRODUCT(--(E1442=$O$1:$O$542))>0,E1442=0),0,1)","v":0}]
["375.199.2400.6232.100","Long-Term Disability",{"v":0,"d":"$0.00"},null,"375",null,"375","199","2400","6232","100",null,"100",{"$nulls":13},{"$f":"IF(OR(SUMPRODUCT(--(E1443=$O$1:$O$542))>0,E1443=0),0,1)","v":0}]
["375.199.2400.6250.100","Unemployment Insurance",{"v":0,"d":"$0.00"},null,"375",null,"375","199","2400","6250","100",null,"100",{"$nulls":13},{"$f":"IF(OR(SUMPRODUCT(--(E1444=$O$1:$O$542))>0,E1444=0),0,1)","v":0}]
["375.199.2400.6260.100","Worker's Compensation",{"v":0,"d":"$0.00"},null,"375",null,"375","199","2400","6260","100",null,"100",{"$nulls":13},{"$f":"IF(OR(SUMPRODUCT(--(E1445=$O$1:$O$542))>0,E1445=0),0,1)","v":0}]
["375.199.2400.6300.100","Purchased Professional and Technical Services",{"v":0,"d":"$0.00"},null,"375",null,"375","199","2400","6300","100",null,"100",{"$nulls":13},{"$f":"IF(OR(SUMPRODUCT(--(E1446=$O$1:$O$542))>0,E1446=0),0,1)","v":0}]
["375.199.2600.6150.100","Classified Salaries",{"v":0,"d":"$0.00"},null,"375",null,"375","199","2600","6150","100",null,"100",{"$nulls":13},{"$f":"IF(OR(SUMPRODUCT(--(E1447=$O$1:$O$542))>0,E1447=0),0,1)","v":0}]
["375.199.2600.6221.100","Social Security - OASDI",{"v":0,"d":"$0.00"},null,"375",null,"375","199","2600","6221","100",null,"100",{"$nulls":13},{"$f":"IF(OR(SUMPRODUCT(--(E1448=$O$1:$O$542))>0,E1448=0),0,1)","v":0}]
["375.199.2600.6222.100","Medicare - Hospital Insurance",{"v":0,"d":"$0.00"},null,"375",null,"375","199","2600","6222","100",null,"100",{"$nulls":13},{"$f":"IF(OR(SUMPRODUCT(--(E1449=$O$1:$O$542))>0,E1449=0),0,1)","v":0}]
["375.199.2600.6231.100","State Retirement",{"v":0,"d":"$0.00"},null,"375",null,"375","199","2600","6231","100",null,"100",{"$nulls":13},{"$f":"IF(OR(SUMPRODUCT(--(E1450=$O$1:$O$542))>0,E1450=0),0,1)","v":0}]
["375.199.2600.6232.100","Long-Term Disability",{"v":0,"d":"$0.00"},null,"375",null,"375","199","2600","6232","100",null,"100",{"$nulls":13},{"$f":"IF(OR(SUMPRODUCT(--(E1451=$O$1:$O$542))>0,E1451=0),0,1)","v":0}]
["375.199.2600.6260.100","Worker's Compensation",{"v":0,"d":"$0.00"},null,"375",null,"375","199","2600","6260","100",null,"100",{"$nulls":13},{"$f":"IF(OR(SUMPRODUCT(--(E1452=$O$1:$O$542))>0,E1452=0),0,1)","v":0}]
["375.199.2600.6600.100","Supplies",{"v":0,"d":"$0.00"},null,"375",null,"375","199","2600","6600","100",null,"100",{"$nulls":13},{"$f":"IF(OR(SUMPRODUCT(--(E1453=$O$1:$O$542))>0,E1453=0),0,1)","v":0}]
["375.199.2600.6622.100","Electricity",{"v":0,"d":"$0.00"},null,"375",null,"375","199","2600","6622","100",null,"100",{"$nulls":13},{"$f":"IF(OR(SUMPRODUCT(--(E1454=$O$1:$O$542))>0,E1454=0),0,1)","v":0}]
["375.200.1000.6110.100","Certified Salaries ",{"v":0,"d":"$0.00"},null,"375",null,"375","200","1000","6110","100",null,"100",{"$nulls":13},{"$f":"IF(OR(SUMPRODUCT(--(E1455=$O$1:$O$542))>0,E1455=0),0,1)","v":0}]
["375.200.1000.6112.100","SALARIES - CERTIFIED",{"v":0,"d":"$0.00"},null,"375",null,"375","200","1000","6112","100",null,"100",{"$nulls":13},{"$f":"IF(OR(SUMPRODUCT(--(E1456=$O$1:$O$542))>0,E1456=0),0,1)","v":0}]
["375.200.1000.6113.100","Substitute",{"v":0,"d":"$0.00"},null,"375",null,"375","200","1000","6113","100",null,"100",{"$nulls":13},{"$f":"IF(OR(SUMPRODUCT(--(E1457=$O$1:$O$542))>0,E1457=0),0,1)","v":0}]
["375.200.1000.6150.100","Classified Salaries ",{"v":0,"d":"$0.00"},null,"375",null,"375","200","1000","6150","100",null,"100",{"$nulls":13},{"$f":"IF(OR(SUMPRODUCT(--(E1458=$O$1:$O$542))>0,E1458=0),0,1)","v":0}]
["375.200.1000.6200.100","Personal Services - Empl",{"v":0,"d":"$0.00"},null,"375",null,"375","200","1000","6200","100",null,"100",{"$nulls":13},{"$f":"IF(OR(SUMPRODUCT(--(E1459=$O$1:$O$542))>0,E1459=0),0,1)","v":0}]
["375.200.1000.6210.100","INSURANCE",{"v":0,"d":"$0.00"},null,"375",null,"375","200","1000","6210","100",null,"100",{"$nulls":13},{"$f":"IF(OR(SUMPRODUCT(--(E1460=$O$1:$O$542))>0,E1460=0),0,1)","v":0}]
["375.200.1000.6220.100","OASI / MEDICARE",{"v":0,"d":"$0.00"},null,"375",null,"375","200","1000","6220","100",null,"100",{"$nulls":13},{"$f":"IF(OR(SUMPRODUCT(--(E1461=$O$1:$O$542))>0,E1461=0),0,1)","v":0}]
["375.200.1000.6221.100","OASI - SOCIAL SECURITY",{"v":0,"d":"$0.00"},null,"375",null,"375","200","1000","6221","100",null,"100",{"$nulls":13},{"$f":"IF(OR(SUMPRODUCT(--(E1462=$O$1:$O$542))>0,E1462=0),0,1)","v":0}]
["375.200.1000.6222.100","OASI - MEDICARE",{"v":0,"d":"$0.00"},null,"375",null,"375","200","1000","6222","100",null,"100",{"$nulls":13},{"$f":"IF(OR(SUMPRODUCT(--(E1463=$O$1:$O$542))>0,E1463=0),0,1)","v":0}]
["375.200.1000.6230.100","STATE RETIREMENT CONTRIB",{"v":0,"d":"$0.00"},null,"375",null,"375","200","1000","6230","100",null,"100",{"$nulls":13},{"$f":"IF(OR(SUMPRODUCT(--(E1464=$O$1:$O$542))>0,E1464=0),0,1)","v":0}]
["375.200.1000.6231.100","State Retirement ",{"v":0,"d":"$0.00"},null,"375",null,"375","200","1000","6231","100",null,"100",{"$nulls":13},{"$f":"IF(OR(SUMPRODUCT(--(E1465=$O$1:$O$542))>0,E1465=0),0,1)","v":0}]
["375.200.1000.6232.100","Long Term Disability",{"v":0,"d":"$0.00"},null,"375",null,"375","200","1000","6232","100",null,"100",{"$nulls":13},{"$f":"IF(OR(SUMPRODUCT(--(E1466=$O$1:$O$542))>0,E1466=0),0,1)","v":0}]
["375.200.1000.6260.100","WORKER'S COMPENSATION",{"v":0,"d":"$0.00"},null,"375",null,"375","200","1000","6260","100",null,"100",{"$nulls":13},{"$f":"IF(OR(SUMPRODUCT(--(E1467=$O$1:$O$542))>0,E1467=0),0,1)","v":0}]
["375.200.1000.6300.000","Purchased Professional and Technical Services",{"v":0,"d":"$0.00"},null,"375",null,"375","200","1000","6300","000",null,"000",{"$nulls":13},{"$f":"IF(OR(SUMPRODUCT(--(E1468=$O$1:$O$542))>0,E1468=0),0,1)","v":0}]
["375.200.1000.6300.100","Undesignated",{"v":0,"d":"$0.00"},null,"375",null,"375","200","1000","6300","100",null,"100",{"$nulls":13},{"$f":"IF(OR(SUMPRODUCT(--(E1469=$O$1:$O$542))>0,E1469=0),0,1)","v":0}]
["375.200.1000.6330.100","Other Professional Services",{"v":0,"d":"$0.00"},null,"375",null,"375","200","1000","6330","100",null,"100",{"$nulls":13},{"$f":"IF(OR(SUMPRODUCT(--(E1470=$O$1:$O$542))>0,E1470=0),0,1)","v":0}]
["375.200.1000.6560.100","TUITION",{"v":0,"d":"$0.00"},null,"375",null,"375","200","1000","6560","100",null,"100",{"$nulls":13},{"$f":"IF(OR(SUMPRODUCT(--(E1471=$O$1:$O$542))>0,E1471=0),0,1)","v":0}]
["375.200.1000.6600.100","SUPPLIES & MATERIALS",{"v":0,"d":"$0.00"},null,"375",null,"375","200","1000","6600","100",null,"100",{"$nulls":13},{"$f":"IF(OR(SUMPRODUCT(--(E1472=$O$1:$O$542))>0,E1472=0),0,1)","v":0}]
["375.200.2100.6330.100","Other Professional Services ",{"v":0,"d":"$0.00"},null,"375",null,"375","200","2100","6330","100",null,"100",{"$nulls":13},{"$f":"IF(OR(SUMPRODUCT(--(E1473=$O$1:$O$542))>0,E1473=0),0,1)","v":0}]
["375.200.2100.6560.100","Tuition",{"v":0,"d":"$0.00"},null,"375",null,"375","200","2100","6560","100",null,"100",{"$nulls":13},{"$f":"IF(OR(SUMPRODUCT(--(E1474=$O$1:$O$542))>0,E1474=0),0,1)","v":0}]
["375.200.2100.6600.100","Supplies ",{"v":0,"d":"$0.00"},null,{"$f":"IF(AND(F1475<>\"\",F1475=G1475),\"ERROR\",IF(AND(F1475<>\"\",F1475<>G1475),F1475,G1475))","v":"375"},null,"375","200","2100","6600","100",null,{"$f":"IF(L1475<>\"\",L1475,K1475)","v":"100"},{"$nulls":13},{"$f":"IF(OR(SUMPRODUCT(--(E1475=$O$1:$O$542))>0,E1475=0),0,1)","v":0}]
["375.200.2100.6950.100","RETURN TO STATE",{"v":0,"d":"$0.00"},null,"375",null,"375","200","2100","6950","100",null,"100",{"$nulls":13},{"$f":"IF(OR(SUMPRODUCT(--(E1476=$O$1:$O$542))>0,E1476=0),0,1)","v":0}]
["375.240.1000.1510.000","INTEREST ON INVESTMENTS",{"v":0,"d":"$0.00"},null,"375",null,"375","240","1000","1510","000",null,"000",{"$nulls":13},{"$f":"IF(OR(SUMPRODUCT(--(E1477=$O$1:$O$542))>0,E1477=0),0,1)","v":0}]
["375.240.1000.3200.000","STATE REVENUE",{"v":0,"d":"$0.00"},null,"375",null,"375","240","1000","3200","000",null,"000",{"$nulls":13},{"$f":"IF(OR(SUMPRODUCT(--(E1478=$O$1:$O$542))>0,E1478=0),0,1)","v":0}]
["375.400.2100.6150.100","Classified Salaries ",{"v":0,"d":"$0.00"},null,"375",null,"375","400","2100","6150","100",null,"100",{"$nulls":13},{"$f":"IF(OR(SUMPRODUCT(--(E1479=$O$1:$O$542))>0,E1479=0),0,1)","v":0}]
["375.400.2100.6221.100","Social Security - OASDI",{"v":0,"d":"$0.00"},null,"375",null,"375","400","2100","6221","100",null,"100",{"$nulls":13},{"$f":"IF(OR(SUMPRODUCT(--(E1480=$O$1:$O$542))>0,E1480=0),0,1)","v":0}]
["375.400.2100.6222.100","Medicare - Hospital Insurance ",{"v":0,"d":"$0.00"},null,"375",null,"375","400","2100","6222","100",null,"100",{"$nulls":13},{"$f":"IF(OR(SUMPRODUCT(--(E1481=$O$1:$O$542))>0,E1481=0),0,1)","v":0}]
["375.400.2100.6231.100","State Retirement ",{"v":0,"d":"$0.00"},null,"375",null,"375","400","2100","6231","100",null,"100",{"$nulls":13},{"$f":"IF(OR(SUMPRODUCT(--(E1482=$O$1:$O$542))>0,E1482=0),0,1)","v":0}]
["375.400.2100.6232.100","Long Term Disability",{"v":0,"d":"$0.00"},null,"375",null,"375","400","2100","6232","100",null,"100",{"$nulls":13},{"$f":"IF(OR(SUMPRODUCT(--(E1483=$O$1:$O$542))>0,E1483=0),0,1)","v":0}]
["375.400.2100.6260.100","Worker's Compensation ",{"v":0,"d":"$0.00"},null,"375",null,"375","400","2100","6260","100",null,"100",{"$nulls":13},{"$f":"IF(OR(SUMPRODUCT(--(E1484=$O$1:$O$542))>0,E1484=0),0,1)","v":0}]
["375.400.2700.6150.100","SALARIES - CLASSIFIED",{"v":0,"d":"$0.00"},null,"375",null,"375","400","2700","6150","100",null,"100",{"$nulls":13},{"$f":"IF(OR(SUMPRODUCT(--(E1485=$O$1:$O$542))>0,E1485=0),0,1)","v":0}]
["375.400.2700.6220.100","OASI / MEDICARE",{"v":0,"d":"$0.00"},null,"375",null,"375","400","2700","6220","100",null,"100",{"$nulls":13},{"$f":"IF(OR(SUMPRODUCT(--(E1486=$O$1:$O$542))>0,E1486=0),0,1)","v":0}]
["375.400.2700.6221.100","OASI - SOCIAL SECURITY",{"v":0,"d":"$0.00"},null,"375",null,"375","400","2700","6221","100",null,"100",{"$nulls":13},{"$f":"IF(OR(SUMPRODUCT(--(E1487=$O$1:$O$542))>0,E1487=0),0,1)","v":0}]
["375.400.2700.6222.100","OASI - MEDICARE",{"v":0,"d":"$0.00"},null,"375",null,"375","400","2700","6222","100",null,"100",{"$nulls":13},{"$f":"IF(OR(SUMPRODUCT(--(E1488=$O$1:$O$542))>0,E1488=0),0,1)","v":0}]
["375.400.2700.6230.100","STATE RETIREMENT CONTRIB",{"v":0,"d":"$0.00"},null,"375",null,"375","400","2700","6230","100",null,"100",{"$nulls":13},{"$f":"IF(OR(SUMPRODUCT(--(E1489=$O$1:$O$542))>0,E1489=0),0,1)","v":0}]
["375.400.2700.6231.100","State Retirement ",{"v":0,"d":"$0.00"},null,"375",null,"375","400","2700","6231","100",null,"100",{"$nulls":13},{"$f":"IF(OR(SUMPRODUCT(--(E1490=$O$1:$O$542))>0,E1490=0),0,1)","v":0}]
["375.400.2700.6232.100","Long Term Disability",{"v":0,"d":"$0.00"},null,"375",null,"375","400","2700","6232","100",null,"100",{"$nulls":13},{"$f":"IF(OR(SUMPRODUCT(--(E1491=$O$1:$O$542))>0,E1491=0),0,1)","v":0}]
["375.400.2700.6260.100","WORKER'S COMPENSATION",{"v":0,"d":"$0.00"},null,"375",null,"375","400","2700","6260","100",null,"100",{"$nulls":13},{"$f":"IF(OR(SUMPRODUCT(--(E1492=$O$1:$O$542))>0,E1492=0),0,1)","v":0}]
["375.400.2700.6330.100","Other Professional Services ",{"v":0,"d":"$0.00"},null,"375",null,"375","400","2700","6330","100",null,"100",{"$nulls":13},{"$f":"IF(OR(SUMPRODUCT(--(E1493=$O$1:$O$542))>0,E1493=0),0,1)","v":0}]
["375.400.2700.6340.100","Technical Services ",{"v":0,"d":"$0.00"},null,"375",null,"375","400","2700","6340","100",null,"100",{"$nulls":13},{"$f":"IF(OR(SUMPRODUCT(--(E1494=$O$1:$O$542))>0,E1494=0),0,1)","v":0}]
["375.400.2700.6430.100","Repair and Maintenance Services ",{"v":0,"d":"$0.00"},null,"375",null,"375","400","2700","6430","100",null,"100",{"$nulls":13},{"$f":"IF(OR(SUMPRODUCT(--(E1495=$O$1:$O$542))>0,E1495=0),0,1)","v":0}]
["375.400.2700.6490.100","Other Purchased Property Services ",{"v":0,"d":"$0.00"},null,"375",null,"375","400","2700","6490","100",null,"100",{"$nulls":13},{"$f":"IF(OR(SUMPRODUCT(--(E1496=$O$1:$O$542))>0,E1496=0),0,1)","v":0}]
["375.400.2700.6520.100","Insurance Other than Em",{"v":0,"d":"$0.00"},null,"375",null,"375","400","2700","6520","100",null,"100",{"$nulls":13},{"$f":"IF(OR(SUMPRODUCT(--(E1497=$O$1:$O$542))>0,E1497=0),0,1)","v":0}]
["375.400.2700.6590.100","OTHER EXPENDITURES",{"v":0,"d":"$0.00"},null,"375",null,"375","400","2700","6590","100",null,"100",{"$nulls":13},{"$f":"IF(OR(SUMPRODUCT(--(E1498=$O$1:$O$542))>0,E1498=0),0,1)","v":0}]
["375.400.2700.6600.100","SUPPLIES & MATERIALS",{"v":0,"d":"$0.00"},null,"375",null,"375","400","2700","6600","100",null,"100",{"$nulls":13},{"$f":"IF(OR(SUMPRODUCT(--(E1499=$O$1:$O$542))>0,E1499=0),0,1)","v":0}]
["375.400.2700.6610.100","General Supplies",{"v":0,"d":"$0.00"},null,"375",null,"375","400","2700","6610","100",null,"100",{"$nulls":13},{"$f":"IF(OR(SUMPRODUCT(--(E1500=$O$1:$O$542))>0,E1500=0),0,1)","v":0}]
["375.400.2700.6620.100","Energy",{"v":0,"d":"$0.00"},null,"375",null,"375","400","2700","6620","100",null,"100",{"$nulls":13},{"$f":"IF(OR(SUMPRODUCT(--(E1501=$O$1:$O$542))>0,E1501=0),0,1)","v":0}]
["375.400.2700.6930.100","TRANSFERS OUT - TO M & O",{"v":0,"d":"$0.00"},null,"375",null,"375","400","2700","6930","100",null,"100",{"$nulls":13},{"$f":"IF(OR(SUMPRODUCT(--(E1502=$O$1:$O$542))>0,E1502=0),0,1)","v":0}]
["375.400.2790.6590.100","Miscellaneous Purchased ",{"v":0,"d":"$0.00"},null,"375",null,"375","400","2790","6590","100",null,"100",{"$nulls":13},{"$f":"IF(OR(SUMPRODUCT(--(E1503=$O$1:$O$542))>0,E1503=0),0,1)","v":0}]
["375.530.2200.6600.100","Supplies ",{"v":0,"d":"$0.00"},null,"375",null,"375","530","2200","6600","100",null,"100",{"$nulls":13},{"$f":"IF(OR(SUMPRODUCT(--(E1504=$O$1:$O$542))>0,E1504=0),0,1)","v":0}]
["375.610.1000.6643.100","Instructional Aids ",{"v":0,"d":"$0.00"},null,"375",null,"375","610","1000","6643","100",null,"100",{"$nulls":13},{"$f":"IF(OR(SUMPRODUCT(--(E1505=$O$1:$O$542))>0,E1505=0),0,1)","v":0}]
["375.999.9000.6930.000","Interfund Transfers Out ",{"v":0,"d":"$0.00"},null,"375",null,"375","999","9000","6930","000",null,"000",{"$nulls":13},{"$f":"IF(OR(SUMPRODUCT(--(E1506=$O$1:$O$542))>0,E1506=0),0,1)","v":0}]
["397.000.0000.0103.000","REAP Cash",{"v":-2164.16,"d":"-($2,164.16)"},null,"397",null,"397","000","0000","0103","000",null,"000",{"$nulls":13},{"$f":"IF(OR(SUMPRODUCT(--(E1507=$O$1:$O$542))>0,E1507=0),0,1)","v":0}]
["397.000.0000.0103.100","Cash on Deposit with County Treasurer ",{"v":0,"d":"$0.00"},null,"397",null,"397","000","0000","0103","100",null,"100",{"$nulls":13},{"$f":"IF(OR(SUMPRODUCT(--(E1508=$O$1:$O$542))>0,E1508=0),0,1)","v":0}]
["397.000.0000.0201.000","Accounts Payable",{"v":0,"d":"$0.00"},null,"397",null,"397","000","0000","0201","000",null,"000",{"$nulls":13},{"$f":"IF(OR(SUMPRODUCT(--(E1509=$O$1:$O$542))>0,E1509=0),0,1)","v":0}]
["397.000.0000.0330.000","Unreserved Fund Balance",{"v":-10720.49,"d":"-($10,720.49)"},null,"397",null,"397","000","0000","0330","000",null,"000",{"$nulls":13},{"$f":"IF(OR(SUMPRODUCT(--(E1510=$O$1:$O$542))>0,E1510=0),0,1)","v":0}]
["397.000.0000.1510.000","Interest on Investments ",{"v":0,"d":"$0.00"},null,"397",null,"397","000","0000","1510","000",null,"000",{"$nulls":13},{"$f":"IF(OR(SUMPRODUCT(--(E1511=$O$1:$O$542))>0,E1511=0),0,1)","v":0}]
["397.000.0000.4300.000","Federal Money",{"v":0,"d":"$0.00"},null,"397",null,"397","000","0000","4300","000",null,"000",{"$nulls":13},{"$f":"IF(OR(SUMPRODUCT(--(E1512=$O$1:$O$542))>0,E1512=0),0,1)","v":0}]
["397.000.0000.4500.000","RESTRICTED GRANT FEDERAL",{"v":0,"d":"$0.00"},null,"397",null,"397","000","0000","4500","000",null,"000",{"$nulls":13},{"$f":"IF(OR(SUMPRODUCT(--(E1513=$O$1:$O$542))>0,E1513=0),0,1)","v":0}]
["397.000.0000.4500.100","RESTRICTED GRANT FEDERAL",{"v":0,"d":"$0.00"},null,"397",null,"397","000","0000","4500","100",null,"100",{"$nulls":13},{"$f":"IF(OR(SUMPRODUCT(--(E1514=$O$1:$O$542))>0,E1514=0),0,1)","v":0}]
["397.000.0000.4501.000","(OLD)PRIOR YR  REV DUE FROM STATE",{"v":0,"d":"$0.00"},null,"397",null,"397","000","0000","4501","000",null,"000",{"$nulls":13},{"$f":"IF(OR(SUMPRODUCT(--(E1515=$O$1:$O$542))>0,E1515=0),0,1)","v":0}]
["397.100.1000.0103.100","Cash on Deposit with County Treasurer ",{"v":0,"d":"$0.00"},null,"397",null,"397","100","1000","0103","100",null,"100",{"$nulls":13},{"$f":"IF(OR(SUMPRODUCT(--(E1516=$O$1:$O$542))>0,E1516=0),0,1)","v":0}]
["397.100.1000.6300.100","Time Clock Renewal",{"v":0,"d":"$0.00"},null,"397",null,"397","100","1000","6300","100",null,"100",{"$nulls":13},{"$f":"IF(OR(SUMPRODUCT(--(E1517=$O$1:$O$542))>0,E1517=0),0,1)","v":0}]
["397.100.1000.6310.100","Office/Administrative Se",{"v":0,"d":"$0.00"},null,"397",null,"397","100","1000","6310","100",null,"100",{"$nulls":13},{"$f":"IF(OR(SUMPRODUCT(--(E1518=$O$1:$O$542))>0,E1518=0),0,1)","v":0}]
["397.100.1000.6320.100","Undesignated",{"v":0,"d":"$0.00"},null,"397",null,"397","100","1000","6320","100",null,"100",{"$nulls":13},{"$f":"IF(OR(SUMPRODUCT(--(E1519=$O$1:$O$542))>0,E1519=0),0,1)","v":0}]
["397.100.1000.6330.100","Other Professisonal Serv",{"v":0,"d":"$0.00"},null,"397",null,"397","100","1000","6330","100",null,"100",{"$nulls":13},{"$f":"IF(OR(SUMPRODUCT(--(E1520=$O$1:$O$542))>0,E1520=0),0,1)","v":0}]
["397.100.1000.6530.100","Annual License",{"v":6168.11,"d":"$6,168.11"},null,"397",null,"397","100","1000","6530","100",null,"100",{"$nulls":13},{"$f":"IF(OR(SUMPRODUCT(--(E1521=$O$1:$O$542))>0,E1521=0),0,1)","v":0}]
["397.100.1000.6600.100","Teaching Aid Supplies",{"v":0,"d":"$0.00"},null,"397",null,"397","100","1000","6600","100",null,"100",{"$nulls":13},{"$f":"IF(OR(SUMPRODUCT(--(E1522=$O$1:$O$542))>0,E1522=0),0,1)","v":0}]
["397.100.1000.6610.100","Copy Paper",{"v":0,"d":"$0.00"},null,"397",null,"397","100","1000","6610","100",null,"100",{"$nulls":13},{"$f":"IF(OR(SUMPRODUCT(--(E1523=$O$1:$O$542))>0,E1523=0),0,1)","v":0}]
["397.100.1000.6611.100","Supplies",{"v":0,"d":"$0.00"},null,"397",null,"397","100","1000","6611","100",null,"100",{"$nulls":13},{"$f":"IF(OR(SUMPRODUCT(--(E1524=$O$1:$O$542))>0,E1524=0),0,1)","v":0}]
["397.100.1000.6640.100","Science Kit",{"v":0,"d":"$0.00"},null,"397",null,"397","100","1000","6640","100",null,"100",{"$nulls":13},{"$f":"IF(OR(SUMPRODUCT(--(E1525=$O$1:$O$542))>0,E1525=0),0,1)","v":0}]
["397.100.1000.6641.100","Library Books",{"v":0,"d":"$0.00"},null,"397",null,"397","100","1000","6641","100",null,"100",{"$nulls":13},{"$f":"IF(OR(SUMPRODUCT(--(E1526=$O$1:$O$542))>0,E1526=0),0,1)","v":0}]
["397.100.1000.6642.100","Textbooks ",{"v":0,"d":"$0.00"},null,"397",null,"397","100","1000","6642","100",null,"100",{"$nulls":13},{"$f":"IF(OR(SUMPRODUCT(--(E1527=$O$1:$O$542))>0,E1527=0),0,1)","v":0}]
["397.100.1000.6643.100","Instructional Aids ",{"v":0,"d":"$0.00"},null,"397",null,"397","100","1000","6643","100",null,"100",{"$nulls":13},{"$f":"IF(OR(SUMPRODUCT(--(E1528=$O$1:$O$542))>0,E1528=0),0,1)","v":0}]
["397.100.1000.6700.100","Property",{"v":0,"d":"$0.00"},null,"397",null,"397","100","1000","6700","100",null,"100",{"$nulls":13},{"$f":"IF(OR(SUMPRODUCT(--(E1529=$O$1:$O$542))>0,E1529=0),0,1)","v":0}]
["397.100.1000.6731.100","Furniture & equipment",{"v":0,"d":"$0.00"},null,"397",null,"397","100","1000","6731","100",null,"100",{"$nulls":13},{"$f":"IF(OR(SUMPRODUCT(--(E1530=$O$1:$O$542))>0,E1530=0),0,1)","v":0}]
["397.100.1000.6737.100","Elmo Cameras Teacher Aid",{"v":0,"d":"$0.00"},null,"397",null,"397","100","1000","6737","100",null,"100",{"$nulls":13},{"$f":"IF(OR(SUMPRODUCT(--(E1531=$O$1:$O$542))>0,E1531=0),0,1)","v":0}]
["397.100.2100.0103.100","REAP",{"v":0,"d":"$0.00"},null,"397",null,"397","100","2100","0103","100",null,"100",{"$nulls":13},{"$f":"IF(OR(SUMPRODUCT(--(E1532=$O$1:$O$542))>0,E1532=0),0,1)","v":0}]
["397.100.2100.6700.100","Student Count",{"v":0,"d":"$0.00"},null,"397",null,"397","100","2100","6700","100",null,"100",{"$nulls":13},{"$f":"IF(OR(SUMPRODUCT(--(E1533=$O$1:$O$542))>0,E1533=0),0,1)","v":0}]
["397.100.2220.0103.100","Cash on Deposit with County Treasurer ",{"v":0,"d":"$0.00"},null,"397",null,"397","100","2220","0103","100",null,"100",{"$nulls":13},{"$f":"IF(OR(SUMPRODUCT(--(E1534=$O$1:$O$542))>0,E1534=0),0,1)","v":0}]
["397.100.2220.6700.100","Headphones",{"v":0,"d":"$0.00"},null,"397",null,"397","100","2220","6700","100",null,"100",{"$nulls":13},{"$f":"IF(OR(SUMPRODUCT(--(E1535=$O$1:$O$542))>0,E1535=0),0,1)","v":0}]
["397.100.2400.0103.100","Cash on Deposit with County Treasurer ",{"v":0,"d":"$0.00"},null,"397",null,"397","100","2400","0103","100",null,"100",{"$nulls":13},{"$f":"IF(OR(SUMPRODUCT(--(E1536=$O$1:$O$542))>0,E1536=0),0,1)","v":0}]
["397.100.2400.6310.100","Official/Administrative ",{"v":0,"d":"$0.00"},null,"397",null,"397","100","2400","6310","100",null,"100",{"$nulls":13},{"$f":"IF(OR(SUMPRODUCT(--(E1537=$O$1:$O$542))>0,E1537=0),0,1)","v":0}]
["397.100.2400.6531.100","E-Rate",{"v":0,"d":"$0.00"},null,"397",null,"397","100","2400","6531","100",null,"100",{"$nulls":13},{"$f":"IF(OR(SUMPRODUCT(--(E1538=$O$1:$O$542))>0,E1538=0),0,1)","v":0}]
["397.100.2400.6610.100","General Supplies ",{"v":0,"d":"$0.00"},null,{"$f":"IF(AND(F1539<>\"\",F1539=G1539),\"ERROR\",IF(AND(F1539<>\"\",F1539<>G1539),F1539,G1539))","v":"397"},null,"397","100","2400","6610","100",null,{"$f":"IF(L1539<>\"\",L1539,K1539)","v":"100"},{"$nulls":13},{"$f":"IF(OR(SUMPRODUCT(--(E1539=$O$1:$O$542))>0,E1539=0),0,1)","v":0}]
["397.100.2500.0103.100","Cash on Deposit with County Treasurer ",{"v":0,"d":"$0.00"},null,"397",null,"397","100","2500","0103","100",null,"100",{"$nulls":13},{"$f":"IF(OR(SUMPRODUCT(--(E1540=$O$1:$O$542))>0,E1540=0),0,1)","v":0}]
["397.100.2500.6300.100","router install",{"v":6716.54,"d":"$6,716.54"},null,"397",null,"397","100","2500","6300","100",null,"100",{"$nulls":13},{"$f":"IF(OR(SUMPRODUCT(--(E1541=$O$1:$O$542))>0,E1541=0),0,1)","v":0}]
["397.100.2500.6340.100","CISCO Switch",{"v":0,"d":"$0.00"},null,"397",null,"397","100","2500","6340","100",null,"100",{"$nulls":13},{"$f":"IF(OR(SUMPRODUCT(--(E1542=$O$1:$O$542))>0,E1542=0),0,1)","v":0}]
["397.100.4000.6643.100","Instructional Aids ",{"v":0,"d":"$0.00"},null,"397",null,"397","100","4000","6643","100",null,"100",{"$nulls":13},{"$f":"IF(OR(SUMPRODUCT(--(E1543=$O$1:$O$542))>0,E1543=0),0,1)","v":0}]
["397.200.1000.6300.100","Teaching Kid",{"v":0,"d":"$0.00"},null,"397",null,"397","200","1000","6300","100",null,"100",{"$nulls":13},{"$f":"IF(OR(SUMPRODUCT(--(E1544=$O$1:$O$542))>0,E1544=0),0,1)","v":0}]
["410.000.0000.0103.000","CASH ON DEPOSIT WITH TREAS",{"v":0,"d":"$0.00"},null,"410",null,"410","000","0000","0103","000",null,"000",{"$nulls":13},{"$f":"IF(OR(SUMPRODUCT(--(E1545=$O$1:$O$542))>0,E1545=0),0,1)","v":0}]
["410.000.0000.0201.000","Accounts Payable",{"v":0,"d":"$0.00"},null,"410",null,"410","000","0000","0201","000",null,"000",{"$nulls":13},{"$f":"IF(OR(SUMPRODUCT(--(E1546=$O$1:$O$542))>0,E1546=0),0,1)","v":0}]
["410.000.0000.0222.000","Social Security - OASDI",{"v":0,"d":"$0.00"},null,"410",null,"410","000","0000","0222","000",null,"000",{"$nulls":13},{"$f":"IF(OR(SUMPRODUCT(--(E1547=$O$1:$O$542))>0,E1547=0),0,1)","v":0}]
["410.000.0000.0223.000","Medicare",{"v":0,"d":"$0.00"},null,"410",null,"410","000","0000","0223","000",null,"000",{"$nulls":13},{"$f":"IF(OR(SUMPRODUCT(--(E1548=$O$1:$O$542))>0,E1548=0),0,1)","v":0}]
["410.000.0000.0224.000","State Retirement System Contributio",{"v":0,"d":"$0.00"},null,"410",null,"410","000","0000","0224","000",null,"000",{"$nulls":13},{"$f":"IF(OR(SUMPRODUCT(--(E1549=$O$1:$O$542))>0,E1549=0),0,1)","v":0}]
["410.000.0000.0241.000","Federal Income Taxes",{"v":0,"d":"$0.00"},null,"410",null,"410","000","0000","0241","000",null,"000",{"$nulls":13},{"$f":"IF(OR(SUMPRODUCT(--(E1550=$O$1:$O$542))>0,E1550=0),0,1)","v":0}]
["410.000.0000.0242.000","State Income Taxes",{"v":0,"d":"$0.00"},null,"410",null,"410","000","0000","0242","000",null,"000",{"$nulls":13},{"$f":"IF(OR(SUMPRODUCT(--(E1551=$O$1:$O$542))>0,E1551=0),0,1)","v":0}]
["410.000.0000.0243.000","Social Security - OASDI",{"v":0,"d":"$0.00"},null,"410",null,"410","000","0000","0243","000",null,"000",{"$nulls":13},{"$f":"IF(OR(SUMPRODUCT(--(E1552=$O$1:$O$542))>0,E1552=0),0,1)","v":0}]
["410.000.0000.0244.000","Medicare - Hospital Insurance",{"v":0,"d":"$0.00"},null,"410",null,"410","000","0000","0244","000",null,"000",{"$nulls":13},{"$f":"IF(OR(SUMPRODUCT(--(E1553=$O$1:$O$542))>0,E1553=0),0,1)","v":0}]
["410.000.0000.0245.000","State Retirement Contributions",{"v":0,"d":"$0.00"},null,"410",null,"410","000","0000","0245","000",null,"000",{"$nulls":13},{"$f":"IF(OR(SUMPRODUCT(--(E1554=$O$1:$O$542))>0,E1554=0),0,1)","v":0}]
["410.000.0000.0246.000","Long Term Disability",{"v":0,"d":"$0.00"},null,"410",null,"410","000","0000","0246","000",null,"000",{"$nulls":13},{"$f":"IF(OR(SUMPRODUCT(--(E1555=$O$1:$O$542))>0,E1555=0),0,1)","v":0}]
["410.000.0000.0250.000","Deferred Revenues",{"v":0,"d":"$0.00"},null,"410",null,"410","000","0000","0250","000",null,"000",{"$nulls":13},{"$f":"IF(OR(SUMPRODUCT(--(E1556=$O$1:$O$542))>0,E1556=0),0,1)","v":0}]
["410.000.0000.0250.100","Deferred Revenues",{"v":0,"d":"$0.00"},null,"410",null,"410","000","0000","0250","100",null,"100",{"$nulls":13},{"$f":"IF(OR(SUMPRODUCT(--(E1557=$O$1:$O$542))>0,E1557=0),0,1)","v":0}]
["410.000.0000.0330.000","Unreserved Fund Balance",{"v":0,"d":"$0.00"},null,"410",null,"410","000","0000","0330","000",null,"000",{"$nulls":13},{"$f":"IF(OR(SUMPRODUCT(--(E1558=$O$1:$O$542))>0,E1558=0),0,1)","v":0}]
["410.000.0000.1510.000","INTEREST ON INVESTMENTS",{"v":0,"d":"$0.00"},null,"410",null,"410","000","0000","1510","000",null,"000",{"$nulls":13},{"$f":"IF(OR(SUMPRODUCT(--(E1559=$O$1:$O$542))>0,E1559=0),0,1)","v":0}]
["410.000.0000.2500.100","Central Services",{"v":0,"d":"$0.00"},null,"410",null,"410","000","0000","2500","100",null,"100",{"$nulls":13},{"$f":"IF(OR(SUMPRODUCT(--(E1560=$O$1:$O$542))>0,E1560=0),0,1)","v":0}]
["410.000.0000.3200.000","STATE REVENUE",{"v":0,"d":"$0.00"},null,"410",null,"410","000","0000","3200","000",null,"000",{"$nulls":13},{"$f":"IF(OR(SUMPRODUCT(--(E1561=$O$1:$O$542))>0,E1561=0),0,1)","v":0}]
["410.000.0000.6221.000","Social Security - OASDI",{"v":0,"d":"$0.00"},null,"410",null,"410","000","0000","6221","000",null,"000",{"$nulls":13},{"$f":"IF(OR(SUMPRODUCT(--(E1562=$O$1:$O$542))>0,E1562=0),0,1)","v":0}]
["410.000.0000.6222.000","Medicare - Hospital Insurance ",{"v":0,"d":"$0.00"},null,"410",null,"410","000","0000","6222","000",null,"000",{"$nulls":13},{"$f":"IF(OR(SUMPRODUCT(--(E1563=$O$1:$O$542))>0,E1563=0),0,1)","v":0}]
["410.000.0000.6231.000","State Retirement ",{"v":0,"d":"$0.00"},null,"410",null,"410","000","0000","6231","000",null,"000",{"$nulls":13},{"$f":"IF(OR(SUMPRODUCT(--(E1564=$O$1:$O$542))>0,E1564=0),0,1)","v":0}]
["410.000.0000.6232.000","Long Term Disability",{"v":0,"d":"$0.00"},null,"410",null,"410","000","0000","6232","000",null,"000",{"$nulls":13},{"$f":"IF(OR(SUMPRODUCT(--(E1565=$O$1:$O$542))>0,E1565=0),0,1)","v":0}]
["410.100.0000.6700.100","CAPITAL EXPENDITURES",{"v":0,"d":"$0.00"},null,"410",null,"410","100","0000","6700","100",null,"100",{"$nulls":13},{"$f":"IF(OR(SUMPRODUCT(--(E1566=$O$1:$O$542))>0,E1566=0),0,1)","v":0}]
["410.100.1000.6600.100","Supplies",{"v":0,"d":"$0.00"},null,"410",null,"410","100","1000","6600","100",null,"100",{"$nulls":13},{"$f":"IF(OR(SUMPRODUCT(--(E1567=$O$1:$O$542))>0,E1567=0),0,1)","v":0}]
["410.100.1000.6641.100","Library Books",{"v":0,"d":"$0.00"},null,"410",null,"410","100","1000","6641","100",null,"100",{"$nulls":13},{"$f":"IF(OR(SUMPRODUCT(--(E1568=$O$1:$O$542))>0,E1568=0),0,1)","v":0}]
["410.100.2100.6600.100","Supplies ",{"v":0,"d":"$0.00"},null,"410",null,"410","100","2100","6600","100",null,"100",{"$nulls":13},{"$f":"IF(OR(SUMPRODUCT(--(E1569=$O$1:$O$542))>0,E1569=0),0,1)","v":0}]
["420.000.0000.0103.000","Cash on Deposit with Cou",{"v":0,"d":"$0.00"},null,"420",null,"420","000","0000","0103","000",null,"000",{"$nulls":13},{"$f":"IF(OR(SUMPRODUCT(--(E1570=$O$1:$O$542))>0,E1570=0),0,1)","v":0}]
["420.000.0000.0250.000","Deferred Revenues",{"v":0,"d":"$0.00"},null,"420",null,"420","000","0000","0250","000",null,"000",{"$nulls":13},{"$f":"IF(OR(SUMPRODUCT(--(E1571=$O$1:$O$542))>0,E1571=0),0,1)","v":0}]
["420.000.0000.0330.000","Unreserved Fund Balance",{"v":0,"d":"$0.00"},null,"420",null,"420","000","0000","0330","000",null,"000",{"$nulls":13},{"$f":"IF(OR(SUMPRODUCT(--(E1572=$O$1:$O$542))>0,E1572=0),0,1)","v":0}]
["420.000.0000.1510.000","Interest on Investments ",{"v":0,"d":"$0.00"},null,"420",null,"420","000","0000","1510","000",null,"000",{"$nulls":13},{"$f":"IF(OR(SUMPRODUCT(--(E1573=$O$1:$O$542))>0,E1573=0),0,1)","v":0}]
["420.000.0000.3200.000","Restricted Grants-in-Aid",{"v":0,"d":"$0.00"},null,"420",null,"420","000","0000","3200","000",null,"000",{"$nulls":13},{"$f":"IF(OR(SUMPRODUCT(--(E1574=$O$1:$O$542))>0,E1574=0),0,1)","v":0}]
["420.100.2100.6300.100","Purchased Professional and Technica",{"v":0,"d":"$0.00"},null,"420",null,"420","100","2100","6300","100",null,"100",{"$nulls":13},{"$f":"IF(OR(SUMPRODUCT(--(E1575=$O$1:$O$542))>0,E1575=0),0,1)","v":0}]
["430.000.0000.0103.000","CASH ON DEPOSIT WITH TREAS",{"v":0,"d":"$0.00"},null,"430",null,"430","000","0000","0103","000",null,"000",{"$nulls":13},{"$f":"IF(OR(SUMPRODUCT(--(E1576=$O$1:$O$542))>0,E1576=0),0,1)","v":0}]
["430.000.0000.0201.000","Accounts Payable",{"v":0,"d":"$0.00"},null,"430",null,"430","000","0000","0201","000",null,"000",{"$nulls":13},{"$f":"IF(OR(SUMPRODUCT(--(E1577=$O$1:$O$542))>0,E1577=0),0,1)","v":0}]
["430.000.0000.0250.000","Deferred Revenues",{"v":0,"d":"$0.00"},null,"430",null,"430","000","0000","0250","000",null,"000",{"$nulls":13},{"$f":"IF(OR(SUMPRODUCT(--(E1578=$O$1:$O$542))>0,E1578=0),0,1)","v":0}]
["430.000.0000.0330.000","Unreserved Fund Balance",{"v":0,"d":"$0.00"},null,"430",null,"430","000","0000","0330","000",null,"000",{"$nulls":13},{"$f":"IF(OR(SUMPRODUCT(--(E1579=$O$1:$O$542))>0,E1579=0),0,1)","v":0}]
["430.000.0000.1510.000","INTEREST ON INVESTMENTS",{"v":0,"d":"$0.00"},null,"430",null,"430","000","0000","1510","000",null,"000",{"$nulls":13},{"$f":"IF(OR(SUMPRODUCT(--(E1580=$O$1:$O$542))>0,E1580=0),0,1)","v":0}]
["430.000.0000.2500.100","Central Services",{"v":0,"d":"$0.00"},null,"430",null,"430","000","0000","2500","100",null,"100",{"$nulls":13},{"$f":"IF(OR(SUMPRODUCT(--(E1581=$O$1:$O$542))>0,E1581=0),0,1)","v":0}]
["430.000.0000.3200.000","STATE REVENUE",{"v":0,"d":"$0.00"},null,"430",null,"430","000","0000","3200","000",null,"000",{"$nulls":13},{"$f":"IF(OR(SUMPRODUCT(--(E1582=$O$1:$O$542))>0,E1582=0),0,1)","v":0}]
["430.100.1000.6300.100","Purchased Professional and Technica",{"v":0,"d":"$0.00"},null,"430",null,"430","100","1000","6300","100",null,"100",{"$nulls":13},{"$f":"IF(OR(SUMPRODUCT(--(E1583=$O$1:$O$542))>0,E1583=0),0,1)","v":0}]
["430.100.1000.6400.100","Purchased Property Services ",{"v":0,"d":"$0.00"},null,"430",null,"430","100","1000","6400","100",null,"100",{"$nulls":13},{"$f":"IF(OR(SUMPRODUCT(--(E1584=$O$1:$O$542))>0,E1584=0),0,1)","v":0}]
["430.100.1000.6600.100","Supplies ",{"v":0,"d":"$0.00"},null,"430",null,"430","100","1000","6600","100",null,"100",{"$nulls":13},{"$f":"IF(OR(SUMPRODUCT(--(E1585=$O$1:$O$542))>0,E1585=0),0,1)","v":0}]
["430.100.2100.6300.100","Purchased Professional and Technica",{"v":0,"d":"$0.00"},null,"430",null,"430","100","2100","6300","100",null,"100",{"$nulls":13},{"$f":"IF(OR(SUMPRODUCT(--(E1586=$O$1:$O$542))>0,E1586=0),0,1)","v":0}]
["430.100.2100.6400.100","Purchased Property Services ",{"v":0,"d":"$0.00"},null,"430",null,"430","100","2100","6400","100",null,"100",{"$nulls":13},{"$f":"IF(OR(SUMPRODUCT(--(E1587=$O$1:$O$542))>0,E1587=0),0,1)","v":0}]
["430.100.6000.6930.000","Transfer out",{"v":0,"d":"$0.00"},null,"430",null,"430","100","6000","6930","000",null,"000",{"$nulls":13},{"$f":"IF(OR(SUMPRODUCT(--(E1588=$O$1:$O$542))>0,E1588=0),0,1)","v":0}]
["450.000.0000.0103.000","Gifted",{"v":0,"d":"$0.00"},null,"450",null,"450","000","0000","0103","000",null,"000",{"$nulls":13},{"$f":"IF(OR(SUMPRODUCT(--(E1589=$O$1:$O$542))>0,E1589=0),0,1)","v":0}]
["450.000.0000.0330.000","Unreserved Fund Balance",{"v":0,"d":"$0.00"},null,"450",null,"450","000","0000","0330","000",null,"000",{"$nulls":13},{"$f":"IF(OR(SUMPRODUCT(--(E1590=$O$1:$O$542))>0,E1590=0),0,1)","v":0}]
["450.000.0000.1510.000","Interest on Investments ",{"v":0,"d":"$0.00"},null,"450",null,"450","000","0000","1510","000",null,"000",{"$nulls":13},{"$f":"IF(OR(SUMPRODUCT(--(E1591=$O$1:$O$542))>0,E1591=0),0,1)","v":0}]
["450.000.0000.3200.000","Restricted Grants-in-Aid",{"v":0,"d":"$0.00"},null,"450",null,"450","000","0000","3200","000",null,"000",{"$nulls":13},{"$f":"IF(OR(SUMPRODUCT(--(E1592=$O$1:$O$542))>0,E1592=0),0,1)","v":0}]
["450.100.0000.6700.100","Property",{"v":0,"d":"$0.00"},null,"450",null,"450","100","0000","6700","100",null,"100",{"$nulls":13},{"$f":"IF(OR(SUMPRODUCT(--(E1593=$O$1:$O$542))>0,E1593=0),0,1)","v":0}]
["450.100.1000.6600.100","Supplies ",{"v":0,"d":"$0.00"},null,"450",null,"450","100","1000","6600","100",null,"100",{"$nulls":13},{"$f":"IF(OR(SUMPRODUCT(--(E1594=$O$1:$O$542))>0,E1594=0),0,1)","v":0}]
["450.100.2100.6600.100","Supplies ",{"v":0,"d":"$0.00"},null,"450",null,"450","100","2100","6600","100",null,"100",{"$nulls":13},{"$f":"IF(OR(SUMPRODUCT(--(E1595=$O$1:$O$542))>0,E1595=0),0,1)","v":0}]
["450.100.6000.6930.000","Transfer out",{"v":0,"d":"$0.00"},null,"450",null,"450","100","6000","6930","000",null,"000",{"$nulls":13},{"$f":"IF(OR(SUMPRODUCT(--(E1596=$O$1:$O$542))>0,E1596=0),0,1)","v":0}]
["450.240.1000.1510.000","INTEREST ON INVESTMENTS",{"v":0,"d":"$0.00"},null,"450",null,"450","240","1000","1510","000",null,"000",{"$nulls":13},{"$f":"IF(OR(SUMPRODUCT(--(E1597=$O$1:$O$542))>0,E1597=0),0,1)","v":0}]
["450.240.1000.3200.000","STATE REVENUE",{"v":0,"d":"$0.00"},null,"450",null,"450","240","1000","3200","000",null,"000",{"$nulls":13},{"$f":"IF(OR(SUMPRODUCT(--(E1598=$O$1:$O$542))>0,E1598=0),0,1)","v":0}]
["457.000.0000.0103.000","Cash on Deposit with County Treasurer ",{"v":7850.25,"d":"$7,850.25"},null,"457",null,"457","000","0000","0103","000",null,"000",{"$nulls":13},{"$f":"IF(OR(SUMPRODUCT(--(E1599=$O$1:$O$542))>0,E1599=0),0,1)","v":0}]
["457.000.0000.3200.000","Restricted Grants-in-Aid",{"v":-7850.25,"d":"-($7,850.25)"},null,"457",null,"457","000","0000","3200","000",null,"000",{"$nulls":13},{"$f":"IF(OR(SUMPRODUCT(--(E1600=$O$1:$O$542))>0,E1600=0),0,1)","v":0}]
["460.000.0000.0103.000","Environmental Special Plate",{"v":0,"d":"$0.00"},null,"460",null,"460","000","0000","0103","000",null,"000",{"$nulls":13},{"$f":"IF(OR(SUMPRODUCT(--(E1601=$O$1:$O$542))>0,E1601=0),0,1)","v":0}]
["460.000.0000.0330.000","Unreserved Fund Balance",{"v":0,"d":"$0.00"},null,"460",null,"460","000","0000","0330","000",null,"000",{"$nulls":13},{"$f":"IF(OR(SUMPRODUCT(--(E1602=$O$1:$O$542))>0,E1602=0),0,1)","v":0}]
["460.000.0000.1510.000","INTEREST ON INVESTMENTS",{"v":0,"d":"$0.00"},null,{"$f":"IF(AND(F1603<>\"\",F1603=G1603),\"ERROR\",IF(AND(F1603<>\"\",F1603<>G1603),F1603,G1603))","v":"460"},null,"460","000","0000","1510","000",null,{"$f":"IF(L1603<>\"\",L1603,K1603)","v":"000"},{"$nulls":13},{"$f":"IF(OR(SUMPRODUCT(--(E1603=$O$1:$O$542))>0,E1603=0),0,1)","v":0}]
["460.100.1000.6600.100","SUPPLIES & MATERIALS",{"v":0,"d":"$0.00"},null,"460",null,"460","100","1000","6600","100",null,"100",{"$nulls":13},{"$f":"IF(OR(SUMPRODUCT(--(E1604=$O$1:$O$542))>0,E1604=0),0,1)","v":0}]
["460.100.6000.6930.000","Transfer out",{"v":0,"d":"$0.00"},null,"460",null,"460","100","6000","6930","000",null,"000",{"$nulls":13},{"$f":"IF(OR(SUMPRODUCT(--(E1605=$O$1:$O$542))>0,E1605=0),0,1)","v":0}]
["463.000.0000.0103.000","Cash on Deposit with Cou",{"v":0,"d":"$0.00"},null,"460","460","463","000","0000","0103","000",null,"000",{"$nulls":13},{"$f":"IF(OR(SUMPRODUCT(--(E1606=$O$1:$O$542))>0,E1606=0),0,1)","v":0}]
["463.000.0000.0330.000","Unreserved Fund Balance",{"v":0,"d":"$0.00"},null,"460","460","463","000","0000","0330","000",null,"000",{"$nulls":13},{"$f":"IF(OR(SUMPRODUCT(--(E1607=$O$1:$O$542))>0,E1607=0),0,1)","v":0}]
["463.000.0000.1510.000","Interest on Investments ",{"v":0,"d":"$0.00"},null,"460","460","463","000","0000","1510","000",null,"000",{"$nulls":13},{"$f":"IF(OR(SUMPRODUCT(--(E1608=$O$1:$O$542))>0,E1608=0),0,1)","v":0}]
["463.100.2100.6610.100","General Supplies ",{"v":0,"d":"$0.00"},null,"460","460","463","100","2100","6610","100",null,"100",{"$nulls":13},{"$f":"IF(OR(SUMPRODUCT(--(E1609=$O$1:$O$542))>0,E1609=0),0,1)","v":0}]
["466.000.0000.0103.000","Cash on Deposit with County Treasurer ",{"v":707.82,"d":"$707.82"},null,"466",null,"466","000","0000","0103","000",null,"000",{"$nulls":13},{"$f":"IF(OR(SUMPRODUCT(--(E1610=$O$1:$O$542))>0,E1610=0),0,1)","v":0}]
["466.000.0000.0330.000","Unreserved Fund Balance",{"v":-707.82,"d":"-($707.82)"},null,"466",null,"466","000","0000","0330","000",null,"000",{"$nulls":13},{"$f":"IF(OR(SUMPRODUCT(--(E1611=$O$1:$O$542))>0,E1611=0),0,1)","v":0}]
["466.000.0000.1510.000","Interest on Investments ",{"v":0,"d":"$0.00"},null,"466",null,"466","000","0000","1510","000",null,"000",{"$nulls":13},{"$f":"IF(OR(SUMPRODUCT(--(E1612=$O$1:$O$542))>0,E1612=0),0,1)","v":0}]
["466.000.0000.3200.000","Restricted Grants-in-Aid",{"v":0,"d":"$0.00"},null,"466",null,"466","000","0000","3200","000",null,"000",{"$nulls":13},{"$f":"IF(OR(SUMPRODUCT(--(E1613=$O$1:$O$542))>0,E1613=0),0,1)","v":0}]
["470.000.0000.0103.000","Tobacco",{"v":0,"d":"$0.00"},null,"470",null,"470","000","0000","0103","000",null,"000",{"$nulls":13},{"$f":"IF(OR(SUMPRODUCT(--(E1614=$O$1:$O$542))>0,E1614=0),0,1)","v":0}]
["470.000.0000.0250.000","Deferred Revenues",{"v":0,"d":"$0.00"},null,"470",null,"470","000","0000","0250","000",null,"000",{"$nulls":13},{"$f":"IF(OR(SUMPRODUCT(--(E1615=$O$1:$O$542))>0,E1615=0),0,1)","v":0}]
["470.000.0000.0330.000","Unreserved Fund Balance",{"v":0,"d":"$0.00"},null,"470",null,"470","000","0000","0330","000",null,"000",{"$nulls":13},{"$f":"IF(OR(SUMPRODUCT(--(E1616=$O$1:$O$542))>0,E1616=0),0,1)","v":0}]
["470.000.0000.1510.000","INTEREST ON INVESTMENTS",{"v":0,"d":"$0.00"},null,"470",null,"470","000","0000","1510","000",null,"000",{"$nulls":13},{"$f":"IF(OR(SUMPRODUCT(--(E1617=$O$1:$O$542))>0,E1617=0),0,1)","v":0}]
["470.000.0000.3200.000","STATE REVENUE",{"v":0,"d":"$0.00"},null,"470",null,"470","000","0000","3200","000",null,"000",{"$nulls":13},{"$f":"IF(OR(SUMPRODUCT(--(E1618=$O$1:$O$542))>0,E1618=0),0,1)","v":0}]
["470.100.1000.6300.100","Purchased Professional and Technica",{"v":0,"d":"$0.00"},null,"470",null,"470","100","1000","6300","100",null,"100",{"$nulls":13},{"$f":"IF(OR(SUMPRODUCT(--(E1619=$O$1:$O$542))>0,E1619=0),0,1)","v":0}]
["470.100.1000.6500.100","Other Purchased Services ",{"v":0,"d":"$0.00"},null,"470",null,"470","100","1000","6500","100",null,"100",{"$nulls":13},{"$f":"IF(OR(SUMPRODUCT(--(E1620=$O$1:$O$542))>0,E1620=0),0,1)","v":0}]
["470.100.1000.6600.100","Supplies ",{"v":0,"d":"$0.00"},null,"470",null,"470","100","1000","6600","100",null,"100",{"$nulls":13},{"$f":"IF(OR(SUMPRODUCT(--(E1621=$O$1:$O$542))>0,E1621=0),0,1)","v":0}]
["470.100.2200.6300.100","Purchased Professional and Technica",{"v":0,"d":"$0.00"},null,"470",null,"470","100","2200","6300","100",null,"100",{"$nulls":13},{"$f":"IF(OR(SUMPRODUCT(--(E1622=$O$1:$O$542))>0,E1622=0),0,1)","v":0}]
["470.100.2200.6600.100","Supplies ",{"v":0,"d":"$0.00"},null,"470",null,"470","100","2200","6600","100",null,"100",{"$nulls":13},{"$f":"IF(OR(SUMPRODUCT(--(E1623=$O$1:$O$542))>0,E1623=0),0,1)","v":0}]
["470.100.6000.6930.000","Transfer out",{"v":0,"d":"$0.00"},null,"470",null,"470","100","6000","6930","000",null,"000",{"$nulls":13},{"$f":"IF(OR(SUMPRODUCT(--(E1624=$O$1:$O$542))>0,E1624=0),0,1)","v":0}]
["480.000.0000.0103.000","Systematic Phgonics",{"v":0,"d":"$0.00"},null,"480",null,"480","000","0000","0103","000",null,"000",{"$nulls":13},{"$f":"IF(OR(SUMPRODUCT(--(E1625=$O$1:$O$542))>0,E1625=0),0,1)","v":0}]
["480.000.0000.0330.000","Unreserved Fund Balance",{"v":0,"d":"$0.00"},null,"480",null,"480","000","0000","0330","000",null,"000",{"$nulls":13},{"$f":"IF(OR(SUMPRODUCT(--(E1626=$O$1:$O$542))>0,E1626=0),0,1)","v":0}]
["480.000.0000.1510.000","Interest on Investments ",{"v":0,"d":"$0.00"},null,"480",null,"480","000","0000","1510","000",null,"000",{"$nulls":13},{"$f":"IF(OR(SUMPRODUCT(--(E1627=$O$1:$O$542))>0,E1627=0),0,1)","v":0}]
["480.000.0000.3200.000","Restricted Grants-in-Aid",{"v":0,"d":"$0.00"},null,"480",null,"480","000","0000","3200","000",null,"000",{"$nulls":13},{"$f":"IF(OR(SUMPRODUCT(--(E1628=$O$1:$O$542))>0,E1628=0),0,1)","v":0}]
["480.100.2100.6643.100","Instructional Aids ",{"v":0,"d":"$0.00"},null,"480",null,"480","100","2100","6643","100",null,"100",{"$nulls":13},{"$f":"IF(OR(SUMPRODUCT(--(E1629=$O$1:$O$542))>0,E1629=0),0,1)","v":0}]
["480.100.6000.6930.000","Transfer out",{"v":0,"d":"$0.00"},null,"480",null,"480","100","6000","6930","000",null,"000",{"$nulls":13},{"$f":"IF(OR(SUMPRODUCT(--(E1630=$O$1:$O$542))>0,E1630=0),0,1)","v":0}]
["481.000.0000.0103.000","SAIS Assistance",{"v":0,"d":"$0.00"},null,"481",null,"481","000","0000","0103","000",null,"000",{"$nulls":13},{"$f":"IF(OR(SUMPRODUCT(--(E1631=$O$1:$O$542))>0,E1631=0),0,1)","v":0}]
["481.000.0000.0215.000","Federal",{"v":0,"d":"$0.00"},null,"481",null,"481","000","0000","0215","000",null,"000",{"$nulls":13},{"$f":"IF(OR(SUMPRODUCT(--(E1632=$O$1:$O$542))>0,E1632=0),0,1)","v":0}]
["481.000.0000.0330.000","Unreserved Fund Balance",{"v":0,"d":"$0.00"},null,"481",null,"481","000","0000","0330","000",null,"000",{"$nulls":13},{"$f":"IF(OR(SUMPRODUCT(--(E1633=$O$1:$O$542))>0,E1633=0),0,1)","v":0}]
["481.000.0000.1510.000","Interest on Investments ",{"v":0,"d":"$0.00"},null,"481",null,"481","000","0000","1510","000",null,"000",{"$nulls":13},{"$f":"IF(OR(SUMPRODUCT(--(E1634=$O$1:$O$542))>0,E1634=0),0,1)","v":0}]
["481.100.2100.6500.100","Other Purchased Services ",{"v":0,"d":"$0.00"},null,"481",null,"481","100","2100","6500","100",null,"100",{"$nulls":13},{"$f":"IF(OR(SUMPRODUCT(--(E1635=$O$1:$O$542))>0,E1635=0),0,1)","v":0}]
["481.100.6000.6930.000","Transfer out",{"v":0,"d":"$0.00"},null,"481",null,"481","100","6000","6930","000",null,"000",{"$nulls":13},{"$f":"IF(OR(SUMPRODUCT(--(E1636=$O$1:$O$542))>0,E1636=0),0,1)","v":0}]
["485.000.0000.0103.000","2003 ELL Classroom",{"v":0,"d":"$0.00"},null,"485",null,"485","000","0000","0103","000",null,"000",{"$nulls":13},{"$f":"IF(OR(SUMPRODUCT(--(E1637=$O$1:$O$542))>0,E1637=0),0,1)","v":0}]
["485.000.0000.0222.000","Social Security - OASDI",{"v":0,"d":"$0.00"},null,"485",null,"485","000","0000","0222","000",null,"000",{"$nulls":13},{"$f":"IF(OR(SUMPRODUCT(--(E1638=$O$1:$O$542))>0,E1638=0),0,1)","v":0}]
["485.000.0000.0223.000","Medicare",{"v":0,"d":"$0.00"},null,"485",null,"485","000","0000","0223","000",null,"000",{"$nulls":13},{"$f":"IF(OR(SUMPRODUCT(--(E1639=$O$1:$O$542))>0,E1639=0),0,1)","v":0}]
["485.000.0000.0224.000","State Retirement System Contributio",{"v":0,"d":"$0.00"},null,"485",null,"485","000","0000","0224","000",null,"000",{"$nulls":13},{"$f":"IF(OR(SUMPRODUCT(--(E1640=$O$1:$O$542))>0,E1640=0),0,1)","v":0}]
["485.000.0000.0241.000","Federal Income Taxes",{"v":0,"d":"$0.00"},null,"485",null,"485","000","0000","0241","000",null,"000",{"$nulls":13},{"$f":"IF(OR(SUMPRODUCT(--(E1641=$O$1:$O$542))>0,E1641=0),0,1)","v":0}]
["485.000.0000.0242.000","State Income Taxes",{"v":0,"d":"$0.00"},null,"485",null,"485","000","0000","0242","000",null,"000",{"$nulls":13},{"$f":"IF(OR(SUMPRODUCT(--(E1642=$O$1:$O$542))>0,E1642=0),0,1)","v":0}]
["485.000.0000.0243.000","Social Security - OASDI",{"v":0,"d":"$0.00"},null,"485",null,"485","000","0000","0243","000",null,"000",{"$nulls":13},{"$f":"IF(OR(SUMPRODUCT(--(E1643=$O$1:$O$542))>0,E1643=0),0,1)","v":0}]
["485.000.0000.0244.000","Medicare - Hospital Insurance",{"v":0,"d":"$0.00"},null,"485",null,"485","000","0000","0244","000",null,"000",{"$nulls":13},{"$f":"IF(OR(SUMPRODUCT(--(E1644=$O$1:$O$542))>0,E1644=0),0,1)","v":0}]
["485.000.0000.0245.000","State Retirement Contributions",{"v":0,"d":"$0.00"},null,"485",null,"485","000","0000","0245","000",null,"000",{"$nulls":13},{"$f":"IF(OR(SUMPRODUCT(--(E1645=$O$1:$O$542))>0,E1645=0),0,1)","v":0}]
["485.000.0000.0246.000","Long Term Disability",{"v":0,"d":"$0.00"},null,"485",null,"485","000","0000","0246","000",null,"000",{"$nulls":13},{"$f":"IF(OR(SUMPRODUCT(--(E1646=$O$1:$O$542))>0,E1646=0),0,1)","v":0}]
["485.000.0000.0247.000","Voluntary Deductions",{"v":0,"d":"$0.00"},null,"485",null,"485","000","0000","0247","000",null,"000",{"$nulls":13},{"$f":"IF(OR(SUMPRODUCT(--(E1647=$O$1:$O$542))>0,E1647=0),0,1)","v":0}]
["485.000.0000.0330.000","Unreserved Fund Balance",{"v":0,"d":"$0.00"},null,"485",null,"485","000","0000","0330","000",null,"000",{"$nulls":13},{"$f":"IF(OR(SUMPRODUCT(--(E1648=$O$1:$O$542))>0,E1648=0),0,1)","v":0}]
["485.000.0000.1510.000","Interest on Investments ",{"v":0,"d":"$0.00"},null,"485",null,"485","000","0000","1510","000",null,"000",{"$nulls":13},{"$f":"IF(OR(SUMPRODUCT(--(E1649=$O$1:$O$542))>0,E1649=0),0,1)","v":0}]
["485.000.0000.3200.000","Restricted Grants-in-Aid",{"v":0,"d":"$0.00"},null,"485",null,"485","000","0000","3200","000",null,"000",{"$nulls":13},{"$f":"IF(OR(SUMPRODUCT(--(E1650=$O$1:$O$542))>0,E1650=0),0,1)","v":0}]
["485.100.1000.6100.100","Personal Services - Salaries ",{"v":0,"d":"$0.00"},null,"485",null,"485","100","1000","6100","100",null,"100",{"$nulls":13},{"$f":"IF(OR(SUMPRODUCT(--(E1651=$O$1:$O$542))>0,E1651=0),0,1)","v":0}]
["485.100.1000.6112.100","Teachers",{"v":0,"d":"$0.00"},null,"485",null,"485","100","1000","6112","100",null,"100",{"$nulls":13},{"$f":"IF(OR(SUMPRODUCT(--(E1652=$O$1:$O$542))>0,E1652=0),0,1)","v":0}]
["485.100.1000.6150.100","Classified Salaries ",{"v":0,"d":"$0.00"},null,"485",null,"485","100","1000","6150","100",null,"100",{"$nulls":13},{"$f":"IF(OR(SUMPRODUCT(--(E1653=$O$1:$O$542))>0,E1653=0),0,1)","v":0}]
["485.100.1000.6200.100","Personal Services - Employee Benefi",{"v":0,"d":"$0.00"},null,"485",null,"485","100","1000","6200","100",null,"100",{"$nulls":13},{"$f":"IF(OR(SUMPRODUCT(--(E1654=$O$1:$O$542))>0,E1654=0),0,1)","v":0}]
["485.100.1000.6221.100","Social Security - OASDI",{"v":0,"d":"$0.00"},null,"485",null,"485","100","1000","6221","100",null,"100",{"$nulls":13},{"$f":"IF(OR(SUMPRODUCT(--(E1655=$O$1:$O$542))>0,E1655=0),0,1)","v":0}]
["485.100.1000.6222.100","Medicare - Hospital Insurance ",{"v":0,"d":"$0.00"},null,"485",null,"485","100","1000","6222","100",null,"100",{"$nulls":13},{"$f":"IF(OR(SUMPRODUCT(--(E1656=$O$1:$O$542))>0,E1656=0),0,1)","v":0}]
["485.100.1000.6231.100","State Retirement ",{"v":0,"d":"$0.00"},null,"485",null,"485","100","1000","6231","100",null,"100",{"$nulls":13},{"$f":"IF(OR(SUMPRODUCT(--(E1657=$O$1:$O$542))>0,E1657=0),0,1)","v":0}]
["485.100.1000.6232.100","Long Term Disability",{"v":0,"d":"$0.00"},null,"485",null,"485","100","1000","6232","100",null,"100",{"$nulls":13},{"$f":"IF(OR(SUMPRODUCT(--(E1658=$O$1:$O$542))>0,E1658=0),0,1)","v":0}]
["485.100.6000.6930.000","Transfer out",{"v":0,"d":"$0.00"},null,"485",null,"485","100","6000","6930","000",null,"000",{"$nulls":13},{"$f":"IF(OR(SUMPRODUCT(--(E1659=$O$1:$O$542))>0,E1659=0),0,1)","v":0}]
["487.000.0000.0103.000","ELL Classroom",{"v":0,"d":"$0.00"},null,"487",null,"487","000","0000","0103","000",null,"000",{"$nulls":13},{"$f":"IF(OR(SUMPRODUCT(--(E1660=$O$1:$O$542))>0,E1660=0),0,1)","v":0}]
["487.000.0000.0330.000","Unreserved Fund Balance",{"v":0,"d":"$0.00"},null,"487",null,"487","000","0000","0330","000",null,"000",{"$nulls":13},{"$f":"IF(OR(SUMPRODUCT(--(E1661=$O$1:$O$542))>0,E1661=0),0,1)","v":0}]
["487.000.0000.1510.000","Interest on Investments ",{"v":0,"d":"$0.00"},null,"487",null,"487","000","0000","1510","000",null,"000",{"$nulls":13},{"$f":"IF(OR(SUMPRODUCT(--(E1662=$O$1:$O$542))>0,E1662=0),0,1)","v":0}]
["487.000.0000.3200.000","Restricted Grants-in-Aid",{"v":0,"d":"$0.00"},null,"487",null,"487","000","0000","3200","000",null,"000",{"$nulls":13},{"$f":"IF(OR(SUMPRODUCT(--(E1663=$O$1:$O$542))>0,E1663=0),0,1)","v":0}]
["487.100.1000.6100.100","Personal Services - Salaries ",{"v":0,"d":"$0.00"},null,"487",null,"487","100","1000","6100","100",null,"100",{"$nulls":13},{"$f":"IF(OR(SUMPRODUCT(--(E1664=$O$1:$O$542))>0,E1664=0),0,1)","v":0}]
["487.100.1000.6200.100","Personal Services - Employee Benefi",{"v":0,"d":"$0.00"},null,"487",null,"487","100","1000","6200","100",null,"100",{"$nulls":13},{"$f":"IF(OR(SUMPRODUCT(--(E1665=$O$1:$O$542))>0,E1665=0),0,1)","v":0}]
["487.100.6000.6930.000","Transfer out",{"v":0,"d":"$0.00"},null,"487",null,"487","100","6000","6930","000",null,"000",{"$nulls":13},{"$f":"IF(OR(SUMPRODUCT(--(E1666=$O$1:$O$542))>0,E1666=0),0,1)","v":0}]
["506.000.0000.0103.000","Cash on Deposit with County Treasurer ",{"v":336.93,"d":"$336.93"},null,{"$f":"IF(AND(F1667<>\"\",F1667=G1667),\"ERROR\",IF(AND(F1667<>\"\",F1667<>G1667),F1667,G1667))","v":"500"},"500","506","000","0000","0103","000",null,{"$f":"IF(L1667<>\"\",L1667,K1667)","v":"000"},{"$nulls":13},{"$f":"IF(OR(SUMPRODUCT(--(E1667=$O$1:$O$542))>0,E1667=0),0,1)","v":0}]
["506.000.0000.0330.000","Unreserved Fund Balance",{"v":-336.93,"d":"-($336.93)"},null,"500","500","506","000","0000","0330","000",null,"000",{"$nulls":13},{"$f":"IF(OR(SUMPRODUCT(--(E1668=$O$1:$O$542))>0,E1668=0),0,1)","v":0}]
["506.000.0000.1510.000","Interest on Investments ",{"v":0,"d":"$0.00"},null,"500","500","506","000","0000","1510","000",null,"000",{"$nulls":13},{"$f":"IF(OR(SUMPRODUCT(--(E1669=$O$1:$O$542))>0,E1669=0),0,1)","v":0}]
["510.000.0000.0103.000","Cash on Deposit with Cou",{"v":93.51,"d":"$93.51"},null,"510",null,"510","000","0000","0103","000",null,"000",{"$nulls":13},{"$f":"IF(OR(SUMPRODUCT(--(E1670=$O$1:$O$542))>0,E1670=0),0,1)","v":0}]
["510.000.0000.0330.000","Unreserved Fund Balance",{"v":-93.51,"d":"-($93.51)"},null,"510",null,"510","000","0000","0330","000",null,"000",{"$nulls":13},{"$f":"IF(OR(SUMPRODUCT(--(E1671=$O$1:$O$542))>0,E1671=0),0,1)","v":0}]
["510.000.0000.6999.100","REVOLVING FUND",{"v":0,"d":"$0.00"},null,"510",null,"510","000","0000","6999","100",null,"100",{"$nulls":13},{"$f":"IF(OR(SUMPRODUCT(--(E1672=$O$1:$O$542))>0,E1672=0),0,1)","v":0}]
["515.000.0000.0103.000","Cash on Deposit with Cou",{"v":0,"d":"$0.00"},null,"515",null,"515","000","0000","0103","000",null,"000",{"$nulls":13},{"$f":"IF(OR(SUMPRODUCT(--(E1673=$O$1:$O$542))>0,E1673=0),0,1)","v":0}]
["515.000.0000.0330.000","Unreserved Fund Balance",{"v":0,"d":"$0.00"},null,"515",null,"515","000","0000","0330","000",null,"000",{"$nulls":13},{"$f":"IF(OR(SUMPRODUCT(--(E1674=$O$1:$O$542))>0,E1674=0),0,1)","v":0}]
["515.000.0000.1510.000","Interest on Investments ",{"v":0,"d":"$0.00"},null,"515",null,"515","000","0000","1510","000",null,"000",{"$nulls":13},{"$f":"IF(OR(SUMPRODUCT(--(E1675=$O$1:$O$542))>0,E1675=0),0,1)","v":0}]
["515.000.0000.1910.100","Rentals ",{"v":0,"d":"$0.00"},null,"515",null,"515","000","0000","1910","100",null,"100",{"$nulls":13},{"$f":"IF(OR(SUMPRODUCT(--(E1676=$O$1:$O$542))>0,E1676=0),0,1)","v":0}]
["515.100.2600.6590.100","Miscellaneous Purchased Services ",{"v":0,"d":"$0.00"},null,"515",null,"515","100","2600","6590","100",null,"100",{"$nulls":13},{"$f":"IF(OR(SUMPRODUCT(--(E1677=$O$1:$O$542))>0,E1677=0),0,1)","v":0}]
["515.100.6000.6930.000","Transfer out",{"v":0,"d":"$0.00"},null,"515",null,"515","100","6000","6930","000",null,"000",{"$nulls":13},{"$f":"IF(OR(SUMPRODUCT(--(E1678=$O$1:$O$542))>0,E1678=0),0,1)","v":0}]
["526.000.0000.0103.000","Cash on Deposit with County Treasurer ",{"v":16883.57,"d":"$16,883.57"},null,"526",null,"526","000","0000","0103","000",null,"000",{"$nulls":13},{"$f":"IF(OR(SUMPRODUCT(--(E1679=$O$1:$O$542))>0,E1679=0),0,1)","v":0}]
["526.000.0000.0103.100","Cash on Deposit with County Treasurer ",{"v":0,"d":"$0.00"},null,"526",null,"526","000","0000","0103","100",null,"100",{"$nulls":13},{"$f":"IF(OR(SUMPRODUCT(--(E1680=$O$1:$O$542))>0,E1680=0),0,1)","v":0}]
["526.000.0000.0201.000","Accounts Payable",{"v":0,"d":"$0.00"},null,"526",null,"526","000","0000","0201","000",null,"000",{"$nulls":13},{"$f":"IF(OR(SUMPRODUCT(--(E1681=$O$1:$O$542))>0,E1681=0),0,1)","v":0}]
["526.000.0000.0330.000","Unreserved Fund Balance",{"v":-17444.8,"d":"-($17,444.80)"},null,"526",null,"526","000","0000","0330","000",null,"000",{"$nulls":13},{"$f":"IF(OR(SUMPRODUCT(--(E1682=$O$1:$O$542))>0,E1682=0),0,1)","v":0}]
["526.000.0000.1510.000","Interest on Investments ",{"v":0,"d":"$0.00"},null,"526",null,"526","000","0000","1510","000",null,"000",{"$nulls":13},{"$f":"IF(OR(SUMPRODUCT(--(E1683=$O$1:$O$542))>0,E1683=0),0,1)","v":0}]
["526.000.0000.1790.000","Extracurricular Activities Fees Tax Credit",{"v":-400,"d":"-($400.00)"},null,"526",null,"526","000","0000","1790","000",null,"000",{"$nulls":13},{"$f":"IF(OR(SUMPRODUCT(--(E1684=$O$1:$O$542))>0,E1684=0),0,1)","v":0}]
["526.000.0000.1790.100","Extracurricular Activities Fees Tax Credit",{"v":0,"d":"$0.00"},null,"526",null,"526","000","0000","1790","100",null,"100",{"$nulls":13},{"$f":"IF(OR(SUMPRODUCT(--(E1685=$O$1:$O$542))>0,E1685=0),0,1)","v":0}]
["526.100.2200.0103.100","Cash on Deposit with County Treasurer ",{"v":0,"d":"$0.00"},null,"526",null,"526","100","2200","0103","100",null,"100",{"$nulls":13},{"$f":"IF(OR(SUMPRODUCT(--(E1686=$O$1:$O$542))>0,E1686=0),0,1)","v":0}]
["526.100.2200.6890.100","Field Trip",{"v":861.64,"d":"$861.64"},null,"526",null,"526","100","2200","6890","100",null,"100",{"$nulls":13},{"$f":"IF(OR(SUMPRODUCT(--(E1687=$O$1:$O$542))>0,E1687=0),0,1)","v":0}]
["526.400.2200.6890.100","Fuel for Field Trip",{"v":99.59,"d":"$99.59"},null,"526",null,"526","400","2200","6890","100",null,"100",{"$nulls":13},{"$f":"IF(OR(SUMPRODUCT(--(E1688=$O$1:$O$542))>0,E1688=0),0,1)","v":0}]
["530.000.0000.0103.000","Gifts and Donations",{"v":66.27,"d":"$66.27"},null,"530",null,"530","000","0000","0103","000",null,"000",{"$nulls":13},{"$f":"IF(OR(SUMPRODUCT(--(E1689=$O$1:$O$542))>0,E1689=0),0,1)","v":0}]
["530.000.0000.0103.100","Cash on Deposit with County Treasurer ",{"v":0,"d":"$0.00"},null,"530",null,"530","000","0000","0103","100",null,"100",{"$nulls":13},{"$f":"IF(OR(SUMPRODUCT(--(E1690=$O$1:$O$542))>0,E1690=0),0,1)","v":0}]
["530.000.0000.0201.000","Accounts Payable",{"v":0,"d":"$0.00"},null,"530",null,"530","000","0000","0201","000",null,"000",{"$nulls":13},{"$f":"IF(OR(SUMPRODUCT(--(E1691=$O$1:$O$542))>0,E1691=0),0,1)","v":0}]
["530.000.0000.0330.000","Unreserved Fund Balance",{"v":-66.27,"d":"-($66.27)"},null,"530",null,"530","000","0000","0330","000",null,"000",{"$nulls":13},{"$f":"IF(OR(SUMPRODUCT(--(E1692=$O$1:$O$542))>0,E1692=0),0,1)","v":0}]
["530.000.0000.1510.000","INTEREST ON INVESTMENTS",{"v":0,"d":"$0.00"},null,"530",null,"530","000","0000","1510","000",null,"000",{"$nulls":13},{"$f":"IF(OR(SUMPRODUCT(--(E1693=$O$1:$O$542))>0,E1693=0),0,1)","v":0}]
["530.000.0000.1900.000","OTHER RECEIPTS",{"v":0,"d":"$0.00"},null,"530",null,"530","000","0000","1900","000",null,"000",{"$nulls":13},{"$f":"IF(OR(SUMPRODUCT(--(E1694=$O$1:$O$542))>0,E1694=0),0,1)","v":0}]
["530.000.0000.1900.100","Other Revenue from Local Sources",{"v":0,"d":"$0.00"},null,"530",null,"530","000","0000","1900","100",null,"100",{"$nulls":13},{"$f":"IF(OR(SUMPRODUCT(--(E1695=$O$1:$O$542))>0,E1695=0),0,1)","v":0}]
["530.000.0000.1920.000","Contributions and Donations from Private Sources ",{"v":0,"d":"$0.00"},null,"530",null,"530","000","0000","1920","000",null,"000",{"$nulls":13},{"$f":"IF(OR(SUMPRODUCT(--(E1696=$O$1:$O$542))>0,E1696=0),0,1)","v":0}]
["530.000.0000.1920.100","Contributions and Donations from Private Sources ",{"v":0,"d":"$0.00"},null,"530",null,"530","000","0000","1920","100",null,"100",{"$nulls":13},{"$f":"IF(OR(SUMPRODUCT(--(E1697=$O$1:$O$542))>0,E1697=0),0,1)","v":0}]
["530.100.1000.0103.100","Cash on Deposit with County Treasurer ",{"v":0,"d":"$0.00"},null,"530",null,"530","100","1000","0103","100",null,"100",{"$nulls":13},{"$f":"IF(OR(SUMPRODUCT(--(E1698=$O$1:$O$542))>0,E1698=0),0,1)","v":0}]
["530.100.1000.6500.100","Field Trip",{"v":0,"d":"$0.00"},null,"530",null,"530","100","1000","6500","100",null,"100",{"$nulls":13},{"$f":"IF(OR(SUMPRODUCT(--(E1699=$O$1:$O$542))>0,E1699=0),0,1)","v":0}]
["530.100.1000.6600.100","Tee Shirts",{"v":0,"d":"$0.00"},null,"530",null,"530","100","1000","6600","100",null,"100",{"$nulls":13},{"$f":"IF(OR(SUMPRODUCT(--(E1700=$O$1:$O$542))>0,E1700=0),0,1)","v":0}]
["530.100.1000.6640.100","Superscience",{"v":0,"d":"$0.00"},null,"530",null,"530","100","1000","6640","100",null,"100",{"$nulls":13},{"$f":"IF(OR(SUMPRODUCT(--(E1701=$O$1:$O$542))>0,E1701=0),0,1)","v":0}]
["530.100.1000.6650.100","Listening Center",{"v":0,"d":"$0.00"},null,"530",null,"530","100","1000","6650","100",null,"100",{"$nulls":13},{"$f":"IF(OR(SUMPRODUCT(--(E1702=$O$1:$O$542))>0,E1702=0),0,1)","v":0}]
["530.100.2200.0103.100","Cash on Deposit with County Treasurer ",{"v":0,"d":"$0.00"},null,"530",null,"530","100","2200","0103","100",null,"100",{"$nulls":13},{"$f":"IF(OR(SUMPRODUCT(--(E1703=$O$1:$O$542))>0,E1703=0),0,1)","v":0}]
["530.100.2200.6600.100","Supplies ",{"v":0,"d":"$0.00"},null,"530",null,"530","100","2200","6600","100",null,"100",{"$nulls":13},{"$f":"IF(OR(SUMPRODUCT(--(E1704=$O$1:$O$542))>0,E1704=0),0,1)","v":0}]
["530.100.2200.6610.100","Student Actitity",{"v":0,"d":"$0.00"},null,"530",null,"530","100","2200","6610","100",null,"100",{"$nulls":13},{"$f":"IF(OR(SUMPRODUCT(--(E1705=$O$1:$O$542))>0,E1705=0),0,1)","v":0}]
["530.100.2200.6890.100","Student Field Trip",{"v":0,"d":"$0.00"},null,"530",null,"530","100","2200","6890","100",null,"100",{"$nulls":13},{"$f":"IF(OR(SUMPRODUCT(--(E1706=$O$1:$O$542))>0,E1706=0),0,1)","v":0}]
["530.530.2200.6600.100","Supplies ",{"v":0,"d":"$0.00"},null,"530",null,"530","530","2200","6600","100",null,"100",{"$nulls":13},{"$f":"IF(OR(SUMPRODUCT(--(E1707=$O$1:$O$542))>0,E1707=0),0,1)","v":0}]
["550.000.0000.0103.000","CASH ON DEPOSIT WITH TREAS",{"v":4107.79,"d":"$4,107.79"},null,"550",null,"550","000","0000","0103","000",null,"000",{"$nulls":13},{"$f":"IF(OR(SUMPRODUCT(--(E1708=$O$1:$O$542))>0,E1708=0),0,1)","v":0}]
["550.000.0000.0103.100","Undesignated",{"v":0,"d":"$0.00"},null,"550",null,"550","000","0000","0103","100",null,"100",{"$nulls":13},{"$f":"IF(OR(SUMPRODUCT(--(E1709=$O$1:$O$542))>0,E1709=0),0,1)","v":0}]
["550.000.0000.0201.000","Accounts Payable",{"v":0,"d":"$0.00"},null,"550",null,"550","000","0000","0201","000",null,"000",{"$nulls":13},{"$f":"IF(OR(SUMPRODUCT(--(E1710=$O$1:$O$542))>0,E1710=0),0,1)","v":0}]
["550.000.0000.0330.000","Unreserved Fund Balance",{"v":-5547.79,"d":"-($5,547.79)"},null,"550",null,"550","000","0000","0330","000",null,"000",{"$nulls":13},{"$f":"IF(OR(SUMPRODUCT(--(E1711=$O$1:$O$542))>0,E1711=0),0,1)","v":0}]
["550.000.0000.1510.000","INTEREST ON INVESTMENTS",{"v":0,"d":"$0.00"},null,"550",null,"550","000","0000","1510","000",null,"000",{"$nulls":13},{"$f":"IF(OR(SUMPRODUCT(--(E1712=$O$1:$O$542))>0,E1712=0),0,1)","v":0}]
["550.000.0000.1900.000","OTHER RECEIPTS",{"v":0,"d":"$0.00"},null,"550",null,"550","000","0000","1900","000",null,"000",{"$nulls":13},{"$f":"IF(OR(SUMPRODUCT(--(E1713=$O$1:$O$542))>0,E1713=0),0,1)","v":0}]
["550.000.0000.5800.100","Extraordinary Items",{"v":0,"d":"$0.00"},null,"550",null,"550","000","0000","5800","100",null,"100",{"$nulls":13},{"$f":"IF(OR(SUMPRODUCT(--(E1714=$O$1:$O$542))>0,E1714=0),0,1)","v":0}]
["550.100.0000.6700.100","CAPITAL EXPENDITURES",{"v":0,"d":"$0.00"},null,"550",null,"550","100","0000","6700","100",null,"100",{"$nulls":13},{"$f":"IF(OR(SUMPRODUCT(--(E1715=$O$1:$O$542))>0,E1715=0),0,1)","v":0}]
["550.100.0000.6720.100","BUILDINGS AND IMPROVEMEN",{"v":0,"d":"$0.00"},null,"550",null,"550","100","0000","6720","100",null,"100",{"$nulls":13},{"$f":"IF(OR(SUMPRODUCT(--(E1716=$O$1:$O$542))>0,E1716=0),0,1)","v":0}]
["550.100.1000.6100.100","Undesignated",{"v":0,"d":"$0.00"},null,"550",null,"550","100","1000","6100","100",null,"100",{"$nulls":13},{"$f":"IF(OR(SUMPRODUCT(--(E1717=$O$1:$O$542))>0,E1717=0),0,1)","v":0}]
["550.100.2600.0103.100","Cash on Deposit with County Treasurer ",{"v":0,"d":"$0.00"},null,"550",null,"550","100","2600","0103","100",null,"100",{"$nulls":13},{"$f":"IF(OR(SUMPRODUCT(--(E1718=$O$1:$O$542))>0,E1718=0),0,1)","v":0}]
["550.100.2600.6420.100","Bldg. Carpet Cleaning",{"v":1440,"d":"$1,440.00"},null,"550",null,"550","100","2600","6420","100",null,"100",{"$nulls":13},{"$f":"IF(OR(SUMPRODUCT(--(E1719=$O$1:$O$542))>0,E1719=0),0,1)","v":0}]
["550.100.2640.0103.100","Cash on Deposit with County Treasurer ",{"v":0,"d":"$0.00"},null,"550",null,"550","100","2640","0103","100",null,"100",{"$nulls":13},{"$f":"IF(OR(SUMPRODUCT(--(E1720=$O$1:$O$542))>0,E1720=0),0,1)","v":0}]
["550.100.2640.6733.100","Window Coverings",{"v":0,"d":"$0.00"},null,"550",null,"550","100","2640","6733","100",null,"100",{"$nulls":13},{"$f":"IF(OR(SUMPRODUCT(--(E1721=$O$1:$O$542))>0,E1721=0),0,1)","v":0}]
["555.000.0000.0103.000","CASH ON DEPOSIT WITH TREAS",{"v":871.65,"d":"$871.65"},null,"555",null,"555","000","0000","0103","000",null,"000",{"$nulls":13},{"$f":"IF(OR(SUMPRODUCT(--(E1722=$O$1:$O$542))>0,E1722=0),0,1)","v":0}]
["555.000.0000.0103.100","Cash on Deposit with County Treasurer ",{"v":0,"d":"$0.00"},null,"555",null,"555","000","0000","0103","100",null,"100",{"$nulls":13},{"$f":"IF(OR(SUMPRODUCT(--(E1723=$O$1:$O$542))>0,E1723=0),0,1)","v":0}]
["555.000.0000.0201.000","Accounts Payable",{"v":0,"d":"$0.00"},null,"555",null,"555","000","0000","0201","000",null,"000",{"$nulls":13},{"$f":"IF(OR(SUMPRODUCT(--(E1724=$O$1:$O$542))>0,E1724=0),0,1)","v":0}]
["555.000.0000.0330.000","Unreserved Fund Balance",{"v":-871.65,"d":"-($871.65)"},null,"555",null,"555","000","0000","0330","000",null,"000",{"$nulls":13},{"$f":"IF(OR(SUMPRODUCT(--(E1725=$O$1:$O$542))>0,E1725=0),0,1)","v":0}]
["555.000.0000.1510.000","INTEREST ON INVESTMENTS",{"v":0,"d":"$0.00"},null,"555",null,"555","000","0000","1510","000",null,"000",{"$nulls":13},{"$f":"IF(OR(SUMPRODUCT(--(E1726=$O$1:$O$542))>0,E1726=0),0,1)","v":0}]
["555.000.0000.1900.100","Other Revenue from Local Sources",{"v":0,"d":"$0.00"},null,"555",null,"555","000","0000","1900","100",null,"100",{"$nulls":13},{"$f":"IF(OR(SUMPRODUCT(--(E1727=$O$1:$O$542))>0,E1727=0),0,1)","v":0}]
["555.100.1000.0103.100","Cash on Deposit with County Treasurer ",{"v":0,"d":"$0.00"},null,"555",null,"555","100","1000","0103","100",null,"100",{"$nulls":13},{"$f":"IF(OR(SUMPRODUCT(--(E1728=$O$1:$O$542))>0,E1728=0),0,1)","v":0}]
["555.100.1000.6610.100","Library Books",{"v":0,"d":"$0.00"},null,"555",null,"555","100","1000","6610","100",null,"100",{"$nulls":13},{"$f":"IF(OR(SUMPRODUCT(--(E1729=$O$1:$O$542))>0,E1729=0),0,1)","v":0}]
["565.000.0000.0103.000","Cash on Deposit with Cou",{"v":0,"d":"$0.00"},null,"565",null,"565","000","0000","0103","000",null,"000",{"$nulls":13},{"$f":"IF(OR(SUMPRODUCT(--(E1730=$O$1:$O$542))>0,E1730=0),0,1)","v":0}]
["565.000.0000.0330.000","Unreserved Fund Balance",{"v":0,"d":"$0.00"},null,{"$f":"IF(AND(F1731<>\"\",F1731=G1731),\"ERROR\",IF(AND(F1731<>\"\",F1731<>G1731),F1731,G1731))","v":"565"},null,"565","000","0000","0330","000",null,{"$f":"IF(L1731<>\"\",L1731,K1731)","v":"000"},{"$nulls":13},{"$f":"IF(OR(SUMPRODUCT(--(E1731=$O$1:$O$542))>0,E1731=0),0,1)","v":0}]
["565.000.0000.1510.000","Interest on Investments ",{"v":0,"d":"$0.00"},null,"565",null,"565","000","0000","1510","000",null,"000",{"$nulls":13},{"$f":"IF(OR(SUMPRODUCT(--(E1732=$O$1:$O$542))>0,E1732=0),0,1)","v":0}]
["565.000.0000.1511.000","litigation recovery",{"v":0,"d":"$0.00"},null,"565",null,"565","000","0000","1511","000",null,"000",{"$nulls":13},{"$f":"IF(OR(SUMPRODUCT(--(E1733=$O$1:$O$542))>0,E1733=0),0,1)","v":0}]
["565.000.0000.1990.000","Miscellaneous",{"v":0,"d":"$0.00"},null,"565",null,"565","000","0000","1990","000",null,"000",{"$nulls":13},{"$f":"IF(OR(SUMPRODUCT(--(E1734=$O$1:$O$542))>0,E1734=0),0,1)","v":0}]
["580.000.0000.0103.000","Cash on Deposit with County Treasurer ",{"v":72.13,"d":"$72.13"},null,"580",null,"580","000","0000","0103","000",null,"000",{"$nulls":13},{"$f":"IF(OR(SUMPRODUCT(--(E1735=$O$1:$O$542))>0,E1735=0),0,1)","v":0}]
["580.000.0000.0330.000","Unreserved Fund Balance",{"v":-72.13,"d":"-($72.13)"},null,"580",null,"580","000","0000","0330","000",null,"000",{"$nulls":13},{"$f":"IF(OR(SUMPRODUCT(--(E1736=$O$1:$O$542))>0,E1736=0),0,1)","v":0}]
["580.000.0000.1510.000","Interest on Investments ",{"v":0,"d":"$0.00"},null,"580",null,"580","000","0000","1510","000",null,"000",{"$nulls":13},{"$f":"IF(OR(SUMPRODUCT(--(E1737=$O$1:$O$542))>0,E1737=0),0,1)","v":0}]
["580.000.0000.1920.000","Contributions and Donations from Private Sources ",{"v":0,"d":"$0.00"},null,"580",null,"580","000","0000","1920","000",null,"000",{"$nulls":13},{"$f":"IF(OR(SUMPRODUCT(--(E1738=$O$1:$O$542))>0,E1738=0),0,1)","v":0}]
["585.000.0000.0103.000","Cash on Deposit with Cou",{"v":0,"d":"$0.00"},null,"585",null,"585","000","0000","0103","000",null,"000",{"$nulls":13},{"$f":"IF(OR(SUMPRODUCT(--(E1739=$O$1:$O$542))>0,E1739=0),0,1)","v":0}]
["585.000.0000.0330.000","Unreserved Fund Balance",{"v":0,"d":"$0.00"},null,"585",null,"585","000","0000","0330","000",null,"000",{"$nulls":13},{"$f":"IF(OR(SUMPRODUCT(--(E1740=$O$1:$O$542))>0,E1740=0),0,1)","v":0}]
["585.000.0000.1330.000","Tuition from Out-of-Stat",{"v":0,"d":"$0.00"},null,"585",null,"585","000","0000","1330","000",null,"000",{"$nulls":13},{"$f":"IF(OR(SUMPRODUCT(--(E1741=$O$1:$O$542))>0,E1741=0),0,1)","v":0}]
["585.000.0000.1510.000","Interest on Investments ",{"v":0,"d":"$0.00"},null,"585",null,"585","000","0000","1510","000",null,"000",{"$nulls":13},{"$f":"IF(OR(SUMPRODUCT(--(E1742=$O$1:$O$542))>0,E1742=0),0,1)","v":0}]
["610.000.0000.0103.000","Capital Outlay",{"v":16951.11,"d":"$16,951.11"},null,"610",null,"610","000","0000","0103","000",null,"000",{"$nulls":13},{"$f":"IF(OR(SUMPRODUCT(--(E1743=$O$1:$O$542))>0,E1743=0),0,1)","v":0}]
["610.000.0000.0201.000","Accounts Payable",{"v":0,"d":"$0.00"},null,"610",null,"610","000","0000","0201","000",null,"000",{"$nulls":13},{"$f":"IF(OR(SUMPRODUCT(--(E1744=$O$1:$O$542))>0,E1744=0),0,1)","v":0}]
["610.000.0000.0300.000","Undesignated",{"v":221000,"d":"$221,000.00"},null,"610",null,"610","000","0000","0300","000",null,"000",{"$nulls":13},{"$f":"IF(OR(SUMPRODUCT(--(E1745=$O$1:$O$542))>0,E1745=0),0,1)","v":0}]
["610.000.0000.0330.000","Unreserved Fund Balance",{"v":-249649.62,"d":"-($249,649.62)"},null,"610",null,"610","000","0000","0330","000",null,"000",{"$nulls":13},{"$f":"IF(OR(SUMPRODUCT(--(E1746=$O$1:$O$542))>0,E1746=0),0,1)","v":0}]
["610.000.0000.1111.000","PERSONAL PROPERTY TAXES",{"v":0,"d":"$0.00"},null,"610",null,"610","000","0000","1111","000",null,"000",{"$nulls":13},{"$f":"IF(OR(SUMPRODUCT(--(E1747=$O$1:$O$542))>0,E1747=0),0,1)","v":0}]
["610.000.0000.1112.000","REAL PROPERTY TAXES",{"v":0,"d":"$0.00"},null,"610",null,"610","000","0000","1112","000",null,"000",{"$nulls":13},{"$f":"IF(OR(SUMPRODUCT(--(E1748=$O$1:$O$542))>0,E1748=0),0,1)","v":0}]
["610.000.0000.1115.000","REAL PROPERTY TAXES",{"v":0,"d":"$0.00"},null,"610",null,"610","000","0000","1115","000",null,"000",{"$nulls":13},{"$f":"IF(OR(SUMPRODUCT(--(E1749=$O$1:$O$542))>0,E1749=0),0,1)","v":0}]
["610.000.0000.1510.000","INTEREST ON INVESTMENTS",{"v":0,"d":"$0.00"},null,"610",null,"610","000","0000","1510","000",null,"000",{"$nulls":13},{"$f":"IF(OR(SUMPRODUCT(--(E1750=$O$1:$O$542))>0,E1750=0),0,1)","v":0}]
["610.000.0000.1511.000","NCFE INVESTMENT INTEREST",{"v":0,"d":"$0.00"},null,"610",null,"610","000","0000","1511","000",null,"000",{"$nulls":13},{"$f":"IF(OR(SUMPRODUCT(--(E1751=$O$1:$O$542))>0,E1751=0),0,1)","v":0}]
["610.000.0000.2120.000","COUNTY EQUALIZATION ASSI",{"v":-10.81,"d":"-($10.81)"},null,"610",null,"610","000","0000","2120","000",null,"000",{"$nulls":13},{"$f":"IF(OR(SUMPRODUCT(--(E1752=$O$1:$O$542))>0,E1752=0),0,1)","v":0}]
["610.000.0000.2122.000","PRIOR YEAR REVENUE",{"v":0,"d":"$0.00"},null,"610",null,"610","000","0000","2122","000",null,"000",{"$nulls":13},{"$f":"IF(OR(SUMPRODUCT(--(E1753=$O$1:$O$542))>0,E1753=0),0,1)","v":0}]
["610.000.0000.3110.000","STATE EQUALIZATION ASSIS",{"v":-6714.17,"d":"-($6,714.17)"},null,"610",null,"610","000","0000","3110","000",null,"000",{"$nulls":13},{"$f":"IF(OR(SUMPRODUCT(--(E1754=$O$1:$O$542))>0,E1754=0),0,1)","v":0}]
["610.000.0000.3120.000","ADDITIONAL STATE AID",{"v":-699.99,"d":"-($699.99)"},null,"610",null,"610","000","0000","3120","000",null,"000",{"$nulls":13},{"$f":"IF(OR(SUMPRODUCT(--(E1755=$O$1:$O$542))>0,E1755=0),0,1)","v":0}]
["610.000.0000.3125.000","Assistance for Education",{"v":-54.93,"d":"-($54.93)"},null,"610",null,"610","000","0000","3125","000",null,"000",{"$nulls":13},{"$f":"IF(OR(SUMPRODUCT(--(E1756=$O$1:$O$542))>0,E1756=0),0,1)","v":0}]
["610.000.0000.4100.000","FEDERAL UNRESTRICTED",{"v":0,"d":"$0.00"},null,"610",null,"610","000","0000","4100","000",null,"000",{"$nulls":13},{"$f":"IF(OR(SUMPRODUCT(--(E1757=$O$1:$O$542))>0,E1757=0),0,1)","v":0}]
["610.000.0000.5200.000","Funds Tranders In",{"v":0,"d":"$0.00"},null,"610",null,"610","000","0000","5200","000",null,"000",{"$nulls":13},{"$f":"IF(OR(SUMPRODUCT(--(E1758=$O$1:$O$542))>0,E1758=0),0,1)","v":0}]
["610.000.0000.5300.000","Sale or Compensation for",{"v":0,"d":"$0.00"},null,"610",null,"610","000","0000","5300","000",null,"000",{"$nulls":13},{"$f":"IF(OR(SUMPRODUCT(--(E1759=$O$1:$O$542))>0,E1759=0),0,1)","v":0}]
["610.000.0000.6930.000","Interfund Transfers Out ",{"v":0,"d":"$0.00"},null,"610",null,"610","000","0000","6930","000",null,"000",{"$nulls":13},{"$f":"IF(OR(SUMPRODUCT(--(E1760=$O$1:$O$542))>0,E1760=0),0,1)","v":0}]
["610.100.0000.6641.100","LIBRARY BOOKS",{"v":0,"d":"$0.00"},null,"610",null,"610","100","0000","6641","100",null,"100",{"$nulls":13},{"$f":"IF(OR(SUMPRODUCT(--(E1761=$O$1:$O$542))>0,E1761=0),0,1)","v":0}]
["610.100.0000.6710.100","LAND AND IMPROVEMENTS",{"v":0,"d":"$0.00"},null,"610",null,"610","100","0000","6710","100",null,"100",{"$nulls":13},{"$f":"IF(OR(SUMPRODUCT(--(E1762=$O$1:$O$542))>0,E1762=0),0,1)","v":0}]
["610.100.0000.6720.100","BUILDINGS AND IMPROVEMEN",{"v":0,"d":"$0.00"},null,"610",null,"610","100","0000","6720","100",null,"100",{"$nulls":13},{"$f":"IF(OR(SUMPRODUCT(--(E1763=$O$1:$O$542))>0,E1763=0),0,1)","v":0}]
["610.100.0000.6731.100","FURNITURE AND EQUIPMENT",{"v":0,"d":"$0.00"},null,"610",null,"610","100","0000","6731","100",null,"100",{"$nulls":13},{"$f":"IF(OR(SUMPRODUCT(--(E1764=$O$1:$O$542))>0,E1764=0),0,1)","v":0}]
["610.100.1000.0103.100","Cash on Deposit with County Treasurer ",{"v":0,"d":"$0.00"},null,"610",null,"610","100","1000","0103","100",null,"100",{"$nulls":13},{"$f":"IF(OR(SUMPRODUCT(--(E1765=$O$1:$O$542))>0,E1765=0),0,1)","v":0}]
["610.100.1000.6600.100","Undesignated",{"v":2977.04,"d":"$2,977.04"},null,"610",null,"610","100","1000","6600","100",null,"100",{"$nulls":13},{"$f":"IF(OR(SUMPRODUCT(--(E1766=$O$1:$O$542))>0,E1766=0),0,1)","v":0}]
["610.100.1000.6622.100","Electricity ",{"v":0,"d":"$0.00"},null,"610",null,"610","100","1000","6622","100",null,"100",{"$nulls":13},{"$f":"IF(OR(SUMPRODUCT(--(E1767=$O$1:$O$542))>0,E1767=0),0,1)","v":0}]
["610.100.1000.6641.100","Library Books",{"v":0,"d":"$0.00"},null,"610",null,"610","100","1000","6641","100",null,"100",{"$nulls":13},{"$f":"IF(OR(SUMPRODUCT(--(E1768=$O$1:$O$542))>0,E1768=0),0,1)","v":0}]
["610.100.1000.6642.100","Textbooks ",{"v":0,"d":"$0.00"},null,"610",null,"610","100","1000","6642","100",null,"100",{"$nulls":13},{"$f":"IF(OR(SUMPRODUCT(--(E1769=$O$1:$O$542))>0,E1769=0),0,1)","v":0}]
["610.100.1000.6643.100","Instructional Aids ",{"v":4757.09,"d":"$4,757.09"},null,"610",null,"610","100","1000","6643","100",null,"100",{"$nulls":13},{"$f":"IF(OR(SUMPRODUCT(--(E1770=$O$1:$O$542))>0,E1770=0),0,1)","v":0}]
["610.100.1000.6710.100","Land and Improvements ",{"v":0,"d":"$0.00"},null,"610",null,"610","100","1000","6710","100",null,"100",{"$nulls":13},{"$f":"IF(OR(SUMPRODUCT(--(E1771=$O$1:$O$542))>0,E1771=0),0,1)","v":0}]
["610.100.1000.6720.100","Buildings",{"v":0,"d":"$0.00"},null,"610",null,"610","100","1000","6720","100",null,"100",{"$nulls":13},{"$f":"IF(OR(SUMPRODUCT(--(E1772=$O$1:$O$542))>0,E1772=0),0,1)","v":0}]
["610.100.1000.6731.100","Furniture and Equipment ",{"v":1072.06,"d":"$1,072.06"},null,"610",null,"610","100","1000","6731","100",null,"100",{"$nulls":13},{"$f":"IF(OR(SUMPRODUCT(--(E1773=$O$1:$O$542))>0,E1773=0),0,1)","v":0}]
["610.100.1000.6733.100","Bleachers/Risers",{"v":6305.68,"d":"$6,305.68"},null,"610",null,"610","100","1000","6733","100",null,"100",{"$nulls":13},{"$f":"IF(OR(SUMPRODUCT(--(E1774=$O$1:$O$542))>0,E1774=0),0,1)","v":0}]
["610.100.1000.6734.100","Undesignated",{"v":0,"d":"$0.00"},null,"610",null,"610","100","1000","6734","100",null,"100",{"$nulls":13},{"$f":"IF(OR(SUMPRODUCT(--(E1775=$O$1:$O$542))>0,E1775=0),0,1)","v":0}]
["610.100.1000.6737.100","Undesignated",{"v":0,"d":"$0.00"},null,"610",null,"610","100","1000","6737","100",null,"100",{"$nulls":13},{"$f":"IF(OR(SUMPRODUCT(--(E1776=$O$1:$O$542))>0,E1776=0),0,1)","v":0}]
["610.100.1020.6731.100","Furniture and Equipment",{"v":0,"d":"$0.00"},null,"610",null,"610","100","1020","6731","100",null,"100",{"$nulls":13},{"$f":"IF(OR(SUMPRODUCT(--(E1777=$O$1:$O$542))>0,E1777=0),0,1)","v":0}]
["610.100.2100.6641.100","Student & Instructional Staff",{"v":0,"d":"$0.00"},null,"610",null,"610","100","2100","6641","100",null,"100",{"$nulls":13},{"$f":"IF(OR(SUMPRODUCT(--(E1778=$O$1:$O$542))>0,E1778=0),0,1)","v":0}]
["610.100.2200.6641.100","Student & Instructional Staff",{"v":0,"d":"$0.00"},null,"610",null,"610","100","2200","6641","100",null,"100",{"$nulls":13},{"$f":"IF(OR(SUMPRODUCT(--(E1779=$O$1:$O$542))>0,E1779=0),0,1)","v":0}]
["610.100.2200.6643.100","Instructional Aids",{"v":0,"d":"$0.00"},null,"610",null,"610","100","2200","6643","100",null,"100",{"$nulls":13},{"$f":"IF(OR(SUMPRODUCT(--(E1780=$O$1:$O$542))>0,E1780=0),0,1)","v":0}]
["610.100.2300.6700.000","Administration",{"v":0,"d":"$0.00"},null,"610",null,"610","100","2300","6700","000",null,"000",{"$nulls":13},{"$f":"IF(OR(SUMPRODUCT(--(E1781=$O$1:$O$542))>0,E1781=0),0,1)","v":0}]
["610.100.2300.6700.100","Administrative",{"v":0,"d":"$0.00"},null,"610",null,"610","100","2300","6700","100",null,"100",{"$nulls":13},{"$f":"IF(OR(SUMPRODUCT(--(E1782=$O$1:$O$542))>0,E1782=0),0,1)","v":0}]
["610.100.2400.6330.100","Undesignated",{"v":0,"d":"$0.00"},null,"610",null,"610","100","2400","6330","100",null,"100",{"$nulls":13},{"$f":"IF(OR(SUMPRODUCT(--(E1783=$O$1:$O$542))>0,E1783=0),0,1)","v":0}]
["610.100.2400.6700.100","Administration",{"v":0,"d":"$0.00"},null,"610",null,"610","100","2400","6700","100",null,"100",{"$nulls":13},{"$f":"IF(OR(SUMPRODUCT(--(E1784=$O$1:$O$542))>0,E1784=0),0,1)","v":0}]
["610.100.2490.0103.100","Cash on Deposit with County Treasurer ",{"v":0,"d":"$0.00"},null,"610",null,"610","100","2490","0103","100",null,"100",{"$nulls":13},{"$f":"IF(OR(SUMPRODUCT(--(E1785=$O$1:$O$542))>0,E1785=0),0,1)","v":0}]
["610.100.2490.6731.100","Furniture",{"v":0,"d":"$0.00"},null,"610",null,"610","100","2490","6731","100",null,"100",{"$nulls":13},{"$f":"IF(OR(SUMPRODUCT(--(E1786=$O$1:$O$542))>0,E1786=0),0,1)","v":0}]
["610.100.2500.6700.100","Administration",{"v":0,"d":"$0.00"},null,"610",null,"610","100","2500","6700","100",null,"100",{"$nulls":13},{"$f":"IF(OR(SUMPRODUCT(--(E1787=$O$1:$O$542))>0,E1787=0),0,1)","v":0}]
["610.100.2600.0103.100","Cash on Deposit with County Treasurer ",{"v":0,"d":"$0.00"},null,"610",null,"610","100","2600","0103","100",null,"100",{"$nulls":13},{"$f":"IF(OR(SUMPRODUCT(--(E1788=$O$1:$O$542))>0,E1788=0),0,1)","v":0}]
["610.100.2600.6600.100","Bldg. Supplies",{"v":0,"d":"$0.00"},null,"610",null,"610","100","2600","6600","100",null,"100",{"$nulls":13},{"$f":"IF(OR(SUMPRODUCT(--(E1789=$O$1:$O$542))>0,E1789=0),0,1)","v":0}]
["610.100.2600.6700.100","Operation & Maintenance of Plant",{"v":0,"d":"$0.00"},null,"610",null,"610","100","2600","6700","100",null,"100",{"$nulls":13},{"$f":"IF(OR(SUMPRODUCT(--(E1790=$O$1:$O$542))>0,E1790=0),0,1)","v":0}]
["610.100.2600.6731.100","Well Pump Replacement",{"v":0,"d":"$0.00"},null,"610",null,"610","100","2600","6731","100",null,"100",{"$nulls":13},{"$f":"IF(OR(SUMPRODUCT(--(E1791=$O$1:$O$542))>0,E1791=0),0,1)","v":0}]
["610.100.2650.0103.100","Cash on Deposit with County Treasurer ",{"v":0,"d":"$0.00"},null,"610",null,"610","100","2650","0103","100",null,"100",{"$nulls":13},{"$f":"IF(OR(SUMPRODUCT(--(E1792=$O$1:$O$542))>0,E1792=0),0,1)","v":0}]
["610.100.2650.6734.100","New Bus Tires",{"v":3229.35,"d":"$3,229.35"},null,"610",null,"610","100","2650","6734","100",null,"100",{"$nulls":13},{"$f":"IF(OR(SUMPRODUCT(--(E1793=$O$1:$O$542))>0,E1793=0),0,1)","v":0}]
["610.100.2700.0103.100","Cash on Deposit with County Treasurer ",{"v":0,"d":"$0.00"},null,"610",null,"610","100","2700","0103","100",null,"100",{"$nulls":13},{"$f":"IF(OR(SUMPRODUCT(--(E1794=$O$1:$O$542))>0,E1794=0),0,1)","v":0}]
["610.100.2700.6700.100","Student Transportation",{"v":0,"d":"$0.00"},null,{"$f":"IF(AND(F1795<>\"\",F1795=G1795),\"ERROR\",IF(AND(F1795<>\"\",F1795<>G1795),F1795,G1795))","v":"610"},null,"610","100","2700","6700","100",null,{"$f":"IF(L1795<>\"\",L1795,K1795)","v":"100"},{"$nulls":13},{"$f":"IF(OR(SUMPRODUCT(--(E1795=$O$1:$O$542))>0,E1795=0),0,1)","v":0}]
["610.100.2700.6732.100","Vehicles ",{"v":0,"d":"$0.00"},null,"610",null,"610","100","2700","6732","100",null,"100",{"$nulls":13},{"$f":"IF(OR(SUMPRODUCT(--(E1796=$O$1:$O$542))>0,E1796=0),0,1)","v":0}]
["610.100.2700.6734.100","Vehicles",{"v":0,"d":"$0.00"},null,"610",null,"610","100","2700","6734","100",null,"100",{"$nulls":13},{"$f":"IF(OR(SUMPRODUCT(--(E1797=$O$1:$O$542))>0,E1797=0),0,1)","v":0}]
["610.100.2730.6734.100","Bus Seat Belts",{"v":837.19,"d":"$837.19"},null,"610",null,"610","100","2730","6734","100",null,"100",{"$nulls":13},{"$f":"IF(OR(SUMPRODUCT(--(E1798=$O$1:$O$542))>0,E1798=0),0,1)","v":0}]
["610.100.4000.6450.100","Cafeteria Tile",{"v":0,"d":"$0.00"},null,"610",null,"610","100","4000","6450","100",null,"100",{"$nulls":13},{"$f":"IF(OR(SUMPRODUCT(--(E1799=$O$1:$O$542))>0,E1799=0),0,1)","v":0}]
["610.400.2670.6730.100","Safety",{"v":0,"d":"$0.00"},null,"610",null,"610","400","2670","6730","100",null,"100",{"$nulls":13},{"$f":"IF(OR(SUMPRODUCT(--(E1800=$O$1:$O$542))>0,E1800=0),0,1)","v":0}]
["610.400.2700.0103.100","Undesignated",{"v":0,"d":"$0.00"},null,"610",null,"610","400","2700","0103","100",null,"100",{"$nulls":13},{"$f":"IF(OR(SUMPRODUCT(--(E1801=$O$1:$O$542))>0,E1801=0),0,1)","v":0}]
["610.400.2700.6730.100","Fuel Tank Purchase",{"v":0,"d":"$0.00"},null,"610",null,"610","400","2700","6730","100",null,"100",{"$nulls":13},{"$f":"IF(OR(SUMPRODUCT(--(E1802=$O$1:$O$542))>0,E1802=0),0,1)","v":0}]
["610.400.2700.6734.100","Bus Camera",{"v":0,"d":"$0.00"},null,"610",null,"610","400","2700","6734","100",null,"100",{"$nulls":13},{"$f":"IF(OR(SUMPRODUCT(--(E1803=$O$1:$O$542))>0,E1803=0),0,1)","v":0}]
["610.400.2730.0103.100","Cash on Deposit with County Treasurer ",{"v":0,"d":"$0.00"},null,"610",null,"610","400","2730","0103","100",null,"100",{"$nulls":13},{"$f":"IF(OR(SUMPRODUCT(--(E1804=$O$1:$O$542))>0,E1804=0),0,1)","v":0}]
["610.400.2730.6734.100","Auto Repair",{"v":0,"d":"$0.00"},null,"610",null,"610","400","2730","6734","100",null,"100",{"$nulls":13},{"$f":"IF(OR(SUMPRODUCT(--(E1805=$O$1:$O$542))>0,E1805=0),0,1)","v":0}]
["610.400.4600.6450.100","Undesignated",{"v":0,"d":"$0.00"},null,"610",null,"610","400","4600","6450","100",null,"100",{"$nulls":13},{"$f":"IF(OR(SUMPRODUCT(--(E1806=$O$1:$O$542))>0,E1806=0),0,1)","v":0}]
["610.400.4900.6450.100","Electrical",{"v":0,"d":"$0.00"},null,"610",null,"610","400","4900","6450","100",null,"100",{"$nulls":13},{"$f":"IF(OR(SUMPRODUCT(--(E1807=$O$1:$O$542))>0,E1807=0),0,1)","v":0}]
["610.610.1000.6643.100","Instructional Aids ",{"v":0,"d":"$0.00"},null,"610",null,"610","610","1000","6643","100",null,"100",{"$nulls":13},{"$f":"IF(OR(SUMPRODUCT(--(E1808=$O$1:$O$542))>0,E1808=0),0,1)","v":0}]
["625.000.0000.0103.000","Cash on Deposit with Cou",{"v":0,"d":"$0.00"},null,"610","610","625","000","0000","0103","000",null,"000",{"$nulls":13},{"$f":"IF(OR(SUMPRODUCT(--(E1809=$O$1:$O$542))>0,E1809=0),0,1)","v":0}]
["625.000.0000.0201.000","Accounts Payable",{"v":0,"d":"$0.00"},null,"610","610","625","000","0000","0201","000",null,"000",{"$nulls":13},{"$f":"IF(OR(SUMPRODUCT(--(E1810=$O$1:$O$542))>0,E1810=0),0,1)","v":0}]
["625.000.0000.0330.000","Unreserved Fund Balance",{"v":0,"d":"$0.00"},null,"610","610","625","000","0000","0330","000",null,"000",{"$nulls":13},{"$f":"IF(OR(SUMPRODUCT(--(E1811=$O$1:$O$542))>0,E1811=0),0,1)","v":0}]
["625.000.0000.1111.000","PERSONAL PROPERTY TAXES",{"v":0,"d":"$0.00"},null,"610","610","625","000","0000","1111","000",null,"000",{"$nulls":13},{"$f":"IF(OR(SUMPRODUCT(--(E1812=$O$1:$O$542))>0,E1812=0),0,1)","v":0}]
["625.000.0000.1115.000","REAL PROPERTY TAXES",{"v":0,"d":"$0.00"},null,"610","610","625","000","0000","1115","000",null,"000",{"$nulls":13},{"$f":"IF(OR(SUMPRODUCT(--(E1813=$O$1:$O$542))>0,E1813=0),0,1)","v":0}]
["625.000.0000.1510.000","Interest on Investments ",{"v":0,"d":"$0.00"},null,"610","610","625","000","0000","1510","000",null,"000",{"$nulls":13},{"$f":"IF(OR(SUMPRODUCT(--(E1814=$O$1:$O$542))>0,E1814=0),0,1)","v":0}]
["625.000.0000.2120.000","County Equalization Assi",{"v":0,"d":"$0.00"},null,"610","610","625","000","0000","2120","000",null,"000",{"$nulls":13},{"$f":"IF(OR(SUMPRODUCT(--(E1815=$O$1:$O$542))>0,E1815=0),0,1)","v":0}]
["625.000.0000.2122.000","PRIOR YEAR REVENUE",{"v":0,"d":"$0.00"},null,"610","610","625","000","0000","2122","000",null,"000",{"$nulls":13},{"$f":"IF(OR(SUMPRODUCT(--(E1816=$O$1:$O$542))>0,E1816=0),0,1)","v":0}]
["625.000.0000.3110.000","State Equalization Assis",{"v":0,"d":"$0.00"},null,"610","610","625","000","0000","3110","000",null,"000",{"$nulls":13},{"$f":"IF(OR(SUMPRODUCT(--(E1817=$O$1:$O$542))>0,E1817=0),0,1)","v":0}]
["625.000.0000.3120.000","Additional State Aid ",{"v":0,"d":"$0.00"},null,"610","610","625","000","0000","3120","000",null,"000",{"$nulls":13},{"$f":"IF(OR(SUMPRODUCT(--(E1818=$O$1:$O$542))>0,E1818=0),0,1)","v":0}]
["625.000.0000.4100.000","FEDERAL UNRESTRICTED",{"v":0,"d":"$0.00"},null,"610","610","625","000","0000","4100","000",null,"000",{"$nulls":13},{"$f":"IF(OR(SUMPRODUCT(--(E1819=$O$1:$O$542))>0,E1819=0),0,1)","v":0}]
["625.000.0000.5200.000","Funds Transfer In",{"v":0,"d":"$0.00"},null,"610","610","625","000","0000","5200","000",null,"000",{"$nulls":13},{"$f":"IF(OR(SUMPRODUCT(--(E1820=$O$1:$O$542))>0,E1820=0),0,1)","v":0}]
["625.000.0000.6930.000","Interfund Transfers Out",{"v":0,"d":"$0.00"},null,"610","610","625","000","0000","6930","000",null,"000",{"$nulls":13},{"$f":"IF(OR(SUMPRODUCT(--(E1821=$O$1:$O$542))>0,E1821=0),0,1)","v":0}]
["625.000.5000.6820.100","Judgments Against the Di",{"v":0,"d":"$0.00"},null,"610","610","625","000","5000","6820","100",null,"100",{"$nulls":13},{"$f":"IF(OR(SUMPRODUCT(--(E1822=$O$1:$O$542))>0,E1822=0),0,1)","v":0}]
["625.100.0000.6642.100","Textbooks ",{"v":0,"d":"$0.00"},null,"610","610","625","100","0000","6642","100",null,"100",{"$nulls":13},{"$f":"IF(OR(SUMPRODUCT(--(E1823=$O$1:$O$542))>0,E1823=0),0,1)","v":0}]
["625.100.0000.6643.100","Instructional Aids ",{"v":0,"d":"$0.00"},null,"610","610","625","100","0000","6643","100",null,"100",{"$nulls":13},{"$f":"IF(OR(SUMPRODUCT(--(E1824=$O$1:$O$542))>0,E1824=0),0,1)","v":0}]
["625.100.1000.0103.100","Cash on Deposit with County Treasurer ",{"v":0,"d":"$0.00"},null,"610","610","625","100","1000","0103","100",null,"100",{"$nulls":13},{"$f":"IF(OR(SUMPRODUCT(--(E1825=$O$1:$O$542))>0,E1825=0),0,1)","v":0}]
["625.100.1000.6600.100","Supplies ",{"v":0,"d":"$0.00"},null,"610","610","625","100","1000","6600","100",null,"100",{"$nulls":13},{"$f":"IF(OR(SUMPRODUCT(--(E1826=$O$1:$O$542))>0,E1826=0),0,1)","v":0}]
["625.100.1000.6641.100","Library Books",{"v":0,"d":"$0.00"},null,"610","610","625","100","1000","6641","100",null,"100",{"$nulls":13},{"$f":"IF(OR(SUMPRODUCT(--(E1827=$O$1:$O$542))>0,E1827=0),0,1)","v":0}]
["625.100.1000.6642.100","Textbooks ",{"v":0,"d":"$0.00"},null,"610","610","625","100","1000","6642","100",null,"100",{"$nulls":13},{"$f":"IF(OR(SUMPRODUCT(--(E1828=$O$1:$O$542))>0,E1828=0),0,1)","v":0}]
["625.100.1000.6643.100","Instructional Aids ",{"v":0,"d":"$0.00"},null,"610","610","625","100","1000","6643","100",null,"100",{"$nulls":13},{"$f":"IF(OR(SUMPRODUCT(--(E1829=$O$1:$O$542))>0,E1829=0),0,1)","v":0}]
["625.100.1000.6710.100","Land and Improvements",{"v":0,"d":"$0.00"},null,"610","610","625","100","1000","6710","100",null,"100",{"$nulls":13},{"$f":"IF(OR(SUMPRODUCT(--(E1830=$O$1:$O$542))>0,E1830=0),0,1)","v":0}]
["625.100.1000.6731.100","Furniture and Equipment ",{"v":0,"d":"$0.00"},null,"610","610","625","100","1000","6731","100",null,"100",{"$nulls":13},{"$f":"IF(OR(SUMPRODUCT(--(E1831=$O$1:$O$542))>0,E1831=0),0,1)","v":0}]
["625.100.1000.6732.100","Vehicles ",{"v":0,"d":"$0.00"},null,"610","610","625","100","1000","6732","100",null,"100",{"$nulls":13},{"$f":"IF(OR(SUMPRODUCT(--(E1832=$O$1:$O$542))>0,E1832=0),0,1)","v":0}]
["625.100.2700.6732.100","Vehicles ",{"v":0,"d":"$0.00"},null,"610","610","625","100","2700","6732","100",null,"100",{"$nulls":13},{"$f":"IF(OR(SUMPRODUCT(--(E1833=$O$1:$O$542))>0,E1833=0),0,1)","v":0}]
["670.000.0000.0103.000","Cash on Deposit with County Treasurer",{"v":0,"d":"$0.00"},null,"665","665","670","000","0000","0103","000",null,"000",{"$nulls":13},{"$f":"IF(OR(SUMPRODUCT(--(E1834=$O$1:$O$542))>0,E1834=0),0,1)","v":0}]
["670.000.0000.0201.000","Accounts Payable",{"v":0,"d":"$0.00"},null,"665","665","670","000","0000","0201","000",null,"000",{"$nulls":13},{"$f":"IF(OR(SUMPRODUCT(--(E1835=$O$1:$O$542))>0,E1835=0),0,1)","v":0}]
["670.000.0000.0330.000","Unreserved Fund Balance",{"v":0,"d":"$0.00"},null,"665","665","670","000","0000","0330","000",null,"000",{"$nulls":13},{"$f":"IF(OR(SUMPRODUCT(--(E1836=$O$1:$O$542))>0,E1836=0),0,1)","v":0}]
["670.000.0000.4500.000","RESTRICTED GRANT FEDERAL",{"v":0,"d":"$0.00"},null,"665","665","670","000","0000","4500","000",null,"000",{"$nulls":13},{"$f":"IF(OR(SUMPRODUCT(--(E1837=$O$1:$O$542))>0,E1837=0),0,1)","v":0}]
["670.100.1000.6710.100","Land and Improvements",{"v":0,"d":"$0.00"},null,"665","665","670","100","1000","6710","100",null,"100",{"$nulls":13},{"$f":"IF(OR(SUMPRODUCT(--(E1838=$O$1:$O$542))>0,E1838=0),0,1)","v":0}]
["685.000.0000.0103.000","Deficiencies Corrections",{"v":0,"d":"$0.00"},null,"686","686","685","000","0000","0103","000",null,"000",{"$nulls":13},{"$f":"IF(OR(SUMPRODUCT(--(E1839=$O$1:$O$542))>0,E1839=0),0,1)","v":0}]
["685.000.0000.0330.000","Unreserved Fund Balance",{"v":0,"d":"$0.00"},null,"686","686","685","000","0000","0330","000",null,"000",{"$nulls":13},{"$f":"IF(OR(SUMPRODUCT(--(E1840=$O$1:$O$542))>0,E1840=0),0,1)","v":0}]
["685.000.0000.1510.000","Interest on Investments ",{"v":0,"d":"$0.00"},null,"686","686","685","000","0000","1510","000",null,"000",{"$nulls":13},{"$f":"IF(OR(SUMPRODUCT(--(E1841=$O$1:$O$542))>0,E1841=0),0,1)","v":0}]
["685.000.0000.3900.000","Revenue for/on Behalf of",{"v":0,"d":"$0.00"},null,"686","686","685","000","0000","3900","000",null,"000",{"$nulls":13},{"$f":"IF(OR(SUMPRODUCT(--(E1842=$O$1:$O$542))>0,E1842=0),0,1)","v":0}]
["685.100.0000.6731.100","Furniture and Equipment ",{"v":0,"d":"$0.00"},null,"686","686","685","100","0000","6731","100",null,"100",{"$nulls":13},{"$f":"IF(OR(SUMPRODUCT(--(E1843=$O$1:$O$542))>0,E1843=0),0,1)","v":0}]
["685.100.6000.6930.000","Transfer Out",{"v":0,"d":"$0.00"},null,"686","686","685","100","6000","6930","000",null,"000",{"$nulls":13},{"$f":"IF(OR(SUMPRODUCT(--(E1844=$O$1:$O$542))>0,E1844=0),0,1)","v":0}]
["690.000.0000.0103.000","SFB - Building Renewal",{"v":0,"d":"$0.00"},null,"691","691","690","000","0000","0103","000",null,"000",{"$nulls":13},{"$f":"IF(OR(SUMPRODUCT(--(E1845=$O$1:$O$542))>0,E1845=0),0,1)","v":0}]
["690.000.0000.0201.000","Accounts Payable",{"v":0,"d":"$0.00"},null,"691","691","690","000","0000","0201","000",null,"000",{"$nulls":13},{"$f":"IF(OR(SUMPRODUCT(--(E1846=$O$1:$O$542))>0,E1846=0),0,1)","v":0}]
["690.000.0000.0330.000","Unreserved Fund Balance",{"v":0,"d":"$0.00"},null,"691","691","690","000","0000","0330","000",null,"000",{"$nulls":13},{"$f":"IF(OR(SUMPRODUCT(--(E1847=$O$1:$O$542))>0,E1847=0),0,1)","v":0}]
["690.000.0000.1510.000","Interest on Investments ",{"v":0,"d":"$0.00"},null,"691","691","690","000","0000","1510","000",null,"000",{"$nulls":13},{"$f":"IF(OR(SUMPRODUCT(--(E1848=$O$1:$O$542))>0,E1848=0),0,1)","v":0}]
["690.000.0000.3200.000","Restricted Grants-in-Aid",{"v":0,"d":"$0.00"},null,"691","691","690","000","0000","3200","000",null,"000",{"$nulls":13},{"$f":"IF(OR(SUMPRODUCT(--(E1849=$O$1:$O$542))>0,E1849=0),0,1)","v":0}]
["690.000.0000.3900.000","Revenue for/on Behalf of",{"v":0,"d":"$0.00"},null,"691","691","690","000","0000","3900","000",null,"000",{"$nulls":13},{"$f":"IF(OR(SUMPRODUCT(--(E1850=$O$1:$O$542))>0,E1850=0),0,1)","v":0}]
["690.100.0000.6710.100","Land and Improvements ",{"v":0,"d":"$0.00"},null,"691","691","690","100","0000","6710","100",null,"100",{"$nulls":13},{"$f":"IF(OR(SUMPRODUCT(--(E1851=$O$1:$O$542))>0,E1851=0),0,1)","v":0}]
["690.100.0000.6720.100","Buildings",{"v":0,"d":"$0.00"},null,"691","691","690","100","0000","6720","100",null,"100",{"$nulls":13},{"$f":"IF(OR(SUMPRODUCT(--(E1852=$O$1:$O$542))>0,E1852=0),0,1)","v":0}]
["690.100.0000.6731.100","Furniture and Equipment ",{"v":0,"d":"$0.00"},null,"691","691","690","100","0000","6731","100",null,"100",{"$nulls":13},{"$f":"IF(OR(SUMPRODUCT(--(E1853=$O$1:$O$542))>0,E1853=0),0,1)","v":0}]
["690.100.1000.0103.100","Cash on Deposit with County Treasurer ",{"v":0,"d":"$0.00"},null,"691","691","690","100","1000","0103","100",null,"100",{"$nulls":13},{"$f":"IF(OR(SUMPRODUCT(--(E1854=$O$1:$O$542))>0,E1854=0),0,1)","v":0}]
["690.100.1000.6710.100","Land and Improvements ",{"v":0,"d":"$0.00"},null,"691","691","690","100","1000","6710","100",null,"100",{"$nulls":13},{"$f":"IF(OR(SUMPRODUCT(--(E1855=$O$1:$O$542))>0,E1855=0),0,1)","v":0}]
["690.100.1000.6720.100","Buildings",{"v":0,"d":"$0.00"},null,"691","691","690","100","1000","6720","100",null,"100",{"$nulls":13},{"$f":"IF(OR(SUMPRODUCT(--(E1856=$O$1:$O$542))>0,E1856=0),0,1)","v":0}]
["690.100.1000.6731.100","Furniture and Equipment ",{"v":0,"d":"$0.00"},null,"691","691","690","100","1000","6731","100",null,"100",{"$nulls":13},{"$f":"IF(OR(SUMPRODUCT(--(E1857=$O$1:$O$542))>0,E1857=0),0,1)","v":0}]
["690.100.2600.6720.100","Buildings",{"v":0,"d":"$0.00"},null,"691","691","690","100","2600","6720","100",null,"100",{"$nulls":13},{"$f":"IF(OR(SUMPRODUCT(--(E1858=$O$1:$O$542))>0,E1858=0),0,1)","v":0}]
["690.100.6000.6930.000","Transfer Out",{"v":0,"d":"$0.00"},null,{"$f":"IF(AND(F1859<>\"\",F1859=G1859),\"ERROR\",IF(AND(F1859<>\"\",F1859<>G1859),F1859,G1859))","v":"691"},"691","690","100","6000","6930","000",null,{"$f":"IF(L1859<>\"\",L1859,K1859)","v":"000"},{"$nulls":13},{"$f":"IF(OR(SUMPRODUCT(--(E1859=$O$1:$O$542))>0,E1859=0),0,1)","v":0}]
["691.000.0000.0103.000","SFB - Building Renewal",{"v":71.08,"d":"$71.08"},null,"691",null,"691","000","0000","0103","000",null,"000",{"$nulls":13},{"$f":"IF(OR(SUMPRODUCT(--(E1860=$O$1:$O$542))>0,E1860=0),0,1)","v":0}]
["691.000.0000.0201.000","Accounts Payable",{"v":0,"d":"$0.00"},null,"691",null,"691","000","0000","0201","000",null,"000",{"$nulls":13},{"$f":"IF(OR(SUMPRODUCT(--(E1861=$O$1:$O$542))>0,E1861=0),0,1)","v":0}]
["691.000.0000.0330.000","Unreserved Fund Balance",{"v":-71.08,"d":"-($71.08)"},null,"691",null,"691","000","0000","0330","000",null,"000",{"$nulls":13},{"$f":"IF(OR(SUMPRODUCT(--(E1862=$O$1:$O$542))>0,E1862=0),0,1)","v":0}]
["691.000.0000.1510.000","Interest on Investments ",{"v":0,"d":"$0.00"},null,"691",null,"691","000","0000","1510","000",null,"000",{"$nulls":13},{"$f":"IF(OR(SUMPRODUCT(--(E1863=$O$1:$O$542))>0,E1863=0),0,1)","v":0}]
["691.000.0000.3200.000","Restricted Grants-in-Aid",{"v":0,"d":"$0.00"},null,"691",null,"691","000","0000","3200","000",null,"000",{"$nulls":13},{"$f":"IF(OR(SUMPRODUCT(--(E1864=$O$1:$O$542))>0,E1864=0),0,1)","v":0}]
["691.000.0000.4500.000","RESTRICTED GRANT FEDERAL",{"v":0,"d":"$0.00"},null,"691",null,"691","000","0000","4500","000",null,"000",{"$nulls":13},{"$f":"IF(OR(SUMPRODUCT(--(E1865=$O$1:$O$542))>0,E1865=0),0,1)","v":0}]
["691.100.1000.6700.000","Undesignated",{"v":0,"d":"$0.00"},null,"691",null,"691","100","1000","6700","000",null,"000",{"$nulls":13},{"$f":"IF(OR(SUMPRODUCT(--(E1866=$O$1:$O$542))>0,E1866=0),0,1)","v":0}]
["691.100.4000.0103.100","Cash on Deposit with County Treasurer ",{"v":0,"d":"$0.00"},null,"691",null,"691","100","4000","0103","100",null,"100",{"$nulls":13},{"$f":"IF(OR(SUMPRODUCT(--(E1867=$O$1:$O$542))>0,E1867=0),0,1)","v":0}]
["691.100.4000.6450.100","Architect/Engineer Fees",{"v":0,"d":"$0.00"},null,"691",null,"691","100","4000","6450","100",null,"100",{"$nulls":13},{"$f":"IF(OR(SUMPRODUCT(--(E1868=$O$1:$O$542))>0,E1868=0),0,1)","v":0}]
["691.100.4000.6540.100","Advertising for Bidding",{"v":0,"d":"$0.00"},null,"691",null,"691","100","4000","6540","100",null,"100",{"$nulls":13},{"$f":"IF(OR(SUMPRODUCT(--(E1869=$O$1:$O$542))>0,E1869=0),0,1)","v":0}]
["691.100.4000.6730.100","New Fire Alarm Panel",{"v":0,"d":"$0.00"},null,"691",null,"691","100","4000","6730","100",null,"100",{"$nulls":13},{"$f":"IF(OR(SUMPRODUCT(--(E1870=$O$1:$O$542))>0,E1870=0),0,1)","v":0}]
["691.100.4300.0103.100","Undesignated",{"v":0,"d":"$0.00"},null,"691",null,"691","100","4300","0103","100",null,"100",{"$nulls":13},{"$f":"IF(OR(SUMPRODUCT(--(E1871=$O$1:$O$542))>0,E1871=0),0,1)","v":0}]
["691.100.4300.6300.100","Professional Services",{"v":0,"d":"$0.00"},null,"691",null,"691","100","4300","6300","100",null,"100",{"$nulls":13},{"$f":"IF(OR(SUMPRODUCT(--(E1872=$O$1:$O$542))>0,E1872=0),0,1)","v":0}]
["691.100.6000.6930.000","Transfer Out",{"v":0,"d":"$0.00"},null,"691",null,"691","100","6000","6930","000",null,"000",{"$nulls":13},{"$f":"IF(OR(SUMPRODUCT(--(E1873=$O$1:$O$542))>0,E1873=0),0,1)","v":0}]
["695.000.0000.0103.000","Cash on Deposit with Cou",{"v":0,"d":"$0.00"},null,"695",null,"695","000","0000","0103","000",null,"000",{"$nulls":13},{"$f":"IF(OR(SUMPRODUCT(--(E1874=$O$1:$O$542))>0,E1874=0),0,1)","v":0}]
["695.000.0000.0330.000","Unreserved Fund Balance",{"v":0,"d":"$0.00"},null,"695",null,"695","000","0000","0330","000",null,"000",{"$nulls":13},{"$f":"IF(OR(SUMPRODUCT(--(E1875=$O$1:$O$542))>0,E1875=0),0,1)","v":0}]
["695.000.0000.1510.000","Interest on Investments ",{"v":0,"d":"$0.00"},null,"695",null,"695","000","0000","1510","000",null,"000",{"$nulls":13},{"$f":"IF(OR(SUMPRODUCT(--(E1876=$O$1:$O$542))>0,E1876=0),0,1)","v":0}]
["695.100.2700.6700.100","Property",{"v":0,"d":"$0.00"},null,"695",null,"695","100","2700","6700","100",null,"100",{"$nulls":13},{"$f":"IF(OR(SUMPRODUCT(--(E1877=$O$1:$O$542))>0,E1877=0),0,1)","v":0}]
["695.100.6000.6930.000","Transfer out",{"v":0,"d":"$0.00"},null,"695",null,"695","100","6000","6930","000",null,"000",{"$nulls":13},{"$f":"IF(OR(SUMPRODUCT(--(E1878=$O$1:$O$542))>0,E1878=0),0,1)","v":0}]
["850.000.0000.0103.000","Cash on Deposit with County Treasurer ",{"v":5595.49,"d":"$5,595.49"},null,"850",null,"850","000","0000","0103","000",null,"000",{"$nulls":13},{"$f":"IF(OR(SUMPRODUCT(--(E1879=$O$1:$O$542))>0,E1879=0),0,1)","v":0}]
["850.000.0000.0201.000","Accounts Payable",{"v":0,"d":"$0.00"},null,"850",null,"850","000","0000","0201","000",null,"000",{"$nulls":13},{"$f":"IF(OR(SUMPRODUCT(--(E1880=$O$1:$O$542))>0,E1880=0),0,1)","v":0}]
["850.000.0000.0330.000","Unreserved Fund Balance",{"v":-4255.63,"d":"-($4,255.63)"},null,"850",null,"850","000","0000","0330","000",null,"000",{"$nulls":13},{"$f":"IF(OR(SUMPRODUCT(--(E1881=$O$1:$O$542))>0,E1881=0),0,1)","v":0}]
["850.000.0000.1790.100","Extracurricular Activities Fees Tax Credit",{"v":-200,"d":"-($200.00)"},null,"850",null,"850","000","0000","1790","100",null,"100",{"$nulls":13},{"$f":"IF(OR(SUMPRODUCT(--(E1882=$O$1:$O$542))>0,E1882=0),0,1)","v":0}]
["850.000.0000.1920.000","Contributions and Donations from Private Sources ",{"v":-3324.91,"d":"-($3,324.91)"},null,"850",null,"850","000","0000","1920","000",null,"000",{"$nulls":13},{"$f":"IF(OR(SUMPRODUCT(--(E1883=$O$1:$O$542))>0,E1883=0),0,1)","v":0}]
["850.100.1000.0103.100","Cash on Deposit with County Treasurer ",{"v":0,"d":"$0.00"},null,"850",null,"850","100","1000","0103","100",null,"100",{"$nulls":13},{"$f":"IF(OR(SUMPRODUCT(--(E1884=$O$1:$O$542))>0,E1884=0),0,1)","v":0}]
["850.100.1000.6600.100","Student Award Supplies",{"v":0,"d":"$0.00"},null,"850",null,"850","100","1000","6600","100",null,"100",{"$nulls":13},{"$f":"IF(OR(SUMPRODUCT(--(E1885=$O$1:$O$542))>0,E1885=0),0,1)","v":0}]
["850.100.1000.6610.100","Student Lunch",{"v":300.03,"d":"$300.03"},null,"850",null,"850","100","1000","6610","100",null,"100",{"$nulls":13},{"$f":"IF(OR(SUMPRODUCT(--(E1886=$O$1:$O$542))>0,E1886=0),0,1)","v":0}]
["850.100.1000.6611.100","Undesignated",{"v":1832.02,"d":"$1,832.02"},null,"850",null,"850","100","1000","6611","100",null,"100",{"$nulls":13},{"$f":"IF(OR(SUMPRODUCT(--(E1887=$O$1:$O$542))>0,E1887=0),0,1)","v":0}]
["850.100.2200.6890.100","Field Trip Camp fee",{"v":53,"d":"$53.00"},null,"850",null,"850","100","2200","6890","100",null,"100",{"$nulls":13},{"$f":"IF(OR(SUMPRODUCT(--(E1888=$O$1:$O$542))>0,E1888=0),0,1)","v":0}]
["953.000.0000.0103.000","Small Schools",{"v":-1685.4,"d":"-($1,685.40)"},null,"953",null,"953","000","0000","0103","000",null,"000",{"$nulls":13},{"$f":"IF(OR(SUMPRODUCT(--(E1889=$O$1:$O$542))>0,E1889=0),0,1)","v":0}]
["953.000.0000.0103.100","Cash on Deposit with County Treasurer ",{"v":0,"d":"$0.00"},null,"953",null,"953","000","0000","0103","100",null,"100",{"$nulls":13},{"$f":"IF(OR(SUMPRODUCT(--(E1890=$O$1:$O$542))>0,E1890=0),0,1)","v":0}]
["953.000.0000.0201.000","Accounts Payable",{"v":0,"d":"$0.00"},null,"953",null,"953","000","0000","0201","000",null,"000",{"$nulls":13},{"$f":"IF(OR(SUMPRODUCT(--(E1891=$O$1:$O$542))>0,E1891=0),0,1)","v":0}]
["953.000.0000.0330.000","Unreserved Fund Balance",{"v":-2679.59,"d":"-($2,679.59)"},null,"953",null,"953","000","0000","0330","000",null,"000",{"$nulls":13},{"$f":"IF(OR(SUMPRODUCT(--(E1892=$O$1:$O$542))>0,E1892=0),0,1)","v":0}]
["953.000.0000.1510.000","Interest on Investments ",{"v":0,"d":"$0.00"},null,"953",null,"953","000","0000","1510","000",null,"000",{"$nulls":13},{"$f":"IF(OR(SUMPRODUCT(--(E1893=$O$1:$O$542))>0,E1893=0),0,1)","v":0}]
["953.000.0000.1900.000","Other Revenue from Local",{"v":0,"d":"$0.00"},null,"953",null,"953","000","0000","1900","000",null,"000",{"$nulls":13},{"$f":"IF(OR(SUMPRODUCT(--(E1894=$O$1:$O$542))>0,E1894=0),0,1)","v":0}]
["953.000.0000.1990.000","Miscellaneous",{"v":0,"d":"$0.00"},null,"953",null,"953","000","0000","1990","000",null,"000",{"$nulls":13},{"$f":"IF(OR(SUMPRODUCT(--(E1895=$O$1:$O$542))>0,E1895=0),0,1)","v":0}]
["953.000.0000.1990.100","Miscellaneous",{"v":0,"d":"$0.00"},null,"953",null,"953","000","0000","1990","100",null,"100",{"$nulls":13},{"$f":"IF(OR(SUMPRODUCT(--(E1896=$O$1:$O$542))>0,E1896=0),0,1)","v":0}]
["953.000.0000.2110.000","County School Fund ",{"v":0,"d":"$0.00"},null,"953",null,"953","000","0000","2110","000",null,"000",{"$nulls":13},{"$f":"IF(OR(SUMPRODUCT(--(E1897=$O$1:$O$542))>0,E1897=0),0,1)","v":0}]
["953.100.1000.0103.100","Cash on Deposit with County Treasurer ",{"v":0,"d":"$0.00"},null,"953",null,"953","100","1000","0103","100",null,"100",{"$nulls":13},{"$f":"IF(OR(SUMPRODUCT(--(E1898=$O$1:$O$542))>0,E1898=0),0,1)","v":0}]
["953.100.1000.6500.100","Other Purchased Services ",{"v":0,"d":"$0.00"},null,"953",null,"953","100","1000","6500","100",null,"100",{"$nulls":13},{"$f":"IF(OR(SUMPRODUCT(--(E1899=$O$1:$O$542))>0,E1899=0),0,1)","v":0}]
["953.100.1000.6700.100","Property",{"v":0,"d":"$0.00"},null,"953",null,"953","100","1000","6700","100",null,"100",{"$nulls":13},{"$f":"IF(OR(SUMPRODUCT(--(E1900=$O$1:$O$542))>0,E1900=0),0,1)","v":0}]
["953.100.2200.0103.100","Undesignated",{"v":0,"d":"$0.00"},null,"953",null,"953","100","2200","0103","100",null,"100",{"$nulls":13},{"$f":"IF(OR(SUMPRODUCT(--(E1901=$O$1:$O$542))>0,E1901=0),0,1)","v":0}]
["953.100.2200.6330.100","Other Professional Services ",{"v":0,"d":"$0.00"},null,"953",null,"953","100","2200","6330","100",null,"100",{"$nulls":13},{"$f":"IF(OR(SUMPRODUCT(--(E1902=$O$1:$O$542))>0,E1902=0),0,1)","v":0}]
["953.100.2200.6650.100","Electrical Supplies",{"v":0,"d":"$0.00"},null,"953",null,"953","100","2200","6650","100",null,"100",{"$nulls":13},{"$f":"IF(OR(SUMPRODUCT(--(E1903=$O$1:$O$542))>0,E1903=0),0,1)","v":0}]
["953.100.2200.6700.100","Electrica/UPS/powerstrips",{"v":0,"d":"$0.00"},null,"953",null,"953","100","2200","6700","100",null,"100",{"$nulls":13},{"$f":"IF(OR(SUMPRODUCT(--(E1904=$O$1:$O$542))>0,E1904=0),0,1)","v":0}]
["953.100.2500.0103.100","Cash on Deposit with County Treasurer ",{"v":0,"d":"$0.00"},null,"953",null,"953","100","2500","0103","100",null,"100",{"$nulls":13},{"$f":"IF(OR(SUMPRODUCT(--(E1905=$O$1:$O$542))>0,E1905=0),0,1)","v":0}]
["953.100.2500.6340.100","IVEE Budget Vision Support",{"v":4364.99,"d":"$4,364.99"},null,"953",null,"953","100","2500","6340","100",null,"100",{"$nulls":13},{"$f":"IF(OR(SUMPRODUCT(--(E1906=$O$1:$O$542))>0,E1906=0),0,1)","v":0}]
["953.100.2630.0103.100","Cash on Deposit with County Treasurer ",{"v":0,"d":"$0.00"},null,"953",null,"953","100","2630","0103","100",null,"100",{"$nulls":13},{"$f":"IF(OR(SUMPRODUCT(--(E1907=$O$1:$O$542))>0,E1907=0),0,1)","v":0}]
["953.100.2630.6430.100","Playground Maintenance",{"v":0,"d":"$0.00"},null,"953",null,"953","100","2630","6430","100",null,"100",{"$nulls":13},{"$f":"IF(OR(SUMPRODUCT(--(E1908=$O$1:$O$542))>0,E1908=0),0,1)","v":0}]
["997.000.0000.0103.000","Undesignated",{"v":0,"d":"$0.00"},null,"997",null,"997","000","0000","0103","000",null,"000",{"$nulls":13},{"$f":"IF(OR(SUMPRODUCT(--(E1909=$O$1:$O$542))>0,E1909=0),0,1)","v":0}]
["997.000.0000.0330.000","Unreserved Fund Balance",{"v":0,"d":"$0.00"},null,"997",null,"997","000","0000","0330","000",null,"000",{"$nulls":13},{"$f":"IF(OR(SUMPRODUCT(--(E1910=$O$1:$O$542))>0,E1910=0),0,1)","v":0}]
["997.000.0000.1981.000","PRV YRS ADJ",{"v":0,"d":"$0.00"},null,"997",null,"997","000","0000","1981","000",null,"000",{"$nulls":13},{"$f":"IF(OR(SUMPRODUCT(--(E1911=$O$1:$O$542))>0,E1911=0),0,1)","v":0}]
["997.100.6000.6930.000","Transfer out",{"v":0,"d":"$0.00"},null,"997",null,"997","100","6000","6930","000",null,"000",{"$nulls":13},{"$f":"IF(OR(SUMPRODUCT(--(E1912=$O$1:$O$542))>0,E1912=0),0,1)","v":0}]
[{"$nulls":4},0,{"$nulls":7},0,{"$nulls":13},{"$f":"IF(OR(SUMPRODUCT(--(E1913=$O$1:$O$542))>0,E1913=0),0,1)","v":0}]
[{"$nulls":4},0,{"$nulls":7},0,{"$nulls":13},{"$f":"IF(OR(SUMPRODUCT(--(E1914=$O$1:$O$542))>0,E1914=0),0,1)","v":0}]
[{"$nulls":4},0,{"$nulls":7},0,{"$nulls":13},{"$f":"IF(OR(SUMPRODUCT(--(E1915=$O$1:$O$542))>0,E1915=0),0,1)","v":0}]
[{"$nulls":4},0,{"$nulls":7},0,{"$nulls":13},{"$f":"IF(OR(SUMPRODUCT(--(E1916=$O$1:$O$542))>0,E1916=0),0,1)","v":0}]
[{"$nulls":4},0,{"$nulls":7},0,{"$nulls":13},{"$f":"IF(OR(SUMPRODUCT(--(E1917=$O$1:$O$542))>0,E1917=0),0,1)","v":0}]
[{"$nulls":4},0,{"$nulls":7},0,{"$nulls":13},{"$f":"IF(OR(SUMPRODUCT(--(E1918=$O$1:$O$542))>0,E1918=0),0,1)","v":0}]
[{"$nulls":4},0,{"$nulls":7},0,{"$nulls":13},{"$f":"IF(OR(SUMPRODUCT(--(E1919=$O$1:$O$542))>0,E1919=0),0,1)","v":0}]
[{"$nulls":4},0,{"$nulls":7},0,{"$nulls":13},{"$f":"IF(OR(SUMPRODUCT(--(E1920=$O$1:$O$542))>0,E1920=0),0,1)","v":0}]
[{"$nulls":4},0,{"$nulls":7},0,{"$nulls":13},{"$f":"IF(OR(SUMPRODUCT(--(E1921=$O$1:$O$542))>0,E1921=0),0,1)","v":0}]
[{"$nulls":4},0,{"$nulls":7},0,{"$nulls":13},{"$f":"IF(OR(SUMPRODUCT(--(E1922=$O$1:$O$542))>0,E1922=0),0,1)","v":0}]
[{"$nulls":4},{"$f":"IF(AND(F1923<>\"\",F1923=G1923),\"ERROR\",IF(AND(F1923<>\"\",F1923<>G1923),F1923,G1923))","v":0},{"$nulls":7},{"$f":"IF(L1923<>\"\",L1923,K1923)","v":0},{"$nulls":13},{"$f":"IF(OR(SUMPRODUCT(--(E1923=$O$1:$O$542))>0,E1923=0),0,1)","v":0}]
[{"$nulls":4},0,{"$nulls":7},0,{"$nulls":13},{"$f":"IF(OR(SUMPRODUCT(--(E1924=$O$1:$O$542))>0,E1924=0),0,1)","v":0}]
[{"$nulls":4},0,{"$nulls":7},0,{"$nulls":13},{"$f":"IF(OR(SUMPRODUCT(--(E1925=$O$1:$O$542))>0,E1925=0),0,1)","v":0}]
[{"$nulls":4},0,{"$nulls":7},0,{"$nulls":13},{"$f":"IF(OR(SUMPRODUCT(--(E1926=$O$1:$O$542))>0,E1926=0),0,1)","v":0}]
[{"$nulls":4},0,{"$nulls":7},0,{"$nulls":13},{"$f":"IF(OR(SUMPRODUCT(--(E1927=$O$1:$O$542))>0,E1927=0),0,1)","v":0}]
[{"$nulls":4},0,{"$nulls":7},0,{"$nulls":13},{"$f":"IF(OR(SUMPRODUCT(--(E1928=$O$1:$O$542))>0,E1928=0),0,1)","v":0}]
[{"$nulls":4},0,{"$nulls":7},0,{"$nulls":13},{"$f":"IF(OR(SUMPRODUCT(--(E1929=$O$1:$O$542))>0,E1929=0),0,1)","v":0}]
[{"$nulls":4},0,{"$nulls":7},0,{"$nulls":13},{"$f":"IF(OR(SUMPRODUCT(--(E1930=$O$1:$O$542))>0,E1930=0),0,1)","v":0}]
[{"$nulls":4},0,{"$nulls":7},0,{"$nulls":13},{"$f":"IF(OR(SUMPRODUCT(--(E1931=$O$1:$O$542))>0,E1931=0),0,1)","v":0}]
[{"$nulls":4},0,{"$nulls":7},0,{"$nulls":13},{"$f":"IF(OR(SUMPRODUCT(--(E1932=$O$1:$O$542))>0,E1932=0),0,1)","v":0}]
[{"$nulls":4},0,{"$nulls":7},0,{"$nulls":13},{"$f":"IF(OR(SUMPRODUCT(--(E1933=$O$1:$O$542))>0,E1933=0),0,1)","v":0}]
[{"$nulls":4},0,{"$nulls":7},0,{"$nulls":13},{"$f":"IF(OR(SUMPRODUCT(--(E1934=$O$1:$O$542))>0,E1934=0),0,1)","v":0}]
[{"$nulls":4},0,{"$nulls":7},0,{"$nulls":13},{"$f":"IF(OR(SUMPRODUCT(--(E1935=$O$1:$O$542))>0,E1935=0),0,1)","v":0}]
[{"$nulls":4},0,{"$nulls":7},0,{"$nulls":13},{"$f":"IF(OR(SUMPRODUCT(--(E1936=$O$1:$O$542))>0,E1936=0),0,1)","v":0}]
[{"$nulls":4},0,{"$nulls":7},0,{"$nulls":13},{"$f":"IF(OR(SUMPRODUCT(--(E1937=$O$1:$O$542))>0,E1937=0),0,1)","v":0}]
[{"$nulls":4},0,{"$nulls":7},0,{"$nulls":13},{"$f":"IF(OR(SUMPRODUCT(--(E1938=$O$1:$O$542))>0,E1938=0),0,1)","v":0}]
[{"$nulls":4},0,{"$nulls":7},0,{"$nulls":13},{"$f":"IF(OR(SUMPRODUCT(--(E1939=$O$1:$O$542))>0,E1939=0),0,1)","v":0}]
[{"$nulls":4},0,{"$nulls":7},0,{"$nulls":13},{"$f":"IF(OR(SUMPRODUCT(--(E1940=$O$1:$O$542))>0,E1940=0),0,1)","v":0}]
[{"$nulls":4},0,{"$nulls":7},0,{"$nulls":13},{"$f":"IF(OR(SUMPRODUCT(--(E1941=$O$1:$O$542))>0,E1941=0),0,1)","v":0}]
[{"$nulls":4},0,{"$nulls":7},0,{"$nulls":13},{"$f":"IF(OR(SUMPRODUCT(--(E1942=$O$1:$O$542))>0,E1942=0),0,1)","v":0}]
[{"$nulls":4},0,{"$nulls":7},0,{"$nulls":13},{"$f":"IF(OR(SUMPRODUCT(--(E1943=$O$1:$O$542))>0,E1943=0),0,1)","v":0}]
[{"$nulls":4},0,{"$nulls":7},0,{"$nulls":13},{"$f":"IF(OR(SUMPRODUCT(--(E1944=$O$1:$O$542))>0,E1944=0),0,1)","v":0}]
[{"$nulls":4},0,{"$nulls":7},0,{"$nulls":13},{"$f":"IF(OR(SUMPRODUCT(--(E1945=$O$1:$O$542))>0,E1945=0),0,1)","v":0}]
[{"$nulls":4},0,{"$nulls":7},0,{"$nulls":13},{"$f":"IF(OR(SUMPRODUCT(--(E1946=$O$1:$O$542))>0,E1946=0),0,1)","v":0}]
[{"$nulls":4},0,{"$nulls":7},0,{"$nulls":13},{"$f":"IF(OR(SUMPRODUCT(--(E1947=$O$1:$O$542))>0,E1947=0),0,1)","v":0}]
[{"$nulls":4},0,{"$nulls":7},0,{"$nulls":13},{"$f":"IF(OR(SUMPRODUCT(--(E1948=$O$1:$O$542))>0,E1948=0),0,1)","v":0}]
[{"$nulls":4},0,{"$nulls":7},0,{"$nulls":13},{"$f":"IF(OR(SUMPRODUCT(--(E1949=$O$1:$O$542))>0,E1949=0),0,1)","v":0}]
[{"$nulls":4},0,{"$nulls":7},0,{"$nulls":13},{"$f":"IF(OR(SUMPRODUCT(--(E1950=$O$1:$O$542))>0,E1950=0),0,1)","v":0}]
[{"$nulls":4},0,{"$nulls":7},0,{"$nulls":13},{"$f":"IF(OR(SUMPRODUCT(--(E1951=$O$1:$O$542))>0,E1951=0),0,1)","v":0}]
[{"$nulls":4},0,{"$nulls":7},0,{"$nulls":13},{"$f":"IF(OR(SUMPRODUCT(--(E1952=$O$1:$O$542))>0,E1952=0),0,1)","v":0}]
[{"$nulls":4},0,{"$nulls":7},0,{"$nulls":13},{"$f":"IF(OR(SUMPRODUCT(--(E1953=$O$1:$O$542))>0,E1953=0),0,1)","v":0}]
[{"$nulls":4},0,{"$nulls":7},0,{"$nulls":13},{"$f":"IF(OR(SUMPRODUCT(--(E1954=$O$1:$O$542))>0,E1954=0),0,1)","v":0}]
[{"$nulls":4},0,{"$nulls":7},0,{"$nulls":13},{"$f":"IF(OR(SUMPRODUCT(--(E1955=$O$1:$O$542))>0,E1955=0),0,1)","v":0}]
[{"$nulls":4},0,{"$nulls":7},0,{"$nulls":13},{"$f":"IF(OR(SUMPRODUCT(--(E1956=$O$1:$O$542))>0,E1956=0),0,1)","v":0}]
[{"$nulls":4},0,{"$nulls":7},0,{"$nulls":13},{"$f":"IF(OR(SUMPRODUCT(--(E1957=$O$1:$O$542))>0,E1957=0),0,1)","v":0}]
[{"$nulls":4},0,{"$nulls":7},0,{"$nulls":13},{"$f":"IF(OR(SUMPRODUCT(--(E1958=$O$1:$O$542))>0,E1958=0),0,1)","v":0}]
[{"$nulls":4},0,{"$nulls":7},0,{"$nulls":13},{"$f":"IF(OR(SUMPRODUCT(--(E1959=$O$1:$O$542))>0,E1959=0),0,1)","v":0}]
[{"$nulls":4},0,{"$nulls":7},0,{"$nulls":13},{"$f":"IF(OR(SUMPRODUCT(--(E1960=$O$1:$O$542))>0,E1960=0),0,1)","v":0}]
[{"$nulls":4},0,{"$nulls":7},0,{"$nulls":13},{"$f":"IF(OR(SUMPRODUCT(--(E1961=$O$1:$O$542))>0,E1961=0),0,1)","v":0}]
[{"$nulls":4},0,{"$nulls":7},0,{"$nulls":13},{"$f":"IF(OR(SUMPRODUCT(--(E1962=$O$1:$O$542))>0,E1962=0),0,1)","v":0}]
[{"$nulls":4},0,{"$nulls":7},0,{"$nulls":13},{"$f":"IF(OR(SUMPRODUCT(--(E1963=$O$1:$O$542))>0,E1963=0),0,1)","v":0}]
[{"$nulls":4},0,{"$nulls":7},0,{"$nulls":13},{"$f":"IF(OR(SUMPRODUCT(--(E1964=$O$1:$O$542))>0,E1964=0),0,1)","v":0}]
[{"$nulls":4},0,{"$nulls":7},0,{"$nulls":13},{"$f":"IF(OR(SUMPRODUCT(--(E1965=$O$1:$O$542))>0,E1965=0),0,1)","v":0}]
[{"$nulls":4},0,{"$nulls":7},0,{"$nulls":13},{"$f":"IF(OR(SUMPRODUCT(--(E1966=$O$1:$O$542))>0,E1966=0),0,1)","v":0}]
[{"$nulls":4},0,{"$nulls":7},0,{"$nulls":13},{"$f":"IF(OR(SUMPRODUCT(--(E1967=$O$1:$O$542))>0,E1967=0),0,1)","v":0}]
[{"$nulls":4},0,{"$nulls":7},0,{"$nulls":13},{"$f":"IF(OR(SUMPRODUCT(--(E1968=$O$1:$O$542))>0,E1968=0),0,1)","v":0}]
[{"$nulls":4},0,{"$nulls":7},0,{"$nulls":13},{"$f":"IF(OR(SUMPRODUCT(--(E1969=$O$1:$O$542))>0,E1969=0),0,1)","v":0}]
[{"$nulls":4},0,{"$nulls":7},0,{"$nulls":13},{"$f":"IF(OR(SUMPRODUCT(--(E1970=$O$1:$O$542))>0,E1970=0),0,1)","v":0}]
[{"$nulls":4},0,{"$nulls":7},0,{"$nulls":13},{"$f":"IF(OR(SUMPRODUCT(--(E1971=$O$1:$O$542))>0,E1971=0),0,1)","v":0}]
[{"$nulls":4},0,{"$nulls":7},0,{"$nulls":13},{"$f":"IF(OR(SUMPRODUCT(--(E1972=$O$1:$O$542))>0,E1972=0),0,1)","v":0}]
[{"$nulls":4},0,{"$nulls":7},0,{"$nulls":13},{"$f":"IF(OR(SUMPRODUCT(--(E1973=$O$1:$O$542))>0,E1973=0),0,1)","v":0}]
[{"$nulls":4},0,{"$nulls":7},0,{"$nulls":13},{"$f":"IF(OR(SUMPRODUCT(--(E1974=$O$1:$O$542))>0,E1974=0),0,1)","v":0}]
[{"$nulls":4},0,{"$nulls":7},0,{"$nulls":13},{"$f":"IF(OR(SUMPRODUCT(--(E1975=$O$1:$O$542))>0,E1975=0),0,1)","v":0}]
[{"$nulls":4},0,{"$nulls":7},0,{"$nulls":13},{"$f":"IF(OR(SUMPRODUCT(--(E1976=$O$1:$O$542))>0,E1976=0),0,1)","v":0}]
[{"$nulls":4},0,{"$nulls":7},0,{"$nulls":13},{"$f":"IF(OR(SUMPRODUCT(--(E1977=$O$1:$O$542))>0,E1977=0),0,1)","v":0}]
[{"$nulls":4},0,{"$nulls":7},0,{"$nulls":13},{"$f":"IF(OR(SUMPRODUCT(--(E1978=$O$1:$O$542))>0,E1978=0),0,1)","v":0}]
[{"$nulls":4},0,{"$nulls":7},0,{"$nulls":13},{"$f":"IF(OR(SUMPRODUCT(--(E1979=$O$1:$O$542))>0,E1979=0),0,1)","v":0}]
[{"$nulls":4},0,{"$nulls":7},0,{"$nulls":13},{"$f":"IF(OR(SUMPRODUCT(--(E1980=$O$1:$O$542))>0,E1980=0),0,1)","v":0}]
[{"$nulls":4},0,{"$nulls":7},0,{"$nulls":13},{"$f":"IF(OR(SUMPRODUCT(--(E1981=$O$1:$O$542))>0,E1981=0),0,1)","v":0}]
[{"$nulls":4},0,{"$nulls":7},0,{"$nulls":13},{"$f":"IF(OR(SUMPRODUCT(--(E1982=$O$1:$O$542))>0,E1982=0),0,1)","v":0}]
[{"$nulls":4},0,{"$nulls":7},0,{"$nulls":13},{"$f":"IF(OR(SUMPRODUCT(--(E1983=$O$1:$O$542))>0,E1983=0),0,1)","v":0}]
[{"$nulls":4},0,{"$nulls":7},0,{"$nulls":13},{"$f":"IF(OR(SUMPRODUCT(--(E1984=$O$1:$O$542))>0,E1984=0),0,1)","v":0}]
[{"$nulls":4},0,{"$nulls":7},0,{"$nulls":13},{"$f":"IF(OR(SUMPRODUCT(--(E1985=$O$1:$O$542))>0,E1985=0),0,1)","v":0}]
[{"$nulls":4},0,{"$nulls":7},0,{"$nulls":13},{"$f":"IF(OR(SUMPRODUCT(--(E1986=$O$1:$O$542))>0,E1986=0),0,1)","v":0}]
[{"$nulls":4},{"$f":"IF(AND(F1987<>\"\",F1987=G1987),\"ERROR\",IF(AND(F1987<>\"\",F1987<>G1987),F1987,G1987))","v":0},{"$nulls":7},{"$f":"IF(L1987<>\"\",L1987,K1987)","v":0},{"$nulls":13},{"$f":"IF(OR(SUMPRODUCT(--(E1987=$O$1:$O$542))>0,E1987=0),0,1)","v":0}]
[{"$nulls":4},0,{"$nulls":7},0,{"$nulls":13},{"$f":"IF(OR(SUMPRODUCT(--(E1988=$O$1:$O$542))>0,E1988=0),0,1)","v":0}]
[{"$nulls":4},0,{"$nulls":7},0,{"$nulls":13},{"$f":"IF(OR(SUMPRODUCT(--(E1989=$O$1:$O$542))>0,E1989=0),0,1)","v":0}]
[{"$nulls":4},0,{"$nulls":7},0,{"$nulls":13},{"$f":"IF(OR(SUMPRODUCT(--(E1990=$O$1:$O$542))>0,E1990=0),0,1)","v":0}]
[{"$nulls":4},0,{"$nulls":7},0,{"$nulls":13},{"$f":"IF(OR(SUMPRODUCT(--(E1991=$O$1:$O$542))>0,E1991=0),0,1)","v":0}]
[{"$nulls":4},0,{"$nulls":7},0,{"$nulls":13},{"$f":"IF(OR(SUMPRODUCT(--(E1992=$O$1:$O$542))>0,E1992=0),0,1)","v":0}]
[{"$nulls":4},0,{"$nulls":7},0,{"$nulls":13},{"$f":"IF(OR(SUMPRODUCT(--(E1993=$O$1:$O$542))>0,E1993=0),0,1)","v":0}]
[{"$nulls":4},0,{"$nulls":7},0,{"$nulls":13},{"$f":"IF(OR(SUMPRODUCT(--(E1994=$O$1:$O$542))>0,E1994=0),0,1)","v":0}]
[{"$nulls":4},0,{"$nulls":7},0,{"$nulls":13},{"$f":"IF(OR(SUMPRODUCT(--(E1995=$O$1:$O$542))>0,E1995=0),0,1)","v":0}]
[{"$nulls":4},0,{"$nulls":7},0,{"$nulls":13},{"$f":"IF(OR(SUMPRODUCT(--(E1996=$O$1:$O$542))>0,E1996=0),0,1)","v":0}]
[{"$nulls":4},0,{"$nulls":7},0,{"$nulls":13},{"$f":"IF(OR(SUMPRODUCT(--(E1997=$O$1:$O$542))>0,E1997=0),0,1)","v":0}]
[{"$nulls":4},0,{"$nulls":7},0,{"$nulls":13},{"$f":"IF(OR(SUMPRODUCT(--(E1998=$O$1:$O$542))>0,E1998=0),0,1)","v":0}]
[{"$nulls":4},0,{"$nulls":7},0,{"$nulls":13},{"$f":"IF(OR(SUMPRODUCT(--(E1999=$O$1:$O$542))>0,E1999=0),0,1)","v":0}]
[{"$nulls":4},0,{"$nulls":7},0,{"$nulls":13},{"$f":"IF(OR(SUMPRODUCT(--(E2000=$O$1:$O$542))>0,E2000=0),0,1)","v":0}]
[{"$nulls":4},0,{"$nulls":7},0,{"$nulls":13},{"$f":"IF(OR(SUMPRODUCT(--(E2010=$O$1:$O$542))>0,E2010=0),0,1)","v":0}]
[{"$nulls":4},0,{"$nulls":7},0,{"$nulls":13},{"$f":"IF(OR(SUMPRODUCT(--(E2065=$O$1:$O$542))>0,E2065=0),0,1)","v":0}]
[{"$nulls":4},0,{"$nulls":7},0,{"$nulls":13},{"$f":"IF(OR(SUMPRODUCT(--(E2143=$O$1:$O$542))>0,E2143=0),0,1)","v":0}]
[{"$nulls":4},0,{"$nulls":7},0,{"$nulls":13},{"$f":"IF(OR(SUMPRODUCT(--(E2162=$O$1:$O$542))>0,E2162=0),0,1)","v":0}]
[{"$nulls":4},0,{"$nulls":7},0,{"$nulls":13},{"$f":"IF(OR(SUMPRODUCT(--(E2225=$O$1:$O$542))>0,E2225=0),0,1)","v":0}]
[{"$nulls":4},0,{"$nulls":7},0,{"$nulls":13},{"$f":"IF(OR(SUMPRODUCT(--(E2268=$O$1:$O$542))>0,E2268=0),0,1)","v":0}]
[{"$nulls":4},0,{"$nulls":7},0,{"$nulls":13},{"$f":"IF(OR(SUMPRODUCT(--(E2336=$O$1:$O$542))>0,E2336=0),0,1)","v":0}]
[{"$nulls":4},0,{"$nulls":7},0,{"$nulls":13},{"$f":"IF(OR(SUMPRODUCT(--(E2365=$O$1:$O$542))>0,E2365=0),0,1)","v":0}]
[{"$nulls":4},0,{"$nulls":7},0,{"$nulls":13},{"$f":"IF(OR(SUMPRODUCT(--(E2392=$O$1:$O$542))>0,E2392=0),0,1)","v":0}]
[{"$nulls":4},0,{"$nulls":7},0,{"$nulls":13},{"$f":"IF(OR(SUMPRODUCT(--(E2461=$O$1:$O$542))>0,E2461=0),0,1)","v":0}]
[{"$nulls":4},0,{"$nulls":7},0,{"$nulls":13},{"$f":"IF(OR(SUMPRODUCT(--(E2490=$O$1:$O$542))>0,E2490=0),0,1)","v":0}]
[{"$nulls":4},0,{"$nulls":7},0,{"$nulls":13},{"$f":"IF(OR(SUMPRODUCT(--(E2558=$O$1:$O$542))>0,E2558=0),0,1)","v":0}]
[{"$nulls":4},0,{"$nulls":7},0,{"$nulls":13},{"$f":"IF(OR(SUMPRODUCT(--(E2591=$O$1:$O$542))>0,E2591=0),0,1)","v":0}]
[{"$nulls":4},0,{"$nulls":7},0,{"$nulls":13},{"$f":"IF(OR(SUMPRODUCT(--(E2664=$O$1:$O$542))>0,E2664=0),0,1)","v":0}]
[{"$nulls":4},0,{"$nulls":7},0,{"$nulls":13},{"$f":"IF(OR(SUMPRODUCT(--(E2683=$O$1:$O$542))>0,E2683=0),0,1)","v":0}]
[{"$nulls":4},0,{"$nulls":7},0,{"$nulls":13},{"$f":"IF(OR(SUMPRODUCT(--(E2761=$O$1:$O$542))>0,E2761=0),0,1)","v":0}]
[{"$nulls":4},0,{"$nulls":7},0,{"$nulls":13},{"$f":"IF(OR(SUMPRODUCT(--(E2806=$O$1:$O$542))>0,E2806=0),0,1)","v":0}]
[{"$nulls":4},0,{"$nulls":7},0,{"$nulls":13},{"$f":"IF(OR(SUMPRODUCT(--(E2857=$O$1:$O$542))>0,E2857=0),0,1)","v":0}]
[{"$nulls":4},0,{"$nulls":7},0,{"$nulls":13},{"$f":"IF(OR(SUMPRODUCT(--(E2886=$O$1:$O$542))>0,E2886=0),0,1)","v":0}]
[{"$nulls":4},0,{"$nulls":7},0,{"$nulls":13},{"$f":"IF(OR(SUMPRODUCT(--(E2954=$O$1:$O$542))>0,E2954=0),0,1)","v":0}]
[{"$nulls":4},0,{"$nulls":7},0,{"$nulls":13},{"$f":"IF(OR(SUMPRODUCT(--(E3005=$O$1:$O$542))>0,E3005=0),0,1)","v":0}]
[{"$nulls":4},0,{"$nulls":7},0,{"$nulls":13},{"$f":"IF(OR(SUMPRODUCT(--(E3050=$O$1:$O$542))>0,E3050=0),0,1)","v":0}]
[{"$nulls":4},0,{"$nulls":7},0,{"$nulls":13},{"$f":"IF(OR(SUMPRODUCT(--(E3079=$O$1:$O$542))>0,E3079=0),0,1)","v":0}]
[{"$nulls":4},0,{"$nulls":7},0,{"$nulls":13},{"$f":"IF(OR(SUMPRODUCT(--(E3157=$O$1:$O$542))>0,E3157=0),0,1)","v":0}]
[{"$nulls":4},0,{"$nulls":7},0,{"$nulls":13},{"$f":"IF(OR(SUMPRODUCT(--(E3172=$O$1:$O$542))>0,E3172=0),0,1)","v":0}]
[{"$nulls":4},0,{"$nulls":7},0,{"$nulls":13},{"$f":"IF(OR(SUMPRODUCT(--(E3253=$O$1:$O$542))>0,E3253=0),0,1)","v":0}]
[{"$nulls":4},0,{"$nulls":7},0,{"$nulls":13},{"$f":"IF(OR(SUMPRODUCT(--(E3282=$O$1:$O$542))>0,E3282=0),0,1)","v":0}]
[{"$nulls":4},0,{"$nulls":7},0,{"$nulls":13},{"$f":"IF(OR(SUMPRODUCT(--(E3350=$O$1:$O$542))>0,E3350=0),0,1)","v":0}]
[{"$nulls":4},0,{"$nulls":7},0,{"$nulls":13},{"$f":"IF(OR(SUMPRODUCT(--(E3371=$O$1:$O$542))>0,E3371=0),0,1)","v":0}]
[{"$nulls":4},0,{"$nulls":7},0,{"$nulls":13},{"$f":"IF(OR(SUMPRODUCT(--(E3446=$O$1:$O$542))>0,E3446=0),0,1)","v":0}]
[{"$nulls":4},0,{"$nulls":7},0,{"$nulls":13},{"$f":"IF(OR(SUMPRODUCT(--(E3475=$O$1:$O$542))>0,E3475=0),0,1)","v":0}]
[{"$nulls":4},0,{"$nulls":7},0,{"$nulls":13},{"$f":"IF(OR(SUMPRODUCT(--(E3553=$O$1:$O$542))>0,E3553=0),0,1)","v":0}]
[{"$nulls":4},0,{"$nulls":7},0,{"$nulls":13},{"$f":"IF(OR(SUMPRODUCT(--(E3586=$O$1:$O$542))>0,E3586=0),0,1)","v":0}]
[{"$nulls":4},0,{"$nulls":7},0,{"$nulls":13},{"$f":"IF(OR(SUMPRODUCT(--(E3649=$O$1:$O$542))>0,E3649=0),0,1)","v":0}]
[{"$nulls":4},0,{"$nulls":7},0,{"$nulls":13},{"$f":"IF(OR(SUMPRODUCT(--(E3678=$O$1:$O$542))>0,E3678=0),0,1)","v":0}]
[{"$nulls":4},0,{"$nulls":7},0,{"$nulls":13},{"$f":"IF(OR(SUMPRODUCT(--(E3746=$O$1:$O$542))>0,E3746=0),0,1)","v":0}]
[{"$nulls":4},0,{"$nulls":7},0,{"$nulls":13},{"$f":"IF(OR(SUMPRODUCT(--(E3785=$O$1:$O$542))>0,E3785=0),0,1)","v":0}]
[{"$nulls":4},0,{"$nulls":7},0,{"$nulls":13},{"$f":"IF(OR(SUMPRODUCT(--(E3842=$O$1:$O$542))>0,E3842=0),0,1)","v":0}]
[{"$nulls":4},0,{"$nulls":7},0,{"$nulls":13},{"$f":"IF(OR(SUMPRODUCT(--(E3871=$O$1:$O$542))>0,E3871=0),0,1)","v":0}]
[{"$nulls":4},0,{"$nulls":7},0,{"$nulls":13},{"$f":"IF(OR(SUMPRODUCT(--(E3949=$O$1:$O$542))>0,E3949=0),0,1)","v":0}]
[{"$nulls":4},0,{"$nulls":7},0,{"$nulls":13},{"$f":"IF(OR(SUMPRODUCT(--(E3952=$O$1:$O$542))>0,E3952=0),0,1)","v":0}]
[{"$nulls":4},0,{"$nulls":7},0,{"$nulls":13},{"$f":"IF(OR(SUMPRODUCT(--(E4045=$O$1:$O$542))>0,E4045=0),0,1)","v":0}]
[{"$nulls":4},0,{"$nulls":7},0,{"$nulls":13},{"$f":"IF(OR(SUMPRODUCT(--(E4064=$O$1:$O$542))>0,E4064=0),0,1)","v":0}]
[{"$nulls":4},0,{"$nulls":7},0,{"$nulls":13},{"$f":"IF(OR(SUMPRODUCT(--(E4142=$O$1:$O$542))>0,E4142=0),0,1)","v":0}]
[{"$nulls":4},0,{"$nulls":7},0,{"$nulls":13},{"$f":"IF(OR(SUMPRODUCT(--(E4151=$O$1:$O$542))>0,E4151=0),0,1)","v":0}]
[{"$nulls":4},0,{"$nulls":7},0,{"$nulls":13},{"$f":"IF(OR(SUMPRODUCT(--(E4238=$O$1:$O$542))>0,E4238=0),0,1)","v":0}]
[{"$nulls":4},0,{"$nulls":7},0,{"$nulls":13},{"$f":"IF(OR(SUMPRODUCT(--(E4267=$O$1:$O$542))>0,E4267=0),0,1)","v":0}]
[{"$nulls":4},0,{"$nulls":7},0,{"$nulls":13},{"$f":"IF(OR(SUMPRODUCT(--(E4296=$O$1:$O$542))>0,E4296=0),0,1)","v":0}]
[{"$nulls":4},0,{"$nulls":7},0,{"$nulls":13},{"$f":"IF(OR(SUMPRODUCT(--(E4366=$O$1:$O$542))>0,E4366=0),0,1)","v":0}]
[{"$nulls":4},0,{"$nulls":7},0,{"$nulls":13},{"$f":"IF(OR(SUMPRODUCT(--(E4392=$O$1:$O$542))>0,E4392=0),0,1)","v":0}]
[{"$nulls":4},0,{"$nulls":7},0,{"$nulls":13},{"$f":"IF(OR(SUMPRODUCT(--(E4460=$O$1:$O$542))>0,E4460=0),0,1)","v":0}]
[{"$nulls":4},0,{"$nulls":7},0,{"$nulls":13},{"$f":"IF(OR(SUMPRODUCT(--(E4489=$O$1:$O$542))>0,E4489=0),0,1)","v":0}]
[{"$nulls":4},0,{"$nulls":7},0,{"$nulls":13},{"$f":"IF(OR(SUMPRODUCT(--(E4565=$O$1:$O$542))>0,E4565=0),0,1)","v":0}]
[{"$nulls":4},0,{"$nulls":7},0,{"$nulls":13},{"$f":"IF(OR(SUMPRODUCT(--(E4585=$O$1:$O$542))>0,E4585=0),0,1)","v":0}]
[{"$nulls":4},0,{"$nulls":7},0,{"$nulls":13},{"$f":"IF(OR(SUMPRODUCT(--(E4663=$O$1:$O$542))>0,E4663=0),0,1)","v":0}]
[{"$nulls":4},0,{"$nulls":7},0,{"$nulls":13},{"$f":"IF(OR(SUMPRODUCT(--(E4682=$O$1:$O$542))>0,E4682=0),0,1)","v":0}]
[{"$nulls":4},0,{"$nulls":7},0,{"$nulls":13},{"$f":"IF(OR(SUMPRODUCT(--(E4732=$O$1:$O$542))>0,E4732=0),0,1)","v":0}]
[{"$nulls":4},0,{"$nulls":7},0,{"$nulls":13},{"$f":"IF(OR(SUMPRODUCT(--(E4788=$O$1:$O$542))>0,E4788=0),0,1)","v":0}]
[{"$nulls":4},0,{"$nulls":7},0,{"$nulls":13},{"$f":"IF(OR(SUMPRODUCT(--(E4856=$O$1:$O$542))>0,E4856=0),0,1)","v":0}]
[{"$nulls":4},0,{"$nulls":7},0,{"$nulls":13},{"$f":"IF(OR(SUMPRODUCT(--(E4885=$O$1:$O$542))>0,E4885=0),0,1)","v":0}]
[{"$nulls":4},{"$f":"IF(AND(F4931<>\"\",F4931=G4931),\"ERROR\",IF(AND(F4931<>\"\",F4931<>G4931),F4931,G4931))","v":0},{"$nulls":7},0,{"$nulls":13},{"$f":"IF(OR(SUMPRODUCT(--(E4931=$O$1:$O$542))>0,E4931=0),0,1)","v":0}]
[{"$nulls":4},0,{"$nulls":7},0,{"$nulls":13},{"$f":"IF(OR(SUMPRODUCT(--(E4981=$O$1:$O$542))>0,E4981=0),0,1)","v":0}]
[{"$nulls":4},{"$f":"IF(AND(F5059<>\"\",F5059=G5059),\"ERROR\",IF(AND(F5059<>\"\",F5059<>G5059),F5059,G5059))","v":0},{"$nulls":7},0,{"$nulls":13},{"$f":"IF(OR(SUMPRODUCT(--(E5059=$O$1:$O$542))>0,E5059=0),0,1)","v":0}]
[{"$nulls":4},0,{"$nulls":7},0,{"$nulls":13},{"$f":"IF(OR(SUMPRODUCT(--(E5078=$O$1:$O$542))>0,E5078=0),0,1)","v":0}]
[{"$nulls":4},0,{"$nulls":7},0,{"$nulls":13},{"$f":"IF(OR(SUMPRODUCT(--(E5146=$O$1:$O$542))>0,E5146=0),0,1)","v":0}]
[{"$nulls":4},0,{"$nulls":7},0,{"$nulls":13},{"$f":"IF(OR(SUMPRODUCT(--(E5184=$O$1:$O$542))>0,E5184=0),0,1)","v":0}]
[{"$nulls":4},0,{"$nulls":7},{"$f":"IF(L5252<>\"\",L5252,K5252)","v":0},{"$nulls":13},{"$f":"IF(OR(SUMPRODUCT(--(E5252=$O$1:$O$542))>0,E5252=0),0,1)","v":0}]
[{"$nulls":4},0,{"$nulls":7},0,{"$nulls":13},{"$f":"IF(OR(SUMPRODUCT(--(E5281=$O$1:$O$542))>0,E5281=0),0,1)","v":0}]
[{"$nulls":4},0,{"$nulls":7},0,{"$nulls":13},{"$f":"IF(OR(SUMPRODUCT(--(E5345=$O$1:$O$542))>0,E5345=0),0,1)","v":0}]
[{"$nulls":4},0,{"$nulls":7},0,{"$nulls":13},{"$f":"IF(OR(SUMPRODUCT(--(E5377=$O$1:$O$542))>0,E5377=0),0,1)","v":0}]
[{"$nulls":4},0,{"$nulls":7},0,{"$nulls":13},{"$f":"IF(OR(SUMPRODUCT(--(E5455=$O$1:$O$542))>0,E5455=0),0,1)","v":0}]
[{"$nulls":4},0,{"$nulls":7},0,{"$nulls":13},{"$f":"IF(OR(SUMPRODUCT(--(E5474=$O$1:$O$542))>0,E5474=0),0,1)","v":0}]
[{"$nulls":4},0,{"$nulls":7},0,{"$nulls":13},{"$f":"IF(OR(SUMPRODUCT(--(E5512=$O$1:$O$542))>0,E5512=0),0,1)","v":0}]
[{"$nulls":4},0,{"$nulls":7},0,{"$nulls":13},{"$f":"IF(OR(SUMPRODUCT(--(E5580=$O$1:$O$542))>0,E5580=0),0,1)","v":0}]
[{"$nulls":4},0,{"$nulls":7},0,{"$nulls":13},{"$f":"IF(OR(SUMPRODUCT(--(E5648=$O$1:$O$542))>0,E5648=0),0,1)","v":0}]
[{"$nulls":4},0,{"$nulls":7},0,{"$nulls":13},{"$f":"IF(OR(SUMPRODUCT(--(E5677=$O$1:$O$542))>0,E5677=0),0,1)","v":0}]
[{"$nulls":4},0,{"$nulls":7},0,{"$nulls":13},{"$f":"IF(OR(SUMPRODUCT(--(E5727=$O$1:$O$542))>0,E5727=0),0,1)","v":0}]
[{"$nulls":4},0,{"$nulls":7},0,{"$nulls":13},{"$f":"IF(OR(SUMPRODUCT(--(E5773=$O$1:$O$542))>0,E5773=0),0,1)","v":0}]
[{"$nulls":4},0,{"$nulls":7},0,{"$nulls":13},{"$f":"IF(OR(SUMPRODUCT(--(E5851=$O$1:$O$542))>0,E5851=0),0,1)","v":0}]
[{"$nulls":4},0,{"$nulls":7},0,{"$nulls":13},{"$f":"IF(OR(SUMPRODUCT(--(E5870=$O$1:$O$542))>0,E5870=0),0,1)","v":0}]
[{"$nulls":4},0,{"$nulls":7},0,{"$nulls":13},{"$f":"IF(OR(SUMPRODUCT(--(E5926=$O$1:$O$542))>0,E5926=0),0,1)","v":0}]
[{"$nulls":4},0,{"$nulls":7},0,{"$nulls":13},{"$f":"IF(OR(SUMPRODUCT(--(E5976=$O$1:$O$542))>0,E5976=0),0,1)","v":0}]
[{"$nulls":4},0,{"$nulls":7},0,{"$nulls":13},{"$f":"IF(OR(SUMPRODUCT(--(E6044=$O$1:$O$542))>0,E6044=0),0,1)","v":0}]
[{"$nulls":4},0,{"$nulls":7},0,{"$nulls":13},{"$f":"IF(OR(SUMPRODUCT(--(E6073=$O$1:$O$542))>0,E6073=0),0,1)","v":0}]
[{"$nulls":4},0,{"$nulls":7},0,{"$nulls":13},{"$f":"IF(OR(SUMPRODUCT(--(E6141=$O$1:$O$542))>0,E6141=0),0,1)","v":0}]
[{"$nulls":4},0,{"$nulls":7},0,{"$nulls":13},{"$f":"IF(OR(SUMPRODUCT(--(E6169=$O$1:$O$542))>0,E6169=0),0,1)","v":0}]
[{"$nulls":4},0,{"$nulls":7},0,{"$nulls":13},{"$f":"IF(OR(SUMPRODUCT(--(E6198=$O$1:$O$542))>0,E6198=0),0,1)","v":0}]
[{"$nulls":4},0,{"$nulls":7},0,{"$nulls":13},{"$f":"IF(OR(SUMPRODUCT(--(E6266=$O$1:$O$542))>0,E6266=0),0,1)","v":0}]
[{"$nulls":4},0,{"$nulls":7},0,{"$nulls":13},{"$f":"IF(OR(SUMPRODUCT(--(E6292=$O$1:$O$542))>0,E6292=0),0,1)","v":0}]
[{"$nulls":4},0,{"$nulls":7},0,{"$nulls":13},{"$f":"IF(OR(SUMPRODUCT(--(E6372=$O$1:$O$542))>0,E6372=0),0,1)","v":0}]
[{"$nulls":4},0,{"$nulls":7},0,{"$nulls":13},{"$f":"IF(OR(SUMPRODUCT(--(E6391=$O$1:$O$542))>0,E6391=0),0,1)","v":0}]
[{"$nulls":4},0,{"$nulls":7},0,{"$nulls":13},{"$f":"IF(OR(SUMPRODUCT(--(E6469=$O$1:$O$542))>0,E6469=0),0,1)","v":0}]
[{"$nulls":4},0,{"$nulls":7},0,{"$nulls":13},{"$f":"IF(OR(SUMPRODUCT(--(E6507=$O$1:$O$542))>0,E6507=0),0,1)","v":0}]
[{"$nulls":4},0,{"$nulls":7},0,{"$nulls":13},{"$f":"IF(OR(SUMPRODUCT(--(E6565=$O$1:$O$542))>0,E6565=0),0,1)","v":0}]
[{"$nulls":4},0,{"$nulls":7},0,{"$nulls":13},{"$f":"IF(OR(SUMPRODUCT(--(E6594=$O$1:$O$542))>0,E6594=0),0,1)","v":0}]
[{"$nulls":4},0,{"$nulls":7},0,{"$nulls":13},{"$f":"IF(OR(SUMPRODUCT(--(E6662=$O$1:$O$542))>0,E6662=0),0,1)","v":0}]
[{"$nulls":4},0,{"$nulls":7},0,{"$nulls":13},{"$f":"IF(OR(SUMPRODUCT(--(E6706=$O$1:$O$542))>0,E6706=0),0,1)","v":0}]
[{"$nulls":4},0,{"$nulls":7},0,{"$nulls":13},{"$f":"IF(OR(SUMPRODUCT(--(E6758=$O$1:$O$542))>0,E6758=0),0,1)","v":0}]
[{"$nulls":4},{"$f":"IF(AND(F6787<>\"\",F6787=G6787),\"ERROR\",IF(AND(F6787<>\"\",F6787<>G6787),F6787,G6787))","v":0},{"$nulls":7},0,{"$nulls":13},{"$f":"IF(OR(SUMPRODUCT(--(E6787=$O$1:$O$542))>0,E6787=0),0,1)","v":0}]
[{"$nulls":4},0,{"$nulls":7},0,{"$nulls":13},{"$f":"IF(OR(SUMPRODUCT(--(E6865=$O$1:$O$542))>0,E6865=0),0,1)","v":0}]
[{"$nulls":4},0,{"$nulls":7},0,{"$nulls":13},{"$f":"IF(OR(SUMPRODUCT(--(E6921=$O$1:$O$542))>0,E6921=0),0,1)","v":0}]
[{"$nulls":4},0,{"$nulls":7},0,{"$nulls":13},{"$f":"IF(OR(SUMPRODUCT(--(E6961=$O$1:$O$542))>0,E6961=0),0,1)","v":0}]
[{"$nulls":4},0,{"$nulls":7},0,{"$nulls":13},{"$f":"IF(OR(SUMPRODUCT(--(E6990=$O$1:$O$542))>0,E6990=0),0,1)","v":0}]
[{"$nulls":4},0,{"$nulls":7},0,{"$nulls":13},{"$f":"IF(OR(SUMPRODUCT(--(E7058=$O$1:$O$542))>0,E7058=0),0,1)","v":0}]
[{"$nulls":4},0,{"$nulls":7},0,{"$nulls":13},{"$f":"IF(OR(SUMPRODUCT(--(E7072=$O$1:$O$542))>0,E7072=0),0,1)","v":0}]
[{"$nulls":4},0,{"$nulls":7},0,{"$nulls":13},{"$f":"IF(OR(SUMPRODUCT(--(E7154=$O$1:$O$542))>0,E7154=0),0,1)","v":0}]
[{"$nulls":4},0,{"$nulls":7},0,{"$nulls":13},{"$f":"IF(OR(SUMPRODUCT(--(E7183=$O$1:$O$542))>0,E7183=0),0,1)","v":0}]
[{"$nulls":4},0,{"$nulls":7},0,{"$nulls":13},{"$f":"IF(OR(SUMPRODUCT(--(E7261=$O$1:$O$542))>0,E7261=0),0,1)","v":0}]
[{"$nulls":4},0,{"$nulls":7},0,{"$nulls":13},{"$f":"IF(OR(SUMPRODUCT(--(E7287=$O$1:$O$542))>0,E7287=0),0,1)","v":0}]
[{"$nulls":4},0,{"$nulls":7},0,{"$nulls":13},{"$f":"IF(OR(SUMPRODUCT(--(E7357=$O$1:$O$542))>0,E7357=0),0,1)","v":0}]
[{"$nulls":4},0,{"$nulls":7},0,{"$nulls":13},{"$f":"IF(OR(SUMPRODUCT(--(E7376=$O$1:$O$542))>0,E7376=0),0,1)","v":0}]
[{"$nulls":4},0,{"$nulls":7},0,{"$nulls":13},{"$f":"IF(OR(SUMPRODUCT(--(E7454=$O$1:$O$542))>0,E7454=0),0,1)","v":0}]
[{"$nulls":4},0,{"$nulls":7},0,{"$nulls":13},{"$f":"IF(OR(SUMPRODUCT(--(E7486=$O$1:$O$542))>0,E7486=0),0,1)","v":0}]
[{"$nulls":4},0,{"$nulls":7},0,{"$nulls":13},{"$f":"IF(OR(SUMPRODUCT(--(E7550=$O$1:$O$542))>0,E7550=0),0,1)","v":0}]
[{"$nulls":4},0,{"$nulls":7},0,{"$nulls":13},{"$f":"IF(OR(SUMPRODUCT(--(E7579=$O$1:$O$542))>0,E7579=0),0,1)","v":0}]
[{"$nulls":4},0,{"$nulls":7},0,{"$nulls":13},{"$f":"IF(OR(SUMPRODUCT(--(E7608=$O$1:$O$542))>0,E7608=0),0,1)","v":0}]
[{"$nulls":4},0,{"$nulls":7},0,{"$nulls":13},{"$f":"IF(OR(SUMPRODUCT(--(E7701=$O$1:$O$542))>0,E7701=0),0,1)","v":0}]
[{"$nulls":4},0,{"$nulls":7},0,{"$nulls":13},{"$f":"IF(OR(SUMPRODUCT(--(E7704=$O$1:$O$542))>0,E7704=0),0,1)","v":0}]
[{"$nulls":4},0,{"$nulls":7},0,{"$nulls":13},{"$f":"IF(OR(SUMPRODUCT(--(E7772=$O$1:$O$542))>0,E7772=0),0,1)","v":0}]
[{"$nulls":4},0,{"$nulls":7},0,{"$nulls":13},{"$f":"IF(OR(SUMPRODUCT(--(E7850=$O$1:$O$542))>0,E7850=0),0,1)","v":0}]
[{"$nulls":4},0,{"$nulls":7},0,{"$nulls":13},{"$f":"IF(OR(SUMPRODUCT(--(E7852=$O$1:$O$542))>0,E7852=0),0,1)","v":0}]
[{"$nulls":4},0,{"$nulls":7},0,{"$nulls":13},{"$f":"IF(OR(SUMPRODUCT(--(E7946=$O$1:$O$542))>0,E7946=0),0,1)","v":0}]
[{"$nulls":4},0,{"$nulls":7},0,{"$nulls":13},{"$f":"IF(OR(SUMPRODUCT(--(E7975=$O$1:$O$542))>0,E7975=0),0,1)","v":0}]
[{"$nulls":4},0,{"$nulls":7},{"$f":"IF(L8004<>\"\",L8004,K8004)","v":0},{"$nulls":13},{"$f":"IF(OR(SUMPRODUCT(--(E8004=$O$1:$O$542))>0,E8004=0),0,1)","v":0}]
[{"$nulls":4},{"$f":"IF(AND(F8067<>\"\",F8067=G8067),\"ERROR\",IF(AND(F8067<>\"\",F8067<>G8067),F8067,G8067))","v":0},{"$nulls":7},0,{"$nulls":13},{"$f":"IF(OR(SUMPRODUCT(--(E8067=$O$1:$O$542))>0,E8067=0),0,1)","v":0}]
[{"$nulls":4},0,{"$nulls":7},0,{"$nulls":13},{"$f":"IF(OR(SUMPRODUCT(--(E8100=$O$1:$O$542))>0,E8100=0),0,1)","v":0}]
[{"$nulls":4},0,{"$nulls":7},0,{"$nulls":13},{"$f":"IF(OR(SUMPRODUCT(--(E8168=$O$1:$O$542))>0,E8168=0),0,1)","v":0}]
[{"$nulls":4},0,{"$nulls":7},0,{"$nulls":13},{"$f":"IF(OR(SUMPRODUCT(--(E8197=$O$1:$O$542))>0,E8197=0),0,1)","v":0}]
[{"$nulls":4},0,{"$nulls":7},0,{"$nulls":13},{"$f":"IF(OR(SUMPRODUCT(--(E8266=$O$1:$O$542))>0,E8266=0),0,1)","v":0}]
[{"$nulls":4},0,{"$nulls":7},0,{"$nulls":13},{"$f":"IF(OR(SUMPRODUCT(--(E8293=$O$1:$O$542))>0,E8293=0),0,1)","v":0}]
[{"$nulls":4},0,{"$nulls":7},0,{"$nulls":13},{"$f":"IF(OR(SUMPRODUCT(--(E8371=$O$1:$O$542))>0,E8371=0),0,1)","v":0}]
[{"$nulls":4},0,{"$nulls":7},0,{"$nulls":13},{"$f":"IF(OR(SUMPRODUCT(--(E8390=$O$1:$O$542))>0,E8390=0),0,1)","v":0}]
[{"$nulls":4},0,{"$nulls":7},0,{"$nulls":13},{"$f":"IF(OR(SUMPRODUCT(--(E8481=$O$1:$O$542))>0,E8481=0),0,1)","v":0}]
[{"$nulls":4},0,{"$nulls":7},0,{"$nulls":13},{"$f":"IF(OR(SUMPRODUCT(--(E8496=$O$1:$O$542))>0,E8496=0),0,1)","v":0}]
[{"$nulls":4},0,{"$nulls":7},0,{"$nulls":13},{"$f":"IF(OR(SUMPRODUCT(--(E8564=$O$1:$O$542))>0,E8564=0),0,1)","v":0}]
[{"$nulls":4},0,{"$nulls":7},0,{"$nulls":13},{"$f":"IF(OR(SUMPRODUCT(--(E8593=$O$1:$O$542))>0,E8593=0),0,1)","v":0}]
[{"$nulls":4},0,{"$nulls":7},0,{"$nulls":13},{"$f":"IF(OR(SUMPRODUCT(--(E8632=$O$1:$O$542))>0,E8632=0),0,1)","v":0}]
[{"$nulls":4},0,{"$nulls":7},0,{"$nulls":13},{"$f":"IF(OR(SUMPRODUCT(--(E8689=$O$1:$O$542))>0,E8689=0),0,1)","v":0}]
[{"$nulls":4},0,{"$nulls":7},0,{"$nulls":13},{"$f":"IF(OR(SUMPRODUCT(--(E8767=$O$1:$O$542))>0,E8767=0),0,1)","v":0}]
[{"$nulls":4},0,{"$nulls":7},0,{"$nulls":13},{"$f":"IF(OR(SUMPRODUCT(--(E8786=$O$1:$O$542))>0,E8786=0),0,1)","v":0}]
[{"$nulls":4},0,{"$nulls":7},0,{"$nulls":13},{"$f":"IF(OR(SUMPRODUCT(--(E8847=$O$1:$O$542))>0,E8847=0),0,1)","v":0}]
[{"$nulls":4},0,{"$nulls":7},0,{"$nulls":13},{"$f":"IF(OR(SUMPRODUCT(--(E8892=$O$1:$O$542))>0,E8892=0),0,1)","v":0}]
[{"$nulls":4},0,{"$nulls":7},0,{"$nulls":13},{"$f":"IF(OR(SUMPRODUCT(--(E8960=$O$1:$O$542))>0,E8960=0),0,1)","v":0}]
[{"$nulls":4},0,{"$nulls":7},0,{"$nulls":13},{"$f":"IF(OR(SUMPRODUCT(--(E8989=$O$1:$O$542))>0,E8989=0),0,1)","v":0}]
[{"$nulls":4},0,{"$nulls":7},0,{"$nulls":13},{"$f":"IF(OR(SUMPRODUCT(--(E9062=$O$1:$O$542))>0,E9062=0),0,1)","v":0}]
[{"$nulls":4},0,{"$nulls":7},0,{"$nulls":13},{"$f":"IF(OR(SUMPRODUCT(--(E9085=$O$1:$O$542))>0,E9085=0),0,1)","v":0}]
[{"$nulls":4},0,{"$nulls":7},0,{"$nulls":13},{"$f":"IF(OR(SUMPRODUCT(--(E9163=$O$1:$O$542))>0,E9163=0),0,1)","v":0}]
[{"$nulls":4},0,{"$nulls":7},0,{"$nulls":13},{"$f":"IF(OR(SUMPRODUCT(--(E9182=$O$1:$O$542))>0,E9182=0),0,1)","v":0}]
[{"$nulls":4},0,{"$nulls":7},0,{"$nulls":13},{"$f":"IF(OR(SUMPRODUCT(--(E9261=$O$1:$O$542))>0,E9261=0),0,1)","v":0}]
[{"$nulls":4},0,{"$nulls":7},0,{"$nulls":13},{"$f":"IF(OR(SUMPRODUCT(--(E9288=$O$1:$O$542))>0,E9288=0),0,1)","v":0}]
[{"$nulls":4},0,{"$nulls":7},0,{"$nulls":13},{"$f":"IF(OR(SUMPRODUCT(--(E9356=$O$1:$O$542))>0,E9356=0),0,1)","v":0}]
[{"$nulls":4},0,{"$nulls":7},0,{"$nulls":13},{"$f":"IF(OR(SUMPRODUCT(--(E9385=$O$1:$O$542))>0,E9385=0),0,1)","v":0}]
[{"$nulls":4},0,{"$nulls":7},0,{"$nulls":13},{"$f":"IF(OR(SUMPRODUCT(--(E9428=$O$1:$O$542))>0,E9428=0),0,1)","v":0}]
[{"$nulls":4},0,{"$nulls":7},0,{"$nulls":13},{"$f":"IF(OR(SUMPRODUCT(--(E9481=$O$1:$O$542))>0,E9481=0),0,1)","v":0}]
[{"$nulls":4},0,{"$nulls":7},0,{"$nulls":13},{"$f":"IF(OR(SUMPRODUCT(--(E9510=$O$1:$O$542))>0,E9510=0),0,1)","v":0}]
[{"$nulls":4},0,{"$nulls":7},0,{"$nulls":13},{"$f":"IF(OR(SUMPRODUCT(--(E9578=$O$1:$O$542))>0,E9578=0),0,1)","v":0}]
[{"$nulls":4},0,{"$nulls":7},0,{"$nulls":13},{"$f":"IF(OR(SUMPRODUCT(--(E9627=$O$1:$O$542))>0,E9627=0),0,1)","v":0}]
[{"$nulls":4},0,{"$nulls":7},0,{"$nulls":13},{"$f":"IF(OR(SUMPRODUCT(--(E9684=$O$1:$O$542))>0,E9684=0),0,1)","v":0}]
[{"$nulls":4},0,{"$nulls":7},0,{"$nulls":13},{"$f":"IF(OR(SUMPRODUCT(--(E9703=$O$1:$O$542))>0,E9703=0),0,1)","v":0}]
[{"$nulls":4},0,{"$nulls":7},0,{"$nulls":13},{"$f":"IF(OR(SUMPRODUCT(--(E9781=$O$1:$O$542))>0,E9781=0),0,1)","v":0}]
[{"$nulls":4},0,{"$nulls":7},0,{"$nulls":13},{"$f":"IF(OR(SUMPRODUCT(--(E9842=$O$1:$O$542))>0,E9842=0),0,1)","v":0}]
[{"$nulls":4},0,{"$nulls":7},0,{"$nulls":13},{"$f":"IF(OR(SUMPRODUCT(--(E9877=$O$1:$O$542))>0,E9877=0),0,1)","v":0}]
[{"$nulls":4},0,{"$nulls":7},0,{"$nulls":13},{"$f":"IF(OR(SUMPRODUCT(--(E9906=$O$1:$O$542))>0,E9906=0),0,1)","v":0}]
[{"$nulls":4},0,{"$nulls":7},0,{"$nulls":13},{"$f":"IF(OR(SUMPRODUCT(--(E9974=$O$1:$O$542))>0,E9974=0),0,1)","v":0}]
[{"$nulls":4},0,{"$nulls":7},0,{"$nulls":13},{"$f":"IF(OR(SUMPRODUCT(--(E10041=$O$1:$O$542))>0,E10041=0),0,1)","v":0}]
[{"$nulls":4},0,{"$nulls":7},0,{"$nulls":13},{"$f":"IF(OR(SUMPRODUCT(--(E10070=$O$1:$O$542))>0,E10070=0),0,1)","v":0}]
[{"$nulls":4},0,{"$nulls":7},0,{"$nulls":13},{"$f":"IF(OR(SUMPRODUCT(--(E10099=$O$1:$O$542))>0,E10099=0),0,1)","v":0}]
[{"$nulls":4},0,{"$nulls":7},0,{"$nulls":13},{"$f":"IF(OR(SUMPRODUCT(--(E10177=$O$1:$O$542))>0,E10177=0),0,1)","v":0}]
[{"$nulls":4},0,{"$nulls":7},0,{"$nulls":13},{"$f":"IF(OR(SUMPRODUCT(--(E10208=$O$1:$O$542))>0,E10208=0),0,1)","v":0}]
[{"$nulls":4},0,{"$nulls":7},0,{"$nulls":13},{"$f":"IF(OR(SUMPRODUCT(--(E10273=$O$1:$O$542))>0,E10273=0),0,1)","v":0}]
[{"$nulls":4},0,{"$nulls":7},0,{"$nulls":13},{"$f":"IF(OR(SUMPRODUCT(--(E10302=$O$1:$O$542))>0,E10302=0),0,1)","v":0}]
[{"$nulls":4},0,{"$nulls":7},0,{"$nulls":13},{"$f":"IF(OR(SUMPRODUCT(--(E10370=$O$1:$O$542))>0,E10370=0),0,1)","v":0}]
[{"$nulls":4},0,{"$nulls":7},0,{"$nulls":13},{"$f":"IF(OR(SUMPRODUCT(--(E10407=$O$1:$O$542))>0,E10407=0),0,1)","v":0}]
[{"$nulls":4},0,{"$nulls":7},0,{"$nulls":13},{"$f":"IF(OR(SUMPRODUCT(--(E10466=$O$1:$O$542))>0,E10466=0),0,1)","v":0}]
[{"$nulls":4},0,{"$nulls":7},0,{"$nulls":13},{"$f":"IF(OR(SUMPRODUCT(--(E10495=$O$1:$O$542))>0,E10495=0),0,1)","v":0}]
[{"$nulls":4},0,{"$nulls":7},0,{"$nulls":13},{"$f":"IF(OR(SUMPRODUCT(--(E10573=$O$1:$O$542))>0,E10573=0),0,1)","v":0}]
[{"$nulls":4},0,{"$nulls":7},0,{"$nulls":13},{"$f":"IF(OR(SUMPRODUCT(--(E10622=$O$1:$O$542))>0,E10622=0),0,1)","v":0}]
[{"$nulls":4},0,{"$nulls":7},0,{"$nulls":13},{"$f":"IF(OR(SUMPRODUCT(--(E10669=$O$1:$O$542))>0,E10669=0),0,1)","v":0}]
[{"$nulls":4},0,{"$nulls":7},0,{"$nulls":13},{"$f":"IF(OR(SUMPRODUCT(--(E10698=$O$1:$O$542))>0,E10698=0),0,1)","v":0}]
[{"$nulls":4},0,{"$nulls":7},0,{"$nulls":13},{"$f":"IF(OR(SUMPRODUCT(--(E10766=$O$1:$O$542))>0,E10766=0),0,1)","v":0}]
[{"$nulls":4},0,{"$nulls":7},0,{"$nulls":13},{"$f":"IF(OR(SUMPRODUCT(--(E10821=$O$1:$O$542))>0,E10821=0),0,1)","v":0}]
[{"$nulls":4},0,{"$nulls":7},0,{"$nulls":13},{"$f":"IF(OR(SUMPRODUCT(--(E10862=$O$1:$O$542))>0,E10862=0),0,1)","v":0}]
[{"$nulls":4},0,{"$nulls":7},0,{"$nulls":13},{"$f":"IF(OR(SUMPRODUCT(--(E10891=$O$1:$O$542))>0,E10891=0),0,1)","v":0}]
[{"$nulls":4},0,{"$nulls":7},0,{"$nulls":13},{"$f":"IF(OR(SUMPRODUCT(--(E10969=$O$1:$O$542))>0,E10969=0),0,1)","v":0}]
[{"$nulls":4},0,{"$nulls":7},0,{"$nulls":13},{"$f":"IF(OR(SUMPRODUCT(--(E10988=$O$1:$O$542))>0,E10988=0),0,1)","v":0}]
[{"$nulls":4},0,{"$nulls":7},0,{"$nulls":13},{"$f":"IF(OR(SUMPRODUCT(--(E11065=$O$1:$O$542))>0,E11065=0),0,1)","v":0}]
[{"$nulls":4},0,{"$nulls":7},0,{"$nulls":13},{"$f":"IF(OR(SUMPRODUCT(--(E11084=$O$1:$O$542))>0,E11084=0),0,1)","v":0}]
[{"$nulls":4},0,{"$nulls":7},0,{"$nulls":13},{"$f":"IF(OR(SUMPRODUCT(--(E11162=$O$1:$O$542))>0,E11162=0),0,1)","v":0}]
[{"$nulls":4},0,{"$nulls":7},0,{"$nulls":13},{"$f":"IF(OR(SUMPRODUCT(--(E11187=$O$1:$O$542))>0,E11187=0),0,1)","v":0}]
[{"$nulls":4},0,{"$nulls":7},0,{"$nulls":13},{"$f":"IF(OR(SUMPRODUCT(--(E11258=$O$1:$O$542))>0,E11258=0),0,1)","v":0}]
[{"$nulls":4},0,{"$nulls":7},0,{"$nulls":13},{"$f":"IF(OR(SUMPRODUCT(--(E11287=$O$1:$O$542))>0,E11287=0),0,1)","v":0}]
[{"$nulls":4},0,{"$nulls":7},0,{"$nulls":13},{"$f":"IF(OR(SUMPRODUCT(--(E11316=$O$1:$O$542))>0,E11316=0),0,1)","v":0}]
[{"$nulls":4},0,{"$nulls":7},0,{"$nulls":13},{"$f":"IF(OR(SUMPRODUCT(--(E11402=$O$1:$O$542))>0,E11402=0),0,1)","v":0}]
[{"$nulls":4},0,{"$nulls":7},0,{"$nulls":13},{"$f":"IF(OR(SUMPRODUCT(--(E11412=$O$1:$O$542))>0,E11412=0),0,1)","v":0}]
[{"$nulls":4},0,{"$nulls":7},0,{"$nulls":13},{"$f":"IF(OR(SUMPRODUCT(--(E11480=$O$1:$O$542))>0,E11480=0),0,1)","v":0}]
[{"$nulls":4},0,{"$nulls":7},0,{"$nulls":13},{"$f":"IF(OR(SUMPRODUCT(--(E11509=$O$1:$O$542))>0,E11509=0),0,1)","v":0}]
[{"$nulls":4},0,{"$nulls":7},0,{"$nulls":13},{"$f":"IF(OR(SUMPRODUCT(--(E11601=$O$1:$O$542))>0,E11601=0),0,1)","v":0}]
[{"$nulls":4},0,{"$nulls":7},0,{"$nulls":13},{"$f":"IF(OR(SUMPRODUCT(--(E11605=$O$1:$O$542))>0,E11605=0),0,1)","v":0}]
[{"$nulls":4},0,{"$nulls":7},0,{"$nulls":13},{"$f":"IF(OR(SUMPRODUCT(--(E11683=$O$1:$O$542))>0,E11683=0),0,1)","v":0}]
[{"$nulls":4},0,{"$nulls":7},0,{"$nulls":13},{"$f":"IF(OR(SUMPRODUCT(--(E11702=$O$1:$O$542))>0,E11702=0),0,1)","v":0}]
[{"$nulls":4},0,{"$nulls":7},0,{"$nulls":13},{"$f":"IF(OR(SUMPRODUCT(--(E11768=$O$1:$O$542))>0,E11768=0),0,1)","v":0}]
[{"$nulls":4},0,{"$nulls":7},0,{"$nulls":13},{"$f":"IF(OR(SUMPRODUCT(--(E11808=$O$1:$O$542))>0,E11808=0),0,1)","v":0}]
[{"$nulls":4},0,{"$nulls":7},0,{"$nulls":13},{"$f":"IF(OR(SUMPRODUCT(--(E11876=$O$1:$O$542))>0,E11876=0),0,1)","v":0}]
[{"$nulls":4},0,{"$nulls":7},0,{"$nulls":13},{"$f":"IF(OR(SUMPRODUCT(--(E11905=$O$1:$O$542))>0,E11905=0),0,1)","v":0}]
[{"$nulls":4},0,{"$nulls":7},0,{"$nulls":13},{"$f":"IF(OR(SUMPRODUCT(--(E11967=$O$1:$O$542))>0,E11967=0),0,1)","v":0}]
[{"$nulls":4},0,{"$nulls":7},0,{"$nulls":13},{"$f":"IF(OR(SUMPRODUCT(--(E12001=$O$1:$O$542))>0,E12001=0),0,1)","v":0}]
[{"$nulls":4},0,{"$nulls":7},0,{"$nulls":13},{"$f":"IF(OR(SUMPRODUCT(--(E12079=$O$1:$O$542))>0,E12079=0),0,1)","v":0}]
[{"$nulls":4},0,{"$nulls":7},0,{"$nulls":13},{"$f":"IF(OR(SUMPRODUCT(--(E12098=$O$1:$O$542))>0,E12098=0),0,1)","v":0}]
[{"$nulls":4},0,{"$nulls":7},0,{"$nulls":13},{"$f":"IF(OR(SUMPRODUCT(--(E12182=$O$1:$O$542))>0,E12182=0),0,1)","v":0}]
[{"$nulls":4},0,{"$nulls":7},0,{"$nulls":13},{"$f":"IF(OR(SUMPRODUCT(--(E12204=$O$1:$O$542))>0,E12204=0),0,1)","v":0}]
[{"$nulls":4},0,{"$nulls":7},0,{"$nulls":13},{"$f":"IF(OR(SUMPRODUCT(--(E12272=$O$1:$O$542))>0,E12272=0),0,1)","v":0}]
[{"$nulls":4},0,{"$nulls":7},0,{"$nulls":13},{"$f":"IF(OR(SUMPRODUCT(--(E12301=$O$1:$O$542))>0,E12301=0),0,1)","v":0}]
[{"$nulls":4},0,{"$nulls":7},0,{"$nulls":13},{"$f":"IF(OR(SUMPRODUCT(--(E12381=$O$1:$O$542))>0,E12381=0),0,1)","v":0}]
[{"$nulls":4},0,{"$nulls":7},0,{"$nulls":13},{"$f":"IF(OR(SUMPRODUCT(--(E12397=$O$1:$O$542))>0,E12397=0),0,1)","v":0}]
[{"$nulls":4},0,{"$nulls":7},0,{"$nulls":13},{"$f":"IF(OR(SUMPRODUCT(--(E12475=$O$1:$O$542))>0,E12475=0),0,1)","v":0}]
[{"$nulls":4},0,{"$nulls":7},0,{"$nulls":13},{"$f":"IF(OR(SUMPRODUCT(--(E12494=$O$1:$O$542))>0,E12494=0),0,1)","v":0}]
[{"$nulls":4},0,{"$nulls":7},{"$f":"IF(L12548<>\"\",L12548,K12548)","v":0},{"$nulls":13},{"$f":"IF(OR(SUMPRODUCT(--(E12548=$O$1:$O$542))>0,E12548=0),0,1)","v":0}]
[{"$nulls":4},0,{"$nulls":7},0,{"$nulls":13},{"$f":"IF(OR(SUMPRODUCT(--(E12600=$O$1:$O$542))>0,E12600=0),0,1)","v":0}]
[{"$nulls":4},0,{"$nulls":7},0,{"$nulls":13},{"$f":"IF(OR(SUMPRODUCT(--(E12668=$O$1:$O$542))>0,E12668=0),0,1)","v":0}]
[{"$nulls":4},0,{"$nulls":7},0,{"$nulls":13},{"$f":"IF(OR(SUMPRODUCT(--(E12697=$O$1:$O$542))>0,E12697=0),0,1)","v":0}]
[{"$nulls":4},0,{"$nulls":7},0,{"$nulls":13},{"$f":"IF(OR(SUMPRODUCT(--(E12763=$O$1:$O$542))>0,E12763=0),0,1)","v":0}]
[{"$nulls":4},0,{"$nulls":7},0,{"$nulls":13},{"$f":"IF(OR(SUMPRODUCT(--(E12793=$O$1:$O$542))>0,E12793=0),0,1)","v":0}]
[{"$nulls":4},0,{"$nulls":7},0,{"$nulls":13},{"$f":"IF(OR(SUMPRODUCT(--(E12871=$O$1:$O$542))>0,E12871=0),0,1)","v":0}]
[{"$nulls":4},0,{"$nulls":7},0,{"$nulls":13},{"$f":"IF(OR(SUMPRODUCT(--(E12890=$O$1:$O$542))>0,E12890=0),0,1)","v":0}]
[{"$nulls":4},0,{"$nulls":7},0,{"$nulls":13},{"$f":"IF(OR(SUMPRODUCT(--(E12962=$O$1:$O$542))>0,E12962=0),0,1)","v":0}]
[{"$nulls":4},0,{"$nulls":7},{"$f":"IF(L12996<>\"\",L12996,K12996)","v":0},{"$nulls":13},{"$f":"IF(OR(SUMPRODUCT(--(E12996=$O$1:$O$542))>0,E12996=0),0,1)","v":0}]
[{"$nulls":4},0,{"$nulls":7},0,{"$nulls":13},{"$f":"IF(OR(SUMPRODUCT(--(E13064=$O$1:$O$542))>0,E13064=0),0,1)","v":0}]
[{"$nulls":4},0,{"$nulls":7},0,{"$nulls":13},{"$f":"IF(OR(SUMPRODUCT(--(E13093=$O$1:$O$542))>0,E13093=0),0,1)","v":0}]
[{"$nulls":4},0,{"$nulls":7},0,{"$nulls":13},{"$f":"IF(OR(SUMPRODUCT(--(E13129=$O$1:$O$542))>0,E13129=0),0,1)","v":0}]
[{"$nulls":4},0,{"$nulls":7},0,{"$nulls":13},{"$f":"IF(OR(SUMPRODUCT(--(E13189=$O$1:$O$542))>0,E13189=0),0,1)","v":0}]
[{"$nulls":4},0,{"$nulls":7},0,{"$nulls":13},{"$f":"IF(OR(SUMPRODUCT(--(E13218=$O$1:$O$542))>0,E13218=0),0,1)","v":0}]
[{"$nulls":4},0,{"$nulls":7},0,{"$nulls":13},{"$f":"IF(OR(SUMPRODUCT(--(E13286=$O$1:$O$542))>0,E13286=0),0,1)","v":0}]
[{"$nulls":4},0,{"$nulls":7},0,{"$nulls":13},{"$f":"IF(OR(SUMPRODUCT(--(E13328=$O$1:$O$542))>0,E13328=0),0,1)","v":0}]
[{"$nulls":4},0,{"$nulls":7},0,{"$nulls":13},{"$f":"IF(OR(SUMPRODUCT(--(E13392=$O$1:$O$542))>0,E13392=0),0,1)","v":0}]
[{"$nulls":4},0,{"$nulls":7},0,{"$nulls":13},{"$f":"IF(OR(SUMPRODUCT(--(E13411=$O$1:$O$542))>0,E13411=0),0,1)","v":0}]
[{"$nulls":4},0,{"$nulls":7},0,{"$nulls":13},{"$f":"IF(OR(SUMPRODUCT(--(E13489=$O$1:$O$542))>0,E13489=0),0,1)","v":0}]
[{"$nulls":4},0,{"$nulls":7},0,{"$nulls":13},{"$f":"IF(OR(SUMPRODUCT(--(E13543=$O$1:$O$542))>0,E13543=0),0,1)","v":0}]
[{"$nulls":4},0,{"$nulls":7},0,{"$nulls":13},{"$f":"IF(OR(SUMPRODUCT(--(E13585=$O$1:$O$542))>0,E13585=0),0,1)","v":0}]
[{"$nulls":4},0,{"$nulls":7},0,{"$nulls":13},{"$f":"IF(OR(SUMPRODUCT(--(E13614=$O$1:$O$542))>0,E13614=0),0,1)","v":0}]
[{"$nulls":4},0,{"$nulls":7},0,{"$nulls":13},{"$f":"IF(OR(SUMPRODUCT(--(E13682=$O$1:$O$542))>0,E13682=0),0,1)","v":0}]
[{"$nulls":4},0,{"$nulls":7},0,{"$nulls":13},{"$f":"IF(OR(SUMPRODUCT(--(E13742=$O$1:$O$542))>0,E13742=0),0,1)","v":0}]
[{"$nulls":4},0,{"$nulls":7},0,{"$nulls":13},{"$f":"IF(OR(SUMPRODUCT(--(E13778=$O$1:$O$542))>0,E13778=0),0,1)","v":0}]
[{"$nulls":4},0,{"$nulls":7},0,{"$nulls":13},{"$f":"IF(OR(SUMPRODUCT(--(E13807=$O$1:$O$542))>0,E13807=0),0,1)","v":0}]
[{"$nulls":4},0,{"$nulls":7},0,{"$nulls":13},{"$f":"IF(OR(SUMPRODUCT(--(E13885=$O$1:$O$542))>0,E13885=0),0,1)","v":0}]
[{"$nulls":4},0,{"$nulls":7},0,{"$nulls":13},{"$f":"IF(OR(SUMPRODUCT(--(E13909=$O$1:$O$542))>0,E13909=0),0,1)","v":0}]
[{"$nulls":4},0,{"$nulls":7},0,{"$nulls":13},{"$f":"IF(OR(SUMPRODUCT(--(E13981=$O$1:$O$542))>0,E13981=0),0,1)","v":0}]
[{"$nulls":4},0,{"$nulls":7},0,{"$nulls":13},{"$f":"IF(OR(SUMPRODUCT(--(E14010=$O$1:$O$542))>0,E14010=0),0,1)","v":0}]
[{"$nulls":4},0,{"$nulls":7},0,{"$nulls":13},{"$f":"IF(OR(SUMPRODUCT(--(E14078=$O$1:$O$542))>0,E14078=0),0,1)","v":0}]
[{"$nulls":4},0,{"$nulls":7},0,{"$nulls":13},{"$f":"IF(OR(SUMPRODUCT(--(E14108=$O$1:$O$542))>0,E14108=0),0,1)","v":0}]
[{"$nulls":4},0,{"$nulls":7},0,{"$nulls":13},{"$f":"IF(OR(SUMPRODUCT(--(E14174=$O$1:$O$542))>0,E14174=0),0,1)","v":0}]
[{"$nulls":4},0,{"$nulls":7},0,{"$nulls":13},{"$f":"IF(OR(SUMPRODUCT(--(E14203=$O$1:$O$542))>0,E14203=0),0,1)","v":0}]
[{"$nulls":4},0,{"$nulls":7},0,{"$nulls":13},{"$f":"IF(OR(SUMPRODUCT(--(E14281=$O$1:$O$542))>0,E14281=0),0,1)","v":0}]
[{"$nulls":4},0,{"$nulls":7},0,{"$nulls":13},{"$f":"IF(OR(SUMPRODUCT(--(E14323=$O$1:$O$542))>0,E14323=0),0,1)","v":0}]
[{"$nulls":4},0,{"$nulls":7},0,{"$nulls":13},{"$f":"IF(OR(SUMPRODUCT(--(E14377=$O$1:$O$542))>0,E14377=0),0,1)","v":0}]
[{"$nulls":4},0,{"$nulls":7},0,{"$nulls":13},{"$f":"IF(OR(SUMPRODUCT(--(E14396=$O$1:$O$542))>0,E14396=0),0,1)","v":0}]
[{"$nulls":4},0,{"$nulls":7},0,{"$nulls":13},{"$f":"IF(OR(SUMPRODUCT(--(E14474=$O$1:$O$542))>0,E14474=0),0,1)","v":0}]
[{"$nulls":4},0,{"$nulls":7},0,{"$nulls":13},{"$f":"IF(OR(SUMPRODUCT(--(E14522=$O$1:$O$542))>0,E14522=0),0,1)","v":0}]
[{"$nulls":4},0,{"$nulls":7},0,{"$nulls":13},{"$f":"IF(OR(SUMPRODUCT(--(E14570=$O$1:$O$542))>0,E14570=0),0,1)","v":0}]
[{"$nulls":4},0,{"$nulls":7},0,{"$nulls":13},{"$f":"IF(OR(SUMPRODUCT(--(E14599=$O$1:$O$542))>0,E14599=0),0,1)","v":0}]
[{"$nulls":4},0,{"$nulls":7},0,{"$nulls":13},{"$f":"IF(OR(SUMPRODUCT(--(E14628=$O$1:$O$542))>0,E14628=0),0,1)","v":0}]
[{"$nulls":4},0,{"$nulls":7},0,{"$nulls":13},{"$f":"IF(OR(SUMPRODUCT(--(E14689=$O$1:$O$542))>0,E14689=0),0,1)","v":0}]
[{"$nulls":4},0,{"$nulls":7},{"$f":"IF(L14724<>\"\",L14724,K14724)","v":0},{"$nulls":13},{"$f":"IF(OR(SUMPRODUCT(--(E14724=$O$1:$O$542))>0,E14724=0),0,1)","v":0}]
[{"$nulls":4},0,{"$nulls":7},0,{"$nulls":13},{"$f":"IF(OR(SUMPRODUCT(--(E14792=$O$1:$O$542))>0,E14792=0),0,1)","v":0}]
[{"$nulls":4},0,{"$nulls":7},0,{"$nulls":13},{"$f":"IF(OR(SUMPRODUCT(--(E14870=$O$1:$O$542))>0,E14870=0),0,1)","v":0}]
[{"$nulls":4},0,{"$nulls":7},0,{"$nulls":13},{"$f":"IF(OR(SUMPRODUCT(--(E14888=$O$1:$O$542))>0,E14888=0),0,1)","v":0}]
[{"$nulls":4},0,{"$nulls":7},0,{"$nulls":13},{"$f":"IF(OR(SUMPRODUCT(--(E14966=$O$1:$O$542))>0,E14966=0),0,1)","v":0}]
[{"$nulls":4},0,{"$nulls":7},0,{"$nulls":13},{"$f":"IF(OR(SUMPRODUCT(--(E14995=$O$1:$O$542))>0,E14995=0),0,1)","v":0}]
[{"$nulls":4},0,{"$nulls":7},0,{"$nulls":13},{"$f":"IF(OR(SUMPRODUCT(--(E15024=$O$1:$O$542))>0,E15024=0),0,1)","v":0}]
[{"$nulls":4},0,{"$nulls":7},0,{"$nulls":13},{"$f":"IF(OR(SUMPRODUCT(--(E15103=$O$1:$O$542))>0,E15103=0),0,1)","v":0}]
[{"$nulls":4},0,{"$nulls":7},0,{"$nulls":13},{"$f":"IF(OR(SUMPRODUCT(--(E15120=$O$1:$O$542))>0,E15120=0),0,1)","v":0}]
[{"$nulls":4},0,{"$nulls":7},0,{"$nulls":13},{"$f":"IF(OR(SUMPRODUCT(--(E15188=$O$1:$O$542))>0,E15188=0),0,1)","v":0}]
[{"$nulls":4},0,{"$nulls":7},0,{"$nulls":13},{"$f":"IF(OR(SUMPRODUCT(--(E15217=$O$1:$O$542))>0,E15217=0),0,1)","v":0}]
[{"$nulls":4},0,{"$nulls":7},0,{"$nulls":13},{"$f":"IF(OR(SUMPRODUCT(--(E15302=$O$1:$O$542))>0,E15302=0),0,1)","v":0}]
[{"$nulls":4},0,{"$nulls":7},0,{"$nulls":13},{"$f":"IF(OR(SUMPRODUCT(--(E15313=$O$1:$O$542))>0,E15313=0),0,1)","v":0}]
[{"$nulls":4},0,{"$nulls":7},0,{"$nulls":13},{"$f":"IF(OR(SUMPRODUCT(--(E15391=$O$1:$O$542))>0,E15391=0),0,1)","v":0}]
[{"$nulls":4},0,{"$nulls":7},0,{"$nulls":13},{"$f":"IF(OR(SUMPRODUCT(--(E15410=$O$1:$O$542))>0,E15410=0),0,1)","v":0}]
[{"$nulls":4},0,{"$nulls":7},0,{"$nulls":13},{"$f":"IF(OR(SUMPRODUCT(--(E15469=$O$1:$O$542))>0,E15469=0),0,1)","v":0}]
[{"$nulls":4},0,{"$nulls":7},0,{"$nulls":13},{"$f":"IF(OR(SUMPRODUCT(--(E15516=$O$1:$O$542))>0,E15516=0),0,1)","v":0}]
[{"$nulls":4},0,{"$nulls":7},0,{"$nulls":13},{"$f":"IF(OR(SUMPRODUCT(--(E15584=$O$1:$O$542))>0,E15584=0),0,1)","v":0}]
[{"$nulls":4},0,{"$nulls":7},0,{"$nulls":13},{"$f":"IF(OR(SUMPRODUCT(--(E15613=$O$1:$O$542))>0,E15613=0),0,1)","v":0}]
[{"$nulls":4},0,{"$nulls":7},0,{"$nulls":13},{"$f":"IF(OR(SUMPRODUCT(--(E15668=$O$1:$O$542))>0,E15668=0),0,1)","v":0}]
[{"$nulls":4},0,{"$nulls":7},0,{"$nulls":13},{"$f":"IF(OR(SUMPRODUCT(--(E15709=$O$1:$O$542))>0,E15709=0),0,1)","v":0}]
[{"$nulls":4},0,{"$nulls":7},0,{"$nulls":13},{"$f":"IF(OR(SUMPRODUCT(--(E15787=$O$1:$O$542))>0,E15787=0),0,1)","v":0}]
[{"$nulls":4},0,{"$nulls":7},0,{"$nulls":13},{"$f":"IF(OR(SUMPRODUCT(--(E15806=$O$1:$O$542))>0,E15806=0),0,1)","v":0}]
[{"$nulls":4},0,{"$nulls":7},0,{"$nulls":13},{"$f":"IF(OR(SUMPRODUCT(--(E15883=$O$1:$O$542))>0,E15883=0),0,1)","v":0}]
[{"$nulls":4},0,{"$nulls":7},0,{"$nulls":13},{"$f":"IF(OR(SUMPRODUCT(--(E15912=$O$1:$O$542))>0,E15912=0),0,1)","v":0}]
[{"$nulls":4},0,{"$nulls":7},0,{"$nulls":13},{"$f":"IF(OR(SUMPRODUCT(--(E15980=$O$1:$O$542))>0,E15980=0),0,1)","v":0}]
[{"$nulls":4},0,{"$nulls":7},0,{"$nulls":13},{"$f":"IF(OR(SUMPRODUCT(--(E16009=$O$1:$O$542))>0,E16009=0),0,1)","v":0}]
[{"$nulls":4},0,{"$nulls":7},0,{"$nulls":13},{"$f":"IF(OR(SUMPRODUCT(--(E16050=$O$1:$O$542))>0,E16050=0),0,1)","v":0}]
[{"$nulls":4},0,{"$nulls":7},0,{"$nulls":13},{"$f":"IF(OR(SUMPRODUCT(--(E16105=$O$1:$O$542))>0,E16105=0),0,1)","v":0}]
[{"$nulls":4},0,{"$nulls":7},0,{"$nulls":13},{"$f":"IF(OR(SUMPRODUCT(--(E16183=$O$1:$O$542))>0,E16183=0),0,1)","v":0}]
[{"$nulls":4},0,{"$nulls":7},0,{"$nulls":13},{"$f":"IF(OR(SUMPRODUCT(--(E16202=$O$1:$O$542))>0,E16202=0),0,1)","v":0}]
[{"$nulls":4},0,{"$nulls":7},0,{"$nulls":13},{"$f":"IF(OR(SUMPRODUCT(--(E16249=$O$1:$O$542))>0,E16249=0),0,1)","v":0}]
[{"$nulls":4},0,{"$nulls":7},0,{"$nulls":13},{"$f":"IF(OR(SUMPRODUCT(--(E16308=$O$1:$O$542))>0,E16308=0),0,1)","v":0}]
[{"$nulls":4},0,{"$nulls":7},0,{"$nulls":13},{"$f":"IF(OR(SUMPRODUCT(--(E16376=$O$1:$O$542))>0,E16376=0),0,1)","v":0}]
[{"$nulls":4},0,{"$nulls":7},0,{"$nulls":13},{"$f":"IF(OR(SUMPRODUCT(--(E16405=$O$1:$O$542))>0,E16405=0),0,1)","v":0}]
[{"$nulls":4},0,{"$nulls":7},0,{"$nulls":13},{"$f":"IF(OR(SUMPRODUCT(--(E16464=$O$1:$O$542))>0,E16464=0),0,1)","v":0}]
[{"$nulls":4},0,{"$nulls":7},0,{"$nulls":13},{"$f":"IF(OR(SUMPRODUCT(--(E16501=$O$1:$O$542))>0,E16501=0),0,1)","v":0}]
[{"$nulls":4},0,{"$nulls":7},0,{"$nulls":13},{"$f":"IF(OR(SUMPRODUCT(--(E16530=$O$1:$O$542))>0,E16530=0),0,1)","v":0}]
[{"$nulls":4},0,{"$nulls":7},0,{"$nulls":13},{"$f":"IF(OR(SUMPRODUCT(--(E16598=$O$1:$O$542))>0,E16598=0),0,1)","v":0}]
[{"$nulls":4},0,{"$nulls":7},0,{"$nulls":13},{"$f":"IF(OR(SUMPRODUCT(--(E16663=$O$1:$O$542))>0,E16663=0),0,1)","v":0}]
[{"$nulls":4},0,{"$nulls":7},0,{"$nulls":13},{"$f":"IF(OR(SUMPRODUCT(--(E16704=$O$1:$O$542))>0,E16704=0),0,1)","v":0}]
[{"$nulls":4},0,{"$nulls":7},0,{"$nulls":13},{"$f":"IF(OR(SUMPRODUCT(--(E16723=$O$1:$O$542))>0,E16723=0),0,1)","v":0}]
[{"$nulls":4},0,{"$nulls":7},0,{"$nulls":13},{"$f":"IF(OR(SUMPRODUCT(--(E16801=$O$1:$O$542))>0,E16801=0),0,1)","v":0}]
[{"$nulls":4},0,{"$nulls":7},0,{"$nulls":13},{"$f":"IF(OR(SUMPRODUCT(--(E16830=$O$1:$O$542))>0,E16830=0),0,1)","v":0}]
[{"$nulls":4},0,{"$nulls":7},0,{"$nulls":13},{"$f":"IF(OR(SUMPRODUCT(--(E16897=$O$1:$O$542))>0,E16897=0),0,1)","v":0}]
[{"$nulls":4},0,{"$nulls":7},0,{"$nulls":13},{"$f":"IF(OR(SUMPRODUCT(--(E16926=$O$1:$O$542))>0,E16926=0),0,1)","v":0}]
[{"$nulls":4},0,{"$nulls":7},0,{"$nulls":13},{"$f":"IF(OR(SUMPRODUCT(--(E16994=$O$1:$O$542))>0,E16994=0),0,1)","v":0}]
[{"$nulls":4},0,{"$nulls":7},0,{"$nulls":13},{"$f":"IF(OR(SUMPRODUCT(--(E17029=$O$1:$O$542))>0,E17029=0),0,1)","v":0}]
[{"$nulls":4},0,{"$nulls":7},0,{"$nulls":13},{"$f":"IF(OR(SUMPRODUCT(--(E17090=$O$1:$O$542))>0,E17090=0),0,1)","v":0}]
[{"$nulls":4},0,{"$nulls":7},0,{"$nulls":13},{"$f":"IF(OR(SUMPRODUCT(--(E17119=$O$1:$O$542))>0,E17119=0),0,1)","v":0}]
[{"$nulls":4},0,{"$nulls":7},0,{"$nulls":13},{"$f":"IF(OR(SUMPRODUCT(--(E17197=$O$1:$O$542))>0,E17197=0),0,1)","v":0}]
[{"$nulls":4},0,{"$nulls":7},0,{"$nulls":13},{"$f":"IF(OR(SUMPRODUCT(--(E17244=$O$1:$O$542))>0,E17244=0),0,1)","v":0}]
[{"$nulls":4},0,{"$nulls":7},0,{"$nulls":13},{"$f":"IF(OR(SUMPRODUCT(--(E17293=$O$1:$O$542))>0,E17293=0),0,1)","v":0}]
[{"$nulls":4},0,{"$nulls":7},0,{"$nulls":13},{"$f":"IF(OR(SUMPRODUCT(--(E17322=$O$1:$O$542))>0,E17322=0),0,1)","v":0}]
[{"$nulls":4},0,{"$nulls":7},0,{"$nulls":13},{"$f":"IF(OR(SUMPRODUCT(--(E17390=$O$1:$O$542))>0,E17390=0),0,1)","v":0}]
[{"$nulls":4},0,{"$nulls":7},0,{"$nulls":13},{"$f":"IF(OR(SUMPRODUCT(--(E17443=$O$1:$O$542))>0,E17443=0),0,1)","v":0}]
[{"$nulls":4},0,{"$nulls":7},0,{"$nulls":13},{"$f":"IF(OR(SUMPRODUCT(--(E17486=$O$1:$O$542))>0,E17486=0),0,1)","v":0}]
[{"$nulls":4},0,{"$nulls":7},0,{"$nulls":13},{"$f":"IF(OR(SUMPRODUCT(--(E17515=$O$1:$O$542))>0,E17515=0),0,1)","v":0}]
[{"$nulls":4},0,{"$nulls":7},0,{"$nulls":13},{"$f":"IF(OR(SUMPRODUCT(--(E17593=$O$1:$O$542))>0,E17593=0),0,1)","v":0}]
[{"$nulls":4},0,{"$nulls":7},0,{"$nulls":13},{"$f":"IF(OR(SUMPRODUCT(--(E17610=$O$1:$O$542))>0,E17610=0),0,1)","v":0}]
[{"$nulls":4},0,{"$nulls":7},0,{"$nulls":13},{"$f":"IF(OR(SUMPRODUCT(--(E17689=$O$1:$O$542))>0,E17689=0),0,1)","v":0}]
[{"$nulls":4},0,{"$nulls":7},0,{"$nulls":13},{"$f":"IF(OR(SUMPRODUCT(--(E17718=$O$1:$O$542))>0,E17718=0),0,1)","v":0}]
[{"$nulls":4},0,{"$nulls":7},0,{"$nulls":13},{"$f":"IF(OR(SUMPRODUCT(--(E17786=$O$1:$O$542))>0,E17786=0),0,1)","v":0}]
[{"$nulls":4},0,{"$nulls":7},0,{"$nulls":13},{"$f":"IF(OR(SUMPRODUCT(--(E17809=$O$1:$O$542))>0,E17809=0),0,1)","v":0}]
[{"$nulls":4},0,{"$nulls":7},0,{"$nulls":13},{"$f":"IF(OR(SUMPRODUCT(--(E17882=$O$1:$O$542))>0,E17882=0),0,1)","v":0}]
[{"$nulls":4},0,{"$nulls":7},0,{"$nulls":13},{"$f":"IF(OR(SUMPRODUCT(--(E17911=$O$1:$O$542))>0,E17911=0),0,1)","v":0}]
[{"$nulls":4},0,{"$nulls":7},0,{"$nulls":13},{"$f":"IF(OR(SUMPRODUCT(--(E17989=$O$1:$O$542))>0,E17989=0),0,1)","v":0}]
[{"$nulls":4},0,{"$nulls":7},0,{"$nulls":13},{"$f":"IF(OR(SUMPRODUCT(--(E18024=$O$1:$O$542))>0,E18024=0),0,1)","v":0}]
[{"$nulls":4},0,{"$nulls":7},0,{"$nulls":13},{"$f":"IF(OR(SUMPRODUCT(--(E18085=$O$1:$O$542))>0,E18085=0),0,1)","v":0}]
[{"$nulls":4},0,{"$nulls":7},0,{"$nulls":13},{"$f":"IF(OR(SUMPRODUCT(--(E18104=$O$1:$O$542))>0,E18104=0),0,1)","v":0}]
[{"$nulls":4},0,{"$nulls":7},0,{"$nulls":13},{"$f":"IF(OR(SUMPRODUCT(--(E18182=$O$1:$O$542))>0,E18182=0),0,1)","v":0}]
[{"$nulls":4},0,{"$nulls":7},0,{"$nulls":13},{"$f":"IF(OR(SUMPRODUCT(--(E18223=$O$1:$O$542))>0,E18223=0),0,1)","v":0}]
[{"$nulls":4},0,{"$nulls":7},0,{"$nulls":13},{"$f":"IF(OR(SUMPRODUCT(--(E18278=$O$1:$O$542))>0,E18278=0),0,1)","v":0}]
[{"$nulls":4},{"$f":"IF(AND(F18307<>\"\",F18307=G18307),\"ERROR\",IF(AND(F18307<>\"\",F18307<>G18307),F18307,G18307))","v":0},{"$nulls":7},0,{"$nulls":13},{"$f":"IF(OR(SUMPRODUCT(--(E18307=$O$1:$O$542))>0,E18307=0),0,1)","v":0}]
[{"$nulls":4},0,{"$nulls":7},0,{"$nulls":13},{"$f":"IF(OR(SUMPRODUCT(--(E18336=$O$1:$O$542))>0,E18336=0),0,1)","v":0}]
[{"$nulls":4},0,{"$nulls":7},0,{"$nulls":13},{"$f":"IF(OR(SUMPRODUCT(--(E18390=$O$1:$O$542))>0,E18390=0),0,1)","v":0}]
[{"$nulls":4},0,{"$nulls":7},0,{"$nulls":13},{"$f":"IF(OR(SUMPRODUCT(--(E18432=$O$1:$O$542))>0,E18432=0),0,1)","v":0}]
[{"$nulls":4},0,{"$nulls":7},{"$f":"IF(L18500<>\"\",L18500,K18500)","v":0},{"$nulls":13},{"$f":"IF(OR(SUMPRODUCT(--(E18500=$O$1:$O$542))>0,E18500=0),0,1)","v":0}]
[{"$nulls":4},0,{"$nulls":7},0,{"$nulls":13},{"$f":"IF(OR(SUMPRODUCT(--(E18529=$O$1:$O$542))>0,E18529=0),0,1)","v":0}]
[{"$nulls":4},0,{"$nulls":7},0,{"$nulls":13},{"$f":"IF(OR(SUMPRODUCT(--(E18589=$O$1:$O$542))>0,E18589=0),0,1)","v":0}]
[{"$nulls":4},0,{"$nulls":7},0,{"$nulls":13},{"$f":"IF(OR(SUMPRODUCT(--(E18625=$O$1:$O$542))>0,E18625=0),0,1)","v":0}]
[{"$nulls":4},0,{"$nulls":7},0,{"$nulls":13},{"$f":"IF(OR(SUMPRODUCT(--(E18703=$O$1:$O$542))>0,E18703=0),0,1)","v":0}]
[{"$nulls":4},0,{"$nulls":7},0,{"$nulls":13},{"$f":"IF(OR(SUMPRODUCT(--(E18722=$O$1:$O$542))>0,E18722=0),0,1)","v":0}]
[{"$nulls":4},0,{"$nulls":7},0,{"$nulls":13},{"$f":"IF(OR(SUMPRODUCT(--(E18804=$O$1:$O$542))>0,E18804=0),0,1)","v":0}]
[{"$nulls":4},0,{"$nulls":7},0,{"$nulls":13},{"$f":"IF(OR(SUMPRODUCT(--(E18828=$O$1:$O$542))>0,E18828=0),0,1)","v":0}]
[{"$nulls":4},0,{"$nulls":7},0,{"$nulls":13},{"$f":"IF(OR(SUMPRODUCT(--(E18896=$O$1:$O$542))>0,E18896=0),0,1)","v":0}]
[{"$nulls":4},0,{"$nulls":7},0,{"$nulls":13},{"$f":"IF(OR(SUMPRODUCT(--(E18925=$O$1:$O$542))>0,E18925=0),0,1)","v":0}]
[{"$nulls":4},0,{"$nulls":7},0,{"$nulls":13},{"$f":"IF(OR(SUMPRODUCT(--(E19003=$O$1:$O$542))>0,E19003=0),0,1)","v":0}]
[{"$nulls":4},0,{"$nulls":7},0,{"$nulls":13},{"$f":"IF(OR(SUMPRODUCT(--(E19021=$O$1:$O$542))>0,E19021=0),0,1)","v":0}]
[{"$nulls":4},0,{"$nulls":7},0,{"$nulls":13},{"$f":"IF(OR(SUMPRODUCT(--(E19099=$O$1:$O$542))>0,E19099=0),0,1)","v":0}]
[{"$nulls":4},0,{"$nulls":7},0,{"$nulls":13},{"$f":"IF(OR(SUMPRODUCT(--(E19118=$O$1:$O$542))>0,E19118=0),0,1)","v":0}]
[{"$nulls":4},0,{"$nulls":7},0,{"$nulls":13},{"$f":"IF(OR(SUMPRODUCT(--(E19170=$O$1:$O$542))>0,E19170=0),0,1)","v":0}]
[{"$nulls":4},0,{"$nulls":7},0,{"$nulls":13},{"$f":"IF(OR(SUMPRODUCT(--(E19224=$O$1:$O$542))>0,E19224=0),0,1)","v":0}]
[{"$nulls":4},0,{"$nulls":7},0,{"$nulls":13},{"$f":"IF(OR(SUMPRODUCT(--(E19292=$O$1:$O$542))>0,E19292=0),0,1)","v":0}]
[{"$nulls":4},0,{"$nulls":7},0,{"$nulls":13},{"$f":"IF(OR(SUMPRODUCT(--(E19321=$O$1:$O$542))>0,E19321=0),0,1)","v":0}]
[{"$nulls":4},0,{"$nulls":7},0,{"$nulls":13},{"$f":"IF(OR(SUMPRODUCT(--(E19369=$O$1:$O$542))>0,E19369=0),0,1)","v":0}]
[{"$nulls":4},0,{"$nulls":7},0,{"$nulls":13},{"$f":"IF(OR(SUMPRODUCT(--(E19417=$O$1:$O$542))>0,E19417=0),0,1)","v":0}]
[{"$nulls":4},0,{"$nulls":7},0,{"$nulls":13},{"$f":"IF(OR(SUMPRODUCT(--(E19495=$O$1:$O$542))>0,E19495=0),0,1)","v":0}]
[{"$nulls":4},0,{"$nulls":7},0,{"$nulls":13},{"$f":"IF(OR(SUMPRODUCT(--(E19514=$O$1:$O$542))>0,E19514=0),0,1)","v":0}]
[{"$nulls":4},0,{"$nulls":7},0,{"$nulls":13},{"$f":"IF(OR(SUMPRODUCT(--(E19584=$O$1:$O$542))>0,E19584=0),0,1)","v":0}]
[{"$nulls":4},0,{"$nulls":7},0,{"$nulls":13},{"$f":"IF(OR(SUMPRODUCT(--(E19620=$O$1:$O$542))>0,E19620=0),0,1)","v":0}]
[{"$nulls":4},0,{"$nulls":7},0,{"$nulls":13},{"$f":"IF(OR(SUMPRODUCT(--(E19688=$O$1:$O$542))>0,E19688=0),0,1)","v":0}]
[{"$nulls":4},0,{"$nulls":7},0,{"$nulls":13},{"$f":"IF(OR(SUMPRODUCT(--(E19717=$O$1:$O$542))>0,E19717=0),0,1)","v":0}]
[{"$nulls":4},0,{"$nulls":7},0,{"$nulls":13},{"$f":"IF(OR(SUMPRODUCT(--(E19751=$O$1:$O$542))>0,E19751=0),0,1)","v":0}]
[{"$nulls":4},0,{"$nulls":7},0,{"$nulls":13},{"$f":"IF(OR(SUMPRODUCT(--(E19813=$O$1:$O$542))>0,E19813=0),0,1)","v":0}]
[{"$nulls":4},0,{"$nulls":7},0,{"$nulls":13},{"$f":"IF(OR(SUMPRODUCT(--(E19891=$O$1:$O$542))>0,E19891=0),0,1)","v":0}]
[{"$nulls":4},0,{"$nulls":7},0,{"$nulls":13},{"$f":"IF(OR(SUMPRODUCT(--(E19910=$O$1:$O$542))>0,E19910=0),0,1)","v":0}]
[{"$nulls":4},0,{"$nulls":7},0,{"$nulls":13},{"$f":"IF(OR(SUMPRODUCT(--(E19950=$O$1:$O$542))>0,E19950=0),0,1)","v":0}]
[{"$nulls":4},0,{"$nulls":7},0,{"$nulls":13},{"$f":"IF(OR(SUMPRODUCT(--(E20016=$O$1:$O$542))>0,E20016=0),0,1)","v":0}]
[{"$nulls":4},0,{"$nulls":7},0,{"$nulls":13},{"$f":"IF(OR(SUMPRODUCT(--(E20084=$O$1:$O$542))>0,E20084=0),0,1)","v":0}]
[{"$nulls":4},0,{"$nulls":7},0,{"$nulls":13},{"$f":"IF(OR(SUMPRODUCT(--(E20113=$O$1:$O$542))>0,E20113=0),0,1)","v":0}]
[{"$nulls":4},0,{"$nulls":7},0,{"$nulls":13},{"$f":"IF(OR(SUMPRODUCT(--(E20165=$O$1:$O$542))>0,E20165=0),0,1)","v":0}]
[{"$nulls":4},0,{"$nulls":7},0,{"$nulls":13},{"$f":"IF(OR(SUMPRODUCT(--(E20209=$O$1:$O$542))>0,E20209=0),0,1)","v":0}]
[{"$nulls":4},0,{"$nulls":7},0,{"$nulls":13},{"$f":"IF(OR(SUMPRODUCT(--(E20238=$O$1:$O$542))>0,E20238=0),0,1)","v":0}]
[{"$nulls":4},0,{"$nulls":7},0,{"$nulls":13},{"$f":"IF(OR(SUMPRODUCT(--(E20306=$O$1:$O$542))>0,E20306=0),0,1)","v":0}]
[{"$nulls":4},0,{"$nulls":7},0,{"$nulls":13},{"$f":"IF(OR(SUMPRODUCT(--(E20364=$O$1:$O$542))>0,E20364=0),0,1)","v":0}]
[{"$nulls":4},0,{"$nulls":7},0,{"$nulls":13},{"$f":"IF(OR(SUMPRODUCT(--(E20402=$O$1:$O$542))>0,E20402=0),0,1)","v":0}]
[{"$nulls":4},0,{"$nulls":7},0,{"$nulls":13},{"$f":"IF(OR(SUMPRODUCT(--(E20431=$O$1:$O$542))>0,E20431=0),0,1)","v":0}]
[{"$nulls":4},0,{"$nulls":7},0,{"$nulls":13},{"$f":"IF(OR(SUMPRODUCT(--(E20509=$O$1:$O$542))>0,E20509=0),0,1)","v":0}]
[{"$nulls":4},0,{"$nulls":7},0,{"$nulls":13},{"$f":"IF(OR(SUMPRODUCT(--(E20531=$O$1:$O$542))>0,E20531=0),0,1)","v":0}]
[{"$nulls":4},0,{"$nulls":7},0,{"$nulls":13},{"$f":"IF(OR(SUMPRODUCT(--(E20605=$O$1:$O$542))>0,E20605=0),0,1)","v":0}]
[{"$nulls":4},0,{"$nulls":7},0,{"$nulls":13},{"$f":"IF(OR(SUMPRODUCT(--(E20634=$O$1:$O$542))>0,E20634=0),0,1)","v":0}]
[{"$nulls":4},0,{"$nulls":7},0,{"$nulls":13},{"$f":"IF(OR(SUMPRODUCT(--(E20702=$O$1:$O$542))>0,E20702=0),0,1)","v":0}]
[{"$nulls":4},0,{"$nulls":7},0,{"$nulls":13},{"$f":"IF(OR(SUMPRODUCT(--(E20730=$O$1:$O$542))>0,E20730=0),0,1)","v":0}]
[{"$nulls":4},0,{"$nulls":7},0,{"$nulls":13},{"$f":"IF(OR(SUMPRODUCT(--(E20798=$O$1:$O$542))>0,E20798=0),0,1)","v":0}]
[{"$nulls":4},0,{"$nulls":7},0,{"$nulls":13},{"$f":"IF(OR(SUMPRODUCT(--(E20827=$O$1:$O$542))>0,E20827=0),0,1)","v":0}]
[{"$nulls":4},0,{"$nulls":7},0,{"$nulls":13},{"$f":"IF(OR(SUMPRODUCT(--(E20905=$O$1:$O$542))>0,E20905=0),0,1)","v":0}]
[{"$nulls":4},0,{"$nulls":7},0,{"$nulls":13},{"$f":"IF(OR(SUMPRODUCT(--(E20945=$O$1:$O$542))>0,E20945=0),0,1)","v":0}]
[{"$nulls":4},0,{"$nulls":7},0,{"$nulls":13},{"$f":"IF(OR(SUMPRODUCT(--(E21001=$O$1:$O$542))>0,E21001=0),0,1)","v":0}]
[{"$nulls":4},0,{"$nulls":7},0,{"$nulls":13},{"$f":"IF(OR(SUMPRODUCT(--(E21030=$O$1:$O$542))>0,E21030=0),0,1)","v":0}]
[{"$nulls":4},0,{"$nulls":7},0,{"$nulls":13},{"$f":"IF(OR(SUMPRODUCT(--(E21098=$O$1:$O$542))>0,E21098=0),0,1)","v":0}]
[{"$nulls":4},0,{"$nulls":7},0,{"$nulls":13},{"$f":"IF(OR(SUMPRODUCT(--(E21144=$O$1:$O$542))>0,E21144=0),0,1)","v":0}]
[{"$nulls":4},0,{"$nulls":7},0,{"$nulls":13},{"$f":"IF(OR(SUMPRODUCT(--(E21194=$O$1:$O$542))>0,E21194=0),0,1)","v":0}]
[{"$nulls":4},0,{"$nulls":7},0,{"$nulls":13},{"$f":"IF(OR(SUMPRODUCT(--(E21223=$O$1:$O$542))>0,E21223=0),0,1)","v":0}]
[{"$nulls":4},0,{"$nulls":7},0,{"$nulls":13},{"$f":"IF(OR(SUMPRODUCT(--(E21301=$O$1:$O$542))>0,E21301=0),0,1)","v":0}]
[{"$nulls":4},0,{"$nulls":7},0,{"$nulls":13},{"$f":"IF(OR(SUMPRODUCT(--(E21311=$O$1:$O$542))>0,E21311=0),0,1)","v":0}]
[{"$nulls":4},0,{"$nulls":7},0,{"$nulls":13},{"$f":"IF(OR(SUMPRODUCT(--(E21397=$O$1:$O$542))>0,E21397=0),0,1)","v":0}]
[{"$nulls":4},0,{"$nulls":7},0,{"$nulls":13},{"$f":"IF(OR(SUMPRODUCT(--(E21416=$O$1:$O$542))>0,E21416=0),0,1)","v":0}]
[{"$nulls":4},0,{"$nulls":7},0,{"$nulls":13},{"$f":"IF(OR(SUMPRODUCT(--(E21494=$O$1:$O$542))>0,E21494=0),0,1)","v":0}]
[{"$nulls":4},0,{"$nulls":7},0,{"$nulls":13},{"$f":"IF(OR(SUMPRODUCT(--(E21510=$O$1:$O$542))>0,E21510=0),0,1)","v":0}]
[{"$nulls":4},0,{"$nulls":7},0,{"$nulls":13},{"$f":"IF(OR(SUMPRODUCT(--(E21590=$O$1:$O$542))>0,E21590=0),0,1)","v":0}]
[{"$nulls":4},0,{"$nulls":7},0,{"$nulls":13},{"$f":"IF(OR(SUMPRODUCT(--(E21619=$O$1:$O$542))>0,E21619=0),0,1)","v":0}]
[{"$nulls":4},0,{"$nulls":7},0,{"$nulls":13},{"$f":"IF(OR(SUMPRODUCT(--(E21648=$O$1:$O$542))>0,E21648=0),0,1)","v":0}]
[{"$nulls":4},0,{"$nulls":7},0,{"$nulls":13},{"$f":"IF(OR(SUMPRODUCT(--(E21725=$O$1:$O$542))>0,E21725=0),0,1)","v":0}]
[{"$nulls":4},0,{"$nulls":7},0,{"$nulls":13},{"$f":"IF(OR(SUMPRODUCT(--(E21744=$O$1:$O$542))>0,E21744=0),0,1)","v":0}]
[{"$nulls":4},0,{"$nulls":7},0,{"$nulls":13},{"$f":"IF(OR(SUMPRODUCT(--(E21812=$O$1:$O$542))>0,E21812=0),0,1)","v":0}]
[{"$nulls":4},0,{"$nulls":7},0,{"$nulls":13},{"$f":"IF(OR(SUMPRODUCT(--(E21890=$O$1:$O$542))>0,E21890=0),0,1)","v":0}]
[{"$nulls":4},0,{"$nulls":7},0,{"$nulls":13},{"$f":"IF(OR(SUMPRODUCT(--(E21924=$O$1:$O$542))>0,E21924=0),0,1)","v":0}]
[{"$nulls":4},0,{"$nulls":7},0,{"$nulls":13},{"$f":"IF(OR(SUMPRODUCT(--(E21986=$O$1:$O$542))>0,E21986=0),0,1)","v":0}]
[{"$nulls":4},0,{"$nulls":7},0,{"$nulls":13},{"$f":"IF(OR(SUMPRODUCT(--(E22015=$O$1:$O$542))>0,E22015=0),0,1)","v":0}]
[{"$nulls":4},0,{"$nulls":7},0,{"$nulls":13},{"$f":"IF(OR(SUMPRODUCT(--(E22044=$O$1:$O$542))>0,E22044=0),0,1)","v":0}]
[{"$nulls":4},0,{"$nulls":7},0,{"$nulls":13},{"$f":"IF(OR(SUMPRODUCT(--(E22091=$O$1:$O$542))>0,E22091=0),0,1)","v":0}]
[{"$nulls":4},0,{"$nulls":7},0,{"$nulls":13},{"$f":"IF(OR(SUMPRODUCT(--(E22140=$O$1:$O$542))>0,E22140=0),0,1)","v":0}]
[{"$nulls":4},0,{"$nulls":7},0,{"$nulls":13},{"$f":"IF(OR(SUMPRODUCT(--(E22208=$O$1:$O$542))>0,E22208=0),0,1)","v":0}]
[{"$nulls":4},0,{"$nulls":7},0,{"$nulls":13},{"$f":"IF(OR(SUMPRODUCT(--(E22237=$O$1:$O$542))>0,E22237=0),0,1)","v":0}]
[{"$nulls":4},0,{"$nulls":7},0,{"$nulls":13},{"$f":"IF(OR(SUMPRODUCT(--(E22290=$O$1:$O$542))>0,E22290=0),0,1)","v":0}]
[{"$nulls":4},0,{"$nulls":7},0,{"$nulls":13},{"$f":"IF(OR(SUMPRODUCT(--(E22333=$O$1:$O$542))>0,E22333=0),0,1)","v":0}]
[{"$nulls":4},0,{"$nulls":7},0,{"$nulls":13},{"$f":"IF(OR(SUMPRODUCT(--(E22411=$O$1:$O$542))>0,E22411=0),0,1)","v":0}]
[{"$nulls":4},0,{"$nulls":7},0,{"$nulls":13},{"$f":"IF(OR(SUMPRODUCT(--(E22430=$O$1:$O$542))>0,E22430=0),0,1)","v":0}]
[{"$nulls":4},0,{"$nulls":7},0,{"$nulls":13},{"$f":"IF(OR(SUMPRODUCT(--(E22505=$O$1:$O$542))>0,E22505=0),0,1)","v":0}]
[{"$nulls":4},0,{"$nulls":7},0,{"$nulls":13},{"$f":"IF(OR(SUMPRODUCT(--(E22536=$O$1:$O$542))>0,E22536=0),0,1)","v":0}]
[{"$nulls":4},0,{"$nulls":7},0,{"$nulls":13},{"$f":"IF(OR(SUMPRODUCT(--(E22604=$O$1:$O$542))>0,E22604=0),0,1)","v":0}]
[{"$nulls":4},0,{"$nulls":7},0,{"$nulls":13},{"$f":"IF(OR(SUMPRODUCT(--(E22633=$O$1:$O$542))>0,E22633=0),0,1)","v":0}]
[{"$nulls":4},0,{"$nulls":7},0,{"$nulls":13},{"$f":"IF(OR(SUMPRODUCT(--(E22704=$O$1:$O$542))>0,E22704=0),0,1)","v":0}]
[{"$nulls":4},0,{"$nulls":7},0,{"$nulls":13},{"$f":"IF(OR(SUMPRODUCT(--(E22729=$O$1:$O$542))>0,E22729=0),0,1)","v":0}]
[{"$nulls":4},0,{"$nulls":7},0,{"$nulls":13},{"$f":"IF(OR(SUMPRODUCT(--(E22807=$O$1:$O$542))>0,E22807=0),0,1)","v":0}]
[{"$nulls":4},0,{"$nulls":7},0,{"$nulls":13},{"$f":"IF(OR(SUMPRODUCT(--(E22826=$O$1:$O$542))>0,E22826=0),0,1)","v":0}]
[{"$nulls":4},0,{"$nulls":7},0,{"$nulls":13},{"$f":"IF(OR(SUMPRODUCT(--(E22871=$O$1:$O$542))>0,E22871=0),0,1)","v":0}]
[{"$nulls":4},0,{"$nulls":7},0,{"$nulls":13},{"$f":"IF(OR(SUMPRODUCT(--(E22932=$O$1:$O$542))>0,E22932=0),0,1)","v":0}]
[{"$nulls":4},0,{"$nulls":7},0,{"$nulls":13},{"$f":"IF(OR(SUMPRODUCT(--(E23000=$O$1:$O$542))>0,E23000=0),0,1)","v":0}]
[{"$nulls":4},0,{"$nulls":7},0,{"$nulls":13},{"$f":"IF(OR(SUMPRODUCT(--(E23029=$O$1:$O$542))>0,E23029=0),0,1)","v":0}]
[{"$nulls":4},0,{"$nulls":7},0,{"$nulls":13},{"$f":"IF(OR(SUMPRODUCT(--(E23086=$O$1:$O$542))>0,E23086=0),0,1)","v":0}]
[{"$nulls":4},0,{"$nulls":7},0,{"$nulls":13},{"$f":"IF(OR(SUMPRODUCT(--(E23125=$O$1:$O$542))>0,E23125=0),0,1)","v":0}]
[{"$nulls":4},0,{"$nulls":7},0,{"$nulls":13},{"$f":"IF(OR(SUMPRODUCT(--(E23203=$O$1:$O$542))>0,E23203=0),0,1)","v":0}]
[{"$nulls":4},0,{"$nulls":7},0,{"$nulls":13},{"$f":"IF(OR(SUMPRODUCT(--(E23222=$O$1:$O$542))>0,E23222=0),0,1)","v":0}]
[{"$nulls":4},0,{"$nulls":7},0,{"$nulls":13},{"$f":"IF(OR(SUMPRODUCT(--(E23285=$O$1:$O$542))>0,E23285=0),0,1)","v":0}]
[{"$nulls":4},0,{"$nulls":7},0,{"$nulls":13},{"$f":"IF(OR(SUMPRODUCT(--(E23328=$O$1:$O$542))>0,E23328=0),0,1)","v":0}]
[{"$nulls":4},0,{"$nulls":7},0,{"$nulls":13},{"$f":"IF(OR(SUMPRODUCT(--(E23396=$O$1:$O$542))>0,E23396=0),0,1)","v":0}]
[{"$nulls":4},0,{"$nulls":7},0,{"$nulls":13},{"$f":"IF(OR(SUMPRODUCT(--(E23425=$O$1:$O$542))>0,E23425=0),0,1)","v":0}]
[{"$nulls":4},0,{"$nulls":7},0,{"$nulls":13},{"$f":"IF(OR(SUMPRODUCT(--(E23452=$O$1:$O$542))>0,E23452=0),0,1)","v":0}]
[{"$nulls":4},0,{"$nulls":7},0,{"$nulls":13},{"$f":"IF(OR(SUMPRODUCT(--(E23521=$O$1:$O$542))>0,E23521=0),0,1)","v":0}]
[{"$nulls":4},0,{"$nulls":7},0,{"$nulls":13},{"$f":"IF(OR(SUMPRODUCT(--(E23550=$O$1:$O$542))>0,E23550=0),0,1)","v":0}]
[{"$nulls":4},0,{"$nulls":7},0,{"$nulls":13},{"$f":"IF(OR(SUMPRODUCT(--(E23618=$O$1:$O$542))>0,E23618=0),0,1)","v":0}]
[{"$nulls":4},0,{"$nulls":7},0,{"$nulls":13},{"$f":"IF(OR(SUMPRODUCT(--(E23651=$O$1:$O$542))>0,E23651=0),0,1)","v":0}]
[{"$nulls":4},0,{"$nulls":7},0,{"$nulls":13},{"$f":"IF(OR(SUMPRODUCT(--(E23724=$O$1:$O$542))>0,E23724=0),0,1)","v":0}]
[{"$nulls":4},0,{"$nulls":7},0,{"$nulls":13},{"$f":"IF(OR(SUMPRODUCT(--(E23743=$O$1:$O$542))>0,E23743=0),0,1)","v":0}]
[{"$nulls":4},0,{"$nulls":7},0,{"$nulls":13},{"$f":"IF(OR(SUMPRODUCT(--(E23821=$O$1:$O$542))>0,E23821=0),0,1)","v":0}]
[{"$nulls":4},0,{"$nulls":7},0,{"$nulls":13},{"$f":"IF(OR(SUMPRODUCT(--(E23866=$O$1:$O$542))>0,E23866=0),0,1)","v":0}]
[{"$nulls":4},0,{"$nulls":7},0,{"$nulls":13},{"$f":"IF(OR(SUMPRODUCT(--(E23917=$O$1:$O$542))>0,E23917=0),0,1)","v":0}]
[{"$nulls":4},0,{"$nulls":7},0,{"$nulls":13},{"$f":"IF(OR(SUMPRODUCT(--(E23946=$O$1:$O$542))>0,E23946=0),0,1)","v":0}]
[{"$nulls":4},0,{"$nulls":7},0,{"$nulls":13},{"$f":"IF(OR(SUMPRODUCT(--(E24014=$O$1:$O$542))>0,E24014=0),0,1)","v":0}]
[{"$nulls":4},0,{"$nulls":7},0,{"$nulls":13},{"$f":"IF(OR(SUMPRODUCT(--(E24065=$O$1:$O$542))>0,E24065=0),0,1)","v":0}]
[{"$nulls":4},0,{"$nulls":7},0,{"$nulls":13},{"$f":"IF(OR(SUMPRODUCT(--(E24110=$O$1:$O$542))>0,E24110=0),0,1)","v":0}]
[{"$nulls":4},0,{"$nulls":7},0,{"$nulls":13},{"$f":"IF(OR(SUMPRODUCT(--(E24139=$O$1:$O$542))>0,E24139=0),0,1)","v":0}]
[{"$nulls":4},0,{"$nulls":7},0,{"$nulls":13},{"$f":"IF(OR(SUMPRODUCT(--(E24217=$O$1:$O$542))>0,E24217=0),0,1)","v":0}]
[{"$nulls":4},0,{"$nulls":7},0,{"$nulls":13},{"$f":"IF(OR(SUMPRODUCT(--(E24232=$O$1:$O$542))>0,E24232=0),0,1)","v":0}]
[{"$nulls":4},0,{"$nulls":7},0,{"$nulls":13},{"$f":"IF(OR(SUMPRODUCT(--(E24313=$O$1:$O$542))>0,E24313=0),0,1)","v":0}]
[{"$nulls":4},0,{"$nulls":7},0,{"$nulls":13},{"$f":"IF(OR(SUMPRODUCT(--(E24342=$O$1:$O$542))>0,E24342=0),0,1)","v":0}]
[{"$nulls":4},0,{"$nulls":7},0,{"$nulls":13},{"$f":"IF(OR(SUMPRODUCT(--(E24410=$O$1:$O$542))>0,E24410=0),0,1)","v":0}]
[{"$nulls":4},0,{"$nulls":7},0,{"$nulls":13},{"$f":"IF(OR(SUMPRODUCT(--(E24431=$O$1:$O$542))>0,E24431=0),0,1)","v":0}]
[{"$nulls":4},0,{"$nulls":7},0,{"$nulls":13},{"$f":"IF(OR(SUMPRODUCT(--(E24506=$O$1:$O$542))>0,E24506=0),0,1)","v":0}]
[{"$nulls":4},0,{"$nulls":7},0,{"$nulls":13},{"$f":"IF(OR(SUMPRODUCT(--(E24535=$O$1:$O$542))>0,E24535=0),0,1)","v":0}]
[{"$nulls":4},0,{"$nulls":7},0,{"$nulls":13},{"$f":"IF(OR(SUMPRODUCT(--(E24613=$O$1:$O$542))>0,E24613=0),0,1)","v":0}]
[{"$nulls":4},0,{"$nulls":7},0,{"$nulls":13},{"$f":"IF(OR(SUMPRODUCT(--(E24646=$O$1:$O$542))>0,E24646=0),0,1)","v":0}]
[{"$nulls":4},0,{"$nulls":7},0,{"$nulls":13},{"$f":"IF(OR(SUMPRODUCT(--(E24709=$O$1:$O$542))>0,E24709=0),0,1)","v":0}]
[{"$nulls":4},0,{"$nulls":7},0,{"$nulls":13},{"$f":"IF(OR(SUMPRODUCT(--(E24738=$O$1:$O$542))>0,E24738=0),0,1)","v":0}]
[{"$nulls":4},0,{"$nulls":7},0,{"$nulls":13},{"$f":"IF(OR(SUMPRODUCT(--(E24806=$O$1:$O$542))>0,E24806=0),0,1)","v":0}]
[{"$nulls":4},0,{"$nulls":7},0,{"$nulls":13},{"$f":"IF(OR(SUMPRODUCT(--(E24845=$O$1:$O$542))>0,E24845=0),0,1)","v":0}]
[{"$nulls":4},0,{"$nulls":7},0,{"$nulls":13},{"$f":"IF(OR(SUMPRODUCT(--(E24902=$O$1:$O$542))>0,E24902=0),0,1)","v":0}]
[{"$nulls":4},0,{"$nulls":7},0,{"$nulls":13},{"$f":"IF(OR(SUMPRODUCT(--(E24931=$O$1:$O$542))>0,E24931=0),0,1)","v":0}]
[{"$nulls":4},0,{"$nulls":7},0,{"$nulls":13},{"$f":"IF(OR(SUMPRODUCT(--(E25009=$O$1:$O$542))>0,E25009=0),0,1)","v":0}]
[{"$nulls":4},0,{"$nulls":7},0,{"$nulls":13},{"$f":"IF(OR(SUMPRODUCT(--(E25012=$O$1:$O$542))>0,E25012=0),0,1)","v":0}]
[{"$nulls":4},0,{"$nulls":7},0,{"$nulls":13},{"$f":"IF(OR(SUMPRODUCT(--(E25105=$O$1:$O$542))>0,E25105=0),0,1)","v":0}]
[{"$nulls":4},0,{"$nulls":7},0,{"$nulls":13},{"$f":"IF(OR(SUMPRODUCT(--(E25124=$O$1:$O$542))>0,E25124=0),0,1)","v":0}]
[{"$nulls":4},0,{"$nulls":7},0,{"$nulls":13},{"$f":"IF(OR(SUMPRODUCT(--(E25202=$O$1:$O$542))>0,E25202=0),0,1)","v":0}]
[{"$nulls":4},0,{"$nulls":7},0,{"$nulls":13},{"$f":"IF(OR(SUMPRODUCT(--(E25211=$O$1:$O$542))>0,E25211=0),0,1)","v":0}]
[{"$nulls":4},0,{"$nulls":7},0,{"$nulls":13},{"$f":"IF(OR(SUMPRODUCT(--(E25298=$O$1:$O$542))>0,E25298=0),0,1)","v":0}]
[{"$nulls":4},0,{"$nulls":7},0,{"$nulls":13},{"$f":"IF(OR(SUMPRODUCT(--(E25327=$O$1:$O$542))>0,E25327=0),0,1)","v":0}]
[{"$nulls":4},0,{"$nulls":7},0,{"$nulls":13},{"$f":"IF(OR(SUMPRODUCT(--(E25356=$O$1:$O$542))>0,E25356=0),0,1)","v":0}]
[{"$nulls":4},0,{"$nulls":7},0,{"$nulls":13},{"$f":"IF(OR(SUMPRODUCT(--(E25426=$O$1:$O$542))>0,E25426=0),0,1)","v":0}]
[{"$nulls":4},0,{"$nulls":7},0,{"$nulls":13},{"$f":"IF(OR(SUMPRODUCT(--(E25452=$O$1:$O$542))>0,E25452=0),0,1)","v":0}]
[{"$nulls":4},0,{"$nulls":7},0,{"$nulls":13},{"$f":"IF(OR(SUMPRODUCT(--(E25520=$O$1:$O$542))>0,E25520=0),0,1)","v":0}]
[{"$nulls":4},0,{"$nulls":7},0,{"$nulls":13},{"$f":"IF(OR(SUMPRODUCT(--(E25549=$O$1:$O$542))>0,E25549=0),0,1)","v":0}]
[{"$nulls":4},0,{"$nulls":7},0,{"$nulls":13},{"$f":"IF(OR(SUMPRODUCT(--(E25625=$O$1:$O$542))>0,E25625=0),0,1)","v":0}]
[{"$nulls":4},0,{"$nulls":7},0,{"$nulls":13},{"$f":"IF(OR(SUMPRODUCT(--(E25645=$O$1:$O$542))>0,E25645=0),0,1)","v":0}]
[{"$nulls":4},0,{"$nulls":7},0,{"$nulls":13},{"$f":"IF(OR(SUMPRODUCT(--(E25723=$O$1:$O$542))>0,E25723=0),0,1)","v":0}]
[{"$nulls":4},0,{"$nulls":7},0,{"$nulls":13},{"$f":"IF(OR(SUMPRODUCT(--(E25742=$O$1:$O$542))>0,E25742=0),0,1)","v":0}]
[{"$nulls":4},0,{"$nulls":7},0,{"$nulls":13},{"$f":"IF(OR(SUMPRODUCT(--(E25792=$O$1:$O$542))>0,E25792=0),0,1)","v":0}]
[{"$nulls":4},0,{"$nulls":7},0,{"$nulls":13},{"$f":"IF(OR(SUMPRODUCT(--(E25848=$O$1:$O$542))>0,E25848=0),0,1)","v":0}]
[{"$nulls":4},0,{"$nulls":7},0,{"$nulls":13},{"$f":"IF(OR(SUMPRODUCT(--(E25916=$O$1:$O$542))>0,E25916=0),0,1)","v":0}]
[{"$nulls":4},0,{"$nulls":7},0,{"$nulls":13},{"$f":"IF(OR(SUMPRODUCT(--(E25945=$O$1:$O$542))>0,E25945=0),0,1)","v":0}]
[{"$nulls":4},0,{"$nulls":7},0,{"$nulls":13},{"$f":"IF(OR(SUMPRODUCT(--(E25991=$O$1:$O$542))>0,E25991=0),0,1)","v":0}]
[{"$nulls":4},0,{"$nulls":7},0,{"$nulls":13},{"$f":"IF(OR(SUMPRODUCT(--(E26041=$O$1:$O$542))>0,E26041=0),0,1)","v":0}]
[{"$nulls":4},0,{"$nulls":7},0,{"$nulls":13},{"$f":"IF(OR(SUMPRODUCT(--(E26119=$O$1:$O$542))>0,E26119=0),0,1)","v":0}]
[{"$nulls":4},0,{"$nulls":7},0,{"$nulls":13},{"$f":"IF(OR(SUMPRODUCT(--(E26138=$O$1:$O$542))>0,E26138=0),0,1)","v":0}]
[{"$nulls":4},0,{"$nulls":7},0,{"$nulls":13},{"$f":"IF(OR(SUMPRODUCT(--(E26206=$O$1:$O$542))>0,E26206=0),0,1)","v":0}]
[{"$nulls":4},0,{"$nulls":7},{"$f":"IF(L26244<>\"\",L26244,K26244)","v":0},{"$nulls":13},{"$f":"IF(OR(SUMPRODUCT(--(E26244=$O$1:$O$542))>0,E26244=0),0,1)","v":0}]
[{"$nulls":4},0,{"$nulls":7},0,{"$nulls":13},{"$f":"IF(OR(SUMPRODUCT(--(E26312=$O$1:$O$542))>0,E26312=0),0,1)","v":0}]
[{"$nulls":4},0,{"$nulls":7},0,{"$nulls":13},{"$f":"IF(OR(SUMPRODUCT(--(E26341=$O$1:$O$542))>0,E26341=0),0,1)","v":0}]
[{"$nulls":4},0,{"$nulls":7},0,{"$nulls":13},{"$f":"IF(OR(SUMPRODUCT(--(E26405=$O$1:$O$542))>0,E26405=0),0,1)","v":0}]
[{"$nulls":4},0,{"$nulls":7},0,{"$nulls":13},{"$f":"IF(OR(SUMPRODUCT(--(E26437=$O$1:$O$542))>0,E26437=0),0,1)","v":0}]
[{"$nulls":4},0,{"$nulls":7},0,{"$nulls":13},{"$f":"IF(OR(SUMPRODUCT(--(E26515=$O$1:$O$542))>0,E26515=0),0,1)","v":0}]
[{"$nulls":4},0,{"$nulls":7},0,{"$nulls":13},{"$f":"IF(OR(SUMPRODUCT(--(E26534=$O$1:$O$542))>0,E26534=0),0,1)","v":0}]
[{"$nulls":4},0,{"$nulls":7},0,{"$nulls":13},{"$f":"IF(OR(SUMPRODUCT(--(E26572=$O$1:$O$542))>0,E26572=0),0,1)","v":0}]
[{"$nulls":4},0,{"$nulls":7},0,{"$nulls":13},{"$f":"IF(OR(SUMPRODUCT(--(E26640=$O$1:$O$542))>0,E26640=0),0,1)","v":0}]
[{"$nulls":4},0,{"$nulls":7},0,{"$nulls":13},{"$f":"IF(OR(SUMPRODUCT(--(E26708=$O$1:$O$542))>0,E26708=0),0,1)","v":0}]
[{"$nulls":4},0,{"$nulls":7},0,{"$nulls":13},{"$f":"IF(OR(SUMPRODUCT(--(E26737=$O$1:$O$542))>0,E26737=0),0,1)","v":0}]
[{"$nulls":4},0,{"$nulls":7},0,{"$nulls":13},{"$f":"IF(OR(SUMPRODUCT(--(E26787=$O$1:$O$542))>0,E26787=0),0,1)","v":0}]
[{"$nulls":4},0,{"$nulls":7},0,{"$nulls":13},{"$f":"IF(OR(SUMPRODUCT(--(E26833=$O$1:$O$542))>0,E26833=0),0,1)","v":0}]
[{"$nulls":4},0,{"$nulls":7},0,{"$nulls":13},{"$f":"IF(OR(SUMPRODUCT(--(E26911=$O$1:$O$542))>0,E26911=0),0,1)","v":0}]
[{"$nulls":4},0,{"$nulls":7},0,{"$nulls":13},{"$f":"IF(OR(SUMPRODUCT(--(E26930=$O$1:$O$542))>0,E26930=0),0,1)","v":0}]
[{"$nulls":4},0,{"$nulls":7},0,{"$nulls":13},{"$f":"IF(OR(SUMPRODUCT(--(E26986=$O$1:$O$542))>0,E26986=0),0,1)","v":0}]
[{"$nulls":4},0,{"$nulls":7},0,{"$nulls":13},{"$f":"IF(OR(SUMPRODUCT(--(E27036=$O$1:$O$542))>0,E27036=0),0,1)","v":0}]
[{"$nulls":4},0,{"$nulls":7},0,{"$nulls":13},{"$f":"IF(OR(SUMPRODUCT(--(E27104=$O$1:$O$542))>0,E27104=0),0,1)","v":0}]
[{"$nulls":4},0,{"$nulls":7},0,{"$nulls":13},{"$f":"IF(OR(SUMPRODUCT(--(E27133=$O$1:$O$542))>0,E27133=0),0,1)","v":0}]
[{"$nulls":4},0,{"$nulls":7},0,{"$nulls":13},{"$f":"IF(OR(SUMPRODUCT(--(E27201=$O$1:$O$542))>0,E27201=0),0,1)","v":0}]
[{"$nulls":4},0,{"$nulls":7},0,{"$nulls":13},{"$f":"IF(OR(SUMPRODUCT(--(E27229=$O$1:$O$542))>0,E27229=0),0,1)","v":0}]
[{"$nulls":4},0,{"$nulls":7},0,{"$nulls":13},{"$f":"IF(OR(SUMPRODUCT(--(E27258=$O$1:$O$542))>0,E27258=0),0,1)","v":0}]
[{"$nulls":4},0,{"$nulls":7},0,{"$nulls":13},{"$f":"IF(OR(SUMPRODUCT(--(E27326=$O$1:$O$542))>0,E27326=0),0,1)","v":0}]
[{"$nulls":4},0,{"$nulls":7},0,{"$nulls":13},{"$f":"IF(OR(SUMPRODUCT(--(E27352=$O$1:$O$542))>0,E27352=0),0,1)","v":0}]
[{"$nulls":4},0,{"$nulls":7},0,{"$nulls":13},{"$f":"IF(OR(SUMPRODUCT(--(E27422=$O$1:$O$542))>0,E27422=0),0,1)","v":0}]
[{"$nulls":4},0,{"$nulls":7},0,{"$nulls":13},{"$f":"IF(OR(SUMPRODUCT(--(E27451=$O$1:$O$542))>0,E27451=0),0,1)","v":0}]
[{"$nulls":4},0,{"$nulls":7},0,{"$nulls":13},{"$f":"IF(OR(SUMPRODUCT(--(E27529=$O$1:$O$542))>0,E27529=0),0,1)","v":0}]
[{"$nulls":4},0,{"$nulls":7},0,{"$nulls":13},{"$f":"IF(OR(SUMPRODUCT(--(E27567=$O$1:$O$542))>0,E27567=0),0,1)","v":0}]
[{"$nulls":4},0,{"$nulls":7},0,{"$nulls":13},{"$f":"IF(OR(SUMPRODUCT(--(E27625=$O$1:$O$542))>0,E27625=0),0,1)","v":0}]
[{"$nulls":4},0,{"$nulls":7},0,{"$nulls":13},{"$f":"IF(OR(SUMPRODUCT(--(E27654=$O$1:$O$542))>0,E27654=0),0,1)","v":0}]
[{"$nulls":4},0,{"$nulls":7},0,{"$nulls":13},{"$f":"IF(OR(SUMPRODUCT(--(E27722=$O$1:$O$542))>0,E27722=0),0,1)","v":0}]
[{"$nulls":4},0,{"$nulls":7},0,{"$nulls":13},{"$f":"IF(OR(SUMPRODUCT(--(E27766=$O$1:$O$542))>0,E27766=0),0,1)","v":0}]
[{"$nulls":4},0,{"$nulls":7},0,{"$nulls":13},{"$f":"IF(OR(SUMPRODUCT(--(E27818=$O$1:$O$542))>0,E27818=0),0,1)","v":0}]
[{"$nulls":4},0,{"$nulls":7},0,{"$nulls":13},{"$f":"IF(OR(SUMPRODUCT(--(E27847=$O$1:$O$542))>0,E27847=0),0,1)","v":0}]
[{"$nulls":4},0,{"$nulls":7},0,{"$nulls":13},{"$f":"IF(OR(SUMPRODUCT(--(E27925=$O$1:$O$542))>0,E27925=0),0,1)","v":0}]
[{"$nulls":4},0,{"$nulls":7},0,{"$nulls":13},{"$f":"IF(OR(SUMPRODUCT(--(E27981=$O$1:$O$542))>0,E27981=0),0,1)","v":0}]
[{"$nulls":4},0,{"$nulls":7},0,{"$nulls":13},{"$f":"IF(OR(SUMPRODUCT(--(E28021=$O$1:$O$542))>0,E28021=0),0,1)","v":0}]
[{"$nulls":4},0,{"$nulls":7},0,{"$nulls":13},{"$f":"IF(OR(SUMPRODUCT(--(E28050=$O$1:$O$542))>0,E28050=0),0,1)","v":0}]
[{"$nulls":4},0,{"$nulls":7},0,{"$nulls":13},{"$f":"IF(OR(SUMPRODUCT(--(E28118=$O$1:$O$542))>0,E28118=0),0,1)","v":0}]
[{"$nulls":4},0,{"$nulls":7},0,{"$nulls":13},{"$f":"IF(OR(SUMPRODUCT(--(E28132=$O$1:$O$542))>0,E28132=0),0,1)","v":0}]
[{"$nulls":4},0,{"$nulls":7},0,{"$nulls":13},{"$f":"IF(OR(SUMPRODUCT(--(E28214=$O$1:$O$542))>0,E28214=0),0,1)","v":0}]
[{"$nulls":4},0,{"$nulls":7},0,{"$nulls":13},{"$f":"IF(OR(SUMPRODUCT(--(E28243=$O$1:$O$542))>0,E28243=0),0,1)","v":0}]
[{"$nulls":4},0,{"$nulls":7},0,{"$nulls":13},{"$f":"IF(OR(SUMPRODUCT(--(E28321=$O$1:$O$542))>0,E28321=0),0,1)","v":0}]
[{"$nulls":4},0,{"$nulls":7},0,{"$nulls":13},{"$f":"IF(OR(SUMPRODUCT(--(E28347=$O$1:$O$542))>0,E28347=0),0,1)","v":0}]
[{"$nulls":4},0,{"$nulls":7},0,{"$nulls":13},{"$f":"IF(OR(SUMPRODUCT(--(E28417=$O$1:$O$542))>0,E28417=0),0,1)","v":0}]
[{"$nulls":4},0,{"$nulls":7},0,{"$nulls":13},{"$f":"IF(OR(SUMPRODUCT(--(E28436=$O$1:$O$542))>0,E28436=0),0,1)","v":0}]
[{"$nulls":4},0,{"$nulls":7},0,{"$nulls":13},{"$f":"IF(OR(SUMPRODUCT(--(E28514=$O$1:$O$542))>0,E28514=0),0,1)","v":0}]
[{"$nulls":4},0,{"$nulls":7},0,{"$nulls":13},{"$f":"IF(OR(SUMPRODUCT(--(E28546=$O$1:$O$542))>0,E28546=0),0,1)","v":0}]
[{"$nulls":4},0,{"$nulls":7},0,{"$nulls":13},{"$f":"IF(OR(SUMPRODUCT(--(E28610=$O$1:$O$542))>0,E28610=0),0,1)","v":0}]
[{"$nulls":4},0,{"$nulls":7},0,{"$nulls":13},{"$f":"IF(OR(SUMPRODUCT(--(E28639=$O$1:$O$542))>0,E28639=0),0,1)","v":0}]
[{"$nulls":4},0,{"$nulls":7},0,{"$nulls":13},{"$f":"IF(OR(SUMPRODUCT(--(E28668=$O$1:$O$542))>0,E28668=0),0,1)","v":0}]
[{"$nulls":4},0,{"$nulls":7},0,{"$nulls":13},{"$f":"IF(OR(SUMPRODUCT(--(E28761=$O$1:$O$542))>0,E28761=0),0,1)","v":0}]
[{"$nulls":4},0,{"$nulls":7},0,{"$nulls":13},{"$f":"IF(OR(SUMPRODUCT(--(E28764=$O$1:$O$542))>0,E28764=0),0,1)","v":0}]
[{"$nulls":4},0,{"$nulls":7},0,{"$nulls":13},{"$f":"IF(OR(SUMPRODUCT(--(E28832=$O$1:$O$542))>0,E28832=0),0,1)","v":0}]
[{"$nulls":4},0,{"$nulls":7},0,{"$nulls":13},{"$f":"IF(OR(SUMPRODUCT(--(E28910=$O$1:$O$542))>0,E28910=0),0,1)","v":0}]
[{"$nulls":4},0,{"$nulls":7},0,{"$nulls":13},{"$f":"IF(OR(SUMPRODUCT(--(E28912=$O$1:$O$542))>0,E28912=0),0,1)","v":0}]
[{"$nulls":4},0,{"$nulls":7},0,{"$nulls":13},{"$f":"IF(OR(SUMPRODUCT(--(E29006=$O$1:$O$542))>0,E29006=0),0,1)","v":0}]
[{"$nulls":4},0,{"$nulls":7},0,{"$nulls":13},{"$f":"IF(OR(SUMPRODUCT(--(E29035=$O$1:$O$542))>0,E29035=0),0,1)","v":0}]
[{"$nulls":4},0,{"$nulls":7},0,{"$nulls":13},{"$f":"IF(OR(SUMPRODUCT(--(E29064=$O$1:$O$542))>0,E29064=0),0,1)","v":0}]
[{"$nulls":4},0,{"$nulls":7},0,{"$nulls":13},{"$f":"IF(OR(SUMPRODUCT(--(E29127=$O$1:$O$542))>0,E29127=0),0,1)","v":0}]
[{"$nulls":4},0,{"$nulls":7},0,{"$nulls":13},{"$f":"IF(OR(SUMPRODUCT(--(E29160=$O$1:$O$542))>0,E29160=0),0,1)","v":0}]
[{"$nulls":4},0,{"$nulls":7},0,{"$nulls":13},{"$f":"IF(OR(SUMPRODUCT(--(E29228=$O$1:$O$542))>0,E29228=0),0,1)","v":0}]
[{"$nulls":4},0,{"$nulls":7},0,{"$nulls":13},{"$f":"IF(OR(SUMPRODUCT(--(E29257=$O$1:$O$542))>0,E29257=0),0,1)","v":0}]
[{"$nulls":4},0,{"$nulls":7},0,{"$nulls":13},{"$f":"IF(OR(SUMPRODUCT(--(E29326=$O$1:$O$542))>0,E29326=0),0,1)","v":0}]
[{"$nulls":4},0,{"$nulls":7},0,{"$nulls":13},{"$f":"IF(OR(SUMPRODUCT(--(E29353=$O$1:$O$542))>0,E29353=0),0,1)","v":0}]
[{"$nulls":4},0,{"$nulls":7},0,{"$nulls":13},{"$f":"IF(OR(SUMPRODUCT(--(E29431=$O$1:$O$542))>0,E29431=0),0,1)","v":0}]
[{"$nulls":4},0,{"$nulls":7},0,{"$nulls":13},{"$f":"IF(OR(SUMPRODUCT(--(E29450=$O$1:$O$542))>0,E29450=0),0,1)","v":0}]
[{"$nulls":4},0,{"$nulls":7},0,{"$nulls":13},{"$f":"IF(OR(SUMPRODUCT(--(E29541=$O$1:$O$542))>0,E29541=0),0,1)","v":0}]
[{"$nulls":4},0,{"$nulls":7},0,{"$nulls":13},{"$f":"IF(OR(SUMPRODUCT(--(E29556=$O$1:$O$542))>0,E29556=0),0,1)","v":0}]
[{"$nulls":4},0,{"$nulls":7},0,{"$nulls":13},{"$f":"IF(OR(SUMPRODUCT(--(E29624=$O$1:$O$542))>0,E29624=0),0,1)","v":0}]
[{"$nulls":4},0,{"$nulls":7},0,{"$nulls":13},{"$f":"IF(OR(SUMPRODUCT(--(E29653=$O$1:$O$542))>0,E29653=0),0,1)","v":0}]
[{"$nulls":4},0,{"$nulls":7},0,{"$nulls":13},{"$f":"IF(OR(SUMPRODUCT(--(E29692=$O$1:$O$542))>0,E29692=0),0,1)","v":0}]
[{"$nulls":4},0,{"$nulls":7},0,{"$nulls":13},{"$f":"IF(OR(SUMPRODUCT(--(E29749=$O$1:$O$542))>0,E29749=0),0,1)","v":0}]
[{"$nulls":4},{"$f":"IF(AND(F29827<>\"\",F29827=G29827),\"ERROR\",IF(AND(F29827<>\"\",F29827<>G29827),F29827,G29827))","v":0},{"$nulls":7},0,{"$nulls":13},{"$f":"IF(OR(SUMPRODUCT(--(E29827=$O$1:$O$542))>0,E29827=0),0,1)","v":0}]
[{"$nulls":4},0,{"$nulls":7},0,{"$nulls":13},{"$f":"IF(OR(SUMPRODUCT(--(E29846=$O$1:$O$542))>0,E29846=0),0,1)","v":0}]
[{"$nulls":4},0,{"$nulls":7},0,{"$nulls":13},{"$f":"IF(OR(SUMPRODUCT(--(E29907=$O$1:$O$542))>0,E29907=0),0,1)","v":0}]
[{"$nulls":4},0,{"$nulls":7},0,{"$nulls":13},{"$f":"IF(OR(SUMPRODUCT(--(E29952=$O$1:$O$542))>0,E29952=0),0,1)","v":0}]
[{"$nulls":4},0,{"$nulls":7},{"$f":"IF(L30020<>\"\",L30020,K30020)","v":0},{"$nulls":13},{"$f":"IF(OR(SUMPRODUCT(--(E30020=$O$1:$O$542))>0,E30020=0),0,1)","v":0}]
[{"$nulls":4},0,{"$nulls":7},0,{"$nulls":13},{"$f":"IF(OR(SUMPRODUCT(--(E30049=$O$1:$O$542))>0,E30049=0),0,1)","v":0}]
[{"$nulls":4},0,{"$nulls":7},0,{"$nulls":13},{"$f":"IF(OR(SUMPRODUCT(--(E30122=$O$1:$O$542))>0,E30122=0),0,1)","v":0}]
[{"$nulls":4},0,{"$nulls":7},0,{"$nulls":13},{"$f":"IF(OR(SUMPRODUCT(--(E30145=$O$1:$O$542))>0,E30145=0),0,1)","v":0}]
[{"$nulls":4},0,{"$nulls":7},0,{"$nulls":13},{"$f":"IF(OR(SUMPRODUCT(--(E30223=$O$1:$O$542))>0,E30223=0),0,1)","v":0}]
[{"$nulls":4},0,{"$nulls":7},0,{"$nulls":13},{"$f":"IF(OR(SUMPRODUCT(--(E30242=$O$1:$O$542))>0,E30242=0),0,1)","v":0}]
[{"$nulls":4},0,{"$nulls":7},0,{"$nulls":13},{"$f":"IF(OR(SUMPRODUCT(--(E30321=$O$1:$O$542))>0,E30321=0),0,1)","v":0}]
[{"$nulls":4},0,{"$nulls":7},0,{"$nulls":13},{"$f":"IF(OR(SUMPRODUCT(--(E30348=$O$1:$O$542))>0,E30348=0),0,1)","v":0}]
[{"$nulls":4},0,{"$nulls":7},0,{"$nulls":13},{"$f":"IF(OR(SUMPRODUCT(--(E30416=$O$1:$O$542))>0,E30416=0),0,1)","v":0}]
[{"$nulls":4},0,{"$nulls":7},0,{"$nulls":13},{"$f":"IF(OR(SUMPRODUCT(--(E30445=$O$1:$O$542))>0,E30445=0),0,1)","v":0}]
[{"$nulls":4},0,{"$nulls":7},0,{"$nulls":13},{"$f":"IF(OR(SUMPRODUCT(--(E30488=$O$1:$O$542))>0,E30488=0),0,1)","v":0}]
[{"$nulls":4},0,{"$nulls":7},0,{"$nulls":13},{"$f":"IF(OR(SUMPRODUCT(--(E30541=$O$1:$O$542))>0,E30541=0),0,1)","v":0}]
[{"$nulls":4},0,{"$nulls":7},0,{"$nulls":13},{"$f":"IF(OR(SUMPRODUCT(--(E30570=$O$1:$O$542))>0,E30570=0),0,1)","v":0}]
[{"$nulls":4},0,{"$nulls":7},0,{"$nulls":13},{"$f":"IF(OR(SUMPRODUCT(--(E30638=$O$1:$O$542))>0,E30638=0),0,1)","v":0}]
[{"$nulls":4},0,{"$nulls":7},0,{"$nulls":13},{"$f":"IF(OR(SUMPRODUCT(--(E30687=$O$1:$O$542))>0,E30687=0),0,1)","v":0}]
[{"$nulls":4},0,{"$nulls":7},0,{"$nulls":13},{"$f":"IF(OR(SUMPRODUCT(--(E30744=$O$1:$O$542))>0,E30744=0),0,1)","v":0}]
[{"$nulls":4},0,{"$nulls":7},0,{"$nulls":13},{"$f":"IF(OR(SUMPRODUCT(--(E30763=$O$1:$O$542))>0,E30763=0),0,1)","v":0}]
[{"$nulls":4},0,{"$nulls":7},0,{"$nulls":13},{"$f":"IF(OR(SUMPRODUCT(--(E30841=$O$1:$O$542))>0,E30841=0),0,1)","v":0}]
[{"$nulls":4},0,{"$nulls":7},0,{"$nulls":13},{"$f":"IF(OR(SUMPRODUCT(--(E30902=$O$1:$O$542))>0,E30902=0),0,1)","v":0}]
[{"$nulls":4},0,{"$nulls":7},0,{"$nulls":13},{"$f":"IF(OR(SUMPRODUCT(--(E30937=$O$1:$O$542))>0,E30937=0),0,1)","v":0}]
[{"$nulls":4},0,{"$nulls":7},0,{"$nulls":13},{"$f":"IF(OR(SUMPRODUCT(--(E30966=$O$1:$O$542))>0,E30966=0),0,1)","v":0}]
[{"$nulls":4},0,{"$nulls":7},0,{"$nulls":13},{"$f":"IF(OR(SUMPRODUCT(--(E31034=$O$1:$O$542))>0,E31034=0),0,1)","v":0}]
[{"$nulls":4},0,{"$nulls":7},0,{"$nulls":13},{"$f":"IF(OR(SUMPRODUCT(--(E31101=$O$1:$O$542))>0,E31101=0),0,1)","v":0}]
[{"$nulls":4},0,{"$nulls":7},0,{"$nulls":13},{"$f":"IF(OR(SUMPRODUCT(--(E31130=$O$1:$O$542))>0,E31130=0),0,1)","v":0}]
[{"$nulls":4},0,{"$nulls":7},0,{"$nulls":13},{"$f":"IF(OR(SUMPRODUCT(--(E31159=$O$1:$O$542))>0,E31159=0),0,1)","v":0}]
[{"$nulls":4},0,{"$nulls":7},0,{"$nulls":13},{"$f":"IF(OR(SUMPRODUCT(--(E31237=$O$1:$O$542))>0,E31237=0),0,1)","v":0}]
[{"$nulls":4},0,{"$nulls":7},0,{"$nulls":13},{"$f":"IF(OR(SUMPRODUCT(--(E31268=$O$1:$O$542))>0,E31268=0),0,1)","v":0}]
[{"$nulls":4},0,{"$nulls":7},0,{"$nulls":13},{"$f":"IF(OR(SUMPRODUCT(--(E31333=$O$1:$O$542))>0,E31333=0),0,1)","v":0}]
[{"$nulls":4},0,{"$nulls":7},0,{"$nulls":13},{"$f":"IF(OR(SUMPRODUCT(--(E31362=$O$1:$O$542))>0,E31362=0),0,1)","v":0}]
[{"$nulls":4},0,{"$nulls":7},0,{"$nulls":13},{"$f":"IF(OR(SUMPRODUCT(--(E31430=$O$1:$O$542))>0,E31430=0),0,1)","v":0}]
[{"$nulls":4},0,{"$nulls":7},0,{"$nulls":13},{"$f":"IF(OR(SUMPRODUCT(--(E31467=$O$1:$O$542))>0,E31467=0),0,1)","v":0}]
[{"$nulls":4},0,{"$nulls":7},0,{"$nulls":13},{"$f":"IF(OR(SUMPRODUCT(--(E31526=$O$1:$O$542))>0,E31526=0),0,1)","v":0}]
[{"$nulls":4},{"$f":"IF(AND(F31555<>\"\",F31555=G31555),\"ERROR\",IF(AND(F31555<>\"\",F31555<>G31555),F31555,G31555))","v":0},{"$nulls":7},0,{"$nulls":13},{"$f":"IF(OR(SUMPRODUCT(--(E31555=$O$1:$O$542))>0,E31555=0),0,1)","v":0}]
[{"$nulls":4},0,{"$nulls":7},0,{"$nulls":13},{"$f":"IF(OR(SUMPRODUCT(--(E31633=$O$1:$O$542))>0,E31633=0),0,1)","v":0}]
[{"$nulls":4},0,{"$nulls":7},0,{"$nulls":13},{"$f":"IF(OR(SUMPRODUCT(--(E31682=$O$1:$O$542))>0,E31682=0),0,1)","v":0}]
[{"$nulls":4},0,{"$nulls":7},0,{"$nulls":13},{"$f":"IF(OR(SUMPRODUCT(--(E31729=$O$1:$O$542))>0,E31729=0),0,1)","v":0}]
[{"$nulls":4},0,{"$nulls":7},0,{"$nulls":13},{"$f":"IF(OR(SUMPRODUCT(--(E31758=$O$1:$O$542))>0,E31758=0),0,1)","v":0}]
[{"$nulls":4},0,{"$nulls":7},0,{"$nulls":13},{"$f":"IF(OR(SUMPRODUCT(--(E31826=$O$1:$O$542))>0,E31826=0),0,1)","v":0}]
[{"$nulls":4},0,{"$nulls":7},0,{"$nulls":13},{"$f":"IF(OR(SUMPRODUCT(--(E31881=$O$1:$O$542))>0,E31881=0),0,1)","v":0}]
[{"$nulls":4},0,{"$nulls":7},0,{"$nulls":13},{"$f":"IF(OR(SUMPRODUCT(--(E31922=$O$1:$O$542))>0,E31922=0),0,1)","v":0}]
[{"$nulls":4},0,{"$nulls":7},0,{"$nulls":13},{"$f":"IF(OR(SUMPRODUCT(--(E31951=$O$1:$O$542))>0,E31951=0),0,1)","v":0}]
[{"$nulls":4},0,{"$nulls":7},0,{"$nulls":13},{"$f":"IF(OR(SUMPRODUCT(--(E32029=$O$1:$O$542))>0,E32029=0),0,1)","v":0}]
[{"$nulls":4},0,{"$nulls":7},0,{"$nulls":13},{"$f":"IF(OR(SUMPRODUCT(--(E32048=$O$1:$O$542))>0,E32048=0),0,1)","v":0}]
[{"$nulls":4},0,{"$nulls":7},0,{"$nulls":13},{"$f":"IF(OR(SUMPRODUCT(--(E32125=$O$1:$O$542))>0,E32125=0),0,1)","v":0}]
[{"$nulls":4},0,{"$nulls":7},0,{"$nulls":13},{"$f":"IF(OR(SUMPRODUCT(--(E32144=$O$1:$O$542))>0,E32144=0),0,1)","v":0}]
[{"$nulls":4},0,{"$nulls":7},0,{"$nulls":13},{"$f":"IF(OR(SUMPRODUCT(--(E32222=$O$1:$O$542))>0,E32222=0),0,1)","v":0}]
[{"$nulls":4},0,{"$nulls":7},0,{"$nulls":13},{"$f":"IF(OR(SUMPRODUCT(--(E32247=$O$1:$O$542))>0,E32247=0),0,1)","v":0}]
[{"$nulls":4},0,{"$nulls":7},0,{"$nulls":13},{"$f":"IF(OR(SUMPRODUCT(--(E32318=$O$1:$O$542))>0,E32318=0),0,1)","v":0}]
[{"$nulls":4},0,{"$nulls":7},0,{"$nulls":13},{"$f":"IF(OR(SUMPRODUCT(--(E32347=$O$1:$O$542))>0,E32347=0),0,1)","v":0}]
[{"$nulls":4},0,{"$nulls":7},0,{"$nulls":13},{"$f":"IF(OR(SUMPRODUCT(--(E32376=$O$1:$O$542))>0,E32376=0),0,1)","v":0}]
[{"$nulls":4},0,{"$nulls":7},0,{"$nulls":13},{"$f":"IF(OR(SUMPRODUCT(--(E32462=$O$1:$O$542))>0,E32462=0),0,1)","v":0}]
[{"$nulls":4},0,{"$nulls":7},0,{"$nulls":13},{"$f":"IF(OR(SUMPRODUCT(--(E32472=$O$1:$O$542))>0,E32472=0),0,1)","v":0}]
[{"$nulls":4},0,{"$nulls":7},0,{"$nulls":13},{"$f":"IF(OR(SUMPRODUCT(--(E32540=$O$1:$O$542))>0,E32540=0),0,1)","v":0}]
[{"$nulls":4},0,{"$nulls":7},0,{"$nulls":13},{"$f":"IF(OR(SUMPRODUCT(--(E32569=$O$1:$O$542))>0,E32569=0),0,1)","v":0}]
[{"$nulls":4},0,{"$nulls":7},0,{"$nulls":13},{"$f":"IF(OR(SUMPRODUCT(--(E32661=$O$1:$O$542))>0,E32661=0),0,1)","v":0}]
[{"$nulls":4},0,{"$nulls":7},0,{"$nulls":13},{"$f":"IF(OR(SUMPRODUCT(--(E32665=$O$1:$O$542))>0,E32665=0),0,1)","v":0}]
[{"$nulls":4},0,{"$nulls":7},0,{"$nulls":13},{"$f":"IF(OR(SUMPRODUCT(--(E32743=$O$1:$O$542))>0,E32743=0),0,1)","v":0}]
[{"$nulls":4},0,{"$nulls":7},0,{"$nulls":13},{"$f":"IF(OR(SUMPRODUCT(--(E32762=$O$1:$O$542))>0,E32762=0),0,1)","v":0}]
[{"$nulls":4},0,{"$nulls":7},0,{"$nulls":13},{"$f":"IF(OR(SUMPRODUCT(--(E32828=$O$1:$O$542))>0,E32828=0),0,1)","v":0}]
[{"$nulls":4},0,{"$nulls":7},0,{"$nulls":13},{"$f":"IF(OR(SUMPRODUCT(--(E32868=$O$1:$O$542))>0,E32868=0),0,1)","v":0}]
[{"$nulls":4},0,{"$nulls":7},0,{"$nulls":13},{"$f":"IF(OR(SUMPRODUCT(--(E32936=$O$1:$O$542))>0,E32936=0),0,1)","v":0}]
[{"$nulls":4},0,{"$nulls":7},0,{"$nulls":13},{"$f":"IF(OR(SUMPRODUCT(--(E32965=$O$1:$O$542))>0,E32965=0),0,1)","v":0}]
[{"$nulls":4},{"$f":"IF(AND(F33027<>\"\",F33027=G33027),\"ERROR\",IF(AND(F33027<>\"\",F33027<>G33027),F33027,G33027))","v":0},{"$nulls":7},0,{"$nulls":13},{"$f":"IF(OR(SUMPRODUCT(--(E33027=$O$1:$O$542))>0,E33027=0),0,1)","v":0}]
[{"$nulls":4},0,{"$nulls":7},0,{"$nulls":13},{"$f":"IF(OR(SUMPRODUCT(--(E33061=$O$1:$O$542))>0,E33061=0),0,1)","v":0}]
[{"$nulls":4},0,{"$nulls":7},0,{"$nulls":13},{"$f":"IF(OR(SUMPRODUCT(--(E33139=$O$1:$O$542))>0,E33139=0),0,1)","v":0}]
[{"$nulls":4},0,{"$nulls":7},0,{"$nulls":13},{"$f":"IF(OR(SUMPRODUCT(--(E33158=$O$1:$O$542))>0,E33158=0),0,1)","v":0}]
[{"$nulls":4},0,{"$nulls":7},0,{"$nulls":13},{"$f":"IF(OR(SUMPRODUCT(--(E33242=$O$1:$O$542))>0,E33242=0),0,1)","v":0}]
[{"$nulls":4},0,{"$nulls":7},0,{"$nulls":13},{"$f":"IF(OR(SUMPRODUCT(--(E33264=$O$1:$O$542))>0,E33264=0),0,1)","v":0}]
[{"$nulls":4},0,{"$nulls":7},0,{"$nulls":13},{"$f":"IF(OR(SUMPRODUCT(--(E33332=$O$1:$O$542))>0,E33332=0),0,1)","v":0}]
[{"$nulls":4},0,{"$nulls":7},0,{"$nulls":13},{"$f":"IF(OR(SUMPRODUCT(--(E33361=$O$1:$O$542))>0,E33361=0),0,1)","v":0}]
[{"$nulls":4},0,{"$nulls":7},0,{"$nulls":13},{"$f":"IF(OR(SUMPRODUCT(--(E33441=$O$1:$O$542))>0,E33441=0),0,1)","v":0}]
[{"$nulls":4},0,{"$nulls":7},0,{"$nulls":13},{"$f":"IF(OR(SUMPRODUCT(--(E33457=$O$1:$O$542))>0,E33457=0),0,1)","v":0}]
[{"$nulls":4},0,{"$nulls":7},0,{"$nulls":13},{"$f":"IF(OR(SUMPRODUCT(--(E33535=$O$1:$O$542))>0,E33535=0),0,1)","v":0}]
[{"$nulls":4},0,{"$nulls":7},0,{"$nulls":13},{"$f":"IF(OR(SUMPRODUCT(--(E33554=$O$1:$O$542))>0,E33554=0),0,1)","v":0}]
[{"$nulls":4},0,{"$nulls":7},0,{"$nulls":13},{"$f":"IF(OR(SUMPRODUCT(--(E33608=$O$1:$O$542))>0,E33608=0),0,1)","v":0}]
[{"$nulls":4},0,{"$nulls":7},0,{"$nulls":13},{"$f":"IF(OR(SUMPRODUCT(--(E33660=$O$1:$O$542))>0,E33660=0),0,1)","v":0}]
[{"$nulls":4},0,{"$nulls":7},0,{"$nulls":13},{"$f":"IF(OR(SUMPRODUCT(--(E33728=$O$1:$O$542))>0,E33728=0),0,1)","v":0}]
[{"$nulls":4},0,{"$nulls":7},0,{"$nulls":13},{"$f":"IF(OR(SUMPRODUCT(--(E33757=$O$1:$O$542))>0,E33757=0),0,1)","v":0}]
[{"$nulls":4},0,{"$nulls":7},0,{"$nulls":13},{"$f":"IF(OR(SUMPRODUCT(--(E33823=$O$1:$O$542))>0,E33823=0),0,1)","v":0}]
[{"$nulls":4},0,{"$nulls":7},0,{"$nulls":13},{"$f":"IF(OR(SUMPRODUCT(--(E33853=$O$1:$O$542))>0,E33853=0),0,1)","v":0}]
[{"$nulls":4},0,{"$nulls":7},0,{"$nulls":13},{"$f":"IF(OR(SUMPRODUCT(--(E33931=$O$1:$O$542))>0,E33931=0),0,1)","v":0}]
[{"$nulls":4},0,{"$nulls":7},0,{"$nulls":13},{"$f":"IF(OR(SUMPRODUCT(--(E33950=$O$1:$O$542))>0,E33950=0),0,1)","v":0}]
[{"$nulls":4},0,{"$nulls":7},0,{"$nulls":13},{"$f":"IF(OR(SUMPRODUCT(--(E34022=$O$1:$O$542))>0,E34022=0),0,1)","v":0}]
[{"$nulls":4},0,{"$nulls":7},0,{"$nulls":13},{"$f":"IF(OR(SUMPRODUCT(--(E34056=$O$1:$O$542))>0,E34056=0),0,1)","v":0}]
[{"$nulls":4},0,{"$nulls":7},0,{"$nulls":13},{"$f":"IF(OR(SUMPRODUCT(--(E34124=$O$1:$O$542))>0,E34124=0),0,1)","v":0}]
[{"$nulls":4},0,{"$nulls":7},0,{"$nulls":13},{"$f":"IF(OR(SUMPRODUCT(--(E34153=$O$1:$O$542))>0,E34153=0),0,1)","v":0}]
[{"$nulls":4},0,{"$nulls":7},0,{"$nulls":13},{"$f":"IF(OR(SUMPRODUCT(--(E34189=$O$1:$O$542))>0,E34189=0),0,1)","v":0}]
[{"$nulls":4},0,{"$nulls":7},0,{"$nulls":13},{"$f":"IF(OR(SUMPRODUCT(--(E34249=$O$1:$O$542))>0,E34249=0),0,1)","v":0}]
[{"$nulls":4},0,{"$nulls":7},0,{"$nulls":13},{"$f":"IF(OR(SUMPRODUCT(--(E34278=$O$1:$O$542))>0,E34278=0),0,1)","v":0}]
[{"$nulls":4},0,{"$nulls":7},0,{"$nulls":13},{"$f":"IF(OR(SUMPRODUCT(--(E34346=$O$1:$O$542))>0,E34346=0),0,1)","v":0}]
[{"$nulls":4},0,{"$nulls":7},0,{"$nulls":13},{"$f":"IF(OR(SUMPRODUCT(--(E34388=$O$1:$O$542))>0,E34388=0),0,1)","v":0}]
[{"$nulls":4},0,{"$nulls":7},0,{"$nulls":13},{"$f":"IF(OR(SUMPRODUCT(--(E34442=$O$1:$O$542))>0,E34442=0),0,1)","v":0}]
[{"$nulls":4},0,{"$nulls":7},0,{"$nulls":13},{"$f":"IF(OR(SUMPRODUCT(--(E34471=$O$1:$O$542))>0,E34471=0),0,1)","v":0}]
[{"$nulls":4},0,{"$nulls":7},0,{"$nulls":13},{"$f":"IF(OR(SUMPRODUCT(--(E34549=$O$1:$O$542))>0,E34549=0),0,1)","v":0}]
[{"$nulls":4},0,{"$nulls":7},0,{"$nulls":13},{"$f":"IF(OR(SUMPRODUCT(--(E34603=$O$1:$O$542))>0,E34603=0),0,1)","v":0}]
[{"$nulls":4},0,{"$nulls":7},0,{"$nulls":13},{"$f":"IF(OR(SUMPRODUCT(--(E34645=$O$1:$O$542))>0,E34645=0),0,1)","v":0}]
[{"$nulls":4},0,{"$nulls":7},0,{"$nulls":13},{"$f":"IF(OR(SUMPRODUCT(--(E34674=$O$1:$O$542))>0,E34674=0),0,1)","v":0}]
[{"$nulls":4},0,{"$nulls":7},0,{"$nulls":13},{"$f":"IF(OR(SUMPRODUCT(--(E34742=$O$1:$O$542))>0,E34742=0),0,1)","v":0}]
[{"$nulls":4},0,{"$nulls":7},0,{"$nulls":13},{"$f":"IF(OR(SUMPRODUCT(--(E34802=$O$1:$O$542))>0,E34802=0),0,1)","v":0}]
[{"$nulls":4},0,{"$nulls":7},0,{"$nulls":13},{"$f":"IF(OR(SUMPRODUCT(--(E34838=$O$1:$O$542))>0,E34838=0),0,1)","v":0}]
[{"$nulls":4},0,{"$nulls":7},0,{"$nulls":13},{"$f":"IF(OR(SUMPRODUCT(--(E34867=$O$1:$O$542))>0,E34867=0),0,1)","v":0}]
[{"$nulls":4},0,{"$nulls":7},0,{"$nulls":13},{"$f":"IF(OR(SUMPRODUCT(--(E34945=$O$1:$O$542))>0,E34945=0),0,1)","v":0}]
[{"$nulls":4},0,{"$nulls":7},0,{"$nulls":13},{"$f":"IF(OR(SUMPRODUCT(--(E34969=$O$1:$O$542))>0,E34969=0),0,1)","v":0}]
[{"$nulls":4},0,{"$nulls":7},0,{"$nulls":13},{"$f":"IF(OR(SUMPRODUCT(--(E35041=$O$1:$O$542))>0,E35041=0),0,1)","v":0}]
[{"$nulls":4},0,{"$nulls":7},0,{"$nulls":13},{"$f":"IF(OR(SUMPRODUCT(--(E35070=$O$1:$O$542))>0,E35070=0),0,1)","v":0}]
[{"$nulls":4},0,{"$nulls":7},0,{"$nulls":13},{"$f":"IF(OR(SUMPRODUCT(--(E35138=$O$1:$O$542))>0,E35138=0),0,1)","v":0}]
[{"$nulls":4},0,{"$nulls":7},0,{"$nulls":13},{"$f":"IF(OR(SUMPRODUCT(--(E35168=$O$1:$O$542))>0,E35168=0),0,1)","v":0}]
[{"$nulls":4},0,{"$nulls":7},0,{"$nulls":13},{"$f":"IF(OR(SUMPRODUCT(--(E35234=$O$1:$O$542))>0,E35234=0),0,1)","v":0}]
[{"$nulls":4},0,{"$nulls":7},0,{"$nulls":13},{"$f":"IF(OR(SUMPRODUCT(--(E35263=$O$1:$O$542))>0,E35263=0),0,1)","v":0}]
[{"$nulls":4},0,{"$nulls":7},0,{"$nulls":13},{"$f":"IF(OR(SUMPRODUCT(--(E35341=$O$1:$O$542))>0,E35341=0),0,1)","v":0}]
[{"$nulls":4},0,{"$nulls":7},0,{"$nulls":13},{"$f":"IF(OR(SUMPRODUCT(--(E35383=$O$1:$O$542))>0,E35383=0),0,1)","v":0}]
[{"$nulls":4},0,{"$nulls":7},0,{"$nulls":13},{"$f":"IF(OR(SUMPRODUCT(--(E35437=$O$1:$O$542))>0,E35437=0),0,1)","v":0}]
[{"$nulls":4},0,{"$nulls":7},0,{"$nulls":13},{"$f":"IF(OR(SUMPRODUCT(--(E35456=$O$1:$O$542))>0,E35456=0),0,1)","v":0}]
[{"$nulls":4},0,{"$nulls":7},0,{"$nulls":13},{"$f":"IF(OR(SUMPRODUCT(--(E35534=$O$1:$O$542))>0,E35534=0),0,1)","v":0}]
[{"$nulls":4},0,{"$nulls":7},0,{"$nulls":13},{"$f":"IF(OR(SUMPRODUCT(--(E35582=$O$1:$O$542))>0,E35582=0),0,1)","v":0}]
[{"$nulls":4},0,{"$nulls":7},0,{"$nulls":13},{"$f":"IF(OR(SUMPRODUCT(--(E35630=$O$1:$O$542))>0,E35630=0),0,1)","v":0}]
[{"$nulls":4},0,{"$nulls":7},0,{"$nulls":13},{"$f":"IF(OR(SUMPRODUCT(--(E35659=$O$1:$O$542))>0,E35659=0),0,1)","v":0}]
[{"$nulls":4},0,{"$nulls":7},0,{"$nulls":13},{"$f":"IF(OR(SUMPRODUCT(--(E35688=$O$1:$O$542))>0,E35688=0),0,1)","v":0}]
[{"$nulls":4},0,{"$nulls":7},0,{"$nulls":13},{"$f":"IF(OR(SUMPRODUCT(--(E35749=$O$1:$O$542))>0,E35749=0),0,1)","v":0}]
[{"$nulls":4},0,{"$nulls":7},0,{"$nulls":13},{"$f":"IF(OR(SUMPRODUCT(--(E35784=$O$1:$O$542))>0,E35784=0),0,1)","v":0}]
[{"$nulls":4},0,{"$nulls":7},0,{"$nulls":13},{"$f":"IF(OR(SUMPRODUCT(--(E35852=$O$1:$O$542))>0,E35852=0),0,1)","v":0}]
[{"$nulls":4},0,{"$nulls":7},0,{"$nulls":13},{"$f":"IF(OR(SUMPRODUCT(--(E35930=$O$1:$O$542))>0,E35930=0),0,1)","v":0}]
[{"$nulls":4},0,{"$nulls":7},0,{"$nulls":13},{"$f":"IF(OR(SUMPRODUCT(--(E35948=$O$1:$O$542))>0,E35948=0),0,1)","v":0}]
[{"$nulls":4},0,{"$nulls":7},0,{"$nulls":13},{"$f":"IF(OR(SUMPRODUCT(--(E36026=$O$1:$O$542))>0,E36026=0),0,1)","v":0}]
[{"$nulls":4},0,{"$nulls":7},0,{"$nulls":13},{"$f":"IF(OR(SUMPRODUCT(--(E36055=$O$1:$O$542))>0,E36055=0),0,1)","v":0}]
[{"$nulls":4},0,{"$nulls":7},0,{"$nulls":13},{"$f":"IF(OR(SUMPRODUCT(--(E36084=$O$1:$O$542))>0,E36084=0),0,1)","v":0}]
[{"$nulls":4},{"$f":"IF(AND(F36163<>\"\",F36163=G36163),\"ERROR\",IF(AND(F36163<>\"\",F36163<>G36163),F36163,G36163))","v":0},{"$nulls":7},0,{"$nulls":13},{"$f":"IF(OR(SUMPRODUCT(--(E36163=$O$1:$O$542))>0,E36163=0),0,1)","v":0}]
[{"$nulls":4},0,{"$nulls":7},0,{"$nulls":13},{"$f":"IF(OR(SUMPRODUCT(--(E36180=$O$1:$O$542))>0,E36180=0),0,1)","v":0}]
[{"$nulls":4},0,{"$nulls":7},0,{"$nulls":13},{"$f":"IF(OR(SUMPRODUCT(--(E36248=$O$1:$O$542))>0,E36248=0),0,1)","v":0}]
[{"$nulls":4},0,{"$nulls":7},0,{"$nulls":13},{"$f":"IF(OR(SUMPRODUCT(--(E36277=$O$1:$O$542))>0,E36277=0),0,1)","v":0}]
[{"$nulls":4},0,{"$nulls":7},0,{"$nulls":13},{"$f":"IF(OR(SUMPRODUCT(--(E36362=$O$1:$O$542))>0,E36362=0),0,1)","v":0}]
[{"$nulls":4},0,{"$nulls":7},0,{"$nulls":13},{"$f":"IF(OR(SUMPRODUCT(--(E36373=$O$1:$O$542))>0,E36373=0),0,1)","v":0}]
[{"$nulls":4},0,{"$nulls":7},0,{"$nulls":13},{"$f":"IF(OR(SUMPRODUCT(--(E36451=$O$1:$O$542))>0,E36451=0),0,1)","v":0}]
[{"$nulls":4},0,{"$nulls":7},0,{"$nulls":13},{"$f":"IF(OR(SUMPRODUCT(--(E36470=$O$1:$O$542))>0,E36470=0),0,1)","v":0}]
[{"$nulls":4},0,{"$nulls":7},0,{"$nulls":13},{"$f":"IF(OR(SUMPRODUCT(--(E36529=$O$1:$O$542))>0,E36529=0),0,1)","v":0}]
[{"$nulls":4},0,{"$nulls":7},0,{"$nulls":13},{"$f":"IF(OR(SUMPRODUCT(--(E36576=$O$1:$O$542))>0,E36576=0),0,1)","v":0}]
[{"$nulls":4},0,{"$nulls":7},0,{"$nulls":13},{"$f":"IF(OR(SUMPRODUCT(--(E36644=$O$1:$O$542))>0,E36644=0),0,1)","v":0}]
[{"$nulls":4},0,{"$nulls":7},0,{"$nulls":13},{"$f":"IF(OR(SUMPRODUCT(--(E36673=$O$1:$O$542))>0,E36673=0),0,1)","v":0}]
[{"$nulls":4},0,{"$nulls":7},0,{"$nulls":13},{"$f":"IF(OR(SUMPRODUCT(--(E36728=$O$1:$O$542))>0,E36728=0),0,1)","v":0}]
[{"$nulls":4},0,{"$nulls":7},0,{"$nulls":13},{"$f":"IF(OR(SUMPRODUCT(--(E36769=$O$1:$O$542))>0,E36769=0),0,1)","v":0}]
[{"$nulls":4},0,{"$nulls":7},0,{"$nulls":13},{"$f":"IF(OR(SUMPRODUCT(--(E36847=$O$1:$O$542))>0,E36847=0),0,1)","v":0}]
[{"$nulls":4},0,{"$nulls":7},0,{"$nulls":13},{"$f":"IF(OR(SUMPRODUCT(--(E36866=$O$1:$O$542))>0,E36866=0),0,1)","v":0}]
[{"$nulls":4},0,{"$nulls":7},0,{"$nulls":13},{"$f":"IF(OR(SUMPRODUCT(--(E36943=$O$1:$O$542))>0,E36943=0),0,1)","v":0}]
[{"$nulls":4},0,{"$nulls":7},0,{"$nulls":13},{"$f":"IF(OR(SUMPRODUCT(--(E36972=$O$1:$O$542))>0,E36972=0),0,1)","v":0}]
[{"$nulls":4},0,{"$nulls":7},0,{"$nulls":13},{"$f":"IF(OR(SUMPRODUCT(--(E37040=$O$1:$O$542))>0,E37040=0),0,1)","v":0}]
[{"$nulls":4},0,{"$nulls":7},0,{"$nulls":13},{"$f":"IF(OR(SUMPRODUCT(--(E37069=$O$1:$O$542))>0,E37069=0),0,1)","v":0}]
[{"$nulls":4},0,{"$nulls":7},0,{"$nulls":13},{"$f":"IF(OR(SUMPRODUCT(--(E37110=$O$1:$O$542))>0,E37110=0),0,1)","v":0}]
[{"$nulls":4},0,{"$nulls":7},0,{"$nulls":13},{"$f":"IF(OR(SUMPRODUCT(--(E37165=$O$1:$O$542))>0,E37165=0),0,1)","v":0}]
[{"$nulls":4},0,{"$nulls":7},0,{"$nulls":13},{"$f":"IF(OR(SUMPRODUCT(--(E37243=$O$1:$O$542))>0,E37243=0),0,1)","v":0}]
[{"$nulls":4},0,{"$nulls":7},0,{"$nulls":13},{"$f":"IF(OR(SUMPRODUCT(--(E37262=$O$1:$O$542))>0,E37262=0),0,1)","v":0}]
[{"$nulls":4},0,{"$nulls":7},0,{"$nulls":13},{"$f":"IF(OR(SUMPRODUCT(--(E37309=$O$1:$O$542))>0,E37309=0),0,1)","v":0}]
[{"$nulls":4},0,{"$nulls":7},0,{"$nulls":13},{"$f":"IF(OR(SUMPRODUCT(--(E37368=$O$1:$O$542))>0,E37368=0),0,1)","v":0}]
[{"$nulls":4},0,{"$nulls":7},0,{"$nulls":13},{"$f":"IF(OR(SUMPRODUCT(--(E37436=$O$1:$O$542))>0,E37436=0),0,1)","v":0}]
[{"$nulls":4},0,{"$nulls":7},0,{"$nulls":13},{"$f":"IF(OR(SUMPRODUCT(--(E37465=$O$1:$O$542))>0,E37465=0),0,1)","v":0}]
[{"$nulls":4},0,{"$nulls":7},0,{"$nulls":13},{"$f":"IF(OR(SUMPRODUCT(--(E37524=$O$1:$O$542))>0,E37524=0),0,1)","v":0}]
[{"$nulls":4},0,{"$nulls":7},0,{"$nulls":13},{"$f":"IF(OR(SUMPRODUCT(--(E37561=$O$1:$O$542))>0,E37561=0),0,1)","v":0}]
[{"$nulls":4},0,{"$nulls":7},0,{"$nulls":13},{"$f":"IF(OR(SUMPRODUCT(--(E37590=$O$1:$O$542))>0,E37590=0),0,1)","v":0}]
[{"$nulls":4},0,{"$nulls":7},0,{"$nulls":13},{"$f":"IF(OR(SUMPRODUCT(--(E37658=$O$1:$O$542))>0,E37658=0),0,1)","v":0}]
[{"$nulls":4},0,{"$nulls":7},0,{"$nulls":13},{"$f":"IF(OR(SUMPRODUCT(--(E37723=$O$1:$O$542))>0,E37723=0),0,1)","v":0}]
[{"$nulls":4},0,{"$nulls":7},{"$f":"IF(L37764<>\"\",L37764,K37764)","v":0},{"$nulls":13},{"$f":"IF(OR(SUMPRODUCT(--(E37764=$O$1:$O$542))>0,E37764=0),0,1)","v":0}]
[{"$nulls":4},0,{"$nulls":7},0,{"$nulls":13},{"$f":"IF(OR(SUMPRODUCT(--(E37783=$O$1:$O$542))>0,E37783=0),0,1)","v":0}]
[{"$nulls":4},0,{"$nulls":7},0,{"$nulls":13},{"$f":"IF(OR(SUMPRODUCT(--(E37861=$O$1:$O$542))>0,E37861=0),0,1)","v":0}]
[{"$nulls":4},0,{"$nulls":7},0,{"$nulls":13},{"$f":"IF(OR(SUMPRODUCT(--(E37890=$O$1:$O$542))>0,E37890=0),0,1)","v":0}]
[{"$nulls":4},0,{"$nulls":7},0,{"$nulls":13},{"$f":"IF(OR(SUMPRODUCT(--(E37957=$O$1:$O$542))>0,E37957=0),0,1)","v":0}]
[{"$nulls":4},0,{"$nulls":7},0,{"$nulls":13},{"$f":"IF(OR(SUMPRODUCT(--(E37986=$O$1:$O$542))>0,E37986=0),0,1)","v":0}]
[{"$nulls":4},0,{"$nulls":7},0,{"$nulls":13},{"$f":"IF(OR(SUMPRODUCT(--(E38054=$O$1:$O$542))>0,E38054=0),0,1)","v":0}]
[{"$nulls":4},0,{"$nulls":7},0,{"$nulls":13},{"$f":"IF(OR(SUMPRODUCT(--(E38089=$O$1:$O$542))>0,E38089=0),0,1)","v":0}]
[{"$nulls":4},0,{"$nulls":7},0,{"$nulls":13},{"$f":"IF(OR(SUMPRODUCT(--(E38150=$O$1:$O$542))>0,E38150=0),0,1)","v":0}]
[{"$nulls":4},0,{"$nulls":7},0,{"$nulls":13},{"$f":"IF(OR(SUMPRODUCT(--(E38179=$O$1:$O$542))>0,E38179=0),0,1)","v":0}]
[{"$nulls":4},0,{"$nulls":7},0,{"$nulls":13},{"$f":"IF(OR(SUMPRODUCT(--(E38257=$O$1:$O$542))>0,E38257=0),0,1)","v":0}]
[{"$nulls":4},0,{"$nulls":7},0,{"$nulls":13},{"$f":"IF(OR(SUMPRODUCT(--(E38304=$O$1:$O$542))>0,E38304=0),0,1)","v":0}]
[{"$nulls":4},0,{"$nulls":7},0,{"$nulls":13},{"$f":"IF(OR(SUMPRODUCT(--(E38353=$O$1:$O$542))>0,E38353=0),0,1)","v":0}]
[{"$nulls":4},0,{"$nulls":7},0,{"$nulls":13},{"$f":"IF(OR(SUMPRODUCT(--(E38382=$O$1:$O$542))>0,E38382=0),0,1)","v":0}]
[{"$nulls":4},0,{"$nulls":7},0,{"$nulls":13},{"$f":"IF(OR(SUMPRODUCT(--(E38450=$O$1:$O$542))>0,E38450=0),0,1)","v":0}]
[{"$nulls":4},0,{"$nulls":7},0,{"$nulls":13},{"$f":"IF(OR(SUMPRODUCT(--(E38503=$O$1:$O$542))>0,E38503=0),0,1)","v":0}]
[{"$nulls":4},0,{"$nulls":7},0,{"$nulls":13},{"$f":"IF(OR(SUMPRODUCT(--(E38546=$O$1:$O$542))>0,E38546=0),0,1)","v":0}]
[{"$nulls":4},0,{"$nulls":7},0,{"$nulls":13},{"$f":"IF(OR(SUMPRODUCT(--(E38575=$O$1:$O$542))>0,E38575=0),0,1)","v":0}]
[{"$nulls":4},0,{"$nulls":7},0,{"$nulls":13},{"$f":"IF(OR(SUMPRODUCT(--(E38653=$O$1:$O$542))>0,E38653=0),0,1)","v":0}]
[{"$nulls":4},0,{"$nulls":7},0,{"$nulls":13},{"$f":"IF(OR(SUMPRODUCT(--(E38670=$O$1:$O$542))>0,E38670=0),0,1)","v":0}]
[{"$nulls":4},0,{"$nulls":7},0,{"$nulls":13},{"$f":"IF(OR(SUMPRODUCT(--(E38749=$O$1:$O$542))>0,E38749=0),0,1)","v":0}]
[{"$nulls":4},0,{"$nulls":7},0,{"$nulls":13},{"$f":"IF(OR(SUMPRODUCT(--(E38768=$O$1:$O$542))>0,E38768=0),0,1)","v":0}]
[{"$nulls":4},0,{"$nulls":7},0,{"$nulls":13},{"$f":"IF(OR(SUMPRODUCT(--(E38846=$O$1:$O$542))>0,E38846=0),0,1)","v":0}]
[{"$nulls":4},0,{"$nulls":7},0,{"$nulls":13},{"$f":"IF(OR(SUMPRODUCT(--(E38869=$O$1:$O$542))>0,E38869=0),0,1)","v":0}]
[{"$nulls":4},0,{"$nulls":7},0,{"$nulls":13},{"$f":"IF(OR(SUMPRODUCT(--(E38942=$O$1:$O$542))>0,E38942=0),0,1)","v":0}]
[{"$nulls":4},0,{"$nulls":7},0,{"$nulls":13},{"$f":"IF(OR(SUMPRODUCT(--(E38971=$O$1:$O$542))>0,E38971=0),0,1)","v":0}]
[{"$nulls":4},0,{"$nulls":7},0,{"$nulls":13},{"$f":"IF(OR(SUMPRODUCT(--(E39049=$O$1:$O$542))>0,E39049=0),0,1)","v":0}]
[{"$nulls":4},0,{"$nulls":7},0,{"$nulls":13},{"$f":"IF(OR(SUMPRODUCT(--(E39084=$O$1:$O$542))>0,E39084=0),0,1)","v":0}]
[{"$nulls":4},0,{"$nulls":7},0,{"$nulls":13},{"$f":"IF(OR(SUMPRODUCT(--(E39145=$O$1:$O$542))>0,E39145=0),0,1)","v":0}]
[{"$nulls":4},0,{"$nulls":7},0,{"$nulls":13},{"$f":"IF(OR(SUMPRODUCT(--(E39164=$O$1:$O$542))>0,E39164=0),0,1)","v":0}]
[{"$nulls":4},0,{"$nulls":7},0,{"$nulls":13},{"$f":"IF(OR(SUMPRODUCT(--(E39242=$O$1:$O$542))>0,E39242=0),0,1)","v":0}]
[{"$nulls":4},0,{"$nulls":7},0,{"$nulls":13},{"$f":"IF(OR(SUMPRODUCT(--(E39283=$O$1:$O$542))>0,E39283=0),0,1)","v":0}]
[{"$nulls":4},0,{"$nulls":7},0,{"$nulls":13},{"$f":"IF(OR(SUMPRODUCT(--(E39338=$O$1:$O$542))>0,E39338=0),0,1)","v":0}]
[{"$nulls":4},0,{"$nulls":7},0,{"$nulls":13},{"$f":"IF(OR(SUMPRODUCT(--(E39367=$O$1:$O$542))>0,E39367=0),0,1)","v":0}]
[{"$nulls":4},0,{"$nulls":7},0,{"$nulls":13},{"$f":"IF(OR(SUMPRODUCT(--(E39396=$O$1:$O$542))>0,E39396=0),0,1)","v":0}]
[{"$nulls":4},0,{"$nulls":7},0,{"$nulls":13},{"$f":"IF(OR(SUMPRODUCT(--(E39450=$O$1:$O$542))>0,E39450=0),0,1)","v":0}]
[{"$nulls":4},0,{"$nulls":7},{"$f":"IF(L39492<>\"\",L39492,K39492)","v":0},{"$nulls":13},{"$f":"IF(OR(SUMPRODUCT(--(E39492=$O$1:$O$542))>0,E39492=0),0,1)","v":0}]
[{"$nulls":4},0,{"$nulls":7},0,{"$nulls":13},{"$f":"IF(OR(SUMPRODUCT(--(E39560=$O$1:$O$542))>0,E39560=0),0,1)","v":0}]
[{"$nulls":4},0,{"$nulls":7},0,{"$nulls":13},{"$f":"IF(OR(SUMPRODUCT(--(E39589=$O$1:$O$542))>0,E39589=0),0,1)","v":0}]
[{"$nulls":4},0,{"$nulls":7},0,{"$nulls":13},{"$f":"IF(OR(SUMPRODUCT(--(E39649=$O$1:$O$542))>0,E39649=0),0,1)","v":0}]
[{"$nulls":4},0,{"$nulls":7},0,{"$nulls":13},{"$f":"IF(OR(SUMPRODUCT(--(E39685=$O$1:$O$542))>0,E39685=0),0,1)","v":0}]
[{"$nulls":4},0,{"$nulls":7},0,{"$nulls":13},{"$f":"IF(OR(SUMPRODUCT(--(E39763=$O$1:$O$542))>0,E39763=0),0,1)","v":0}]
[{"$nulls":4},0,{"$nulls":7},0,{"$nulls":13},{"$f":"IF(OR(SUMPRODUCT(--(E39782=$O$1:$O$542))>0,E39782=0),0,1)","v":0}]
[{"$nulls":4},0,{"$nulls":7},0,{"$nulls":13},{"$f":"IF(OR(SUMPRODUCT(--(E39864=$O$1:$O$542))>0,E39864=0),0,1)","v":0}]
[{"$nulls":4},0,{"$nulls":7},0,{"$nulls":13},{"$f":"IF(OR(SUMPRODUCT(--(E39888=$O$1:$O$542))>0,E39888=0),0,1)","v":0}]
[{"$nulls":4},0,{"$nulls":7},0,{"$nulls":13},{"$f":"IF(OR(SUMPRODUCT(--(E39956=$O$1:$O$542))>0,E39956=0),0,1)","v":0}]
[{"$nulls":4},0,{"$nulls":7},0,{"$nulls":13},{"$f":"IF(OR(SUMPRODUCT(--(E39985=$O$1:$O$542))>0,E39985=0),0,1)","v":0}]
[{"$nulls":4},0,{"$nulls":7},0,{"$nulls":13},{"$f":"IF(OR(SUMPRODUCT(--(E40063=$O$1:$O$542))>0,E40063=0),0,1)","v":0}]
[{"$nulls":4},0,{"$nulls":7},0,{"$nulls":13},{"$f":"IF(OR(SUMPRODUCT(--(E40081=$O$1:$O$542))>0,E40081=0),0,1)","v":0}]
[{"$nulls":4},0,{"$nulls":7},0,{"$nulls":13},{"$f":"IF(OR(SUMPRODUCT(--(E40159=$O$1:$O$542))>0,E40159=0),0,1)","v":0}]
[{"$nulls":4},0,{"$nulls":7},0,{"$nulls":13},{"$f":"IF(OR(SUMPRODUCT(--(E40178=$O$1:$O$542))>0,E40178=0),0,1)","v":0}]
[{"$nulls":4},0,{"$nulls":7},0,{"$nulls":13},{"$f":"IF(OR(SUMPRODUCT(--(E40230=$O$1:$O$542))>0,E40230=0),0,1)","v":0}]
[{"$nulls":4},0,{"$nulls":7},0,{"$nulls":13},{"$f":"IF(OR(SUMPRODUCT(--(E40284=$O$1:$O$542))>0,E40284=0),0,1)","v":0}]
[{"$nulls":4},0,{"$nulls":7},0,{"$nulls":13},{"$f":"IF(OR(SUMPRODUCT(--(E40352=$O$1:$O$542))>0,E40352=0),0,1)","v":0}]
[{"$nulls":4},0,{"$nulls":7},0,{"$nulls":13},{"$f":"IF(OR(SUMPRODUCT(--(E40381=$O$1:$O$542))>0,E40381=0),0,1)","v":0}]
[{"$nulls":4},0,{"$nulls":7},0,{"$nulls":13},{"$f":"IF(OR(SUMPRODUCT(--(E40429=$O$1:$O$542))>0,E40429=0),0,1)","v":0}]
[{"$nulls":4},0,{"$nulls":7},0,{"$nulls":13},{"$f":"IF(OR(SUMPRODUCT(--(E40477=$O$1:$O$542))>0,E40477=0),0,1)","v":0}]
[{"$nulls":4},0,{"$nulls":7},0,{"$nulls":13},{"$f":"IF(OR(SUMPRODUCT(--(E40555=$O$1:$O$542))>0,E40555=0),0,1)","v":0}]
[{"$nulls":4},0,{"$nulls":7},0,{"$nulls":13},{"$f":"IF(OR(SUMPRODUCT(--(E40574=$O$1:$O$542))>0,E40574=0),0,1)","v":0}]
[{"$nulls":4},0,{"$nulls":7},{"$f":"IF(L40644<>\"\",L40644,K40644)","v":0},{"$nulls":13},{"$f":"IF(OR(SUMPRODUCT(--(E40644=$O$1:$O$542))>0,E40644=0),0,1)","v":0}]
[{"$nulls":4},0,{"$nulls":7},0,{"$nulls":13},{"$f":"IF(OR(SUMPRODUCT(--(E40680=$O$1:$O$542))>0,E40680=0),0,1)","v":0}]
[{"$nulls":4},0,{"$nulls":7},0,{"$nulls":13},{"$f":"IF(OR(SUMPRODUCT(--(E40748=$O$1:$O$542))>0,E40748=0),0,1)","v":0}]
[{"$nulls":4},0,{"$nulls":7},0,{"$nulls":13},{"$f":"IF(OR(SUMPRODUCT(--(E40777=$O$1:$O$542))>0,E40777=0),0,1)","v":0}]
[{"$nulls":4},0,{"$nulls":7},0,{"$nulls":13},{"$f":"IF(OR(SUMPRODUCT(--(E40811=$O$1:$O$542))>0,E40811=0),0,1)","v":0}]
[{"$nulls":4},0,{"$nulls":7},0,{"$nulls":13},{"$f":"IF(OR(SUMPRODUCT(--(E40873=$O$1:$O$542))>0,E40873=0),0,1)","v":0}]
[{"$nulls":4},0,{"$nulls":7},0,{"$nulls":13},{"$f":"IF(OR(SUMPRODUCT(--(E40951=$O$1:$O$542))>0,E40951=0),0,1)","v":0}]
[{"$nulls":4},0,{"$nulls":7},0,{"$nulls":13},{"$f":"IF(OR(SUMPRODUCT(--(E40970=$O$1:$O$542))>0,E40970=0),0,1)","v":0}]
[{"$nulls":4},0,{"$nulls":7},0,{"$nulls":13},{"$f":"IF(OR(SUMPRODUCT(--(E41010=$O$1:$O$542))>0,E41010=0),0,1)","v":0}]
[{"$nulls":4},0,{"$nulls":7},0,{"$nulls":13},{"$f":"IF(OR(SUMPRODUCT(--(E41076=$O$1:$O$542))>0,E41076=0),0,1)","v":0}]
[{"$nulls":4},0,{"$nulls":7},0,{"$nulls":13},{"$f":"IF(OR(SUMPRODUCT(--(E41144=$O$1:$O$542))>0,E41144=0),0,1)","v":0}]
[{"$nulls":4},0,{"$nulls":7},0,{"$nulls":13},{"$f":"IF(OR(SUMPRODUCT(--(E41173=$O$1:$O$542))>0,E41173=0),0,1)","v":0}]
[{"$nulls":4},0,{"$nulls":7},0,{"$nulls":13},{"$f":"IF(OR(SUMPRODUCT(--(E41225=$O$1:$O$542))>0,E41225=0),0,1)","v":0}]
[{"$nulls":4},0,{"$nulls":7},0,{"$nulls":13},{"$f":"IF(OR(SUMPRODUCT(--(E41269=$O$1:$O$542))>0,E41269=0),0,1)","v":0}]
[{"$nulls":4},0,{"$nulls":7},0,{"$nulls":13},{"$f":"IF(OR(SUMPRODUCT(--(E41298=$O$1:$O$542))>0,E41298=0),0,1)","v":0}]
[{"$nulls":4},0,{"$nulls":7},0,{"$nulls":13},{"$f":"IF(OR(SUMPRODUCT(--(E41366=$O$1:$O$542))>0,E41366=0),0,1)","v":0}]
[{"$nulls":4},0,{"$nulls":7},0,{"$nulls":13},{"$f":"IF(OR(SUMPRODUCT(--(E41424=$O$1:$O$542))>0,E41424=0),0,1)","v":0}]
[{"$nulls":4},0,{"$nulls":7},0,{"$nulls":13},{"$f":"IF(OR(SUMPRODUCT(--(E41462=$O$1:$O$542))>0,E41462=0),0,1)","v":0}]
[{"$nulls":4},0,{"$nulls":7},0,{"$nulls":13},{"$f":"IF(OR(SUMPRODUCT(--(E41491=$O$1:$O$542))>0,E41491=0),0,1)","v":0}]
[{"$nulls":4},0,{"$nulls":7},0,{"$nulls":13},{"$f":"IF(OR(SUMPRODUCT(--(E41569=$O$1:$O$542))>0,E41569=0),0,1)","v":0}]
[{"$nulls":4},0,{"$nulls":7},0,{"$nulls":13},{"$f":"IF(OR(SUMPRODUCT(--(E41591=$O$1:$O$542))>0,E41591=0),0,1)","v":0}]
[{"$nulls":4},0,{"$nulls":7},0,{"$nulls":13},{"$f":"IF(OR(SUMPRODUCT(--(E41665=$O$1:$O$542))>0,E41665=0),0,1)","v":0}]
[{"$nulls":4},0,{"$nulls":7},0,{"$nulls":13},{"$f":"IF(OR(SUMPRODUCT(--(E41694=$O$1:$O$542))>0,E41694=0),0,1)","v":0}]
[{"$nulls":4},0,{"$nulls":7},0,{"$nulls":13},{"$f":"IF(OR(SUMPRODUCT(--(E41762=$O$1:$O$542))>0,E41762=0),0,1)","v":0}]
[{"$nulls":4},0,{"$nulls":7},0,{"$nulls":13},{"$f":"IF(OR(SUMPRODUCT(--(E41790=$O$1:$O$542))>0,E41790=0),0,1)","v":0}]
[{"$nulls":4},0,{"$nulls":7},0,{"$nulls":13},{"$f":"IF(OR(SUMPRODUCT(--(E41858=$O$1:$O$542))>0,E41858=0),0,1)","v":0}]
[{"$nulls":4},0,{"$nulls":7},0,{"$nulls":13},{"$f":"IF(OR(SUMPRODUCT(--(E41887=$O$1:$O$542))>0,E41887=0),0,1)","v":0}]
[{"$nulls":4},0,{"$nulls":7},0,{"$nulls":13},{"$f":"IF(OR(SUMPRODUCT(--(E41965=$O$1:$O$542))>0,E41965=0),0,1)","v":0}]
[{"$nulls":4},0,{"$nulls":7},0,{"$nulls":13},{"$f":"IF(OR(SUMPRODUCT(--(E42005=$O$1:$O$542))>0,E42005=0),0,1)","v":0}]
[{"$nulls":4},0,{"$nulls":7},0,{"$nulls":13},{"$f":"IF(OR(SUMPRODUCT(--(E42061=$O$1:$O$542))>0,E42061=0),0,1)","v":0}]
[{"$nulls":4},0,{"$nulls":7},0,{"$nulls":13},{"$f":"IF(OR(SUMPRODUCT(--(E42090=$O$1:$O$542))>0,E42090=0),0,1)","v":0}]
[{"$nulls":4},0,{"$nulls":7},0,{"$nulls":13},{"$f":"IF(OR(SUMPRODUCT(--(E42158=$O$1:$O$542))>0,E42158=0),0,1)","v":0}]
[{"$nulls":4},0,{"$nulls":7},0,{"$nulls":13},{"$f":"IF(OR(SUMPRODUCT(--(E42204=$O$1:$O$542))>0,E42204=0),0,1)","v":0}]
[{"$nulls":4},0,{"$nulls":7},0,{"$nulls":13},{"$f":"IF(OR(SUMPRODUCT(--(E42254=$O$1:$O$542))>0,E42254=0),0,1)","v":0}]
[{"$nulls":4},0,{"$nulls":7},0,{"$nulls":13},{"$f":"IF(OR(SUMPRODUCT(--(E42283=$O$1:$O$542))>0,E42283=0),0,1)","v":0}]
[{"$nulls":4},0,{"$nulls":7},0,{"$nulls":13},{"$f":"IF(OR(SUMPRODUCT(--(E42361=$O$1:$O$542))>0,E42361=0),0,1)","v":0}]
[{"$nulls":4},{"$f":"IF(AND(F42371<>\"\",F42371=G42371),\"ERROR\",IF(AND(F42371<>\"\",F42371<>G42371),F42371,G42371))","v":0},{"$nulls":7},0,{"$nulls":13},{"$f":"IF(OR(SUMPRODUCT(--(E42371=$O$1:$O$542))>0,E42371=0),0,1)","v":0}]
[{"$nulls":4},0,{"$nulls":7},0,{"$nulls":13},{"$f":"IF(OR(SUMPRODUCT(--(E42457=$O$1:$O$542))>0,E42457=0),0,1)","v":0}]
[{"$nulls":4},0,{"$nulls":7},0,{"$nulls":13},{"$f":"IF(OR(SUMPRODUCT(--(E42476=$O$1:$O$542))>0,E42476=0),0,1)","v":0}]
[{"$nulls":4},0,{"$nulls":7},0,{"$nulls":13},{"$f":"IF(OR(SUMPRODUCT(--(E42554=$O$1:$O$542))>0,E42554=0),0,1)","v":0}]
[{"$nulls":4},0,{"$nulls":7},0,{"$nulls":13},{"$f":"IF(OR(SUMPRODUCT(--(E42570=$O$1:$O$542))>0,E42570=0),0,1)","v":0}]
[{"$nulls":4},0,{"$nulls":7},0,{"$nulls":13},{"$f":"IF(OR(SUMPRODUCT(--(E42650=$O$1:$O$542))>0,E42650=0),0,1)","v":0}]
[{"$nulls":4},0,{"$nulls":7},0,{"$nulls":13},{"$f":"IF(OR(SUMPRODUCT(--(E42679=$O$1:$O$542))>0,E42679=0),0,1)","v":0}]
[{"$nulls":4},0,{"$nulls":7},0,{"$nulls":13},{"$f":"IF(OR(SUMPRODUCT(--(E42708=$O$1:$O$542))>0,E42708=0),0,1)","v":0}]
[{"$nulls":4},0,{"$nulls":7},0,{"$nulls":13},{"$f":"IF(OR(SUMPRODUCT(--(E42785=$O$1:$O$542))>0,E42785=0),0,1)","v":0}]
[{"$nulls":4},0,{"$nulls":7},0,{"$nulls":13},{"$f":"IF(OR(SUMPRODUCT(--(E42804=$O$1:$O$542))>0,E42804=0),0,1)","v":0}]
[{"$nulls":4},0,{"$nulls":7},0,{"$nulls":13},{"$f":"IF(OR(SUMPRODUCT(--(E42872=$O$1:$O$542))>0,E42872=0),0,1)","v":0}]
[{"$nulls":4},0,{"$nulls":7},0,{"$nulls":13},{"$f":"IF(OR(SUMPRODUCT(--(E42950=$O$1:$O$542))>0,E42950=0),0,1)","v":0}]
[{"$nulls":4},0,{"$nulls":7},0,{"$nulls":13},{"$f":"IF(OR(SUMPRODUCT(--(E42984=$O$1:$O$542))>0,E42984=0),0,1)","v":0}]
[{"$nulls":4},0,{"$nulls":7},0,{"$nulls":13},{"$f":"IF(OR(SUMPRODUCT(--(E43046=$O$1:$O$542))>0,E43046=0),0,1)","v":0}]
[{"$nulls":4},{"$f":"IF(AND(F43075<>\"\",F43075=G43075),\"ERROR\",IF(AND(F43075<>\"\",F43075<>G43075),F43075,G43075))","v":0},{"$nulls":7},0,{"$nulls":13},{"$f":"IF(OR(SUMPRODUCT(--(E43075=$O$1:$O$542))>0,E43075=0),0,1)","v":0}]
[{"$nulls":4},0,{"$nulls":7},0,{"$nulls":13},{"$f":"IF(OR(SUMPRODUCT(--(E43104=$O$1:$O$542))>0,E43104=0),0,1)","v":0}]
[{"$nulls":4},0,{"$nulls":7},0,{"$nulls":13},{"$f":"IF(OR(SUMPRODUCT(--(E43151=$O$1:$O$542))>0,E43151=0),0,1)","v":0}]
[{"$nulls":4},0,{"$nulls":7},0,{"$nulls":13},{"$f":"IF(OR(SUMPRODUCT(--(E43200=$O$1:$O$542))>0,E43200=0),0,1)","v":0}]
[{"$nulls":4},0,{"$nulls":7},{"$f":"IF(L43268<>\"\",L43268,K43268)","v":0},{"$nulls":13},{"$f":"IF(OR(SUMPRODUCT(--(E43268=$O$1:$O$542))>0,E43268=0),0,1)","v":0}]
[{"$nulls":4},0,{"$nulls":7},0,{"$nulls":13},{"$f":"IF(OR(SUMPRODUCT(--(E43297=$O$1:$O$542))>0,E43297=0),0,1)","v":0}]
[{"$nulls":4},0,{"$nulls":7},0,{"$nulls":13},{"$f":"IF(OR(SUMPRODUCT(--(E43350=$O$1:$O$542))>0,E43350=0),0,1)","v":0}]
[{"$nulls":4},0,{"$nulls":7},0,{"$nulls":13},{"$f":"IF(OR(SUMPRODUCT(--(E43393=$O$1:$O$542))>0,E43393=0),0,1)","v":0}]
[{"$nulls":4},0,{"$nulls":7},0,{"$nulls":13},{"$f":"IF(OR(SUMPRODUCT(--(E43471=$O$1:$O$542))>0,E43471=0),0,1)","v":0}]
[{"$nulls":4},0,{"$nulls":7},0,{"$nulls":13},{"$f":"IF(OR(SUMPRODUCT(--(E43490=$O$1:$O$542))>0,E43490=0),0,1)","v":0}]
[{"$nulls":4},0,{"$nulls":7},0,{"$nulls":13},{"$f":"IF(OR(SUMPRODUCT(--(E43565=$O$1:$O$542))>0,E43565=0),0,1)","v":0}]
[{"$nulls":4},0,{"$nulls":7},0,{"$nulls":13},{"$f":"IF(OR(SUMPRODUCT(--(E43596=$O$1:$O$542))>0,E43596=0),0,1)","v":0}]
[{"$nulls":4},0,{"$nulls":7},0,{"$nulls":13},{"$f":"IF(OR(SUMPRODUCT(--(E43664=$O$1:$O$542))>0,E43664=0),0,1)","v":0}]
[{"$nulls":4},0,{"$nulls":7},0,{"$nulls":13},{"$f":"IF(OR(SUMPRODUCT(--(E43693=$O$1:$O$542))>0,E43693=0),0,1)","v":0}]
[{"$nulls":4},0,{"$nulls":7},0,{"$nulls":13},{"$f":"IF(OR(SUMPRODUCT(--(E43764=$O$1:$O$542))>0,E43764=0),0,1)","v":0}]
[{"$nulls":4},0,{"$nulls":7},0,{"$nulls":13},{"$f":"IF(OR(SUMPRODUCT(--(E43789=$O$1:$O$542))>0,E43789=0),0,1)","v":0}]
[{"$nulls":4},0,{"$nulls":7},0,{"$nulls":13},{"$f":"IF(OR(SUMPRODUCT(--(E43867=$O$1:$O$542))>0,E43867=0),0,1)","v":0}]
[{"$nulls":4},0,{"$nulls":7},0,{"$nulls":13},{"$f":"IF(OR(SUMPRODUCT(--(E43886=$O$1:$O$542))>0,E43886=0),0,1)","v":0}]
[{"$nulls":4},0,{"$nulls":7},0,{"$nulls":13},{"$f":"IF(OR(SUMPRODUCT(--(E43931=$O$1:$O$542))>0,E43931=0),0,1)","v":0}]
[{"$nulls":4},0,{"$nulls":7},0,{"$nulls":13},{"$f":"IF(OR(SUMPRODUCT(--(E43992=$O$1:$O$542))>0,E43992=0),0,1)","v":0}]
[{"$nulls":4},0,{"$nulls":7},0,{"$nulls":13},{"$f":"IF(OR(SUMPRODUCT(--(E44060=$O$1:$O$542))>0,E44060=0),0,1)","v":0}]
[{"$nulls":4},0,{"$nulls":7},0,{"$nulls":13},{"$f":"IF(OR(SUMPRODUCT(--(E44089=$O$1:$O$542))>0,E44089=0),0,1)","v":0}]
[{"$nulls":4},0,{"$nulls":7},0,{"$nulls":13},{"$f":"IF(OR(SUMPRODUCT(--(E44146=$O$1:$O$542))>0,E44146=0),0,1)","v":0}]
[{"$nulls":4},0,{"$nulls":7},0,{"$nulls":13},{"$f":"IF(OR(SUMPRODUCT(--(E44185=$O$1:$O$542))>0,E44185=0),0,1)","v":0}]
[{"$nulls":4},0,{"$nulls":7},0,{"$nulls":13},{"$f":"IF(OR(SUMPRODUCT(--(E44263=$O$1:$O$542))>0,E44263=0),0,1)","v":0}]
[{"$nulls":4},0,{"$nulls":7},0,{"$nulls":13},{"$f":"IF(OR(SUMPRODUCT(--(E44282=$O$1:$O$542))>0,E44282=0),0,1)","v":0}]
[{"$nulls":4},0,{"$nulls":7},0,{"$nulls":13},{"$f":"IF(OR(SUMPRODUCT(--(E44345=$O$1:$O$542))>0,E44345=0),0,1)","v":0}]
[{"$nulls":4},0,{"$nulls":7},0,{"$nulls":13},{"$f":"IF(OR(SUMPRODUCT(--(E44388=$O$1:$O$542))>0,E44388=0),0,1)","v":0}]
[{"$nulls":4},0,{"$nulls":7},0,{"$nulls":13},{"$f":"IF(OR(SUMPRODUCT(--(E44456=$O$1:$O$542))>0,E44456=0),0,1)","v":0}]
[{"$nulls":4},0,{"$nulls":7},0,{"$nulls":13},{"$f":"IF(OR(SUMPRODUCT(--(E44485=$O$1:$O$542))>0,E44485=0),0,1)","v":0}]
[{"$nulls":4},0,{"$nulls":7},0,{"$nulls":13},{"$f":"IF(OR(SUMPRODUCT(--(E44512=$O$1:$O$542))>0,E44512=0),0,1)","v":0}]
[{"$nulls":4},0,{"$nulls":7},0,{"$nulls":13},{"$f":"IF(OR(SUMPRODUCT(--(E44581=$O$1:$O$542))>0,E44581=0),0,1)","v":0}]
[{"$nulls":4},0,{"$nulls":7},0,{"$nulls":13},{"$f":"IF(OR(SUMPRODUCT(--(E44610=$O$1:$O$542))>0,E44610=0),0,1)","v":0}]
[{"$nulls":4},0,{"$nulls":7},0,{"$nulls":13},{"$f":"IF(OR(SUMPRODUCT(--(E44678=$O$1:$O$542))>0,E44678=0),0,1)","v":0}]
[{"$nulls":4},0,{"$nulls":7},0,{"$nulls":13},{"$f":"IF(OR(SUMPRODUCT(--(E44711=$O$1:$O$542))>0,E44711=0),0,1)","v":0}]
[{"$nulls":4},0,{"$nulls":7},0,{"$nulls":13},{"$f":"IF(OR(SUMPRODUCT(--(E44784=$O$1:$O$542))>0,E44784=0),0,1)","v":0}]
[{"$nulls":4},{"$f":"IF(AND(F44803<>\"\",F44803=G44803),\"ERROR\",IF(AND(F44803<>\"\",F44803<>G44803),F44803,G44803))","v":0},{"$nulls":7},0,{"$nulls":13},{"$f":"IF(OR(SUMPRODUCT(--(E44803=$O$1:$O$542))>0,E44803=0),0,1)","v":0}]
[{"$nulls":4},0,{"$nulls":7},0,{"$nulls":13},{"$f":"IF(OR(SUMPRODUCT(--(E44881=$O$1:$O$542))>0,E44881=0),0,1)","v":0}]
[{"$nulls":4},0,{"$nulls":7},0,{"$nulls":13},{"$f":"IF(OR(SUMPRODUCT(--(E44926=$O$1:$O$542))>0,E44926=0),0,1)","v":0}]
[{"$nulls":4},0,{"$nulls":7},0,{"$nulls":13},{"$f":"IF(OR(SUMPRODUCT(--(E44977=$O$1:$O$542))>0,E44977=0),0,1)","v":0}]
[{"$nulls":4},0,{"$nulls":7},0,{"$nulls":13},{"$f":"IF(OR(SUMPRODUCT(--(E45006=$O$1:$O$542))>0,E45006=0),0,1)","v":0}]
[{"$nulls":4},0,{"$nulls":7},0,{"$nulls":13},{"$f":"IF(OR(SUMPRODUCT(--(E45074=$O$1:$O$542))>0,E45074=0),0,1)","v":0}]
[{"$nulls":4},0,{"$nulls":7},0,{"$nulls":13},{"$f":"IF(OR(SUMPRODUCT(--(E45125=$O$1:$O$542))>0,E45125=0),0,1)","v":0}]
[{"$nulls":4},0,{"$nulls":7},0,{"$nulls":13},{"$f":"IF(OR(SUMPRODUCT(--(E45170=$O$1:$O$542))>0,E45170=0),0,1)","v":0}]
[{"$nulls":4},0,{"$nulls":7},0,{"$nulls":13},{"$f":"IF(OR(SUMPRODUCT(--(E45199=$O$1:$O$542))>0,E45199=0),0,1)","v":0}]
[{"$nulls":4},0,{"$nulls":7},0,{"$nulls":13},{"$f":"IF(OR(SUMPRODUCT(--(E45277=$O$1:$O$542))>0,E45277=0),0,1)","v":0}]
[{"$nulls":4},0,{"$nulls":7},0,{"$nulls":13},{"$f":"IF(OR(SUMPRODUCT(--(E45292=$O$1:$O$542))>0,E45292=0),0,1)","v":0}]
[{"$nulls":4},0,{"$nulls":7},0,{"$nulls":13},{"$f":"IF(OR(SUMPRODUCT(--(E45373=$O$1:$O$542))>0,E45373=0),0,1)","v":0}]
[{"$nulls":4},0,{"$nulls":7},0,{"$nulls":13},{"$f":"IF(OR(SUMPRODUCT(--(E45402=$O$1:$O$542))>0,E45402=0),0,1)","v":0}]
[{"$nulls":4},0,{"$nulls":7},0,{"$nulls":13},{"$f":"IF(OR(SUMPRODUCT(--(E45470=$O$1:$O$542))>0,E45470=0),0,1)","v":0}]
[{"$nulls":4},0,{"$nulls":7},0,{"$nulls":13},{"$f":"IF(OR(SUMPRODUCT(--(E45491=$O$1:$O$542))>0,E45491=0),0,1)","v":0}]
[{"$nulls":4},0,{"$nulls":7},0,{"$nulls":13},{"$f":"IF(OR(SUMPRODUCT(--(E45566=$O$1:$O$542))>0,E45566=0),0,1)","v":0}]
[{"$nulls":4},0,{"$nulls":7},0,{"$nulls":13},{"$f":"IF(OR(SUMPRODUCT(--(E45595=$O$1:$O$542))>0,E45595=0),0,1)","v":0}]
[{"$nulls":4},0,{"$nulls":7},0,{"$nulls":13},{"$f":"IF(OR(SUMPRODUCT(--(E45673=$O$1:$O$542))>0,E45673=0),0,1)","v":0}]
[{"$nulls":4},0,{"$nulls":7},0,{"$nulls":13},{"$f":"IF(OR(SUMPRODUCT(--(E45706=$O$1:$O$542))>0,E45706=0),0,1)","v":0}]
[{"$nulls":4},0,{"$nulls":7},0,{"$nulls":13},{"$f":"IF(OR(SUMPRODUCT(--(E45769=$O$1:$O$542))>0,E45769=0),0,1)","v":0}]
[{"$nulls":4},0,{"$nulls":7},0,{"$nulls":13},{"$f":"IF(OR(SUMPRODUCT(--(E45788=$O$1:$O$542))>0,E45788=0),0,1)","v":0}]
[{"$nulls":4},0,{"$nulls":7},0,{"$nulls":13},{"$f":"IF(OR(SUMPRODUCT(--(E45866=$O$1:$O$542))>0,E45866=0),0,1)","v":0}]
[{"$nulls":4},0,{"$nulls":7},0,{"$nulls":13},{"$f":"IF(OR(SUMPRODUCT(--(E45905=$O$1:$O$542))>0,E45905=0),0,1)","v":0}]
[{"$nulls":4},0,{"$nulls":7},0,{"$nulls":13},{"$f":"IF(OR(SUMPRODUCT(--(E45962=$O$1:$O$542))>0,E45962=0),0,1)","v":0}]
[{"$nulls":4},0,{"$nulls":7},0,{"$nulls":13},{"$f":"IF(OR(SUMPRODUCT(--(E45991=$O$1:$O$542))>0,E45991=0),0,1)","v":0}]
[{"$nulls":4},0,{"$nulls":7},0,{"$nulls":13},{"$f":"IF(OR(SUMPRODUCT(--(E46069=$O$1:$O$542))>0,E46069=0),0,1)","v":0}]
[{"$nulls":4},0,{"$nulls":7},0,{"$nulls":13},{"$f":"IF(OR(SUMPRODUCT(--(E46072=$O$1:$O$542))>0,E46072=0),0,1)","v":0}]
[{"$nulls":4},0,{"$nulls":7},0,{"$nulls":13},{"$f":"IF(OR(SUMPRODUCT(--(E46165=$O$1:$O$542))>0,E46165=0),0,1)","v":0}]
[{"$nulls":4},0,{"$nulls":7},0,{"$nulls":13},{"$f":"IF(OR(SUMPRODUCT(--(E46184=$O$1:$O$542))>0,E46184=0),0,1)","v":0}]
[{"$nulls":4},0,{"$nulls":7},0,{"$nulls":13},{"$f":"IF(OR(SUMPRODUCT(--(E46262=$O$1:$O$542))>0,E46262=0),0,1)","v":0}]
[{"$nulls":4},0,{"$nulls":7},0,{"$nulls":13},{"$f":"IF(OR(SUMPRODUCT(--(E46271=$O$1:$O$542))>0,E46271=0),0,1)","v":0}]
[{"$nulls":4},0,{"$nulls":7},0,{"$nulls":13},{"$f":"IF(OR(SUMPRODUCT(--(E46358=$O$1:$O$542))>0,E46358=0),0,1)","v":0}]
[{"$nulls":4},0,{"$nulls":7},0,{"$nulls":13},{"$f":"IF(OR(SUMPRODUCT(--(E46387=$O$1:$O$542))>0,E46387=0),0,1)","v":0}]
[{"$nulls":4},0,{"$nulls":7},0,{"$nulls":13},{"$f":"IF(OR(SUMPRODUCT(--(E46416=$O$1:$O$542))>0,E46416=0),0,1)","v":0}]
[{"$nulls":4},0,{"$nulls":7},0,{"$nulls":13},{"$f":"IF(OR(SUMPRODUCT(--(E46486=$O$1:$O$542))>0,E46486=0),0,1)","v":0}]
[{"$nulls":4},0,{"$nulls":7},0,{"$nulls":13},{"$f":"IF(OR(SUMPRODUCT(--(E46512=$O$1:$O$542))>0,E46512=0),0,1)","v":0}]
[{"$nulls":4},0,{"$nulls":7},0,{"$nulls":13},{"$f":"IF(OR(SUMPRODUCT(--(E46580=$O$1:$O$542))>0,E46580=0),0,1)","v":0}]
[{"$nulls":4},0,{"$nulls":7},0,{"$nulls":13},{"$f":"IF(OR(SUMPRODUCT(--(E46609=$O$1:$O$542))>0,E46609=0),0,1)","v":0}]
[{"$nulls":4},0,{"$nulls":7},0,{"$nulls":13},{"$f":"IF(OR(SUMPRODUCT(--(E46685=$O$1:$O$542))>0,E46685=0),0,1)","v":0}]
[{"$nulls":4},0,{"$nulls":7},0,{"$nulls":13},{"$f":"IF(OR(SUMPRODUCT(--(E46705=$O$1:$O$542))>0,E46705=0),0,1)","v":0}]
[{"$nulls":4},0,{"$nulls":7},0,{"$nulls":13},{"$f":"IF(OR(SUMPRODUCT(--(E46783=$O$1:$O$542))>0,E46783=0),0,1)","v":0}]
[{"$nulls":4},0,{"$nulls":7},0,{"$nulls":13},{"$f":"IF(OR(SUMPRODUCT(--(E46802=$O$1:$O$542))>0,E46802=0),0,1)","v":0}]
[{"$nulls":4},0,{"$nulls":7},{"$f":"IF(L46852<>\"\",L46852,K46852)","v":0},{"$nulls":13},{"$f":"IF(OR(SUMPRODUCT(--(E46852=$O$1:$O$542))>0,E46852=0),0,1)","v":0}]
[{"$nulls":4},0,{"$nulls":7},0,{"$nulls":13},{"$f":"IF(OR(SUMPRODUCT(--(E46908=$O$1:$O$542))>0,E46908=0),0,1)","v":0}]
[{"$nulls":4},0,{"$nulls":7},0,{"$nulls":13},{"$f":"IF(OR(SUMPRODUCT(--(E46976=$O$1:$O$542))>0,E46976=0),0,1)","v":0}]
[{"$nulls":4},0,{"$nulls":7},0,{"$nulls":13},{"$f":"IF(OR(SUMPRODUCT(--(E47005=$O$1:$O$542))>0,E47005=0),0,1)","v":0}]
[{"$nulls":4},0,{"$nulls":7},0,{"$nulls":13},{"$f":"IF(OR(SUMPRODUCT(--(E47051=$O$1:$O$542))>0,E47051=0),0,1)","v":0}]
[{"$nulls":4},0,{"$nulls":7},0,{"$nulls":13},{"$f":"IF(OR(SUMPRODUCT(--(E47101=$O$1:$O$542))>0,E47101=0),0,1)","v":0}]
[{"$nulls":4},0,{"$nulls":7},0,{"$nulls":13},{"$f":"IF(OR(SUMPRODUCT(--(E47179=$O$1:$O$542))>0,E47179=0),0,1)","v":0}]
[{"$nulls":4},0,{"$nulls":7},0,{"$nulls":13},{"$f":"IF(OR(SUMPRODUCT(--(E47198=$O$1:$O$542))>0,E47198=0),0,1)","v":0}]
[{"$nulls":4},0,{"$nulls":7},0,{"$nulls":13},{"$f":"IF(OR(SUMPRODUCT(--(E47266=$O$1:$O$542))>0,E47266=0),0,1)","v":0}]
[{"$nulls":4},0,{"$nulls":7},0,{"$nulls":13},{"$f":"IF(OR(SUMPRODUCT(--(E47304=$O$1:$O$542))>0,E47304=0),0,1)","v":0}]
[{"$nulls":4},0,{"$nulls":7},0,{"$nulls":13},{"$f":"IF(OR(SUMPRODUCT(--(E47372=$O$1:$O$542))>0,E47372=0),0,1)","v":0}]
[{"$nulls":4},0,{"$nulls":7},0,{"$nulls":13},{"$f":"IF(OR(SUMPRODUCT(--(E47401=$O$1:$O$542))>0,E47401=0),0,1)","v":0}]
[{"$nulls":4},0,{"$nulls":7},0,{"$nulls":13},{"$f":"IF(OR(SUMPRODUCT(--(E47465=$O$1:$O$542))>0,E47465=0),0,1)","v":0}]
[{"$nulls":4},0,{"$nulls":7},0,{"$nulls":13},{"$f":"IF(OR(SUMPRODUCT(--(E47497=$O$1:$O$542))>0,E47497=0),0,1)","v":0}]
[{"$nulls":4},0,{"$nulls":7},0,{"$nulls":13},{"$f":"IF(OR(SUMPRODUCT(--(E47575=$O$1:$O$542))>0,E47575=0),0,1)","v":0}]
[{"$nulls":4},0,{"$nulls":7},0,{"$nulls":13},{"$f":"IF(OR(SUMPRODUCT(--(E47594=$O$1:$O$542))>0,E47594=0),0,1)","v":0}]
[{"$nulls":4},0,{"$nulls":7},0,{"$nulls":13},{"$f":"IF(OR(SUMPRODUCT(--(E47632=$O$1:$O$542))>0,E47632=0),0,1)","v":0}]
[{"$nulls":4},0,{"$nulls":7},0,{"$nulls":13},{"$f":"IF(OR(SUMPRODUCT(--(E47700=$O$1:$O$542))>0,E47700=0),0,1)","v":0}]
[{"$nulls":4},0,{"$nulls":7},0,{"$nulls":13},{"$f":"IF(OR(SUMPRODUCT(--(E47768=$O$1:$O$542))>0,E47768=0),0,1)","v":0}]
[{"$nulls":4},0,{"$nulls":7},0,{"$nulls":13},{"$f":"IF(OR(SUMPRODUCT(--(E47797=$O$1:$O$542))>0,E47797=0),0,1)","v":0}]
[{"$nulls":4},0,{"$nulls":7},0,{"$nulls":13},{"$f":"IF(OR(SUMPRODUCT(--(E47847=$O$1:$O$542))>0,E47847=0),0,1)","v":0}]
[{"$nulls":4},0,{"$nulls":7},0,{"$nulls":13},{"$f":"IF(OR(SUMPRODUCT(--(E47893=$O$1:$O$542))>0,E47893=0),0,1)","v":0}]
[{"$nulls":4},0,{"$nulls":7},0,{"$nulls":13},{"$f":"IF(OR(SUMPRODUCT(--(E47971=$O$1:$O$542))>0,E47971=0),0,1)","v":0}]
[{"$nulls":4},0,{"$nulls":7},0,{"$nulls":13},{"$f":"IF(OR(SUMPRODUCT(--(E47990=$O$1:$O$542))>0,E47990=0),0,1)","v":0}]
[{"$nulls":4},0,{"$nulls":7},0,{"$nulls":13},{"$f":"IF(OR(SUMPRODUCT(--(E48046=$O$1:$O$542))>0,E48046=0),0,1)","v":0}]
[{"$nulls":4},0,{"$nulls":7},0,{"$nulls":13},{"$f":"IF(OR(SUMPRODUCT(--(E48096=$O$1:$O$542))>0,E48096=0),0,1)","v":0}]
[{"$nulls":4},0,{"$nulls":7},0,{"$nulls":13},{"$f":"IF(OR(SUMPRODUCT(--(E48164=$O$1:$O$542))>0,E48164=0),0,1)","v":0}]
[{"$nulls":4},0,{"$nulls":7},0,{"$nulls":13},{"$f":"IF(OR(SUMPRODUCT(--(E48193=$O$1:$O$542))>0,E48193=0),0,1)","v":0}]
[{"$nulls":4},0,{"$nulls":7},0,{"$nulls":13},{"$f":"IF(OR(SUMPRODUCT(--(E48261=$O$1:$O$542))>0,E48261=0),0,1)","v":0}]
[{"$nulls":4},0,{"$nulls":7},0,{"$nulls":13},{"$f":"IF(OR(SUMPRODUCT(--(E48289=$O$1:$O$542))>0,E48289=0),0,1)","v":0}]
[{"$nulls":4},0,{"$nulls":7},0,{"$nulls":13},{"$f":"IF(OR(SUMPRODUCT(--(E48318=$O$1:$O$542))>0,E48318=0),0,1)","v":0}]
[{"$nulls":4},0,{"$nulls":7},0,{"$nulls":13},{"$f":"IF(OR(SUMPRODUCT(--(E48386=$O$1:$O$542))>0,E48386=0),0,1)","v":0}]
[{"$nulls":4},0,{"$nulls":7},0,{"$nulls":13},{"$f":"IF(OR(SUMPRODUCT(--(E48412=$O$1:$O$542))>0,E48412=0),0,1)","v":0}]
[{"$nulls":4},0,{"$nulls":7},0,{"$nulls":13},{"$f":"IF(OR(SUMPRODUCT(--(E48482=$O$1:$O$542))>0,E48482=0),0,1)","v":0}]
[{"$nulls":4},0,{"$nulls":7},0,{"$nulls":13},{"$f":"IF(OR(SUMPRODUCT(--(E48511=$O$1:$O$542))>0,E48511=0),0,1)","v":0}]
[{"$nulls":4},0,{"$nulls":7},0,{"$nulls":13},{"$f":"IF(OR(SUMPRODUCT(--(E48589=$O$1:$O$542))>0,E48589=0),0,1)","v":0}]
[{"$nulls":4},0,{"$nulls":7},0,{"$nulls":13},{"$f":"IF(OR(SUMPRODUCT(--(E48627=$O$1:$O$542))>0,E48627=0),0,1)","v":0}]
[{"$nulls":4},0,{"$nulls":7},0,{"$nulls":13},{"$f":"IF(OR(SUMPRODUCT(--(E48685=$O$1:$O$542))>0,E48685=0),0,1)","v":0}]
[{"$nulls":4},0,{"$nulls":7},0,{"$nulls":13},{"$f":"IF(OR(SUMPRODUCT(--(E48714=$O$1:$O$542))>0,E48714=0),0,1)","v":0}]
[{"$nulls":4},0,{"$nulls":7},0,{"$nulls":13},{"$f":"IF(OR(SUMPRODUCT(--(E48782=$O$1:$O$542))>0,E48782=0),0,1)","v":0}]
[{"$nulls":4},0,{"$nulls":7},0,{"$nulls":13},{"$f":"IF(OR(SUMPRODUCT(--(E48826=$O$1:$O$542))>0,E48826=0),0,1)","v":0}]
[{"$nulls":4},0,{"$nulls":7},0,{"$nulls":13},{"$f":"IF(OR(SUMPRODUCT(--(E48878=$O$1:$O$542))>0,E48878=0),0,1)","v":0}]
[{"$nulls":4},0,{"$nulls":7},0,{"$nulls":13},{"$f":"IF(OR(SUMPRODUCT(--(E48907=$O$1:$O$542))>0,E48907=0),0,1)","v":0}]
[{"$nulls":4},0,{"$nulls":7},0,{"$nulls":13},{"$f":"IF(OR(SUMPRODUCT(--(E48985=$O$1:$O$542))>0,E48985=0),0,1)","v":0}]
[{"$nulls":4},0,{"$nulls":7},0,{"$nulls":13},{"$f":"IF(OR(SUMPRODUCT(--(E49041=$O$1:$O$542))>0,E49041=0),0,1)","v":0}]
[{"$nulls":4},0,{"$nulls":7},0,{"$nulls":13},{"$f":"IF(OR(SUMPRODUCT(--(E49081=$O$1:$O$542))>0,E49081=0),0,1)","v":0}]
[{"$nulls":4},0,{"$nulls":7},0,{"$nulls":13},{"$f":"IF(OR(SUMPRODUCT(--(E49110=$O$1:$O$542))>0,E49110=0),0,1)","v":0}]
[{"$nulls":4},0,{"$nulls":7},0,{"$nulls":13},{"$f":"IF(OR(SUMPRODUCT(--(E49178=$O$1:$O$542))>0,E49178=0),0,1)","v":0}]
[{"$nulls":4},0,{"$nulls":7},0,{"$nulls":13},{"$f":"IF(OR(SUMPRODUCT(--(E49192=$O$1:$O$542))>0,E49192=0),0,1)","v":0}]
[{"$nulls":4},0,{"$nulls":7},0,{"$nulls":13},{"$f":"IF(OR(SUMPRODUCT(--(E49274=$O$1:$O$542))>0,E49274=0),0,1)","v":0}]
[{"$nulls":4},0,{"$nulls":7},0,{"$nulls":13},{"$f":"IF(OR(SUMPRODUCT(--(E49303=$O$1:$O$542))>0,E49303=0),0,1)","v":0}]
[{"$nulls":4},0,{"$nulls":7},0,{"$nulls":13},{"$f":"IF(OR(SUMPRODUCT(--(E49381=$O$1:$O$542))>0,E49381=0),0,1)","v":0}]
[{"$nulls":4},0,{"$nulls":7},0,{"$nulls":13},{"$f":"IF(OR(SUMPRODUCT(--(E49407=$O$1:$O$542))>0,E49407=0),0,1)","v":0}]
[{"$nulls":4},0,{"$nulls":7},0,{"$nulls":13},{"$f":"IF(OR(SUMPRODUCT(--(E49477=$O$1:$O$542))>0,E49477=0),0,1)","v":0}]
[{"$nulls":4},0,{"$nulls":7},0,{"$nulls":13},{"$f":"IF(OR(SUMPRODUCT(--(E49496=$O$1:$O$542))>0,E49496=0),0,1)","v":0}]
[{"$nulls":4},0,{"$nulls":7},0,{"$nulls":13},{"$f":"IF(OR(SUMPRODUCT(--(E49574=$O$1:$O$542))>0,E49574=0),0,1)","v":0}]
[{"$nulls":4},0,{"$nulls":7},0,{"$nulls":13},{"$f":"IF(OR(SUMPRODUCT(--(E49606=$O$1:$O$542))>0,E49606=0),0,1)","v":0}]
[{"$nulls":4},0,{"$nulls":7},0,{"$nulls":13},{"$f":"IF(OR(SUMPRODUCT(--(E49670=$O$1:$O$542))>0,E49670=0),0,1)","v":0}]
[{"$nulls":4},0,{"$nulls":7},0,{"$nulls":13},{"$f":"IF(OR(SUMPRODUCT(--(E49699=$O$1:$O$542))>0,E49699=0),0,1)","v":0}]
[{"$nulls":4},0,{"$nulls":7},0,{"$nulls":13},{"$f":"IF(OR(SUMPRODUCT(--(E49728=$O$1:$O$542))>0,E49728=0),0,1)","v":0}]
[{"$nulls":4},0,{"$nulls":7},0,{"$nulls":13},{"$f":"IF(OR(SUMPRODUCT(--(E49821=$O$1:$O$542))>0,E49821=0),0,1)","v":0}]
[{"$nulls":4},0,{"$nulls":7},0,{"$nulls":13},{"$f":"IF(OR(SUMPRODUCT(--(E49824=$O$1:$O$542))>0,E49824=0),0,1)","v":0}]
[{"$nulls":4},0,{"$nulls":7},0,{"$nulls":13},{"$f":"IF(OR(SUMPRODUCT(--(E49892=$O$1:$O$542))>0,E49892=0),0,1)","v":0}]
[{"$nulls":4},0,{"$nulls":7},0,{"$nulls":13},{"$f":"IF(OR(SUMPRODUCT(--(E49970=$O$1:$O$542))>0,E49970=0),0,1)","v":0}]
[{"$nulls":4},0,{"$nulls":7},0,{"$nulls":13},{"$f":"IF(OR(SUMPRODUCT(--(E49972=$O$1:$O$542))>0,E49972=0),0,1)","v":0}]
[{"$nulls":4},0,{"$nulls":7},0,{"$nulls":13},{"$f":"IF(OR(SUMPRODUCT(--(E50066=$O$1:$O$542))>0,E50066=0),0,1)","v":0}]
[{"$nulls":4},0,{"$nulls":7},0,{"$nulls":13},{"$f":"IF(OR(SUMPRODUCT(--(E50095=$O$1:$O$542))>0,E50095=0),0,1)","v":0}]
[{"$nulls":4},0,{"$nulls":7},0,{"$nulls":13},{"$f":"IF(OR(SUMPRODUCT(--(E50163=$O$1:$O$542))>0,E50163=0),0,1)","v":0}]
[{"$nulls":4},0,{"$nulls":7},0,{"$nulls":13},{"$f":"IF(OR(SUMPRODUCT(--(E50187=$O$1:$O$542))>0,E50187=0),0,1)","v":0}]
[{"$nulls":4},0,{"$nulls":7},0,{"$nulls":13},{"$f":"IF(OR(SUMPRODUCT(--(E50220=$O$1:$O$542))>0,E50220=0),0,1)","v":0}]
[{"$nulls":4},0,{"$nulls":7},0,{"$nulls":13},{"$f":"IF(OR(SUMPRODUCT(--(E50288=$O$1:$O$542))>0,E50288=0),0,1)","v":0}]
[{"$nulls":4},0,{"$nulls":7},0,{"$nulls":13},{"$f":"IF(OR(SUMPRODUCT(--(E50317=$O$1:$O$542))>0,E50317=0),0,1)","v":0}]
[{"$nulls":4},0,{"$nulls":7},0,{"$nulls":13},{"$f":"IF(OR(SUMPRODUCT(--(E50386=$O$1:$O$542))>0,E50386=0),0,1)","v":0}]
[{"$nulls":4},0,{"$nulls":7},0,{"$nulls":13},{"$f":"IF(OR(SUMPRODUCT(--(E50413=$O$1:$O$542))>0,E50413=0),0,1)","v":0}]
[{"$nulls":4},0,{"$nulls":7},0,{"$nulls":13},{"$f":"IF(OR(SUMPRODUCT(--(E50491=$O$1:$O$542))>0,E50491=0),0,1)","v":0}]
[{"$nulls":4},0,{"$nulls":7},0,{"$nulls":13},{"$f":"IF(OR(SUMPRODUCT(--(E50510=$O$1:$O$542))>0,E50510=0),0,1)","v":0}]
[{"$nulls":4},0,{"$nulls":7},0,{"$nulls":13},{"$f":"IF(OR(SUMPRODUCT(--(E50601=$O$1:$O$542))>0,E50601=0),0,1)","v":0}]
[{"$nulls":4},0,{"$nulls":7},0,{"$nulls":13},{"$f":"IF(OR(SUMPRODUCT(--(E50616=$O$1:$O$542))>0,E50616=0),0,1)","v":0}]
[{"$nulls":4},0,{"$nulls":7},0,{"$nulls":13},{"$f":"IF(OR(SUMPRODUCT(--(E50684=$O$1:$O$542))>0,E50684=0),0,1)","v":0}]
[{"$nulls":4},0,{"$nulls":7},0,{"$nulls":13},{"$f":"IF(OR(SUMPRODUCT(--(E50713=$O$1:$O$542))>0,E50713=0),0,1)","v":0}]
[{"$nulls":4},0,{"$nulls":7},0,{"$nulls":13},{"$f":"IF(OR(SUMPRODUCT(--(E50752=$O$1:$O$542))>0,E50752=0),0,1)","v":0}]
[{"$nulls":4},0,{"$nulls":7},0,{"$nulls":13},{"$f":"IF(OR(SUMPRODUCT(--(E50809=$O$1:$O$542))>0,E50809=0),0,1)","v":0}]
[{"$nulls":4},0,{"$nulls":7},0,{"$nulls":13},{"$f":"IF(OR(SUMPRODUCT(--(E50887=$O$1:$O$542))>0,E50887=0),0,1)","v":0}]
[{"$nulls":4},0,{"$nulls":7},0,{"$nulls":13},{"$f":"IF(OR(SUMPRODUCT(--(E50906=$O$1:$O$542))>0,E50906=0),0,1)","v":0}]
[{"$nulls":4},0,{"$nulls":7},0,{"$nulls":13},{"$f":"IF(OR(SUMPRODUCT(--(E50967=$O$1:$O$542))>0,E50967=0),0,1)","v":0}]
[{"$nulls":4},0,{"$nulls":7},{"$f":"IF(L51012<>\"\",L51012,K51012)","v":0},{"$nulls":13},{"$f":"IF(OR(SUMPRODUCT(--(E51012=$O$1:$O$542))>0,E51012=0),0,1)","v":0}]
[{"$nulls":4},0,{"$nulls":7},0,{"$nulls":13},{"$f":"IF(OR(SUMPRODUCT(--(E51080=$O$1:$O$542))>0,E51080=0),0,1)","v":0}]
[{"$nulls":4},0,{"$nulls":7},0,{"$nulls":13},{"$f":"IF(OR(SUMPRODUCT(--(E51109=$O$1:$O$542))>0,E51109=0),0,1)","v":0}]
[{"$nulls":4},0,{"$nulls":7},0,{"$nulls":13},{"$f":"IF(OR(SUMPRODUCT(--(E51182=$O$1:$O$542))>0,E51182=0),0,1)","v":0}]
[{"$nulls":4},0,{"$nulls":7},0,{"$nulls":13},{"$f":"IF(OR(SUMPRODUCT(--(E51205=$O$1:$O$542))>0,E51205=0),0,1)","v":0}]
[{"$nulls":4},0,{"$nulls":7},0,{"$nulls":13},{"$f":"IF(OR(SUMPRODUCT(--(E51283=$O$1:$O$542))>0,E51283=0),0,1)","v":0}]
[{"$nulls":4},0,{"$nulls":7},0,{"$nulls":13},{"$f":"IF(OR(SUMPRODUCT(--(E51302=$O$1:$O$542))>0,E51302=0),0,1)","v":0}]
[{"$nulls":4},0,{"$nulls":7},0,{"$nulls":13},{"$f":"IF(OR(SUMPRODUCT(--(E51381=$O$1:$O$542))>0,E51381=0),0,1)","v":0}]
[{"$nulls":4},0,{"$nulls":7},0,{"$nulls":13},{"$f":"IF(OR(SUMPRODUCT(--(E51408=$O$1:$O$542))>0,E51408=0),0,1)","v":0}]
[{"$nulls":4},0,{"$nulls":7},0,{"$nulls":13},{"$f":"IF(OR(SUMPRODUCT(--(E51476=$O$1:$O$542))>0,E51476=0),0,1)","v":0}]
[{"$nulls":4},0,{"$nulls":7},0,{"$nulls":13},{"$f":"IF(OR(SUMPRODUCT(--(E51505=$O$1:$O$542))>0,E51505=0),0,1)","v":0}]
[{"$nulls":4},0,{"$nulls":7},0,{"$nulls":13},{"$f":"IF(OR(SUMPRODUCT(--(E51548=$O$1:$O$542))>0,E51548=0),0,1)","v":0}]
[{"$nulls":4},0,{"$nulls":7},0,{"$nulls":13},{"$f":"IF(OR(SUMPRODUCT(--(E51601=$O$1:$O$542))>0,E51601=0),0,1)","v":0}]
[{"$nulls":4},0,{"$nulls":7},0,{"$nulls":13},{"$f":"IF(OR(SUMPRODUCT(--(E51630=$O$1:$O$542))>0,E51630=0),0,1)","v":0}]
[{"$nulls":4},0,{"$nulls":7},0,{"$nulls":13},{"$f":"IF(OR(SUMPRODUCT(--(E51698=$O$1:$O$542))>0,E51698=0),0,1)","v":0}]
[{"$nulls":4},0,{"$nulls":7},0,{"$nulls":13},{"$f":"IF(OR(SUMPRODUCT(--(E51747=$O$1:$O$542))>0,E51747=0),0,1)","v":0}]
[{"$nulls":4},0,{"$nulls":7},0,{"$nulls":13},{"$f":"IF(OR(SUMPRODUCT(--(E51804=$O$1:$O$542))>0,E51804=0),0,1)","v":0}]
[{"$nulls":4},0,{"$nulls":7},0,{"$nulls":13},{"$f":"IF(OR(SUMPRODUCT(--(E51823=$O$1:$O$542))>0,E51823=0),0,1)","v":0}]
[{"$nulls":4},0,{"$nulls":7},0,{"$nulls":13},{"$f":"IF(OR(SUMPRODUCT(--(E51901=$O$1:$O$542))>0,E51901=0),0,1)","v":0}]
[{"$nulls":4},0,{"$nulls":7},0,{"$nulls":13},{"$f":"IF(OR(SUMPRODUCT(--(E51962=$O$1:$O$542))>0,E51962=0),0,1)","v":0}]
[{"$nulls":4},0,{"$nulls":7},0,{"$nulls":13},{"$f":"IF(OR(SUMPRODUCT(--(E51997=$O$1:$O$542))>0,E51997=0),0,1)","v":0}]
[{"$nulls":4},0,{"$nulls":7},0,{"$nulls":13},{"$f":"IF(OR(SUMPRODUCT(--(E52026=$O$1:$O$542))>0,E52026=0),0,1)","v":0}]
[{"$nulls":4},0,{"$nulls":7},0,{"$nulls":13},{"$f":"IF(OR(SUMPRODUCT(--(E52094=$O$1:$O$542))>0,E52094=0),0,1)","v":0}]
[{"$nulls":4},0,{"$nulls":7},0,{"$nulls":13},{"$f":"IF(OR(SUMPRODUCT(--(E52161=$O$1:$O$542))>0,E52161=0),0,1)","v":0}]
[{"$nulls":4},0,{"$nulls":7},0,{"$nulls":13},{"$f":"IF(OR(SUMPRODUCT(--(E52190=$O$1:$O$542))>0,E52190=0),0,1)","v":0}]
[{"$nulls":4},0,{"$nulls":7},0,{"$nulls":13},{"$f":"IF(OR(SUMPRODUCT(--(E52219=$O$1:$O$542))>0,E52219=0),0,1)","v":0}]
[{"$nulls":4},0,{"$nulls":7},0,{"$nulls":13},{"$f":"IF(OR(SUMPRODUCT(--(E52297=$O$1:$O$542))>0,E52297=0),0,1)","v":0}]
[{"$nulls":4},0,{"$nulls":7},0,{"$nulls":13},{"$f":"IF(OR(SUMPRODUCT(--(E52328=$O$1:$O$542))>0,E52328=0),0,1)","v":0}]
[{"$nulls":4},0,{"$nulls":7},0,{"$nulls":13},{"$f":"IF(OR(SUMPRODUCT(--(E52393=$O$1:$O$542))>0,E52393=0),0,1)","v":0}]
[{"$nulls":4},0,{"$nulls":7},0,{"$nulls":13},{"$f":"IF(OR(SUMPRODUCT(--(E52422=$O$1:$O$542))>0,E52422=0),0,1)","v":0}]
[{"$nulls":4},0,{"$nulls":7},0,{"$nulls":13},{"$f":"IF(OR(SUMPRODUCT(--(E52490=$O$1:$O$542))>0,E52490=0),0,1)","v":0}]
[{"$nulls":4},0,{"$nulls":7},0,{"$nulls":13},{"$f":"IF(OR(SUMPRODUCT(--(E52527=$O$1:$O$542))>0,E52527=0),0,1)","v":0}]
[{"$nulls":4},0,{"$nulls":7},0,{"$nulls":13},{"$f":"IF(OR(SUMPRODUCT(--(E52586=$O$1:$O$542))>0,E52586=0),0,1)","v":0}]
[{"$nulls":4},0,{"$nulls":7},0,{"$nulls":13},{"$f":"IF(OR(SUMPRODUCT(--(E52615=$O$1:$O$542))>0,E52615=0),0,1)","v":0}]
[{"$nulls":4},0,{"$nulls":7},0,{"$nulls":13},{"$f":"IF(OR(SUMPRODUCT(--(E52693=$O$1:$O$542))>0,E52693=0),0,1)","v":0}]
[{"$nulls":4},0,{"$nulls":7},0,{"$nulls":13},{"$f":"IF(OR(SUMPRODUCT(--(E52742=$O$1:$O$542))>0,E52742=0),0,1)","v":0}]
[{"$nulls":4},0,{"$nulls":7},0,{"$nulls":13},{"$f":"IF(OR(SUMPRODUCT(--(E52789=$O$1:$O$542))>0,E52789=0),0,1)","v":0}]
[{"$nulls":4},0,{"$nulls":7},0,{"$nulls":13},{"$f":"IF(OR(SUMPRODUCT(--(E52808=$O$1:$O$542))>0,E52808=0),0,1)","v":0}]
[{"$nulls":4},0,{"$nulls":7},0,{"$nulls":13},{"$f":"IF(OR(SUMPRODUCT(--(E52886=$O$1:$O$542))>0,E52886=0),0,1)","v":0}]
[{"$nulls":4},0,{"$nulls":7},0,{"$nulls":13},{"$f":"IF(OR(SUMPRODUCT(--(E52941=$O$1:$O$542))>0,E52941=0),0,1)","v":0}]
[{"$nulls":4},0,{"$nulls":7},0,{"$nulls":13},{"$f":"IF(OR(SUMPRODUCT(--(E52982=$O$1:$O$542))>0,E52982=0),0,1)","v":0}]
[{"$nulls":4},0,{"$nulls":7},0,{"$nulls":13},{"$f":"IF(OR(SUMPRODUCT(--(E53011=$O$1:$O$542))>0,E53011=0),0,1)","v":0}]
[{"$nulls":4},0,{"$nulls":7},0,{"$nulls":13},{"$f":"IF(OR(SUMPRODUCT(--(E53089=$O$1:$O$542))>0,E53089=0),0,1)","v":0}]
[{"$nulls":4},0,{"$nulls":7},0,{"$nulls":13},{"$f":"IF(OR(SUMPRODUCT(--(E53108=$O$1:$O$542))>0,E53108=0),0,1)","v":0}]
[{"$nulls":4},0,{"$nulls":7},0,{"$nulls":13},{"$f":"IF(OR(SUMPRODUCT(--(E53185=$O$1:$O$542))>0,E53185=0),0,1)","v":0}]
[{"$nulls":4},0,{"$nulls":7},0,{"$nulls":13},{"$f":"IF(OR(SUMPRODUCT(--(E53204=$O$1:$O$542))>0,E53204=0),0,1)","v":0}]
[{"$nulls":4},0,{"$nulls":7},0,{"$nulls":13},{"$f":"IF(OR(SUMPRODUCT(--(E53282=$O$1:$O$542))>0,E53282=0),0,1)","v":0}]
[{"$nulls":4},0,{"$nulls":7},0,{"$nulls":13},{"$f":"IF(OR(SUMPRODUCT(--(E53307=$O$1:$O$542))>0,E53307=0),0,1)","v":0}]
[{"$nulls":4},0,{"$nulls":7},0,{"$nulls":13},{"$f":"IF(OR(SUMPRODUCT(--(E53378=$O$1:$O$542))>0,E53378=0),0,1)","v":0}]
[{"$nulls":4},0,{"$nulls":7},0,{"$nulls":13},{"$f":"IF(OR(SUMPRODUCT(--(E53407=$O$1:$O$542))>0,E53407=0),0,1)","v":0}]
[{"$nulls":4},0,{"$nulls":7},0,{"$nulls":13},{"$f":"IF(OR(SUMPRODUCT(--(E53436=$O$1:$O$542))>0,E53436=0),0,1)","v":0}]
[{"$nulls":4},0,{"$nulls":7},0,{"$nulls":13},{"$f":"IF(OR(SUMPRODUCT(--(E53522=$O$1:$O$542))>0,E53522=0),0,1)","v":0}]
[{"$nulls":4},0,{"$nulls":7},0,{"$nulls":13},{"$f":"IF(OR(SUMPRODUCT(--(E53532=$O$1:$O$542))>0,E53532=0),0,1)","v":0}]
[{"$nulls":4},0,{"$nulls":7},0,{"$nulls":13},{"$f":"IF(OR(SUMPRODUCT(--(E53600=$O$1:$O$542))>0,E53600=0),0,1)","v":0}]
[{"$nulls":4},0,{"$nulls":7},0,{"$nulls":13},{"$f":"IF(OR(SUMPRODUCT(--(E53629=$O$1:$O$542))>0,E53629=0),0,1)","v":0}]
[{"$nulls":4},0,{"$nulls":7},0,{"$nulls":13},{"$f":"IF(OR(SUMPRODUCT(--(E53721=$O$1:$O$542))>0,E53721=0),0,1)","v":0}]
[{"$nulls":4},0,{"$nulls":7},0,{"$nulls":13},{"$f":"IF(OR(SUMPRODUCT(--(E53725=$O$1:$O$542))>0,E53725=0),0,1)","v":0}]
[{"$nulls":4},0,{"$nulls":7},0,{"$nulls":13},{"$f":"IF(OR(SUMPRODUCT(--(E53803=$O$1:$O$542))>0,E53803=0),0,1)","v":0}]
[{"$nulls":4},0,{"$nulls":7},0,{"$nulls":13},{"$f":"IF(OR(SUMPRODUCT(--(E53822=$O$1:$O$542))>0,E53822=0),0,1)","v":0}]
[{"$nulls":4},0,{"$nulls":7},0,{"$nulls":13},{"$f":"IF(OR(SUMPRODUCT(--(E53888=$O$1:$O$542))>0,E53888=0),0,1)","v":0}]
[{"$nulls":4},0,{"$nulls":7},0,{"$nulls":13},{"$f":"IF(OR(SUMPRODUCT(--(E53928=$O$1:$O$542))>0,E53928=0),0,1)","v":0}]
[{"$nulls":4},0,{"$nulls":7},0,{"$nulls":13},{"$f":"IF(OR(SUMPRODUCT(--(E53996=$O$1:$O$542))>0,E53996=0),0,1)","v":0}]
[{"$nulls":4},0,{"$nulls":7},0,{"$nulls":13},{"$f":"IF(OR(SUMPRODUCT(--(E54025=$O$1:$O$542))>0,E54025=0),0,1)","v":0}]
[{"$nulls":4},0,{"$nulls":7},0,{"$nulls":13},{"$f":"IF(OR(SUMPRODUCT(--(E54087=$O$1:$O$542))>0,E54087=0),0,1)","v":0}]
[{"$nulls":4},0,{"$nulls":7},0,{"$nulls":13},{"$f":"IF(OR(SUMPRODUCT(--(E54121=$O$1:$O$542))>0,E54121=0),0,1)","v":0}]
[{"$nulls":4},0,{"$nulls":7},0,{"$nulls":13},{"$f":"IF(OR(SUMPRODUCT(--(E54199=$O$1:$O$542))>0,E54199=0),0,1)","v":0}]
[{"$nulls":4},0,{"$nulls":7},0,{"$nulls":13},{"$f":"IF(OR(SUMPRODUCT(--(E54218=$O$1:$O$542))>0,E54218=0),0,1)","v":0}]
[{"$nulls":4},0,{"$nulls":7},0,{"$nulls":13},{"$f":"IF(OR(SUMPRODUCT(--(E54302=$O$1:$O$542))>0,E54302=0),0,1)","v":0}]
[{"$nulls":4},0,{"$nulls":7},0,{"$nulls":13},{"$f":"IF(OR(SUMPRODUCT(--(E54324=$O$1:$O$542))>0,E54324=0),0,1)","v":0}]
[{"$nulls":4},0,{"$nulls":7},0,{"$nulls":13},{"$f":"IF(OR(SUMPRODUCT(--(E54392=$O$1:$O$542))>0,E54392=0),0,1)","v":0}]
[{"$nulls":4},0,{"$nulls":7},0,{"$nulls":13},{"$f":"IF(OR(SUMPRODUCT(--(E54421=$O$1:$O$542))>0,E54421=0),0,1)","v":0}]
[{"$nulls":4},0,{"$nulls":7},0,{"$nulls":13},{"$f":"IF(OR(SUMPRODUCT(--(E54501=$O$1:$O$542))>0,E54501=0),0,1)","v":0}]
[{"$nulls":4},0,{"$nulls":7},0,{"$nulls":13},{"$f":"IF(OR(SUMPRODUCT(--(E54517=$O$1:$O$542))>0,E54517=0),0,1)","v":0}]
[{"$nulls":4},{"$f":"IF(AND(F54595<>\"\",F54595=G54595),\"ERROR\",IF(AND(F54595<>\"\",F54595<>G54595),F54595,G54595))","v":0},{"$nulls":7},0,{"$nulls":13},{"$f":"IF(OR(SUMPRODUCT(--(E54595=$O$1:$O$542))>0,E54595=0),0,1)","v":0}]
[{"$nulls":4},0,{"$nulls":7},0,{"$nulls":13},{"$f":"IF(OR(SUMPRODUCT(--(E54614=$O$1:$O$542))>0,E54614=0),0,1)","v":0}]
[{"$nulls":4},0,{"$nulls":7},0,{"$nulls":13},{"$f":"IF(OR(SUMPRODUCT(--(E54668=$O$1:$O$542))>0,E54668=0),0,1)","v":0}]
[{"$nulls":4},0,{"$nulls":7},0,{"$nulls":13},{"$f":"IF(OR(SUMPRODUCT(--(E54720=$O$1:$O$542))>0,E54720=0),0,1)","v":0}]
[{"$nulls":4},0,{"$nulls":7},{"$f":"IF(L54788<>\"\",L54788,K54788)","v":0},{"$nulls":13},{"$f":"IF(OR(SUMPRODUCT(--(E54788=$O$1:$O$542))>0,E54788=0),0,1)","v":0}]
[{"$nulls":4},0,{"$nulls":7},0,{"$nulls":13},{"$f":"IF(OR(SUMPRODUCT(--(E54817=$O$1:$O$542))>0,E54817=0),0,1)","v":0}]
[{"$nulls":4},0,{"$nulls":7},0,{"$nulls":13},{"$f":"IF(OR(SUMPRODUCT(--(E54883=$O$1:$O$542))>0,E54883=0),0,1)","v":0}]
[{"$nulls":4},0,{"$nulls":7},0,{"$nulls":13},{"$f":"IF(OR(SUMPRODUCT(--(E54913=$O$1:$O$542))>0,E54913=0),0,1)","v":0}]
[{"$nulls":4},0,{"$nulls":7},0,{"$nulls":13},{"$f":"IF(OR(SUMPRODUCT(--(E54991=$O$1:$O$542))>0,E54991=0),0,1)","v":0}]
[{"$nulls":4},0,{"$nulls":7},0,{"$nulls":13},{"$f":"IF(OR(SUMPRODUCT(--(E55010=$O$1:$O$542))>0,E55010=0),0,1)","v":0}]
[{"$nulls":4},0,{"$nulls":7},0,{"$nulls":13},{"$f":"IF(OR(SUMPRODUCT(--(E55082=$O$1:$O$542))>0,E55082=0),0,1)","v":0}]
[{"$nulls":4},0,{"$nulls":7},0,{"$nulls":13},{"$f":"IF(OR(SUMPRODUCT(--(E55116=$O$1:$O$542))>0,E55116=0),0,1)","v":0}]
[{"$nulls":4},0,{"$nulls":7},0,{"$nulls":13},{"$f":"IF(OR(SUMPRODUCT(--(E55184=$O$1:$O$542))>0,E55184=0),0,1)","v":0}]
[{"$nulls":4},0,{"$nulls":7},0,{"$nulls":13},{"$f":"IF(OR(SUMPRODUCT(--(E55213=$O$1:$O$542))>0,E55213=0),0,1)","v":0}]
[{"$nulls":4},0,{"$nulls":7},0,{"$nulls":13},{"$f":"IF(OR(SUMPRODUCT(--(E55249=$O$1:$O$542))>0,E55249=0),0,1)","v":0}]
[{"$nulls":4},0,{"$nulls":7},0,{"$nulls":13},{"$f":"IF(OR(SUMPRODUCT(--(E55309=$O$1:$O$542))>0,E55309=0),0,1)","v":0}]
[{"$nulls":4},0,{"$nulls":7},0,{"$nulls":13},{"$f":"IF(OR(SUMPRODUCT(--(E55338=$O$1:$O$542))>0,E55338=0),0,1)","v":0}]
[{"$nulls":4},0,{"$nulls":7},0,{"$nulls":13},{"$f":"IF(OR(SUMPRODUCT(--(E55406=$O$1:$O$542))>0,E55406=0),0,1)","v":0}]
[{"$nulls":4},0,{"$nulls":7},0,{"$nulls":13},{"$f":"IF(OR(SUMPRODUCT(--(E55448=$O$1:$O$542))>0,E55448=0),0,1)","v":0}]
[{"$nulls":4},0,{"$nulls":7},0,{"$nulls":13},{"$f":"IF(OR(SUMPRODUCT(--(E55502=$O$1:$O$542))>0,E55502=0),0,1)","v":0}]
[{"$nulls":4},0,{"$nulls":7},0,{"$nulls":13},{"$f":"IF(OR(SUMPRODUCT(--(E55531=$O$1:$O$542))>0,E55531=0),0,1)","v":0}]
[{"$nulls":4},0,{"$nulls":7},0,{"$nulls":13},{"$f":"IF(OR(SUMPRODUCT(--(E55609=$O$1:$O$542))>0,E55609=0),0,1)","v":0}]
[{"$nulls":4},0,{"$nulls":7},0,{"$nulls":13},{"$f":"IF(OR(SUMPRODUCT(--(E55663=$O$1:$O$542))>0,E55663=0),0,1)","v":0}]
[{"$nulls":4},0,{"$nulls":7},0,{"$nulls":13},{"$f":"IF(OR(SUMPRODUCT(--(E55705=$O$1:$O$542))>0,E55705=0),0,1)","v":0}]
[{"$nulls":4},0,{"$nulls":7},0,{"$nulls":13},{"$f":"IF(OR(SUMPRODUCT(--(E55734=$O$1:$O$542))>0,E55734=0),0,1)","v":0}]
[{"$nulls":4},0,{"$nulls":7},0,{"$nulls":13},{"$f":"IF(OR(SUMPRODUCT(--(E55802=$O$1:$O$542))>0,E55802=0),0,1)","v":0}]
[{"$nulls":4},0,{"$nulls":7},0,{"$nulls":13},{"$f":"IF(OR(SUMPRODUCT(--(E55862=$O$1:$O$542))>0,E55862=0),0,1)","v":0}]
[{"$nulls":4},0,{"$nulls":7},0,{"$nulls":13},{"$f":"IF(OR(SUMPRODUCT(--(E55898=$O$1:$O$542))>0,E55898=0),0,1)","v":0}]
[{"$nulls":4},0,{"$nulls":7},0,{"$nulls":13},{"$f":"IF(OR(SUMPRODUCT(--(E55927=$O$1:$O$542))>0,E55927=0),0,1)","v":0}]
[{"$nulls":4},0,{"$nulls":7},0,{"$nulls":13},{"$f":"IF(OR(SUMPRODUCT(--(E56005=$O$1:$O$542))>0,E56005=0),0,1)","v":0}]
[{"$nulls":4},0,{"$nulls":7},0,{"$nulls":13},{"$f":"IF(OR(SUMPRODUCT(--(E56029=$O$1:$O$542))>0,E56029=0),0,1)","v":0}]
[{"$nulls":4},0,{"$nulls":7},0,{"$nulls":13},{"$f":"IF(OR(SUMPRODUCT(--(E56101=$O$1:$O$542))>0,E56101=0),0,1)","v":0}]
[{"$nulls":4},0,{"$nulls":7},0,{"$nulls":13},{"$f":"IF(OR(SUMPRODUCT(--(E56130=$O$1:$O$542))>0,E56130=0),0,1)","v":0}]
[{"$nulls":4},0,{"$nulls":7},0,{"$nulls":13},{"$f":"IF(OR(SUMPRODUCT(--(E56198=$O$1:$O$542))>0,E56198=0),0,1)","v":0}]
[{"$nulls":4},0,{"$nulls":7},0,{"$nulls":13},{"$f":"IF(OR(SUMPRODUCT(--(E56228=$O$1:$O$542))>0,E56228=0),0,1)","v":0}]
[{"$nulls":4},0,{"$nulls":7},0,{"$nulls":13},{"$f":"IF(OR(SUMPRODUCT(--(E56294=$O$1:$O$542))>0,E56294=0),0,1)","v":0}]
[{"$nulls":4},{"$f":"IF(AND(F56323<>\"\",F56323=G56323),\"ERROR\",IF(AND(F56323<>\"\",F56323<>G56323),F56323,G56323))","v":0},{"$nulls":7},0,{"$nulls":13},{"$f":"IF(OR(SUMPRODUCT(--(E56323=$O$1:$O$542))>0,E56323=0),0,1)","v":0}]
[{"$nulls":4},0,{"$nulls":7},0,{"$nulls":13},{"$f":"IF(OR(SUMPRODUCT(--(E56401=$O$1:$O$542))>0,E56401=0),0,1)","v":0}]
[{"$nulls":4},0,{"$nulls":7},0,{"$nulls":13},{"$f":"IF(OR(SUMPRODUCT(--(E56443=$O$1:$O$542))>0,E56443=0),0,1)","v":0}]
[{"$nulls":4},0,{"$nulls":7},0,{"$nulls":13},{"$f":"IF(OR(SUMPRODUCT(--(E56497=$O$1:$O$542))>0,E56497=0),0,1)","v":0}]
[{"$nulls":4},0,{"$nulls":7},{"$f":"IF(L56516<>\"\",L56516,K56516)","v":0},{"$nulls":13},{"$f":"IF(OR(SUMPRODUCT(--(E56516=$O$1:$O$542))>0,E56516=0),0,1)","v":0}]
[{"$nulls":4},0,{"$nulls":7},0,{"$nulls":13},{"$f":"IF(OR(SUMPRODUCT(--(E56594=$O$1:$O$542))>0,E56594=0),0,1)","v":0}]
[{"$nulls":4},0,{"$nulls":7},0,{"$nulls":13},{"$f":"IF(OR(SUMPRODUCT(--(E56642=$O$1:$O$542))>0,E56642=0),0,1)","v":0}]
[{"$nulls":4},0,{"$nulls":7},0,{"$nulls":13},{"$f":"IF(OR(SUMPRODUCT(--(E56690=$O$1:$O$542))>0,E56690=0),0,1)","v":0}]
[{"$nulls":4},0,{"$nulls":7},0,{"$nulls":13},{"$f":"IF(OR(SUMPRODUCT(--(E56719=$O$1:$O$542))>0,E56719=0),0,1)","v":0}]
[{"$nulls":4},0,{"$nulls":7},0,{"$nulls":13},{"$f":"IF(OR(SUMPRODUCT(--(E56748=$O$1:$O$542))>0,E56748=0),0,1)","v":0}]
[{"$nulls":4},0,{"$nulls":7},0,{"$nulls":13},{"$f":"IF(OR(SUMPRODUCT(--(E56809=$O$1:$O$542))>0,E56809=0),0,1)","v":0}]
[{"$nulls":4},0,{"$nulls":7},0,{"$nulls":13},{"$f":"IF(OR(SUMPRODUCT(--(E56844=$O$1:$O$542))>0,E56844=0),0,1)","v":0}]
[{"$nulls":4},0,{"$nulls":7},0,{"$nulls":13},{"$f":"IF(OR(SUMPRODUCT(--(E56912=$O$1:$O$542))>0,E56912=0),0,1)","v":0}]
[{"$nulls":4},0,{"$nulls":7},0,{"$nulls":13},{"$f":"IF(OR(SUMPRODUCT(--(E56990=$O$1:$O$542))>0,E56990=0),0,1)","v":0}]
[{"$nulls":4},0,{"$nulls":7},0,{"$nulls":13},{"$f":"IF(OR(SUMPRODUCT(--(E57008=$O$1:$O$542))>0,E57008=0),0,1)","v":0}]
[{"$nulls":4},0,{"$nulls":7},0,{"$nulls":13},{"$f":"IF(OR(SUMPRODUCT(--(E57086=$O$1:$O$542))>0,E57086=0),0,1)","v":0}]
[{"$nulls":4},0,{"$nulls":7},0,{"$nulls":13},{"$f":"IF(OR(SUMPRODUCT(--(E57115=$O$1:$O$542))>0,E57115=0),0,1)","v":0}]
[{"$nulls":4},0,{"$nulls":7},0,{"$nulls":13},{"$f":"IF(OR(SUMPRODUCT(--(E57183=$O$1:$O$542))>0,E57183=0),0,1)","v":0}]
[{"$nulls":4},0,{"$nulls":7},0,{"$nulls":13},{"$f":"IF(OR(SUMPRODUCT(--(E57223=$O$1:$O$542))>0,E57223=0),0,1)","v":0}]
[{"$nulls":4},0,{"$nulls":7},0,{"$nulls":13},{"$f":"IF(OR(SUMPRODUCT(--(E57240=$O$1:$O$542))>0,E57240=0),0,1)","v":0}]
[{"$nulls":4},0,{"$nulls":7},0,{"$nulls":13},{"$f":"IF(OR(SUMPRODUCT(--(E57308=$O$1:$O$542))>0,E57308=0),0,1)","v":0}]
[{"$nulls":4},0,{"$nulls":7},0,{"$nulls":13},{"$f":"IF(OR(SUMPRODUCT(--(E57337=$O$1:$O$542))>0,E57337=0),0,1)","v":0}]
[{"$nulls":4},0,{"$nulls":7},0,{"$nulls":13},{"$f":"IF(OR(SUMPRODUCT(--(E57422=$O$1:$O$542))>0,E57422=0),0,1)","v":0}]
[{"$nulls":4},0,{"$nulls":7},0,{"$nulls":13},{"$f":"IF(OR(SUMPRODUCT(--(E57433=$O$1:$O$542))>0,E57433=0),0,1)","v":0}]
[{"$nulls":4},0,{"$nulls":7},0,{"$nulls":13},{"$f":"IF(OR(SUMPRODUCT(--(E57511=$O$1:$O$542))>0,E57511=0),0,1)","v":0}]
[{"$nulls":4},0,{"$nulls":7},0,{"$nulls":13},{"$f":"IF(OR(SUMPRODUCT(--(E57530=$O$1:$O$542))>0,E57530=0),0,1)","v":0}]
[{"$nulls":4},0,{"$nulls":7},0,{"$nulls":13},{"$f":"IF(OR(SUMPRODUCT(--(E57589=$O$1:$O$542))>0,E57589=0),0,1)","v":0}]
[{"$nulls":4},0,{"$nulls":7},0,{"$nulls":13},{"$f":"IF(OR(SUMPRODUCT(--(E57636=$O$1:$O$542))>0,E57636=0),0,1)","v":0}]
[{"$nulls":4},0,{"$nulls":7},0,{"$nulls":13},{"$f":"IF(OR(SUMPRODUCT(--(E57704=$O$1:$O$542))>0,E57704=0),0,1)","v":0}]
[{"$nulls":4},0,{"$nulls":7},0,{"$nulls":13},{"$f":"IF(OR(SUMPRODUCT(--(E57733=$O$1:$O$542))>0,E57733=0),0,1)","v":0}]
[{"$nulls":4},0,{"$nulls":7},0,{"$nulls":13},{"$f":"IF(OR(SUMPRODUCT(--(E57788=$O$1:$O$542))>0,E57788=0),0,1)","v":0}]
[{"$nulls":4},0,{"$nulls":7},0,{"$nulls":13},{"$f":"IF(OR(SUMPRODUCT(--(E57829=$O$1:$O$542))>0,E57829=0),0,1)","v":0}]
[{"$nulls":4},0,{"$nulls":7},0,{"$nulls":13},{"$f":"IF(OR(SUMPRODUCT(--(E57907=$O$1:$O$542))>0,E57907=0),0,1)","v":0}]
[{"$nulls":4},0,{"$nulls":7},0,{"$nulls":13},{"$f":"IF(OR(SUMPRODUCT(--(E57926=$O$1:$O$542))>0,E57926=0),0,1)","v":0}]
[{"$nulls":4},0,{"$nulls":7},0,{"$nulls":13},{"$f":"IF(OR(SUMPRODUCT(--(E58003=$O$1:$O$542))>0,E58003=0),0,1)","v":0}]
[{"$nulls":4},0,{"$nulls":7},0,{"$nulls":13},{"$f":"IF(OR(SUMPRODUCT(--(E58032=$O$1:$O$542))>0,E58032=0),0,1)","v":0}]
[{"$nulls":4},0,{"$nulls":7},0,{"$nulls":13},{"$f":"IF(OR(SUMPRODUCT(--(E58100=$O$1:$O$542))>0,E58100=0),0,1)","v":0}]
[{"$nulls":4},0,{"$nulls":7},0,{"$nulls":13},{"$f":"IF(OR(SUMPRODUCT(--(E58129=$O$1:$O$542))>0,E58129=0),0,1)","v":0}]
[{"$nulls":4},0,{"$nulls":7},0,{"$nulls":13},{"$f":"IF(OR(SUMPRODUCT(--(E58170=$O$1:$O$542))>0,E58170=0),0,1)","v":0}]
[{"$nulls":4},0,{"$nulls":7},0,{"$nulls":13},{"$f":"IF(OR(SUMPRODUCT(--(E58225=$O$1:$O$542))>0,E58225=0),0,1)","v":0}]
[{"$nulls":4},0,{"$nulls":7},0,{"$nulls":13},{"$f":"IF(OR(SUMPRODUCT(--(E58303=$O$1:$O$542))>0,E58303=0),0,1)","v":0}]
[{"$nulls":4},0,{"$nulls":7},0,{"$nulls":13},{"$f":"IF(OR(SUMPRODUCT(--(E58322=$O$1:$O$542))>0,E58322=0),0,1)","v":0}]
[{"$nulls":4},0,{"$nulls":7},0,{"$nulls":13},{"$f":"IF(OR(SUMPRODUCT(--(E58369=$O$1:$O$542))>0,E58369=0),0,1)","v":0}]
[{"$nulls":4},0,{"$nulls":7},0,{"$nulls":13},{"$f":"IF(OR(SUMPRODUCT(--(E58428=$O$1:$O$542))>0,E58428=0),0,1)","v":0}]
[{"$nulls":4},0,{"$nulls":7},0,{"$nulls":13},{"$f":"IF(OR(SUMPRODUCT(--(E58496=$O$1:$O$542))>0,E58496=0),0,1)","v":0}]
[{"$nulls":4},0,{"$nulls":7},0,{"$nulls":13},{"$f":"IF(OR(SUMPRODUCT(--(E58525=$O$1:$O$542))>0,E58525=0),0,1)","v":0}]
[{"$nulls":4},0,{"$nulls":7},0,{"$nulls":13},{"$f":"IF(OR(SUMPRODUCT(--(E58584=$O$1:$O$542))>0,E58584=0),0,1)","v":0}]
[{"$nulls":4},0,{"$nulls":7},0,{"$nulls":13},{"$f":"IF(OR(SUMPRODUCT(--(E58621=$O$1:$O$542))>0,E58621=0),0,1)","v":0}]
[{"$nulls":4},0,{"$nulls":7},0,{"$nulls":13},{"$f":"IF(OR(SUMPRODUCT(--(E58650=$O$1:$O$542))>0,E58650=0),0,1)","v":0}]
[{"$nulls":4},0,{"$nulls":7},0,{"$nulls":13},{"$f":"IF(OR(SUMPRODUCT(--(E58718=$O$1:$O$542))>0,E58718=0),0,1)","v":0}]
[{"$nulls":4},0,{"$nulls":7},0,{"$nulls":13},{"$f":"IF(OR(SUMPRODUCT(--(E58783=$O$1:$O$542))>0,E58783=0),0,1)","v":0}]
[{"$nulls":4},0,{"$nulls":7},0,{"$nulls":13},{"$f":"IF(OR(SUMPRODUCT(--(E58824=$O$1:$O$542))>0,E58824=0),0,1)","v":0}]
[{"$nulls":4},0,{"$nulls":7},0,{"$nulls":13},{"$f":"IF(OR(SUMPRODUCT(--(E58843=$O$1:$O$542))>0,E58843=0),0,1)","v":0}]
[{"$nulls":4},0,{"$nulls":7},0,{"$nulls":13},{"$f":"IF(OR(SUMPRODUCT(--(E58921=$O$1:$O$542))>0,E58921=0),0,1)","v":0}]
[{"$nulls":4},0,{"$nulls":7},0,{"$nulls":13},{"$f":"IF(OR(SUMPRODUCT(--(E58950=$O$1:$O$542))>0,E58950=0),0,1)","v":0}]
[{"$nulls":4},0,{"$nulls":7},0,{"$nulls":13},{"$f":"IF(OR(SUMPRODUCT(--(E59017=$O$1:$O$542))>0,E59017=0),0,1)","v":0}]
[{"$nulls":4},0,{"$nulls":7},0,{"$nulls":13},{"$f":"IF(OR(SUMPRODUCT(--(E59046=$O$1:$O$542))>0,E59046=0),0,1)","v":0}]
[{"$nulls":4},0,{"$nulls":7},0,{"$nulls":13},{"$f":"IF(OR(SUMPRODUCT(--(E59114=$O$1:$O$542))>0,E59114=0),0,1)","v":0}]
[{"$nulls":4},0,{"$nulls":7},0,{"$nulls":13},{"$f":"IF(OR(SUMPRODUCT(--(E59149=$O$1:$O$542))>0,E59149=0),0,1)","v":0}]
[{"$nulls":4},0,{"$nulls":7},0,{"$nulls":13},{"$f":"IF(OR(SUMPRODUCT(--(E59210=$O$1:$O$542))>0,E59210=0),0,1)","v":0}]
[{"$nulls":4},0,{"$nulls":7},0,{"$nulls":13},{"$f":"IF(OR(SUMPRODUCT(--(E59239=$O$1:$O$542))>0,E59239=0),0,1)","v":0}]
[{"$nulls":4},0,{"$nulls":7},0,{"$nulls":13},{"$f":"IF(OR(SUMPRODUCT(--(E59317=$O$1:$O$542))>0,E59317=0),0,1)","v":0}]
[{"$nulls":4},0,{"$nulls":7},0,{"$nulls":13},{"$f":"IF(OR(SUMPRODUCT(--(E59364=$O$1:$O$542))>0,E59364=0),0,1)","v":0}]
[{"$nulls":4},0,{"$nulls":7},0,{"$nulls":13},{"$f":"IF(OR(SUMPRODUCT(--(E59413=$O$1:$O$542))>0,E59413=0),0,1)","v":0}]
[{"$nulls":4},0,{"$nulls":7},0,{"$nulls":13},{"$f":"IF(OR(SUMPRODUCT(--(E59442=$O$1:$O$542))>0,E59442=0),0,1)","v":0}]
[{"$nulls":4},0,{"$nulls":7},0,{"$nulls":13},{"$f":"IF(OR(SUMPRODUCT(--(E59510=$O$1:$O$542))>0,E59510=0),0,1)","v":0}]
[{"$nulls":4},0,{"$nulls":7},0,{"$nulls":13},{"$f":"IF(OR(SUMPRODUCT(--(E59563=$O$1:$O$542))>0,E59563=0),0,1)","v":0}]
[{"$nulls":4},0,{"$nulls":7},0,{"$nulls":13},{"$f":"IF(OR(SUMPRODUCT(--(E59606=$O$1:$O$542))>0,E59606=0),0,1)","v":0}]
[{"$nulls":4},0,{"$nulls":7},0,{"$nulls":13},{"$f":"IF(OR(SUMPRODUCT(--(E59635=$O$1:$O$542))>0,E59635=0),0,1)","v":0}]
[{"$nulls":4},0,{"$nulls":7},0,{"$nulls":13},{"$f":"IF(OR(SUMPRODUCT(--(E59713=$O$1:$O$542))>0,E59713=0),0,1)","v":0}]
[{"$nulls":4},0,{"$nulls":7},0,{"$nulls":13},{"$f":"IF(OR(SUMPRODUCT(--(E59730=$O$1:$O$542))>0,E59730=0),0,1)","v":0}]
[{"$nulls":4},0,{"$nulls":7},0,{"$nulls":13},{"$f":"IF(OR(SUMPRODUCT(--(E59809=$O$1:$O$542))>0,E59809=0),0,1)","v":0}]
[{"$nulls":4},0,{"$nulls":7},0,{"$nulls":13},{"$f":"IF(OR(SUMPRODUCT(--(E59828=$O$1:$O$542))>0,E59828=0),0,1)","v":0}]
[{"$nulls":4},0,{"$nulls":7},0,{"$nulls":13},{"$f":"IF(OR(SUMPRODUCT(--(E59906=$O$1:$O$542))>0,E59906=0),0,1)","v":0}]
[{"$nulls":4},0,{"$nulls":7},0,{"$nulls":13},{"$f":"IF(OR(SUMPRODUCT(--(E59929=$O$1:$O$542))>0,E59929=0),0,1)","v":0}]
[{"$nulls":4},0,{"$nulls":7},0,{"$nulls":13},{"$f":"IF(OR(SUMPRODUCT(--(E60002=$O$1:$O$542))>0,E60002=0),0,1)","v":0}]
[{"$nulls":4},0,{"$nulls":7},0,{"$nulls":13},{"$f":"IF(OR(SUMPRODUCT(--(E60031=$O$1:$O$542))>0,E60031=0),0,1)","v":0}]
[{"$nulls":4},0,{"$nulls":7},0,{"$nulls":13},{"$f":"IF(OR(SUMPRODUCT(--(E60109=$O$1:$O$542))>0,E60109=0),0,1)","v":0}]
[{"$nulls":4},0,{"$nulls":7},0,{"$nulls":13},{"$f":"IF(OR(SUMPRODUCT(--(E60144=$O$1:$O$542))>0,E60144=0),0,1)","v":0}]
[{"$nulls":4},0,{"$nulls":7},0,{"$nulls":13},{"$f":"IF(OR(SUMPRODUCT(--(E60205=$O$1:$O$542))>0,E60205=0),0,1)","v":0}]
[{"$nulls":4},0,{"$nulls":7},0,{"$nulls":13},{"$f":"IF(OR(SUMPRODUCT(--(E60224=$O$1:$O$542))>0,E60224=0),0,1)","v":0}]
[{"$nulls":4},0,{"$nulls":7},0,{"$nulls":13},{"$f":"IF(OR(SUMPRODUCT(--(E60302=$O$1:$O$542))>0,E60302=0),0,1)","v":0}]
[{"$nulls":4},0,{"$nulls":7},0,{"$nulls":13},{"$f":"IF(OR(SUMPRODUCT(--(E60343=$O$1:$O$542))>0,E60343=0),0,1)","v":0}]
[{"$nulls":4},0,{"$nulls":7},0,{"$nulls":13},{"$f":"IF(OR(SUMPRODUCT(--(E60398=$O$1:$O$542))>0,E60398=0),0,1)","v":0}]
[{"$nulls":4},0,{"$nulls":7},0,{"$nulls":13},{"$f":"IF(OR(SUMPRODUCT(--(E60427=$O$1:$O$542))>0,E60427=0),0,1)","v":0}]
[{"$nulls":4},0,{"$nulls":7},0,{"$nulls":13},{"$f":"IF(OR(SUMPRODUCT(--(E60456=$O$1:$O$542))>0,E60456=0),0,1)","v":0}]
[{"$nulls":4},0,{"$nulls":7},0,{"$nulls":13},{"$f":"IF(OR(SUMPRODUCT(--(E60510=$O$1:$O$542))>0,E60510=0),0,1)","v":0}]
[{"$nulls":4},0,{"$nulls":7},0,{"$nulls":13},{"$f":"IF(OR(SUMPRODUCT(--(E60552=$O$1:$O$542))>0,E60552=0),0,1)","v":0}]
[{"$nulls":4},0,{"$nulls":7},0,{"$nulls":13},{"$f":"IF(OR(SUMPRODUCT(--(E60620=$O$1:$O$542))>0,E60620=0),0,1)","v":0}]
[{"$nulls":4},0,{"$nulls":7},0,{"$nulls":13},{"$f":"IF(OR(SUMPRODUCT(--(E60649=$O$1:$O$542))>0,E60649=0),0,1)","v":0}]
[{"$nulls":4},0,{"$nulls":7},0,{"$nulls":13},{"$f":"IF(OR(SUMPRODUCT(--(E60709=$O$1:$O$542))>0,E60709=0),0,1)","v":0}]
[{"$nulls":4},0,{"$nulls":7},0,{"$nulls":13},{"$f":"IF(OR(SUMPRODUCT(--(E60745=$O$1:$O$542))>0,E60745=0),0,1)","v":0}]
[{"$nulls":4},0,{"$nulls":7},0,{"$nulls":13},{"$f":"IF(OR(SUMPRODUCT(--(E60823=$O$1:$O$542))>0,E60823=0),0,1)","v":0}]
[{"$nulls":4},0,{"$nulls":7},0,{"$nulls":13},{"$f":"IF(OR(SUMPRODUCT(--(E60842=$O$1:$O$542))>0,E60842=0),0,1)","v":0}]
[{"$nulls":4},0,{"$nulls":7},0,{"$nulls":13},{"$f":"IF(OR(SUMPRODUCT(--(E60924=$O$1:$O$542))>0,E60924=0),0,1)","v":0}]
[{"$nulls":4},0,{"$nulls":7},0,{"$nulls":13},{"$f":"IF(OR(SUMPRODUCT(--(E60948=$O$1:$O$542))>0,E60948=0),0,1)","v":0}]
[{"$nulls":4},0,{"$nulls":7},0,{"$nulls":13},{"$f":"IF(OR(SUMPRODUCT(--(E61016=$O$1:$O$542))>0,E61016=0),0,1)","v":0}]
[{"$nulls":4},0,{"$nulls":7},0,{"$nulls":13},{"$f":"IF(OR(SUMPRODUCT(--(E61045=$O$1:$O$542))>0,E61045=0),0,1)","v":0}]
[{"$nulls":4},{"$f":"IF(AND(F61123<>\"\",F61123=G61123),\"ERROR\",IF(AND(F61123<>\"\",F61123<>G61123),F61123,G61123))","v":0},{"$nulls":7},0,{"$nulls":13},{"$f":"IF(OR(SUMPRODUCT(--(E61123=$O$1:$O$542))>0,E61123=0),0,1)","v":0}]
[{"$nulls":4},0,{"$nulls":7},0,{"$nulls":13},{"$f":"IF(OR(SUMPRODUCT(--(E61141=$O$1:$O$542))>0,E61141=0),0,1)","v":0}]
[{"$nulls":4},0,{"$nulls":7},0,{"$nulls":13},{"$f":"IF(OR(SUMPRODUCT(--(E61219=$O$1:$O$542))>0,E61219=0),0,1)","v":0}]
[{"$nulls":4},0,{"$nulls":7},0,{"$nulls":13},{"$f":"IF(OR(SUMPRODUCT(--(E61238=$O$1:$O$542))>0,E61238=0),0,1)","v":0}]
[{"$nulls":4},0,{"$nulls":7},0,{"$nulls":13},{"$f":"IF(OR(SUMPRODUCT(--(E61290=$O$1:$O$542))>0,E61290=0),0,1)","v":0}]
[{"$nulls":4},0,{"$nulls":7},0,{"$nulls":13},{"$f":"IF(OR(SUMPRODUCT(--(E61344=$O$1:$O$542))>0,E61344=0),0,1)","v":0}]
[{"$nulls":4},0,{"$nulls":7},0,{"$nulls":13},{"$f":"IF(OR(SUMPRODUCT(--(E61412=$O$1:$O$542))>0,E61412=0),0,1)","v":0}]
[{"$nulls":4},0,{"$nulls":7},0,{"$nulls":13},{"$f":"IF(OR(SUMPRODUCT(--(E61441=$O$1:$O$542))>0,E61441=0),0,1)","v":0}]
[{"$nulls":4},0,{"$nulls":7},0,{"$nulls":13},{"$f":"IF(OR(SUMPRODUCT(--(E61489=$O$1:$O$542))>0,E61489=0),0,1)","v":0}]
[{"$nulls":4},0,{"$nulls":7},0,{"$nulls":13},{"$f":"IF(OR(SUMPRODUCT(--(E61537=$O$1:$O$542))>0,E61537=0),0,1)","v":0}]
[{"$nulls":4},0,{"$nulls":7},0,{"$nulls":13},{"$f":"IF(OR(SUMPRODUCT(--(E61615=$O$1:$O$542))>0,E61615=0),0,1)","v":0}]
[{"$nulls":4},0,{"$nulls":7},0,{"$nulls":13},{"$f":"IF(OR(SUMPRODUCT(--(E61634=$O$1:$O$542))>0,E61634=0),0,1)","v":0}]
[{"$nulls":4},0,{"$nulls":7},0,{"$nulls":13},{"$f":"IF(OR(SUMPRODUCT(--(E61704=$O$1:$O$542))>0,E61704=0),0,1)","v":0}]
[{"$nulls":4},0,{"$nulls":7},0,{"$nulls":13},{"$f":"IF(OR(SUMPRODUCT(--(E61740=$O$1:$O$542))>0,E61740=0),0,1)","v":0}]
[{"$nulls":4},0,{"$nulls":7},0,{"$nulls":13},{"$f":"IF(OR(SUMPRODUCT(--(E61808=$O$1:$O$542))>0,E61808=0),0,1)","v":0}]
[{"$nulls":4},0,{"$nulls":7},0,{"$nulls":13},{"$f":"IF(OR(SUMPRODUCT(--(E61837=$O$1:$O$542))>0,E61837=0),0,1)","v":0}]
[{"$nulls":4},0,{"$nulls":7},0,{"$nulls":13},{"$f":"IF(OR(SUMPRODUCT(--(E61871=$O$1:$O$542))>0,E61871=0),0,1)","v":0}]
[{"$nulls":4},0,{"$nulls":7},0,{"$nulls":13},{"$f":"IF(OR(SUMPRODUCT(--(E61933=$O$1:$O$542))>0,E61933=0),0,1)","v":0}]
[{"$nulls":4},0,{"$nulls":7},0,{"$nulls":13},{"$f":"IF(OR(SUMPRODUCT(--(E62011=$O$1:$O$542))>0,E62011=0),0,1)","v":0}]
[{"$nulls":4},0,{"$nulls":7},0,{"$nulls":13},{"$f":"IF(OR(SUMPRODUCT(--(E62030=$O$1:$O$542))>0,E62030=0),0,1)","v":0}]
[{"$nulls":4},0,{"$nulls":7},0,{"$nulls":13},{"$f":"IF(OR(SUMPRODUCT(--(E62070=$O$1:$O$542))>0,E62070=0),0,1)","v":0}]
[{"$nulls":4},0,{"$nulls":7},0,{"$nulls":13},{"$f":"IF(OR(SUMPRODUCT(--(E62136=$O$1:$O$542))>0,E62136=0),0,1)","v":0}]
[{"$nulls":4},0,{"$nulls":7},0,{"$nulls":13},{"$f":"IF(OR(SUMPRODUCT(--(E62204=$O$1:$O$542))>0,E62204=0),0,1)","v":0}]
[{"$nulls":4},0,{"$nulls":7},0,{"$nulls":13},{"$f":"IF(OR(SUMPRODUCT(--(E62233=$O$1:$O$542))>0,E62233=0),0,1)","v":0}]
[{"$nulls":4},0,{"$nulls":7},0,{"$nulls":13},{"$f":"IF(OR(SUMPRODUCT(--(E62285=$O$1:$O$542))>0,E62285=0),0,1)","v":0}]
[{"$nulls":4},0,{"$nulls":7},0,{"$nulls":13},{"$f":"IF(OR(SUMPRODUCT(--(E62329=$O$1:$O$542))>0,E62329=0),0,1)","v":0}]
[{"$nulls":4},0,{"$nulls":7},0,{"$nulls":13},{"$f":"IF(OR(SUMPRODUCT(--(E62358=$O$1:$O$542))>0,E62358=0),0,1)","v":0}]
[{"$nulls":4},0,{"$nulls":7},0,{"$nulls":13},{"$f":"IF(OR(SUMPRODUCT(--(E62426=$O$1:$O$542))>0,E62426=0),0,1)","v":0}]
[{"$nulls":4},0,{"$nulls":7},0,{"$nulls":13},{"$f":"IF(OR(SUMPRODUCT(--(E62484=$O$1:$O$542))>0,E62484=0),0,1)","v":0}]
[{"$nulls":4},0,{"$nulls":7},0,{"$nulls":13},{"$f":"IF(OR(SUMPRODUCT(--(E62522=$O$1:$O$542))>0,E62522=0),0,1)","v":0}]
[{"$nulls":4},0,{"$nulls":7},0,{"$nulls":13},{"$f":"IF(OR(SUMPRODUCT(--(E62551=$O$1:$O$542))>0,E62551=0),0,1)","v":0}]
[{"$nulls":4},0,{"$nulls":7},0,{"$nulls":13},{"$f":"IF(OR(SUMPRODUCT(--(E62629=$O$1:$O$542))>0,E62629=0),0,1)","v":0}]
[{"$nulls":4},0,{"$nulls":7},0,{"$nulls":13},{"$f":"IF(OR(SUMPRODUCT(--(E62651=$O$1:$O$542))>0,E62651=0),0,1)","v":0}]
[{"$nulls":4},0,{"$nulls":7},0,{"$nulls":13},{"$f":"IF(OR(SUMPRODUCT(--(E62725=$O$1:$O$542))>0,E62725=0),0,1)","v":0}]
[{"$nulls":4},0,{"$nulls":7},0,{"$nulls":13},{"$f":"IF(OR(SUMPRODUCT(--(E62754=$O$1:$O$542))>0,E62754=0),0,1)","v":0}]
[{"$nulls":4},0,{"$nulls":7},0,{"$nulls":13},{"$f":"IF(OR(SUMPRODUCT(--(E62822=$O$1:$O$542))>0,E62822=0),0,1)","v":0}]
[{"$nulls":4},0,{"$nulls":7},0,{"$nulls":13},{"$f":"IF(OR(SUMPRODUCT(--(E62850=$O$1:$O$542))>0,E62850=0),0,1)","v":0}]
[{"$nulls":4},0,{"$nulls":7},0,{"$nulls":13},{"$f":"IF(OR(SUMPRODUCT(--(E62918=$O$1:$O$542))>0,E62918=0),0,1)","v":0}]
[{"$nulls":4},0,{"$nulls":7},0,{"$nulls":13},{"$f":"IF(OR(SUMPRODUCT(--(E62947=$O$1:$O$542))>0,E62947=0),0,1)","v":0}]
[{"$nulls":4},0,{"$nulls":7},0,{"$nulls":13},{"$f":"IF(OR(SUMPRODUCT(--(E63025=$O$1:$O$542))>0,E63025=0),0,1)","v":0}]
[{"$nulls":4},0,{"$nulls":7},0,{"$nulls":13},{"$f":"IF(OR(SUMPRODUCT(--(E63065=$O$1:$O$542))>0,E63065=0),0,1)","v":0}]
[{"$nulls":4},0,{"$nulls":7},0,{"$nulls":13},{"$f":"IF(OR(SUMPRODUCT(--(E63121=$O$1:$O$542))>0,E63121=0),0,1)","v":0}]
[{"$nulls":4},0,{"$nulls":7},0,{"$nulls":13},{"$f":"IF(OR(SUMPRODUCT(--(E63150=$O$1:$O$542))>0,E63150=0),0,1)","v":0}]
[{"$nulls":4},0,{"$nulls":7},0,{"$nulls":13},{"$f":"IF(OR(SUMPRODUCT(--(E63218=$O$1:$O$542))>0,E63218=0),0,1)","v":0}]
[{"$nulls":4},0,{"$nulls":7},0,{"$nulls":13},{"$f":"IF(OR(SUMPRODUCT(--(E63264=$O$1:$O$542))>0,E63264=0),0,1)","v":0}]
[{"$nulls":4},0,{"$nulls":7},0,{"$nulls":13},{"$f":"IF(OR(SUMPRODUCT(--(E63314=$O$1:$O$542))>0,E63314=0),0,1)","v":0}]
[{"$nulls":4},0,{"$nulls":7},0,{"$nulls":13},{"$f":"IF(OR(SUMPRODUCT(--(E63343=$O$1:$O$542))>0,E63343=0),0,1)","v":0}]
[{"$nulls":4},0,{"$nulls":7},0,{"$nulls":13},{"$f":"IF(OR(SUMPRODUCT(--(E63421=$O$1:$O$542))>0,E63421=0),0,1)","v":0}]
[{"$nulls":4},0,{"$nulls":7},0,{"$nulls":13},{"$f":"IF(OR(SUMPRODUCT(--(E63431=$O$1:$O$542))>0,E63431=0),0,1)","v":0}]
[{"$nulls":4},0,{"$nulls":7},0,{"$nulls":13},{"$f":"IF(OR(SUMPRODUCT(--(E63517=$O$1:$O$542))>0,E63517=0),0,1)","v":0}]
[{"$nulls":4},0,{"$nulls":7},0,{"$nulls":13},{"$f":"IF(OR(SUMPRODUCT(--(E63536=$O$1:$O$542))>0,E63536=0),0,1)","v":0}]
[{"$nulls":4},0,{"$nulls":7},0,{"$nulls":13},{"$f":"IF(OR(SUMPRODUCT(--(E63614=$O$1:$O$542))>0,E63614=0),0,1)","v":0}]
[{"$nulls":4},0,{"$nulls":7},0,{"$nulls":13},{"$f":"IF(OR(SUMPRODUCT(--(E63630=$O$1:$O$542))>0,E63630=0),0,1)","v":0}]
[{"$nulls":4},0,{"$nulls":7},0,{"$nulls":13},{"$f":"IF(OR(SUMPRODUCT(--(E63710=$O$1:$O$542))>0,E63710=0),0,1)","v":0}]
[{"$nulls":4},0,{"$nulls":7},0,{"$nulls":13},{"$f":"IF(OR(SUMPRODUCT(--(E63739=$O$1:$O$542))>0,E63739=0),0,1)","v":0}]
[{"$nulls":4},0,{"$nulls":7},0,{"$nulls":13},{"$f":"IF(OR(SUMPRODUCT(--(E63768=$O$1:$O$542))>0,E63768=0),0,1)","v":0}]
[{"$nulls":4},0,{"$nulls":7},0,{"$nulls":13},{"$f":"IF(OR(SUMPRODUCT(--(E63845=$O$1:$O$542))>0,E63845=0),0,1)","v":0}]
[{"$nulls":4},0,{"$nulls":7},0,{"$nulls":13},{"$f":"IF(OR(SUMPRODUCT(--(E63864=$O$1:$O$542))>0,E63864=0),0,1)","v":0}]
[{"$nulls":4},0,{"$nulls":7},0,{"$nulls":13},{"$f":"IF(OR(SUMPRODUCT(--(E63932=$O$1:$O$542))>0,E63932=0),0,1)","v":0}]
[{"$nulls":4},0,{"$nulls":7},0,{"$nulls":13},{"$f":"IF(OR(SUMPRODUCT(--(E64010=$O$1:$O$542))>0,E64010=0),0,1)","v":0}]
[{"$nulls":4},0,{"$nulls":7},0,{"$nulls":13},{"$f":"IF(OR(SUMPRODUCT(--(E64044=$O$1:$O$542))>0,E64044=0),0,1)","v":0}]
[{"$nulls":4},0,{"$nulls":7},0,{"$nulls":13},{"$f":"IF(OR(SUMPRODUCT(--(E64106=$O$1:$O$542))>0,E64106=0),0,1)","v":0}]
[{"$nulls":4},0,{"$nulls":7},0,{"$nulls":13},{"$f":"IF(OR(SUMPRODUCT(--(E64135=$O$1:$O$542))>0,E64135=0),0,1)","v":0}]
[{"$nulls":4},0,{"$nulls":7},0,{"$nulls":13},{"$f":"IF(OR(SUMPRODUCT(--(E64203=$O$1:$O$542))>0,E64203=0),0,1)","v":0}]
[{"$nulls":4},0,{"$nulls":7},0,{"$nulls":13},{"$f":"IF(OR(SUMPRODUCT(--(E64211=$O$1:$O$542))>0,E64211=0),0,1)","v":0}]
[{"$nulls":4},0,{"$nulls":7},{"$f":"IF(L64260<>\"\",L64260,K64260)","v":0},{"$nulls":13},{"$f":"IF(OR(SUMPRODUCT(--(E64260=$O$1:$O$542))>0,E64260=0),0,1)","v":0}]
[{"$nulls":4},0,{"$nulls":7},0,{"$nulls":13},{"$f":"IF(OR(SUMPRODUCT(--(E64328=$O$1:$O$542))>0,E64328=0),0,1)","v":0}]
[{"$nulls":4},0,{"$nulls":7},0,{"$nulls":13},{"$f":"IF(OR(SUMPRODUCT(--(E64357=$O$1:$O$542))>0,E64357=0),0,1)","v":0}]
[{"$nulls":4},0,{"$nulls":7},0,{"$nulls":13},{"$f":"IF(OR(SUMPRODUCT(--(E64410=$O$1:$O$542))>0,E64410=0),0,1)","v":0}]
[{"$nulls":4},0,{"$nulls":7},0,{"$nulls":13},{"$f":"IF(OR(SUMPRODUCT(--(E64453=$O$1:$O$542))>0,E64453=0),0,1)","v":0}]
[{"$nulls":4},0,{"$nulls":7},0,{"$nulls":13},{"$f":"IF(OR(SUMPRODUCT(--(E64531=$O$1:$O$542))>0,E64531=0),0,1)","v":0}]
[{"$nulls":4},0,{"$nulls":7},0,{"$nulls":13},{"$f":"IF(OR(SUMPRODUCT(--(E64550=$O$1:$O$542))>0,E64550=0),0,1)","v":0}]
[{"$nulls":4},0,{"$nulls":7},0,{"$nulls":13},{"$f":"IF(OR(SUMPRODUCT(--(E64625=$O$1:$O$542))>0,E64625=0),0,1)","v":0}]
[{"$nulls":4},0,{"$nulls":7},0,{"$nulls":13},{"$f":"IF(OR(SUMPRODUCT(--(E64656=$O$1:$O$542))>0,E64656=0),0,1)","v":0}]
[{"$nulls":4},0,{"$nulls":7},0,{"$nulls":13},{"$f":"IF(OR(SUMPRODUCT(--(E64724=$O$1:$O$542))>0,E64724=0),0,1)","v":0}]
[{"$nulls":4},0,{"$nulls":7},0,{"$nulls":13},{"$f":"IF(OR(SUMPRODUCT(--(E64753=$O$1:$O$542))>0,E64753=0),0,1)","v":0}]
[{"$nulls":4},0,{"$nulls":7},0,{"$nulls":13},{"$f":"IF(OR(SUMPRODUCT(--(E64824=$O$1:$O$542))>0,E64824=0),0,1)","v":0}]
[{"$nulls":4},0,{"$nulls":7},0,{"$nulls":13},{"$f":"IF(OR(SUMPRODUCT(--(E64849=$O$1:$O$542))>0,E64849=0),0,1)","v":0}]
[{"$nulls":4},0,{"$nulls":7},0,{"$nulls":13},{"$f":"IF(OR(SUMPRODUCT(--(E64927=$O$1:$O$542))>0,E64927=0),0,1)","v":0}]
[{"$nulls":4},0,{"$nulls":7},0,{"$nulls":13},{"$f":"IF(OR(SUMPRODUCT(--(E64946=$O$1:$O$542))>0,E64946=0),0,1)","v":0}]
[{"$nulls":4},0,{"$nulls":7},0,{"$nulls":13},{"$f":"IF(OR(SUMPRODUCT(--(E64991=$O$1:$O$542))>0,E64991=0),0,1)","v":0}]
[{"$nulls":4},0,{"$nulls":7},0,{"$nulls":13},{"$f":"IF(OR(SUMPRODUCT(--(E65052=$O$1:$O$542))>0,E65052=0),0,1)","v":0}]
[{"$nulls":4},0,{"$nulls":7},0,{"$nulls":13},{"$f":"IF(OR(SUMPRODUCT(--(E65120=$O$1:$O$542))>0,E65120=0),0,1)","v":0}]
[{"$nulls":4},0,{"$nulls":7},0,{"$nulls":13},{"$f":"IF(OR(SUMPRODUCT(--(E65149=$O$1:$O$542))>0,E65149=0),0,1)","v":0}]
[{"$nulls":4},0,{"$nulls":7},0,{"$nulls":13},{"$f":"IF(OR(SUMPRODUCT(--(E65206=$O$1:$O$542))>0,E65206=0),0,1)","v":0}]
[{"$nulls":4},0,{"$nulls":7},0,{"$nulls":13},{"$f":"IF(OR(SUMPRODUCT(--(E65245=$O$1:$O$542))>0,E65245=0),0,1)","v":0}]
[{"$nulls":4},0,{"$nulls":7},0,{"$nulls":13},{"$f":"IF(OR(SUMPRODUCT(--(E65323=$O$1:$O$542))>0,E65323=0),0,1)","v":0}]
[{"$nulls":4},0,{"$nulls":7},0,{"$nulls":13},{"$f":"IF(OR(SUMPRODUCT(--(E65342=$O$1:$O$542))>0,E65342=0),0,1)","v":0}]
[{"$nulls":4},0,{"$nulls":7},0,{"$nulls":13},{"$f":"IF(OR(SUMPRODUCT(--(E65405=$O$1:$O$542))>0,E65405=0),0,1)","v":0}]
[{"$nulls":4},0,{"$nulls":7},0,{"$nulls":13},{"$f":"IF(OR(SUMPRODUCT(--(E65448=$O$1:$O$542))>0,E65448=0),0,1)","v":0}]
[{"$nulls":4},0,{"$nulls":7},0,{"$nulls":13},{"$f":"IF(OR(SUMPRODUCT(--(E65516=$O$1:$O$542))>0,E65516=0),0,1)","v":0}]
[{"$nulls":4},0,{"$nulls":7},0,{"$nulls":13},{"$f":"IF(OR(SUMPRODUCT(--(E65545=$O$1:$O$542))>0,E65545=0),0,1)","v":0}]
[{"$nulls":4},0,{"$nulls":7},0,{"$nulls":13},{"$f":"IF(OR(SUMPRODUCT(--(E65572=$O$1:$O$542))>0,E65572=0),0,1)","v":0}]
[{"$nulls":4},0,{"$nulls":7},0,{"$nulls":13},{"$f":"IF(OR(SUMPRODUCT(--(E65641=$O$1:$O$542))>0,E65641=0),0,1)","v":0}]
[{"$nulls":4},0,{"$nulls":7},0,{"$nulls":13},{"$f":"IF(OR(SUMPRODUCT(--(E65670=$O$1:$O$542))>0,E65670=0),0,1)","v":0}]
[{"$nulls":4},0,{"$nulls":7},0,{"$nulls":13},{"$f":"IF(OR(SUMPRODUCT(--(E65738=$O$1:$O$542))>0,E65738=0),0,1)","v":0}]
[{"$nulls":4},0,{"$nulls":7},0,{"$nulls":13},{"$f":"IF(OR(SUMPRODUCT(--(E65771=$O$1:$O$542))>0,E65771=0),0,1)","v":0}]
[{"$nulls":4},0,{"$nulls":7},0,{"$nulls":13},{"$f":"IF(OR(SUMPRODUCT(--(E65844=$O$1:$O$542))>0,E65844=0),0,1)","v":0}]
[{"$nulls":4},0,{"$nulls":7},0,{"$nulls":13},{"$f":"IF(OR(SUMPRODUCT(--(E65863=$O$1:$O$542))>0,E65863=0),0,1)","v":0}]
[{"$nulls":4},0,{"$nulls":7},0,{"$nulls":13},{"$f":"IF(OR(SUMPRODUCT(--(E65941=$O$1:$O$542))>0,E65941=0),0,1)","v":0}]
[{"$nulls":4},0,{"$nulls":7},0,{"$nulls":13},{"$f":"IF(OR(SUMPRODUCT(--(E65986=$O$1:$O$542))>0,E65986=0),0,1)","v":0}]
[{"$nulls":4},0,{"$nulls":7},0,{"$nulls":13},{"$f":"IF(OR(SUMPRODUCT(--(E66037=$O$1:$O$542))>0,E66037=0),0,1)","v":0}]
[{"$nulls":4},0,{"$nulls":7},0,{"$nulls":13},{"$f":"IF(OR(SUMPRODUCT(--(E66066=$O$1:$O$542))>0,E66066=0),0,1)","v":0}]
[{"$nulls":4},0,{"$nulls":7},0,{"$nulls":13},{"$f":"IF(OR(SUMPRODUCT(--(E66134=$O$1:$O$542))>0,E66134=0),0,1)","v":0}]
[{"$nulls":4},0,{"$nulls":7},0,{"$nulls":13},{"$f":"IF(OR(SUMPRODUCT(--(E66185=$O$1:$O$542))>0,E66185=0),0,1)","v":0}]
[{"$nulls":4},0,{"$nulls":7},0,{"$nulls":13},{"$f":"IF(OR(SUMPRODUCT(--(E66230=$O$1:$O$542))>0,E66230=0),0,1)","v":0}]
[{"$nulls":4},0,{"$nulls":7},0,{"$nulls":13},{"$f":"IF(OR(SUMPRODUCT(--(E66259=$O$1:$O$542))>0,E66259=0),0,1)","v":0}]
[{"$nulls":4},0,{"$nulls":7},0,{"$nulls":13},{"$f":"IF(OR(SUMPRODUCT(--(E66337=$O$1:$O$542))>0,E66337=0),0,1)","v":0}]
[{"$nulls":4},0,{"$nulls":7},0,{"$nulls":13},{"$f":"IF(OR(SUMPRODUCT(--(E66352=$O$1:$O$542))>0,E66352=0),0,1)","v":0}]
[{"$nulls":4},0,{"$nulls":7},0,{"$nulls":13},{"$f":"IF(OR(SUMPRODUCT(--(E66433=$O$1:$O$542))>0,E66433=0),0,1)","v":0}]
[{"$nulls":4},0,{"$nulls":7},0,{"$nulls":13},{"$f":"IF(OR(SUMPRODUCT(--(E66462=$O$1:$O$542))>0,E66462=0),0,1)","v":0}]
[{"$nulls":4},0,{"$nulls":7},0,{"$nulls":13},{"$f":"IF(OR(SUMPRODUCT(--(E66530=$O$1:$O$542))>0,E66530=0),0,1)","v":0}]
[{"$nulls":4},0,{"$nulls":7},0,{"$nulls":13},{"$f":"IF(OR(SUMPRODUCT(--(E66551=$O$1:$O$542))>0,E66551=0),0,1)","v":0}]
[{"$nulls":4},0,{"$nulls":7},0,{"$nulls":13},{"$f":"IF(OR(SUMPRODUCT(--(E66626=$O$1:$O$542))>0,E66626=0),0,1)","v":0}]
[{"$nulls":4},0,{"$nulls":7},0,{"$nulls":13},{"$f":"IF(OR(SUMPRODUCT(--(E66655=$O$1:$O$542))>0,E66655=0),0,1)","v":0}]
[{"$nulls":4},0,{"$nulls":7},0,{"$nulls":13},{"$f":"IF(OR(SUMPRODUCT(--(E66733=$O$1:$O$542))>0,E66733=0),0,1)","v":0}]
[{"$nulls":4},0,{"$nulls":7},0,{"$nulls":13},{"$f":"IF(OR(SUMPRODUCT(--(E66766=$O$1:$O$542))>0,E66766=0),0,1)","v":0}]
[{"$nulls":4},0,{"$nulls":7},0,{"$nulls":13},{"$f":"IF(OR(SUMPRODUCT(--(E66829=$O$1:$O$542))>0,E66829=0),0,1)","v":0}]
[{"$nulls":4},0,{"$nulls":7},0,{"$nulls":13},{"$f":"IF(OR(SUMPRODUCT(--(E66848=$O$1:$O$542))>0,E66848=0),0,1)","v":0}]
[{"$nulls":4},0,{"$nulls":7},0,{"$nulls":13},{"$f":"IF(OR(SUMPRODUCT(--(E66926=$O$1:$O$542))>0,E66926=0),0,1)","v":0}]
[{"$nulls":4},0,{"$nulls":7},0,{"$nulls":13},{"$f":"IF(OR(SUMPRODUCT(--(E66965=$O$1:$O$542))>0,E66965=0),0,1)","v":0}]
[{"$nulls":4},0,{"$nulls":7},0,{"$nulls":13},{"$f":"IF(OR(SUMPRODUCT(--(E67022=$O$1:$O$542))>0,E67022=0),0,1)","v":0}]
[{"$nulls":4},0,{"$nulls":7},0,{"$nulls":13},{"$f":"IF(OR(SUMPRODUCT(--(E67051=$O$1:$O$542))>0,E67051=0),0,1)","v":0}]
[{"$nulls":4},0,{"$nulls":7},0,{"$nulls":13},{"$f":"IF(OR(SUMPRODUCT(--(E67129=$O$1:$O$542))>0,E67129=0),0,1)","v":0}]
[{"$nulls":4},0,{"$nulls":7},0,{"$nulls":13},{"$f":"IF(OR(SUMPRODUCT(--(E67132=$O$1:$O$542))>0,E67132=0),0,1)","v":0}]
[{"$nulls":4},0,{"$nulls":7},0,{"$nulls":13},{"$f":"IF(OR(SUMPRODUCT(--(E67225=$O$1:$O$542))>0,E67225=0),0,1)","v":0}]
[{"$nulls":4},0,{"$nulls":7},0,{"$nulls":13},{"$f":"IF(OR(SUMPRODUCT(--(E67244=$O$1:$O$542))>0,E67244=0),0,1)","v":0}]
[{"$nulls":4},0,{"$nulls":7},0,{"$nulls":13},{"$f":"IF(OR(SUMPRODUCT(--(E67322=$O$1:$O$542))>0,E67322=0),0,1)","v":0}]
[{"$nulls":4},0,{"$nulls":7},0,{"$nulls":13},{"$f":"IF(OR(SUMPRODUCT(--(E67331=$O$1:$O$542))>0,E67331=0),0,1)","v":0}]
[{"$nulls":4},0,{"$nulls":7},0,{"$nulls":13},{"$f":"IF(OR(SUMPRODUCT(--(E67418=$O$1:$O$542))>0,E67418=0),0,1)","v":0}]
[{"$nulls":4},0,{"$nulls":7},0,{"$nulls":13},{"$f":"IF(OR(SUMPRODUCT(--(E67447=$O$1:$O$542))>0,E67447=0),0,1)","v":0}]
[{"$nulls":4},0,{"$nulls":7},0,{"$nulls":13},{"$f":"IF(OR(SUMPRODUCT(--(E67476=$O$1:$O$542))>0,E67476=0),0,1)","v":0}]
[{"$nulls":4},0,{"$nulls":7},0,{"$nulls":13},{"$f":"IF(OR(SUMPRODUCT(--(E67546=$O$1:$O$542))>0,E67546=0),0,1)","v":0}]
[{"$nulls":4},0,{"$nulls":7},0,{"$nulls":13},{"$f":"IF(OR(SUMPRODUCT(--(E67572=$O$1:$O$542))>0,E67572=0),0,1)","v":0}]
[{"$nulls":4},0,{"$nulls":7},0,{"$nulls":13},{"$f":"IF(OR(SUMPRODUCT(--(E67640=$O$1:$O$542))>0,E67640=0),0,1)","v":0}]
[{"$nulls":4},0,{"$nulls":7},0,{"$nulls":13},{"$f":"IF(OR(SUMPRODUCT(--(E67669=$O$1:$O$542))>0,E67669=0),0,1)","v":0}]
[{"$nulls":4},0,{"$nulls":7},0,{"$nulls":13},{"$f":"IF(OR(SUMPRODUCT(--(E67745=$O$1:$O$542))>0,E67745=0),0,1)","v":0}]
[{"$nulls":4},0,{"$nulls":7},0,{"$nulls":13},{"$f":"IF(OR(SUMPRODUCT(--(E67765=$O$1:$O$542))>0,E67765=0),0,1)","v":0}]
[{"$nulls":4},0,{"$nulls":7},0,{"$nulls":13},{"$f":"IF(OR(SUMPRODUCT(--(E67843=$O$1:$O$542))>0,E67843=0),0,1)","v":0}]
[{"$nulls":4},0,{"$nulls":7},0,{"$nulls":13},{"$f":"IF(OR(SUMPRODUCT(--(E67862=$O$1:$O$542))>0,E67862=0),0,1)","v":0}]
[{"$nulls":4},0,{"$nulls":7},0,{"$nulls":13},{"$f":"IF(OR(SUMPRODUCT(--(E67912=$O$1:$O$542))>0,E67912=0),0,1)","v":0}]
[{"$nulls":4},0,{"$nulls":7},0,{"$nulls":13},{"$f":"IF(OR(SUMPRODUCT(--(E67968=$O$1:$O$542))>0,E67968=0),0,1)","v":0}]
[{"$nulls":4},0,{"$nulls":7},0,{"$nulls":13},{"$f":"IF(OR(SUMPRODUCT(--(E68036=$O$1:$O$542))>0,E68036=0),0,1)","v":0}]
[{"$nulls":4},0,{"$nulls":7},0,{"$nulls":13},{"$f":"IF(OR(SUMPRODUCT(--(E68065=$O$1:$O$542))>0,E68065=0),0,1)","v":0}]
[{"$nulls":4},0,{"$nulls":7},0,{"$nulls":13},{"$f":"IF(OR(SUMPRODUCT(--(E68111=$O$1:$O$542))>0,E68111=0),0,1)","v":0}]
[{"$nulls":4},0,{"$nulls":7},0,{"$nulls":13},{"$f":"IF(OR(SUMPRODUCT(--(E68161=$O$1:$O$542))>0,E68161=0),0,1)","v":0}]
[{"$nulls":4},0,{"$nulls":7},0,{"$nulls":13},{"$f":"IF(OR(SUMPRODUCT(--(E68239=$O$1:$O$542))>0,E68239=0),0,1)","v":0}]
[{"$nulls":4},0,{"$nulls":7},0,{"$nulls":13},{"$f":"IF(OR(SUMPRODUCT(--(E68258=$O$1:$O$542))>0,E68258=0),0,1)","v":0}]
[{"$nulls":4},0,{"$nulls":7},0,{"$nulls":13},{"$f":"IF(OR(SUMPRODUCT(--(E68326=$O$1:$O$542))>0,E68326=0),0,1)","v":0}]
[{"$nulls":4},0,{"$nulls":7},0,{"$nulls":13},{"$f":"IF(OR(SUMPRODUCT(--(E68364=$O$1:$O$542))>0,E68364=0),0,1)","v":0}]
[{"$nulls":4},0,{"$nulls":7},0,{"$nulls":13},{"$f":"IF(OR(SUMPRODUCT(--(E68432=$O$1:$O$542))>0,E68432=0),0,1)","v":0}]
[{"$nulls":4},0,{"$nulls":7},0,{"$nulls":13},{"$f":"IF(OR(SUMPRODUCT(--(E68461=$O$1:$O$542))>0,E68461=0),0,1)","v":0}]
[{"$nulls":4},0,{"$nulls":7},0,{"$nulls":13},{"$f":"IF(OR(SUMPRODUCT(--(E68541=$O$1:$O$542))>0,E68541=0),0,1)","v":0}]
[{"$nulls":4},0,{"$nulls":7},0,{"$nulls":13},{"$f":"IF(OR(SUMPRODUCT(--(E68557=$O$1:$O$542))>0,E68557=0),0,1)","v":0}]
[{"$nulls":4},0,{"$nulls":7},0,{"$nulls":13},{"$f":"IF(OR(SUMPRODUCT(--(E68635=$O$1:$O$542))>0,E68635=0),0,1)","v":0}]
[{"$nulls":4},0,{"$nulls":7},0,{"$nulls":13},{"$f":"IF(OR(SUMPRODUCT(--(E68654=$O$1:$O$542))>0,E68654=0),0,1)","v":0}]
[{"$nulls":4},0,{"$nulls":7},0,{"$nulls":13},{"$f":"IF(OR(SUMPRODUCT(--(E68692=$O$1:$O$542))>0,E68692=0),0,1)","v":0}]
[{"$nulls":4},0,{"$nulls":7},0,{"$nulls":13},{"$f":"IF(OR(SUMPRODUCT(--(E68760=$O$1:$O$542))>0,E68760=0),0,1)","v":0}]
[{"$nulls":4},0,{"$nulls":7},0,{"$nulls":13},{"$f":"IF(OR(SUMPRODUCT(--(E68828=$O$1:$O$542))>0,E68828=0),0,1)","v":0}]
[{"$nulls":4},0,{"$nulls":7},0,{"$nulls":13},{"$f":"IF(OR(SUMPRODUCT(--(E68857=$O$1:$O$542))>0,E68857=0),0,1)","v":0}]
[{"$nulls":4},0,{"$nulls":7},0,{"$nulls":13},{"$f":"IF(OR(SUMPRODUCT(--(E68907=$O$1:$O$542))>0,E68907=0),0,1)","v":0}]
[{"$nulls":4},0,{"$nulls":7},0,{"$nulls":13},{"$f":"IF(OR(SUMPRODUCT(--(E68953=$O$1:$O$542))>0,E68953=0),0,1)","v":0}]
[{"$nulls":4},0,{"$nulls":7},0,{"$nulls":13},{"$f":"IF(OR(SUMPRODUCT(--(E69031=$O$1:$O$542))>0,E69031=0),0,1)","v":0}]
[{"$nulls":4},0,{"$nulls":7},0,{"$nulls":13},{"$f":"IF(OR(SUMPRODUCT(--(E69050=$O$1:$O$542))>0,E69050=0),0,1)","v":0}]
[{"$nulls":4},0,{"$nulls":7},0,{"$nulls":13},{"$f":"IF(OR(SUMPRODUCT(--(E69106=$O$1:$O$542))>0,E69106=0),0,1)","v":0}]
[{"$nulls":4},0,{"$nulls":7},0,{"$nulls":13},{"$f":"IF(OR(SUMPRODUCT(--(E69156=$O$1:$O$542))>0,E69156=0),0,1)","v":0}]
[{"$nulls":4},0,{"$nulls":7},0,{"$nulls":13},{"$f":"IF(OR(SUMPRODUCT(--(E69224=$O$1:$O$542))>0,E69224=0),0,1)","v":0}]
[{"$nulls":4},0,{"$nulls":7},0,{"$nulls":13},{"$f":"IF(OR(SUMPRODUCT(--(E69253=$O$1:$O$542))>0,E69253=0),0,1)","v":0}]
[{"$nulls":4},0,{"$nulls":7},0,{"$nulls":13},{"$f":"IF(OR(SUMPRODUCT(--(E69321=$O$1:$O$542))>0,E69321=0),0,1)","v":0}]
[{"$nulls":4},0,{"$nulls":7},0,{"$nulls":13},{"$f":"IF(OR(SUMPRODUCT(--(E69349=$O$1:$O$542))>0,E69349=0),0,1)","v":0}]
[{"$nulls":4},0,{"$nulls":7},0,{"$nulls":13},{"$f":"IF(OR(SUMPRODUCT(--(E69378=$O$1:$O$542))>0,E69378=0),0,1)","v":0}]
[{"$nulls":4},0,{"$nulls":7},0,{"$nulls":13},{"$f":"IF(OR(SUMPRODUCT(--(E69446=$O$1:$O$542))>0,E69446=0),0,1)","v":0}]
[{"$nulls":4},0,{"$nulls":7},0,{"$nulls":13},{"$f":"IF(OR(SUMPRODUCT(--(E69472=$O$1:$O$542))>0,E69472=0),0,1)","v":0}]
[{"$nulls":4},0,{"$nulls":7},0,{"$nulls":13},{"$f":"IF(OR(SUMPRODUCT(--(E69542=$O$1:$O$542))>0,E69542=0),0,1)","v":0}]
[{"$nulls":4},0,{"$nulls":7},0,{"$nulls":13},{"$f":"IF(OR(SUMPRODUCT(--(E69571=$O$1:$O$542))>0,E69571=0),0,1)","v":0}]
[{"$nulls":4},0,{"$nulls":7},0,{"$nulls":13},{"$f":"IF(OR(SUMPRODUCT(--(E69649=$O$1:$O$542))>0,E69649=0),0,1)","v":0}]
[{"$nulls":4},0,{"$nulls":7},0,{"$nulls":13},{"$f":"IF(OR(SUMPRODUCT(--(E69687=$O$1:$O$542))>0,E69687=0),0,1)","v":0}]
[{"$nulls":4},0,{"$nulls":7},0,{"$nulls":13},{"$f":"IF(OR(SUMPRODUCT(--(E69745=$O$1:$O$542))>0,E69745=0),0,1)","v":0}]
[{"$nulls":4},0,{"$nulls":7},0,{"$nulls":13},{"$f":"IF(OR(SUMPRODUCT(--(E69774=$O$1:$O$542))>0,E69774=0),0,1)","v":0}]
[{"$nulls":4},0,{"$nulls":7},0,{"$nulls":13},{"$f":"IF(OR(SUMPRODUCT(--(E69842=$O$1:$O$542))>0,E69842=0),0,1)","v":0}]
[{"$nulls":4},{"$f":"IF(AND(F69886<>\"\",F69886=G69886),\"ERROR\",IF(AND(F69886<>\"\",F69886<>G69886),F69886,G69886))","v":0},{"$nulls":7},{"$f":"IF(L69886<>\"\",L69886,K69886)","v":0},{"$nulls":13},{"$f":"IF(OR(SUMPRODUCT(--(E69886=$O$1:$O$542))>0,E69886=0),0,1)","v":0}]
[{"$nulls":4},0,{"$nulls":7},0,{"$nulls":13},{"$f":"IF(OR(SUMPRODUCT(--(E69938=$O$1:$O$542))>0,E69938=0),0,1)","v":0}]
[{"$nulls":4},0,{"$nulls":7},0,{"$nulls":13},{"$f":"IF(OR(SUMPRODUCT(--(E69967=$O$1:$O$542))>0,E69967=0),0,1)","v":0}]
[{"$nulls":4},0,{"$nulls":7},0,{"$nulls":13},{"$f":"IF(OR(SUMPRODUCT(--(E70045=$O$1:$O$542))>0,E70045=0),0,1)","v":0}]
[{"$nulls":4},0,{"$nulls":7},0,{"$nulls":13},{"$f":"IF(OR(SUMPRODUCT(--(E70101=$O$1:$O$542))>0,E70101=0),0,1)","v":0}]
[{"$nulls":4},0,{"$nulls":7},0,{"$nulls":13},{"$f":"IF(OR(SUMPRODUCT(--(E70141=$O$1:$O$542))>0,E70141=0),0,1)","v":0}]
[{"$nulls":4},0,{"$nulls":7},0,{"$nulls":13},{"$f":"IF(OR(SUMPRODUCT(--(E70170=$O$1:$O$542))>0,E70170=0),0,1)","v":0}]
[{"$nulls":4},0,{"$nulls":7},0,{"$nulls":13},{"$f":"IF(OR(SUMPRODUCT(--(E70238=$O$1:$O$542))>0,E70238=0),0,1)","v":0}]
[{"$nulls":4},0,{"$nulls":7},0,{"$nulls":13},{"$f":"IF(OR(SUMPRODUCT(--(E70252=$O$1:$O$542))>0,E70252=0),0,1)","v":0}]
[{"$nulls":4},0,{"$nulls":7},0,{"$nulls":13},{"$f":"IF(OR(SUMPRODUCT(--(E70334=$O$1:$O$542))>0,E70334=0),0,1)","v":0}]
[{"$nulls":4},0,{"$nulls":7},0,{"$nulls":13},{"$f":"IF(OR(SUMPRODUCT(--(E70363=$O$1:$O$542))>0,E70363=0),0,1)","v":0}]
[{"$nulls":4},0,{"$nulls":7},0,{"$nulls":13},{"$f":"IF(OR(SUMPRODUCT(--(E70441=$O$1:$O$542))>0,E70441=0),0,1)","v":0}]
[{"$nulls":4},0,{"$nulls":7},0,{"$nulls":13},{"$f":"IF(OR(SUMPRODUCT(--(E70467=$O$1:$O$542))>0,E70467=0),0,1)","v":0}]
[{"$nulls":4},0,{"$nulls":7},0,{"$nulls":13},{"$f":"IF(OR(SUMPRODUCT(--(E70537=$O$1:$O$542))>0,E70537=0),0,1)","v":0}]
[{"$nulls":4},0,{"$nulls":7},0,{"$nulls":13},{"$f":"IF(OR(SUMPRODUCT(--(E70556=$O$1:$O$542))>0,E70556=0),0,1)","v":0}]
[{"$nulls":4},0,{"$nulls":7},0,{"$nulls":13},{"$f":"IF(OR(SUMPRODUCT(--(E70634=$O$1:$O$542))>0,E70634=0),0,1)","v":0}]
[{"$nulls":4},0,{"$nulls":7},0,{"$nulls":13},{"$f":"IF(OR(SUMPRODUCT(--(E70666=$O$1:$O$542))>0,E70666=0),0,1)","v":0}]
[{"$nulls":4},0,{"$nulls":7},0,{"$nulls":13},{"$f":"IF(OR(SUMPRODUCT(--(E70730=$O$1:$O$542))>0,E70730=0),0,1)","v":0}]
[{"$nulls":4},0,{"$nulls":7},0,{"$nulls":13},{"$f":"IF(OR(SUMPRODUCT(--(E70759=$O$1:$O$542))>0,E70759=0),0,1)","v":0}]
[{"$nulls":4},{"$f":"IF(AND(F70788<>\"\",F70788=G70788),\"ERROR\",IF(AND(F70788<>\"\",F70788<>G70788),F70788,G70788))","v":0},{"$nulls":7},{"$f":"IF(L70788<>\"\",L70788,K70788)","v":0},{"$nulls":13},{"$f":"IF(OR(SUMPRODUCT(--(E70788=$O$1:$O$542))>0,E70788=0),0,1)","v":0}]
[{"$nulls":4},0,{"$nulls":7},0,{"$nulls":13},{"$f":"IF(OR(SUMPRODUCT(--(E70881=$O$1:$O$542))>0,E70881=0),0,1)","v":0}]
[{"$nulls":4},0,{"$nulls":7},0,{"$nulls":13},{"$f":"IF(OR(SUMPRODUCT(--(E70884=$O$1:$O$542))>0,E70884=0),0,1)","v":0}]
[{"$nulls":4},0,{"$nulls":7},0,{"$nulls":13},{"$f":"IF(OR(SUMPRODUCT(--(E70952=$O$1:$O$542))>0,E70952=0),0,1)","v":0}]
[{"$nulls":4},0,{"$nulls":7},0,{"$nulls":13},{"$f":"IF(OR(SUMPRODUCT(--(E71030=$O$1:$O$542))>0,E71030=0),0,1)","v":0}]
[{"$nulls":4},0,{"$nulls":7},0,{"$nulls":13},{"$f":"IF(OR(SUMPRODUCT(--(E71032=$O$1:$O$542))>0,E71032=0),0,1)","v":0}]
[{"$nulls":4},0,{"$nulls":7},0,{"$nulls":13},{"$f":"IF(OR(SUMPRODUCT(--(E71126=$O$1:$O$542))>0,E71126=0),0,1)","v":0}]
[{"$nulls":4},0,{"$nulls":7},0,{"$nulls":13},{"$f":"IF(OR(SUMPRODUCT(--(E71155=$O$1:$O$542))>0,E71155=0),0,1)","v":0}]
[{"$nulls":4},0,{"$nulls":7},0,{"$nulls":13},{"$f":"IF(OR(SUMPRODUCT(--(E71223=$O$1:$O$542))>0,E71223=0),0,1)","v":0}]
[{"$nulls":4},0,{"$nulls":7},0,{"$nulls":13},{"$f":"IF(OR(SUMPRODUCT(--(E71247=$O$1:$O$542))>0,E71247=0),0,1)","v":0}]
[{"$nulls":4},0,{"$nulls":7},0,{"$nulls":13},{"$f":"IF(OR(SUMPRODUCT(--(E71280=$O$1:$O$542))>0,E71280=0),0,1)","v":0}]
[{"$nulls":4},0,{"$nulls":7},0,{"$nulls":13},{"$f":"IF(OR(SUMPRODUCT(--(E71348=$O$1:$O$542))>0,E71348=0),0,1)","v":0}]
[{"$nulls":4},0,{"$nulls":7},0,{"$nulls":13},{"$f":"IF(OR(SUMPRODUCT(--(E71377=$O$1:$O$542))>0,E71377=0),0,1)","v":0}]
[{"$nulls":4},0,{"$nulls":7},0,{"$nulls":13},{"$f":"IF(OR(SUMPRODUCT(--(E71446=$O$1:$O$542))>0,E71446=0),0,1)","v":0}]
[{"$nulls":4},0,{"$nulls":7},0,{"$nulls":13},{"$f":"IF(OR(SUMPRODUCT(--(E71473=$O$1:$O$542))>0,E71473=0),0,1)","v":0}]
[{"$nulls":4},0,{"$nulls":7},0,{"$nulls":13},{"$f":"IF(OR(SUMPRODUCT(--(E71551=$O$1:$O$542))>0,E71551=0),0,1)","v":0}]
[{"$nulls":4},0,{"$nulls":7},0,{"$nulls":13},{"$f":"IF(OR(SUMPRODUCT(--(E71570=$O$1:$O$542))>0,E71570=0),0,1)","v":0}]
[{"$nulls":4},0,{"$nulls":7},0,{"$nulls":13},{"$f":"IF(OR(SUMPRODUCT(--(E71661=$O$1:$O$542))>0,E71661=0),0,1)","v":0}]
[{"$nulls":4},0,{"$nulls":7},0,{"$nulls":13},{"$f":"IF(OR(SUMPRODUCT(--(E71676=$O$1:$O$542))>0,E71676=0),0,1)","v":0}]
[{"$nulls":4},0,{"$nulls":7},0,{"$nulls":13},{"$f":"IF(OR(SUMPRODUCT(--(E71744=$O$1:$O$542))>0,E71744=0),0,1)","v":0}]
[{"$nulls":4},0,{"$nulls":7},0,{"$nulls":13},{"$f":"IF(OR(SUMPRODUCT(--(E71773=$O$1:$O$542))>0,E71773=0),0,1)","v":0}]
[{"$nulls":4},{"$f":"IF(AND(F71812<>\"\",F71812=G71812),\"ERROR\",IF(AND(F71812<>\"\",F71812<>G71812),F71812,G71812))","v":0},{"$nulls":7},{"$f":"IF(L71812<>\"\",L71812,K71812)","v":0},{"$nulls":13},{"$f":"IF(OR(SUMPRODUCT(--(E71812=$O$1:$O$542))>0,E71812=0),0,1)","v":0}]
[{"$nulls":4},0,{"$nulls":7},0,{"$nulls":13},{"$f":"IF(OR(SUMPRODUCT(--(E71869=$O$1:$O$542))>0,E71869=0),0,1)","v":0}]
[{"$nulls":4},0,{"$nulls":7},0,{"$nulls":13},{"$f":"IF(OR(SUMPRODUCT(--(E71947=$O$1:$O$542))>0,E71947=0),0,1)","v":0}]
[{"$nulls":4},0,{"$nulls":7},0,{"$nulls":13},{"$f":"IF(OR(SUMPRODUCT(--(E71966=$O$1:$O$542))>0,E71966=0),0,1)","v":0}]
[{"$nulls":4},0,{"$nulls":7},0,{"$nulls":13},{"$f":"IF(OR(SUMPRODUCT(--(E72027=$O$1:$O$542))>0,E72027=0),0,1)","v":0}]
[{"$nulls":4},0,{"$nulls":7},0,{"$nulls":13},{"$f":"IF(OR(SUMPRODUCT(--(E72072=$O$1:$O$542))>0,E72072=0),0,1)","v":0}]
[{"$nulls":4},0,{"$nulls":7},0,{"$nulls":13},{"$f":"IF(OR(SUMPRODUCT(--(E72140=$O$1:$O$542))>0,E72140=0),0,1)","v":0}]
[{"$nulls":4},0,{"$nulls":7},0,{"$nulls":13},{"$f":"IF(OR(SUMPRODUCT(--(E72169=$O$1:$O$542))>0,E72169=0),0,1)","v":0}]
[{"$nulls":4},0,{"$nulls":7},0,{"$nulls":13},{"$f":"IF(OR(SUMPRODUCT(--(E72242=$O$1:$O$542))>0,E72242=0),0,1)","v":0}]
[{"$nulls":4},0,{"$nulls":7},0,{"$nulls":13},{"$f":"IF(OR(SUMPRODUCT(--(E72265=$O$1:$O$542))>0,E72265=0),0,1)","v":0}]
[{"$nulls":4},0,{"$nulls":7},0,{"$nulls":13},{"$f":"IF(OR(SUMPRODUCT(--(E72343=$O$1:$O$542))>0,E72343=0),0,1)","v":0}]
[{"$nulls":4},0,{"$nulls":7},0,{"$nulls":13},{"$f":"IF(OR(SUMPRODUCT(--(E72362=$O$1:$O$542))>0,E72362=0),0,1)","v":0}]
[{"$nulls":4},0,{"$nulls":7},0,{"$nulls":13},{"$f":"IF(OR(SUMPRODUCT(--(E72441=$O$1:$O$542))>0,E72441=0),0,1)","v":0}]
[{"$nulls":4},0,{"$nulls":7},0,{"$nulls":13},{"$f":"IF(OR(SUMPRODUCT(--(E72468=$O$1:$O$542))>0,E72468=0),0,1)","v":0}]
[{"$nulls":4},0,{"$nulls":7},0,{"$nulls":13},{"$f":"IF(OR(SUMPRODUCT(--(E72536=$O$1:$O$542))>0,E72536=0),0,1)","v":0}]
[{"$nulls":4},0,{"$nulls":7},0,{"$nulls":13},{"$f":"IF(OR(SUMPRODUCT(--(E72565=$O$1:$O$542))>0,E72565=0),0,1)","v":0}]
[{"$nulls":4},0,{"$nulls":7},0,{"$nulls":13},{"$f":"IF(OR(SUMPRODUCT(--(E72608=$O$1:$O$542))>0,E72608=0),0,1)","v":0}]
[{"$nulls":4},0,{"$nulls":7},0,{"$nulls":13},{"$f":"IF(OR(SUMPRODUCT(--(E72661=$O$1:$O$542))>0,E72661=0),0,1)","v":0}]
[{"$nulls":4},0,{"$nulls":7},0,{"$nulls":13},{"$f":"IF(OR(SUMPRODUCT(--(E72690=$O$1:$O$542))>0,E72690=0),0,1)","v":0}]
[{"$nulls":4},0,{"$nulls":7},0,{"$nulls":13},{"$f":"IF(OR(SUMPRODUCT(--(E72758=$O$1:$O$542))>0,E72758=0),0,1)","v":0}]
[{"$nulls":4},0,{"$nulls":7},0,{"$nulls":13},{"$f":"IF(OR(SUMPRODUCT(--(E72807=$O$1:$O$542))>0,E72807=0),0,1)","v":0}]
[{"$nulls":4},0,{"$nulls":7},0,{"$nulls":13},{"$f":"IF(OR(SUMPRODUCT(--(E72864=$O$1:$O$542))>0,E72864=0),0,1)","v":0}]
[{"$nulls":4},0,{"$nulls":7},0,{"$nulls":13},{"$f":"IF(OR(SUMPRODUCT(--(E72883=$O$1:$O$542))>0,E72883=0),0,1)","v":0}]
[{"$nulls":4},0,{"$nulls":7},0,{"$nulls":13},{"$f":"IF(OR(SUMPRODUCT(--(E72961=$O$1:$O$542))>0,E72961=0),0,1)","v":0}]
[{"$nulls":4},0,{"$nulls":7},0,{"$nulls":13},{"$f":"IF(OR(SUMPRODUCT(--(E73022=$O$1:$O$542))>0,E73022=0),0,1)","v":0}]
[{"$nulls":4},0,{"$nulls":7},0,{"$nulls":13},{"$f":"IF(OR(SUMPRODUCT(--(E73057=$O$1:$O$542))>0,E73057=0),0,1)","v":0}]
[{"$nulls":4},0,{"$nulls":7},0,{"$nulls":13},{"$f":"IF(OR(SUMPRODUCT(--(E73086=$O$1:$O$542))>0,E73086=0),0,1)","v":0}]
[{"$nulls":4},0,{"$nulls":7},0,{"$nulls":13},{"$f":"IF(OR(SUMPRODUCT(--(E73154=$O$1:$O$542))>0,E73154=0),0,1)","v":0}]
[{"$nulls":4},0,{"$nulls":7},0,{"$nulls":13},{"$f":"IF(OR(SUMPRODUCT(--(E73221=$O$1:$O$542))>0,E73221=0),0,1)","v":0}]
[{"$nulls":4},0,{"$nulls":7},0,{"$nulls":13},{"$f":"IF(OR(SUMPRODUCT(--(E73250=$O$1:$O$542))>0,E73250=0),0,1)","v":0}]
[{"$nulls":4},0,{"$nulls":7},0,{"$nulls":13},{"$f":"IF(OR(SUMPRODUCT(--(E73279=$O$1:$O$542))>0,E73279=0),0,1)","v":0}]
[{"$nulls":4},0,{"$nulls":7},0,{"$nulls":13},{"$f":"IF(OR(SUMPRODUCT(--(E73357=$O$1:$O$542))>0,E73357=0),0,1)","v":0}]
[{"$nulls":4},0,{"$nulls":7},0,{"$nulls":13},{"$f":"IF(OR(SUMPRODUCT(--(E73388=$O$1:$O$542))>0,E73388=0),0,1)","v":0}]
[{"$nulls":4},0,{"$nulls":7},0,{"$nulls":13},{"$f":"IF(OR(SUMPRODUCT(--(E73453=$O$1:$O$542))>0,E73453=0),0,1)","v":0}]
[{"$nulls":4},0,{"$nulls":7},0,{"$nulls":13},{"$f":"IF(OR(SUMPRODUCT(--(E73482=$O$1:$O$542))>0,E73482=0),0,1)","v":0}]
[{"$nulls":4},0,{"$nulls":7},0,{"$nulls":13},{"$f":"IF(OR(SUMPRODUCT(--(E73550=$O$1:$O$542))>0,E73550=0),0,1)","v":0}]
[{"$nulls":4},0,{"$nulls":7},0,{"$nulls":13},{"$f":"IF(OR(SUMPRODUCT(--(E73587=$O$1:$O$542))>0,E73587=0),0,1)","v":0}]
[{"$nulls":4},0,{"$nulls":7},0,{"$nulls":13},{"$f":"IF(OR(SUMPRODUCT(--(E73646=$O$1:$O$542))>0,E73646=0),0,1)","v":0}]
[{"$nulls":4},0,{"$nulls":7},0,{"$nulls":13},{"$f":"IF(OR(SUMPRODUCT(--(E73675=$O$1:$O$542))>0,E73675=0),0,1)","v":0}]
[{"$nulls":4},0,{"$nulls":7},0,{"$nulls":13},{"$f":"IF(OR(SUMPRODUCT(--(E73753=$O$1:$O$542))>0,E73753=0),0,1)","v":0}]
[{"$nulls":4},0,{"$nulls":7},0,{"$nulls":13},{"$f":"IF(OR(SUMPRODUCT(--(E73802=$O$1:$O$542))>0,E73802=0),0,1)","v":0}]
[{"$nulls":4},0,{"$nulls":7},0,{"$nulls":13},{"$f":"IF(OR(SUMPRODUCT(--(E73849=$O$1:$O$542))>0,E73849=0),0,1)","v":0}]
[{"$nulls":4},0,{"$nulls":7},0,{"$nulls":13},{"$f":"IF(OR(SUMPRODUCT(--(E73868=$O$1:$O$542))>0,E73868=0),0,1)","v":0}]
[{"$nulls":4},0,{"$nulls":7},0,{"$nulls":13},{"$f":"IF(OR(SUMPRODUCT(--(E73946=$O$1:$O$542))>0,E73946=0),0,1)","v":0}]
[{"$nulls":4},0,{"$nulls":7},0,{"$nulls":13},{"$f":"IF(OR(SUMPRODUCT(--(E74001=$O$1:$O$542))>0,E74001=0),0,1)","v":0}]
[{"$nulls":4},0,{"$nulls":7},0,{"$nulls":13},{"$f":"IF(OR(SUMPRODUCT(--(E74042=$O$1:$O$542))>0,E74042=0),0,1)","v":0}]
[{"$nulls":4},0,{"$nulls":7},0,{"$nulls":13},{"$f":"IF(OR(SUMPRODUCT(--(E74071=$O$1:$O$542))>0,E74071=0),0,1)","v":0}]
[{"$nulls":4},0,{"$nulls":7},0,{"$nulls":13},{"$f":"IF(OR(SUMPRODUCT(--(E74149=$O$1:$O$542))>0,E74149=0),0,1)","v":0}]
[{"$nulls":4},0,{"$nulls":7},0,{"$nulls":13},{"$f":"IF(OR(SUMPRODUCT(--(E74168=$O$1:$O$542))>0,E74168=0),0,1)","v":0}]
[{"$nulls":4},0,{"$nulls":7},0,{"$nulls":13},{"$f":"IF(OR(SUMPRODUCT(--(E74245=$O$1:$O$542))>0,E74245=0),0,1)","v":0}]
[{"$nulls":4},0,{"$nulls":7},0,{"$nulls":13},{"$f":"IF(OR(SUMPRODUCT(--(E74264=$O$1:$O$542))>0,E74264=0),0,1)","v":0}]
[{"$nulls":4},0,{"$nulls":7},0,{"$nulls":13},{"$f":"IF(OR(SUMPRODUCT(--(E74342=$O$1:$O$542))>0,E74342=0),0,1)","v":0}]
[{"$nulls":4},0,{"$nulls":7},0,{"$nulls":13},{"$f":"IF(OR(SUMPRODUCT(--(E74367=$O$1:$O$542))>0,E74367=0),0,1)","v":0}]
[{"$nulls":4},0,{"$nulls":7},0,{"$nulls":13},{"$f":"IF(OR(SUMPRODUCT(--(E74438=$O$1:$O$542))>0,E74438=0),0,1)","v":0}]
[{"$nulls":4},0,{"$nulls":7},0,{"$nulls":13},{"$f":"IF(OR(SUMPRODUCT(--(E74467=$O$1:$O$542))>0,E74467=0),0,1)","v":0}]
[{"$nulls":4},0,{"$nulls":7},0,{"$nulls":13},{"$f":"IF(OR(SUMPRODUCT(--(E74496=$O$1:$O$542))>0,E74496=0),0,1)","v":0}]
[{"$nulls":4},0,{"$nulls":7},0,{"$nulls":13},{"$f":"IF(OR(SUMPRODUCT(--(E74582=$O$1:$O$542))>0,E74582=0),0,1)","v":0}]
[{"$nulls":4},0,{"$nulls":7},0,{"$nulls":13},{"$f":"IF(OR(SUMPRODUCT(--(E74592=$O$1:$O$542))>0,E74592=0),0,1)","v":0}]
[{"$nulls":4},0,{"$nulls":7},0,{"$nulls":13},{"$f":"IF(OR(SUMPRODUCT(--(E74660=$O$1:$O$542))>0,E74660=0),0,1)","v":0}]
[{"$nulls":4},0,{"$nulls":7},0,{"$nulls":13},{"$f":"IF(OR(SUMPRODUCT(--(E74689=$O$1:$O$542))>0,E74689=0),0,1)","v":0}]
[{"$nulls":4},0,{"$nulls":7},0,{"$nulls":13},{"$f":"IF(OR(SUMPRODUCT(--(E74781=$O$1:$O$542))>0,E74781=0),0,1)","v":0}]
[{"$nulls":4},0,{"$nulls":7},0,{"$nulls":13},{"$f":"IF(OR(SUMPRODUCT(--(E74785=$O$1:$O$542))>0,E74785=0),0,1)","v":0}]
[{"$nulls":4},0,{"$nulls":7},0,{"$nulls":13},{"$f":"IF(OR(SUMPRODUCT(--(E74863=$O$1:$O$542))>0,E74863=0),0,1)","v":0}]
[{"$nulls":4},0,{"$nulls":7},0,{"$nulls":13},{"$f":"IF(OR(SUMPRODUCT(--(E74882=$O$1:$O$542))>0,E74882=0),0,1)","v":0}]
[{"$nulls":4},{"$f":"IF(AND(F74948<>\"\",F74948=G74948),\"ERROR\",IF(AND(F74948<>\"\",F74948<>G74948),F74948,G74948))","v":0},{"$nulls":7},{"$f":"IF(L74948<>\"\",L74948,K74948)","v":0},{"$nulls":13},{"$f":"IF(OR(SUMPRODUCT(--(E74948=$O$1:$O$542))>0,E74948=0),0,1)","v":0}]
[{"$nulls":4},0,{"$nulls":7},0,{"$nulls":13},{"$f":"IF(OR(SUMPRODUCT(--(E74988=$O$1:$O$542))>0,E74988=0),0,1)","v":0}]
[{"$nulls":4},0,{"$nulls":7},0,{"$nulls":13},{"$f":"IF(OR(SUMPRODUCT(--(E75056=$O$1:$O$542))>0,E75056=0),0,1)","v":0}]
[{"$nulls":4},0,{"$nulls":7},0,{"$nulls":13},{"$f":"IF(OR(SUMPRODUCT(--(E75085=$O$1:$O$542))>0,E75085=0),0,1)","v":0}]
[{"$nulls":4},0,{"$nulls":7},0,{"$nulls":13},{"$f":"IF(OR(SUMPRODUCT(--(E75147=$O$1:$O$542))>0,E75147=0),0,1)","v":0}]
[{"$nulls":4},0,{"$nulls":7},0,{"$nulls":13},{"$f":"IF(OR(SUMPRODUCT(--(E75181=$O$1:$O$542))>0,E75181=0),0,1)","v":0}]
[{"$nulls":4},0,{"$nulls":7},0,{"$nulls":13},{"$f":"IF(OR(SUMPRODUCT(--(E75259=$O$1:$O$542))>0,E75259=0),0,1)","v":0}]
[{"$nulls":4},0,{"$nulls":7},0,{"$nulls":13},{"$f":"IF(OR(SUMPRODUCT(--(E75278=$O$1:$O$542))>0,E75278=0),0,1)","v":0}]
[{"$nulls":4},0,{"$nulls":7},0,{"$nulls":13},{"$f":"IF(OR(SUMPRODUCT(--(E75362=$O$1:$O$542))>0,E75362=0),0,1)","v":0}]
[{"$nulls":4},0,{"$nulls":7},0,{"$nulls":13},{"$f":"IF(OR(SUMPRODUCT(--(E75384=$O$1:$O$542))>0,E75384=0),0,1)","v":0}]
[{"$nulls":4},0,{"$nulls":7},0,{"$nulls":13},{"$f":"IF(OR(SUMPRODUCT(--(E75452=$O$1:$O$542))>0,E75452=0),0,1)","v":0}]
[{"$nulls":4},0,{"$nulls":7},0,{"$nulls":13},{"$f":"IF(OR(SUMPRODUCT(--(E75481=$O$1:$O$542))>0,E75481=0),0,1)","v":0}]
[{"$nulls":4},0,{"$nulls":7},0,{"$nulls":13},{"$f":"IF(OR(SUMPRODUCT(--(E75529=$O$1:$O$542))>0,E75529=0),0,1)","v":0}]
[{"$nulls":4},0,{"$nulls":7},0,{"$nulls":13},{"$f":"IF(OR(SUMPRODUCT(--(E75577=$O$1:$O$542))>0,E75577=0),0,1)","v":0}]
[{"$nulls":4},0,{"$nulls":7},0,{"$nulls":13},{"$f":"IF(OR(SUMPRODUCT(--(E75655=$O$1:$O$542))>0,E75655=0),0,1)","v":0}]
[{"$nulls":4},0,{"$nulls":7},0,{"$nulls":13},{"$f":"IF(OR(SUMPRODUCT(--(E75674=$O$1:$O$542))>0,E75674=0),0,1)","v":0}]
[{"$nulls":4},0,{"$nulls":7},0,{"$nulls":13},{"$f":"IF(OR(SUMPRODUCT(--(E75728=$O$1:$O$542))>0,E75728=0),0,1)","v":0}]
[{"$nulls":4},{"$f":"IF(AND(F75780<>\"\",F75780=G75780),\"ERROR\",IF(AND(F75780<>\"\",F75780<>G75780),F75780,G75780))","v":0},{"$nulls":7},{"$f":"IF(L75780<>\"\",L75780,K75780)","v":0},{"$nulls":13},{"$f":"IF(OR(SUMPRODUCT(--(E75780=$O$1:$O$542))>0,E75780=0),0,1)","v":0}]
[{"$nulls":4},0,{"$nulls":7},0,{"$nulls":13},{"$f":"IF(OR(SUMPRODUCT(--(E75848=$O$1:$O$542))>0,E75848=0),0,1)","v":0}]
[{"$nulls":4},0,{"$nulls":7},0,{"$nulls":13},{"$f":"IF(OR(SUMPRODUCT(--(E75877=$O$1:$O$542))>0,E75877=0),0,1)","v":0}]
[{"$nulls":4},0,{"$nulls":7},0,{"$nulls":13},{"$f":"IF(OR(SUMPRODUCT(--(E75943=$O$1:$O$542))>0,E75943=0),0,1)","v":0}]
[{"$nulls":4},0,{"$nulls":7},0,{"$nulls":13},{"$f":"IF(OR(SUMPRODUCT(--(E75973=$O$1:$O$542))>0,E75973=0),0,1)","v":0}]
[{"$nulls":4},0,{"$nulls":7},0,{"$nulls":13},{"$f":"IF(OR(SUMPRODUCT(--(E76051=$O$1:$O$542))>0,E76051=0),0,1)","v":0}]
[{"$nulls":4},0,{"$nulls":7},0,{"$nulls":13},{"$f":"IF(OR(SUMPRODUCT(--(E76070=$O$1:$O$542))>0,E76070=0),0,1)","v":0}]
[{"$nulls":4},0,{"$nulls":7},0,{"$nulls":13},{"$f":"IF(OR(SUMPRODUCT(--(E76142=$O$1:$O$542))>0,E76142=0),0,1)","v":0}]
[{"$nulls":4},0,{"$nulls":7},0,{"$nulls":13},{"$f":"IF(OR(SUMPRODUCT(--(E76176=$O$1:$O$542))>0,E76176=0),0,1)","v":0}]
[{"$nulls":4},0,{"$nulls":7},0,{"$nulls":13},{"$f":"IF(OR(SUMPRODUCT(--(E76244=$O$1:$O$542))>0,E76244=0),0,1)","v":0}]
[{"$nulls":4},0,{"$nulls":7},0,{"$nulls":13},{"$f":"IF(OR(SUMPRODUCT(--(E76273=$O$1:$O$542))>0,E76273=0),0,1)","v":0}]
[{"$nulls":4},0,{"$nulls":7},0,{"$nulls":13},{"$f":"IF(OR(SUMPRODUCT(--(E76309=$O$1:$O$542))>0,E76309=0),0,1)","v":0}]
[{"$nulls":4},0,{"$nulls":7},0,{"$nulls":13},{"$f":"IF(OR(SUMPRODUCT(--(E76369=$O$1:$O$542))>0,E76369=0),0,1)","v":0}]
[{"$nulls":4},0,{"$nulls":7},0,{"$nulls":13},{"$f":"IF(OR(SUMPRODUCT(--(E76398=$O$1:$O$542))>0,E76398=0),0,1)","v":0}]
[{"$nulls":4},0,{"$nulls":7},0,{"$nulls":13},{"$f":"IF(OR(SUMPRODUCT(--(E76466=$O$1:$O$542))>0,E76466=0),0,1)","v":0}]
[{"$nulls":4},0,{"$nulls":7},0,{"$nulls":13},{"$f":"IF(OR(SUMPRODUCT(--(E76508=$O$1:$O$542))>0,E76508=0),0,1)","v":0}]
[{"$nulls":4},0,{"$nulls":7},0,{"$nulls":13},{"$f":"IF(OR(SUMPRODUCT(--(E76562=$O$1:$O$542))>0,E76562=0),0,1)","v":0}]
[{"$nulls":4},0,{"$nulls":7},0,{"$nulls":13},{"$f":"IF(OR(SUMPRODUCT(--(E76591=$O$1:$O$542))>0,E76591=0),0,1)","v":0}]
[{"$nulls":4},0,{"$nulls":7},0,{"$nulls":13},{"$f":"IF(OR(SUMPRODUCT(--(E76669=$O$1:$O$542))>0,E76669=0),0,1)","v":0}]
[{"$nulls":4},0,{"$nulls":7},0,{"$nulls":13},{"$f":"IF(OR(SUMPRODUCT(--(E76723=$O$1:$O$542))>0,E76723=0),0,1)","v":0}]
[{"$nulls":4},0,{"$nulls":7},0,{"$nulls":13},{"$f":"IF(OR(SUMPRODUCT(--(E76765=$O$1:$O$542))>0,E76765=0),0,1)","v":0}]
[{"$nulls":4},0,{"$nulls":7},0,{"$nulls":13},{"$f":"IF(OR(SUMPRODUCT(--(E76794=$O$1:$O$542))>0,E76794=0),0,1)","v":0}]
[{"$nulls":4},0,{"$nulls":7},0,{"$nulls":13},{"$f":"IF(OR(SUMPRODUCT(--(E76862=$O$1:$O$542))>0,E76862=0),0,1)","v":0}]
[{"$nulls":4},0,{"$nulls":7},0,{"$nulls":13},{"$f":"IF(OR(SUMPRODUCT(--(E76922=$O$1:$O$542))>0,E76922=0),0,1)","v":0}]
[{"$nulls":4},0,{"$nulls":7},0,{"$nulls":13},{"$f":"IF(OR(SUMPRODUCT(--(E76958=$O$1:$O$542))>0,E76958=0),0,1)","v":0}]
[{"$nulls":4},0,{"$nulls":7},0,{"$nulls":13},{"$f":"IF(OR(SUMPRODUCT(--(E76987=$O$1:$O$542))>0,E76987=0),0,1)","v":0}]
[{"$nulls":4},0,{"$nulls":7},0,{"$nulls":13},{"$f":"IF(OR(SUMPRODUCT(--(E77065=$O$1:$O$542))>0,E77065=0),0,1)","v":0}]
[{"$nulls":4},0,{"$nulls":7},0,{"$nulls":13},{"$f":"IF(OR(SUMPRODUCT(--(E77089=$O$1:$O$542))>0,E77089=0),0,1)","v":0}]
[{"$nulls":4},0,{"$nulls":7},0,{"$nulls":13},{"$f":"IF(OR(SUMPRODUCT(--(E77161=$O$1:$O$542))>0,E77161=0),0,1)","v":0}]
[{"$nulls":4},0,{"$nulls":7},0,{"$nulls":13},{"$f":"IF(OR(SUMPRODUCT(--(E77190=$O$1:$O$542))>0,E77190=0),0,1)","v":0}]
[{"$nulls":4},0,{"$nulls":7},0,{"$nulls":13},{"$f":"IF(OR(SUMPRODUCT(--(E77258=$O$1:$O$542))>0,E77258=0),0,1)","v":0}]
[{"$nulls":4},0,{"$nulls":7},0,{"$nulls":13},{"$f":"IF(OR(SUMPRODUCT(--(E77288=$O$1:$O$542))>0,E77288=0),0,1)","v":0}]
[{"$nulls":4},0,{"$nulls":7},0,{"$nulls":13},{"$f":"IF(OR(SUMPRODUCT(--(E77354=$O$1:$O$542))>0,E77354=0),0,1)","v":0}]
[{"$nulls":4},0,{"$nulls":7},0,{"$nulls":13},{"$f":"IF(OR(SUMPRODUCT(--(E77383=$O$1:$O$542))>0,E77383=0),0,1)","v":0}]
[{"$nulls":4},0,{"$nulls":7},0,{"$nulls":13},{"$f":"IF(OR(SUMPRODUCT(--(E77461=$O$1:$O$542))>0,E77461=0),0,1)","v":0}]
[{"$nulls":4},0,{"$nulls":7},0,{"$nulls":13},{"$f":"IF(OR(SUMPRODUCT(--(E77503=$O$1:$O$542))>0,E77503=0),0,1)","v":0}]
[{"$nulls":4},0,{"$nulls":7},0,{"$nulls":13},{"$f":"IF(OR(SUMPRODUCT(--(E77557=$O$1:$O$542))>0,E77557=0),0,1)","v":0}]
[{"$nulls":4},0,{"$nulls":7},0,{"$nulls":13},{"$f":"IF(OR(SUMPRODUCT(--(E77576=$O$1:$O$542))>0,E77576=0),0,1)","v":0}]
[{"$nulls":4},0,{"$nulls":7},0,{"$nulls":13},{"$f":"IF(OR(SUMPRODUCT(--(E77654=$O$1:$O$542))>0,E77654=0),0,1)","v":0}]
[{"$nulls":4},0,{"$nulls":7},0,{"$nulls":13},{"$f":"IF(OR(SUMPRODUCT(--(E77702=$O$1:$O$542))>0,E77702=0),0,1)","v":0}]
[{"$nulls":4},0,{"$nulls":7},0,{"$nulls":13},{"$f":"IF(OR(SUMPRODUCT(--(E77750=$O$1:$O$542))>0,E77750=0),0,1)","v":0}]
[{"$nulls":4},0,{"$nulls":7},0,{"$nulls":13},{"$f":"IF(OR(SUMPRODUCT(--(E77779=$O$1:$O$542))>0,E77779=0),0,1)","v":0}]
[{"$nulls":4},0,{"$nulls":7},0,{"$nulls":13},{"$f":"IF(OR(SUMPRODUCT(--(E77808=$O$1:$O$542))>0,E77808=0),0,1)","v":0}]
[{"$nulls":4},0,{"$nulls":7},0,{"$nulls":13},{"$f":"IF(OR(SUMPRODUCT(--(E77869=$O$1:$O$542))>0,E77869=0),0,1)","v":0}]
[{"$nulls":4},0,{"$nulls":7},0,{"$nulls":13},{"$f":"IF(OR(SUMPRODUCT(--(E77904=$O$1:$O$542))>0,E77904=0),0,1)","v":0}]
[{"$nulls":4},0,{"$nulls":7},0,{"$nulls":13},{"$f":"IF(OR(SUMPRODUCT(--(E77972=$O$1:$O$542))>0,E77972=0),0,1)","v":0}]
[{"$nulls":4},0,{"$nulls":7},0,{"$nulls":13},{"$f":"IF(OR(SUMPRODUCT(--(E78050=$O$1:$O$542))>0,E78050=0),0,1)","v":0}]
[{"$nulls":4},0,{"$nulls":7},0,{"$nulls":13},{"$f":"IF(OR(SUMPRODUCT(--(E78068=$O$1:$O$542))>0,E78068=0),0,1)","v":0}]
[{"$nulls":4},0,{"$nulls":7},0,{"$nulls":13},{"$f":"IF(OR(SUMPRODUCT(--(E78146=$O$1:$O$542))>0,E78146=0),0,1)","v":0}]
[{"$nulls":4},0,{"$nulls":7},0,{"$nulls":13},{"$f":"IF(OR(SUMPRODUCT(--(E78175=$O$1:$O$542))>0,E78175=0),0,1)","v":0}]
[{"$nulls":4},0,{"$nulls":7},0,{"$nulls":13},{"$f":"IF(OR(SUMPRODUCT(--(E78243=$O$1:$O$542))>0,E78243=0),0,1)","v":0}]
[{"$nulls":4},0,{"$nulls":7},0,{"$nulls":13},{"$f":"IF(OR(SUMPRODUCT(--(E78283=$O$1:$O$542))>0,E78283=0),0,1)","v":0}]
[{"$nulls":4},0,{"$nulls":7},0,{"$nulls":13},{"$f":"IF(OR(SUMPRODUCT(--(E78300=$O$1:$O$542))>0,E78300=0),0,1)","v":0}]
[{"$nulls":4},0,{"$nulls":7},0,{"$nulls":13},{"$f":"IF(OR(SUMPRODUCT(--(E78368=$O$1:$O$542))>0,E78368=0),0,1)","v":0}]
[{"$nulls":4},0,{"$nulls":7},0,{"$nulls":13},{"$f":"IF(OR(SUMPRODUCT(--(E78397=$O$1:$O$542))>0,E78397=0),0,1)","v":0}]
[{"$nulls":4},0,{"$nulls":7},0,{"$nulls":13},{"$f":"IF(OR(SUMPRODUCT(--(E78482=$O$1:$O$542))>0,E78482=0),0,1)","v":0}]
[{"$nulls":4},0,{"$nulls":7},0,{"$nulls":13},{"$f":"IF(OR(SUMPRODUCT(--(E78493=$O$1:$O$542))>0,E78493=0),0,1)","v":0}]
[{"$nulls":4},0,{"$nulls":7},0,{"$nulls":13},{"$f":"IF(OR(SUMPRODUCT(--(E78571=$O$1:$O$542))>0,E78571=0),0,1)","v":0}]
[{"$nulls":4},0,{"$nulls":7},0,{"$nulls":13},{"$f":"IF(OR(SUMPRODUCT(--(E78590=$O$1:$O$542))>0,E78590=0),0,1)","v":0}]
[{"$nulls":4},0,{"$nulls":7},0,{"$nulls":13},{"$f":"IF(OR(SUMPRODUCT(--(E78649=$O$1:$O$542))>0,E78649=0),0,1)","v":0}]
[{"$nulls":4},0,{"$nulls":7},0,{"$nulls":13},{"$f":"IF(OR(SUMPRODUCT(--(E78696=$O$1:$O$542))>0,E78696=0),0,1)","v":0}]
[{"$nulls":4},0,{"$nulls":7},0,{"$nulls":13},{"$f":"IF(OR(SUMPRODUCT(--(E78764=$O$1:$O$542))>0,E78764=0),0,1)","v":0}]
[{"$nulls":4},0,{"$nulls":7},0,{"$nulls":13},{"$f":"IF(OR(SUMPRODUCT(--(E78793=$O$1:$O$542))>0,E78793=0),0,1)","v":0}]
[{"$nulls":4},0,{"$nulls":7},0,{"$nulls":13},{"$f":"IF(OR(SUMPRODUCT(--(E78848=$O$1:$O$542))>0,E78848=0),0,1)","v":0}]
[{"$nulls":4},0,{"$nulls":7},0,{"$nulls":13},{"$f":"IF(OR(SUMPRODUCT(--(E78889=$O$1:$O$542))>0,E78889=0),0,1)","v":0}]
[{"$nulls":4},0,{"$nulls":7},0,{"$nulls":13},{"$f":"IF(OR(SUMPRODUCT(--(E78967=$O$1:$O$542))>0,E78967=0),0,1)","v":0}]
[{"$nulls":4},0,{"$nulls":7},0,{"$nulls":13},{"$f":"IF(OR(SUMPRODUCT(--(E78986=$O$1:$O$542))>0,E78986=0),0,1)","v":0}]
[{"$nulls":4},0,{"$nulls":7},0,{"$nulls":13},{"$f":"IF(OR(SUMPRODUCT(--(E79063=$O$1:$O$542))>0,E79063=0),0,1)","v":0}]
[{"$nulls":4},0,{"$nulls":7},0,{"$nulls":13},{"$f":"IF(OR(SUMPRODUCT(--(E79092=$O$1:$O$542))>0,E79092=0),0,1)","v":0}]
[{"$nulls":4},0,{"$nulls":7},0,{"$nulls":13},{"$f":"IF(OR(SUMPRODUCT(--(E79160=$O$1:$O$542))>0,E79160=0),0,1)","v":0}]
[{"$nulls":4},0,{"$nulls":7},0,{"$nulls":13},{"$f":"IF(OR(SUMPRODUCT(--(E79189=$O$1:$O$542))>0,E79189=0),0,1)","v":0}]
[{"$nulls":4},0,{"$nulls":7},0,{"$nulls":13},{"$f":"IF(OR(SUMPRODUCT(--(E79230=$O$1:$O$542))>0,E79230=0),0,1)","v":0}]
[{"$nulls":4},0,{"$nulls":7},0,{"$nulls":13},{"$f":"IF(OR(SUMPRODUCT(--(E79285=$O$1:$O$542))>0,E79285=0),0,1)","v":0}]
[{"$nulls":4},0,{"$nulls":7},0,{"$nulls":13},{"$f":"IF(OR(SUMPRODUCT(--(E79363=$O$1:$O$542))>0,E79363=0),0,1)","v":0}]
[{"$nulls":4},0,{"$nulls":7},0,{"$nulls":13},{"$f":"IF(OR(SUMPRODUCT(--(E79382=$O$1:$O$542))>0,E79382=0),0,1)","v":0}]
[{"$nulls":4},0,{"$nulls":7},0,{"$nulls":13},{"$f":"IF(OR(SUMPRODUCT(--(E79429=$O$1:$O$542))>0,E79429=0),0,1)","v":0}]
[{"$nulls":4},0,{"$nulls":7},0,{"$nulls":13},{"$f":"IF(OR(SUMPRODUCT(--(E79488=$O$1:$O$542))>0,E79488=0),0,1)","v":0}]
[{"$nulls":4},{"$f":"IF(AND(F79556<>\"\",F79556=G79556),\"ERROR\",IF(AND(F79556<>\"\",F79556<>G79556),F79556,G79556))","v":0},{"$nulls":7},{"$f":"IF(L79556<>\"\",L79556,K79556)","v":0},{"$nulls":13},{"$f":"IF(OR(SUMPRODUCT(--(E79556=$O$1:$O$542))>0,E79556=0),0,1)","v":0}]
[{"$nulls":4},0,{"$nulls":7},0,{"$nulls":13},{"$f":"IF(OR(SUMPRODUCT(--(E79585=$O$1:$O$542))>0,E79585=0),0,1)","v":0}]
[{"$nulls":4},0,{"$nulls":7},0,{"$nulls":13},{"$f":"IF(OR(SUMPRODUCT(--(E79644=$O$1:$O$542))>0,E79644=0),0,1)","v":0}]
[{"$nulls":4},0,{"$nulls":7},0,{"$nulls":13},{"$f":"IF(OR(SUMPRODUCT(--(E79681=$O$1:$O$542))>0,E79681=0),0,1)","v":0}]
[{"$nulls":4},0,{"$nulls":7},0,{"$nulls":13},{"$f":"IF(OR(SUMPRODUCT(--(E79710=$O$1:$O$542))>0,E79710=0),0,1)","v":0}]
[{"$nulls":4},0,{"$nulls":7},0,{"$nulls":13},{"$f":"IF(OR(SUMPRODUCT(--(E79778=$O$1:$O$542))>0,E79778=0),0,1)","v":0}]
[{"$nulls":4},0,{"$nulls":7},0,{"$nulls":13},{"$f":"IF(OR(SUMPRODUCT(--(E79843=$O$1:$O$542))>0,E79843=0),0,1)","v":0}]
[{"$nulls":4},0,{"$nulls":7},0,{"$nulls":13},{"$f":"IF(OR(SUMPRODUCT(--(E79884=$O$1:$O$542))>0,E79884=0),0,1)","v":0}]
[{"$nulls":4},0,{"$nulls":7},0,{"$nulls":13},{"$f":"IF(OR(SUMPRODUCT(--(E79903=$O$1:$O$542))>0,E79903=0),0,1)","v":0}]
[{"$nulls":4},0,{"$nulls":7},0,{"$nulls":13},{"$f":"IF(OR(SUMPRODUCT(--(E79981=$O$1:$O$542))>0,E79981=0),0,1)","v":0}]
[{"$nulls":4},0,{"$nulls":7},0,{"$nulls":13},{"$f":"IF(OR(SUMPRODUCT(--(E80010=$O$1:$O$542))>0,E80010=0),0,1)","v":0}]
[{"$nulls":4},0,{"$nulls":7},0,{"$nulls":13},{"$f":"IF(OR(SUMPRODUCT(--(E80077=$O$1:$O$542))>0,E80077=0),0,1)","v":0}]
[{"$nulls":4},0,{"$nulls":7},0,{"$nulls":13},{"$f":"IF(OR(SUMPRODUCT(--(E80106=$O$1:$O$542))>0,E80106=0),0,1)","v":0}]
[{"$nulls":4},0,{"$nulls":7},0,{"$nulls":13},{"$f":"IF(OR(SUMPRODUCT(--(E80174=$O$1:$O$542))>0,E80174=0),0,1)","v":0}]
[{"$nulls":4},0,{"$nulls":7},0,{"$nulls":13},{"$f":"IF(OR(SUMPRODUCT(--(E80209=$O$1:$O$542))>0,E80209=0),0,1)","v":0}]
[{"$nulls":4},0,{"$nulls":7},0,{"$nulls":13},{"$f":"IF(OR(SUMPRODUCT(--(E80270=$O$1:$O$542))>0,E80270=0),0,1)","v":0}]
[{"$nulls":4},0,{"$nulls":7},0,{"$nulls":13},{"$f":"IF(OR(SUMPRODUCT(--(E80299=$O$1:$O$542))>0,E80299=0),0,1)","v":0}]
[{"$nulls":4},0,{"$nulls":7},0,{"$nulls":13},{"$f":"IF(OR(SUMPRODUCT(--(E80377=$O$1:$O$542))>0,E80377=0),0,1)","v":0}]
[{"$nulls":4},0,{"$nulls":7},0,{"$nulls":13},{"$f":"IF(OR(SUMPRODUCT(--(E80424=$O$1:$O$542))>0,E80424=0),0,1)","v":0}]
[{"$nulls":4},0,{"$nulls":7},0,{"$nulls":13},{"$f":"IF(OR(SUMPRODUCT(--(E80473=$O$1:$O$542))>0,E80473=0),0,1)","v":0}]
[{"$nulls":4},0,{"$nulls":7},0,{"$nulls":13},{"$f":"IF(OR(SUMPRODUCT(--(E80502=$O$1:$O$542))>0,E80502=0),0,1)","v":0}]
[{"$nulls":4},0,{"$nulls":7},0,{"$nulls":13},{"$f":"IF(OR(SUMPRODUCT(--(E80570=$O$1:$O$542))>0,E80570=0),0,1)","v":0}]
[{"$nulls":4},0,{"$nulls":7},0,{"$nulls":13},{"$f":"IF(OR(SUMPRODUCT(--(E80623=$O$1:$O$542))>0,E80623=0),0,1)","v":0}]
[{"$nulls":4},0,{"$nulls":7},0,{"$nulls":13},{"$f":"IF(OR(SUMPRODUCT(--(E80666=$O$1:$O$542))>0,E80666=0),0,1)","v":0}]
[{"$nulls":4},0,{"$nulls":7},0,{"$nulls":13},{"$f":"IF(OR(SUMPRODUCT(--(E80695=$O$1:$O$542))>0,E80695=0),0,1)","v":0}]
[{"$nulls":4},0,{"$nulls":7},0,{"$nulls":13},{"$f":"IF(OR(SUMPRODUCT(--(E80773=$O$1:$O$542))>0,E80773=0),0,1)","v":0}]
[{"$nulls":4},0,{"$nulls":7},0,{"$nulls":13},{"$f":"IF(OR(SUMPRODUCT(--(E80790=$O$1:$O$542))>0,E80790=0),0,1)","v":0}]
[{"$nulls":4},0,{"$nulls":7},0,{"$nulls":13},{"$f":"IF(OR(SUMPRODUCT(--(E80869=$O$1:$O$542))>0,E80869=0),0,1)","v":0}]
[{"$nulls":4},0,{"$nulls":7},0,{"$nulls":13},{"$f":"IF(OR(SUMPRODUCT(--(E80888=$O$1:$O$542))>0,E80888=0),0,1)","v":0}]
[{"$nulls":4},0,{"$nulls":7},0,{"$nulls":13},{"$f":"IF(OR(SUMPRODUCT(--(E80966=$O$1:$O$542))>0,E80966=0),0,1)","v":0}]
[{"$nulls":4},0,{"$nulls":7},0,{"$nulls":13},{"$f":"IF(OR(SUMPRODUCT(--(E80989=$O$1:$O$542))>0,E80989=0),0,1)","v":0}]
[{"$nulls":4},0,{"$nulls":7},0,{"$nulls":13},{"$f":"IF(OR(SUMPRODUCT(--(E81062=$O$1:$O$542))>0,E81062=0),0,1)","v":0}]
[{"$nulls":4},0,{"$nulls":7},0,{"$nulls":13},{"$f":"IF(OR(SUMPRODUCT(--(E81091=$O$1:$O$542))>0,E81091=0),0,1)","v":0}]
[{"$nulls":4},0,{"$nulls":7},0,{"$nulls":13},{"$f":"IF(OR(SUMPRODUCT(--(E81169=$O$1:$O$542))>0,E81169=0),0,1)","v":0}]
[{"$nulls":4},0,{"$nulls":7},0,{"$nulls":13},{"$f":"IF(OR(SUMPRODUCT(--(E81204=$O$1:$O$542))>0,E81204=0),0,1)","v":0}]
[{"$nulls":4},0,{"$nulls":7},0,{"$nulls":13},{"$f":"IF(OR(SUMPRODUCT(--(E81265=$O$1:$O$542))>0,E81265=0),0,1)","v":0}]
[{"$nulls":4},0,{"$nulls":7},0,{"$nulls":13},{"$f":"IF(OR(SUMPRODUCT(--(E81284=$O$1:$O$542))>0,E81284=0),0,1)","v":0}]
[{"$nulls":4},0,{"$nulls":7},0,{"$nulls":13},{"$f":"IF(OR(SUMPRODUCT(--(E81362=$O$1:$O$542))>0,E81362=0),0,1)","v":0}]
[{"$nulls":4},0,{"$nulls":7},0,{"$nulls":13},{"$f":"IF(OR(SUMPRODUCT(--(E81403=$O$1:$O$542))>0,E81403=0),0,1)","v":0}]
[{"$nulls":4},0,{"$nulls":7},0,{"$nulls":13},{"$f":"IF(OR(SUMPRODUCT(--(E81458=$O$1:$O$542))>0,E81458=0),0,1)","v":0}]
[{"$nulls":4},0,{"$nulls":7},0,{"$nulls":13},{"$f":"IF(OR(SUMPRODUCT(--(E81487=$O$1:$O$542))>0,E81487=0),0,1)","v":0}]
[{"$nulls":4},0,{"$nulls":7},0,{"$nulls":13},{"$f":"IF(OR(SUMPRODUCT(--(E81516=$O$1:$O$542))>0,E81516=0),0,1)","v":0}]
[{"$nulls":4},0,{"$nulls":7},0,{"$nulls":13},{"$f":"IF(OR(SUMPRODUCT(--(E81570=$O$1:$O$542))>0,E81570=0),0,1)","v":0}]
[{"$nulls":4},0,{"$nulls":7},0,{"$nulls":13},{"$f":"IF(OR(SUMPRODUCT(--(E81612=$O$1:$O$542))>0,E81612=0),0,1)","v":0}]
[{"$nulls":4},0,{"$nulls":7},0,{"$nulls":13},{"$f":"IF(OR(SUMPRODUCT(--(E81680=$O$1:$O$542))>0,E81680=0),0,1)","v":0}]
[{"$nulls":4},0,{"$nulls":7},0,{"$nulls":13},{"$f":"IF(OR(SUMPRODUCT(--(E81709=$O$1:$O$542))>0,E81709=0),0,1)","v":0}]
[{"$nulls":4},0,{"$nulls":7},0,{"$nulls":13},{"$f":"IF(OR(SUMPRODUCT(--(E81769=$O$1:$O$542))>0,E81769=0),0,1)","v":0}]
[{"$nulls":4},0,{"$nulls":7},0,{"$nulls":13},{"$f":"IF(OR(SUMPRODUCT(--(E81805=$O$1:$O$542))>0,E81805=0),0,1)","v":0}]
[{"$nulls":4},0,{"$nulls":7},0,{"$nulls":13},{"$f":"IF(OR(SUMPRODUCT(--(E81883=$O$1:$O$542))>0,E81883=0),0,1)","v":0}]
[{"$nulls":4},0,{"$nulls":7},0,{"$nulls":13},{"$f":"IF(OR(SUMPRODUCT(--(E81902=$O$1:$O$542))>0,E81902=0),0,1)","v":0}]
[{"$nulls":4},0,{"$nulls":7},0,{"$nulls":13},{"$f":"IF(OR(SUMPRODUCT(--(E81984=$O$1:$O$542))>0,E81984=0),0,1)","v":0}]
[{"$nulls":4},0,{"$nulls":7},0,{"$nulls":13},{"$f":"IF(OR(SUMPRODUCT(--(E82008=$O$1:$O$542))>0,E82008=0),0,1)","v":0}]
[{"$nulls":4},0,{"$nulls":7},0,{"$nulls":13},{"$f":"IF(OR(SUMPRODUCT(--(E82076=$O$1:$O$542))>0,E82076=0),0,1)","v":0}]
[{"$nulls":4},0,{"$nulls":7},0,{"$nulls":13},{"$f":"IF(OR(SUMPRODUCT(--(E82105=$O$1:$O$542))>0,E82105=0),0,1)","v":0}]
[{"$nulls":4},0,{"$nulls":7},0,{"$nulls":13},{"$f":"IF(OR(SUMPRODUCT(--(E82183=$O$1:$O$542))>0,E82183=0),0,1)","v":0}]
[{"$nulls":4},0,{"$nulls":7},0,{"$nulls":13},{"$f":"IF(OR(SUMPRODUCT(--(E82201=$O$1:$O$542))>0,E82201=0),0,1)","v":0}]
[{"$nulls":4},0,{"$nulls":7},0,{"$nulls":13},{"$f":"IF(OR(SUMPRODUCT(--(E82279=$O$1:$O$542))>0,E82279=0),0,1)","v":0}]
[{"$nulls":4},0,{"$nulls":7},0,{"$nulls":13},{"$f":"IF(OR(SUMPRODUCT(--(E82298=$O$1:$O$542))>0,E82298=0),0,1)","v":0}]
[{"$nulls":4},0,{"$nulls":7},0,{"$nulls":13},{"$f":"IF(OR(SUMPRODUCT(--(E82350=$O$1:$O$542))>0,E82350=0),0,1)","v":0}]
[{"$nulls":4},0,{"$nulls":7},0,{"$nulls":13},{"$f":"IF(OR(SUMPRODUCT(--(E82404=$O$1:$O$542))>0,E82404=0),0,1)","v":0}]
[{"$nulls":4},0,{"$nulls":7},0,{"$nulls":13},{"$f":"IF(OR(SUMPRODUCT(--(E82472=$O$1:$O$542))>0,E82472=0),0,1)","v":0}]
[{"$nulls":4},0,{"$nulls":7},0,{"$nulls":13},{"$f":"IF(OR(SUMPRODUCT(--(E82501=$O$1:$O$542))>0,E82501=0),0,1)","v":0}]
[{"$nulls":4},0,{"$nulls":7},0,{"$nulls":13},{"$f":"IF(OR(SUMPRODUCT(--(E82565=$O$1:$O$542))>0,E82565=0),0,1)","v":0}]
[{"$nulls":4},0,{"$nulls":7},0,{"$nulls":13},{"$f":"IF(OR(SUMPRODUCT(--(E82597=$O$1:$O$542))>0,E82597=0),0,1)","v":0}]
[{"$nulls":4},0,{"$nulls":7},0,{"$nulls":13},{"$f":"IF(OR(SUMPRODUCT(--(E82675=$O$1:$O$542))>0,E82675=0),0,1)","v":0}]
[{"$nulls":4},0,{"$nulls":7},0,{"$nulls":13},{"$f":"IF(OR(SUMPRODUCT(--(E82694=$O$1:$O$542))>0,E82694=0),0,1)","v":0}]
[{"$nulls":4},0,{"$nulls":7},0,{"$nulls":13},{"$f":"IF(OR(SUMPRODUCT(--(E82764=$O$1:$O$542))>0,E82764=0),0,1)","v":0}]
[{"$nulls":4},0,{"$nulls":7},0,{"$nulls":13},{"$f":"IF(OR(SUMPRODUCT(--(E82800=$O$1:$O$542))>0,E82800=0),0,1)","v":0}]
[{"$nulls":4},0,{"$nulls":7},0,{"$nulls":13},{"$f":"IF(OR(SUMPRODUCT(--(E82868=$O$1:$O$542))>0,E82868=0),0,1)","v":0}]
[{"$nulls":4},0,{"$nulls":7},0,{"$nulls":13},{"$f":"IF(OR(SUMPRODUCT(--(E82897=$O$1:$O$542))>0,E82897=0),0,1)","v":0}]
[{"$nulls":4},0,{"$nulls":7},0,{"$nulls":13},{"$f":"IF(OR(SUMPRODUCT(--(E82931=$O$1:$O$542))>0,E82931=0),0,1)","v":0}]
[{"$nulls":4},0,{"$nulls":7},0,{"$nulls":13},{"$f":"IF(OR(SUMPRODUCT(--(E82993=$O$1:$O$542))>0,E82993=0),0,1)","v":0}]
[{"$nulls":4},0,{"$nulls":7},0,{"$nulls":13},{"$f":"IF(OR(SUMPRODUCT(--(E83071=$O$1:$O$542))>0,E83071=0),0,1)","v":0}]
[{"$nulls":4},0,{"$nulls":7},0,{"$nulls":13},{"$f":"IF(OR(SUMPRODUCT(--(E83090=$O$1:$O$542))>0,E83090=0),0,1)","v":0}]
[{"$nulls":4},0,{"$nulls":7},0,{"$nulls":13},{"$f":"IF(OR(SUMPRODUCT(--(E83130=$O$1:$O$542))>0,E83130=0),0,1)","v":0}]
[{"$nulls":4},0,{"$nulls":7},0,{"$nulls":13},{"$f":"IF(OR(SUMPRODUCT(--(E83196=$O$1:$O$542))>0,E83196=0),0,1)","v":0}]
[{"$nulls":4},0,{"$nulls":7},0,{"$nulls":13},{"$f":"IF(OR(SUMPRODUCT(--(E83264=$O$1:$O$542))>0,E83264=0),0,1)","v":0}]
[{"$nulls":4},0,{"$nulls":7},0,{"$nulls":13},{"$f":"IF(OR(SUMPRODUCT(--(E83293=$O$1:$O$542))>0,E83293=0),0,1)","v":0}]
[{"$nulls":4},0,{"$nulls":7},0,{"$nulls":13},{"$f":"IF(OR(SUMPRODUCT(--(E83345=$O$1:$O$542))>0,E83345=0),0,1)","v":0}]
[{"$nulls":4},0,{"$nulls":7},0,{"$nulls":13},{"$f":"IF(OR(SUMPRODUCT(--(E83389=$O$1:$O$542))>0,E83389=0),0,1)","v":0}]
[{"$nulls":4},0,{"$nulls":7},0,{"$nulls":13},{"$f":"IF(OR(SUMPRODUCT(--(E83418=$O$1:$O$542))>0,E83418=0),0,1)","v":0}]
[{"$nulls":4},0,{"$nulls":7},0,{"$nulls":13},{"$f":"IF(OR(SUMPRODUCT(--(E83486=$O$1:$O$542))>0,E83486=0),0,1)","v":0}]
[{"$nulls":4},0,{"$nulls":7},0,{"$nulls":13},{"$f":"IF(OR(SUMPRODUCT(--(E83544=$O$1:$O$542))>0,E83544=0),0,1)","v":0}]
[{"$nulls":4},0,{"$nulls":7},0,{"$nulls":13},{"$f":"IF(OR(SUMPRODUCT(--(E83582=$O$1:$O$542))>0,E83582=0),0,1)","v":0}]
[{"$nulls":4},0,{"$nulls":7},0,{"$nulls":13},{"$f":"IF(OR(SUMPRODUCT(--(E83611=$O$1:$O$542))>0,E83611=0),0,1)","v":0}]
[{"$nulls":4},0,{"$nulls":7},0,{"$nulls":13},{"$f":"IF(OR(SUMPRODUCT(--(E83689=$O$1:$O$542))>0,E83689=0),0,1)","v":0}]
[{"$nulls":4},0,{"$nulls":7},0,{"$nulls":13},{"$f":"IF(OR(SUMPRODUCT(--(E83711=$O$1:$O$542))>0,E83711=0),0,1)","v":0}]
[{"$nulls":4},0,{"$nulls":7},0,{"$nulls":13},{"$f":"IF(OR(SUMPRODUCT(--(E83785=$O$1:$O$542))>0,E83785=0),0,1)","v":0}]
[{"$nulls":4},0,{"$nulls":7},0,{"$nulls":13},{"$f":"IF(OR(SUMPRODUCT(--(E83814=$O$1:$O$542))>0,E83814=0),0,1)","v":0}]
[{"$nulls":4},{"$f":"IF(AND(F83882<>\"\",F83882=G83882),\"ERROR\",IF(AND(F83882<>\"\",F83882<>G83882),F83882,G83882))","v":0},{"$nulls":7},{"$f":"IF(L83882<>\"\",L83882,K83882)","v":0},{"$nulls":13},{"$f":"IF(OR(SUMPRODUCT(--(E83882=$O$1:$O$542))>0,E83882=0),0,1)","v":0}]
[{"$nulls":4},0,{"$nulls":7},0,{"$nulls":13},{"$f":"IF(OR(SUMPRODUCT(--(E83910=$O$1:$O$542))>0,E83910=0),0,1)","v":0}]
[{"$nulls":4},0,{"$nulls":7},0,{"$nulls":13},{"$f":"IF(OR(SUMPRODUCT(--(E83978=$O$1:$O$542))>0,E83978=0),0,1)","v":0}]
[{"$nulls":4},0,{"$nulls":7},0,{"$nulls":13},{"$f":"IF(OR(SUMPRODUCT(--(E84007=$O$1:$O$542))>0,E84007=0),0,1)","v":0}]
[{"$nulls":4},0,{"$nulls":7},0,{"$nulls":13},{"$f":"IF(OR(SUMPRODUCT(--(E84085=$O$1:$O$542))>0,E84085=0),0,1)","v":0}]
[{"$nulls":4},0,{"$nulls":7},0,{"$nulls":13},{"$f":"IF(OR(SUMPRODUCT(--(E84125=$O$1:$O$542))>0,E84125=0),0,1)","v":0}]
[{"$nulls":4},0,{"$nulls":7},0,{"$nulls":13},{"$f":"IF(OR(SUMPRODUCT(--(E84181=$O$1:$O$542))>0,E84181=0),0,1)","v":0}]
[{"$nulls":4},0,{"$nulls":7},0,{"$nulls":13},{"$f":"IF(OR(SUMPRODUCT(--(E84210=$O$1:$O$542))>0,E84210=0),0,1)","v":0}]
[{"$nulls":4},0,{"$nulls":7},0,{"$nulls":13},{"$f":"IF(OR(SUMPRODUCT(--(E84278=$O$1:$O$542))>0,E84278=0),0,1)","v":0}]
[{"$nulls":4},0,{"$nulls":7},0,{"$nulls":13},{"$f":"IF(OR(SUMPRODUCT(--(E84324=$O$1:$O$542))>0,E84324=0),0,1)","v":0}]
[{"$nulls":4},0,{"$nulls":7},0,{"$nulls":13},{"$f":"IF(OR(SUMPRODUCT(--(E84374=$O$1:$O$542))>0,E84374=0),0,1)","v":0}]
[{"$nulls":4},0,{"$nulls":7},0,{"$nulls":13},{"$f":"IF(OR(SUMPRODUCT(--(E84403=$O$1:$O$542))>0,E84403=0),0,1)","v":0}]
[{"$nulls":4},0,{"$nulls":7},0,{"$nulls":13},{"$f":"IF(OR(SUMPRODUCT(--(E84481=$O$1:$O$542))>0,E84481=0),0,1)","v":0}]
[{"$nulls":4},0,{"$nulls":7},0,{"$nulls":13},{"$f":"IF(OR(SUMPRODUCT(--(E84491=$O$1:$O$542))>0,E84491=0),0,1)","v":0}]
[{"$nulls":4},0,{"$nulls":7},0,{"$nulls":13},{"$f":"IF(OR(SUMPRODUCT(--(E84577=$O$1:$O$542))>0,E84577=0),0,1)","v":0}]
[{"$nulls":4},0,{"$nulls":7},0,{"$nulls":13},{"$f":"IF(OR(SUMPRODUCT(--(E84596=$O$1:$O$542))>0,E84596=0),0,1)","v":0}]
[{"$nulls":4},0,{"$nulls":7},0,{"$nulls":13},{"$f":"IF(OR(SUMPRODUCT(--(E84674=$O$1:$O$542))>0,E84674=0),0,1)","v":0}]
[{"$nulls":4},0,{"$nulls":7},0,{"$nulls":13},{"$f":"IF(OR(SUMPRODUCT(--(E84690=$O$1:$O$542))>0,E84690=0),0,1)","v":0}]
[{"$nulls":4},0,{"$nulls":7},0,{"$nulls":13},{"$f":"IF(OR(SUMPRODUCT(--(E84770=$O$1:$O$542))>0,E84770=0),0,1)","v":0}]
[{"$nulls":4},0,{"$nulls":7},0,{"$nulls":13},{"$f":"IF(OR(SUMPRODUCT(--(E84799=$O$1:$O$542))>0,E84799=0),0,1)","v":0}]
[{"$nulls":4},0,{"$nulls":7},0,{"$nulls":13},{"$f":"IF(OR(SUMPRODUCT(--(E84828=$O$1:$O$542))>0,E84828=0),0,1)","v":0}]
[{"$nulls":4},0,{"$nulls":7},0,{"$nulls":13},{"$f":"IF(OR(SUMPRODUCT(--(E84905=$O$1:$O$542))>0,E84905=0),0,1)","v":0}]
[{"$nulls":4},0,{"$nulls":7},0,{"$nulls":13},{"$f":"IF(OR(SUMPRODUCT(--(E84924=$O$1:$O$542))>0,E84924=0),0,1)","v":0}]
[{"$nulls":4},0,{"$nulls":7},0,{"$nulls":13},{"$f":"IF(OR(SUMPRODUCT(--(E84992=$O$1:$O$542))>0,E84992=0),0,1)","v":0}]
[{"$nulls":4},0,{"$nulls":7},0,{"$nulls":13},{"$f":"IF(OR(SUMPRODUCT(--(E85070=$O$1:$O$542))>0,E85070=0),0,1)","v":0}]
[{"$nulls":4},0,{"$nulls":7},0,{"$nulls":13},{"$f":"IF(OR(SUMPRODUCT(--(E85104=$O$1:$O$542))>0,E85104=0),0,1)","v":0}]
[{"$nulls":4},0,{"$nulls":7},0,{"$nulls":13},{"$f":"IF(OR(SUMPRODUCT(--(E85166=$O$1:$O$542))>0,E85166=0),0,1)","v":0}]
[{"$nulls":4},0,{"$nulls":7},0,{"$nulls":13},{"$f":"IF(OR(SUMPRODUCT(--(E85195=$O$1:$O$542))>0,E85195=0),0,1)","v":0}]
[{"$nulls":4},0,{"$nulls":7},0,{"$nulls":13},{"$f":"IF(OR(SUMPRODUCT(--(E85263=$O$1:$O$542))>0,E85263=0),0,1)","v":0}]
[{"$nulls":4},0,{"$nulls":7},0,{"$nulls":13},{"$f":"IF(OR(SUMPRODUCT(--(E85271=$O$1:$O$542))>0,E85271=0),0,1)","v":0}]
[{"$nulls":4},0,{"$nulls":7},0,{"$nulls":13},{"$f":"IF(OR(SUMPRODUCT(--(E85320=$O$1:$O$542))>0,E85320=0),0,1)","v":0}]
[{"$nulls":4},0,{"$nulls":7},0,{"$nulls":13},{"$f":"IF(OR(SUMPRODUCT(--(E85388=$O$1:$O$542))>0,E85388=0),0,1)","v":0}]
[{"$nulls":4},0,{"$nulls":7},0,{"$nulls":13},{"$f":"IF(OR(SUMPRODUCT(--(E85417=$O$1:$O$542))>0,E85417=0),0,1)","v":0}]
[{"$nulls":4},0,{"$nulls":7},0,{"$nulls":13},{"$f":"IF(OR(SUMPRODUCT(--(E85470=$O$1:$O$542))>0,E85470=0),0,1)","v":0}]
[{"$nulls":4},0,{"$nulls":7},0,{"$nulls":13},{"$f":"IF(OR(SUMPRODUCT(--(E85513=$O$1:$O$542))>0,E85513=0),0,1)","v":0}]
[{"$nulls":4},0,{"$nulls":7},0,{"$nulls":13},{"$f":"IF(OR(SUMPRODUCT(--(E85591=$O$1:$O$542))>0,E85591=0),0,1)","v":0}]
[{"$nulls":4},{"$f":"IF(AND(F85610<>\"\",F85610=G85610),\"ERROR\",IF(AND(F85610<>\"\",F85610<>G85610),F85610,G85610))","v":0},{"$nulls":7},{"$f":"IF(L85610<>\"\",L85610,K85610)","v":0},{"$nulls":13},{"$f":"IF(OR(SUMPRODUCT(--(E85610=$O$1:$O$542))>0,E85610=0),0,1)","v":0}]
[{"$nulls":4},0,{"$nulls":7},0,{"$nulls":13},{"$f":"IF(OR(SUMPRODUCT(--(E85685=$O$1:$O$542))>0,E85685=0),0,1)","v":0}]
[{"$nulls":4},0,{"$nulls":7},0,{"$nulls":13},{"$f":"IF(OR(SUMPRODUCT(--(E85716=$O$1:$O$542))>0,E85716=0),0,1)","v":0}]
[{"$nulls":4},0,{"$nulls":7},0,{"$nulls":13},{"$f":"IF(OR(SUMPRODUCT(--(E85784=$O$1:$O$542))>0,E85784=0),0,1)","v":0}]
[{"$nulls":4},0,{"$nulls":7},0,{"$nulls":13},{"$f":"IF(OR(SUMPRODUCT(--(E85813=$O$1:$O$542))>0,E85813=0),0,1)","v":0}]
[{"$nulls":4},0,{"$nulls":7},0,{"$nulls":13},{"$f":"IF(OR(SUMPRODUCT(--(E85884=$O$1:$O$542))>0,E85884=0),0,1)","v":0}]
[{"$nulls":4},0,{"$nulls":7},0,{"$nulls":13},{"$f":"IF(OR(SUMPRODUCT(--(E85909=$O$1:$O$542))>0,E85909=0),0,1)","v":0}]
[{"$nulls":4},0,{"$nulls":7},0,{"$nulls":13},{"$f":"IF(OR(SUMPRODUCT(--(E85987=$O$1:$O$542))>0,E85987=0),0,1)","v":0}]
[{"$nulls":4},0,{"$nulls":7},0,{"$nulls":13},{"$f":"IF(OR(SUMPRODUCT(--(E86006=$O$1:$O$542))>0,E86006=0),0,1)","v":0}]
[{"$nulls":4},0,{"$nulls":7},0,{"$nulls":13},{"$f":"IF(OR(SUMPRODUCT(--(E86051=$O$1:$O$542))>0,E86051=0),0,1)","v":0}]
[{"$nulls":4},0,{"$nulls":7},0,{"$nulls":13},{"$f":"IF(OR(SUMPRODUCT(--(E86112=$O$1:$O$542))>0,E86112=0),0,1)","v":0}]
[{"$nulls":4},0,{"$nulls":7},0,{"$nulls":13},{"$f":"IF(OR(SUMPRODUCT(--(E86180=$O$1:$O$542))>0,E86180=0),0,1)","v":0}]
[{"$nulls":4},0,{"$nulls":7},0,{"$nulls":13},{"$f":"IF(OR(SUMPRODUCT(--(E86209=$O$1:$O$542))>0,E86209=0),0,1)","v":0}]
[{"$nulls":4},0,{"$nulls":7},0,{"$nulls":13},{"$f":"IF(OR(SUMPRODUCT(--(E86266=$O$1:$O$542))>0,E86266=0),0,1)","v":0}]
[{"$nulls":4},0,{"$nulls":7},0,{"$nulls":13},{"$f":"IF(OR(SUMPRODUCT(--(E86305=$O$1:$O$542))>0,E86305=0),0,1)","v":0}]
[{"$nulls":4},0,{"$nulls":7},0,{"$nulls":13},{"$f":"IF(OR(SUMPRODUCT(--(E86383=$O$1:$O$542))>0,E86383=0),0,1)","v":0}]
[{"$nulls":4},0,{"$nulls":7},0,{"$nulls":13},{"$f":"IF(OR(SUMPRODUCT(--(E86402=$O$1:$O$542))>0,E86402=0),0,1)","v":0}]
[{"$nulls":4},0,{"$nulls":7},0,{"$nulls":13},{"$f":"IF(OR(SUMPRODUCT(--(E86465=$O$1:$O$542))>0,E86465=0),0,1)","v":0}]
[{"$nulls":4},0,{"$nulls":7},0,{"$nulls":13},{"$f":"IF(OR(SUMPRODUCT(--(E86508=$O$1:$O$542))>0,E86508=0),0,1)","v":0}]
[{"$nulls":4},0,{"$nulls":7},0,{"$nulls":13},{"$f":"IF(OR(SUMPRODUCT(--(E86576=$O$1:$O$542))>0,E86576=0),0,1)","v":0}]
[{"$nulls":4},0,{"$nulls":7},0,{"$nulls":13},{"$f":"IF(OR(SUMPRODUCT(--(E86605=$O$1:$O$542))>0,E86605=0),0,1)","v":0}]
[{"$nulls":4},0,{"$nulls":7},0,{"$nulls":13},{"$f":"IF(OR(SUMPRODUCT(--(E86632=$O$1:$O$542))>0,E86632=0),0,1)","v":0}]
[{"$nulls":4},0,{"$nulls":7},0,{"$nulls":13},{"$f":"IF(OR(SUMPRODUCT(--(E86701=$O$1:$O$542))>0,E86701=0),0,1)","v":0}]
[{"$nulls":4},0,{"$nulls":7},0,{"$nulls":13},{"$f":"IF(OR(SUMPRODUCT(--(E86730=$O$1:$O$542))>0,E86730=0),0,1)","v":0}]
[{"$nulls":4},0,{"$nulls":7},0,{"$nulls":13},{"$f":"IF(OR(SUMPRODUCT(--(E86798=$O$1:$O$542))>0,E86798=0),0,1)","v":0}]
[{"$nulls":4},0,{"$nulls":7},0,{"$nulls":13},{"$f":"IF(OR(SUMPRODUCT(--(E86831=$O$1:$O$542))>0,E86831=0),0,1)","v":0}]
[{"$nulls":4},0,{"$nulls":7},0,{"$nulls":13},{"$f":"IF(OR(SUMPRODUCT(--(E86894=$O$1:$O$542))>0,E86894=0),0,1)","v":0}]
[{"$nulls":4},0,{"$nulls":7},0,{"$nulls":13},{"$f":"IF(OR(SUMPRODUCT(--(E86923=$O$1:$O$542))>0,E86923=0),0,1)","v":0}]
[{"$nulls":4},0,{"$nulls":7},0,{"$nulls":13},{"$f":"IF(OR(SUMPRODUCT(--(E87001=$O$1:$O$542))>0,E87001=0),0,1)","v":0}]
[{"$nulls":4},0,{"$nulls":7},0,{"$nulls":13},{"$f":"IF(OR(SUMPRODUCT(--(E87046=$O$1:$O$542))>0,E87046=0),0,1)","v":0}]
[{"$nulls":4},0,{"$nulls":7},0,{"$nulls":13},{"$f":"IF(OR(SUMPRODUCT(--(E87097=$O$1:$O$542))>0,E87097=0),0,1)","v":0}]
[{"$nulls":4},0,{"$nulls":7},0,{"$nulls":13},{"$f":"IF(OR(SUMPRODUCT(--(E87126=$O$1:$O$542))>0,E87126=0),0,1)","v":0}]
[{"$nulls":4},0,{"$nulls":7},0,{"$nulls":13},{"$f":"IF(OR(SUMPRODUCT(--(E87194=$O$1:$O$542))>0,E87194=0),0,1)","v":0}]
[{"$nulls":4},0,{"$nulls":7},0,{"$nulls":13},{"$f":"IF(OR(SUMPRODUCT(--(E87245=$O$1:$O$542))>0,E87245=0),0,1)","v":0}]
[{"$nulls":4},0,{"$nulls":7},0,{"$nulls":13},{"$f":"IF(OR(SUMPRODUCT(--(E87290=$O$1:$O$542))>0,E87290=0),0,1)","v":0}]
[{"$nulls":4},0,{"$nulls":7},0,{"$nulls":13},{"$f":"IF(OR(SUMPRODUCT(--(E87319=$O$1:$O$542))>0,E87319=0),0,1)","v":0}]
[{"$nulls":4},0,{"$nulls":7},0,{"$nulls":13},{"$f":"IF(OR(SUMPRODUCT(--(E87397=$O$1:$O$542))>0,E87397=0),0,1)","v":0}]
[{"$nulls":4},0,{"$nulls":7},0,{"$nulls":13},{"$f":"IF(OR(SUMPRODUCT(--(E87412=$O$1:$O$542))>0,E87412=0),0,1)","v":0}]
[{"$nulls":4},0,{"$nulls":7},0,{"$nulls":13},{"$f":"IF(OR(SUMPRODUCT(--(E87493=$O$1:$O$542))>0,E87493=0),0,1)","v":0}]
[{"$nulls":4},0,{"$nulls":7},0,{"$nulls":13},{"$f":"IF(OR(SUMPRODUCT(--(E87522=$O$1:$O$542))>0,E87522=0),0,1)","v":0}]
[{"$nulls":4},0,{"$nulls":7},0,{"$nulls":13},{"$f":"IF(OR(SUMPRODUCT(--(E87590=$O$1:$O$542))>0,E87590=0),0,1)","v":0}]
[{"$nulls":4},0,{"$nulls":7},0,{"$nulls":13},{"$f":"IF(OR(SUMPRODUCT(--(E87611=$O$1:$O$542))>0,E87611=0),0,1)","v":0}]
[{"$nulls":4},0,{"$nulls":7},0,{"$nulls":13},{"$f":"IF(OR(SUMPRODUCT(--(E87686=$O$1:$O$542))>0,E87686=0),0,1)","v":0}]
[{"$nulls":4},0,{"$nulls":7},0,{"$nulls":13},{"$f":"IF(OR(SUMPRODUCT(--(E87715=$O$1:$O$542))>0,E87715=0),0,1)","v":0}]
[{"$nulls":4},0,{"$nulls":7},0,{"$nulls":13},{"$f":"IF(OR(SUMPRODUCT(--(E87793=$O$1:$O$542))>0,E87793=0),0,1)","v":0}]
[{"$nulls":4},0,{"$nulls":7},0,{"$nulls":13},{"$f":"IF(OR(SUMPRODUCT(--(E87826=$O$1:$O$542))>0,E87826=0),0,1)","v":0}]
[{"$nulls":4},0,{"$nulls":7},0,{"$nulls":13},{"$f":"IF(OR(SUMPRODUCT(--(E87889=$O$1:$O$542))>0,E87889=0),0,1)","v":0}]
[{"$nulls":4},0,{"$nulls":7},0,{"$nulls":13},{"$f":"IF(OR(SUMPRODUCT(--(E87908=$O$1:$O$542))>0,E87908=0),0,1)","v":0}]
[{"$nulls":4},0,{"$nulls":7},0,{"$nulls":13},{"$f":"IF(OR(SUMPRODUCT(--(E87986=$O$1:$O$542))>0,E87986=0),0,1)","v":0}]
[{"$nulls":4},0,{"$nulls":7},0,{"$nulls":13},{"$f":"IF(OR(SUMPRODUCT(--(E88025=$O$1:$O$542))>0,E88025=0),0,1)","v":0}]
[{"$nulls":4},0,{"$nulls":7},0,{"$nulls":13},{"$f":"IF(OR(SUMPRODUCT(--(E88082=$O$1:$O$542))>0,E88082=0),0,1)","v":0}]
[{"$nulls":4},0,{"$nulls":7},0,{"$nulls":13},{"$f":"IF(OR(SUMPRODUCT(--(E88111=$O$1:$O$542))>0,E88111=0),0,1)","v":0}]
[{"$nulls":4},0,{"$nulls":7},0,{"$nulls":13},{"$f":"IF(OR(SUMPRODUCT(--(E88189=$O$1:$O$542))>0,E88189=0),0,1)","v":0}]
[{"$nulls":4},0,{"$nulls":7},0,{"$nulls":13},{"$f":"IF(OR(SUMPRODUCT(--(E88192=$O$1:$O$542))>0,E88192=0),0,1)","v":0}]
[{"$nulls":4},0,{"$nulls":7},0,{"$nulls":13},{"$f":"IF(OR(SUMPRODUCT(--(E88285=$O$1:$O$542))>0,E88285=0),0,1)","v":0}]
[{"$nulls":4},0,{"$nulls":7},0,{"$nulls":13},{"$f":"IF(OR(SUMPRODUCT(--(E88304=$O$1:$O$542))>0,E88304=0),0,1)","v":0}]
[{"$nulls":4},0,{"$nulls":7},0,{"$nulls":13},{"$f":"IF(OR(SUMPRODUCT(--(E88382=$O$1:$O$542))>0,E88382=0),0,1)","v":0}]
[{"$nulls":4},0,{"$nulls":7},0,{"$nulls":13},{"$f":"IF(OR(SUMPRODUCT(--(E88391=$O$1:$O$542))>0,E88391=0),0,1)","v":0}]
[{"$nulls":4},0,{"$nulls":7},0,{"$nulls":13},{"$f":"IF(OR(SUMPRODUCT(--(E88478=$O$1:$O$542))>0,E88478=0),0,1)","v":0}]
[{"$nulls":4},0,{"$nulls":7},0,{"$nulls":13},{"$f":"IF(OR(SUMPRODUCT(--(E88507=$O$1:$O$542))>0,E88507=0),0,1)","v":0}]
[{"$nulls":4},0,{"$nulls":7},0,{"$nulls":13},{"$f":"IF(OR(SUMPRODUCT(--(E88536=$O$1:$O$542))>0,E88536=0),0,1)","v":0}]
[{"$nulls":4},0,{"$nulls":7},0,{"$nulls":13},{"$f":"IF(OR(SUMPRODUCT(--(E88606=$O$1:$O$542))>0,E88606=0),0,1)","v":0}]
[{"$nulls":4},0,{"$nulls":7},0,{"$nulls":13},{"$f":"IF(OR(SUMPRODUCT(--(E88632=$O$1:$O$542))>0,E88632=0),0,1)","v":0}]
[{"$nulls":4},0,{"$nulls":7},0,{"$nulls":13},{"$f":"IF(OR(SUMPRODUCT(--(E88700=$O$1:$O$542))>0,E88700=0),0,1)","v":0}]
[{"$nulls":4},0,{"$nulls":7},0,{"$nulls":13},{"$f":"IF(OR(SUMPRODUCT(--(E88729=$O$1:$O$542))>0,E88729=0),0,1)","v":0}]
[{"$nulls":4},0,{"$nulls":7},0,{"$nulls":13},{"$f":"IF(OR(SUMPRODUCT(--(E88805=$O$1:$O$542))>0,E88805=0),0,1)","v":0}]
[{"$nulls":4},0,{"$nulls":7},0,{"$nulls":13},{"$f":"IF(OR(SUMPRODUCT(--(E88825=$O$1:$O$542))>0,E88825=0),0,1)","v":0}]
[{"$nulls":4},0,{"$nulls":7},0,{"$nulls":13},{"$f":"IF(OR(SUMPRODUCT(--(E88903=$O$1:$O$542))>0,E88903=0),0,1)","v":0}]
[{"$nulls":4},0,{"$nulls":7},0,{"$nulls":13},{"$f":"IF(OR(SUMPRODUCT(--(E88922=$O$1:$O$542))>0,E88922=0),0,1)","v":0}]
[{"$nulls":4},0,{"$nulls":7},0,{"$nulls":13},{"$f":"IF(OR(SUMPRODUCT(--(E88972=$O$1:$O$542))>0,E88972=0),0,1)","v":0}]
[{"$nulls":4},0,{"$nulls":7},0,{"$nulls":13},{"$f":"IF(OR(SUMPRODUCT(--(E89028=$O$1:$O$542))>0,E89028=0),0,1)","v":0}]
[{"$nulls":4},0,{"$nulls":7},0,{"$nulls":13},{"$f":"IF(OR(SUMPRODUCT(--(E89096=$O$1:$O$542))>0,E89096=0),0,1)","v":0}]
[{"$nulls":4},0,{"$nulls":7},0,{"$nulls":13},{"$f":"IF(OR(SUMPRODUCT(--(E89125=$O$1:$O$542))>0,E89125=0),0,1)","v":0}]
[{"$nulls":4},0,{"$nulls":7},0,{"$nulls":13},{"$f":"IF(OR(SUMPRODUCT(--(E89171=$O$1:$O$542))>0,E89171=0),0,1)","v":0}]
[{"$nulls":4},0,{"$nulls":7},0,{"$nulls":13},{"$f":"IF(OR(SUMPRODUCT(--(E89221=$O$1:$O$542))>0,E89221=0),0,1)","v":0}]
[{"$nulls":4},0,{"$nulls":7},0,{"$nulls":13},{"$f":"IF(OR(SUMPRODUCT(--(E89299=$O$1:$O$542))>0,E89299=0),0,1)","v":0}]
[{"$nulls":4},0,{"$nulls":7},0,{"$nulls":13},{"$f":"IF(OR(SUMPRODUCT(--(E89318=$O$1:$O$542))>0,E89318=0),0,1)","v":0}]
[{"$nulls":4},{"$f":"IF(AND(F89386<>\"\",F89386=G89386),\"ERROR\",IF(AND(F89386<>\"\",F89386<>G89386),F89386,G89386))","v":0},{"$nulls":7},{"$f":"IF(L89386<>\"\",L89386,K89386)","v":0},{"$nulls":13},{"$f":"IF(OR(SUMPRODUCT(--(E89386=$O$1:$O$542))>0,E89386=0),0,1)","v":0}]
[{"$nulls":4},0,{"$nulls":7},0,{"$nulls":13},{"$f":"IF(OR(SUMPRODUCT(--(E89424=$O$1:$O$542))>0,E89424=0),0,1)","v":0}]
[{"$nulls":4},0,{"$nulls":7},0,{"$nulls":13},{"$f":"IF(OR(SUMPRODUCT(--(E89492=$O$1:$O$542))>0,E89492=0),0,1)","v":0}]
[{"$nulls":4},0,{"$nulls":7},0,{"$nulls":13},{"$f":"IF(OR(SUMPRODUCT(--(E89521=$O$1:$O$542))>0,E89521=0),0,1)","v":0}]
[{"$nulls":4},0,{"$nulls":7},0,{"$nulls":13},{"$f":"IF(OR(SUMPRODUCT(--(E89601=$O$1:$O$542))>0,E89601=0),0,1)","v":0}]
[{"$nulls":4},0,{"$nulls":7},0,{"$nulls":13},{"$f":"IF(OR(SUMPRODUCT(--(E89617=$O$1:$O$542))>0,E89617=0),0,1)","v":0}]
[{"$nulls":4},0,{"$nulls":7},0,{"$nulls":13},{"$f":"IF(OR(SUMPRODUCT(--(E89695=$O$1:$O$542))>0,E89695=0),0,1)","v":0}]
[{"$nulls":4},0,{"$nulls":7},0,{"$nulls":13},{"$f":"IF(OR(SUMPRODUCT(--(E89714=$O$1:$O$542))>0,E89714=0),0,1)","v":0}]
[{"$nulls":4},0,{"$nulls":7},0,{"$nulls":13},{"$f":"IF(OR(SUMPRODUCT(--(E89752=$O$1:$O$542))>0,E89752=0),0,1)","v":0}]
[{"$nulls":4},0,{"$nulls":7},0,{"$nulls":13},{"$f":"IF(OR(SUMPRODUCT(--(E89820=$O$1:$O$542))>0,E89820=0),0,1)","v":0}]
[{"$nulls":4},0,{"$nulls":7},0,{"$nulls":13},{"$f":"IF(OR(SUMPRODUCT(--(E89888=$O$1:$O$542))>0,E89888=0),0,1)","v":0}]
[{"$nulls":4},0,{"$nulls":7},0,{"$nulls":13},{"$f":"IF(OR(SUMPRODUCT(--(E89917=$O$1:$O$542))>0,E89917=0),0,1)","v":0}]
[{"$nulls":4},0,{"$nulls":7},0,{"$nulls":13},{"$f":"IF(OR(SUMPRODUCT(--(E89967=$O$1:$O$542))>0,E89967=0),0,1)","v":0}]
[{"$nulls":4},0,{"$nulls":7},0,{"$nulls":13},{"$f":"IF(OR(SUMPRODUCT(--(E90013=$O$1:$O$542))>0,E90013=0),0,1)","v":0}]
[{"$nulls":4},0,{"$nulls":7},0,{"$nulls":13},{"$f":"IF(OR(SUMPRODUCT(--(E90091=$O$1:$O$542))>0,E90091=0),0,1)","v":0}]
[{"$nulls":4},0,{"$nulls":7},0,{"$nulls":13},{"$f":"IF(OR(SUMPRODUCT(--(E90110=$O$1:$O$542))>0,E90110=0),0,1)","v":0}]
[{"$nulls":4},0,{"$nulls":7},0,{"$nulls":13},{"$f":"IF(OR(SUMPRODUCT(--(E90166=$O$1:$O$542))>0,E90166=0),0,1)","v":0}]
[{"$nulls":4},0,{"$nulls":7},0,{"$nulls":13},{"$f":"IF(OR(SUMPRODUCT(--(E90216=$O$1:$O$542))>0,E90216=0),0,1)","v":0}]
[{"$nulls":4},0,{"$nulls":7},0,{"$nulls":13},{"$f":"IF(OR(SUMPRODUCT(--(E90284=$O$1:$O$542))>0,E90284=0),0,1)","v":0}]
[{"$nulls":4},0,{"$nulls":7},0,{"$nulls":13},{"$f":"IF(OR(SUMPRODUCT(--(E90313=$O$1:$O$542))>0,E90313=0),0,1)","v":0}]
[{"$nulls":4},0,{"$nulls":7},0,{"$nulls":13},{"$f":"IF(OR(SUMPRODUCT(--(E90381=$O$1:$O$542))>0,E90381=0),0,1)","v":0}]
[{"$nulls":4},0,{"$nulls":7},0,{"$nulls":13},{"$f":"IF(OR(SUMPRODUCT(--(E90409=$O$1:$O$542))>0,E90409=0),0,1)","v":0}]
[{"$nulls":4},0,{"$nulls":7},0,{"$nulls":13},{"$f":"IF(OR(SUMPRODUCT(--(E90438=$O$1:$O$542))>0,E90438=0),0,1)","v":0}]
[{"$nulls":4},0,{"$nulls":7},0,{"$nulls":13},{"$f":"IF(OR(SUMPRODUCT(--(E90506=$O$1:$O$542))>0,E90506=0),0,1)","v":0}]
[{"$nulls":4},0,{"$nulls":7},0,{"$nulls":13},{"$f":"IF(OR(SUMPRODUCT(--(E90532=$O$1:$O$542))>0,E90532=0),0,1)","v":0}]
[{"$nulls":4},{"$f":"IF(AND(F90602<>\"\",F90602=G90602),\"ERROR\",IF(AND(F90602<>\"\",F90602<>G90602),F90602,G90602))","v":0},{"$nulls":7},{"$f":"IF(L90602<>\"\",L90602,K90602)","v":0},{"$nulls":13},{"$f":"IF(OR(SUMPRODUCT(--(E90602=$O$1:$O$542))>0,E90602=0),0,1)","v":0}]
[{"$nulls":4},0,{"$nulls":7},0,{"$nulls":13},{"$f":"IF(OR(SUMPRODUCT(--(E90631=$O$1:$O$542))>0,E90631=0),0,1)","v":0}]
[{"$nulls":4},0,{"$nulls":7},0,{"$nulls":13},{"$f":"IF(OR(SUMPRODUCT(--(E90709=$O$1:$O$542))>0,E90709=0),0,1)","v":0}]
[{"$nulls":4},0,{"$nulls":7},0,{"$nulls":13},{"$f":"IF(OR(SUMPRODUCT(--(E90747=$O$1:$O$542))>0,E90747=0),0,1)","v":0}]
[{"$nulls":4},0,{"$nulls":7},0,{"$nulls":13},{"$f":"IF(OR(SUMPRODUCT(--(E90805=$O$1:$O$542))>0,E90805=0),0,1)","v":0}]
[{"$nulls":4},0,{"$nulls":7},0,{"$nulls":13},{"$f":"IF(OR(SUMPRODUCT(--(E90834=$O$1:$O$542))>0,E90834=0),0,1)","v":0}]
[{"$nulls":4},0,{"$nulls":7},0,{"$nulls":13},{"$f":"IF(OR(SUMPRODUCT(--(E90902=$O$1:$O$542))>0,E90902=0),0,1)","v":0}]
[{"$nulls":4},0,{"$nulls":7},0,{"$nulls":13},{"$f":"IF(OR(SUMPRODUCT(--(E90946=$O$1:$O$542))>0,E90946=0),0,1)","v":0}]
[{"$nulls":4},0,{"$nulls":7},0,{"$nulls":13},{"$f":"IF(OR(SUMPRODUCT(--(E90998=$O$1:$O$542))>0,E90998=0),0,1)","v":0}]
[{"$nulls":4},0,{"$nulls":7},0,{"$nulls":13},{"$f":"IF(OR(SUMPRODUCT(--(E91027=$O$1:$O$542))>0,E91027=0),0,1)","v":0}]
[{"$nulls":4},0,{"$nulls":7},0,{"$nulls":13},{"$f":"IF(OR(SUMPRODUCT(--(E91105=$O$1:$O$542))>0,E91105=0),0,1)","v":0}]
[{"$nulls":4},0,{"$nulls":7},0,{"$nulls":13},{"$f":"IF(OR(SUMPRODUCT(--(E91161=$O$1:$O$542))>0,E91161=0),0,1)","v":0}]
[{"$nulls":4},0,{"$nulls":7},0,{"$nulls":13},{"$f":"IF(OR(SUMPRODUCT(--(E91201=$O$1:$O$542))>0,E91201=0),0,1)","v":0}]
[{"$nulls":4},0,{"$nulls":7},0,{"$nulls":13},{"$f":"IF(OR(SUMPRODUCT(--(E91230=$O$1:$O$542))>0,E91230=0),0,1)","v":0}]
[{"$nulls":4},0,{"$nulls":7},0,{"$nulls":13},{"$f":"IF(OR(SUMPRODUCT(--(E91298=$O$1:$O$542))>0,E91298=0),0,1)","v":0}]
[{"$nulls":4},0,{"$nulls":7},0,{"$nulls":13},{"$f":"IF(OR(SUMPRODUCT(--(E91312=$O$1:$O$542))>0,E91312=0),0,1)","v":0}]
[{"$nulls":4},0,{"$nulls":7},0,{"$nulls":13},{"$f":"IF(OR(SUMPRODUCT(--(E91394=$O$1:$O$542))>0,E91394=0),0,1)","v":0}]
[{"$nulls":4},0,{"$nulls":7},0,{"$nulls":13},{"$f":"IF(OR(SUMPRODUCT(--(E91423=$O$1:$O$542))>0,E91423=0),0,1)","v":0}]
[{"$nulls":4},0,{"$nulls":7},0,{"$nulls":13},{"$f":"IF(OR(SUMPRODUCT(--(E91501=$O$1:$O$542))>0,E91501=0),0,1)","v":0}]
[{"$nulls":4},0,{"$nulls":7},0,{"$nulls":13},{"$f":"IF(OR(SUMPRODUCT(--(E91527=$O$1:$O$542))>0,E91527=0),0,1)","v":0}]
[{"$nulls":4},0,{"$nulls":7},0,{"$nulls":13},{"$f":"IF(OR(SUMPRODUCT(--(E91597=$O$1:$O$542))>0,E91597=0),0,1)","v":0}]
[{"$nulls":4},0,{"$nulls":7},0,{"$nulls":13},{"$f":"IF(OR(SUMPRODUCT(--(E91616=$O$1:$O$542))>0,E91616=0),0,1)","v":0}]
[{"$nulls":4},0,{"$nulls":7},0,{"$nulls":13},{"$f":"IF(OR(SUMPRODUCT(--(E91694=$O$1:$O$542))>0,E91694=0),0,1)","v":0}]
[{"$nulls":4},0,{"$nulls":7},0,{"$nulls":13},{"$f":"IF(OR(SUMPRODUCT(--(E91726=$O$1:$O$542))>0,E91726=0),0,1)","v":0}]
[{"$nulls":4},0,{"$nulls":7},0,{"$nulls":13},{"$f":"IF(OR(SUMPRODUCT(--(E91790=$O$1:$O$542))>0,E91790=0),0,1)","v":0}]
[{"$nulls":4},0,{"$nulls":7},0,{"$nulls":13},{"$f":"IF(OR(SUMPRODUCT(--(E91819=$O$1:$O$542))>0,E91819=0),0,1)","v":0}]
[{"$nulls":4},0,{"$nulls":7},0,{"$nulls":13},{"$f":"IF(OR(SUMPRODUCT(--(E91848=$O$1:$O$542))>0,E91848=0),0,1)","v":0}]
[{"$nulls":4},0,{"$nulls":7},0,{"$nulls":13},{"$f":"IF(OR(SUMPRODUCT(--(E91941=$O$1:$O$542))>0,E91941=0),0,1)","v":0}]
[{"$nulls":4},0,{"$nulls":7},0,{"$nulls":13},{"$f":"IF(OR(SUMPRODUCT(--(E91944=$O$1:$O$542))>0,E91944=0),0,1)","v":0}]
[{"$nulls":4},0,{"$nulls":7},0,{"$nulls":13},{"$f":"IF(OR(SUMPRODUCT(--(E92012=$O$1:$O$542))>0,E92012=0),0,1)","v":0}]
[{"$nulls":4},0,{"$nulls":7},0,{"$nulls":13},{"$f":"IF(OR(SUMPRODUCT(--(E92090=$O$1:$O$542))>0,E92090=0),0,1)","v":0}]
[{"$nulls":4},0,{"$nulls":7},0,{"$nulls":13},{"$f":"IF(OR(SUMPRODUCT(--(E92092=$O$1:$O$542))>0,E92092=0),0,1)","v":0}]
[{"$nulls":4},0,{"$nulls":7},0,{"$nulls":13},{"$f":"IF(OR(SUMPRODUCT(--(E92186=$O$1:$O$542))>0,E92186=0),0,1)","v":0}]
[{"$nulls":4},0,{"$nulls":7},0,{"$nulls":13},{"$f":"IF(OR(SUMPRODUCT(--(E92215=$O$1:$O$542))>0,E92215=0),0,1)","v":0}]
[{"$nulls":4},0,{"$nulls":7},0,{"$nulls":13},{"$f":"IF(OR(SUMPRODUCT(--(E92283=$O$1:$O$542))>0,E92283=0),0,1)","v":0}]
[{"$nulls":4},0,{"$nulls":7},0,{"$nulls":13},{"$f":"IF(OR(SUMPRODUCT(--(E92307=$O$1:$O$542))>0,E92307=0),0,1)","v":0}]
[{"$nulls":4},0,{"$nulls":7},0,{"$nulls":13},{"$f":"IF(OR(SUMPRODUCT(--(E92340=$O$1:$O$542))>0,E92340=0),0,1)","v":0}]
[{"$nulls":4},0,{"$nulls":7},0,{"$nulls":13},{"$f":"IF(OR(SUMPRODUCT(--(E92408=$O$1:$O$542))>0,E92408=0),0,1)","v":0}]
[{"$nulls":4},0,{"$nulls":7},0,{"$nulls":13},{"$f":"IF(OR(SUMPRODUCT(--(E92437=$O$1:$O$542))>0,E92437=0),0,1)","v":0}]
[{"$nulls":4},0,{"$nulls":7},0,{"$nulls":13},{"$f":"IF(OR(SUMPRODUCT(--(E92506=$O$1:$O$542))>0,E92506=0),0,1)","v":0}]
[{"$nulls":4},0,{"$nulls":7},0,{"$nulls":13},{"$f":"IF(OR(SUMPRODUCT(--(E92533=$O$1:$O$542))>0,E92533=0),0,1)","v":0}]
[{"$nulls":4},0,{"$nulls":7},0,{"$nulls":13},{"$f":"IF(OR(SUMPRODUCT(--(E92611=$O$1:$O$542))>0,E92611=0),0,1)","v":0}]
[{"$nulls":4},0,{"$nulls":7},0,{"$nulls":13},{"$f":"IF(OR(SUMPRODUCT(--(E92630=$O$1:$O$542))>0,E92630=0),0,1)","v":0}]
[{"$nulls":4},0,{"$nulls":7},0,{"$nulls":13},{"$f":"IF(OR(SUMPRODUCT(--(E92721=$O$1:$O$542))>0,E92721=0),0,1)","v":0}]
[{"$nulls":4},0,{"$nulls":7},0,{"$nulls":13},{"$f":"IF(OR(SUMPRODUCT(--(E92736=$O$1:$O$542))>0,E92736=0),0,1)","v":0}]
[{"$nulls":4},0,{"$nulls":7},0,{"$nulls":13},{"$f":"IF(OR(SUMPRODUCT(--(E92804=$O$1:$O$542))>0,E92804=0),0,1)","v":0}]
[{"$nulls":4},0,{"$nulls":7},0,{"$nulls":13},{"$f":"IF(OR(SUMPRODUCT(--(E92833=$O$1:$O$542))>0,E92833=0),0,1)","v":0}]
[{"$nulls":4},0,{"$nulls":7},0,{"$nulls":13},{"$f":"IF(OR(SUMPRODUCT(--(E92872=$O$1:$O$542))>0,E92872=0),0,1)","v":0}]
[{"$nulls":4},0,{"$nulls":7},0,{"$nulls":13},{"$f":"IF(OR(SUMPRODUCT(--(E92929=$O$1:$O$542))>0,E92929=0),0,1)","v":0}]
[{"$nulls":4},0,{"$nulls":7},0,{"$nulls":13},{"$f":"IF(OR(SUMPRODUCT(--(E93007=$O$1:$O$542))>0,E93007=0),0,1)","v":0}]
[{"$nulls":4},0,{"$nulls":7},0,{"$nulls":13},{"$f":"IF(OR(SUMPRODUCT(--(E93026=$O$1:$O$542))>0,E93026=0),0,1)","v":0}]
[{"$nulls":4},0,{"$nulls":7},0,{"$nulls":13},{"$f":"IF(OR(SUMPRODUCT(--(E93087=$O$1:$O$542))>0,E93087=0),0,1)","v":0}]
[{"$nulls":4},0,{"$nulls":7},0,{"$nulls":13},{"$f":"IF(OR(SUMPRODUCT(--(E93132=$O$1:$O$542))>0,E93132=0),0,1)","v":0}]
[{"$nulls":4},0,{"$nulls":7},0,{"$nulls":13},{"$f":"IF(OR(SUMPRODUCT(--(E93200=$O$1:$O$542))>0,E93200=0),0,1)","v":0}]
[{"$nulls":4},0,{"$nulls":7},0,{"$nulls":13},{"$f":"IF(OR(SUMPRODUCT(--(E93229=$O$1:$O$542))>0,E93229=0),0,1)","v":0}]
[{"$nulls":4},0,{"$nulls":7},0,{"$nulls":13},{"$f":"IF(OR(SUMPRODUCT(--(E93302=$O$1:$O$542))>0,E93302=0),0,1)","v":0}]
[{"$nulls":4},0,{"$nulls":7},0,{"$nulls":13},{"$f":"IF(OR(SUMPRODUCT(--(E93325=$O$1:$O$542))>0,E93325=0),0,1)","v":0}]
[{"$nulls":4},0,{"$nulls":7},0,{"$nulls":13},{"$f":"IF(OR(SUMPRODUCT(--(E93403=$O$1:$O$542))>0,E93403=0),0,1)","v":0}]
[{"$nulls":4},0,{"$nulls":7},0,{"$nulls":13},{"$f":"IF(OR(SUMPRODUCT(--(E93422=$O$1:$O$542))>0,E93422=0),0,1)","v":0}]
[{"$nulls":4},0,{"$nulls":7},0,{"$nulls":13},{"$f":"IF(OR(SUMPRODUCT(--(E93501=$O$1:$O$542))>0,E93501=0),0,1)","v":0}]
[{"$nulls":4},0,{"$nulls":7},0,{"$nulls":13},{"$f":"IF(OR(SUMPRODUCT(--(E93528=$O$1:$O$542))>0,E93528=0),0,1)","v":0}]
[{"$nulls":4},0,{"$nulls":7},0,{"$nulls":13},{"$f":"IF(OR(SUMPRODUCT(--(E93596=$O$1:$O$542))>0,E93596=0),0,1)","v":0}]
[{"$nulls":4},0,{"$nulls":7},0,{"$nulls":13},{"$f":"IF(OR(SUMPRODUCT(--(E93625=$O$1:$O$542))>0,E93625=0),0,1)","v":0}]
[{"$nulls":4},0,{"$nulls":7},0,{"$nulls":13},{"$f":"IF(OR(SUMPRODUCT(--(E93668=$O$1:$O$542))>0,E93668=0),0,1)","v":0}]
[{"$nulls":4},0,{"$nulls":7},0,{"$nulls":13},{"$f":"IF(OR(SUMPRODUCT(--(E93721=$O$1:$O$542))>0,E93721=0),0,1)","v":0}]
[{"$nulls":4},0,{"$nulls":7},0,{"$nulls":13},{"$f":"IF(OR(SUMPRODUCT(--(E93750=$O$1:$O$542))>0,E93750=0),0,1)","v":0}]
[{"$nulls":4},0,{"$nulls":7},0,{"$nulls":13},{"$f":"IF(OR(SUMPRODUCT(--(E93818=$O$1:$O$542))>0,E93818=0),0,1)","v":0}]
[{"$nulls":4},0,{"$nulls":7},0,{"$nulls":13},{"$f":"IF(OR(SUMPRODUCT(--(E93867=$O$1:$O$542))>0,E93867=0),0,1)","v":0}]
[{"$nulls":4},0,{"$nulls":7},0,{"$nulls":13},{"$f":"IF(OR(SUMPRODUCT(--(E93914=$O$1:$O$542))>0,E93914=0),0,1)","v":0}]
[{"$nulls":4},0,{"$nulls":7},0,{"$nulls":13},{"$f":"IF(OR(SUMPRODUCT(--(E93943=$O$1:$O$542))>0,E93943=0),0,1)","v":0}]
[{"$nulls":4},0,{"$nulls":7},0,{"$nulls":13},{"$f":"IF(OR(SUMPRODUCT(--(E94021=$O$1:$O$542))>0,E94021=0),0,1)","v":0}]
[{"$nulls":4},0,{"$nulls":7},0,{"$nulls":13},{"$f":"IF(OR(SUMPRODUCT(--(E94082=$O$1:$O$542))>0,E94082=0),0,1)","v":0}]
[{"$nulls":4},0,{"$nulls":7},0,{"$nulls":13},{"$f":"IF(OR(SUMPRODUCT(--(E94117=$O$1:$O$542))>0,E94117=0),0,1)","v":0}]
[{"$nulls":4},0,{"$nulls":7},0,{"$nulls":13},{"$f":"IF(OR(SUMPRODUCT(--(E94146=$O$1:$O$542))>0,E94146=0),0,1)","v":0}]
[{"$nulls":4},0,{"$nulls":7},0,{"$nulls":13},{"$f":"IF(OR(SUMPRODUCT(--(E94214=$O$1:$O$542))>0,E94214=0),0,1)","v":0}]
[{"$nulls":4},0,{"$nulls":7},0,{"$nulls":13},{"$f":"IF(OR(SUMPRODUCT(--(E94281=$O$1:$O$542))>0,E94281=0),0,1)","v":0}]
[{"$nulls":4},0,{"$nulls":7},0,{"$nulls":13},{"$f":"IF(OR(SUMPRODUCT(--(E94310=$O$1:$O$542))>0,E94310=0),0,1)","v":0}]
[{"$nulls":4},0,{"$nulls":7},0,{"$nulls":13},{"$f":"IF(OR(SUMPRODUCT(--(E94339=$O$1:$O$542))>0,E94339=0),0,1)","v":0}]
[{"$nulls":4},0,{"$nulls":7},0,{"$nulls":13},{"$f":"IF(OR(SUMPRODUCT(--(E94417=$O$1:$O$542))>0,E94417=0),0,1)","v":0}]
[{"$nulls":4},0,{"$nulls":7},0,{"$nulls":13},{"$f":"IF(OR(SUMPRODUCT(--(E94448=$O$1:$O$542))>0,E94448=0),0,1)","v":0}]
[{"$nulls":4},0,{"$nulls":7},0,{"$nulls":13},{"$f":"IF(OR(SUMPRODUCT(--(E94513=$O$1:$O$542))>0,E94513=0),0,1)","v":0}]
[{"$nulls":4},0,{"$nulls":7},0,{"$nulls":13},{"$f":"IF(OR(SUMPRODUCT(--(E94542=$O$1:$O$542))>0,E94542=0),0,1)","v":0}]
[{"$nulls":4},0,{"$nulls":7},0,{"$nulls":13},{"$f":"IF(OR(SUMPRODUCT(--(E94610=$O$1:$O$542))>0,E94610=0),0,1)","v":0}]
[{"$nulls":4},0,{"$nulls":7},0,{"$nulls":13},{"$f":"IF(OR(SUMPRODUCT(--(E94647=$O$1:$O$542))>0,E94647=0),0,1)","v":0}]
[{"$nulls":4},0,{"$nulls":7},0,{"$nulls":13},{"$f":"IF(OR(SUMPRODUCT(--(E94706=$O$1:$O$542))>0,E94706=0),0,1)","v":0}]
[{"$nulls":4},0,{"$nulls":7},0,{"$nulls":13},{"$f":"IF(OR(SUMPRODUCT(--(E94735=$O$1:$O$542))>0,E94735=0),0,1)","v":0}]
[{"$nulls":4},0,{"$nulls":7},0,{"$nulls":13},{"$f":"IF(OR(SUMPRODUCT(--(E94813=$O$1:$O$542))>0,E94813=0),0,1)","v":0}]
[{"$nulls":4},0,{"$nulls":7},0,{"$nulls":13},{"$f":"IF(OR(SUMPRODUCT(--(E94862=$O$1:$O$542))>0,E94862=0),0,1)","v":0}]
[{"$nulls":4},0,{"$nulls":7},0,{"$nulls":13},{"$f":"IF(OR(SUMPRODUCT(--(E94909=$O$1:$O$542))>0,E94909=0),0,1)","v":0}]
[{"$nulls":4},0,{"$nulls":7},0,{"$nulls":13},{"$f":"IF(OR(SUMPRODUCT(--(E94928=$O$1:$O$542))>0,E94928=0),0,1)","v":0}]
[{"$nulls":4},0,{"$nulls":7},0,{"$nulls":13},{"$f":"IF(OR(SUMPRODUCT(--(E95006=$O$1:$O$542))>0,E95006=0),0,1)","v":0}]
[{"$nulls":4},0,{"$nulls":7},0,{"$nulls":13},{"$f":"IF(OR(SUMPRODUCT(--(E95061=$O$1:$O$542))>0,E95061=0),0,1)","v":0}]
[{"$nulls":4},0,{"$nulls":7},0,{"$nulls":13},{"$f":"IF(OR(SUMPRODUCT(--(E95102=$O$1:$O$542))>0,E95102=0),0,1)","v":0}]
[{"$nulls":4},0,{"$nulls":7},0,{"$nulls":13},{"$f":"IF(OR(SUMPRODUCT(--(E95131=$O$1:$O$542))>0,E95131=0),0,1)","v":0}]
[{"$nulls":4},0,{"$nulls":7},0,{"$nulls":13},{"$f":"IF(OR(SUMPRODUCT(--(E95209=$O$1:$O$542))>0,E95209=0),0,1)","v":0}]
[{"$nulls":4},0,{"$nulls":7},0,{"$nulls":13},{"$f":"IF(OR(SUMPRODUCT(--(E95228=$O$1:$O$542))>0,E95228=0),0,1)","v":0}]
[{"$nulls":4},0,{"$nulls":7},0,{"$nulls":13},{"$f":"IF(OR(SUMPRODUCT(--(E95305=$O$1:$O$542))>0,E95305=0),0,1)","v":0}]
[{"$nulls":4},0,{"$nulls":7},0,{"$nulls":13},{"$f":"IF(OR(SUMPRODUCT(--(E95324=$O$1:$O$542))>0,E95324=0),0,1)","v":0}]
[{"$nulls":4},{"$f":"IF(AND(F95402<>\"\",F95402=G95402),\"ERROR\",IF(AND(F95402<>\"\",F95402<>G95402),F95402,G95402))","v":0},{"$nulls":7},{"$f":"IF(L95402<>\"\",L95402,K95402)","v":0},{"$nulls":13},{"$f":"IF(OR(SUMPRODUCT(--(E95402=$O$1:$O$542))>0,E95402=0),0,1)","v":0}]
[{"$nulls":4},0,{"$nulls":7},0,{"$nulls":13},{"$f":"IF(OR(SUMPRODUCT(--(E95427=$O$1:$O$542))>0,E95427=0),0,1)","v":0}]
[{"$nulls":4},0,{"$nulls":7},0,{"$nulls":13},{"$f":"IF(OR(SUMPRODUCT(--(E95498=$O$1:$O$542))>0,E95498=0),0,1)","v":0}]
[{"$nulls":4},0,{"$nulls":7},0,{"$nulls":13},{"$f":"IF(OR(SUMPRODUCT(--(E95527=$O$1:$O$542))>0,E95527=0),0,1)","v":0}]
[{"$nulls":4},0,{"$nulls":7},0,{"$nulls":13},{"$f":"IF(OR(SUMPRODUCT(--(E95556=$O$1:$O$542))>0,E95556=0),0,1)","v":0}]
[{"$nulls":4},0,{"$nulls":7},0,{"$nulls":13},{"$f":"IF(OR(SUMPRODUCT(--(E95642=$O$1:$O$542))>0,E95642=0),0,1)","v":0}]
[{"$nulls":4},0,{"$nulls":7},0,{"$nulls":13},{"$f":"IF(OR(SUMPRODUCT(--(E95652=$O$1:$O$542))>0,E95652=0),0,1)","v":0}]
[{"$nulls":4},0,{"$nulls":7},0,{"$nulls":13},{"$f":"IF(OR(SUMPRODUCT(--(E95720=$O$1:$O$542))>0,E95720=0),0,1)","v":0}]
[{"$nulls":4},0,{"$nulls":7},0,{"$nulls":13},{"$f":"IF(OR(SUMPRODUCT(--(E95749=$O$1:$O$542))>0,E95749=0),0,1)","v":0}]
[{"$nulls":4},0,{"$nulls":7},0,{"$nulls":13},{"$f":"IF(OR(SUMPRODUCT(--(E95841=$O$1:$O$542))>0,E95841=0),0,1)","v":0}]
[{"$nulls":4},0,{"$nulls":7},0,{"$nulls":13},{"$f":"IF(OR(SUMPRODUCT(--(E95845=$O$1:$O$542))>0,E95845=0),0,1)","v":0}]
[{"$nulls":4},0,{"$nulls":7},0,{"$nulls":13},{"$f":"IF(OR(SUMPRODUCT(--(E95923=$O$1:$O$542))>0,E95923=0),0,1)","v":0}]
[{"$nulls":4},0,{"$nulls":7},0,{"$nulls":13},{"$f":"IF(OR(SUMPRODUCT(--(E95942=$O$1:$O$542))>0,E95942=0),0,1)","v":0}]
[{"$nulls":4},0,{"$nulls":7},0,{"$nulls":13},{"$f":"IF(OR(SUMPRODUCT(--(E96008=$O$1:$O$542))>0,E96008=0),0,1)","v":0}]
[{"$nulls":4},0,{"$nulls":7},0,{"$nulls":13},{"$f":"IF(OR(SUMPRODUCT(--(E96048=$O$1:$O$542))>0,E96048=0),0,1)","v":0}]
[{"$nulls":4},0,{"$nulls":7},0,{"$nulls":13},{"$f":"IF(OR(SUMPRODUCT(--(E96116=$O$1:$O$542))>0,E96116=0),0,1)","v":0}]
[{"$nulls":4},0,{"$nulls":7},0,{"$nulls":13},{"$f":"IF(OR(SUMPRODUCT(--(E96145=$O$1:$O$542))>0,E96145=0),0,1)","v":0}]
[{"$nulls":4},0,{"$nulls":7},0,{"$nulls":13},{"$f":"IF(OR(SUMPRODUCT(--(E96207=$O$1:$O$542))>0,E96207=0),0,1)","v":0}]
[{"$nulls":4},0,{"$nulls":7},0,{"$nulls":13},{"$f":"IF(OR(SUMPRODUCT(--(E96241=$O$1:$O$542))>0,E96241=0),0,1)","v":0}]
[{"$nulls":4},0,{"$nulls":7},0,{"$nulls":13},{"$f":"IF(OR(SUMPRODUCT(--(E96319=$O$1:$O$542))>0,E96319=0),0,1)","v":0}]
[{"$nulls":4},0,{"$nulls":7},0,{"$nulls":13},{"$f":"IF(OR(SUMPRODUCT(--(E96338=$O$1:$O$542))>0,E96338=0),0,1)","v":0}]
[{"$nulls":4},0,{"$nulls":7},0,{"$nulls":13},{"$f":"IF(OR(SUMPRODUCT(--(E96422=$O$1:$O$542))>0,E96422=0),0,1)","v":0}]
[{"$nulls":4},0,{"$nulls":7},0,{"$nulls":13},{"$f":"IF(OR(SUMPRODUCT(--(E96444=$O$1:$O$542))>0,E96444=0),0,1)","v":0}]
[{"$nulls":4},0,{"$nulls":7},0,{"$nulls":13},{"$f":"IF(OR(SUMPRODUCT(--(E96512=$O$1:$O$542))>0,E96512=0),0,1)","v":0}]
[{"$nulls":4},0,{"$nulls":7},0,{"$nulls":13},{"$f":"IF(OR(SUMPRODUCT(--(E96541=$O$1:$O$542))>0,E96541=0),0,1)","v":0}]
[{"$nulls":4},0,{"$nulls":7},0,{"$nulls":13},{"$f":"IF(OR(SUMPRODUCT(--(E96589=$O$1:$O$542))>0,E96589=0),0,1)","v":0}]
[{"$nulls":4},0,{"$nulls":7},0,{"$nulls":13},{"$f":"IF(OR(SUMPRODUCT(--(E96637=$O$1:$O$542))>0,E96637=0),0,1)","v":0}]
[{"$nulls":4},0,{"$nulls":7},0,{"$nulls":13},{"$f":"IF(OR(SUMPRODUCT(--(E96715=$O$1:$O$542))>0,E96715=0),0,1)","v":0}]
[{"$nulls":4},0,{"$nulls":7},0,{"$nulls":13},{"$f":"IF(OR(SUMPRODUCT(--(E96734=$O$1:$O$542))>0,E96734=0),0,1)","v":0}]
[{"$nulls":4},0,{"$nulls":7},0,{"$nulls":13},{"$f":"IF(OR(SUMPRODUCT(--(E96788=$O$1:$O$542))>0,E96788=0),0,1)","v":0}]
[{"$nulls":4},0,{"$nulls":7},0,{"$nulls":13},{"$f":"IF(OR(SUMPRODUCT(--(E96840=$O$1:$O$542))>0,E96840=0),0,1)","v":0}]
[{"$nulls":4},0,{"$nulls":7},0,{"$nulls":13},{"$f":"IF(OR(SUMPRODUCT(--(E96908=$O$1:$O$542))>0,E96908=0),0,1)","v":0}]
[{"$nulls":4},0,{"$nulls":7},0,{"$nulls":13},{"$f":"IF(OR(SUMPRODUCT(--(E96937=$O$1:$O$542))>0,E96937=0),0,1)","v":0}]
[{"$nulls":4},0,{"$nulls":7},0,{"$nulls":13},{"$f":"IF(OR(SUMPRODUCT(--(E97003=$O$1:$O$542))>0,E97003=0),0,1)","v":0}]
[{"$nulls":4},0,{"$nulls":7},0,{"$nulls":13},{"$f":"IF(OR(SUMPRODUCT(--(E97033=$O$1:$O$542))>0,E97033=0),0,1)","v":0}]
[{"$nulls":4},0,{"$nulls":7},0,{"$nulls":13},{"$f":"IF(OR(SUMPRODUCT(--(E97111=$O$1:$O$542))>0,E97111=0),0,1)","v":0}]
[{"$nulls":4},{"$f":"IF(AND(F97130<>\"\",F97130=G97130),\"ERROR\",IF(AND(F97130<>\"\",F97130<>G97130),F97130,G97130))","v":0},{"$nulls":7},{"$f":"IF(L97130<>\"\",L97130,K97130)","v":0},{"$nulls":13},{"$f":"IF(OR(SUMPRODUCT(--(E97130=$O$1:$O$542))>0,E97130=0),0,1)","v":0}]
[{"$nulls":4},0,{"$nulls":7},0,{"$nulls":13},{"$f":"IF(OR(SUMPRODUCT(--(E97202=$O$1:$O$542))>0,E97202=0),0,1)","v":0}]
[{"$nulls":4},0,{"$nulls":7},0,{"$nulls":13},{"$f":"IF(OR(SUMPRODUCT(--(E97236=$O$1:$O$542))>0,E97236=0),0,1)","v":0}]
[{"$nulls":4},0,{"$nulls":7},0,{"$nulls":13},{"$f":"IF(OR(SUMPRODUCT(--(E97304=$O$1:$O$542))>0,E97304=0),0,1)","v":0}]
[{"$nulls":4},0,{"$nulls":7},0,{"$nulls":13},{"$f":"IF(OR(SUMPRODUCT(--(E97333=$O$1:$O$542))>0,E97333=0),0,1)","v":0}]
[{"$nulls":4},0,{"$nulls":7},0,{"$nulls":13},{"$f":"IF(OR(SUMPRODUCT(--(E97369=$O$1:$O$542))>0,E97369=0),0,1)","v":0}]
[{"$nulls":4},0,{"$nulls":7},0,{"$nulls":13},{"$f":"IF(OR(SUMPRODUCT(--(E97429=$O$1:$O$542))>0,E97429=0),0,1)","v":0}]
[{"$nulls":4},0,{"$nulls":7},0,{"$nulls":13},{"$f":"IF(OR(SUMPRODUCT(--(E97458=$O$1:$O$542))>0,E97458=0),0,1)","v":0}]
[{"$nulls":4},0,{"$nulls":7},0,{"$nulls":13},{"$f":"IF(OR(SUMPRODUCT(--(E97526=$O$1:$O$542))>0,E97526=0),0,1)","v":0}]
[{"$nulls":4},0,{"$nulls":7},0,{"$nulls":13},{"$f":"IF(OR(SUMPRODUCT(--(E97568=$O$1:$O$542))>0,E97568=0),0,1)","v":0}]
[{"$nulls":4},0,{"$nulls":7},0,{"$nulls":13},{"$f":"IF(OR(SUMPRODUCT(--(E97622=$O$1:$O$542))>0,E97622=0),0,1)","v":0}]
[{"$nulls":4},0,{"$nulls":7},0,{"$nulls":13},{"$f":"IF(OR(SUMPRODUCT(--(E97651=$O$1:$O$542))>0,E97651=0),0,1)","v":0}]
[{"$nulls":4},0,{"$nulls":7},0,{"$nulls":13},{"$f":"IF(OR(SUMPRODUCT(--(E97729=$O$1:$O$542))>0,E97729=0),0,1)","v":0}]
[{"$nulls":4},0,{"$nulls":7},0,{"$nulls":13},{"$f":"IF(OR(SUMPRODUCT(--(E97783=$O$1:$O$542))>0,E97783=0),0,1)","v":0}]
[{"$nulls":4},0,{"$nulls":7},0,{"$nulls":13},{"$f":"IF(OR(SUMPRODUCT(--(E97825=$O$1:$O$542))>0,E97825=0),0,1)","v":0}]
[{"$nulls":4},0,{"$nulls":7},0,{"$nulls":13},{"$f":"IF(OR(SUMPRODUCT(--(E97854=$O$1:$O$542))>0,E97854=0),0,1)","v":0}]
[{"$nulls":4},0,{"$nulls":7},0,{"$nulls":13},{"$f":"IF(OR(SUMPRODUCT(--(E97922=$O$1:$O$542))>0,E97922=0),0,1)","v":0}]
[{"$nulls":4},0,{"$nulls":7},0,{"$nulls":13},{"$f":"IF(OR(SUMPRODUCT(--(E97982=$O$1:$O$542))>0,E97982=0),0,1)","v":0}]
[{"$nulls":4},0,{"$nulls":7},0,{"$nulls":13},{"$f":"IF(OR(SUMPRODUCT(--(E98018=$O$1:$O$542))>0,E98018=0),0,1)","v":0}]
[{"$nulls":4},0,{"$nulls":7},0,{"$nulls":13},{"$f":"IF(OR(SUMPRODUCT(--(E98047=$O$1:$O$542))>0,E98047=0),0,1)","v":0}]
[{"$nulls":4},0,{"$nulls":7},0,{"$nulls":13},{"$f":"IF(OR(SUMPRODUCT(--(E98125=$O$1:$O$542))>0,E98125=0),0,1)","v":0}]
[{"$nulls":4},0,{"$nulls":7},0,{"$nulls":13},{"$f":"IF(OR(SUMPRODUCT(--(E98149=$O$1:$O$542))>0,E98149=0),0,1)","v":0}]
[{"$nulls":4},0,{"$nulls":7},0,{"$nulls":13},{"$f":"IF(OR(SUMPRODUCT(--(E98221=$O$1:$O$542))>0,E98221=0),0,1)","v":0}]
[{"$nulls":4},0,{"$nulls":7},0,{"$nulls":13},{"$f":"IF(OR(SUMPRODUCT(--(E98240=$O$1:$O$542))>0,E98240=0),0,1)","v":0}]
[{"$nulls":4},0,{"$nulls":7},0,{"$nulls":13},{"$f":"IF(OR(SUMPRODUCT(--(E98318=$O$1:$O$542))>0,E98318=0),0,1)","v":0}]
[{"$nulls":4},0,{"$nulls":7},0,{"$nulls":13},{"$f":"IF(OR(SUMPRODUCT(--(E98348=$O$1:$O$542))>0,E98348=0),0,1)","v":0}]
[{"$nulls":4},0,{"$nulls":7},0,{"$nulls":13},{"$f":"IF(OR(SUMPRODUCT(--(E98414=$O$1:$O$542))>0,E98414=0),0,1)","v":0}]
[{"$nulls":4},0,{"$nulls":7},0,{"$nulls":13},{"$f":"IF(OR(SUMPRODUCT(--(E98443=$O$1:$O$542))>0,E98443=0),0,1)","v":0}]
[{"$nulls":4},0,{"$nulls":7},0,{"$nulls":13},{"$f":"IF(OR(SUMPRODUCT(--(E98521=$O$1:$O$542))>0,E98521=0),0,1)","v":0}]
[{"$nulls":4},0,{"$nulls":7},0,{"$nulls":13},{"$f":"IF(OR(SUMPRODUCT(--(E98563=$O$1:$O$542))>0,E98563=0),0,1)","v":0}]
[{"$nulls":4},0,{"$nulls":7},0,{"$nulls":13},{"$f":"IF(OR(SUMPRODUCT(--(E98617=$O$1:$O$542))>0,E98617=0),0,1)","v":0}]
[{"$nulls":4},0,{"$nulls":7},0,{"$nulls":13},{"$f":"IF(OR(SUMPRODUCT(--(E98636=$O$1:$O$542))>0,E98636=0),0,1)","v":0}]
[{"$nulls":4},0,{"$nulls":7},0,{"$nulls":13},{"$f":"IF(OR(SUMPRODUCT(--(E98714=$O$1:$O$542))>0,E98714=0),0,1)","v":0}]
[{"$nulls":4},0,{"$nulls":7},0,{"$nulls":13},{"$f":"IF(OR(SUMPRODUCT(--(E98762=$O$1:$O$542))>0,E98762=0),0,1)","v":0}]
[{"$nulls":4},0,{"$nulls":7},0,{"$nulls":13},{"$f":"IF(OR(SUMPRODUCT(--(E98810=$O$1:$O$542))>0,E98810=0),0,1)","v":0}]
[{"$nulls":4},0,{"$nulls":7},0,{"$nulls":13},{"$f":"IF(OR(SUMPRODUCT(--(E98839=$O$1:$O$542))>0,E98839=0),0,1)","v":0}]
[{"$nulls":4},0,{"$nulls":7},0,{"$nulls":13},{"$f":"IF(OR(SUMPRODUCT(--(E98868=$O$1:$O$542))>0,E98868=0),0,1)","v":0}]
[{"$nulls":4},0,{"$nulls":7},0,{"$nulls":13},{"$f":"IF(OR(SUMPRODUCT(--(E98929=$O$1:$O$542))>0,E98929=0),0,1)","v":0}]
[{"$nulls":4},0,{"$nulls":7},0,{"$nulls":13},{"$f":"IF(OR(SUMPRODUCT(--(E98964=$O$1:$O$542))>0,E98964=0),0,1)","v":0}]
[{"$nulls":4},0,{"$nulls":7},0,{"$nulls":13},{"$f":"IF(OR(SUMPRODUCT(--(E99032=$O$1:$O$542))>0,E99032=0),0,1)","v":0}]
[{"$nulls":4},0,{"$nulls":7},0,{"$nulls":13},{"$f":"IF(OR(SUMPRODUCT(--(E99110=$O$1:$O$542))>0,E99110=0),0,1)","v":0}]
[{"$nulls":4},0,{"$nulls":7},0,{"$nulls":13},{"$f":"IF(OR(SUMPRODUCT(--(E99128=$O$1:$O$542))>0,E99128=0),0,1)","v":0}]
[{"$nulls":4},0,{"$nulls":7},0,{"$nulls":13},{"$f":"IF(OR(SUMPRODUCT(--(E99206=$O$1:$O$542))>0,E99206=0),0,1)","v":0}]
[{"$nulls":4},0,{"$nulls":7},0,{"$nulls":13},{"$f":"IF(OR(SUMPRODUCT(--(E99235=$O$1:$O$542))>0,E99235=0),0,1)","v":0}]
[{"$nulls":4},0,{"$nulls":7},0,{"$nulls":13},{"$f":"IF(OR(SUMPRODUCT(--(E99303=$O$1:$O$542))>0,E99303=0),0,1)","v":0}]
[{"$nulls":4},0,{"$nulls":7},0,{"$nulls":13},{"$f":"IF(OR(SUMPRODUCT(--(E99343=$O$1:$O$542))>0,E99343=0),0,1)","v":0}]
[{"$nulls":4},0,{"$nulls":7},0,{"$nulls":13},{"$f":"IF(OR(SUMPRODUCT(--(E99360=$O$1:$O$542))>0,E99360=0),0,1)","v":0}]
[{"$nulls":4},0,{"$nulls":7},0,{"$nulls":13},{"$f":"IF(OR(SUMPRODUCT(--(E99428=$O$1:$O$542))>0,E99428=0),0,1)","v":0}]
[{"$nulls":4},0,{"$nulls":7},0,{"$nulls":13},{"$f":"IF(OR(SUMPRODUCT(--(E99457=$O$1:$O$542))>0,E99457=0),0,1)","v":0}]
[{"$nulls":4},0,{"$nulls":7},0,{"$nulls":13},{"$f":"IF(OR(SUMPRODUCT(--(E99501=$O$1:$O$542))>0,E99501=0),0,1)","v":0}]
[{"$nulls":4},0,{"$nulls":7},0,{"$nulls":13},{"$f":"IF(OR(SUMPRODUCT(--(E99502=$O$1:$O$542))>0,E99502=0),0,1)","v":0}]
[{"$nulls":4},0,{"$nulls":7},0,{"$nulls":13},{"$f":"IF(OR(SUMPRODUCT(--(E99503=$O$1:$O$542))>0,E99503=0),0,1)","v":0}]
[{"$nulls":4},0,{"$nulls":7},0,{"$nulls":13},{"$f":"IF(OR(SUMPRODUCT(--(E99504=$O$1:$O$542))>0,E99504=0),0,1)","v":0}]
[{"$nulls":4},0,{"$nulls":7},0,{"$nulls":13},{"$f":"IF(OR(SUMPRODUCT(--(E99505=$O$1:$O$542))>0,E99505=0),0,1)","v":0}]
[{"$nulls":4},0,{"$nulls":7},0,{"$nulls":13},{"$f":"IF(OR(SUMPRODUCT(--(E99506=$O$1:$O$542))>0,E99506=0),0,1)","v":0}]
[{"$nulls":4},0,{"$nulls":7},0,{"$nulls":13},{"$f":"IF(OR(SUMPRODUCT(--(E99507=$O$1:$O$542))>0,E99507=0),0,1)","v":0}]
[{"$nulls":4},0,{"$nulls":7},0,{"$nulls":13},{"$f":"IF(OR(SUMPRODUCT(--(E99508=$O$1:$O$542))>0,E99508=0),0,1)","v":0}]
[{"$nulls":4},0,{"$nulls":7},0,{"$nulls":13},{"$f":"IF(OR(SUMPRODUCT(--(E99509=$O$1:$O$542))>0,E99509=0),0,1)","v":0}]
[{"$nulls":4},0,{"$nulls":7},0,{"$nulls":13},{"$f":"IF(OR(SUMPRODUCT(--(E99510=$O$1:$O$542))>0,E99510=0),0,1)","v":0}]
[{"$nulls":4},0,{"$nulls":7},0,{"$nulls":13},{"$f":"IF(OR(SUMPRODUCT(--(E99511=$O$1:$O$542))>0,E99511=0),0,1)","v":0}]
[{"$nulls":4},0,{"$nulls":7},0,{"$nulls":13},{"$f":"IF(OR(SUMPRODUCT(--(E99512=$O$1:$O$542))>0,E99512=0),0,1)","v":0}]
[{"$nulls":4},0,{"$nulls":7},0,{"$nulls":13},{"$f":"IF(OR(SUMPRODUCT(--(E99513=$O$1:$O$542))>0,E99513=0),0,1)","v":0}]
[{"$nulls":4},0,{"$nulls":7},0,{"$nulls":13},{"$f":"IF(OR(SUMPRODUCT(--(E99514=$O$1:$O$542))>0,E99514=0),0,1)","v":0}]
[{"$nulls":4},0,{"$nulls":7},0,{"$nulls":13},{"$f":"IF(OR(SUMPRODUCT(--(E99515=$O$1:$O$542))>0,E99515=0),0,1)","v":0}]
[{"$nulls":4},0,{"$nulls":7},0,{"$nulls":13},{"$f":"IF(OR(SUMPRODUCT(--(E99516=$O$1:$O$542))>0,E99516=0),0,1)","v":0}]
[{"$nulls":4},0,{"$nulls":7},0,{"$nulls":13},{"$f":"IF(OR(SUMPRODUCT(--(E99517=$O$1:$O$542))>0,E99517=0),0,1)","v":0}]
[{"$nulls":4},0,{"$nulls":7},0,{"$nulls":13},{"$f":"IF(OR(SUMPRODUCT(--(E99518=$O$1:$O$542))>0,E99518=0),0,1)","v":0}]
[{"$nulls":4},0,{"$nulls":7},0,{"$nulls":13},{"$f":"IF(OR(SUMPRODUCT(--(E99519=$O$1:$O$542))>0,E99519=0),0,1)","v":0}]
[{"$nulls":4},0,{"$nulls":7},0,{"$nulls":13},{"$f":"IF(OR(SUMPRODUCT(--(E99520=$O$1:$O$542))>0,E99520=0),0,1)","v":0}]
[{"$nulls":4},0,{"$nulls":7},0,{"$nulls":13},{"$f":"IF(OR(SUMPRODUCT(--(E99521=$O$1:$O$542))>0,E99521=0),0,1)","v":0}]
[{"$nulls":4},0,{"$nulls":7},0,{"$nulls":13},{"$f":"IF(OR(SUMPRODUCT(--(E99522=$O$1:$O$542))>0,E99522=0),0,1)","v":0}]
[{"$nulls":4},0,{"$nulls":7},0,{"$nulls":13},{"$f":"IF(OR(SUMPRODUCT(--(E99523=$O$1:$O$542))>0,E99523=0),0,1)","v":0}]
[{"$nulls":4},0,{"$nulls":7},0,{"$nulls":13},{"$f":"IF(OR(SUMPRODUCT(--(E99524=$O$1:$O$542))>0,E99524=0),0,1)","v":0}]
[{"$nulls":4},0,{"$nulls":7},0,{"$nulls":13},{"$f":"IF(OR(SUMPRODUCT(--(E99525=$O$1:$O$542))>0,E99525=0),0,1)","v":0}]
[{"$nulls":4},0,{"$nulls":7},0,{"$nulls":13},{"$f":"IF(OR(SUMPRODUCT(--(E99526=$O$1:$O$542))>0,E99526=0),0,1)","v":0}]
[{"$nulls":4},0,{"$nulls":7},0,{"$nulls":13},{"$f":"IF(OR(SUMPRODUCT(--(E99527=$O$1:$O$542))>0,E99527=0),0,1)","v":0}]
[{"$nulls":4},0,{"$nulls":7},0,{"$nulls":13},{"$f":"IF(OR(SUMPRODUCT(--(E99528=$O$1:$O$542))>0,E99528=0),0,1)","v":0}]
[{"$nulls":4},0,{"$nulls":7},0,{"$nulls":13},{"$f":"IF(OR(SUMPRODUCT(--(E99529=$O$1:$O$542))>0,E99529=0),0,1)","v":0}]
[{"$nulls":4},0,{"$nulls":7},0,{"$nulls":13},{"$f":"IF(OR(SUMPRODUCT(--(E99530=$O$1:$O$542))>0,E99530=0),0,1)","v":0}]
[{"$nulls":4},0,{"$nulls":7},0,{"$nulls":13},{"$f":"IF(OR(SUMPRODUCT(--(E99531=$O$1:$O$542))>0,E99531=0),0,1)","v":0}]
[{"$nulls":4},0,{"$nulls":7},0,{"$nulls":13},{"$f":"IF(OR(SUMPRODUCT(--(E99532=$O$1:$O$542))>0,E99532=0),0,1)","v":0}]
[{"$nulls":4},0,{"$nulls":7},0,{"$nulls":13},{"$f":"IF(OR(SUMPRODUCT(--(E99533=$O$1:$O$542))>0,E99533=0),0,1)","v":0}]
[{"$nulls":4},0,{"$nulls":7},0,{"$nulls":13},{"$f":"IF(OR(SUMPRODUCT(--(E99534=$O$1:$O$542))>0,E99534=0),0,1)","v":0}]
[{"$nulls":4},0,{"$nulls":7},0,{"$nulls":13},{"$f":"IF(OR(SUMPRODUCT(--(E99535=$O$1:$O$542))>0,E99535=0),0,1)","v":0}]
[{"$nulls":4},0,{"$nulls":7},0,{"$nulls":13},{"$f":"IF(OR(SUMPRODUCT(--(E99536=$O$1:$O$542))>0,E99536=0),0,1)","v":0}]
[{"$nulls":4},0,{"$nulls":7},0,{"$nulls":13},{"$f":"IF(OR(SUMPRODUCT(--(E99537=$O$1:$O$542))>0,E99537=0),0,1)","v":0}]
[{"$nulls":4},0,{"$nulls":7},0,{"$nulls":13},{"$f":"IF(OR(SUMPRODUCT(--(E99538=$O$1:$O$542))>0,E99538=0),0,1)","v":0}]
[{"$nulls":4},0,{"$nulls":7},0,{"$nulls":13},{"$f":"IF(OR(SUMPRODUCT(--(E99539=$O$1:$O$542))>0,E99539=0),0,1)","v":0}]
[{"$nulls":4},0,{"$nulls":7},0,{"$nulls":13},{"$f":"IF(OR(SUMPRODUCT(--(E99540=$O$1:$O$542))>0,E99540=0),0,1)","v":0}]
[{"$nulls":4},0,{"$nulls":7},0,{"$nulls":13},{"$f":"IF(OR(SUMPRODUCT(--(E99541=$O$1:$O$542))>0,E99541=0),0,1)","v":0}]
[{"$nulls":4},0,{"$nulls":7},0,{"$nulls":13},{"$f":"IF(OR(SUMPRODUCT(--(E99542=$O$1:$O$542))>0,E99542=0),0,1)","v":0}]
[{"$nulls":4},0,{"$nulls":7},0,{"$nulls":13},{"$f":"IF(OR(SUMPRODUCT(--(E99543=$O$1:$O$542))>0,E99543=0),0,1)","v":0}]
[{"$nulls":4},0,{"$nulls":7},0,{"$nulls":13},{"$f":"IF(OR(SUMPRODUCT(--(E99544=$O$1:$O$542))>0,E99544=0),0,1)","v":0}]
[{"$nulls":4},0,{"$nulls":7},0,{"$nulls":13},{"$f":"IF(OR(SUMPRODUCT(--(E99545=$O$1:$O$542))>0,E99545=0),0,1)","v":0}]
[{"$nulls":4},0,{"$nulls":7},0,{"$nulls":13},{"$f":"IF(OR(SUMPRODUCT(--(E99546=$O$1:$O$542))>0,E99546=0),0,1)","v":0}]
[{"$nulls":4},0,{"$nulls":7},0,{"$nulls":13},{"$f":"IF(OR(SUMPRODUCT(--(E99547=$O$1:$O$542))>0,E99547=0),0,1)","v":0}]
[{"$nulls":4},0,{"$nulls":7},0,{"$nulls":13},{"$f":"IF(OR(SUMPRODUCT(--(E99548=$O$1:$O$542))>0,E99548=0),0,1)","v":0}]
[{"$nulls":4},0,{"$nulls":7},0,{"$nulls":13},{"$f":"IF(OR(SUMPRODUCT(--(E99549=$O$1:$O$542))>0,E99549=0),0,1)","v":0}]
[{"$nulls":4},0,{"$nulls":7},0,{"$nulls":13},{"$f":"IF(OR(SUMPRODUCT(--(E99550=$O$1:$O$542))>0,E99550=0),0,1)","v":0}]
[{"$nulls":4},0,{"$nulls":7},0,{"$nulls":13},{"$f":"IF(OR(SUMPRODUCT(--(E99551=$O$1:$O$542))>0,E99551=0),0,1)","v":0}]
[{"$nulls":4},0,{"$nulls":7},0,{"$nulls":13},{"$f":"IF(OR(SUMPRODUCT(--(E99552=$O$1:$O$542))>0,E99552=0),0,1)","v":0}]
[{"$nulls":4},0,{"$nulls":7},0,{"$nulls":13},{"$f":"IF(OR(SUMPRODUCT(--(E99553=$O$1:$O$542))>0,E99553=0),0,1)","v":0}]
[{"$nulls":4},0,{"$nulls":7},0,{"$nulls":13},{"$f":"IF(OR(SUMPRODUCT(--(E99554=$O$1:$O$542))>0,E99554=0),0,1)","v":0}]
[{"$nulls":4},0,{"$nulls":7},0,{"$nulls":13},{"$f":"IF(OR(SUMPRODUCT(--(E99555=$O$1:$O$542))>0,E99555=0),0,1)","v":0}]
[{"$nulls":4},0,{"$nulls":7},0,{"$nulls":13},{"$f":"IF(OR(SUMPRODUCT(--(E99556=$O$1:$O$542))>0,E99556=0),0,1)","v":0}]
[{"$nulls":4},0,{"$nulls":7},0,{"$nulls":13},{"$f":"IF(OR(SUMPRODUCT(--(E99557=$O$1:$O$542))>0,E99557=0),0,1)","v":0}]
[{"$nulls":4},0,{"$nulls":7},0,{"$nulls":13},{"$f":"IF(OR(SUMPRODUCT(--(E99558=$O$1:$O$542))>0,E99558=0),0,1)","v":0}]
[{"$nulls":4},0,{"$nulls":7},0,{"$nulls":13},{"$f":"IF(OR(SUMPRODUCT(--(E99559=$O$1:$O$542))>0,E99559=0),0,1)","v":0}]
[{"$nulls":4},0,{"$nulls":7},0,{"$nulls":13},{"$f":"IF(OR(SUMPRODUCT(--(E99560=$O$1:$O$542))>0,E99560=0),0,1)","v":0}]
[{"$nulls":4},0,{"$nulls":7},0,{"$nulls":13},{"$f":"IF(OR(SUMPRODUCT(--(E99561=$O$1:$O$542))>0,E99561=0),0,1)","v":0}]
[{"$nulls":4},{"$f":"IF(AND(F99562<>\"\",F99562=G99562),\"ERROR\",IF(AND(F99562<>\"\",F99562<>G99562),F99562,G99562))","v":0},{"$nulls":7},{"$f":"IF(L99562<>\"\",L99562,K99562)","v":0},{"$nulls":13},{"$f":"IF(OR(SUMPRODUCT(--(E99562=$O$1:$O$542))>0,E99562=0),0,1)","v":0}]
[{"$nulls":4},0,{"$nulls":7},0,{"$nulls":13},{"$f":"IF(OR(SUMPRODUCT(--(E99563=$O$1:$O$542))>0,E99563=0),0,1)","v":0}]
[{"$nulls":4},0,{"$nulls":7},0,{"$nulls":13},{"$f":"IF(OR(SUMPRODUCT(--(E99564=$O$1:$O$542))>0,E99564=0),0,1)","v":0}]
[{"$nulls":4},0,{"$nulls":7},0,{"$nulls":13},{"$f":"IF(OR(SUMPRODUCT(--(E99565=$O$1:$O$542))>0,E99565=0),0,1)","v":0}]
[{"$nulls":4},0,{"$nulls":7},0,{"$nulls":13},{"$f":"IF(OR(SUMPRODUCT(--(E99566=$O$1:$O$542))>0,E99566=0),0,1)","v":0}]
[{"$nulls":4},0,{"$nulls":7},0,{"$nulls":13},{"$f":"IF(OR(SUMPRODUCT(--(E99567=$O$1:$O$542))>0,E99567=0),0,1)","v":0}]
[{"$nulls":4},0,{"$nulls":7},0,{"$nulls":13},{"$f":"IF(OR(SUMPRODUCT(--(E99568=$O$1:$O$542))>0,E99568=0),0,1)","v":0}]
[{"$nulls":4},0,{"$nulls":7},0,{"$nulls":13},{"$f":"IF(OR(SUMPRODUCT(--(E99569=$O$1:$O$542))>0,E99569=0),0,1)","v":0}]
[{"$nulls":4},0,{"$nulls":7},0,{"$nulls":13},{"$f":"IF(OR(SUMPRODUCT(--(E99570=$O$1:$O$542))>0,E99570=0),0,1)","v":0}]
[{"$nulls":4},0,{"$nulls":7},0,{"$nulls":13},{"$f":"IF(OR(SUMPRODUCT(--(E99571=$O$1:$O$542))>0,E99571=0),0,1)","v":0}]
[{"$nulls":4},0,{"$nulls":7},0,{"$nulls":13},{"$f":"IF(OR(SUMPRODUCT(--(E99572=$O$1:$O$542))>0,E99572=0),0,1)","v":0}]
[{"$nulls":4},0,{"$nulls":7},0,{"$nulls":13},{"$f":"IF(OR(SUMPRODUCT(--(E99573=$O$1:$O$542))>0,E99573=0),0,1)","v":0}]
[{"$nulls":4},0,{"$nulls":7},0,{"$nulls":13},{"$f":"IF(OR(SUMPRODUCT(--(E99574=$O$1:$O$542))>0,E99574=0),0,1)","v":0}]
[{"$nulls":4},0,{"$nulls":7},0,{"$nulls":13},{"$f":"IF(OR(SUMPRODUCT(--(E99575=$O$1:$O$542))>0,E99575=0),0,1)","v":0}]
[{"$nulls":4},0,{"$nulls":7},0,{"$nulls":13},{"$f":"IF(OR(SUMPRODUCT(--(E99576=$O$1:$O$542))>0,E99576=0),0,1)","v":0}]
[{"$nulls":4},0,{"$nulls":7},0,{"$nulls":13},{"$f":"IF(OR(SUMPRODUCT(--(E99577=$O$1:$O$542))>0,E99577=0),0,1)","v":0}]
[{"$nulls":4},0,{"$nulls":7},0,{"$nulls":13},{"$f":"IF(OR(SUMPRODUCT(--(E99578=$O$1:$O$542))>0,E99578=0),0,1)","v":0}]
[{"$nulls":4},0,{"$nulls":7},0,{"$nulls":13},{"$f":"IF(OR(SUMPRODUCT(--(E99579=$O$1:$O$542))>0,E99579=0),0,1)","v":0}]
[{"$nulls":4},0,{"$nulls":7},0,{"$nulls":13},{"$f":"IF(OR(SUMPRODUCT(--(E99580=$O$1:$O$542))>0,E99580=0),0,1)","v":0}]
[{"$nulls":4},0,{"$nulls":7},0,{"$nulls":13},{"$f":"IF(OR(SUMPRODUCT(--(E99581=$O$1:$O$542))>0,E99581=0),0,1)","v":0}]
[{"$nulls":4},0,{"$nulls":7},0,{"$nulls":13},{"$f":"IF(OR(SUMPRODUCT(--(E99582=$O$1:$O$542))>0,E99582=0),0,1)","v":0}]
[{"$nulls":4},0,{"$nulls":7},0,{"$nulls":13},{"$f":"IF(OR(SUMPRODUCT(--(E99583=$O$1:$O$542))>0,E99583=0),0,1)","v":0}]
[{"$nulls":4},0,{"$nulls":7},0,{"$nulls":13},{"$f":"IF(OR(SUMPRODUCT(--(E99584=$O$1:$O$542))>0,E99584=0),0,1)","v":0}]
[{"$nulls":4},0,{"$nulls":7},0,{"$nulls":13},{"$f":"IF(OR(SUMPRODUCT(--(E99585=$O$1:$O$542))>0,E99585=0),0,1)","v":0}]
[{"$nulls":4},0,{"$nulls":7},0,{"$nulls":13},{"$f":"IF(OR(SUMPRODUCT(--(E99586=$O$1:$O$542))>0,E99586=0),0,1)","v":0}]
[{"$nulls":4},0,{"$nulls":7},0,{"$nulls":13},{"$f":"IF(OR(SUMPRODUCT(--(E99587=$O$1:$O$542))>0,E99587=0),0,1)","v":0}]
[{"$nulls":4},0,{"$nulls":7},0,{"$nulls":13},{"$f":"IF(OR(SUMPRODUCT(--(E99588=$O$1:$O$542))>0,E99588=0),0,1)","v":0}]
[{"$nulls":4},0,{"$nulls":7},0,{"$nulls":13},{"$f":"IF(OR(SUMPRODUCT(--(E99589=$O$1:$O$542))>0,E99589=0),0,1)","v":0}]
[{"$nulls":4},0,{"$nulls":7},0,{"$nulls":13},{"$f":"IF(OR(SUMPRODUCT(--(E99590=$O$1:$O$542))>0,E99590=0),0,1)","v":0}]
[{"$nulls":4},0,{"$nulls":7},0,{"$nulls":13},{"$f":"IF(OR(SUMPRODUCT(--(E99591=$O$1:$O$542))>0,E99591=0),0,1)","v":0}]
[{"$nulls":4},0,{"$nulls":7},0,{"$nulls":13},{"$f":"IF(OR(SUMPRODUCT(--(E99592=$O$1:$O$542))>0,E99592=0),0,1)","v":0}]
[{"$nulls":4},0,{"$nulls":7},0,{"$nulls":13},{"$f":"IF(OR(SUMPRODUCT(--(E99593=$O$1:$O$542))>0,E99593=0),0,1)","v":0}]
[{"$nulls":4},0,{"$nulls":7},0,{"$nulls":13},{"$f":"IF(OR(SUMPRODUCT(--(E99594=$O$1:$O$542))>0,E99594=0),0,1)","v":0}]
[{"$nulls":4},0,{"$nulls":7},0,{"$nulls":13},{"$f":"IF(OR(SUMPRODUCT(--(E99595=$O$1:$O$542))>0,E99595=0),0,1)","v":0}]
[{"$nulls":4},0,{"$nulls":7},0,{"$nulls":13},{"$f":"IF(OR(SUMPRODUCT(--(E99596=$O$1:$O$542))>0,E99596=0),0,1)","v":0}]
[{"$nulls":4},0,{"$nulls":7},0,{"$nulls":13},{"$f":"IF(OR(SUMPRODUCT(--(E99597=$O$1:$O$542))>0,E99597=0),0,1)","v":0}]
[{"$nulls":4},0,{"$nulls":7},0,{"$nulls":13},{"$f":"IF(OR(SUMPRODUCT(--(E99598=$O$1:$O$542))>0,E99598=0),0,1)","v":0}]
[{"$nulls":4},0,{"$nulls":7},0,{"$nulls":13},{"$f":"IF(OR(SUMPRODUCT(--(E99599=$O$1:$O$542))>0,E99599=0),0,1)","v":0}]
[{"$nulls":4},0,{"$nulls":7},0,{"$nulls":13},{"$f":"IF(OR(SUMPRODUCT(--(E99600=$O$1:$O$542))>0,E99600=0),0,1)","v":0}]
[{"$nulls":4},0,{"$nulls":7},0,{"$nulls":13},{"$f":"IF(OR(SUMPRODUCT(--(E99601=$O$1:$O$542))>0,E99601=0),0,1)","v":0}]
[{"$nulls":4},0,{"$nulls":7},0,{"$nulls":13},{"$f":"IF(OR(SUMPRODUCT(--(E99602=$O$1:$O$542))>0,E99602=0),0,1)","v":0}]
[{"$nulls":4},0,{"$nulls":7},0,{"$nulls":13},{"$f":"IF(OR(SUMPRODUCT(--(E99603=$O$1:$O$542))>0,E99603=0),0,1)","v":0}]
[{"$nulls":4},0,{"$nulls":7},0,{"$nulls":13},{"$f":"IF(OR(SUMPRODUCT(--(E99604=$O$1:$O$542))>0,E99604=0),0,1)","v":0}]
[{"$nulls":4},0,{"$nulls":7},0,{"$nulls":13},{"$f":"IF(OR(SUMPRODUCT(--(E99605=$O$1:$O$542))>0,E99605=0),0,1)","v":0}]
[{"$nulls":4},0,{"$nulls":7},0,{"$nulls":13},{"$f":"IF(OR(SUMPRODUCT(--(E99606=$O$1:$O$542))>0,E99606=0),0,1)","v":0}]
[{"$nulls":4},0,{"$nulls":7},0,{"$nulls":13},{"$f":"IF(OR(SUMPRODUCT(--(E99607=$O$1:$O$542))>0,E99607=0),0,1)","v":0}]
[{"$nulls":4},0,{"$nulls":7},0,{"$nulls":13},{"$f":"IF(OR(SUMPRODUCT(--(E99608=$O$1:$O$542))>0,E99608=0),0,1)","v":0}]
[{"$nulls":4},0,{"$nulls":7},0,{"$nulls":13},{"$f":"IF(OR(SUMPRODUCT(--(E99609=$O$1:$O$542))>0,E99609=0),0,1)","v":0}]
[{"$nulls":4},0,{"$nulls":7},0,{"$nulls":13},{"$f":"IF(OR(SUMPRODUCT(--(E99610=$O$1:$O$542))>0,E99610=0),0,1)","v":0}]
[{"$nulls":4},0,{"$nulls":7},0,{"$nulls":13},{"$f":"IF(OR(SUMPRODUCT(--(E99611=$O$1:$O$542))>0,E99611=0),0,1)","v":0}]
[{"$nulls":4},0,{"$nulls":7},0,{"$nulls":13},{"$f":"IF(OR(SUMPRODUCT(--(E99612=$O$1:$O$542))>0,E99612=0),0,1)","v":0}]
[{"$nulls":4},0,{"$nulls":7},0,{"$nulls":13},{"$f":"IF(OR(SUMPRODUCT(--(E99613=$O$1:$O$542))>0,E99613=0),0,1)","v":0}]
[{"$nulls":4},0,{"$nulls":7},0,{"$nulls":13},{"$f":"IF(OR(SUMPRODUCT(--(E99614=$O$1:$O$542))>0,E99614=0),0,1)","v":0}]
[{"$nulls":4},0,{"$nulls":7},0,{"$nulls":13},{"$f":"IF(OR(SUMPRODUCT(--(E99615=$O$1:$O$542))>0,E99615=0),0,1)","v":0}]
[{"$nulls":4},0,{"$nulls":7},0,{"$nulls":13},{"$f":"IF(OR(SUMPRODUCT(--(E99616=$O$1:$O$542))>0,E99616=0),0,1)","v":0}]
[{"$nulls":4},0,{"$nulls":7},0,{"$nulls":13},{"$f":"IF(OR(SUMPRODUCT(--(E99617=$O$1:$O$542))>0,E99617=0),0,1)","v":0}]
[{"$nulls":4},0,{"$nulls":7},0,{"$nulls":13},{"$f":"IF(OR(SUMPRODUCT(--(E99618=$O$1:$O$542))>0,E99618=0),0,1)","v":0}]
[{"$nulls":4},0,{"$nulls":7},0,{"$nulls":13},{"$f":"IF(OR(SUMPRODUCT(--(E99619=$O$1:$O$542))>0,E99619=0),0,1)","v":0}]
[{"$nulls":4},0,{"$nulls":7},0,{"$nulls":13},{"$f":"IF(OR(SUMPRODUCT(--(E99620=$O$1:$O$542))>0,E99620=0),0,1)","v":0}]
[{"$nulls":4},0,{"$nulls":7},0,{"$nulls":13},{"$f":"IF(OR(SUMPRODUCT(--(E99621=$O$1:$O$542))>0,E99621=0),0,1)","v":0}]
[{"$nulls":4},0,{"$nulls":7},0,{"$nulls":13},{"$f":"IF(OR(SUMPRODUCT(--(E99622=$O$1:$O$542))>0,E99622=0),0,1)","v":0}]
[{"$nulls":4},0,{"$nulls":7},0,{"$nulls":13},{"$f":"IF(OR(SUMPRODUCT(--(E99623=$O$1:$O$542))>0,E99623=0),0,1)","v":0}]
[{"$nulls":4},0,{"$nulls":7},0,{"$nulls":13},{"$f":"IF(OR(SUMPRODUCT(--(E99624=$O$1:$O$542))>0,E99624=0),0,1)","v":0}]
[{"$nulls":4},0,{"$nulls":7},0,{"$nulls":13},{"$f":"IF(OR(SUMPRODUCT(--(E99625=$O$1:$O$542))>0,E99625=0),0,1)","v":0}]
[{"$nulls":4},{"$f":"IF(AND(F99626<>\"\",F99626=G99626),\"ERROR\",IF(AND(F99626<>\"\",F99626<>G99626),F99626,G99626))","v":0},{"$nulls":7},{"$f":"IF(L99626<>\"\",L99626,K99626)","v":0},{"$nulls":13},{"$f":"IF(OR(SUMPRODUCT(--(E99626=$O$1:$O$542))>0,E99626=0),0,1)","v":0}]
[{"$nulls":4},0,{"$nulls":7},0,{"$nulls":13},{"$f":"IF(OR(SUMPRODUCT(--(E99627=$O$1:$O$542))>0,E99627=0),0,1)","v":0}]
[{"$nulls":4},0,{"$nulls":7},0,{"$nulls":13},{"$f":"IF(OR(SUMPRODUCT(--(E99628=$O$1:$O$542))>0,E99628=0),0,1)","v":0}]
[{"$nulls":4},0,{"$nulls":7},0,{"$nulls":13},{"$f":"IF(OR(SUMPRODUCT(--(E99629=$O$1:$O$542))>0,E99629=0),0,1)","v":0}]
[{"$nulls":4},0,{"$nulls":7},0,{"$nulls":13},{"$f":"IF(OR(SUMPRODUCT(--(E99630=$O$1:$O$542))>0,E99630=0),0,1)","v":0}]
[{"$nulls":4},0,{"$nulls":7},0,{"$nulls":13},{"$f":"IF(OR(SUMPRODUCT(--(E99631=$O$1:$O$542))>0,E99631=0),0,1)","v":0}]
[{"$nulls":4},0,{"$nulls":7},0,{"$nulls":13},{"$f":"IF(OR(SUMPRODUCT(--(E99632=$O$1:$O$542))>0,E99632=0),0,1)","v":0}]
[{"$nulls":4},0,{"$nulls":7},0,{"$nulls":13},{"$f":"IF(OR(SUMPRODUCT(--(E99633=$O$1:$O$542))>0,E99633=0),0,1)","v":0}]
[{"$nulls":4},0,{"$nulls":7},0,{"$nulls":13},{"$f":"IF(OR(SUMPRODUCT(--(E99634=$O$1:$O$542))>0,E99634=0),0,1)","v":0}]
[{"$nulls":4},0,{"$nulls":7},0,{"$nulls":13},{"$f":"IF(OR(SUMPRODUCT(--(E99635=$O$1:$O$542))>0,E99635=0),0,1)","v":0}]
[{"$nulls":4},0,{"$nulls":7},0,{"$nulls":13},{"$f":"IF(OR(SUMPRODUCT(--(E99636=$O$1:$O$542))>0,E99636=0),0,1)","v":0}]
[{"$nulls":4},0,{"$nulls":7},0,{"$nulls":13},{"$f":"IF(OR(SUMPRODUCT(--(E99637=$O$1:$O$542))>0,E99637=0),0,1)","v":0}]
[{"$nulls":4},0,{"$nulls":7},0,{"$nulls":13},{"$f":"IF(OR(SUMPRODUCT(--(E99638=$O$1:$O$542))>0,E99638=0),0,1)","v":0}]
[{"$nulls":4},0,{"$nulls":7},0,{"$nulls":13},{"$f":"IF(OR(SUMPRODUCT(--(E99639=$O$1:$O$542))>0,E99639=0),0,1)","v":0}]
[{"$nulls":4},0,{"$nulls":7},0,{"$nulls":13},{"$f":"IF(OR(SUMPRODUCT(--(E99640=$O$1:$O$542))>0,E99640=0),0,1)","v":0}]
[{"$nulls":4},0,{"$nulls":7},0,{"$nulls":13},{"$f":"IF(OR(SUMPRODUCT(--(E99641=$O$1:$O$542))>0,E99641=0),0,1)","v":0}]
[{"$nulls":4},0,{"$nulls":7},0,{"$nulls":13},{"$f":"IF(OR(SUMPRODUCT(--(E99642=$O$1:$O$542))>0,E99642=0),0,1)","v":0}]
[{"$nulls":4},0,{"$nulls":7},0,{"$nulls":13},{"$f":"IF(OR(SUMPRODUCT(--(E99643=$O$1:$O$542))>0,E99643=0),0,1)","v":0}]
[{"$nulls":4},0,{"$nulls":7},0,{"$nulls":13},{"$f":"IF(OR(SUMPRODUCT(--(E99644=$O$1:$O$542))>0,E99644=0),0,1)","v":0}]
[{"$nulls":4},0,{"$nulls":7},0,{"$nulls":13},{"$f":"IF(OR(SUMPRODUCT(--(E99645=$O$1:$O$542))>0,E99645=0),0,1)","v":0}]
[{"$nulls":4},0,{"$nulls":7},0,{"$nulls":13},{"$f":"IF(OR(SUMPRODUCT(--(E99646=$O$1:$O$542))>0,E99646=0),0,1)","v":0}]
[{"$nulls":4},0,{"$nulls":7},0,{"$nulls":13},{"$f":"IF(OR(SUMPRODUCT(--(E99647=$O$1:$O$542))>0,E99647=0),0,1)","v":0}]
[{"$nulls":4},0,{"$nulls":7},0,{"$nulls":13},{"$f":"IF(OR(SUMPRODUCT(--(E99648=$O$1:$O$542))>0,E99648=0),0,1)","v":0}]
[{"$nulls":4},0,{"$nulls":7},0,{"$nulls":13},{"$f":"IF(OR(SUMPRODUCT(--(E99649=$O$1:$O$542))>0,E99649=0),0,1)","v":0}]
[{"$nulls":4},0,{"$nulls":7},0,{"$nulls":13},{"$f":"IF(OR(SUMPRODUCT(--(E99650=$O$1:$O$542))>0,E99650=0),0,1)","v":0}]
[{"$nulls":4},0,{"$nulls":7},0,{"$nulls":13},{"$f":"IF(OR(SUMPRODUCT(--(E99651=$O$1:$O$542))>0,E99651=0),0,1)","v":0}]
[{"$nulls":4},0,{"$nulls":7},0,{"$nulls":13},{"$f":"IF(OR(SUMPRODUCT(--(E99652=$O$1:$O$542))>0,E99652=0),0,1)","v":0}]
[{"$nulls":4},0,{"$nulls":7},0,{"$nulls":13},{"$f":"IF(OR(SUMPRODUCT(--(E99653=$O$1:$O$542))>0,E99653=0),0,1)","v":0}]
[{"$nulls":4},0,{"$nulls":7},0,{"$nulls":13},{"$f":"IF(OR(SUMPRODUCT(--(E99654=$O$1:$O$542))>0,E99654=0),0,1)","v":0}]
[{"$nulls":4},0,{"$nulls":7},0,{"$nulls":13},{"$f":"IF(OR(SUMPRODUCT(--(E99655=$O$1:$O$542))>0,E99655=0),0,1)","v":0}]
[{"$nulls":4},0,{"$nulls":7},0,{"$nulls":13},{"$f":"IF(OR(SUMPRODUCT(--(E99656=$O$1:$O$542))>0,E99656=0),0,1)","v":0}]
[{"$nulls":4},0,{"$nulls":7},0,{"$nulls":13},{"$f":"IF(OR(SUMPRODUCT(--(E99657=$O$1:$O$542))>0,E99657=0),0,1)","v":0}]
[{"$nulls":4},0,{"$nulls":7},0,{"$nulls":13},{"$f":"IF(OR(SUMPRODUCT(--(E99658=$O$1:$O$542))>0,E99658=0),0,1)","v":0}]
[{"$nulls":4},0,{"$nulls":7},0,{"$nulls":13},{"$f":"IF(OR(SUMPRODUCT(--(E99659=$O$1:$O$542))>0,E99659=0),0,1)","v":0}]
[{"$nulls":4},0,{"$nulls":7},0,{"$nulls":13},{"$f":"IF(OR(SUMPRODUCT(--(E99660=$O$1:$O$542))>0,E99660=0),0,1)","v":0}]
[{"$nulls":4},0,{"$nulls":7},0,{"$nulls":13},{"$f":"IF(OR(SUMPRODUCT(--(E99661=$O$1:$O$542))>0,E99661=0),0,1)","v":0}]
[{"$nulls":4},0,{"$nulls":7},0,{"$nulls":13},{"$f":"IF(OR(SUMPRODUCT(--(E99662=$O$1:$O$542))>0,E99662=0),0,1)","v":0}]
[{"$nulls":4},0,{"$nulls":7},0,{"$nulls":13},{"$f":"IF(OR(SUMPRODUCT(--(E99663=$O$1:$O$542))>0,E99663=0),0,1)","v":0}]
[{"$nulls":4},0,{"$nulls":7},0,{"$nulls":13},{"$f":"IF(OR(SUMPRODUCT(--(E99664=$O$1:$O$542))>0,E99664=0),0,1)","v":0}]
[{"$nulls":4},0,{"$nulls":7},0,{"$nulls":13},{"$f":"IF(OR(SUMPRODUCT(--(E99665=$O$1:$O$542))>0,E99665=0),0,1)","v":0}]
[{"$nulls":4},0,{"$nulls":7},0,{"$nulls":13},{"$f":"IF(OR(SUMPRODUCT(--(E99666=$O$1:$O$542))>0,E99666=0),0,1)","v":0}]
[{"$nulls":4},0,{"$nulls":7},0,{"$nulls":13},{"$f":"IF(OR(SUMPRODUCT(--(E99667=$O$1:$O$542))>0,E99667=0),0,1)","v":0}]
[{"$nulls":4},0,{"$nulls":7},0,{"$nulls":13},{"$f":"IF(OR(SUMPRODUCT(--(E99668=$O$1:$O$542))>0,E99668=0),0,1)","v":0}]
[{"$nulls":4},0,{"$nulls":7},0,{"$nulls":13},{"$f":"IF(OR(SUMPRODUCT(--(E99669=$O$1:$O$542))>0,E99669=0),0,1)","v":0}]
[{"$nulls":4},0,{"$nulls":7},0,{"$nulls":13},{"$f":"IF(OR(SUMPRODUCT(--(E99670=$O$1:$O$542))>0,E99670=0),0,1)","v":0}]
[{"$nulls":4},0,{"$nulls":7},0,{"$nulls":13},{"$f":"IF(OR(SUMPRODUCT(--(E99671=$O$1:$O$542))>0,E99671=0),0,1)","v":0}]
[{"$nulls":4},0,{"$nulls":7},0,{"$nulls":13},{"$f":"IF(OR(SUMPRODUCT(--(E99672=$O$1:$O$542))>0,E99672=0),0,1)","v":0}]
[{"$nulls":4},0,{"$nulls":7},0,{"$nulls":13},{"$f":"IF(OR(SUMPRODUCT(--(E99673=$O$1:$O$542))>0,E99673=0),0,1)","v":0}]
[{"$nulls":4},0,{"$nulls":7},0,{"$nulls":13},{"$f":"IF(OR(SUMPRODUCT(--(E99674=$O$1:$O$542))>0,E99674=0),0,1)","v":0}]
[{"$nulls":4},0,{"$nulls":7},0,{"$nulls":13},{"$f":"IF(OR(SUMPRODUCT(--(E99675=$O$1:$O$542))>0,E99675=0),0,1)","v":0}]
[{"$nulls":4},0,{"$nulls":7},0,{"$nulls":13},{"$f":"IF(OR(SUMPRODUCT(--(E99676=$O$1:$O$542))>0,E99676=0),0,1)","v":0}]
[{"$nulls":4},0,{"$nulls":7},0,{"$nulls":13},{"$f":"IF(OR(SUMPRODUCT(--(E99677=$O$1:$O$542))>0,E99677=0),0,1)","v":0}]
[{"$nulls":4},0,{"$nulls":7},0,{"$nulls":13},{"$f":"IF(OR(SUMPRODUCT(--(E99678=$O$1:$O$542))>0,E99678=0),0,1)","v":0}]
[{"$nulls":4},0,{"$nulls":7},0,{"$nulls":13},{"$f":"IF(OR(SUMPRODUCT(--(E99679=$O$1:$O$542))>0,E99679=0),0,1)","v":0}]
[{"$nulls":4},0,{"$nulls":7},0,{"$nulls":13},{"$f":"IF(OR(SUMPRODUCT(--(E99680=$O$1:$O$542))>0,E99680=0),0,1)","v":0}]
[{"$nulls":4},0,{"$nulls":7},0,{"$nulls":13},{"$f":"IF(OR(SUMPRODUCT(--(E99681=$O$1:$O$542))>0,E99681=0),0,1)","v":0}]
[{"$nulls":4},0,{"$nulls":7},0,{"$nulls":13},{"$f":"IF(OR(SUMPRODUCT(--(E99682=$O$1:$O$542))>0,E99682=0),0,1)","v":0}]
[{"$nulls":4},0,{"$nulls":7},0,{"$nulls":13},{"$f":"IF(OR(SUMPRODUCT(--(E99683=$O$1:$O$542))>0,E99683=0),0,1)","v":0}]
[{"$nulls":4},0,{"$nulls":7},0,{"$nulls":13},{"$f":"IF(OR(SUMPRODUCT(--(E99684=$O$1:$O$542))>0,E99684=0),0,1)","v":0}]
[{"$nulls":4},0,{"$nulls":7},0,{"$nulls":13},{"$f":"IF(OR(SUMPRODUCT(--(E99685=$O$1:$O$542))>0,E99685=0),0,1)","v":0}]
[{"$nulls":4},0,{"$nulls":7},0,{"$nulls":13},{"$f":"IF(OR(SUMPRODUCT(--(E99686=$O$1:$O$542))>0,E99686=0),0,1)","v":0}]
[{"$nulls":4},0,{"$nulls":7},0,{"$nulls":13},{"$f":"IF(OR(SUMPRODUCT(--(E99687=$O$1:$O$542))>0,E99687=0),0,1)","v":0}]
[{"$nulls":4},0,{"$nulls":7},0,{"$nulls":13},{"$f":"IF(OR(SUMPRODUCT(--(E99688=$O$1:$O$542))>0,E99688=0),0,1)","v":0}]
[{"$nulls":4},0,{"$nulls":7},0,{"$nulls":13},{"$f":"IF(OR(SUMPRODUCT(--(E99689=$O$1:$O$542))>0,E99689=0),0,1)","v":0}]
[{"$nulls":4},{"$f":"IF(AND(F99690<>\"\",F99690=G99690),\"ERROR\",IF(AND(F99690<>\"\",F99690<>G99690),F99690,G99690))","v":0},{"$nulls":7},{"$f":"IF(L99690<>\"\",L99690,K99690)","v":0},{"$nulls":13},{"$f":"IF(OR(SUMPRODUCT(--(E99690=$O$1:$O$542))>0,E99690=0),0,1)","v":0}]
[{"$nulls":4},0,{"$nulls":7},0,{"$nulls":13},{"$f":"IF(OR(SUMPRODUCT(--(E99691=$O$1:$O$542))>0,E99691=0),0,1)","v":0}]
[{"$nulls":4},0,{"$nulls":7},0,{"$nulls":13},{"$f":"IF(OR(SUMPRODUCT(--(E99692=$O$1:$O$542))>0,E99692=0),0,1)","v":0}]
[{"$nulls":4},0,{"$nulls":7},0,{"$nulls":13},{"$f":"IF(OR(SUMPRODUCT(--(E99693=$O$1:$O$542))>0,E99693=0),0,1)","v":0}]
[{"$nulls":4},0,{"$nulls":7},0,{"$nulls":13},{"$f":"IF(OR(SUMPRODUCT(--(E99694=$O$1:$O$542))>0,E99694=0),0,1)","v":0}]
[{"$nulls":4},0,{"$nulls":7},0,{"$nulls":13},{"$f":"IF(OR(SUMPRODUCT(--(E99695=$O$1:$O$542))>0,E99695=0),0,1)","v":0}]
[{"$nulls":4},0,{"$nulls":7},0,{"$nulls":13},{"$f":"IF(OR(SUMPRODUCT(--(E99696=$O$1:$O$542))>0,E99696=0),0,1)","v":0}]
[{"$nulls":4},0,{"$nulls":7},0,{"$nulls":13},{"$f":"IF(OR(SUMPRODUCT(--(E99697=$O$1:$O$542))>0,E99697=0),0,1)","v":0}]
[{"$nulls":4},0,{"$nulls":7},0,{"$nulls":13},{"$f":"IF(OR(SUMPRODUCT(--(E99698=$O$1:$O$542))>0,E99698=0),0,1)","v":0}]
[{"$nulls":4},0,{"$nulls":7},0,{"$nulls":13},{"$f":"IF(OR(SUMPRODUCT(--(E99699=$O$1:$O$542))>0,E99699=0),0,1)","v":0}]
[{"$nulls":4},0,{"$nulls":7},0,{"$nulls":13},{"$f":"IF(OR(SUMPRODUCT(--(E99700=$O$1:$O$542))>0,E99700=0),0,1)","v":0}]
[{"$nulls":4},0,{"$nulls":7},0,{"$nulls":13},{"$f":"IF(OR(SUMPRODUCT(--(E99701=$O$1:$O$542))>0,E99701=0),0,1)","v":0}]
[{"$nulls":4},0,{"$nulls":7},0,{"$nulls":13},{"$f":"IF(OR(SUMPRODUCT(--(E99702=$O$1:$O$542))>0,E99702=0),0,1)","v":0}]
[{"$nulls":4},0,{"$nulls":7},0,{"$nulls":13},{"$f":"IF(OR(SUMPRODUCT(--(E99703=$O$1:$O$542))>0,E99703=0),0,1)","v":0}]
[{"$nulls":4},0,{"$nulls":7},0,{"$nulls":13},{"$f":"IF(OR(SUMPRODUCT(--(E99704=$O$1:$O$542))>0,E99704=0),0,1)","v":0}]
[{"$nulls":4},0,{"$nulls":7},0,{"$nulls":13},{"$f":"IF(OR(SUMPRODUCT(--(E99705=$O$1:$O$542))>0,E99705=0),0,1)","v":0}]
[{"$nulls":4},0,{"$nulls":7},0,{"$nulls":13},{"$f":"IF(OR(SUMPRODUCT(--(E99706=$O$1:$O$542))>0,E99706=0),0,1)","v":0}]
[{"$nulls":4},0,{"$nulls":7},0,{"$nulls":13},{"$f":"IF(OR(SUMPRODUCT(--(E99707=$O$1:$O$542))>0,E99707=0),0,1)","v":0}]
[{"$nulls":4},0,{"$nulls":7},0,{"$nulls":13},{"$f":"IF(OR(SUMPRODUCT(--(E99708=$O$1:$O$542))>0,E99708=0),0,1)","v":0}]
[{"$nulls":4},0,{"$nulls":7},0,{"$nulls":13},{"$f":"IF(OR(SUMPRODUCT(--(E99709=$O$1:$O$542))>0,E99709=0),0,1)","v":0}]
[{"$nulls":4},0,{"$nulls":7},0,{"$nulls":13},{"$f":"IF(OR(SUMPRODUCT(--(E99710=$O$1:$O$542))>0,E99710=0),0,1)","v":0}]
[{"$nulls":4},0,{"$nulls":7},0,{"$nulls":13},{"$f":"IF(OR(SUMPRODUCT(--(E99711=$O$1:$O$542))>0,E99711=0),0,1)","v":0}]
[{"$nulls":4},0,{"$nulls":7},0,{"$nulls":13},{"$f":"IF(OR(SUMPRODUCT(--(E99712=$O$1:$O$542))>0,E99712=0),0,1)","v":0}]
[{"$nulls":4},0,{"$nulls":7},0,{"$nulls":13},{"$f":"IF(OR(SUMPRODUCT(--(E99713=$O$1:$O$542))>0,E99713=0),0,1)","v":0}]
[{"$nulls":4},0,{"$nulls":7},0,{"$nulls":13},{"$f":"IF(OR(SUMPRODUCT(--(E99714=$O$1:$O$542))>0,E99714=0),0,1)","v":0}]
[{"$nulls":4},0,{"$nulls":7},0,{"$nulls":13},{"$f":"IF(OR(SUMPRODUCT(--(E99715=$O$1:$O$542))>0,E99715=0),0,1)","v":0}]
[{"$nulls":4},0,{"$nulls":7},0,{"$nulls":13},{"$f":"IF(OR(SUMPRODUCT(--(E99716=$O$1:$O$542))>0,E99716=0),0,1)","v":0}]
[{"$nulls":4},0,{"$nulls":7},0,{"$nulls":13},{"$f":"IF(OR(SUMPRODUCT(--(E99717=$O$1:$O$542))>0,E99717=0),0,1)","v":0}]
[{"$nulls":4},0,{"$nulls":7},0,{"$nulls":13},{"$f":"IF(OR(SUMPRODUCT(--(E99718=$O$1:$O$542))>0,E99718=0),0,1)","v":0}]
[{"$nulls":4},0,{"$nulls":7},0,{"$nulls":13},{"$f":"IF(OR(SUMPRODUCT(--(E99719=$O$1:$O$542))>0,E99719=0),0,1)","v":0}]
[{"$nulls":4},0,{"$nulls":7},0,{"$nulls":13},{"$f":"IF(OR(SUMPRODUCT(--(E99720=$O$1:$O$542))>0,E99720=0),0,1)","v":0}]
[{"$nulls":4},0,{"$nulls":7},0,{"$nulls":13},{"$f":"IF(OR(SUMPRODUCT(--(E99721=$O$1:$O$542))>0,E99721=0),0,1)","v":0}]
[{"$nulls":4},0,{"$nulls":7},0,{"$nulls":13},{"$f":"IF(OR(SUMPRODUCT(--(E99722=$O$1:$O$542))>0,E99722=0),0,1)","v":0}]
[{"$nulls":4},0,{"$nulls":7},0,{"$nulls":13},{"$f":"IF(OR(SUMPRODUCT(--(E99723=$O$1:$O$542))>0,E99723=0),0,1)","v":0}]
[{"$nulls":4},0,{"$nulls":7},0,{"$nulls":13},{"$f":"IF(OR(SUMPRODUCT(--(E99724=$O$1:$O$542))>0,E99724=0),0,1)","v":0}]
[{"$nulls":4},0,{"$nulls":7},0,{"$nulls":13},{"$f":"IF(OR(SUMPRODUCT(--(E99725=$O$1:$O$542))>0,E99725=0),0,1)","v":0}]
[{"$nulls":4},0,{"$nulls":7},0,{"$nulls":13},{"$f":"IF(OR(SUMPRODUCT(--(E99726=$O$1:$O$542))>0,E99726=0),0,1)","v":0}]
[{"$nulls":4},0,{"$nulls":7},0,{"$nulls":13},{"$f":"IF(OR(SUMPRODUCT(--(E99727=$O$1:$O$542))>0,E99727=0),0,1)","v":0}]
[{"$nulls":4},0,{"$nulls":7},0,{"$nulls":13},{"$f":"IF(OR(SUMPRODUCT(--(E99728=$O$1:$O$542))>0,E99728=0),0,1)","v":0}]
[{"$nulls":4},0,{"$nulls":7},0,{"$nulls":13},{"$f":"IF(OR(SUMPRODUCT(--(E99729=$O$1:$O$542))>0,E99729=0),0,1)","v":0}]
[{"$nulls":4},0,{"$nulls":7},0,{"$nulls":13},{"$f":"IF(OR(SUMPRODUCT(--(E99730=$O$1:$O$542))>0,E99730=0),0,1)","v":0}]
[{"$nulls":4},0,{"$nulls":7},0,{"$nulls":13},{"$f":"IF(OR(SUMPRODUCT(--(E99731=$O$1:$O$542))>0,E99731=0),0,1)","v":0}]
[{"$nulls":4},0,{"$nulls":7},0,{"$nulls":13},{"$f":"IF(OR(SUMPRODUCT(--(E99732=$O$1:$O$542))>0,E99732=0),0,1)","v":0}]
[{"$nulls":4},0,{"$nulls":7},0,{"$nulls":13},{"$f":"IF(OR(SUMPRODUCT(--(E99733=$O$1:$O$542))>0,E99733=0),0,1)","v":0}]
[{"$nulls":4},0,{"$nulls":7},0,{"$nulls":13},{"$f":"IF(OR(SUMPRODUCT(--(E99734=$O$1:$O$542))>0,E99734=0),0,1)","v":0}]
[{"$nulls":4},0,{"$nulls":7},0,{"$nulls":13},{"$f":"IF(OR(SUMPRODUCT(--(E99735=$O$1:$O$542))>0,E99735=0),0,1)","v":0}]
[{"$nulls":4},0,{"$nulls":7},0,{"$nulls":13},{"$f":"IF(OR(SUMPRODUCT(--(E99736=$O$1:$O$542))>0,E99736=0),0,1)","v":0}]
[{"$nulls":4},0,{"$nulls":7},0,{"$nulls":13},{"$f":"IF(OR(SUMPRODUCT(--(E99737=$O$1:$O$542))>0,E99737=0),0,1)","v":0}]
[{"$nulls":4},0,{"$nulls":7},0,{"$nulls":13},{"$f":"IF(OR(SUMPRODUCT(--(E99738=$O$1:$O$542))>0,E99738=0),0,1)","v":0}]
[{"$nulls":4},0,{"$nulls":7},0,{"$nulls":13},{"$f":"IF(OR(SUMPRODUCT(--(E99739=$O$1:$O$542))>0,E99739=0),0,1)","v":0}]
[{"$nulls":4},0,{"$nulls":7},0,{"$nulls":13},{"$f":"IF(OR(SUMPRODUCT(--(E99740=$O$1:$O$542))>0,E99740=0),0,1)","v":0}]
[{"$nulls":4},0,{"$nulls":7},0,{"$nulls":13},{"$f":"IF(OR(SUMPRODUCT(--(E99741=$O$1:$O$542))>0,E99741=0),0,1)","v":0}]
[{"$nulls":4},0,{"$nulls":7},0,{"$nulls":13},{"$f":"IF(OR(SUMPRODUCT(--(E99742=$O$1:$O$542))>0,E99742=0),0,1)","v":0}]
[{"$nulls":4},0,{"$nulls":7},0,{"$nulls":13},{"$f":"IF(OR(SUMPRODUCT(--(E99743=$O$1:$O$542))>0,E99743=0),0,1)","v":0}]
[{"$nulls":4},0,{"$nulls":7},0,{"$nulls":13},{"$f":"IF(OR(SUMPRODUCT(--(E99744=$O$1:$O$542))>0,E99744=0),0,1)","v":0}]
[{"$nulls":4},0,{"$nulls":7},0,{"$nulls":13},{"$f":"IF(OR(SUMPRODUCT(--(E99745=$O$1:$O$542))>0,E99745=0),0,1)","v":0}]
[{"$nulls":4},0,{"$nulls":7},0,{"$nulls":13},{"$f":"IF(OR(SUMPRODUCT(--(E99746=$O$1:$O$542))>0,E99746=0),0,1)","v":0}]
[{"$nulls":4},0,{"$nulls":7},0,{"$nulls":13},{"$f":"IF(OR(SUMPRODUCT(--(E99747=$O$1:$O$542))>0,E99747=0),0,1)","v":0}]
[{"$nulls":4},0,{"$nulls":7},0,{"$nulls":13},{"$f":"IF(OR(SUMPRODUCT(--(E99748=$O$1:$O$542))>0,E99748=0),0,1)","v":0}]
[{"$nulls":4},0,{"$nulls":7},0,{"$nulls":13},{"$f":"IF(OR(SUMPRODUCT(--(E99749=$O$1:$O$542))>0,E99749=0),0,1)","v":0}]
[{"$nulls":4},0,{"$nulls":7},0,{"$nulls":13},{"$f":"IF(OR(SUMPRODUCT(--(E99750=$O$1:$O$542))>0,E99750=0),0,1)","v":0}]
[{"$nulls":4},0,{"$nulls":7},0,{"$nulls":13},{"$f":"IF(OR(SUMPRODUCT(--(E99751=$O$1:$O$542))>0,E99751=0),0,1)","v":0}]
[{"$nulls":4},0,{"$nulls":7},0,{"$nulls":13},{"$f":"IF(OR(SUMPRODUCT(--(E99752=$O$1:$O$542))>0,E99752=0),0,1)","v":0}]
[{"$nulls":4},0,{"$nulls":7},0,{"$nulls":13},{"$f":"IF(OR(SUMPRODUCT(--(E99753=$O$1:$O$542))>0,E99753=0),0,1)","v":0}]
[{"$nulls":4},{"$f":"IF(AND(F99754<>\"\",F99754=G99754),\"ERROR\",IF(AND(F99754<>\"\",F99754<>G99754),F99754,G99754))","v":0},{"$nulls":7},{"$f":"IF(L99754<>\"\",L99754,K99754)","v":0},{"$nulls":13},{"$f":"IF(OR(SUMPRODUCT(--(E99754=$O$1:$O$542))>0,E99754=0),0,1)","v":0}]
[{"$nulls":4},0,{"$nulls":7},0,{"$nulls":13},{"$f":"IF(OR(SUMPRODUCT(--(E99755=$O$1:$O$542))>0,E99755=0),0,1)","v":0}]
[{"$nulls":4},0,{"$nulls":7},0,{"$nulls":13},{"$f":"IF(OR(SUMPRODUCT(--(E99756=$O$1:$O$542))>0,E99756=0),0,1)","v":0}]
[{"$nulls":4},0,{"$nulls":7},0,{"$nulls":13},{"$f":"IF(OR(SUMPRODUCT(--(E99757=$O$1:$O$542))>0,E99757=0),0,1)","v":0}]
[{"$nulls":4},0,{"$nulls":7},0,{"$nulls":13},{"$f":"IF(OR(SUMPRODUCT(--(E99758=$O$1:$O$542))>0,E99758=0),0,1)","v":0}]
[{"$nulls":4},0,{"$nulls":7},0,{"$nulls":13},{"$f":"IF(OR(SUMPRODUCT(--(E99759=$O$1:$O$542))>0,E99759=0),0,1)","v":0}]
[{"$nulls":4},0,{"$nulls":7},0,{"$nulls":13},{"$f":"IF(OR(SUMPRODUCT(--(E99760=$O$1:$O$542))>0,E99760=0),0,1)","v":0}]
[{"$nulls":4},0,{"$nulls":7},0,{"$nulls":13},{"$f":"IF(OR(SUMPRODUCT(--(E99761=$O$1:$O$542))>0,E99761=0),0,1)","v":0}]
[{"$nulls":4},0,{"$nulls":7},0,{"$nulls":13},{"$f":"IF(OR(SUMPRODUCT(--(E99762=$O$1:$O$542))>0,E99762=0),0,1)","v":0}]
[{"$nulls":4},0,{"$nulls":7},0,{"$nulls":13},{"$f":"IF(OR(SUMPRODUCT(--(E99763=$O$1:$O$542))>0,E99763=0),0,1)","v":0}]
[{"$nulls":4},0,{"$nulls":7},0,{"$nulls":13},{"$f":"IF(OR(SUMPRODUCT(--(E99764=$O$1:$O$542))>0,E99764=0),0,1)","v":0}]
[{"$nulls":4},0,{"$nulls":7},0,{"$nulls":13},{"$f":"IF(OR(SUMPRODUCT(--(E99765=$O$1:$O$542))>0,E99765=0),0,1)","v":0}]
[{"$nulls":4},0,{"$nulls":7},0,{"$nulls":13},{"$f":"IF(OR(SUMPRODUCT(--(E99766=$O$1:$O$542))>0,E99766=0),0,1)","v":0}]
[{"$nulls":4},0,{"$nulls":7},0,{"$nulls":13},{"$f":"IF(OR(SUMPRODUCT(--(E99767=$O$1:$O$542))>0,E99767=0),0,1)","v":0}]
[{"$nulls":4},0,{"$nulls":7},0,{"$nulls":13},{"$f":"IF(OR(SUMPRODUCT(--(E99768=$O$1:$O$542))>0,E99768=0),0,1)","v":0}]
[{"$nulls":4},0,{"$nulls":7},0,{"$nulls":13},{"$f":"IF(OR(SUMPRODUCT(--(E99769=$O$1:$O$542))>0,E99769=0),0,1)","v":0}]
[{"$nulls":4},0,{"$nulls":7},0,{"$nulls":13},{"$f":"IF(OR(SUMPRODUCT(--(E99770=$O$1:$O$542))>0,E99770=0),0,1)","v":0}]
[{"$nulls":4},0,{"$nulls":7},0,{"$nulls":13},{"$f":"IF(OR(SUMPRODUCT(--(E99771=$O$1:$O$542))>0,E99771=0),0,1)","v":0}]
[{"$nulls":4},0,{"$nulls":7},0,{"$nulls":13},{"$f":"IF(OR(SUMPRODUCT(--(E99772=$O$1:$O$542))>0,E99772=0),0,1)","v":0}]
[{"$nulls":4},0,{"$nulls":7},0,{"$nulls":13},{"$f":"IF(OR(SUMPRODUCT(--(E99773=$O$1:$O$542))>0,E99773=0),0,1)","v":0}]
[{"$nulls":4},0,{"$nulls":7},0,{"$nulls":13},{"$f":"IF(OR(SUMPRODUCT(--(E99774=$O$1:$O$542))>0,E99774=0),0,1)","v":0}]
[{"$nulls":4},0,{"$nulls":7},0,{"$nulls":13},{"$f":"IF(OR(SUMPRODUCT(--(E99775=$O$1:$O$542))>0,E99775=0),0,1)","v":0}]
[{"$nulls":4},0,{"$nulls":7},0,{"$nulls":13},{"$f":"IF(OR(SUMPRODUCT(--(E99776=$O$1:$O$542))>0,E99776=0),0,1)","v":0}]
[{"$nulls":4},0,{"$nulls":7},0,{"$nulls":13},{"$f":"IF(OR(SUMPRODUCT(--(E99777=$O$1:$O$542))>0,E99777=0),0,1)","v":0}]
[{"$nulls":4},0,{"$nulls":7},0,{"$nulls":13},{"$f":"IF(OR(SUMPRODUCT(--(E99778=$O$1:$O$542))>0,E99778=0),0,1)","v":0}]
[{"$nulls":4},0,{"$nulls":7},0,{"$nulls":13},{"$f":"IF(OR(SUMPRODUCT(--(E99779=$O$1:$O$542))>0,E99779=0),0,1)","v":0}]
[{"$nulls":4},0,{"$nulls":7},0,{"$nulls":13},{"$f":"IF(OR(SUMPRODUCT(--(E99780=$O$1:$O$542))>0,E99780=0),0,1)","v":0}]
[{"$nulls":4},0,{"$nulls":7},0,{"$nulls":13},{"$f":"IF(OR(SUMPRODUCT(--(E99781=$O$1:$O$542))>0,E99781=0),0,1)","v":0}]
[{"$nulls":4},0,{"$nulls":7},0,{"$nulls":13},{"$f":"IF(OR(SUMPRODUCT(--(E99782=$O$1:$O$542))>0,E99782=0),0,1)","v":0}]
[{"$nulls":4},0,{"$nulls":7},0,{"$nulls":13},{"$f":"IF(OR(SUMPRODUCT(--(E99783=$O$1:$O$542))>0,E99783=0),0,1)","v":0}]
[{"$nulls":4},0,{"$nulls":7},0,{"$nulls":13},{"$f":"IF(OR(SUMPRODUCT(--(E99784=$O$1:$O$542))>0,E99784=0),0,1)","v":0}]
[{"$nulls":4},0,{"$nulls":7},0,{"$nulls":13},{"$f":"IF(OR(SUMPRODUCT(--(E99785=$O$1:$O$542))>0,E99785=0),0,1)","v":0}]
[{"$nulls":4},0,{"$nulls":7},0,{"$nulls":13},{"$f":"IF(OR(SUMPRODUCT(--(E99786=$O$1:$O$542))>0,E99786=0),0,1)","v":0}]
[{"$nulls":4},0,{"$nulls":7},0,{"$nulls":13},{"$f":"IF(OR(SUMPRODUCT(--(E99787=$O$1:$O$542))>0,E99787=0),0,1)","v":0}]
[{"$nulls":4},0,{"$nulls":7},0,{"$nulls":13},{"$f":"IF(OR(SUMPRODUCT(--(E99788=$O$1:$O$542))>0,E99788=0),0,1)","v":0}]
[{"$nulls":4},0,{"$nulls":7},0,{"$nulls":13},{"$f":"IF(OR(SUMPRODUCT(--(E99789=$O$1:$O$542))>0,E99789=0),0,1)","v":0}]
[{"$nulls":4},0,{"$nulls":7},0,{"$nulls":13},{"$f":"IF(OR(SUMPRODUCT(--(E99790=$O$1:$O$542))>0,E99790=0),0,1)","v":0}]
[{"$nulls":4},0,{"$nulls":7},0,{"$nulls":13},{"$f":"IF(OR(SUMPRODUCT(--(E99791=$O$1:$O$542))>0,E99791=0),0,1)","v":0}]
[{"$nulls":4},0,{"$nulls":7},0,{"$nulls":13},{"$f":"IF(OR(SUMPRODUCT(--(E99792=$O$1:$O$542))>0,E99792=0),0,1)","v":0}]
[{"$nulls":4},0,{"$nulls":7},0,{"$nulls":13},{"$f":"IF(OR(SUMPRODUCT(--(E99793=$O$1:$O$542))>0,E99793=0),0,1)","v":0}]
[{"$nulls":4},0,{"$nulls":7},0,{"$nulls":13},{"$f":"IF(OR(SUMPRODUCT(--(E99794=$O$1:$O$542))>0,E99794=0),0,1)","v":0}]
[{"$nulls":4},0,{"$nulls":7},0,{"$nulls":13},{"$f":"IF(OR(SUMPRODUCT(--(E99795=$O$1:$O$542))>0,E99795=0),0,1)","v":0}]
[{"$nulls":4},0,{"$nulls":7},0,{"$nulls":13},{"$f":"IF(OR(SUMPRODUCT(--(E99796=$O$1:$O$542))>0,E99796=0),0,1)","v":0}]
[{"$nulls":4},0,{"$nulls":7},0,{"$nulls":13},{"$f":"IF(OR(SUMPRODUCT(--(E99797=$O$1:$O$542))>0,E99797=0),0,1)","v":0}]
[{"$nulls":4},0,{"$nulls":7},0,{"$nulls":13},{"$f":"IF(OR(SUMPRODUCT(--(E99798=$O$1:$O$542))>0,E99798=0),0,1)","v":0}]
[{"$nulls":4},0,{"$nulls":7},0,{"$nulls":13},{"$f":"IF(OR(SUMPRODUCT(--(E99799=$O$1:$O$542))>0,E99799=0),0,1)","v":0}]
[{"$nulls":4},0,{"$nulls":7},0,{"$nulls":13},{"$f":"IF(OR(SUMPRODUCT(--(E99800=$O$1:$O$542))>0,E99800=0),0,1)","v":0}]
[{"$nulls":4},0,{"$nulls":7},0,{"$nulls":13},{"$f":"IF(OR(SUMPRODUCT(--(E99801=$O$1:$O$542))>0,E99801=0),0,1)","v":0}]
[{"$nulls":4},0,{"$nulls":7},0,{"$nulls":13},{"$f":"IF(OR(SUMPRODUCT(--(E99802=$O$1:$O$542))>0,E99802=0),0,1)","v":0}]
[{"$nulls":4},0,{"$nulls":7},0,{"$nulls":13},{"$f":"IF(OR(SUMPRODUCT(--(E99803=$O$1:$O$542))>0,E99803=0),0,1)","v":0}]
[{"$nulls":4},0,{"$nulls":7},0,{"$nulls":13},{"$f":"IF(OR(SUMPRODUCT(--(E99804=$O$1:$O$542))>0,E99804=0),0,1)","v":0}]
[{"$nulls":4},0,{"$nulls":7},0,{"$nulls":13},{"$f":"IF(OR(SUMPRODUCT(--(E99805=$O$1:$O$542))>0,E99805=0),0,1)","v":0}]
[{"$nulls":4},0,{"$nulls":7},0,{"$nulls":13},{"$f":"IF(OR(SUMPRODUCT(--(E99806=$O$1:$O$542))>0,E99806=0),0,1)","v":0}]
[{"$nulls":4},0,{"$nulls":7},0,{"$nulls":13},{"$f":"IF(OR(SUMPRODUCT(--(E99807=$O$1:$O$542))>0,E99807=0),0,1)","v":0}]
[{"$nulls":4},0,{"$nulls":7},0,{"$nulls":13},{"$f":"IF(OR(SUMPRODUCT(--(E99808=$O$1:$O$542))>0,E99808=0),0,1)","v":0}]
[{"$nulls":4},0,{"$nulls":7},0,{"$nulls":13},{"$f":"IF(OR(SUMPRODUCT(--(E99809=$O$1:$O$542))>0,E99809=0),0,1)","v":0}]
[{"$nulls":4},0,{"$nulls":7},0,{"$nulls":13},{"$f":"IF(OR(SUMPRODUCT(--(E99810=$O$1:$O$542))>0,E99810=0),0,1)","v":0}]
[{"$nulls":4},0,{"$nulls":7},0,{"$nulls":13},{"$f":"IF(OR(SUMPRODUCT(--(E99811=$O$1:$O$542))>0,E99811=0),0,1)","v":0}]
[{"$nulls":4},0,{"$nulls":7},0,{"$nulls":13},{"$f":"IF(OR(SUMPRODUCT(--(E99812=$O$1:$O$542))>0,E99812=0),0,1)","v":0}]
[{"$nulls":4},0,{"$nulls":7},0,{"$nulls":13},{"$f":"IF(OR(SUMPRODUCT(--(E99813=$O$1:$O$542))>0,E99813=0),0,1)","v":0}]
[{"$nulls":4},0,{"$nulls":7},0,{"$nulls":13},{"$f":"IF(OR(SUMPRODUCT(--(E99814=$O$1:$O$542))>0,E99814=0),0,1)","v":0}]
[{"$nulls":4},0,{"$nulls":7},0,{"$nulls":13},{"$f":"IF(OR(SUMPRODUCT(--(E99815=$O$1:$O$542))>0,E99815=0),0,1)","v":0}]
[{"$nulls":4},0,{"$nulls":7},0,{"$nulls":13},{"$f":"IF(OR(SUMPRODUCT(--(E99816=$O$1:$O$542))>0,E99816=0),0,1)","v":0}]
[{"$nulls":4},0,{"$nulls":7},0,{"$nulls":13},{"$f":"IF(OR(SUMPRODUCT(--(E99817=$O$1:$O$542))>0,E99817=0),0,1)","v":0}]
[{"$nulls":4},{"$f":"IF(AND(F99818<>\"\",F99818=G99818),\"ERROR\",IF(AND(F99818<>\"\",F99818<>G99818),F99818,G99818))","v":0},{"$nulls":7},{"$f":"IF(L99818<>\"\",L99818,K99818)","v":0},{"$nulls":13},{"$f":"IF(OR(SUMPRODUCT(--(E99818=$O$1:$O$542))>0,E99818=0),0,1)","v":0}]
[{"$nulls":4},0,{"$nulls":7},0,{"$nulls":13},{"$f":"IF(OR(SUMPRODUCT(--(E99819=$O$1:$O$542))>0,E99819=0),0,1)","v":0}]
[{"$nulls":4},0,{"$nulls":7},0,{"$nulls":13},{"$f":"IF(OR(SUMPRODUCT(--(E99820=$O$1:$O$542))>0,E99820=0),0,1)","v":0}]
[{"$nulls":4},0,{"$nulls":7},0,{"$nulls":13},{"$f":"IF(OR(SUMPRODUCT(--(E99821=$O$1:$O$542))>0,E99821=0),0,1)","v":0}]
[{"$nulls":4},0,{"$nulls":7},0,{"$nulls":13},{"$f":"IF(OR(SUMPRODUCT(--(E99822=$O$1:$O$542))>0,E99822=0),0,1)","v":0}]
[{"$nulls":4},0,{"$nulls":7},0,{"$nulls":13},{"$f":"IF(OR(SUMPRODUCT(--(E99823=$O$1:$O$542))>0,E99823=0),0,1)","v":0}]
[{"$nulls":4},0,{"$nulls":7},0,{"$nulls":13},{"$f":"IF(OR(SUMPRODUCT(--(E99824=$O$1:$O$542))>0,E99824=0),0,1)","v":0}]
[{"$nulls":4},0,{"$nulls":7},0,{"$nulls":13},{"$f":"IF(OR(SUMPRODUCT(--(E99825=$O$1:$O$542))>0,E99825=0),0,1)","v":0}]
[{"$nulls":4},0,{"$nulls":7},0,{"$nulls":13},{"$f":"IF(OR(SUMPRODUCT(--(E99826=$O$1:$O$542))>0,E99826=0),0,1)","v":0}]
[{"$nulls":4},0,{"$nulls":7},0,{"$nulls":13},{"$f":"IF(OR(SUMPRODUCT(--(E99827=$O$1:$O$542))>0,E99827=0),0,1)","v":0}]
[{"$nulls":4},0,{"$nulls":7},0,{"$nulls":13},{"$f":"IF(OR(SUMPRODUCT(--(E99828=$O$1:$O$542))>0,E99828=0),0,1)","v":0}]
[{"$nulls":4},0,{"$nulls":7},0,{"$nulls":13},{"$f":"IF(OR(SUMPRODUCT(--(E99829=$O$1:$O$542))>0,E99829=0),0,1)","v":0}]
[{"$nulls":4},0,{"$nulls":7},0,{"$nulls":13},{"$f":"IF(OR(SUMPRODUCT(--(E99830=$O$1:$O$542))>0,E99830=0),0,1)","v":0}]
[{"$nulls":4},0,{"$nulls":7},0,{"$nulls":13},{"$f":"IF(OR(SUMPRODUCT(--(E99831=$O$1:$O$542))>0,E99831=0),0,1)","v":0}]
[{"$nulls":4},0,{"$nulls":7},0,{"$nulls":13},{"$f":"IF(OR(SUMPRODUCT(--(E99832=$O$1:$O$542))>0,E99832=0),0,1)","v":0}]
[{"$nulls":4},0,{"$nulls":7},0,{"$nulls":13},{"$f":"IF(OR(SUMPRODUCT(--(E99833=$O$1:$O$542))>0,E99833=0),0,1)","v":0}]
[{"$nulls":4},0,{"$nulls":7},0,{"$nulls":13},{"$f":"IF(OR(SUMPRODUCT(--(E99834=$O$1:$O$542))>0,E99834=0),0,1)","v":0}]
[{"$nulls":4},0,{"$nulls":7},0,{"$nulls":13},{"$f":"IF(OR(SUMPRODUCT(--(E99835=$O$1:$O$542))>0,E99835=0),0,1)","v":0}]
[{"$nulls":4},0,{"$nulls":7},0,{"$nulls":13},{"$f":"IF(OR(SUMPRODUCT(--(E99836=$O$1:$O$542))>0,E99836=0),0,1)","v":0}]
[{"$nulls":4},0,{"$nulls":7},0,{"$nulls":13},{"$f":"IF(OR(SUMPRODUCT(--(E99837=$O$1:$O$542))>0,E99837=0),0,1)","v":0}]
[{"$nulls":4},0,{"$nulls":7},0,{"$nulls":13},{"$f":"IF(OR(SUMPRODUCT(--(E99838=$O$1:$O$542))>0,E99838=0),0,1)","v":0}]
[{"$nulls":4},0,{"$nulls":7},0,{"$nulls":13},{"$f":"IF(OR(SUMPRODUCT(--(E99839=$O$1:$O$542))>0,E99839=0),0,1)","v":0}]
[{"$nulls":4},0,{"$nulls":7},0,{"$nulls":13},{"$f":"IF(OR(SUMPRODUCT(--(E99840=$O$1:$O$542))>0,E99840=0),0,1)","v":0}]
[{"$nulls":4},0,{"$nulls":7},0,{"$nulls":13},{"$f":"IF(OR(SUMPRODUCT(--(E99841=$O$1:$O$542))>0,E99841=0),0,1)","v":0}]
[{"$nulls":4},0,{"$nulls":7},0,{"$nulls":13},{"$f":"IF(OR(SUMPRODUCT(--(E99842=$O$1:$O$542))>0,E99842=0),0,1)","v":0}]
[{"$nulls":4},0,{"$nulls":7},0,{"$nulls":13},{"$f":"IF(OR(SUMPRODUCT(--(E99843=$O$1:$O$542))>0,E99843=0),0,1)","v":0}]
[{"$nulls":4},0,{"$nulls":7},0,{"$nulls":13},{"$f":"IF(OR(SUMPRODUCT(--(E99844=$O$1:$O$542))>0,E99844=0),0,1)","v":0}]
[{"$nulls":4},0,{"$nulls":7},0,{"$nulls":13},{"$f":"IF(OR(SUMPRODUCT(--(E99845=$O$1:$O$542))>0,E99845=0),0,1)","v":0}]
[{"$nulls":4},0,{"$nulls":7},0,{"$nulls":13},{"$f":"IF(OR(SUMPRODUCT(--(E99846=$O$1:$O$542))>0,E99846=0),0,1)","v":0}]
[{"$nulls":4},0,{"$nulls":7},0,{"$nulls":13},{"$f":"IF(OR(SUMPRODUCT(--(E99847=$O$1:$O$542))>0,E99847=0),0,1)","v":0}]
[{"$nulls":4},0,{"$nulls":7},0,{"$nulls":13},{"$f":"IF(OR(SUMPRODUCT(--(E99848=$O$1:$O$542))>0,E99848=0),0,1)","v":0}]
[{"$nulls":4},0,{"$nulls":7},0,{"$nulls":13},{"$f":"IF(OR(SUMPRODUCT(--(E99849=$O$1:$O$542))>0,E99849=0),0,1)","v":0}]
[{"$nulls":4},0,{"$nulls":7},0,{"$nulls":13},{"$f":"IF(OR(SUMPRODUCT(--(E99850=$O$1:$O$542))>0,E99850=0),0,1)","v":0}]
[{"$nulls":4},0,{"$nulls":7},0,{"$nulls":13},{"$f":"IF(OR(SUMPRODUCT(--(E99851=$O$1:$O$542))>0,E99851=0),0,1)","v":0}]
[{"$nulls":4},0,{"$nulls":7},0,{"$nulls":13},{"$f":"IF(OR(SUMPRODUCT(--(E99852=$O$1:$O$542))>0,E99852=0),0,1)","v":0}]
[{"$nulls":4},0,{"$nulls":7},0,{"$nulls":13},{"$f":"IF(OR(SUMPRODUCT(--(E99853=$O$1:$O$542))>0,E99853=0),0,1)","v":0}]
[{"$nulls":4},0,{"$nulls":7},0,{"$nulls":13},{"$f":"IF(OR(SUMPRODUCT(--(E99854=$O$1:$O$542))>0,E99854=0),0,1)","v":0}]
[{"$nulls":4},0,{"$nulls":7},0,{"$nulls":13},{"$f":"IF(OR(SUMPRODUCT(--(E99855=$O$1:$O$542))>0,E99855=0),0,1)","v":0}]
[{"$nulls":4},0,{"$nulls":7},0,{"$nulls":13},{"$f":"IF(OR(SUMPRODUCT(--(E99856=$O$1:$O$542))>0,E99856=0),0,1)","v":0}]
[{"$nulls":4},0,{"$nulls":7},0,{"$nulls":13},{"$f":"IF(OR(SUMPRODUCT(--(E99857=$O$1:$O$542))>0,E99857=0),0,1)","v":0}]
[{"$nulls":4},0,{"$nulls":7},0,{"$nulls":13},{"$f":"IF(OR(SUMPRODUCT(--(E99858=$O$1:$O$542))>0,E99858=0),0,1)","v":0}]
[{"$nulls":4},0,{"$nulls":7},0,{"$nulls":13},{"$f":"IF(OR(SUMPRODUCT(--(E99859=$O$1:$O$542))>0,E99859=0),0,1)","v":0}]
[{"$nulls":4},0,{"$nulls":7},0,{"$nulls":13},{"$f":"IF(OR(SUMPRODUCT(--(E99860=$O$1:$O$542))>0,E99860=0),0,1)","v":0}]
[{"$nulls":4},0,{"$nulls":7},0,{"$nulls":13},{"$f":"IF(OR(SUMPRODUCT(--(E99861=$O$1:$O$542))>0,E99861=0),0,1)","v":0}]
[{"$nulls":4},0,{"$nulls":7},0,{"$nulls":13},{"$f":"IF(OR(SUMPRODUCT(--(E99862=$O$1:$O$542))>0,E99862=0),0,1)","v":0}]
[{"$nulls":4},0,{"$nulls":7},0,{"$nulls":13},{"$f":"IF(OR(SUMPRODUCT(--(E99863=$O$1:$O$542))>0,E99863=0),0,1)","v":0}]
[{"$nulls":4},0,{"$nulls":7},0,{"$nulls":13},{"$f":"IF(OR(SUMPRODUCT(--(E99864=$O$1:$O$542))>0,E99864=0),0,1)","v":0}]
[{"$nulls":4},0,{"$nulls":7},0,{"$nulls":13},{"$f":"IF(OR(SUMPRODUCT(--(E99865=$O$1:$O$542))>0,E99865=0),0,1)","v":0}]
[{"$nulls":4},0,{"$nulls":7},0,{"$nulls":13},{"$f":"IF(OR(SUMPRODUCT(--(E99866=$O$1:$O$542))>0,E99866=0),0,1)","v":0}]
[{"$nulls":4},0,{"$nulls":7},0,{"$nulls":13},{"$f":"IF(OR(SUMPRODUCT(--(E99867=$O$1:$O$542))>0,E99867=0),0,1)","v":0}]
[{"$nulls":4},0,{"$nulls":7},0,{"$nulls":13},{"$f":"IF(OR(SUMPRODUCT(--(E99868=$O$1:$O$542))>0,E99868=0),0,1)","v":0}]
[{"$nulls":4},0,{"$nulls":7},0,{"$nulls":13},{"$f":"IF(OR(SUMPRODUCT(--(E99869=$O$1:$O$542))>0,E99869=0),0,1)","v":0}]
[{"$nulls":4},0,{"$nulls":7},0,{"$nulls":13},{"$f":"IF(OR(SUMPRODUCT(--(E99870=$O$1:$O$542))>0,E99870=0),0,1)","v":0}]
[{"$nulls":4},0,{"$nulls":7},0,{"$nulls":13},{"$f":"IF(OR(SUMPRODUCT(--(E99871=$O$1:$O$542))>0,E99871=0),0,1)","v":0}]
[{"$nulls":4},0,{"$nulls":7},0,{"$nulls":13},{"$f":"IF(OR(SUMPRODUCT(--(E99872=$O$1:$O$542))>0,E99872=0),0,1)","v":0}]
[{"$nulls":4},0,{"$nulls":7},0,{"$nulls":13},{"$f":"IF(OR(SUMPRODUCT(--(E99873=$O$1:$O$542))>0,E99873=0),0,1)","v":0}]
[{"$nulls":4},0,{"$nulls":7},0,{"$nulls":13},{"$f":"IF(OR(SUMPRODUCT(--(E99874=$O$1:$O$542))>0,E99874=0),0,1)","v":0}]
[{"$nulls":4},0,{"$nulls":7},0,{"$nulls":13},{"$f":"IF(OR(SUMPRODUCT(--(E99875=$O$1:$O$542))>0,E99875=0),0,1)","v":0}]
[{"$nulls":4},0,{"$nulls":7},0,{"$nulls":13},{"$f":"IF(OR(SUMPRODUCT(--(E99876=$O$1:$O$542))>0,E99876=0),0,1)","v":0}]
[{"$nulls":4},0,{"$nulls":7},0,{"$nulls":13},{"$f":"IF(OR(SUMPRODUCT(--(E99877=$O$1:$O$542))>0,E99877=0),0,1)","v":0}]
[{"$nulls":4},0,{"$nulls":7},0,{"$nulls":13},{"$f":"IF(OR(SUMPRODUCT(--(E99878=$O$1:$O$542))>0,E99878=0),0,1)","v":0}]
[{"$nulls":4},0,{"$nulls":7},0,{"$nulls":13},{"$f":"IF(OR(SUMPRODUCT(--(E99879=$O$1:$O$542))>0,E99879=0),0,1)","v":0}]
[{"$nulls":4},0,{"$nulls":7},0,{"$nulls":13},{"$f":"IF(OR(SUMPRODUCT(--(E99880=$O$1:$O$542))>0,E99880=0),0,1)","v":0}]
[{"$nulls":4},0,{"$nulls":7},0,{"$nulls":13},{"$f":"IF(OR(SUMPRODUCT(--(E99881=$O$1:$O$542))>0,E99881=0),0,1)","v":0}]
[{"$nulls":4},{"$f":"IF(AND(F99882<>\"\",F99882=G99882),\"ERROR\",IF(AND(F99882<>\"\",F99882<>G99882),F99882,G99882))","v":0},{"$nulls":7},{"$f":"IF(L99882<>\"\",L99882,K99882)","v":0},{"$nulls":13},{"$f":"IF(OR(SUMPRODUCT(--(E99882=$O$1:$O$542))>0,E99882=0),0,1)","v":0}]
[{"$nulls":4},0,{"$nulls":7},0,{"$nulls":13},{"$f":"IF(OR(SUMPRODUCT(--(E99883=$O$1:$O$542))>0,E99883=0),0,1)","v":0}]
[{"$nulls":4},0,{"$nulls":7},0,{"$nulls":13},{"$f":"IF(OR(SUMPRODUCT(--(E99884=$O$1:$O$542))>0,E99884=0),0,1)","v":0}]
[{"$nulls":4},0,{"$nulls":7},0,{"$nulls":13},{"$f":"IF(OR(SUMPRODUCT(--(E99885=$O$1:$O$542))>0,E99885=0),0,1)","v":0}]
[{"$nulls":4},0,{"$nulls":7},0,{"$nulls":13},{"$f":"IF(OR(SUMPRODUCT(--(E99886=$O$1:$O$542))>0,E99886=0),0,1)","v":0}]
[{"$nulls":4},0,{"$nulls":7},0,{"$nulls":13},{"$f":"IF(OR(SUMPRODUCT(--(E99887=$O$1:$O$542))>0,E99887=0),0,1)","v":0}]
[{"$nulls":4},0,{"$nulls":7},0,{"$nulls":13},{"$f":"IF(OR(SUMPRODUCT(--(E99888=$O$1:$O$542))>0,E99888=0),0,1)","v":0}]
[{"$nulls":4},0,{"$nulls":7},0,{"$nulls":13},{"$f":"IF(OR(SUMPRODUCT(--(E99889=$O$1:$O$542))>0,E99889=0),0,1)","v":0}]
[{"$nulls":4},0,{"$nulls":7},0,{"$nulls":13},{"$f":"IF(OR(SUMPRODUCT(--(E99890=$O$1:$O$542))>0,E99890=0),0,1)","v":0}]
[{"$nulls":4},0,{"$nulls":7},0,{"$nulls":13},{"$f":"IF(OR(SUMPRODUCT(--(E99891=$O$1:$O$542))>0,E99891=0),0,1)","v":0}]
[{"$nulls":4},0,{"$nulls":7},0,{"$nulls":13},{"$f":"IF(OR(SUMPRODUCT(--(E99892=$O$1:$O$542))>0,E99892=0),0,1)","v":0}]
[{"$nulls":4},0,{"$nulls":7},0,{"$nulls":13},{"$f":"IF(OR(SUMPRODUCT(--(E99893=$O$1:$O$542))>0,E99893=0),0,1)","v":0}]
[{"$nulls":4},0,{"$nulls":7},0,{"$nulls":13},{"$f":"IF(OR(SUMPRODUCT(--(E99894=$O$1:$O$542))>0,E99894=0),0,1)","v":0}]
[{"$nulls":4},0,{"$nulls":7},0,{"$nulls":13},{"$f":"IF(OR(SUMPRODUCT(--(E99895=$O$1:$O$542))>0,E99895=0),0,1)","v":0}]
[{"$nulls":4},0,{"$nulls":7},0,{"$nulls":13},{"$f":"IF(OR(SUMPRODUCT(--(E99896=$O$1:$O$542))>0,E99896=0),0,1)","v":0}]
[{"$nulls":4},0,{"$nulls":7},0,{"$nulls":13},{"$f":"IF(OR(SUMPRODUCT(--(E99897=$O$1:$O$542))>0,E99897=0),0,1)","v":0}]
[{"$nulls":4},0,{"$nulls":7},0,{"$nulls":13},{"$f":"IF(OR(SUMPRODUCT(--(E99898=$O$1:$O$542))>0,E99898=0),0,1)","v":0}]
[{"$nulls":4},0,{"$nulls":7},0,{"$nulls":13},{"$f":"IF(OR(SUMPRODUCT(--(E99899=$O$1:$O$542))>0,E99899=0),0,1)","v":0}]
[{"$nulls":4},0,{"$nulls":7},0,{"$nulls":13},{"$f":"IF(OR(SUMPRODUCT(--(E99900=$O$1:$O$542))>0,E99900=0),0,1)","v":0}]
[{"$nulls":4},0,{"$nulls":7},0,{"$nulls":13},{"$f":"IF(OR(SUMPRODUCT(--(E99901=$O$1:$O$542))>0,E99901=0),0,1)","v":0}]
[{"$nulls":4},0,{"$nulls":7},0,{"$nulls":13},{"$f":"IF(OR(SUMPRODUCT(--(E99902=$O$1:$O$542))>0,E99902=0),0,1)","v":0}]
[{"$nulls":4},0,{"$nulls":7},0,{"$nulls":13},{"$f":"IF(OR(SUMPRODUCT(--(E99903=$O$1:$O$542))>0,E99903=0),0,1)","v":0}]
[{"$nulls":4},0,{"$nulls":7},0,{"$nulls":13},{"$f":"IF(OR(SUMPRODUCT(--(E99904=$O$1:$O$542))>0,E99904=0),0,1)","v":0}]
[{"$nulls":4},0,{"$nulls":7},0,{"$nulls":13},{"$f":"IF(OR(SUMPRODUCT(--(E99905=$O$1:$O$542))>0,E99905=0),0,1)","v":0}]
[{"$nulls":4},0,{"$nulls":7},0,{"$nulls":13},{"$f":"IF(OR(SUMPRODUCT(--(E99906=$O$1:$O$542))>0,E99906=0),0,1)","v":0}]
[{"$nulls":4},0,{"$nulls":7},0,{"$nulls":13},{"$f":"IF(OR(SUMPRODUCT(--(E99907=$O$1:$O$542))>0,E99907=0),0,1)","v":0}]
[{"$nulls":4},0,{"$nulls":7},0,{"$nulls":13},{"$f":"IF(OR(SUMPRODUCT(--(E99908=$O$1:$O$542))>0,E99908=0),0,1)","v":0}]
[{"$nulls":4},0,{"$nulls":7},0,{"$nulls":13},{"$f":"IF(OR(SUMPRODUCT(--(E99909=$O$1:$O$542))>0,E99909=0),0,1)","v":0}]
[{"$nulls":4},0,{"$nulls":7},0,{"$nulls":13},{"$f":"IF(OR(SUMPRODUCT(--(E99910=$O$1:$O$542))>0,E99910=0),0,1)","v":0}]
[{"$nulls":4},0,{"$nulls":7},0,{"$nulls":13},{"$f":"IF(OR(SUMPRODUCT(--(E99911=$O$1:$O$542))>0,E99911=0),0,1)","v":0}]
[{"$nulls":4},0,{"$nulls":7},0,{"$nulls":13},{"$f":"IF(OR(SUMPRODUCT(--(E99912=$O$1:$O$542))>0,E99912=0),0,1)","v":0}]
[{"$nulls":4},0,{"$nulls":7},0,{"$nulls":13},{"$f":"IF(OR(SUMPRODUCT(--(E99913=$O$1:$O$542))>0,E99913=0),0,1)","v":0}]
[{"$nulls":4},0,{"$nulls":7},0,{"$nulls":13},{"$f":"IF(OR(SUMPRODUCT(--(E99914=$O$1:$O$542))>0,E99914=0),0,1)","v":0}]
[{"$nulls":4},0,{"$nulls":7},0,{"$nulls":13},{"$f":"IF(OR(SUMPRODUCT(--(E99915=$O$1:$O$542))>0,E99915=0),0,1)","v":0}]
[{"$nulls":4},0,{"$nulls":7},0,{"$nulls":13},{"$f":"IF(OR(SUMPRODUCT(--(E99916=$O$1:$O$542))>0,E99916=0),0,1)","v":0}]
[{"$nulls":4},0,{"$nulls":7},0,{"$nulls":13},{"$f":"IF(OR(SUMPRODUCT(--(E99917=$O$1:$O$542))>0,E99917=0),0,1)","v":0}]
[{"$nulls":4},0,{"$nulls":7},0,{"$nulls":13},{"$f":"IF(OR(SUMPRODUCT(--(E99918=$O$1:$O$542))>0,E99918=0),0,1)","v":0}]
[{"$nulls":4},0,{"$nulls":7},0,{"$nulls":13},{"$f":"IF(OR(SUMPRODUCT(--(E99919=$O$1:$O$542))>0,E99919=0),0,1)","v":0}]
[{"$nulls":4},0,{"$nulls":7},0,{"$nulls":13},{"$f":"IF(OR(SUMPRODUCT(--(E99920=$O$1:$O$542))>0,E99920=0),0,1)","v":0}]
[{"$nulls":4},0,{"$nulls":7},0,{"$nulls":13},{"$f":"IF(OR(SUMPRODUCT(--(E99921=$O$1:$O$542))>0,E99921=0),0,1)","v":0}]
[{"$nulls":4},0,{"$nulls":7},0,{"$nulls":13},{"$f":"IF(OR(SUMPRODUCT(--(E99922=$O$1:$O$542))>0,E99922=0),0,1)","v":0}]
[{"$nulls":4},0,{"$nulls":7},0,{"$nulls":13},{"$f":"IF(OR(SUMPRODUCT(--(E99923=$O$1:$O$542))>0,E99923=0),0,1)","v":0}]
[{"$nulls":4},0,{"$nulls":7},0,{"$nulls":13},{"$f":"IF(OR(SUMPRODUCT(--(E99924=$O$1:$O$542))>0,E99924=0),0,1)","v":0}]
[{"$nulls":4},0,{"$nulls":7},0,{"$nulls":13},{"$f":"IF(OR(SUMPRODUCT(--(E99925=$O$1:$O$542))>0,E99925=0),0,1)","v":0}]
[{"$nulls":4},0,{"$nulls":7},0,{"$nulls":13},{"$f":"IF(OR(SUMPRODUCT(--(E99926=$O$1:$O$542))>0,E99926=0),0,1)","v":0}]
[{"$nulls":4},0,{"$nulls":7},0,{"$nulls":13},{"$f":"IF(OR(SUMPRODUCT(--(E99927=$O$1:$O$542))>0,E99927=0),0,1)","v":0}]
[{"$nulls":4},0,{"$nulls":7},0,{"$nulls":13},{"$f":"IF(OR(SUMPRODUCT(--(E99928=$O$1:$O$542))>0,E99928=0),0,1)","v":0}]
[{"$nulls":4},0,{"$nulls":7},0,{"$nulls":13},{"$f":"IF(OR(SUMPRODUCT(--(E99929=$O$1:$O$542))>0,E99929=0),0,1)","v":0}]
[{"$nulls":4},0,{"$nulls":7},0,{"$nulls":13},{"$f":"IF(OR(SUMPRODUCT(--(E99930=$O$1:$O$542))>0,E99930=0),0,1)","v":0}]
[{"$nulls":4},0,{"$nulls":7},0,{"$nulls":13},{"$f":"IF(OR(SUMPRODUCT(--(E99931=$O$1:$O$542))>0,E99931=0),0,1)","v":0}]
[{"$nulls":4},0,{"$nulls":7},0,{"$nulls":13},{"$f":"IF(OR(SUMPRODUCT(--(E99932=$O$1:$O$542))>0,E99932=0),0,1)","v":0}]
[{"$nulls":4},0,{"$nulls":7},0,{"$nulls":13},{"$f":"IF(OR(SUMPRODUCT(--(E99933=$O$1:$O$542))>0,E99933=0),0,1)","v":0}]
[{"$nulls":4},0,{"$nulls":7},0,{"$nulls":13},{"$f":"IF(OR(SUMPRODUCT(--(E99934=$O$1:$O$542))>0,E99934=0),0,1)","v":0}]
[{"$nulls":4},0,{"$nulls":7},0,{"$nulls":13},{"$f":"IF(OR(SUMPRODUCT(--(E99935=$O$1:$O$542))>0,E99935=0),0,1)","v":0}]
[{"$nulls":4},0,{"$nulls":7},0,{"$nulls":13},{"$f":"IF(OR(SUMPRODUCT(--(E99936=$O$1:$O$542))>0,E99936=0),0,1)","v":0}]
[{"$nulls":4},0,{"$nulls":7},0,{"$nulls":13},{"$f":"IF(OR(SUMPRODUCT(--(E99937=$O$1:$O$542))>0,E99937=0),0,1)","v":0}]
[{"$nulls":4},0,{"$nulls":7},0,{"$nulls":13},{"$f":"IF(OR(SUMPRODUCT(--(E99938=$O$1:$O$542))>0,E99938=0),0,1)","v":0}]
[{"$nulls":4},0,{"$nulls":7},0,{"$nulls":13},{"$f":"IF(OR(SUMPRODUCT(--(E99939=$O$1:$O$542))>0,E99939=0),0,1)","v":0}]
[{"$nulls":4},0,{"$nulls":7},0,{"$nulls":13},{"$f":"IF(OR(SUMPRODUCT(--(E99940=$O$1:$O$542))>0,E99940=0),0,1)","v":0}]
[{"$nulls":4},0,{"$nulls":7},0,{"$nulls":13},{"$f":"IF(OR(SUMPRODUCT(--(E99941=$O$1:$O$542))>0,E99941=0),0,1)","v":0}]
[{"$nulls":4},0,{"$nulls":7},0,{"$nulls":13},{"$f":"IF(OR(SUMPRODUCT(--(E99942=$O$1:$O$542))>0,E99942=0),0,1)","v":0}]
[{"$nulls":4},0,{"$nulls":7},0,{"$nulls":13},{"$f":"IF(OR(SUMPRODUCT(--(E99943=$O$1:$O$542))>0,E99943=0),0,1)","v":0}]
[{"$nulls":4},0,{"$nulls":7},0,{"$nulls":13},{"$f":"IF(OR(SUMPRODUCT(--(E99944=$O$1:$O$542))>0,E99944=0),0,1)","v":0}]
[{"$nulls":4},0,{"$nulls":7},0,{"$nulls":13},{"$f":"IF(OR(SUMPRODUCT(--(E99945=$O$1:$O$542))>0,E99945=0),0,1)","v":0}]
[{"$nulls":4},{"$f":"IF(AND(F99946<>\"\",F99946=G99946),\"ERROR\",IF(AND(F99946<>\"\",F99946<>G99946),F99946,G99946))","v":0},{"$nulls":7},{"$f":"IF(L99946<>\"\",L99946,K99946)","v":0},{"$nulls":13},{"$f":"IF(OR(SUMPRODUCT(--(E99946=$O$1:$O$542))>0,E99946=0),0,1)","v":0}]
[{"$nulls":4},0,{"$nulls":7},0,{"$nulls":13},{"$f":"IF(OR(SUMPRODUCT(--(E99947=$O$1:$O$542))>0,E99947=0),0,1)","v":0}]
[{"$nulls":4},0,{"$nulls":7},0,{"$nulls":13},{"$f":"IF(OR(SUMPRODUCT(--(E99948=$O$1:$O$542))>0,E99948=0),0,1)","v":0}]
[{"$nulls":4},0,{"$nulls":7},0,{"$nulls":13},{"$f":"IF(OR(SUMPRODUCT(--(E99949=$O$1:$O$542))>0,E99949=0),0,1)","v":0}]
[{"$nulls":4},0,{"$nulls":7},0,{"$nulls":13},{"$f":"IF(OR(SUMPRODUCT(--(E99950=$O$1:$O$542))>0,E99950=0),0,1)","v":0}]
[{"$nulls":4},0,{"$nulls":7},0,{"$nulls":13},{"$f":"IF(OR(SUMPRODUCT(--(E99951=$O$1:$O$542))>0,E99951=0),0,1)","v":0}]
[{"$nulls":4},0,{"$nulls":7},0,{"$nulls":13},{"$f":"IF(OR(SUMPRODUCT(--(E99952=$O$1:$O$542))>0,E99952=0),0,1)","v":0}]
[{"$nulls":4},0,{"$nulls":7},0,{"$nulls":13},{"$f":"IF(OR(SUMPRODUCT(--(E99953=$O$1:$O$542))>0,E99953=0),0,1)","v":0}]
[{"$nulls":4},0,{"$nulls":7},0,{"$nulls":13},{"$f":"IF(OR(SUMPRODUCT(--(E99954=$O$1:$O$542))>0,E99954=0),0,1)","v":0}]
[{"$nulls":4},0,{"$nulls":7},0,{"$nulls":13},{"$f":"IF(OR(SUMPRODUCT(--(E99955=$O$1:$O$542))>0,E99955=0),0,1)","v":0}]
[{"$nulls":4},0,{"$nulls":7},0,{"$nulls":13},{"$f":"IF(OR(SUMPRODUCT(--(E99956=$O$1:$O$542))>0,E99956=0),0,1)","v":0}]
[{"$nulls":4},0,{"$nulls":7},0,{"$nulls":13},{"$f":"IF(OR(SUMPRODUCT(--(E99957=$O$1:$O$542))>0,E99957=0),0,1)","v":0}]
[{"$nulls":4},0,{"$nulls":7},0,{"$nulls":13},{"$f":"IF(OR(SUMPRODUCT(--(E99958=$O$1:$O$542))>0,E99958=0),0,1)","v":0}]
[{"$nulls":4},0,{"$nulls":7},0,{"$nulls":13},{"$f":"IF(OR(SUMPRODUCT(--(E99959=$O$1:$O$542))>0,E99959=0),0,1)","v":0}]
[{"$nulls":4},0,{"$nulls":7},0,{"$nulls":13},{"$f":"IF(OR(SUMPRODUCT(--(E99960=$O$1:$O$542))>0,E99960=0),0,1)","v":0}]
[{"$nulls":4},0,{"$nulls":7},0,{"$nulls":13},{"$f":"IF(OR(SUMPRODUCT(--(E99961=$O$1:$O$542))>0,E99961=0),0,1)","v":0}]
[{"$nulls":4},0,{"$nulls":7},0,{"$nulls":13},{"$f":"IF(OR(SUMPRODUCT(--(E99962=$O$1:$O$542))>0,E99962=0),0,1)","v":0}]
[{"$nulls":4},0,{"$nulls":7},0,{"$nulls":13},{"$f":"IF(OR(SUMPRODUCT(--(E99963=$O$1:$O$542))>0,E99963=0),0,1)","v":0}]
[{"$nulls":4},0,{"$nulls":7},0,{"$nulls":13},{"$f":"IF(OR(SUMPRODUCT(--(E99964=$O$1:$O$542))>0,E99964=0),0,1)","v":0}]
[{"$nulls":4},0,{"$nulls":7},0,{"$nulls":13},{"$f":"IF(OR(SUMPRODUCT(--(E99965=$O$1:$O$542))>0,E99965=0),0,1)","v":0}]
[{"$nulls":4},0,{"$nulls":7},0,{"$nulls":13},{"$f":"IF(OR(SUMPRODUCT(--(E99966=$O$1:$O$542))>0,E99966=0),0,1)","v":0}]
[{"$nulls":4},0,{"$nulls":7},0,{"$nulls":13},{"$f":"IF(OR(SUMPRODUCT(--(E99967=$O$1:$O$542))>0,E99967=0),0,1)","v":0}]
[{"$nulls":4},0,{"$nulls":7},0,{"$nulls":13},{"$f":"IF(OR(SUMPRODUCT(--(E99968=$O$1:$O$542))>0,E99968=0),0,1)","v":0}]
[{"$nulls":4},0,{"$nulls":7},0,{"$nulls":13},{"$f":"IF(OR(SUMPRODUCT(--(E99969=$O$1:$O$542))>0,E99969=0),0,1)","v":0}]
[{"$nulls":4},0,{"$nulls":7},0,{"$nulls":13},{"$f":"IF(OR(SUMPRODUCT(--(E99970=$O$1:$O$542))>0,E99970=0),0,1)","v":0}]
[{"$nulls":4},0,{"$nulls":7},0,{"$nulls":13},{"$f":"IF(OR(SUMPRODUCT(--(E99971=$O$1:$O$542))>0,E99971=0),0,1)","v":0}]
[{"$nulls":4},0,{"$nulls":7},0,{"$nulls":13},{"$f":"IF(OR(SUMPRODUCT(--(E99972=$O$1:$O$542))>0,E99972=0),0,1)","v":0}]
[{"$nulls":4},0,{"$nulls":7},0,{"$nulls":13},{"$f":"IF(OR(SUMPRODUCT(--(E99973=$O$1:$O$542))>0,E99973=0),0,1)","v":0}]
[{"$nulls":4},0,{"$nulls":7},0,{"$nulls":13},{"$f":"IF(OR(SUMPRODUCT(--(E99974=$O$1:$O$542))>0,E99974=0),0,1)","v":0}]
[{"$nulls":4},0,{"$nulls":7},0,{"$nulls":13},{"$f":"IF(OR(SUMPRODUCT(--(E99975=$O$1:$O$542))>0,E99975=0),0,1)","v":0}]
[{"$nulls":4},0,{"$nulls":7},0,{"$nulls":13},{"$f":"IF(OR(SUMPRODUCT(--(E99976=$O$1:$O$542))>0,E99976=0),0,1)","v":0}]
[{"$nulls":4},0,{"$nulls":7},0,{"$nulls":13},{"$f":"IF(OR(SUMPRODUCT(--(E99977=$O$1:$O$542))>0,E99977=0),0,1)","v":0}]
[{"$nulls":4},0,{"$nulls":7},0,{"$nulls":13},{"$f":"IF(OR(SUMPRODUCT(--(E99978=$O$1:$O$542))>0,E99978=0),0,1)","v":0}]
[{"$nulls":4},0,{"$nulls":7},0,{"$nulls":13},{"$f":"IF(OR(SUMPRODUCT(--(E99979=$O$1:$O$542))>0,E99979=0),0,1)","v":0}]
[{"$nulls":4},0,{"$nulls":7},0,{"$nulls":13},{"$f":"IF(OR(SUMPRODUCT(--(E99980=$O$1:$O$542))>0,E99980=0),0,1)","v":0}]
[{"$nulls":4},0,{"$nulls":7},0,{"$nulls":13},{"$f":"IF(OR(SUMPRODUCT(--(E99981=$O$1:$O$542))>0,E99981=0),0,1)","v":0}]
[{"$nulls":4},0,{"$nulls":7},0,{"$nulls":13},{"$f":"IF(OR(SUMPRODUCT(--(E99982=$O$1:$O$542))>0,E99982=0),0,1)","v":0}]
[{"$nulls":4},0,{"$nulls":7},0,{"$nulls":13},{"$f":"IF(OR(SUMPRODUCT(--(E99983=$O$1:$O$542))>0,E99983=0),0,1)","v":0}]
[{"$nulls":4},0,{"$nulls":7},0,{"$nulls":13},{"$f":"IF(OR(SUMPRODUCT(--(E99984=$O$1:$O$542))>0,E99984=0),0,1)","v":0}]
[{"$nulls":4},0,{"$nulls":7},0,{"$nulls":13},{"$f":"IF(OR(SUMPRODUCT(--(E99985=$O$1:$O$542))>0,E99985=0),0,1)","v":0}]
[{"$nulls":4},0,{"$nulls":7},0,{"$nulls":13},{"$f":"IF(OR(SUMPRODUCT(--(E99986=$O$1:$O$542))>0,E99986=0),0,1)","v":0}]
[{"$nulls":4},0,{"$nulls":7},0,{"$nulls":13},{"$f":"IF(OR(SUMPRODUCT(--(E99987=$O$1:$O$542))>0,E99987=0),0,1)","v":0}]
[{"$nulls":4},0,{"$nulls":7},0,{"$nulls":13},{"$f":"IF(OR(SUMPRODUCT(--(E99988=$O$1:$O$542))>0,E99988=0),0,1)","v":0}]
[{"$nulls":4},0,{"$nulls":7},0,{"$nulls":13},{"$f":"IF(OR(SUMPRODUCT(--(E99989=$O$1:$O$542))>0,E99989=0),0,1)","v":0}]
[{"$nulls":4},0,{"$nulls":7},0,{"$nulls":13},{"$f":"IF(OR(SUMPRODUCT(--(E99990=$O$1:$O$542))>0,E99990=0),0,1)","v":0}]
[{"$nulls":4},0,{"$nulls":7},0,{"$nulls":13},{"$f":"IF(OR(SUMPRODUCT(--(E99991=$O$1:$O$542))>0,E99991=0),0,1)","v":0}]
[{"$nulls":4},0,{"$nulls":7},0,{"$nulls":13},{"$f":"IF(OR(SUMPRODUCT(--(E99992=$O$1:$O$542))>0,E99992=0),0,1)","v":0}]
[{"$nulls":4},0,{"$nulls":7},0,{"$nulls":13},{"$f":"IF(OR(SUMPRODUCT(--(E99993=$O$1:$O$542))>0,E99993=0),0,1)","v":0}]
[{"$nulls":4},0,{"$nulls":7},0,{"$nulls":13},{"$f":"IF(OR(SUMPRODUCT(--(E99994=$O$1:$O$542))>0,E99994=0),0,1)","v":0}]
[{"$nulls":4},0,{"$nulls":7},0,{"$nulls":13},{"$f":"IF(OR(SUMPRODUCT(--(E99995=$O$1:$O$542))>0,E99995=0),0,1)","v":0}]
[{"$nulls":4},0,{"$nulls":7},0,{"$nulls":13},{"$f":"IF(OR(SUMPRODUCT(--(E99996=$O$1:$O$542))>0,E99996=0),0,1)","v":0}]
[{"$nulls":4},0,{"$nulls":7},0,{"$nulls":13},{"$f":"IF(OR(SUMPRODUCT(--(E99997=$O$1:$O$542))>0,E99997=0),0,1)","v":0}]
[{"$nulls":4},0,{"$nulls":7},0,{"$nulls":13},{"$f":"IF(OR(SUMPRODUCT(--(E99998=$O$1:$O$542))>0,E99998=0),0,1)","v":0}]
[{"$nulls":4},0,{"$nulls":7},0,{"$nulls":13},{"$f":"IF(OR(SUMPRODUCT(--(E99999=$O$1:$O$542))>0,E99999=0),0,1)","v":0}]
[{"$nulls":4},0,{"$nulls":7},0,{"$nulls":13},{"$f":"IF(OR(SUMPRODUCT(--(E100000=$O$1:$O$542))>0,E100000=0),0,1)","v":0}]

{"sheet":"Instructions","index":18,"n_rows":138,"n_cols":4,"rows_kept":138,"merged":[[1,0,1,1],[2,0,2,1],[3,0,3,1],[4,0,4,1],[5,0,5,1],[6,0,6,1],[7,0,7,1],[8,0,8,1],[25,7,25,8],[29,0,30,0],[29,1,30,1],[33,0,34,0],[33,1,34,1],[92,0,93,0],[92,1,93,1],[92,3,93,3],[99,0,101,0],[99,1,101,1],[100,3,101,3]]}
["Page","Reference","Instructions","Significant Change"]
["General – Instructions",null,"These instructions are provided to help school districts prepare the annual financial report (AFR). Within the forms, blue font indicates that an instruction is linked to that specific line. An instructions button has also been provided that links to any general instructions or to the first instruction for a page. To return to the related forms after reviewing the instructions, simply click on the form's tab at the bottom of the Excel screen or press the Alt and back arrow keys.\n\nDistricts should follow the General Instructions below prior to uploading records to the Accounting Data tab.\n\nInstructions for uploading accounting records are included in a separate document titled \"Data Uploading Instructions\". This file has also been included in the AFR packet. "]
["General – Reconciling",null,"All revenues, expenditures, and fund balances presented on the AFR must agree with the district’s final accounting records for the year ended June 30, 2023. Before completing the AFR, districts must reconcile their accounting records to the County School Superintendent's (CSS) records after the CSS has reconciled to the County Treasurer. (Districts in the accounting responsibility program must reconcile to the County Treasurer before completing the AFR.) Accrued revenues and expenditures at June 30, 2023, not recorded by the CSS should be identified as reconciling items on the reconciliation and must be included in the revenues and expenditures reported in the AFR."]
["General – Budget Amounts",null,"Budget amounts should be taken from the district’s most recently revised, adopted FY 2023 expenditure budget, which has been submitted to ADE.\n\nAll budget and actual amounts reported throughout the AFR should be rounded to the nearest dollar."]
["General – Beginning Fund Balances",null,"The beginning balance for each fund at July 1, 2022, automatically pulls from the fund's ending balance reported on the AFR for FY 2022. If an ending fund balance was reported incorrectly on the FY 2022 AFR for any fund, districts should compute the beginning balance for such funds as follows:\n\nCash, prepaid, and inventory balances (object codes 0100, 0150, and 0160) at 6/30/22.\nPlus:  Accrued revenues as of 6/30/22, received during the 60-day period following 6/30/22.\nLess:  Payments made during the 60-day period following 6/30/22, for goods and services received on or before 6/30/22, but not paid for by that date.\n\nThis calculated amount should be entered for the appropriate fund in the Calculated CY Beginning Fund Balance column (Column Q) on the Accounting Data tab. Lines that report amounts for multiple funds should enter a single amount for the calculated beginning fund balance for all funds reported on that line. For example, line 1 on page 5 reports amounts for Funds 100-139. The total calculated beginning fund balance for funds 100-139 should be entered on the line for Fund 100 on the Accounting Data tab. Similarly, districts reporting amounts on line 33 on page 6 would enter the total calculated beginning fund balance for all funds on the \"Other\" line on the Accounting Data tab.\n\nDistricts should maintain documentation for the calculation of any amounts entered in the Calculated CY Beginning Fund Balance column. "]
["General – Reporting Sub-funds",null,"Any district using funds for internal management purposes that are not included in the USFR Chart of Accounts should combine revenues and expenditures from those funds into the appropriate bold-level fund for proper reporting on the AFR. For example, if the District uses a sub-fund such as 611 to account for its capital override, that sub-fund's activity should be included in the amounts reported for Fund 610—Unrestricted Capital Outlay.\n\nAfter the district's accounting records have been uploaded to the Accounting Data tab, all sub-funds and non-bolded fund codes (if any) will be identified by red shading in the Final Fund column. Districts must identify the appropriate bolded fund number for reporting purposes for each  sub-fund and non-bolded fund prior to submitting the AFR files to ADE and the district's CSS. All bold fund numbers are listed on column O on the Accounting Data tab."]
["General – Revenues",null,"Revenues must include cash receipts through June 30, 2023, and accrued revenues received during the 60-day encumbrance period following fiscal year-end. Examples of accrued revenues are:\n\n1) federal reimbursements received for meals served in FY 2023;\n2) property taxes collected for levies of prior fiscal years;\n3) tuition received for students attending the district during FY 2023;\n4) FY 2023 CSF revenues received;\n5) FY 2023 state aid apportionment rollover payments made in the beginning of July 2023\n    (FY 2024), pursuant to Laws 2022, Ch. 313, §122.\n6) the district's portion of the FY 2023 $50,000,000 from 2016 Prop 123 additional funding.\n\nIn addition, revenues must include any cash receipts of FY 2023 that relate to a prior fiscal year but were not received in the prior year's encumbrance period; such as, FY 2022 Statewide recalculation adjustments made in August 2022, as described in School Finance Memorandum 23-017.\n"]
["General – Expenditures",null,"Expenditures must include cash disbursements through June 30, 2023, and payments made after fiscal year-end, but prior to August 30, 2023, for goods and services received on or before June 30, 2023."]
["General – Coding Errors",null,"Corrections identified on the Coding Errors page are required when they meet or exceed 10% of the related reporting. Miscodings that exceed this threshold are highlighted in pink. Transactions coded to unallowable fund/object combination are highlighted in purple. Districts should make journal entries in their accounting records for these corrections. After correcting their accounting records, districts should upload the corrected records to the Accounting Data tab as described in the Data Uploading Instructions document.\n\nDistricts are encouraged to address all related corrections in future coding, other than issues related to rounding error (i.e., amounts generally less than $10)."]
["Cover","Name, County, CTDS Number","The district name, county, and CTDS number should be entered on the cover page of the AFR. The CTDS number should not contain any slashes, dashes, etc., and must be exactly nine digits. Zeros should be entered to fill the School portion of the number on the cover page. This information will be automatically transferred to other sheets in the file."]
["Cover","Alert","An Alert will appear on the Cover of the AFR when commonly missed areas of the AFR are not completed. The Alert will disappear as the related areas of the AFR are completed. Districts should complete all areas of the AFR that apply to their district operations, whether or not an item is listed in the Alert. This Alert does not replace the need for a separate district employee to review the AFR for accuracy and completeness."]
[1,"Footnotes 1 and 3","The beginning and ending fund balances for the M&O Fund should include the amount of the M&O Fund revolving account cash balance at July 1, 2022, and June 30, 2023, respectively. The revolving account balances should also be recorded in the spaces provided in footnotes (1) and (3). "]
[1,"Footnote 4","Debt Service Fund expenditures reported on line 43 should include principal, interest, and related debt costs paid from the Debt Service Fund. Report the portion of Debt Service Fund total actual expenditures that were for interest costs in footnote (4)."]
[1,"Line 16","Districts receiving transportation fees from other government sources within Arizona should report those revenues on this line. Districts should have increased their M&O budget capacity for these amounts on page 7, line 8i of the expenditure budget."]
[1,"Lines 5-17\nGeneral Tuition Guidance","Districts charging tuition for full-day kindergarten or preschool programs should not record such revenues in the M&O or UCO funds. These tuition revenues should be recorded in the Community School Fund (520) on page 6 of the AFR."]
[1,"Line 26","Include revenues received from the State that can be used for any legal purpose without restriction, such as the district's portion of the FY 2023 $50,000,000 from 2016 Prop 123 additional funding. \n\nDo not include state equalization or additional state aid amounts as they are reported on lines 27 and 28. "]
[1,"Lines 27 and 28","The amounts reported on these lines should be compared to the total state equalization assistance and total additional state aid amounts through payment 13 as shown on the district's most recent BSA 64 report. Reconciling these amounts to the BSA report will help districts ensure that all appropriate revenues are included in the correct FY's accounting records."]
[1,"Line 31","Do not include Federal Impact Aid revenues received on this line. These revenues should be reported in Fund 378 on page 5. See line 40 for instructions for reporting transfers from the Impact Aid Fund."]
[1,"Line 40","This line should include Impact Aid monies transferred to the M&O or UCO Funds. Impact Aid revenues should be recorded in the Impact Aid Fund, but may be transferred to the M&O or UCO Funds to provide cash for the difference between the Transportation Revenue Control Limit and Transportation Support Level or to reduce or eliminate the amount levied as property taxes."]
[1,"Line 43","Total expenditures for the M&O and UCO Funds are pulled from page 2, line 32 and page 4, line 10, respectively. \n"]
[3,"General","Expenditures coded to the Classroom Site Fund (CSF) (010) that would have caused the district to exceed the CSF Budget Limit should be reclassified to the M&O or other appropriate fund before the AFR is completed."]
[3,"Line 7 ","Report expenditures for teacher liability insurance premiums made from Fund 010. "]
[3,"Line 9 ","Report allowable CSF amounts for Function 3300—Community Service Operations on these lines. For example, if a district included a community school program, such as preschool for children without disabilities, as a CSF-eligible program related to its educational mission, expenditures for certified teacher salaries and related expenses allowable under CSF would be reported here.\n"]
[4,"UCO Override\nLine 1","Enter the actual expenditure amounts from any Unrestricted Capital Outlay Override authorized by A.R.S. §15-481. Amounts included on line 1 must also be included on lines 2-9, as appropriate. If the district records its Unrestricted Capital Outlay Override expenditures in a fund other than Fund 610, the district should enter 610 in the Rollup Fund column on the Accounting Data tab for that fund. "]
[4,"UCO Fund Expenditures \nLines 2-9","All expenditures from the UCO Fund including Joint Career and Technical Education and Vocational Education Center, as reported on page 2, and Desegregation, as reported on the Desegregation Supplement-Districtwide, page 3, are included on these lines.","Added a column for districts to report short-term noninstructional software subscription expenditures and revised columns H and I to include more than 12-month software subscription expenditures."]
[4,"Other Funds—Required Capital Expenditure Detail  for Funds 610, 630, 695, & 620\n","In accordance with A.R.S. §15-904(B), detailed budgeted and actual expenditures for only the items listed in lines 2-12 must be reported from the UCO (610), Bond Building (630), New School Facilities (695), and Adjacent Ways (620) funds. The amounts reported on lines 2-12 may not include all expenditures of these funds as shown on line 1. Total expenditures for the UCO Fund are reported in the UCO Fund Expenditures table at the top of page 4. Total expenditures for the UCO, Bond Building, and Adjacent Ways funds are reported on page 1, line 43. Total expenditures in the New School Facilities Fund are reported on page 6, line 30. \n\nIn addition, the detailed expenditures reported in lines 2-12 must be separately entered as new construction or renovation on lines 14-16. If the designation of new construction or renovation does not apply to a particular expenditure reported on lines 2-12, the amount should be entered as \"Other.\"  Therefore, the total budgeted and actual expenditures for each fund reported on line 13 must agree to the total amounts reported on line 17, by fund.","Added a line for districts to report short-term noninstructional software subscription expenditures and revised lines 11 and 12 to include more than 12-month software subscriptions expenditures."]
[4,"New construction cost per square foot","Enter the cost per square foot for new construction projects in progress or completed during the fiscal year for Funds 610, 630, 695, and 620. For projects still in progress at year-end, districts should calculate the cost per square foot by dividing the anticipated total cost of all projects upon completion by the anticipated total square footage of all projects upon completion. For projects that were completed during the fiscal year, districts should calculate the cost per square foot by dividing the total actual cost of all projects upon completion by the total actual square footage of all projects."]
[4,"Capital Assets, Lines 1-3","Enter the total costs (before depreciation), by asset classification, for all assets recorded on the capital assets list as of June 30, 2023. Assets with costs below $5,000 should not be included on the capital assets list or in amounts reported here unless the district’s governing board has established a capitalization threshold of less than $5,000. Do not include stewardship list items in these amounts."]
[4,"Capital Assets,\nLine 4","Enter the total cost of construction in progress as of June 30, 2023. This amount will not appear on the capital assets list as of June 30, 2023, as these amounts are not recorded on the list until the project(s) is completed."]
[5,"Federal Projects, Lines 1-20 and 22","Formulas will pull amounts on these lines for all funds indicated for each line, up to the first fund indicated on the line below it. For example, line 1 will pull data from funds 100 through 139 for ESEA Title I—Helping Disadvantaged Children, line 2 will pull data from funds 140 though 159 for ESEA Title II—Professional Development and Technology, and line 3 will pull data from funds 160 through 169 for ESEA Title IV—ESEA Title IV—21st Century Schools, and so on.\n\nDistricts must manually enter beginning fund balances and budgeted expenditures for the following funds: 349—National Forest Fees, 353—Taylor Grazing Fees, 374—E-Rate, 378—Impact Aid, and 699—Federal Impact Aid (Construction). \n\nDistricts using funds for internal management purposes numbered from 100 through 299 that are not related to the specific areas indicated on each line should identify the correct fund in the Rollup Fund column on the Accounting Data tab to ensure proper reporting on the AFR. If the fund does not relate to any of the areas identified on lines 1 through 18 and 20, it should be included on line 19 with Other Federal Projects. In this case, districts should enter a rollup fund in the 300 through 399 range (other than Funds 349, 353, 374 and 378).\n\n","Added new lines to the federal projects table to separately report fund details for 349—National Forest Fees, 353—Taylor Grazing Fees, 374—E-Rate, 378—Impact Aid, and 699—Federal Impact Aid (Construction).\n \nAdded column K for districts to identify if certain funds listed in column A are reported in the District's General Fund. See the instructions in cell C108 for additional instructions on the General Fund identification."]
[null,null,"All Federal COVID-19 relief grants recorded in the 300 through 399 fund range should be included on lines 19 and 22. Funds 227—ARP-IDEA Preschool and 228—ARP IDEA Basic should be included on lines 8 and 22.\n\nCOVID fund rollup instructions:\n1. On the accounting data tab column G, select all Federal COVID-19 relief grants recorded in the 300 through 399 fund range including those with assigned fund numbers (Fund 326—Elementary and Secondary School Emergency Relief (ESSER) I, Fund 336—ESSER II, and Fund 346—ESSER III, and Fund 328—Enrollment Stability Grant Program). In column F, select “COVID” from the bottom of the dropdown menu as the designated rollup fund.\n\n2. DO NOT select any rollup fund for Funds 227—ARP-IDEA Preschool and 228—ARP-IDEA Basic.\n\nFor further assistance with this item please contact the Auditor General's Accountability Services Division at (602) 977-2796."]
[5,"Net Other Financing Sources and Uses Including Transfers","Amounts received from other financing sources and transfers-in (object codes in the 5000 range) are separately reported from amounts for other financing uses and transfers-out (object codes in the 6900 range) in the respective columns to the right of page 5. All amounts in both columns are shown as positive numbers. Amounts pulled into these columns will also pull into Net Other Financing Sources and Uses Including Transfers in column G.\n\nIf total other financing uses and transfers-out are greater than total other financing sources and transfers-in, the net amount will display as a negative number in column G.\n\nIn accordance with the USFR Chart of Accounts, transfers of monies between funds should be made only when specifically authorized by statute or allowed by a federal grant. Currently, there are no allowable transfers to or from any state projects."]
[5,"State Projects, Lines 22-32 ","Any district using funds for internal management purposes that are not included in the USFR Chart of Accounts should combine revenues and expenditures from those funds into the appropriate bold-level fund for proper reporting on the AFR. Districts should identify the appropriate bold-level fund in the Rollup Fund column on the Accounting Data tab. For example, if the district uses a sub-fund such as 401 to account for a portion of its vocational education monies, that sub-fund's activity should be included in the amounts reported on line 20, Fund 400—Vocational Education. In this case, the district should select Fund 400 as the Rollup Fund for all amounts coded to fund 401 on the Accounting Data tab.\n\nFor state projects, amounts will pull into each line for only the fund number indicated on that line. For example, line 23 will pull only amounts for Fund 400—Vocational Education, line 24 will only pull amounts for Fund 410—Early Childhood Block Grant, and so on. If the fund does not relate to any of the areas identified on lines 23 through 32, it should be included on line 33 with Other State Projects. In this case, districts should enter a rollup fund in the 465 through 499 range."]
[5,"Results-based Funding,\nLine 30","In accordance with A.R.S. §15-249.08, all districts that received monies for Fund 457—Results-based Funding must separately complete ADE's Results Based Fund Report. The completed form should be uploaded to ADE along with the AFR, as it is required by November 1. Instructions for completing the report are included in the separate form. \n\nAdditional questions about completing the Result Based Fund Report should be directed to ADE's School Finance Budget Team."]
[null,null,"sfbudgetteam@azed.gov"]
[6,"Net Other Financing Sources and Uses Including Transfers","Amounts received from other financing sources and transfers-in (object codes in the 5000 range) are separately reported from amounts for other financing uses and transfers-out (object codes in the 6900 range) in the respective columns to the right of page 6. All amounts in both columns are shown as positive numbers. Amounts entered in these columns will also pull into Net Other Financing Sources and Uses Including Transfers in column F.\n\nIf total other financing uses and transfers-out are greater than total other financing sources and transfers-in, the net amount will display as a negative number in column F. "]
[6,"Other\nFunds—School Plant\nLine 5\n","Actual expenditures made in the School Plant Fund (500) in accordance with A.R.S. §15-1102. Districts that established sub-funds for School Plant in funds 501-504, to account for monies received that were restricted for different purposes by statute, should enter 500 in the Rollup Fund column on the Accounting Data tab for these funds."]
[6,"Other Funds—Indirect Costs\nLine 17","Indirect Costs Fund revenues should only consist of interest earned on any existing balance in the fund. Interest earned on monies in federal funds that is not required to be reverted should be reported in the respective federal fund on page 5. If a district chooses to transfer interest to the Indirect Costs Fund, it should be coded as a Transfer-in (object 5200)."]
[6,"Other Funds— New School Facilities\nLine 31","Actual expenditures for the New School Facilities (695) Fund includes all expenditures from this fund, which may exceed the detailed expenditures reported on page 4."]
[6,"Other Funds—\nLines 33,34, and 36-39","Districts must manually enter beginning fund balances and budgeted expenditures for the following funds: 750—Permanent Funds, Trust and Custodial—800-849, Employee Insurance Program Withholding—855, State and Income Tax Withholding—865 and Enterpise Funds—900-949, and any funds identified as \"Other\" in the Rollup Fund column on the Accounting Data tab. ","Added new lines to the Other Funds table to separately report fund details for 750—Permanent Funds, 800-849—Trust and Custodial, 855—Employee Insurance Program Withholding, 865—State and Income Tax Withholding, and 900-949—Enterpise Funds."]
[6,"Other\nLine 39","Districts with any funds in their accounting records that are not properly included elsewhere in the AFR, such as amounts related to monies remaining in Fund 080—Student Success, should enter the word “other” (without quotation marks) in the Rollup Fund column of the Accounting Data tab to have the amounts for those funds also included on this line."]
[6,"Internal Service Funds 950-989, Lines 1 through 4","Districts must manually enter amounts for beginning fund balance, revenues, actual expenditures, other financing sources including transfers-in, and other financing uses including transfers-out for these lines."]
[6,"Internal Service Funds—IGAs\nLine 2","If fund numbers other than 955 are used for Intergovernmental Agreements, include activity from all intergovernmental agreement funds on this line. "]
[6,"Instructional Improvement\nFund 020\nDetailed Expenditures","Districts must manually enter detailed actual expenditure amounts for teacher compensation increases, class size reduction, dropout prevention programs, and/or instructional improvement programs in accordance with A.R.S. §15-979. \n\nAny district that did not have Instructional Improvement Fund expenditures during the fiscal year must indicate this by selecting the checkbox below the Instructional Improvement table."]
[6,"Arizona Industry Credentials Incentive Fund 597 Detailed Expenditures ","Districts must manually enter the detailed actual expenditure amounts for the following costs in accordance with A.R.S. §15-249.15:\n1. Instructional costs and professional development for a career technical education program teacher to become a certifying professional for an approved certificate, credential, or license.\n2. To offset the students' cost of certification, credentialing, or licensure.\n3. Developmental costs related to creating, expanding or improving an approved site of a certificate, credential, or license career technical education program or course.\n4. Instructional hardware, software, or supplies required for the certification, credentialing, or licensure.\n5. Career exploration in any school grade and awareness activities for parents, students, and the community for the approved sectors."]
[7,"General","Page 7 includes several sections that are independent from one another and serve separate purposes. Be sure to read any instructions available for each individual section, as some expenditures may be reported in more than one section.\n\n"]
[7,"Section A—Bonds and Short-term Debt","This information is included in the AFR to assist with Form 33 reporting to the National Center for Education Statistics. For more information on Form 33, please refer to the Page 9 General instructions below.\n\nBonds—Report beginning and ending balances for all general obligation bonds, revenue bonds, refunding bonds, and certificates of participation. Report all such debt issued during the fiscal year on line 2. Report all principal payments made on such debt during the fiscal year on line 3. Any amount reported on line 3 must be entered as a negative number (with a minus sign).\n\nShort-term Debt—Report beginning and ending balances for interest-bearing debt with a term of one year or less such as bank revolving lines of credit, tax anticipation notes, and other short-term debt. Districts with short-term debt activity during the fiscal year but no balances at the beginning or end of the fiscal year should report 0 on lines 5 and 6.\n\nDO NOT INCLUDE lease agreements, financed purchase agreements, compensated absences, accounts payable, and other noninterest bearing obligations in amounts reported in this section.\n\n"]
[7,"Section C— Liabilities in Excess of the Budget","If the actual expenditures incurred in excess of the budget were less than the amount approved by the county, include only the actual expenditures incurred in excess of the budget in this section, not the amount approved by the county."]
[7,"Section D— \nCurrent Expenditures by Category","A.R.S. §15-255  requires the Superintendent of Public Instruction’s Annual Report to include total current expenditures per pupil and separate per pupil amounts by type of district for (1) classroom instruction excluding classroom supplies, (2) classroom supplies, (3) district and school administration, (4) support services—students, and (5) all other support services and operations. ADE will calculate the “per pupil” amounts based on the total current expenditures reported on lines 1 through 5 in this section.\n\nThe Every Student Succeeds Act (ESSA) requires the reporting of current expenditures from federal funds. On line 7, districts should report the portion of total current expenditures calculated on line 6 that were made from federal funds, excluding those intended to replace local tax revenues (funds 100 through 399, excluding applicable impact aid fund monies).\n\nCurrent expenditures include expenditures from all funds for elementary and secondary education (e.g., M&O, CSF, Auxiliary Operations, Extracurricular Activities Tax Credit, most federal and state projects, etc., for PSD-12). Current expenditures do not include expenditures for tuition paid to other Arizona school districts, capital (land and improvements, buildings and improvements, furniture, equipment, technology, vehicles), Internal Service Fund operations, Community School Fund operations, debt retirement, student activities, and non-PSD-12 school programs appropriately recorded in Program Codes 700, 800, and 900 (e.g., adult/continuing education, community college education, community services, and day care centers)."]
[7,"Section E—Other long-term debt","On lines 1 and 2, report principal and interest expenditures for financed purchase and lease agreements and more than 12-month noninstructional software subscriptions. On lines 3 and 4, report principal and interest expenditures for more than 12- month instructional software subscriptions.\n\nAnswer yes or no on line 5 to indicate whether the district entered into any new financed purchase, lease, or more than 12-month software subscription agreements during the fiscal year."]
[7,"Section G—Rewards, Discounts, Incentives, and Other Financial Considerations Received from Credit Card Companies","A.R.S. §35-391 requires districts to report the amount of any reward, discount, incentive or other financial consideration received as a result of making payments to vendors with a credit card. For this requirement, credit card is defined as: \n\n(a)  Any instrument or device, whether known as a credit card, charge card, credit plate, courtesy card or identification card or by any other name, issued with or without a fee by an issuer for the use of the cardholder in obtaining money, goods, services or anything else of value, either on credit or in possession or in consideration of an undertaking or guaranty by the issuer of the payment of a check drawn by the cardholder, on a promise to pay in part or in full at a future time, whether or not all or any part of the indebtedness represented by this promise to make deferred payment is secured or unsecured.\n(b)  Any debit card, electronic benefit transfer card or other access instrument or device, other than a check that is signed by the holder or other authorized signatory on the deposit account, that draws monies from a deposit account in order to obtain money, goods, services or anything else of value.\n(c)  Any stored value card, smart card or other instrument or device that enables a person to obtain goods, services or anything else of value through the use of value stored on the instrument or device.\n(d)  The number assigned to an instrument or device described in subdivision (a), (b) or (c) of this paragraph even if the physical instrument or device is not used or presented."]
[7,"Section H—Cash and Investments held at fiscal year end","ADE will use this information to complete Form 33, issued by the National Center for Education Statistics (NCES). NCES's instructions for these amounts indicate that districts should report ending balance amounts of cash and investments (at market value) for the following funds:\n     Sinking funds – funds containing reserves held specifically for redemption of long-term\n     debt.\n     Bond funds – funds containing unexpended proceeds of bond issues that were being held\n     pending their disbursement.\n     Other funds – all other funds, exclude any employee retirement funds.\n\nInclude cash balances; cash on hand; certificates of deposit; federal securities; state and local government securities; mortgages; and corporate stocks, bonds, and notes. Exclude accounts receivable, value of real property, and all nonsecurity assets.\n\nFor more information on Form 33, please refer to the Page 9 General instruction below."]
[7,"Section I—Average Teacher Salary","Enter the average teacher salary of all teachers employed in FY 2023. Each district should be consistent in the type of salary information included in this table and in the budget form table from year to year. An optional comment box is available to provide any additional detail regarding the average teacher salary calculation.  "]
[7,"Section J—Certified Staff Salaries and FTE—Salaries\nLines 1-6","Report total salaries paid to certified staff from Funds 001-799 (excluding 575) for substitute teachers, classroom teachers (separated into different types of salary payment), and other certified staff. Do not report amounts for staff contracted/leased through a third party. See the instructions below for more detailed information on the amounts to report on each line.   \n\nAn error message will appear in cell O44 if the total amount entered on lines 1 through 6 for certified staff salaries does not agree to the total salaries coded to Objects 6100-6149 in Funds 001 through 799 (excluding 575).","Added section J to report Certified Staff Salaries and FTE information."]
[7,"Line 1","Amounts paid to short- or long-term substitutes. "]
[7,"Line 2","Amounts paid to classroom teachers for their primary teaching duties, including Classroom Site Fund base salary payments."]
[7,"Line  2 (a)","Amounts paid to classroom teachers for their primary teaching duties, including Classroom Site Fund base salary payments, with fewer than 3 years of classroom instruction experience as defined by A.R.S. §15-941(E)."]
[7,"Line 2 (b)","Amounts paid to classroom teachers for their primary teaching duties, including Classroom Site Fund base salary payments, with 3 or more years of classroom experience as defined by A.R.S. §15-941(E)."]
[7,"Line 3","Amounts paid to classroom teachers based on the teacher’s performance ratings or defined goal’s achievement, including Classroom Site Fund performance payments."]
[7,"Line 4","Amounts paid to classroom teachers, in addition to their base salary payments, that do not require the employee to perform additional duties (e.g., retention, hard-to-fill positions, class size, specific certification endorsements, and signing or other incentive stipends)."]
[7,"Line 5","Amounts paid to classroom teachers, in addition to their base salary payments, that require additional duties to be performed (e.g., department/chair lead, tutoring, summer school, advisors, coaches, and teaching additional periods or classes beyond base contract requirements, such as teaching a class in place of the normal teacher preparation period)."]
[7,"Line 6","Amounts paid to certified staff other than classroom teachers, such as administrators, counselors, and other certified staff. Functions can be used to differentiate between positions."]
[7,"Section 7—Certified Staff Salaries and FTE—FTE\nLines 2a-2b","Report classroom teacher full-time equivalent staff (FTE) at FY 2023 100th day for staff whose salaries are included in the 'Salaries' column. The FTE of a single staff member should not exceed 1.0 FTE. Certified staff that teach in community service (e.g., daycare or preschool for students without IEPs) or adult education programs should be included. Substitute teachers and retirees returning to work as leased staff through a third party should not be included."]
[8,"Section B— M&O Fund Special Education Programs by Type","Report all M&O Fund monies spent for special education (Programs 200 and 300) operational expenditures in the Actual column.  Documentation supporting the cost allocation method should be retained at the district and should include the reasoning behind the allocation, a list of the programs, the number of teachers and students by program, and all computation work sheets. \n\nDistricts should report actual total expenditures in Program 200ꟷSpecial Education for disability classifications defined in A.R.S. §15-761 on line 1, Total All Disability Classifications. The amounts entered on line 1 and line 10 are used by ADE in the calculation of maintenance of effort. State statute also includes the programs listed on lines 2-8 in the M&O Fund Special Education Subsection for budgetary purposes. The total expenditures for all of these programs on line 9 must agree to the total M&O Fund, Programs 200 and 300 expenditures reported on page 2, line 24.\n\n\n"]
[8,"Section D— Expenditures for Audit Services","Do not include the costs of non-audit services such as consulting and application fees paid for submission of district’s Comprehensive Annual Financial Report to ASBO and GFOA for certification or fees for preparation of the Meritorious Budget Award application to ASBO in the nonfederal or federal audit services actual expenditures in this section.\n\nOn Line D.1, enter the actual M&O Fund expenditures paid in FY 2023 related to nonfederal program and compliance audits. \n\nOn Line D.2, enter the total actual federal audit service expenditures paid in FY 2023 from all funds.  "]
[8,"Sections E—Performance Pay","Do not report expenditures for the Performance Pay Component of the Classroom Site Fund or the Instructional Improvement Fund on this line."]
[8,"Section F—Tuition","Districts should use this table to report expenditures for all tuition object codes, 6561 through 6569, based on paid tuition invoices, including amounts paid for operations, capital, and debt related billing.\n\n-Type 03 districts should fill in lines 1 through 4 and 7 through 9, as applicable. \n\n-All Districts, other than Type 03 districts, should fill in lines 5 through 9, as applicable. "]
[8,"Section F—Tuition (continued)","Type 03 districts should submit copies of the final tuition invoices and corresponding calculation worksheets to ADE School Finance for the total tuition expenditure amounts reported for operations, capital, and debt service only for high school students that attend other Arizona districts. \n\nDistricts should scan final tuition invoices and corresponding calculation worksheets and save as a .pdf file. Please email the .pdf file to the School Finance budget team by October 31 at the link below. The email subject line should include the fiscal year, district name, CTD number, and \"Type 03 tuition\"."]
[null,null,"sfbudgetteam@azed.gov"]
[9,"General","The information included on this page will be used by ADE to complete the National Public Education Financial Survey (NPEFS) and Form 33 issued by the National Center for Education Statistics. Data from NPEFS is used to calculate a state per pupil expenditure amount that is used in the formula for allocating a number of federal program funds to states and school districts, including: Title I, Impact Aid, and Indian Education. Other programs make use of state per pupil expenditure data indirectly because their allocation formulas are based, in whole, or in part, on state Title I allocations. The NPEFS and Form 33 data are also used by researchers and government policymakers to address important education policy and research issues."]
[9,"Additional Information for NPEFS Reporting","All expenditures from funds 001 through 799 (excluding 575) are reported in this section. The sum of total expenditures included on lines 13, 16, and 17 should be used as a check figure against the total expenditures for these funds in the districts' accounting records.\n\nExpenditures from Funds 800 and above are not reported in this table as they are fiduciary (trust and agency) or proprietary (enterprise and internal service) funds and are not reported in this level of detail in the NPEFS. ","Revised columns J and K to include more than 12-month software subscription expenditures."]
[9,"Programs 700-900\nExpenditure Detail","The total expenditures reported in this table for programs 700-900 should agree to the total expenditures reported in the \"Programs 700-900\" column in the table above."]
[9,"Property Detail for Function 4000","The total expenditures reported in this table should agree to function 4000 expenditures reported on line 16 for the \"Property\" column in the table above."]
[9,"Technology Detail","Do not include expenditures for nontechnology-related equipment such as machinery, vehicles, and furniture in this table.\n\n","Added lines for districts to report software reported in library books, textbooks, or instructional aids (object codes 6641-6643),  more than 12-month noninstructional software subscriptions (object codes 6832 and 6842), and more than 12-month instructional software subscriptions (object codes 6833 and 6843)."]
[9,"Teacher Salaries \nLines 1-5","Report base salaries (including CSF Performance Pay), overtime, and additional compensation paid to certified teachers, certified substitute teachers, and retired and returned to work as contract/leased teachers from all funds for the specified programs. Do not include salaries paid to instructional aides or assistants or any noncertified teachers. If a teacher is paid from more than one program, allocate the salary based on the amount of time instructing in each program.\n\nAn error message will appear above the table if the total amount entered on lines 1 through 5 for certified teachers or certified substitutes does not agree to the total salaries coded to Functions 1000-1899 in Funds 001 through 799 (excluding 575), as displayed in Cell Q33.\n\nIf the district has used the optional object codes in the Chart of Accounts for teachers and substitute teachers, amounts for certified teachers should be recorded in object code 6112 and amounts for certified substitutes should be recorded in object code 6113."]
[9,"Other Items—\nTextbooks\nLine 6","Report expenditures for textbooks, periodicals, and other print medium used for classroom instruction. Do not include expenditures relating to on-line texts or tools."]
[9,"CTED Districts Only, Lines 1 through 3","To assist ADE in collecting accurate information for the NPEFS, CTED districts should report all amounts recorded in object codes 6591—Services Purchased from Other Arizona Districts, 6870—Pass-through Payments, and 6880—Sub-awards from all funds and all functions on these lines."]
[9,"Revenue from selected federal sources, Lines 1 through 4 ","To assist ADE in collecting accurate information for the NPEFS, districts should report revenues received from selected federal sources listed in lines 1 through 4:\n\n1. Student Support and Academic Enrichment Grants (subgrants from States only) (ESEA IV-A-1, section 4105)\n\nThe purpose of the Title IV-A Student Support and Academic Enrichment (SSAE) grant is to improve students’ academic achievement by increasing the capacity of States, local educational agencies, schools, and local communities to provide all students with access to a well-rounded education, improve school conditions for student learning, and improve the use of technology in order to improve the academic achievement and digital literacy of all students. \nAdditional information is available at the following link: \n\n\n\n\n\n\n\n\n"]
[null,null,"https://www.azed.gov/titleiv-a/"]
[null,null,"2. 21st Century Community Learning Centers (subgrants from States only—excludes awards under national activities) (ESEA IV-B)\n\n21st Century Community Learning Centers (21st CCLC) Title IV-B program is funded by a federal grant from the U.S. Department of Education and administered by the Arizona Department of Education. Additional information is available at the following link: "]
[null,null,"https://www.azed.gov/21stcclc/federal-and-state-regulations/"]
[null,null,"3. Rural education - Rural and Low-Income School program (RLIS) (ESEA V-B-2, section 5221)\n\nTitle V-B-2 is to provide for equity in cases where rural or low-income schools receive allocations insufficient for their needs and are at a competitive disadvantage for other grants. \nFor additional information on completing this line, please contact ADE using the email address below:  \n\n\n\n"]
[null,null,"RLISInbox@azed.gov"]
[null,null,"4. Rural education - Small, Rural School Achievement program (SRSA) (ESEA V-B-1, section 5211)\n\nThe Small, Rural School Grant Program (SRSA), CFDA no. 84.358A, authorizes the U.S. Secretary of Education to award formula grants directly to eligible LEAs (i.e., those LEAs eligible under the alternative uses of funds program) to carry out activities authorized under other specified Federal programs. \nAdditional information is available at the following link: \n\n"]
[null,null,"https://www.azed.gov/titlei/reap/"]
[null,null,"For support assistance for Federal and State Grants, please contact the Arizona Department of Education's Grants Management Team:"]
[null,null,"https://www.azed.gov/grants-management/contact/"]
[9,"Impact Aid Revenues","Districts that received Impact Aid revenues during the fiscal year that were intended to replace local tax revenues should enter that amount in this cell. Include only amounts used or transferred to M&O or UCO Fund to reduce or eliminate taxes levied, not all Impact Aid received. The amount will be deducted from the amount reported for salaries paid from federal funds in cell B25.\n\nDistricts that did not receive Impact Aid revenues that were intended to replace local tax revenues should enter a 0."]
[10,"Current Expenditures from COVID-19 federal relief funds, Line 11","Current expenditures from COVID-19 federal relief projects table populates with function and object data from the Accounting data tab. Generally, line 11 should not show negative amounts. Any negative amounts displayed on line 11 will be highlighted with yellow shading. Districts must ensure that the Accounting Data tab was completed according to the instructions in cell C31 above to identify the appropriate funds as \"COVID\" in the rollup fund column for the formulas that populate the table to work correctly. ","Added page for NPEFS reporting. Separate COVID-19 reporting form is no longer required. "]
[10,"Technology Detail","This table reports technology-related expenditures from COVID-19 federal relief funds.  Formulas will pull amounts from the Accounting Data tab for total technology spending and classroom technology (functions 1000, 2100, and 2200) spending on lines 1 through 10, as applicable. Lines 8 and 9 must be completed manually (see the instruction below)."]
[10,"Technology Detail,                   line 8","Enter the total amount for instructional software coded to objects 6641—Library Books, 6642—Textbooks, and 6643—Instructional Aids. These purchases should be coded to functions 1000 or 2200; therefore, the amount entered in the total spending column will pull to the classroom spending column on this line. "]
[10,"Technology Detail,                   line 9","Enter the total principal and interest expenditures for more than 12-month noninstructional software subscriptions coded to object codes 6832 and 6842, respectively. Do not include amounts paid for leases and financed purchases of nontechnology-related equipment."]
[10,"COVID-19 federal relief funds","Districts must manually enter total award and spending information for the various COVID-19 grants listed in lines 1 through 6 of this table. Districts can refer to the Auditor General's COVID-19 Spending Special Report Followup, Dashboard B, for previously reported grant award and prior year spending information, when completing this table. Detailed instructions regarding the amounts that should be included in each row and column are included below."]
[null,null,"https://www.azauditor.gov/District_charter_ADE_COVID-19_spending_special_report_FY_2022 "]
[10,"COVID-19 federal relief funds, line 1","Report information for monies received from the district's Elementary and Secondary School Emergency Relief I Fund (ESSER I) award allocation, determined by ADE. Monies received from ADE as an ARP School and Community grantee should be reported on line 6."]
[10,"COVID-19 federal relief funds, line 2","Report information for monies received from the district's Elementary and Secondary School Emergency Relief II Fund (ESSER II) award allocation, determined by ADE. Monies received from ADE as an ARP School and Community grantee should be reported on line 6."]
[10,"COVID-19 federal relief funds, line 3","Report information for monies received from the district's Elementary and Secondary School Emergency Relief III Fund (ESSER III) award allocation, determined by ADE. Monies received from ADE as an ARP School and Community grantee should be reported on line 6."]
[10,"COVID-19 federal relief funds, line 4","Report information for monies received from the Governor's Emergency Education Relief (GEER) Fund here. Examples of programs distributed from GEER include the Acceleration Academy Grant, Beat the Odds Leadership Academy Grant, and Teach for America Grant.\n\nDo not report Enrollment Stabilities Grant (ESG) information on this line. ESG should be reported on line 5, Coronavirus Relief Fund (CRF)—Enrollment Stability Grant (ESG) Program."]
[10,"COVID-19 federal relief funds, line 5","Report information for monies received from the Coronavirus Relief Fund (CRF)—Enrollment Stability Grant (ESG) Program."]
[10,"COVID-19 federal relief funds, line 6","Report all other information for COVID-related monies received that cannot be appropriately reported on lines 1 through 5 of this table. Include other grants identified by ADE, the Governor's Office, and other agencies for which the district has federal reporting responsibilities. \n\nDO NOT INCLUDE AMOUNTS RECEIVED AS A VENDOR OR BENEFICIARY.\n\nExamples of grants identified by ADE include:\nARP-IDEA grants (USFR Chart of Accounts funds 227 and 228)\nARP Homeless grants\nARP school and community grants\nFood service awards "]
[null,null,"Grants identified by the Governor's Office include: \nExpansion and Innovation Fund microgrants\nProject Momentum\nCivic Innovation\nEducation Plus-Up\n100 Day In-Person Reimbursement\nAZ OnTrack Summer Camp \n\nGrants identified by other agencies include: \nArizona Department of Emergency and Military Affairs (DEMA) FEMA Public Assistance Program\nEmergency Connectivity Fund \nArizona Department of Economic Security (DES)\n\nSee School District Chart of Accounts FAQ #21 for more information. A link to the FAQ page is included below."]
[null,null,"Chart of Accounts FAQ #21"]
[10,"COVID-19 federal relief funds, \nTotal Award\n(all fiscal years)","Enter all known awards to date, awarded both before and after June 30, 2023. If the specific fund/program is not listed, it should be reported on line 6, Other COVID-19 Federal Relief Funds. \n\nFor further assistance with this item, please contact the Auditor General's Accountability Services Division at (602) 977-2796 or email asd@azauditor.gov. "]
[10,"COVID-19 federal relief funds, FY 2020 and FY 2021\nExpenses and Other Financing Uses","Enter the combined FY 2020 and FY 2021 expenditures and indirect costs transfers-out amounts.  If the amount should be zero, enter 0.\n\nIf the specific fund/program is not listed, it should be reported on line 6, Other COVID-19 Federal Relief Funds."]
[10,"COVID-19 federal relief funds, FY 2022 Expenses and Other Financing Uses","Enter FY 2022 expenditures and indirect costs transfers-out for each listed fund rounded to the nearest whole number (no decimals). If the amount is zero, enter 0. \n\nIf the specific fund/program is not listed, it should be reported on line 6, Other COVID-19 Federal Relief Funds."]
[10,"COVID-19 federal relief funds, FY 2023 Expenses and Other Financing Uses","Enter FY 2023 expenditures and indirect costs transfers-out for each listed fund rounded to the nearest whole number (no decimals). If the amount is zero, enter 0. \n\nIf the specific fund/program is not listed, it should be reported on line 6, Other COVID-19 Federal Relief Funds. Total expenses on line 7 should agree to the amount displayed in cell G47."]
[10,"COVID-19 federal relief funds, Amount Remaining to Spend/ Conditional formatting","The amounts in this column calculate automatically based on columns D, E, F, and G on each line. Any negative amounts, will be highlighted in yellow. To correct negative amounts in these cells, verify that spending reported in columns E through G does not exceed the total award reported in column D. All amounts entered into this form should be rounded to the nearest whole dollar. This column may also show negative amounts if cents are entered in the award or spending columns.\n\nFor further assistance with this issue, please contact the Auditor General's Accountability Services Division at (602) 977-2796 or email asd@azauditor.gov."]
["Summary","General","The Summary condenses the information in the AFR for publication. Most information in the Summary automatically pulls from the AFR, so the AFR should be completed before the Summary."," Added new lines to separately report fund details for 750—Permanent Funds, 800-849—Trust and Custodial, 855—Employee Insurance Program Withholding, 865—State and Income Tax Withholding, 900-949—Enterprise Funds, and Other Internal Service Funds."]
["Summary","ADM","Obtain total Attending ADM for FY 2022 and FY 2023 from ADE’s ADM30 reports, available on ADE’s website.  "]
["Summary","General Fund","Use the dropdown boxes in column K to identify each fund listed in column A that was reported in the District's General Fund in your most recently completed audit. District's that have not previously prepared financial statements because their total federal awards or M&O Fund spending has not exceeded the applicable thresholds to require an audit, may enter \"No\" for all funds. ","Added column K for districts to identify funds listed in column A that are reported in the District's General Fund, for financial statement reporting purposes."]
["Summary","Other Capital Funds","Total of Funds 660 and 665 as reported on AFR page 6, Other Funds, lines 26 and 27."]
["Summary","Federal Projects","Total of Funds 100-399 as reported on AFR page 5, Federal Projects, line 18."]
["Summary","State Projects","Total of Funds 400-499 as reported on AFR page 5, State Projects, line 31."]
["Summary","Gifts and Donations","Combined total of Funds 530 and 650, as reported on AFR page 6, Other Funds, lines 10 and 25."]
["Summary","Other Funds","Combined total of Funds 660 Condemnation, 665 Energy and Water Savings, and Other on AFR page 6, lines 27, 38, and 39. "]
["Fund Balance Reserve","Section A\nGeneral","Section A presents the prior year's and current year's ending fund balances by fund type and provides space for districts to report FY 2023 ending fund balance details that identify how districts plan to use those monies in future years. See the Summary tab, General Fund column, to identify which funds are included in the General Fund for financial statement reporting purposes.","Added a new tab to increase transparency and provide decision-makers, other stakeholders, and the public more complete financial information on the amount and planned use of fund balance reserves."]
["Fund Balance Reserve","Section A\nLine 1","This line pulls in prior year ending fund balances from the Summary tab by fund type. Districts must complete the Summary tab, General Fund column, to identify funds reported in the General Fund for financial statement reporting purposes.  If any ending fund balances were reported incorrectly on the prior year AFR, districts should enter the calculated beginning fund balance on the Accounting Data tab, column Q, as described in the instruction on row 5 above. This includes any errors or audit adjustments identified in the District's FY 2022 audit."]
["Fund Balance Reserve","Section A\nLine 2","This line pulls in current year ending fund balances from the Summary tab by fund type. Districts must complete the Summary tab, General Fund column, to identify funds reported in the General Fund for financial statement reporting purposes. See instructions on row C108 above for additional information."]
["Fund Balance Reserve","Section A\nLine 3","For all fund balances reported on line 2, districts must report the amount attributable to the specific purposes listed which identify how districts plan to use the monies in future years. Amounts reported on lines 3.a through 3.j must equal the total fund balance reported on line 2. Specific instructions for lines 3.a through 3.h. are included below. Two rows are provided to describe other fund balance purposes not already listed. Districts must specify the purpose for amounts included on the other lines in column B. "]
["Fund Balance Reserve","Section A\nLine 3.a","For funds with a negative FY 2023 ending fund balance as shown on the Summary tab, enter the negative fund balance amount on this line in the applicable fund type column. These funds have deficit balances because expenditures exceeded available resources from current revenues and prior year fund balance and reduce the amount of resources available in future years.   "]
["Fund Balance Reserve","Section A\nLine 3.b","For budget-controlled funds only, report any positive cash balances the District has accumulated in excess of the applicable funds' related budget capacity. Districts should compare fund balances in the M&O, UCO, Adjacent Ways, Classroom Site, and State and federal grant funds to unexpended budget limits to determine the excess cash amounts that should be entered on this line. District's may need to consider whether fund balance is misallocated between the M&O and UCO Funds if one fund reports excess fund balance, while the other reports a fund balance deficit."]
["Fund Balance Reserve","Section A\nLine 3.c","Report amounts the District plans to spend to support FY 2024 budgeted spending after using all available FY 2024 revenues. Any nonspendable amounts included in fund balance such as prepaid assets and inventories should be included in this line if the District plans to use them up in FY 2024. Otherwise, such nonspendable assets should be included on the lines below based on the District's plan to use them to benefit a future year, as applicable."]
["Fund Balance Reserve","Section A\nLines 3.d through j","Report accumulated fund balance amounts that will not be used to finance current budget year expenditures and their intended future purposes on lines 3.d through 3.j. Amounts needed to support current budget year expenditures should have been reported on line 3.c. See specific instructions for lines 3.d through 3.j below."]
["Fund Balance Reserve","Section A\nLines 3.d ","Report amounts set aside for future debt service principal and interest payments on long-term debt."]
["Fund Balance Reserve","Section A\nLines 3.e","Report amounts set aside for the future purchase of land, buildings, building improvements, improvements other than buildings, equipment, or other acquisitions that will be capitalized. Additionally, this category may include funds set aside for long-term planned maintenance projects or future replacement of equipment.  "]
["Fund Balance Reserve","Section A\nLines 3.f","Report restricted cash and investments held with ASRS or in an irrevocable 115 trust for future years' retirement contribution payments (i.e., the ASRS Contribution Prepayment Program). Amounts the  District is holding with ASRS or in an irrevocable 115 trust and plans to amortize and apply to the current year's required pension contribution payments should be included on line 3.c."]
["Fund Balance Reserve","Section A\nLines 3.g","Report amounts maintained in an established self-insurance or other post-employment benefit (OPEB) internal service fund for the financing of certain health benefits (comprehensive, major medical, dental) to eligible employees and their dependents."]
["Fund Balance Reserve","Section A\nLines 3.h","Report amounts set aside to manage cash flows in future budget years to cover such things as revenue shortfalls, emergencies, and/or other unforeseen circumstances."]
["Fund Balance Reserve","Section B\nGeneral","Section B provides information about the District's method to establish a targeted fund balance reserve level. Instructions for individual line items are included below."]
["Fund Balance Reserve","Section B\nLine 1","If the District has a process or policy it follows to establish a targeted fund balance reserve level that the District is working to maintain each year, respond \"Yes\" in cell F28. If the District has an adopted Governing Board policy, enter the policy number in the box provided (cell G28). If the District answered \"Yes\" to this question, respond to the questions on lines 2-6 to provide information on the District's process for establishing targeted fund balance reserve levels and any guidance the District used to plan for its existing reserve level. "]
["Fund Balance Reserve","Section B\nLine 2","Describe any guidance used in setting the District's adopted fund balance reserve level policy. If the District does not have an adopted policy, describe any guidance used in planning for its FY 2023 ending fund balances. For example, the Governmental Finance Officer's Association Fund Balance Guidelines or other published guidance on recommended reserve levels. "]
["Fund Balance Reserve","Section B\nLine 3","If the District's Governing Board adopted or otherwise established targeted fund balance reserve level does not include all funds, identify which funds or fund types, if applicable, were included in the targeted fund balance reserve level. For example, if the District's targeted fund balance level is only set for the M&O Fund, UCO Fund, CSF Fund, and specific other non-grant funds, the funds included in the determination of the targeted level should be listed on this line. Either indicate all funds are included, or enter fund types/names as needed here separated by commas."]
["Fund Balance Reserve","Section B\nLine 4","If the District's Governing Board adopted or otherwise established targeted fund balance reserve level specifically excluded some of the fund balance purposes identified in Section A lines 3.a through 3.j, identify which parts of fund balance were not included in the District's targeted reserve level plans. For example, if the district's targeted fund balance reserve level does not consider amounts maintained for debt retirement or future retirement contributions, those excluded purposes should be listed on this line."]
["Fund Balance Reserve","Section B\nLine 5","If District's Governing Board adopted or otherwise established targeted fund balance reserve level was based on a percentage of a District factor, indicate the percentage and related factor (e.g., X% of the FY 2023 RCL, Y% of FY 2023 total expenditures, etc.).  \n\nIf the District had different targeted reserve levels for different funds, information on those separate fund balance reserve targets can be included in the additional information box."]
["Fund Balance Reserve","Section B\nLine 6","Report the District's FY 2023 targeted fund balance reserve amount based on the guidelines in its formal adopted policy or other guidelines described in lines 2 through 5 of this section.\n\nFurther, report the District's actual FY 2023 fund balance reserve amount based on the guidelines in its formal adopted policy or other guidelines described in lines 2 through 5 of this section.\n\nIf the District had different targeted reserve levels for different funds, the District should report combined amounts for all funds identified on line 3 as part of the District's fund balance reserve calculation, for both the targeted and actual amounts included on this line. "]
["Fund Balance Reserve","Section B\nLine 7","Describe any planned actions related to the District's FY 2023 ending fund balances including  information about increasing reserves that do not meet targeted levels or using excess amounts held in reserve beyond the adopted targeted reserve level. Also, describe any planned actions to change targeted reserve levels or formally adopt governing board policies related to reserve levels, if not already in place. This information may also describe the use of separate reserve level targets for separate funds or fund types, if used, why amounts are maintained for the purposes reported in section A, and more detailed information on the District's plans for using maintained fund balances in future years. If the District's fund balance is negative, describe actions planned to eliminate fund balance deficits (negative amounts)."]
["School Listing Tab","Name, County, CTDS Number","Enter the District name, CTDS number, and County. The CTDS number should not contain any slashes, dashes, etc., and must be exactly nine digits. Zeros should be entered to fill the school portion of the number in the heading of this tab.\n\nEnter school-level information for each school within the District including school names, school CTDS numbers, and unweighted attending student counts. All districts must enter the school-level information for each school site, including districts with only 1 school. As school names are added to the tab, the primary unit code cell for that school will shade red until a primary unit code is entered, as described below. The CTDS numbers should not contain any slashes, dashes, etc., and must be exactly nine digits. 100th-day (or 200th-day) student counts should be used to report each school's unweighted attending student count. Districts can refer to AzEDS ADM-15 Report.\n\nEnter the applicable unit code(s) in column E used to code expenditures at the school level for each school, as well as the unit code(s) used to code expenditures to the District, Private Schools, and related to payments for or on behalf of member districts (for CTEDs only). If more than one unit code was used for a school, separate each unit code with a comma. For example (100, 101, 102). \n\nAssign a primary unit code for each school in column F. Each school listed on the school listing tab must have a 3-digit, primary unit code entered in column F. See the description of primary unit code below for more information.\n\n"]
["School Listing Tab","Primary Unit Code","Primary Unit Code\nBecause the formulas in the School-Level Reporting form are set to assign only one unit code to each school and one unit code each to Districtwide, Private Schools, and CTED member districts, if applicable, districts must enter a Primary Unit Code in column F. If more than one unit code was used in column E, the Primary Unit Code must also be entered in the Accounting Data tab in column L for any line associated with a unit code not included in the list of Primary Unit codes."]